{"text_format":"1","workbook":"xlsx","n_sheets":4,"sheets":["CONTRIBUENTE","DOCUMENTI EMESSI","F24 con Elementi Identificativi","Tabelle"],"not_rendered":{"charts":0,"images":10,"macros":1,"external_links":0,"defined_names":6,"comments":0,"pivot_tables":0},"unopened":[],"bounds":{"document_bytes":16777216,"sheet_cells":100000,"rows_first":2000,"rows_last":500,"rows_between":2000,"halvings":0,"cell_chars":16384,"cell_head_chars":4096},"cells_cut":0,"cells_raw":0,"read":"whole","date_system":"1900"}

{"sheet":"CONTRIBUENTE","index":0,"n_rows":160,"n_cols":107,"rows_kept":160,"cut":false,"hidden":false,"merged":[[84,2,84,15],[85,12,85,15],[107,2,107,15],[108,2,108,15],[93,4,93,7],[103,2,103,15],[105,2,105,12],[106,2,106,15],[91,12,92,12],[92,4,92,6],[42,4,42,7],[38,4,38,7],[40,4,40,7],[39,4,39,7],[37,4,37,7],[29,2,29,14],[64,5,64,15],[34,4,34,7],[44,2,44,3],[61,2,61,15],[47,10,47,12],[51,2,51,15],[62,2,62,15],[60,2,60,15],[47,2,47,3],[47,4,47,6],[59,2,59,6],[55,3,55,14],[56,2,56,14],[57,2,57,14],[42,2,42,3],[1,2,1,15],[2,2,2,15],[3,2,3,11],[24,2,24,6],[12,2,12,4],[16,2,16,7],[18,8,18,14],[17,2,17,6],[20,2,20,12],[5,2,5,15],[6,2,6,15],[9,2,9,7],[18,2,18,6],[9,9,9,12],[79,2,79,15],[83,2,83,15],[11,19,11,20],[15,2,15,8],[15,9,15,11],[12,6,12,15],[17,8,17,14],[37,2,37,3],[68,5,68,15],[19,8,19,14],[19,2,19,6],[25,12,25,15],[26,7,26,15],[35,2,35,3],[28,2,28,14],[35,4,35,12],[30,2,30,15],[45,4,45,7],[43,4,43,7],[44,4,44,9],[38,9,38,10],[33,7,33,12],[34,9,34,10],[63,5,63,15],[73,1,73,15],[74,2,74,6],[77,2,77,15],[74,7,74,15],[75,2,75,10],[75,11,75,15],[64,3,64,4],[68,3,68,4],[78,2,78,15],[66,10,66,15],[113,1,113,7],[113,11,113,15],[111,2,111,15],[112,2,112,15],[89,2,89,15],[109,2,109,15],[110,2,110,15],[13,1,13,15],[14,1,14,15],[72,8,72,15],[53,2,53,15],[54,2,54,15],[49,2,49,15],[52,2,52,15],[33,2,33,3],[31,2,31,3],[31,4,31,14],[33,4,33,6],[36,4,36,14],[37,9,37,10],[50,2,50,15],[71,10,71,15],[88,8,88,10],[70,10,70,15]]}
[]
[null,null,"Questo file contiene UNA MACRO (non indispensabile) nel foglio F24 Elem. Ident..  Puoi attivarla anche in un secondo momento, quando"]
[null,null,"riapri il file. Per utilizzarla assicurati di salvare il file nel formato con macro ATTIVE. Le macro sono COMANDI automatici che completano"]
[null,null,"le funzionalità di questo strumento, non contengono virus o altro.  Qui trovi la spiegazione di Microsoft:",null,null,null,null,null,null,null,null,null,"MACRO"]
[null,null,"Sistema interamente originale. Non necessita di aggiornamenti."]
[null,null,"di Marco Piccoli - P. IVA 01151800313"]
[null,null,"Monfalcone - GO - Tel. 333 46 39 497"]
[null,null,null,null,null,null,null,null,null,null,null,null,null,null,null,"Professionista Web di cui alla legge nr. 4/2013"]
[null,null,"Leggi attentamente questa presentazione, osserva le \"Note pratiche\" e richiedi liberamente informazioni via mail."]
[null,null,"Una copia di questo file è sempre disponibile al sito www.marcopiccoli.it:",null,null,null,null,null,null,"Area Download .xlsx / xlsm"]
[]
[null,null,"Puoi usare questo file per annotare i tuoi F24 di TUTTI i MESI di OGNI ANNO. Al momento il trimestre selezionato è:",null,null,null,null,null,null,null,null,null,null,null,null,null,null,null,null,"DAL  - GG/MM -  AL"]
[null,null,{"$f":"I89","v":"1° TRIMESTRE"},null,null,null,{"$f":"IF(J140=\"\",IF(E139=1,B136,\"\"),J140)","v":""},null,null,null,null,null,null,null,null,null,null,null,null,{"$f":"IF(I89=\"\",F156,VLOOKUP(I89,C156:F159,4,FALSE))","v":"2024-01-01"},{"$f":"IF(I89=\"\",G156,VLOOKUP(I89,C156:G159,5,FALSE))","v":"2024-03-31"}]
[null,"Questo strumento è liberamente utilizzabile DA TUTTI. Funziona integralmente per OGNI TRIMESTRE di ogni"]
[null,"ANNO. Puoi sbloccarlo in qualsiasi momento per l' INTERO ANNO. I valori che inserisci sono sempre disponibili."]
[null,null,{"$f":"IF(K71=J144,B127,B126)","v":"Richiedi via mail il TUO CODICE di PROPRIETA' per EXCEL:"},null,null,null,null,null,null,"info@marcopiccoli.it"]
[null,null,"Note pratiche:"]
[null,null,"USA IL TASTO - TAB - PER MUOVERE IL CURSORE NELLE",null,null,null,null,null,"USA IL TASTO - Canc - PER RIMUOVERE IL"]
[null,null,"CELLE LIBERE. TUTTE LE ALTRE SONO BLOCCATE E NON",null,null,null,null,null,"CONTENUTO DI UNA CELLA. PER MAC USA"]
[null,null,"TI SERVONO PER IL CORRETTO USO DI QUESTO FILE.",null,null,null,null,null,"- doppio tasto -   NON TAGLIARE LE CELLE."]
[]
[null,null,null,null,null,null,"per OpenOffice non disponibile"]
[]
[]
[null,null,"Il file contiene 1 Selettore MACRO."]
[null,null,null,null,null,null,null,null,null,null,null,null,"Questo è il sistema"]
[null,null,null,null,null,null,null,"F24 Elementi Identificativi 1.6 per Excel .xlsm"]
[]
[null,null,{"$f":"CONCATENATE(H27,\" è un sistema elettronico UNIVERSALE con il quale puoi creare e memorizzare molteplici modelli in 1 anno ed in più anni, identificandoli con\")","v":"F24 Elementi Identificativi 1.6 per Excel .xlsm è un sistema elettronico UNIVERSALE con il quale puoi creare e memorizzare molteplici modelli in 1 anno ed in più anni, identificandoli con"}]
[null,null,"1 numero di protocollo progressivo."]
[null,null,"Il documento si edita una riga sotto l' altra progressivamente e si stampa a scelta nel foglio del  \\ MODELLO Elettronico /."]
[null,null,"CONTRIBUENTE"]
[]
[null,null,"CODICE FISCALE",null,"01234567891"]
[]
[null,null,"Dati Anagrafici",null,"Anagrafica CONTRIBUENTE"]
[null,null,null,null,"Cognome, denominazione o ragione sociale"]
[null,null,null,null,"Nome CONTRIBUENTE",null,null,null,null,"2000-01-01",null,null,"Maschile"]
[null,null,null,null,"Nome",null,null,null,null,"Data di nascita",null,null,"Sesso"]
[]
[null,null,null,null,"Comune (o Stato estero) di nascita",null,null,null,null,"Prov"]
[]
[null,null,"Domicilio Fiscale"]
[null,null,null,null,"Comune",null,null,null,null,"Prov"]
[null,null,null,null,"…………….."]
[null,null,null,null,"Via e numero civico"]
[]
[null,null,"Codice fiscale",null,null,null,null,null,null,null,"Codice identificativo"]
[]
[null,null,"Dopo aver compilato il quadro CONTRIBUENTE, utilizza il foglio  \\ DOCUMENTI EMESSI /"]
[null,null,"per generare i tuoi singoli documenti inserendo gli elementi specifici riga per riga."]
[null,null,"Assegna:  1 numero di protocollo progressivo  per creare ogni singolo documento.   Stesso nr. di prot. =  stesso DOC."]
[]
[null,null,{"$f":"IF(H138=1,G13,IF(ISERROR(K138),J135,J134))","v":"Questo file risulta al momento completamente funzionante ed il sistema rileva tutti i suoi fogli."}]
[]
[null,null,"Note:"]
[]
[]
[]
[null,null,"PROPRIETA' illimitata del file"]
[null,null,"Questo sistema può funzionare in enne copie rinominate a piacere. Funziona con calendario PERPETUO."]
[null,null,"Per attivarlo nella totalità dell' ANNO inserisci in qualsiasi momento il tuo codice di proprietà nell' apposito spazio. Puoi"]
[null,null,"usare contemporaneamente più di un file. Salva un file IN BIANCO con le tue IMPOSTAZIONI da tenere come MATRICE."]
[null,null,null,null,null,{"$f":"IF(K71=J144,B136,\"\")","v":""}]
[null,null,null,"Anagrafica:",null,{"$f":"E36","v":"Anagrafica CONTRIBUENTE"}]
[]
[null,null,null,null,null,null,null,null,null,"Partita IVA / C.F:",{"$f":"E34","v":"01234567891"}]
[]
[null,null,null,"Indirizzo:",null,{"$f":"E45","v":"…………….."}]
[]
[null,null,"QUI",null,null,null,null,null,null,"Inserisci qui il tuo codice di proprietà  --->",null,null,null,null,null,null,{"$f":"IF(ISBLANK(K71),0,1)","v":0}]
[null,null,{"$f":"IF($K$71=$J$144,\"ora è disattivato\",\"cambi trimestre\")","v":"cambi trimestre"}]
[null,null,{"$f":"C151","v":89},"giorni al","primo mese disattivato",null,null,null,{"$f":"IF(K71=\"\",\"\",IF(J144=K71,B134,B135))","v":""},null,null,null,null,null,null,null,null,null,"Il codice che hai inserito nel sistema non è stato riconosciuto."]
[null,{"$f":"IF(K71=J144,B130,IF(I73=B135,B131,IF(C73<0,\"\",\"\")))","v":""},null,null,null,null,null,null,null,null,null,null,null,null,null,null,null,null,"Le cause possono essere le seguenti:"]
[null,null,"PREZZO per 1 codice di proprietà € 39,00",null,null,null,null,"Questo sistema utilizza il codice ID: Contabilità #2"]
[null,null,{"$f":"H27","v":"F24 Elementi Identificativi 1.6 per Excel .xlsm"},null,null,null,null,null,null,null,null,"www.marcopiccoli.it",null,null,null,null,null,null,"1) La Ragione Sociale inserita non coincide con il testo in mio possesso."]
[null,null,null,null,null,null,null,null,null,null,null,null,null,null,null,null,null,null,"Verifica la punteggiatura e l' assenza di spazi iniziali / finali. Controlla la P.E.C. ricevuta."]
[null,null,"Questo file funziona solo se lasciato integro in tutte le sue parti. E' garantito il funzionamento con PC - Excel .xls o sup.",null,null,null,null,null,null,null,null,null,null,null,null,null,null,null,"2) La Partita IVA inserita non coincide con il numero in mio possesso."]
[null,null,"Il sistema conta 4 fogli compreso il presente. I fogli NON POSSONO ESSERE ELIMINATI altrimenti l' intero sistema",null,null,null,null,null,null,null,null,null,null,null,null,null,null,null,"3) Il codice che ti ho fornito non è stato correttamente inserito."]
[null,null,"non funzionerà. Se succede involontariamente NON SALVARE IL FILE ma chiudilo e riaprilo nuovamente.",null,null,null,null,null,null,null,null,null,null,null,null,null,null,null,"4) Hai inserito un numero a caso?"]
[null,null,null,"Pagina WEB del sistema",null,null,"Sezione info",null,null,null,"I tuoi",null,null,null,null,null,null,null,"Contattami liberamente via mail in qualsiasi momento per ulteriori informazioni sul codice."]
[null,null,null,"QUI",null,null,"F.A.Q.","About me",null,null,"COMMENTI",null,null,null,null,null,null,null,"5) Hai cambiato Ragione Sociale o Partita IVA? Contattami, il codice è una monoutenza specifica."]
[null,null,null,null,null,null,null,null,null,null,null,null,null,null,null,null,null,null,"6) Hai usato il codice di un altro sistema? Non tutti i sistemi hanno lo stesso codice."]
[null,null,"Se desideri attivare questo sistema per l' INTERO ANNO e per OGNI ANNO, richiedi via mail il tuo Codice di Proprietà ed",null,null,null,null,null,null,null,null,null,null,null,null,null,null,null,"Questo file utilizza il codice di proprietà ID: Contabilità #2."]
[null,null,"inseriscilo direttamente nel file che stai già usando. Il codice ti viene inviato con regolare fattura. Chiedi istruzioni via mail."]
[null,null,null,null,null,null,null,null,null,null,null,null,"info@marcopiccoli.it",null,null,null,null,null,"Per qualsiasi altra cosa, contattami dopo aver considerato questi punti."]
[null,null,null,"SELEZIONA da qui il TRIMESTRE per il quale ATTIVARE questo sistema."]
[null,null,null,"I valori che via via inserisci sono sempre disponibili."]
[null,null,null,null,null,null,null,"---->","1° TRIMESTRE"]
[]
[]
[null,null,null,null,null,null,null,null,null,null,null,"Con  \"OK\"  accetti le regole","OK"]
[null,null,null,null,"A.C. cell di Marco Piccoli",null,null,null,null,null,null,"sull' utilizzo di questo file"]
[null,null,null,null,"34074 Monfalcone, GO - P. IVA 01151800313"]
[null,null,null,null,"INFORMA CHIUNQUE ENTRI IN POSSESSO DI QUESTO FILE, CHE NON E'"]
[null,null,null,null,"POSSIBILE UTILIZZARLO SENZA PROTEZIONI ORIGINALI e CHE SI ATTIVA"]
[null,null,null,null,"ILLIMITATAMENTE SOLO CON REGOLARE CODICE DI PROPRIETA'."]
[null,null,null,null,"Questo strumento è interamente originale ed è distribuito professionalmente."]
[null,null,null,null,"E' coperto da diritti d' autore dal momento della sua pubblicazione sul sito"]
[null,null,null,null,"www.marcopiccoli.it."]
[null,null,null,null,"L' inserimento del Codice di Proprietà, che viene inviato via P.E.C., estende tutti"]
[null,null,null,null,"i diritti anche al Titolare del Sistema individuato nell' ANAGRAFICA di questo file.",null,null,null,null,null,null,null,null,null,"QUI"]
[null,null,null,null,"Per qualsiasi altra informazione contattami liberamente via mail."]
[]
[]
[null,null,{"$f":"CONCATENATE(H27,\"   /   Sistema originale, nessuna riproduzione è permessa.\")","v":"F24 Elementi Identificativi 1.6 per Excel .xlsm   /   Sistema originale, nessuna riproduzione è permessa."}]
[null,null,"Rimuovere le protezioni originali, far circolare una parte del sistema o qualsiasi altro utilizzo (anche parziale, anche dei"]
[null,null,"testi, anche a titolo gratuito) diverso dalle disposizioni originarie del file, sarà considerata violazione delle norme sulle"]
[null,null,"opere d' ingegno. Il sistema originale privo di virus e malware si scarica al sito www.marcopiccoli.it."]
[]
[]
[null,null,null,null,null,null,null,null,null,null,null,null,null,null,null,null,null,"Torna su"]
[]
[null,{"$f":"H27","v":"F24 Elementi Identificativi 1.6 per Excel .xlsm"},null,null,null,null,null,null,null,null,null,"www.marcopiccoli.it"]
[]
[]
[]
[]
[null,null,null,"X","Maschile","M"]
[null,null,null,null,"Femminile","F"]
[]
[]
[]
[]
[]
[null,"Richiedi via mail il TUO CODICE di PROPRIETA' per EXCEL:",null,null,null,null,null,"Il codice che hai inserito nel sistema non è stato riconosciuto."]
[null,"Contatta A.C. cell",null,null,null,null,null,"Le cause possono essere le seguenti:"]
[null,"Questo file contiene delle MACRO. Leggi le istruzioni e completa il foglio  \\ IMPOSTAZIONI /  prima di utilizzare il file."]
[null,"Questo file contiene delle MACRO.",null,null,null,null,null,null,null,null,"disattivato"]
[null,"Questo sistema appartiene al TITOLARE in anagrafica. Qualsiasi altro uso non è permesso.",null,null,null,null,null,null,null,"Questo file si considera funzionante al momento della richiesta del codice."]
[null,"Verifica le NOTE che trovi a fondo pagina.",null,null,null,null,null,null,null,"Tieni costantemente una copia di sicurezza ed una MATRICE in bianco per gli anni successivi."]
[]
[]
[null,"OK ! Codice corretto.",null,null,"OK","Sistema scaduto",null,null,null,"Questo file risulta al momento completamente funzionante ed il sistema rileva tutti i suoi fogli."]
[null,"CODICE NON VALIDO",null,null,"NO",{"$f":"IF(M92=E134,TRUE,FALSE)","v":true},null,null,null,"SISTEMA DANNEGGIATO !!! Chiudere senza salvare!"]
[null,"TITOLARE DEL SISTEMA",null,null,null,null,null,null,null,{"$f":"IF(C151=0,\"Sistema parzialmente attivato. Inserisci il tuo CODICE di PROPRIETA' nel foglio Presentazione.\",CONCATENATE(\"Sistema attivato dal \",TEXT(T13,\"GG/MM\"),\" al \",TEXT(U13,\"GG/MM\"),\". Modifica il trimestre dal foglio Presentazione.\"))","v":"Sistema attivato dal 01/01 al 31/03. Modifica il trimestre dal foglio Presentazione."}]
[]
[null,1,"BIT INTEGRITA'",null,{"$f":"IF(AND(F135=TRUE,K71=J144),1,0)","v":0},"PROPRIETA'",null,{"$f":"IF(G13=F134,1,IF(F135=FALSE,1,0))","v":0},"SCADENZA",null,{"$f":"B138+'DOCUMENTI EMESSI'!L2034+'F24 con Elementi Identificativi'!AM74+Tabelle!C19","v":4},"INTEGRITA'"]
[null,null,null,null,{"$f":"IF(K71=J144,1,0)","v":0},"PROPRIETA'"]
[null,null,null,null,null,null,null,null,null,{"$f":"IF(F135=FALSE,\"ERRORE: manca l' OK sulle regole di utilizzo del file.\",IF(K71=J144,\"\",IF(C73<0,F134,\"\")))","v":""}]
[]
[null,"Nome del Titolare",null,null,null,null,"P. IVA o Cod. Fiscale",null,null,null,null,null,1,2,3,4,5,6,7,8,9,10,11,null,null,{"$f":"M144","v":0},{"$f":"ROUND((Z142+AC142)*3,1)","v":3},61,{"$f":"N144","v":1},{"$f":"ROUND((AC142+AF142)*3,1)","v":9},{"$f":"AB142-5","v":56},{"$f":"O144","v":2},{"$f":"ROUND((AF142+AI142)*3,1)","v":15},{"$f":"AE142-5","v":51},{"$f":"P144","v":3},{"$f":"ROUND((AI142+AL142)*3,1)","v":21},{"$f":"AH142-5","v":46},{"$f":"Q144","v":4},{"$f":"ROUND((AL142+AO142)*3,1)","v":27},{"$f":"AK142-5","v":41},{"$f":"R144","v":5},{"$f":"ROUND((AO142+AR142)*3,1)","v":33},{"$f":"AN142-5","v":36},{"$f":"S144","v":6},{"$f":"ROUND((AR142+AU142)*3,1)","v":39},{"$f":"AQ142-5","v":31},{"$f":"T144","v":7},{"$f":"ROUND((AU142+AX142)*3,1)","v":45},{"$f":"AT142-5","v":26},{"$f":"U144","v":8},{"$f":"ROUND((AX142+BA142)*3,1)","v":51},{"$f":"AW142-5","v":21},{"$f":"V144","v":9},{"$f":"ROUND((BA142+BD142)*3,1)","v":30},{"$f":"AZ142-5","v":16},{"$f":"W144","v":1},{"$f":"ROUND((BD142+Z142)*3,1)","v":3},{"$f":"BC142-5","v":11},null,null,"A","B","C","D","F","E","I","G","H","K","J","N","L","M","P","O","S","Q","R","U","T","X","V","W","Z","Y","ù","à","è","ì","ò","/","","\"","-",".","3","1","2","5","4","8","6","7","0","9"," "]
[]
[null,{"$f":"E36","v":"Anagrafica CONTRIBUENTE"},null,null,null,null,{"$f":"E34","v":"01234567891"},null,null,{"$f":"CONCATENATE(J148,\"-\",J149,\"-\",J150)","v":"223-BKBCC-823"},null,null,{"$f":"IF(ISERROR(VALUE(MID($G144,M142,1))),M142,IF(M142<($H145+1),VALUE(MID($G144,M142,1)),0))","v":0},{"$f":"IF(ISERROR(VALUE(MID($G144,N142,1))),N142,IF(N142<($H145+1),VALUE(MID($G144,N142,1)),0))","v":1},{"$f":"IF(ISERROR(VALUE(MID($G144,O142,1))),O142,IF(O142<($H145+1),VALUE(MID($G144,O142,1)),0))","v":2},{"$f":"IF(ISERROR(VALUE(MID($G144,P142,1))),P142,IF(P142<($H145+1),VALUE(MID($G144,P142,1)),0))","v":3},{"$f":"IF(ISERROR(VALUE(MID($G144,Q142,1))),Q142,IF(Q142<($H145+1),VALUE(MID($G144,Q142,1)),0))","v":4},5,6,7,8,9,1,null,null,{"$f":"HLOOKUP(MID($B144,Z142,1),$BI142:$DC144,3,FALSE)","v":{"$error":"#VALUE!"}},1,33,1,3,33,12,21,33,1,12,33,8,33,33,19,33,33,1,33,33,5,33,33,7,33,12,3,33,19,1,1,47,null,null,1,2,3,4,5,6,7,8,9,10,11,12,13,14,15,16,17,18,19,20,21,22,23,24,25,26,27,28,29,30,31,32,33,34,35,36,37,38,39,40,41,42,43,44,45,46,47]
[null,null,null,null,null,null,"LUNG. Txt",{"$f":"LEN(G144)","v":11},null,null,null,null,null,null,null,null,null,null,null,null,null,null,null,null,null,null,null,null,null,null,null,null,null,null,null,null,null,null,null,null,null,null,null,null,null,null,null,null,null,null,null,null,null,null,null,null,null,null,null,null,"A","B","C","D","E","F","G","H","I","J","K","L","M","N","O","P","Q","R","S","T","U","V","W","X","Y","Z",null,null,null,null,null,null,null,null,null,null,{"$f":"COUNTIF($Z142:$BF142,CS142)","v":3},2,1,1,1,1,1,1,1,2," "]
[null,12,null,null,null,null,null,null,null,null,null,null,null,null,null,null,null,null,null,null,null,null,null,{"$f":"IF(X149<0,X149*-1,X149)","v":227},null,null,null,null,null,null,null,null,null,null,null,null,null,null,null,null,null,null,null,null,null,null,null,null,null,null,null,null,null,null,null,null,null,null,{"$f":"IF(BG149<0,BG149*-1,BG149)","v":3734},null,null,null,null,null,null,null,null,null,null,null,null,null,null,null,null,null,null,null,null,null,null,null,null,null,null,null,null,null,null,null,null,null,null,null,15,null,{"$f":"IF(ISERROR(HLOOKUP(SMALL($Z142:$BF142,CS142),$BI144:$CH145,2,FALSE)),HLOOKUP(SMALL($Z142:$BF142,CS142),$BI144:$CH145,2,TRUE),HLOOKUP(SMALL($Z142:$BF142,CS142),$BI144:$CH145,2,FALSE))","v":"A"},{"$f":"IF(ISERROR(HLOOKUP(SMALL($Z142:$BF142,CT142+SUM($CS145:CS145)),$BI144:$CH145,2,FALSE)),HLOOKUP(SMALL($Z142:$BF142,CT142+SUM($CS145:CS145)),$BI144:$CH145,2,TRUE),HLOOKUP(SMALL($Z142:$BF142,CT142+SUM($CS145:CS145)),$BI144:$CH145,2,FALSE))","v":"B"},{"$f":"IF(ISERROR(HLOOKUP(SMALL($Z142:$BF142,CU142+SUM($CS145:CT145)),$BI144:$CH145,2,FALSE)),HLOOKUP(SMALL($Z142:$BF142,CU142+SUM($CS145:CT145)),$BI144:$CH145,2,TRUE),HLOOKUP(SMALL($Z142:$BF142,CU142+SUM($CS145:CT145)),$BI144:$CH145,2,FALSE))","v":"C"},{"$f":"IF(ISERROR(HLOOKUP(SMALL($Z142:$BF142,CV142+SUM($CS145:CU145)),$BI144:$CH145,2,FALSE)),HLOOKUP(SMALL($Z142:$BF142,CV142+SUM($CS145:CU145)),$BI144:$CH145,2,TRUE),HLOOKUP(SMALL($Z142:$BF142,CV142+SUM($CS145:CU145)),$BI144:$CH145,2,FALSE))","v":"G"},{"$f":"IF(ISERROR(HLOOKUP(SMALL($Z142:$BF142,CW142+SUM($CS145:CV145)),$BI144:$CH145,2,FALSE)),HLOOKUP(SMALL($Z142:$BF142,CW142+SUM($CS145:CV145)),$BI144:$CH145,2,TRUE),HLOOKUP(SMALL($Z142:$BF142,CW142+SUM($CS145:CV145)),$BI144:$CH145,2,FALSE))","v":"G"},{"$f":"IF(ISERROR(HLOOKUP(SMALL($Z142:$BF142,CX142+SUM($CS145:CW145)),$BI144:$CH145,2,FALSE)),HLOOKUP(SMALL($Z142:$BF142,CX142+SUM($CS145:CW145)),$BI144:$CH145,2,TRUE),HLOOKUP(SMALL($Z142:$BF142,CX142+SUM($CS145:CW145)),$BI144:$CH145,2,FALSE))","v":"O"},{"$f":"IF(ISERROR(HLOOKUP(SMALL($Z142:$BF142,CY142+SUM($CS145:CX145)),$BI144:$CH145,2,FALSE)),HLOOKUP(SMALL($Z142:$BF142,CY142+SUM($CS145:CX145)),$BI144:$CH145,2,TRUE),HLOOKUP(SMALL($Z142:$BF142,CY142+SUM($CS145:CX145)),$BI144:$CH145,2,FALSE))","v":"K"},{"$f":"IF(ISERROR(HLOOKUP(SMALL($Z142:$BF142,CZ142+SUM($CS145:CY145)),$BI144:$CH145,2,FALSE)),HLOOKUP(SMALL($Z142:$BF142,CZ142+SUM($CS145:CY145)),$BI144:$CH145,2,TRUE),HLOOKUP(SMALL($Z142:$BF142,CZ142+SUM($CS145:CY145)),$BI144:$CH145,2,FALSE))","v":"P"},{"$f":"IF(ISERROR(HLOOKUP(SMALL($Z142:$BF142,DA142+SUM($CS145:CZ145)),$BI144:$CH145,2,FALSE)),HLOOKUP(SMALL($Z142:$BF142,DA142+SUM($CS145:CZ145)),$BI144:$CH145,2,TRUE),HLOOKUP(SMALL($Z142:$BF142,DA142+SUM($CS145:CZ145)),$BI144:$CH145,2,FALSE))","v":"G"},{"$f":"IF(ISERROR(HLOOKUP(SMALL($Z142:$BF142,CQ146),$BI144:$CH145,2,FALSE)),HLOOKUP(SMALL($Z142:$BF142,CQ146),$BI144:$CH145,2,TRUE),HLOOKUP(SMALL($Z142:$BF142,CQ146),$BI144:$CH145,2,FALSE))","v":"K"}]
[null,null,null,null,null,null,null,null,null,null,null,null,{"$f":"M144*$B146","v":0},null,{"$f":"O144*$B146","v":24},null,{"$f":"Q144*$B146","v":48},null,{"$f":"S144*$B146","v":72},null,{"$f":"U144*$B146","v":96},null,{"$f":"W144*$B146","v":12},{"$f":"IF(X150<0,X150*-1,X150)","v":280},null,{"$f":"Z144*$B146","v":{"$error":"#VALUE!"}},null,{"$f":"AB144*$B146","v":396},null,{"$f":"AD144*$B146","v":36},null,{"$f":"AF144*$B146","v":144},null,{"$f":"AH144*$B146","v":396},null,{"$f":"AJ144*$B146","v":144},null,{"$f":"AL144*$B146","v":96},null,{"$f":"AN144*$B146","v":396},null,{"$f":"AP144*$B146","v":396},null,{"$f":"AR144*$B146","v":12},null,{"$f":"AT144*$B146","v":396},null,{"$f":"AV144*$B146","v":396},null,{"$f":"AX144*$B146","v":84},null,{"$f":"AZ144*$B146","v":144},null,{"$f":"BB144*$B146","v":396},null,{"$f":"BD144*$B146","v":12},null,{"$f":"BF144*$B146","v":564},{"$f":"IF(BG150<0,BG150*-1,BG150)","v":3346},null,null,null,null,null,null,null,null,null,null,null,null,null,null,null,null,null,null,null,null,null,null,null,null,null,null,null,null,null,null,null,null,null,null,null,null,null,{"$f":"IF(ISERROR(CS146),0,CS146)","v":"A"},"B","C","G","G","O","K","P","G","K"]
[null,{"$f":"DAY(E148)","v":31},{"$f":"MONTH(E148)","v":3},{"$f":"YEAR(E148)","v":2024},{"$f":"U13","v":45382},null,null,null,null,{"$f":"CONCATENATE(AE153,AF153,AG153)","v":"223"},null,null,null,{"$f":"N144*$B146","v":12},null,{"$f":"P144*$B146","v":36},null,{"$f":"R144*$B146","v":60},null,{"$f":"T144*$B146","v":84},null,{"$f":"V144*$B146","v":108},null,{"$f":"IF(X151<0,X151*-1,X151)","v":1105},null,null,{"$f":"AA144*$B146","v":12},null,{"$f":"AC144*$B146","v":12},null,{"$f":"AE144*$B146","v":396},null,{"$f":"AG144*$B146","v":252},null,{"$f":"AI144*$B146","v":12},null,{"$f":"AK144*$B146","v":396},null,{"$f":"AM144*$B146","v":396},null,{"$f":"AO144*$B146","v":228},null,{"$f":"AQ144*$B146","v":396},null,{"$f":"AS144*$B146","v":396},null,{"$f":"AU144*$B146","v":60},null,{"$f":"AW144*$B146","v":396},null,{"$f":"AY144*$B146","v":396},null,{"$f":"BA144*$B146","v":36},null,{"$f":"BC144*$B146","v":228},null,{"$f":"BE144*$B146","v":12},null,{"$f":"IF(BG151<0,BG151*-1,BG151)","v":15302}]
[null,{"$f":"DAY(E149)","v":2},{"$f":"MONTH(E149)","v":1},{"$f":"YEAR(E148)","v":2024},{"$f":"TODAY()","v":45293},null,null,null,null,{"$f":"CONCATENATE(R153,S153,T153,U153,V153)","v":"BKBCC"},null,null,{"$f":"M147-N144","v":-1},null,{"$f":"O147-P144","v":21},null,{"$f":"Q147-R144","v":43},null,{"$f":"S147-T144","v":65},null,{"$f":"U147-V144","v":87},null,{"$f":"W147-M144","v":12},{"$f":"SUM(M149:W149)","v":227},null,{"$f":"Z147-BF144","v":{"$error":"#VALUE!"}},null,{"$f":"AB147-AA144","v":395},null,{"$f":"AD147-AC144","v":35},null,{"$f":"AF147-AE144","v":111},null,{"$f":"AH147-AG144","v":375},null,{"$f":"AJ147-AI144","v":143},null,{"$f":"AL147-AK144","v":63},null,{"$f":"AN147-AM144","v":363},null,{"$f":"AP147-AO144","v":377},null,{"$f":"AR147-AQ144","v":-21},null,{"$f":"AT147-AS144","v":363},null,{"$f":"AV147-AU144","v":391},null,{"$f":"AX147-AW144","v":51},null,{"$f":"AZ147-AY144","v":111},null,{"$f":"BB147-BA144","v":393},null,{"$f":"BD147-BC144","v":-7},null,{"$f":"BF147-BE144","v":563},{"$f":"SUMIF(Z149:BF149,\">0\")","v":3734},null,null,null,null,null,null,null,null,null,null,null,null,null,null,null,null,null,null,null,null,null,null,null,null,null,null,null,null,null,null,null,null,null,null,null,null,null,"A","D","E","G","O","P","R","R","S","U"]
[null,null,null,null,null,null,null,null,null,{"$f":"CONCATENATE(AH153,AI153,AJ153)","v":"823"},null,null,null,{"$f":"N148-M144","v":12},null,{"$f":"P148-O144","v":34},null,{"$f":"R148-Q144","v":56},null,{"$f":"T148-S144","v":78},null,{"$f":"V148-U144","v":100},null,{"$f":"SUM(M150:W150)","v":280},null,null,{"$f":"AA148-AB144","v":-21},null,{"$f":"AC148-AD144","v":9},null,{"$f":"AE148-AF144","v":384},null,{"$f":"AG148-AH144","v":219},null,{"$f":"AI148-AJ144","v":0},null,{"$f":"AK148-AL144","v":388},null,{"$f":"AM148-AN144","v":363},null,{"$f":"AO148-AP144","v":195},null,{"$f":"AQ148-AR144","v":395},null,{"$f":"AS148-AT144","v":363},null,{"$f":"AU148-AV144","v":27},null,{"$f":"AW148-AX144","v":389},null,{"$f":"AY148-AZ144","v":384},null,{"$f":"BA148-BB144","v":3},null,{"$f":"BC148-BD144","v":227},null,{"$f":"BE148-BF144","v":-35},null,{"$f":"SUMIF(Z150:BF150,\">0\")","v":3346},null,null,null,null,null,null,null,null,null,null,null,null,null,null,null,null,null,null,null,null,null,null,null,null,null,null,null,null,null,null,null,null,null,null,null,null,null,{"$f":"IF(CS147=0,CS149,CS146)","v":"A"},"B","C","G","G","O","K","P","G","K"]
[null,{"$f":"DATE(D148,C148,B148)","v":45382},{"$f":"IF((B151-B152)<0,0,B151-B152)","v":89},null,null,null,null,null,null,null,null,null,{"$f":"M144+M147+M149","v":-1},{"$f":"N144+N148+N150","v":25},{"$f":"O144+O147+O149","v":47},{"$f":"P144+P148+P150","v":73},{"$f":"Q144+Q147+Q149","v":95},{"$f":"R144+R148+R150","v":121},{"$f":"S144+S147+S149","v":143},{"$f":"T144+T148+T150","v":169},{"$f":"U144+U147+U149","v":191},{"$f":"V144+V148+V150","v":217},{"$f":"W144+W147+W149","v":25},{"$f":"SUM(M151:W151)","v":1105},null,{"$f":"Z144+Z147+Z149","v":{"$error":"#VALUE!"}},{"$f":"AA144+AA148+AA150","v":-8},{"$f":"AB144+AB147+AB149","v":824},{"$f":"AC144+AC148+AC150","v":22},{"$f":"AD144+AD147+AD149","v":74},{"$f":"AE144+AE148+AE150","v":813},{"$f":"AF144+AF147+AF149","v":267},{"$f":"AG144+AG148+AG150","v":492},{"$f":"AH144+AH147+AH149","v":804},{"$f":"AI144+AI148+AI150","v":13},{"$f":"AJ144+AJ147+AJ149","v":299},{"$f":"AK144+AK148+AK150","v":817},{"$f":"AL144+AL147+AL149","v":167},{"$f":"AM144+AM148+AM150","v":792},{"$f":"AN144+AN147+AN149","v":792},{"$f":"AO144+AO148+AO150","v":442},{"$f":"AP144+AP147+AP149","v":806},{"$f":"AQ144+AQ148+AQ150","v":824},{"$f":"AR144+AR147+AR149","v":-8},{"$f":"AS144+AS148+AS150","v":792},{"$f":"AT144+AT147+AT149","v":792},{"$f":"AU144+AU148+AU150","v":92},{"$f":"AV144+AV147+AV149","v":820},{"$f":"AW144+AW148+AW150","v":818},{"$f":"AX144+AX147+AX149","v":142},{"$f":"AY144+AY148+AY150","v":813},{"$f":"AZ144+AZ147+AZ149","v":267},{"$f":"BA144+BA148+BA150","v":42},{"$f":"BB144+BB147+BB149","v":822},{"$f":"BC144+BC148+BC150","v":474},{"$f":"BD144+BD147+BD149","v":6},{"$f":"BE144+BE148+BE150","v":-22},{"$f":"BF144+BF147+BF149","v":1174},{"$f":"SUMIF(Z151:BF151,\">0\")","v":15302}]
[null,{"$f":"DATE(D149,C149,B149)","v":45293}]
[null,null,null,null,null,null,null,null,null,null,null,null,{"$f":"SUM(X149:X151)","v":1612},null,null,null,{"$f":"LEN(TEXT(M153,\"@\"))","v":4},{"$f":"IF(Q153>0,HLOOKUP(MID(TEXT($M153,\"@\"),1,1),$CS142:$DB150,9,FALSE),\"\")","v":"B"},{"$f":"IF($Q153>1,HLOOKUP(MID(TEXT($M153,\"@\"),2,1),$CS142:$DB150,9,FALSE),HLOOKUP(MID(TEXT($X153,\"@\"),1,1),$CS142:$DB150,9,FALSE))","v":"K"},{"$f":"IF($Q153>2,HLOOKUP(MID(TEXT($M153,\"@\"),3,1),$CS142:$DB150,9,FALSE),HLOOKUP(MID(TEXT($X153,\"@\"),2,1),$CS142:$DB150,9,FALSE))","v":"B"},{"$f":"IF($Q153>3,HLOOKUP(MID(TEXT($M153,\"@\"),4,1),$CS142:$DB150,9,FALSE),HLOOKUP(MID(TEXT($X153,\"@\"),3,1),$CS142:$DB150,9,FALSE))","v":"C"},{"$f":"IF($Q153>4,HLOOKUP(MID(TEXT($M153,\"@\"),5,1),$CS142:$DB150,9,FALSE),HLOOKUP(MID(TEXT($X153,\"@\"),4,1),$CS142:$DB150,9,FALSE))","v":"C"},{"$f":"LEN(TEXT(CONCATENATE(TEXT(X146,\"@\"),TEXT(X147,\"@\"),TEXT(X148,\"@\")),\"@\"))","v":10},{"$f":"IF(W153<4,CONCATENATE(TEXT(CQ146,\"@\"),TEXT(X146,\"@\"),TEXT(X147,\"@\"),TEXT(X148,\"@\")),CONCATENATE(TEXT(X146,\"@\"),TEXT(X147,\"@\"),TEXT(X148,\"@\")))","v":"2272801105"},null,{"$f":"SUM(BG149:BG151)","v":22382},null,null,null,{"$f":"LEN(TEXT(Z153,\"@\"))","v":5},{"$f":"IF(AD153>0,MID(TEXT($Z153,\"@\"),1,1),\"\")","v":"2"},{"$f":"IF($AD153>1,MID(TEXT($Z153,\"@\"),2,1),MID(TEXT($BG153,\"@\"),1,1))","v":"2"},{"$f":"IF($AD153>2,MID(TEXT($Z153,\"@\"),3,1),MID(TEXT($BG153,\"@\"),2,1))","v":"3"},{"$f":"IF($AD153>3,MID(TEXT($Z153,\"@\"),4,1),MID(TEXT($BG153,\"@\"),3,1))","v":"8"},{"$f":"IF($AD153>4,MID(TEXT($Z153,\"@\"),5,1),MID(TEXT($BG153,\"@\"),4,1))","v":"2"},{"$f":"IF($AD153>5,MID(TEXT($Z153,\"@\"),6,1),MID(TEXT($BG153,\"@\"),5,1))","v":"3"},{"$f":"LEN(TEXT(CONCATENATE(TEXT(BG146,\"@\"),TEXT(BG147,\"@\")),\"@\"))","v":8},null,null,null,null,null,null,null,null,null,null,null,null,null,null,null,null,null,null,null,null,null,{"$f":"IF(AK153<5,CONCATENATE(TEXT(BG148,\"@\"),TEXT(BG146,\"@\"),TEXT(BG147,\"@\")),CONCATENATE(TEXT(BG146,\"@\"),TEXT(BG147,\"@\")))","v":"37343346"}]
[]
[null,null,null,null,null,"ANNO",{"$f":"'F24 con Elementi Identificativi'!AT3","v":2024}]
[null,null,"1° TRIMESTRE",null,1,{"$f":"DATE(G155,E156,1)","v":"2024-01-01"},{"$f":"F157-1","v":"2024-03-31"}]
[null,null,"2° TRIMESTRE",null,4,{"$f":"DATE(G155,E157,1)","v":"2024-04-01"},{"$f":"F158-1","v":"2024-06-30"}]
[null,null,"3° TRIMESTRE",null,7,{"$f":"DATE(G155,E158,1)","v":"2024-07-01"},{"$f":"F159-1","v":"2024-09-30"}]
[null,null,"4° TRIMESTRE",null,10,{"$f":"DATE(G155,E159,1)","v":"2024-10-01"},{"$f":"DATE(G155,E160,31)","v":"2024-12-31"}]
[null,null,null,null,12]

{"sheet":"DOCUMENTI EMESSI","index":1,"n_rows":2034,"n_cols":33,"rows_kept":2034,"cut":false,"hidden":false,"merged":[[2028,28,2029,28],[5,28,6,28],[2,6,2,7],[2,3,2,5],[1,3,1,4],[2028,16,2029,16],[2010,12,2010,13],[2014,0,2014,6],[5,4,6,4],[5,9,6,10],[3,3,3,4],[4,3,4,4],[2010,16,2010,20],[5,18,5,20],[2010,3,2010,4],[2,9,2,20],[3,9,3,14],[4,18,4,20],[5,12,6,12],[1,9,1,20]]}
[]
[null,null,null,"Contribuente:",null,null,null,null,null,"Compila le righe della sezione sottostante, una sotto l' altra, assegnando un numero di protocollo progressivo + data per ogni riga. "]
[null,null,null,{"$f":"CONTRIBUENTE!E34","v":"01234567891"},null,null,null,null,null,"Questo sarà direttamente il tuo archivio storico. Nel successivo foglio potrai richiamare e stampare tutti i documenti così generati."]
[null,null,null,"Stesso nr. di PROT. =",null,null,null,null,null,"SEZIONE ERARIO ED ALTRO"]
[null,null,null,"stesso DOCUMENTO",null,null,null,null,null,{"$f":"IF(G2034=0,\"\",CONTRIBUENTE!$F$134)","v":""},null,null,null,null,null,null,null,null,"Vedi foglio  \\ Tabelle /"]
[null,null,null,"NR.","DATA",null,"Codice","Codice",null,"TIPO",null,"Elementi","codice","anno di","importi a debito",null,"Protocollo",null,"Delega irrevocabile a",null,null,null,"Pagamento con","bancario","circ. o",null,null,null,"N O T E"]
[null,null,null,"Prot.",null,null,"UFFICIO","ATTO",null,null,null,"Identificativi",null,"RIF.to","versati",null,"alfanumerico",null,null,"ABI","CAB","opz.","assegno nr.","postale","vaglia","ABI","CAB"]
[]
["1 di 2000",{"$f":"IF(AG9=$AG$2013,0,IF(G$2034=1,0,D9&\"-\"&YEAR(E9)))","v":"1-2024"},{"$f":"IF(G$2034=1,0,B9&\"-\"&AE9)","v":"1-2024-1"},1,"2024-01-01",null,"000","00000000000",null,"---- Inserisci",{"$f":"IF(G$2034=1,0,IF(OR(J9=\"\",ISERROR($O$2034)),\"\",VLOOKUP(J9,$L$2019:$N$2027,2,FALSE)))","v":"."},"00000000000000000","0000","2020",1,null,"AB 000",null,"B1",{"$f":"IF(G$2034=1,\"\",IF(S9=\"\",\"\",VLOOKUP(S9,Tabelle!$I$5:$M$7,5,FALSE)))","v":"00001"},{"$f":"IF(G$2034=1,\"\",IF(S9=\"\",\"\",VLOOKUP(S9,Tabelle!$I$5:$N$7,6,FALSE)))","v":"10000"},"compila","0123456789","X"," ","01234","56789",null,"Testo Libero",null,1,null,{"$f":"IF(E9>0,IF(OR(MONTH(E9)<$G$2026,MONTH(E9)>$G$2027),AG$2013,0),0)","v":0}]
["2",{"$f":"IF(AG10=$AG$2013,0,IF(G$2034=1,0,D10&\"-\"&YEAR(E10)))","v":"2-2024"},"2-2024-1",2,"2024-01-01",null,"001","00000000001",null,"---- Inserisci",".","00000000000000001","0001","2020",100,null,"CD 000",null,"B2",{"$f":"IF(G$2034=1,\"\",IF(S10=\"\",\"\",VLOOKUP(S10,Tabelle!$I$5:$M$7,5,FALSE)))","v":"00002"},{"$f":"IF(G$2034=1,\"\",IF(S10=\"\",\"\",VLOOKUP(S10,Tabelle!$I$5:$N$7,6,FALSE)))","v":"20000"},"compila",null,null,null,null,null,null,"Testo Libero riga 1",null,{"$f":"IF(D10=\"\",0,IF(D10=D9,COUNTIF(D$9:D9,D10)+1,1))","v":1},{"$f":"IF(G$2034=1,0,IF(AE10=28,1,0))","v":0},{"$f":"IF(E10>0,IF(OR(MONTH(E10)<$G$2026,MONTH(E10)>$G$2027),AG$2013,0),0)","v":0}]
["3","2-2024","2-2024-2",2,"2024-01-01",null,null,null,null,"A.G.C.M.","G","ABCDEGH100000000","0002","2020",200,null,null,null,null,{"$f":"IF(G$2034=1,\"\",IF(S11=\"\",\"\",VLOOKUP(S11,Tabelle!$I$5:$M$7,5,FALSE)))","v":""},{"$f":"IF(G$2034=1,\"\",IF(S11=\"\",\"\",VLOOKUP(S11,Tabelle!$I$5:$N$7,6,FALSE)))","v":""},null,null,null,null,null,null,null,"Testo Libero riga 1",null,{"$f":"IF(D11=\"\",0,IF(D11=D10,COUNTIF(D$9:D10,D11)+1,1))","v":2},0,0]
["4","2-2024","2-2024-3",2,"2024-01-01",null,null,null,null,"Identificativo Registro","F","100000000ABCDEGH","0003","2020",300,null,null,null,null,{"$f":"IF(G$2034=1,\"\",IF(S12=\"\",\"\",VLOOKUP(S12,Tabelle!$I$5:$M$7,5,FALSE)))","v":""},{"$f":"IF(G$2034=1,\"\",IF(S12=\"\",\"\",VLOOKUP(S12,Tabelle!$I$5:$N$7,6,FALSE)))","v":""},null,null,null,null,null,null,null,"Righe di esempio",null,{"$f":"IF(D12=\"\",0,IF(D12=D11,COUNTIF(D$9:D11,D12)+1,1))","v":3},0,0]
["5","-1900","-1900-0",null,null,null,null,null,null,null,"",null,null,null,null,null,null,null,null,{"$f":"IF(G$2034=1,\"\",IF(S13=\"\",\"\",VLOOKUP(S13,Tabelle!$I$5:$M$7,5,FALSE)))","v":""},{"$f":"IF(G$2034=1,\"\",IF(S13=\"\",\"\",VLOOKUP(S13,Tabelle!$I$5:$N$7,6,FALSE)))","v":""},null,null,null,null,null,null,null,null,null,{"$f":"IF(D13=\"\",0,IF(D13=D12,COUNTIF(D$9:D12,D13)+1,1))","v":0},0,0]
["6","-1900","-1900-0",null,null,null,null,null,null,null,"",null,null,null,null,null,null,null,null,{"$f":"IF(G$2034=1,\"\",IF(S14=\"\",\"\",VLOOKUP(S14,Tabelle!$I$5:$M$7,5,FALSE)))","v":""},{"$f":"IF(G$2034=1,\"\",IF(S14=\"\",\"\",VLOOKUP(S14,Tabelle!$I$5:$N$7,6,FALSE)))","v":""},null,null,null,null,null,null,null,null,null,{"$f":"IF(D14=\"\",0,IF(D14=D13,COUNTIF(D$9:D13,D14)+1,1))","v":0},0,0]
["7","-1900","-1900-0",null,null,null,null,null,null,null,"",null,null,null,null,null,null,null,null,{"$f":"IF(G$2034=1,\"\",IF(S15=\"\",\"\",VLOOKUP(S15,Tabelle!$I$5:$M$7,5,FALSE)))","v":""},{"$f":"IF(G$2034=1,\"\",IF(S15=\"\",\"\",VLOOKUP(S15,Tabelle!$I$5:$N$7,6,FALSE)))","v":""},null,null,null,null,null,null,null,null,null,{"$f":"IF(D15=\"\",0,IF(D15=D14,COUNTIF(D$9:D14,D15)+1,1))","v":0},0,0]
["8","-1900","-1900-0",null,null,null,null,null,null,null,"",null,null,null,null,null,null,null,null,{"$f":"IF(G$2034=1,\"\",IF(S16=\"\",\"\",VLOOKUP(S16,Tabelle!$I$5:$M$7,5,FALSE)))","v":""},{"$f":"IF(G$2034=1,\"\",IF(S16=\"\",\"\",VLOOKUP(S16,Tabelle!$I$5:$N$7,6,FALSE)))","v":""},null,null,null,null,null,null,null,null,null,{"$f":"IF(D16=\"\",0,IF(D16=D15,COUNTIF(D$9:D15,D16)+1,1))","v":0},0,0]
["9","-1900","-1900-0",null,null,null,null,null,null,null,"",null,null,null,null,null,null,null,null,{"$f":"IF(G$2034=1,\"\",IF(S17=\"\",\"\",VLOOKUP(S17,Tabelle!$I$5:$M$7,5,FALSE)))","v":""},{"$f":"IF(G$2034=1,\"\",IF(S17=\"\",\"\",VLOOKUP(S17,Tabelle!$I$5:$N$7,6,FALSE)))","v":""},null,null,null,null,null,null,null,null,null,{"$f":"IF(D17=\"\",0,IF(D17=D16,COUNTIF(D$9:D16,D17)+1,1))","v":0},0,0]
["10","-1900","-1900-0",null,null,null,null,null,null,null,"",null,null,null,null,null,null,null,null,{"$f":"IF(G$2034=1,\"\",IF(S18=\"\",\"\",VLOOKUP(S18,Tabelle!$I$5:$M$7,5,FALSE)))","v":""},{"$f":"IF(G$2034=1,\"\",IF(S18=\"\",\"\",VLOOKUP(S18,Tabelle!$I$5:$N$7,6,FALSE)))","v":""},null,null,null,null,null,null,null,null,null,{"$f":"IF(D18=\"\",0,IF(D18=D17,COUNTIF(D$9:D17,D18)+1,1))","v":0},0,0]
["11","-1900","-1900-0",null,null,null,null,null,null,null,"",null,null,null,null,null,null,null,null,{"$f":"IF(G$2034=1,\"\",IF(S19=\"\",\"\",VLOOKUP(S19,Tabelle!$I$5:$M$7,5,FALSE)))","v":""},{"$f":"IF(G$2034=1,\"\",IF(S19=\"\",\"\",VLOOKUP(S19,Tabelle!$I$5:$N$7,6,FALSE)))","v":""},null,null,null,null,null,null,null,null,null,{"$f":"IF(D19=\"\",0,IF(D19=D18,COUNTIF(D$9:D18,D19)+1,1))","v":0},0,0]
["12","-1900","-1900-0",null,null,null,null,null,null,null,"",null,null,null,null,null,null,null,null,{"$f":"IF(G$2034=1,\"\",IF(S20=\"\",\"\",VLOOKUP(S20,Tabelle!$I$5:$M$7,5,FALSE)))","v":""},{"$f":"IF(G$2034=1,\"\",IF(S20=\"\",\"\",VLOOKUP(S20,Tabelle!$I$5:$N$7,6,FALSE)))","v":""},null,null,null,null,null,null,null,null,null,{"$f":"IF(D20=\"\",0,IF(D20=D19,COUNTIF(D$9:D19,D20)+1,1))","v":0},0,0]
["13","-1900","-1900-0",null,null,null,null,null,null,null,"",null,null,null,null,null,null,null,null,{"$f":"IF(G$2034=1,\"\",IF(S21=\"\",\"\",VLOOKUP(S21,Tabelle!$I$5:$M$7,5,FALSE)))","v":""},{"$f":"IF(G$2034=1,\"\",IF(S21=\"\",\"\",VLOOKUP(S21,Tabelle!$I$5:$N$7,6,FALSE)))","v":""},null,null,null,null,null,null,null,null,null,{"$f":"IF(D21=\"\",0,IF(D21=D20,COUNTIF(D$9:D20,D21)+1,1))","v":0},0,0]
["14","-1900","-1900-0",null,null,null,null,null,null,null,"",null,null,null,null,null,null,null,null,{"$f":"IF(G$2034=1,\"\",IF(S22=\"\",\"\",VLOOKUP(S22,Tabelle!$I$5:$M$7,5,FALSE)))","v":""},{"$f":"IF(G$2034=1,\"\",IF(S22=\"\",\"\",VLOOKUP(S22,Tabelle!$I$5:$N$7,6,FALSE)))","v":""},null,null,null,null,null,null,null,null,null,{"$f":"IF(D22=\"\",0,IF(D22=D21,COUNTIF(D$9:D21,D22)+1,1))","v":0},0,0]
["15","-1900","-1900-0",null,null,null,null,null,null,null,"",null,null,null,null,null,null,null,null,{"$f":"IF(G$2034=1,\"\",IF(S23=\"\",\"\",VLOOKUP(S23,Tabelle!$I$5:$M$7,5,FALSE)))","v":""},{"$f":"IF(G$2034=1,\"\",IF(S23=\"\",\"\",VLOOKUP(S23,Tabelle!$I$5:$N$7,6,FALSE)))","v":""},null,null,null,null,null,null,null,null,null,{"$f":"IF(D23=\"\",0,IF(D23=D22,COUNTIF(D$9:D22,D23)+1,1))","v":0},0,0]
["16","-1900","-1900-0",null,null,null,null,null,null,null,"",null,null,null,null,null,null,null,null,{"$f":"IF(G$2034=1,\"\",IF(S24=\"\",\"\",VLOOKUP(S24,Tabelle!$I$5:$M$7,5,FALSE)))","v":""},{"$f":"IF(G$2034=1,\"\",IF(S24=\"\",\"\",VLOOKUP(S24,Tabelle!$I$5:$N$7,6,FALSE)))","v":""},null,null,null,null,null,null,null,null,null,{"$f":"IF(D24=\"\",0,IF(D24=D23,COUNTIF(D$9:D23,D24)+1,1))","v":0},0,0]
["17","-1900","-1900-0",null,null,null,null,null,null,null,"",null,null,null,null,null,null,null,null,{"$f":"IF(G$2034=1,\"\",IF(S25=\"\",\"\",VLOOKUP(S25,Tabelle!$I$5:$M$7,5,FALSE)))","v":""},{"$f":"IF(G$2034=1,\"\",IF(S25=\"\",\"\",VLOOKUP(S25,Tabelle!$I$5:$N$7,6,FALSE)))","v":""},null,null,null,null,null,null,null,null,null,{"$f":"IF(D25=\"\",0,IF(D25=D24,COUNTIF(D$9:D24,D25)+1,1))","v":0},0,0]
["18","-1900","-1900-0",null,null,null,null,null,null,null,"",null,null,null,null,null,null,null,null,{"$f":"IF(G$2034=1,\"\",IF(S26=\"\",\"\",VLOOKUP(S26,Tabelle!$I$5:$M$7,5,FALSE)))","v":""},{"$f":"IF(G$2034=1,\"\",IF(S26=\"\",\"\",VLOOKUP(S26,Tabelle!$I$5:$N$7,6,FALSE)))","v":""},null,null,null,null,null,null,null,null,null,{"$f":"IF(D26=\"\",0,IF(D26=D25,COUNTIF(D$9:D25,D26)+1,1))","v":0},0,0]
["19","-1900","-1900-0",null,null,null,null,null,null,null,"",null,null,null,null,null,null,null,null,{"$f":"IF(G$2034=1,\"\",IF(S27=\"\",\"\",VLOOKUP(S27,Tabelle!$I$5:$M$7,5,FALSE)))","v":""},{"$f":"IF(G$2034=1,\"\",IF(S27=\"\",\"\",VLOOKUP(S27,Tabelle!$I$5:$N$7,6,FALSE)))","v":""},null,null,null,null,null,null,null,null,null,{"$f":"IF(D27=\"\",0,IF(D27=D26,COUNTIF(D$9:D26,D27)+1,1))","v":0},0,0]
["20","-1900","-1900-0",null,null,null,null,null,null,null,"",null,null,null,null,null,null,null,null,{"$f":"IF(G$2034=1,\"\",IF(S28=\"\",\"\",VLOOKUP(S28,Tabelle!$I$5:$M$7,5,FALSE)))","v":""},{"$f":"IF(G$2034=1,\"\",IF(S28=\"\",\"\",VLOOKUP(S28,Tabelle!$I$5:$N$7,6,FALSE)))","v":""},null,null,null,null,null,null,null,null,null,{"$f":"IF(D28=\"\",0,IF(D28=D27,COUNTIF(D$9:D27,D28)+1,1))","v":0},0,0]
["21","-1900","-1900-0",null,null,null,null,null,null,null,"",null,null,null,null,null,null,null,null,{"$f":"IF(G$2034=1,\"\",IF(S29=\"\",\"\",VLOOKUP(S29,Tabelle!$I$5:$M$7,5,FALSE)))","v":""},{"$f":"IF(G$2034=1,\"\",IF(S29=\"\",\"\",VLOOKUP(S29,Tabelle!$I$5:$N$7,6,FALSE)))","v":""},null,null,null,null,null,null,null,null,null,{"$f":"IF(D29=\"\",0,IF(D29=D28,COUNTIF(D$9:D28,D29)+1,1))","v":0},0,0]
["22","-1900","-1900-0",null,null,null,null,null,null,null,"",null,null,null,null,null,null,null,null,{"$f":"IF(G$2034=1,\"\",IF(S30=\"\",\"\",VLOOKUP(S30,Tabelle!$I$5:$M$7,5,FALSE)))","v":""},{"$f":"IF(G$2034=1,\"\",IF(S30=\"\",\"\",VLOOKUP(S30,Tabelle!$I$5:$N$7,6,FALSE)))","v":""},null,null,null,null,null,null,null,null,null,{"$f":"IF(D30=\"\",0,IF(D30=D29,COUNTIF(D$9:D29,D30)+1,1))","v":0},0,0]
["23","-1900","-1900-0",null,null,null,null,null,null,null,"",null,null,null,null,null,null,null,null,{"$f":"IF(G$2034=1,\"\",IF(S31=\"\",\"\",VLOOKUP(S31,Tabelle!$I$5:$M$7,5,FALSE)))","v":""},{"$f":"IF(G$2034=1,\"\",IF(S31=\"\",\"\",VLOOKUP(S31,Tabelle!$I$5:$N$7,6,FALSE)))","v":""},null,null,null,null,null,null,null,null,null,{"$f":"IF(D31=\"\",0,IF(D31=D30,COUNTIF(D$9:D30,D31)+1,1))","v":0},0,0]
["24","-1900","-1900-0",null,null,null,null,null,null,null,"",null,null,null,null,null,null,null,null,{"$f":"IF(G$2034=1,\"\",IF(S32=\"\",\"\",VLOOKUP(S32,Tabelle!$I$5:$M$7,5,FALSE)))","v":""},{"$f":"IF(G$2034=1,\"\",IF(S32=\"\",\"\",VLOOKUP(S32,Tabelle!$I$5:$N$7,6,FALSE)))","v":""},null,null,null,null,null,null,null,null,null,{"$f":"IF(D32=\"\",0,IF(D32=D31,COUNTIF(D$9:D31,D32)+1,1))","v":0},0,0]
["25","-1900","-1900-0",null,null,null,null,null,null,null,"",null,null,null,null,null,null,null,null,{"$f":"IF(G$2034=1,\"\",IF(S33=\"\",\"\",VLOOKUP(S33,Tabelle!$I$5:$M$7,5,FALSE)))","v":""},{"$f":"IF(G$2034=1,\"\",IF(S33=\"\",\"\",VLOOKUP(S33,Tabelle!$I$5:$N$7,6,FALSE)))","v":""},null,null,null,null,null,null,null,null,null,{"$f":"IF(D33=\"\",0,IF(D33=D32,COUNTIF(D$9:D32,D33)+1,1))","v":0},0,0]
["26","-1900","-1900-0",null,null,null,null,null,null,null,"",null,null,null,null,null,null,null,null,{"$f":"IF(G$2034=1,\"\",IF(S34=\"\",\"\",VLOOKUP(S34,Tabelle!$I$5:$M$7,5,FALSE)))","v":""},{"$f":"IF(G$2034=1,\"\",IF(S34=\"\",\"\",VLOOKUP(S34,Tabelle!$I$5:$N$7,6,FALSE)))","v":""},null,null,null,null,null,null,null,null,null,{"$f":"IF(D34=\"\",0,IF(D34=D33,COUNTIF(D$9:D33,D34)+1,1))","v":0},0,0]
["27","-1900","-1900-0",null,null,null,null,null,null,null,"",null,null,null,null,null,null,null,null,{"$f":"IF(G$2034=1,\"\",IF(S35=\"\",\"\",VLOOKUP(S35,Tabelle!$I$5:$M$7,5,FALSE)))","v":""},{"$f":"IF(G$2034=1,\"\",IF(S35=\"\",\"\",VLOOKUP(S35,Tabelle!$I$5:$N$7,6,FALSE)))","v":""},null,null,null,null,null,null,null,null,null,{"$f":"IF(D35=\"\",0,IF(D35=D34,COUNTIF(D$9:D34,D35)+1,1))","v":0},0,0]
["28","-1900","-1900-0",null,null,null,null,null,null,null,"",null,null,null,null,null,null,null,null,{"$f":"IF(G$2034=1,\"\",IF(S36=\"\",\"\",VLOOKUP(S36,Tabelle!$I$5:$M$7,5,FALSE)))","v":""},{"$f":"IF(G$2034=1,\"\",IF(S36=\"\",\"\",VLOOKUP(S36,Tabelle!$I$5:$N$7,6,FALSE)))","v":""},null,null,null,null,null,null,null,null,null,{"$f":"IF(D36=\"\",0,IF(D36=D35,COUNTIF(D$9:D35,D36)+1,1))","v":0},0,0]
["29","-1900","-1900-0",null,null,null,null,null,null,null,"",null,null,null,null,null,null,null,null,{"$f":"IF(G$2034=1,\"\",IF(S37=\"\",\"\",VLOOKUP(S37,Tabelle!$I$5:$M$7,5,FALSE)))","v":""},{"$f":"IF(G$2034=1,\"\",IF(S37=\"\",\"\",VLOOKUP(S37,Tabelle!$I$5:$N$7,6,FALSE)))","v":""},null,null,null,null,null,null,null,null,null,{"$f":"IF(D37=\"\",0,IF(D37=D36,COUNTIF(D$9:D36,D37)+1,1))","v":0},0,0]
["30","-1900","-1900-0",null,null,null,null,null,null,null,"",null,null,null,null,null,null,null,null,{"$f":"IF(G$2034=1,\"\",IF(S38=\"\",\"\",VLOOKUP(S38,Tabelle!$I$5:$M$7,5,FALSE)))","v":""},{"$f":"IF(G$2034=1,\"\",IF(S38=\"\",\"\",VLOOKUP(S38,Tabelle!$I$5:$N$7,6,FALSE)))","v":""},null,null,null,null,null,null,null,null,null,{"$f":"IF(D38=\"\",0,IF(D38=D37,COUNTIF(D$9:D37,D38)+1,1))","v":0},0,0]
["31","-1900","-1900-0",null,null,null,null,null,null,null,"",null,null,null,null,null,null,null,null,{"$f":"IF(G$2034=1,\"\",IF(S39=\"\",\"\",VLOOKUP(S39,Tabelle!$I$5:$M$7,5,FALSE)))","v":""},{"$f":"IF(G$2034=1,\"\",IF(S39=\"\",\"\",VLOOKUP(S39,Tabelle!$I$5:$N$7,6,FALSE)))","v":""},null,null,null,null,null,null,null,null,null,{"$f":"IF(D39=\"\",0,IF(D39=D38,COUNTIF(D$9:D38,D39)+1,1))","v":0},0,0]
["32","-1900","-1900-0",null,null,null,null,null,null,null,"",null,null,null,null,null,null,null,null,{"$f":"IF(G$2034=1,\"\",IF(S40=\"\",\"\",VLOOKUP(S40,Tabelle!$I$5:$M$7,5,FALSE)))","v":""},{"$f":"IF(G$2034=1,\"\",IF(S40=\"\",\"\",VLOOKUP(S40,Tabelle!$I$5:$N$7,6,FALSE)))","v":""},null,null,null,null,null,null,null,null,null,{"$f":"IF(D40=\"\",0,IF(D40=D39,COUNTIF(D$9:D39,D40)+1,1))","v":0},0,0]
["33","-1900","-1900-0",null,null,null,null,null,null,null,"",null,null,null,null,null,null,null,null,{"$f":"IF(G$2034=1,\"\",IF(S41=\"\",\"\",VLOOKUP(S41,Tabelle!$I$5:$M$7,5,FALSE)))","v":""},{"$f":"IF(G$2034=1,\"\",IF(S41=\"\",\"\",VLOOKUP(S41,Tabelle!$I$5:$N$7,6,FALSE)))","v":""},null,null,null,null,null,null,null,null,null,{"$f":"IF(D41=\"\",0,IF(D41=D40,COUNTIF(D$9:D40,D41)+1,1))","v":0},0,0]
["34","-1900","-1900-0",null,null,null,null,null,null,null,"",null,null,null,null,null,null,null,null,{"$f":"IF(G$2034=1,\"\",IF(S42=\"\",\"\",VLOOKUP(S42,Tabelle!$I$5:$M$7,5,FALSE)))","v":""},{"$f":"IF(G$2034=1,\"\",IF(S42=\"\",\"\",VLOOKUP(S42,Tabelle!$I$5:$N$7,6,FALSE)))","v":""},null,null,null,null,null,null,null,null,null,{"$f":"IF(D42=\"\",0,IF(D42=D41,COUNTIF(D$9:D41,D42)+1,1))","v":0},0,0]
["35","-1900","-1900-0",null,null,null,null,null,null,null,"",null,null,null,null,null,null,null,null,{"$f":"IF(G$2034=1,\"\",IF(S43=\"\",\"\",VLOOKUP(S43,Tabelle!$I$5:$M$7,5,FALSE)))","v":""},{"$f":"IF(G$2034=1,\"\",IF(S43=\"\",\"\",VLOOKUP(S43,Tabelle!$I$5:$N$7,6,FALSE)))","v":""},null,null,null,null,null,null,null,null,null,{"$f":"IF(D43=\"\",0,IF(D43=D42,COUNTIF(D$9:D42,D43)+1,1))","v":0},0,0]
["36","-1900","-1900-0",null,null,null,null,null,null,null,"",null,null,null,null,null,null,null,null,{"$f":"IF(G$2034=1,\"\",IF(S44=\"\",\"\",VLOOKUP(S44,Tabelle!$I$5:$M$7,5,FALSE)))","v":""},{"$f":"IF(G$2034=1,\"\",IF(S44=\"\",\"\",VLOOKUP(S44,Tabelle!$I$5:$N$7,6,FALSE)))","v":""},null,null,null,null,null,null,null,null,null,{"$f":"IF(D44=\"\",0,IF(D44=D43,COUNTIF(D$9:D43,D44)+1,1))","v":0},0,0]
["37","-1900","-1900-0",null,null,null,null,null,null,null,"",null,null,null,null,null,null,null,null,{"$f":"IF(G$2034=1,\"\",IF(S45=\"\",\"\",VLOOKUP(S45,Tabelle!$I$5:$M$7,5,FALSE)))","v":""},{"$f":"IF(G$2034=1,\"\",IF(S45=\"\",\"\",VLOOKUP(S45,Tabelle!$I$5:$N$7,6,FALSE)))","v":""},null,null,null,null,null,null,null,null,null,{"$f":"IF(D45=\"\",0,IF(D45=D44,COUNTIF(D$9:D44,D45)+1,1))","v":0},0,0]
["38","-1900","-1900-0",null,null,null,null,null,null,null,"",null,null,null,null,null,null,null,null,{"$f":"IF(G$2034=1,\"\",IF(S46=\"\",\"\",VLOOKUP(S46,Tabelle!$I$5:$M$7,5,FALSE)))","v":""},{"$f":"IF(G$2034=1,\"\",IF(S46=\"\",\"\",VLOOKUP(S46,Tabelle!$I$5:$N$7,6,FALSE)))","v":""},null,null,null,null,null,null,null,null,null,{"$f":"IF(D46=\"\",0,IF(D46=D45,COUNTIF(D$9:D45,D46)+1,1))","v":0},0,0]
["39","-1900","-1900-0",null,null,null,null,null,null,null,"",null,null,null,null,null,null,null,null,{"$f":"IF(G$2034=1,\"\",IF(S47=\"\",\"\",VLOOKUP(S47,Tabelle!$I$5:$M$7,5,FALSE)))","v":""},{"$f":"IF(G$2034=1,\"\",IF(S47=\"\",\"\",VLOOKUP(S47,Tabelle!$I$5:$N$7,6,FALSE)))","v":""},null,null,null,null,null,null,null,null,null,{"$f":"IF(D47=\"\",0,IF(D47=D46,COUNTIF(D$9:D46,D47)+1,1))","v":0},0,0]
["40","-1900","-1900-0",null,null,null,null,null,null,null,"",null,null,null,null,null,null,null,null,{"$f":"IF(G$2034=1,\"\",IF(S48=\"\",\"\",VLOOKUP(S48,Tabelle!$I$5:$M$7,5,FALSE)))","v":""},{"$f":"IF(G$2034=1,\"\",IF(S48=\"\",\"\",VLOOKUP(S48,Tabelle!$I$5:$N$7,6,FALSE)))","v":""},null,null,null,null,null,null,null,null,null,{"$f":"IF(D48=\"\",0,IF(D48=D47,COUNTIF(D$9:D47,D48)+1,1))","v":0},0,0]
["41","-1900","-1900-0",null,null,null,null,null,null,null,"",null,null,null,null,null,null,null,null,{"$f":"IF(G$2034=1,\"\",IF(S49=\"\",\"\",VLOOKUP(S49,Tabelle!$I$5:$M$7,5,FALSE)))","v":""},{"$f":"IF(G$2034=1,\"\",IF(S49=\"\",\"\",VLOOKUP(S49,Tabelle!$I$5:$N$7,6,FALSE)))","v":""},null,null,null,null,null,null,null,null,null,{"$f":"IF(D49=\"\",0,IF(D49=D48,COUNTIF(D$9:D48,D49)+1,1))","v":0},0,0]
["42","-1900","-1900-0",null,null,null,null,null,null,null,"",null,null,null,null,null,null,null,null,{"$f":"IF(G$2034=1,\"\",IF(S50=\"\",\"\",VLOOKUP(S50,Tabelle!$I$5:$M$7,5,FALSE)))","v":""},{"$f":"IF(G$2034=1,\"\",IF(S50=\"\",\"\",VLOOKUP(S50,Tabelle!$I$5:$N$7,6,FALSE)))","v":""},null,null,null,null,null,null,null,null,null,{"$f":"IF(D50=\"\",0,IF(D50=D49,COUNTIF(D$9:D49,D50)+1,1))","v":0},0,0]
["43","-1900","-1900-0",null,null,null,null,null,null,null,"",null,null,null,null,null,null,null,null,{"$f":"IF(G$2034=1,\"\",IF(S51=\"\",\"\",VLOOKUP(S51,Tabelle!$I$5:$M$7,5,FALSE)))","v":""},{"$f":"IF(G$2034=1,\"\",IF(S51=\"\",\"\",VLOOKUP(S51,Tabelle!$I$5:$N$7,6,FALSE)))","v":""},null,null,null,null,null,null,null,null,null,{"$f":"IF(D51=\"\",0,IF(D51=D50,COUNTIF(D$9:D50,D51)+1,1))","v":0},0,0]
["44","-1900","-1900-0",null,null,null,null,null,null,null,"",null,null,null,null,null,null,null,null,{"$f":"IF(G$2034=1,\"\",IF(S52=\"\",\"\",VLOOKUP(S52,Tabelle!$I$5:$M$7,5,FALSE)))","v":""},{"$f":"IF(G$2034=1,\"\",IF(S52=\"\",\"\",VLOOKUP(S52,Tabelle!$I$5:$N$7,6,FALSE)))","v":""},null,null,null,null,null,null,null,null,null,{"$f":"IF(D52=\"\",0,IF(D52=D51,COUNTIF(D$9:D51,D52)+1,1))","v":0},0,0]
["45","-1900","-1900-0",null,null,null,null,null,null,null,"",null,null,null,null,null,null,null,null,{"$f":"IF(G$2034=1,\"\",IF(S53=\"\",\"\",VLOOKUP(S53,Tabelle!$I$5:$M$7,5,FALSE)))","v":""},{"$f":"IF(G$2034=1,\"\",IF(S53=\"\",\"\",VLOOKUP(S53,Tabelle!$I$5:$N$7,6,FALSE)))","v":""},null,null,null,null,null,null,null,null,null,{"$f":"IF(D53=\"\",0,IF(D53=D52,COUNTIF(D$9:D52,D53)+1,1))","v":0},0,0]
["46","-1900","-1900-0",null,null,null,null,null,null,null,"",null,null,null,null,null,null,null,null,{"$f":"IF(G$2034=1,\"\",IF(S54=\"\",\"\",VLOOKUP(S54,Tabelle!$I$5:$M$7,5,FALSE)))","v":""},{"$f":"IF(G$2034=1,\"\",IF(S54=\"\",\"\",VLOOKUP(S54,Tabelle!$I$5:$N$7,6,FALSE)))","v":""},null,null,null,null,null,null,null,null,null,{"$f":"IF(D54=\"\",0,IF(D54=D53,COUNTIF(D$9:D53,D54)+1,1))","v":0},0,0]
["47","-1900","-1900-0",null,null,null,null,null,null,null,"",null,null,null,null,null,null,null,null,{"$f":"IF(G$2034=1,\"\",IF(S55=\"\",\"\",VLOOKUP(S55,Tabelle!$I$5:$M$7,5,FALSE)))","v":""},{"$f":"IF(G$2034=1,\"\",IF(S55=\"\",\"\",VLOOKUP(S55,Tabelle!$I$5:$N$7,6,FALSE)))","v":""},null,null,null,null,null,null,null,null,null,{"$f":"IF(D55=\"\",0,IF(D55=D54,COUNTIF(D$9:D54,D55)+1,1))","v":0},0,0]
["48","-1900","-1900-0",null,null,null,null,null,null,null,"",null,null,null,null,null,null,null,null,{"$f":"IF(G$2034=1,\"\",IF(S56=\"\",\"\",VLOOKUP(S56,Tabelle!$I$5:$M$7,5,FALSE)))","v":""},{"$f":"IF(G$2034=1,\"\",IF(S56=\"\",\"\",VLOOKUP(S56,Tabelle!$I$5:$N$7,6,FALSE)))","v":""},null,null,null,null,null,null,null,null,null,{"$f":"IF(D56=\"\",0,IF(D56=D55,COUNTIF(D$9:D55,D56)+1,1))","v":0},0,0]
["49","-1900","-1900-0",null,null,null,null,null,null,null,"",null,null,null,null,null,null,null,null,{"$f":"IF(G$2034=1,\"\",IF(S57=\"\",\"\",VLOOKUP(S57,Tabelle!$I$5:$M$7,5,FALSE)))","v":""},{"$f":"IF(G$2034=1,\"\",IF(S57=\"\",\"\",VLOOKUP(S57,Tabelle!$I$5:$N$7,6,FALSE)))","v":""},null,null,null,null,null,null,null,null,null,{"$f":"IF(D57=\"\",0,IF(D57=D56,COUNTIF(D$9:D56,D57)+1,1))","v":0},0,0]
["50","-1900","-1900-0",null,null,null,null,null,null,null,"",null,null,null,null,null,null,null,null,{"$f":"IF(G$2034=1,\"\",IF(S58=\"\",\"\",VLOOKUP(S58,Tabelle!$I$5:$M$7,5,FALSE)))","v":""},{"$f":"IF(G$2034=1,\"\",IF(S58=\"\",\"\",VLOOKUP(S58,Tabelle!$I$5:$N$7,6,FALSE)))","v":""},null,null,null,null,null,null,null,null,null,{"$f":"IF(D58=\"\",0,IF(D58=D57,COUNTIF(D$9:D57,D58)+1,1))","v":0},0,0]
["51","-1900","-1900-0",null,null,null,null,null,null,null,"",null,null,null,null,null,null,null,null,{"$f":"IF(G$2034=1,\"\",IF(S59=\"\",\"\",VLOOKUP(S59,Tabelle!$I$5:$M$7,5,FALSE)))","v":""},{"$f":"IF(G$2034=1,\"\",IF(S59=\"\",\"\",VLOOKUP(S59,Tabelle!$I$5:$N$7,6,FALSE)))","v":""},null,null,null,null,null,null,null,null,null,{"$f":"IF(D59=\"\",0,IF(D59=D58,COUNTIF(D$9:D58,D59)+1,1))","v":0},0,0]
["52","-1900","-1900-0",null,null,null,null,null,null,null,"",null,null,null,null,null,null,null,null,{"$f":"IF(G$2034=1,\"\",IF(S60=\"\",\"\",VLOOKUP(S60,Tabelle!$I$5:$M$7,5,FALSE)))","v":""},{"$f":"IF(G$2034=1,\"\",IF(S60=\"\",\"\",VLOOKUP(S60,Tabelle!$I$5:$N$7,6,FALSE)))","v":""},null,null,null,null,null,null,null,null,null,{"$f":"IF(D60=\"\",0,IF(D60=D59,COUNTIF(D$9:D59,D60)+1,1))","v":0},0,0]
["53","-1900","-1900-0",null,null,null,null,null,null,null,"",null,null,null,null,null,null,null,null,{"$f":"IF(G$2034=1,\"\",IF(S61=\"\",\"\",VLOOKUP(S61,Tabelle!$I$5:$M$7,5,FALSE)))","v":""},{"$f":"IF(G$2034=1,\"\",IF(S61=\"\",\"\",VLOOKUP(S61,Tabelle!$I$5:$N$7,6,FALSE)))","v":""},null,null,null,null,null,null,null,null,null,{"$f":"IF(D61=\"\",0,IF(D61=D60,COUNTIF(D$9:D60,D61)+1,1))","v":0},0,0]
["54","-1900","-1900-0",null,null,null,null,null,null,null,"",null,null,null,null,null,null,null,null,{"$f":"IF(G$2034=1,\"\",IF(S62=\"\",\"\",VLOOKUP(S62,Tabelle!$I$5:$M$7,5,FALSE)))","v":""},{"$f":"IF(G$2034=1,\"\",IF(S62=\"\",\"\",VLOOKUP(S62,Tabelle!$I$5:$N$7,6,FALSE)))","v":""},null,null,null,null,null,null,null,null,null,{"$f":"IF(D62=\"\",0,IF(D62=D61,COUNTIF(D$9:D61,D62)+1,1))","v":0},0,0]
["55","-1900","-1900-0",null,null,null,null,null,null,null,"",null,null,null,null,null,null,null,null,{"$f":"IF(G$2034=1,\"\",IF(S63=\"\",\"\",VLOOKUP(S63,Tabelle!$I$5:$M$7,5,FALSE)))","v":""},{"$f":"IF(G$2034=1,\"\",IF(S63=\"\",\"\",VLOOKUP(S63,Tabelle!$I$5:$N$7,6,FALSE)))","v":""},null,null,null,null,null,null,null,null,null,{"$f":"IF(D63=\"\",0,IF(D63=D62,COUNTIF(D$9:D62,D63)+1,1))","v":0},0,0]
["56","-1900","-1900-0",null,null,null,null,null,null,null,"",null,null,null,null,null,null,null,null,{"$f":"IF(G$2034=1,\"\",IF(S64=\"\",\"\",VLOOKUP(S64,Tabelle!$I$5:$M$7,5,FALSE)))","v":""},{"$f":"IF(G$2034=1,\"\",IF(S64=\"\",\"\",VLOOKUP(S64,Tabelle!$I$5:$N$7,6,FALSE)))","v":""},null,null,null,null,null,null,null,null,null,{"$f":"IF(D64=\"\",0,IF(D64=D63,COUNTIF(D$9:D63,D64)+1,1))","v":0},0,0]
["57","-1900","-1900-0",null,null,null,null,null,null,null,"",null,null,null,null,null,null,null,null,{"$f":"IF(G$2034=1,\"\",IF(S65=\"\",\"\",VLOOKUP(S65,Tabelle!$I$5:$M$7,5,FALSE)))","v":""},{"$f":"IF(G$2034=1,\"\",IF(S65=\"\",\"\",VLOOKUP(S65,Tabelle!$I$5:$N$7,6,FALSE)))","v":""},null,null,null,null,null,null,null,null,null,{"$f":"IF(D65=\"\",0,IF(D65=D64,COUNTIF(D$9:D64,D65)+1,1))","v":0},0,0]
["58","-1900","-1900-0",null,null,null,null,null,null,null,"",null,null,null,null,null,null,null,null,{"$f":"IF(G$2034=1,\"\",IF(S66=\"\",\"\",VLOOKUP(S66,Tabelle!$I$5:$M$7,5,FALSE)))","v":""},{"$f":"IF(G$2034=1,\"\",IF(S66=\"\",\"\",VLOOKUP(S66,Tabelle!$I$5:$N$7,6,FALSE)))","v":""},null,null,null,null,null,null,null,null,null,{"$f":"IF(D66=\"\",0,IF(D66=D65,COUNTIF(D$9:D65,D66)+1,1))","v":0},0,0]
["59","-1900","-1900-0",null,null,null,null,null,null,null,"",null,null,null,null,null,null,null,null,{"$f":"IF(G$2034=1,\"\",IF(S67=\"\",\"\",VLOOKUP(S67,Tabelle!$I$5:$M$7,5,FALSE)))","v":""},{"$f":"IF(G$2034=1,\"\",IF(S67=\"\",\"\",VLOOKUP(S67,Tabelle!$I$5:$N$7,6,FALSE)))","v":""},null,null,null,null,null,null,null,null,null,{"$f":"IF(D67=\"\",0,IF(D67=D66,COUNTIF(D$9:D66,D67)+1,1))","v":0},0,0]
["60","-1900","-1900-0",null,null,null,null,null,null,null,"",null,null,null,null,null,null,null,null,{"$f":"IF(G$2034=1,\"\",IF(S68=\"\",\"\",VLOOKUP(S68,Tabelle!$I$5:$M$7,5,FALSE)))","v":""},{"$f":"IF(G$2034=1,\"\",IF(S68=\"\",\"\",VLOOKUP(S68,Tabelle!$I$5:$N$7,6,FALSE)))","v":""},null,null,null,null,null,null,null,null,null,{"$f":"IF(D68=\"\",0,IF(D68=D67,COUNTIF(D$9:D67,D68)+1,1))","v":0},0,0]
["61","-1900","-1900-0",null,null,null,null,null,null,null,"",null,null,null,null,null,null,null,null,{"$f":"IF(G$2034=1,\"\",IF(S69=\"\",\"\",VLOOKUP(S69,Tabelle!$I$5:$M$7,5,FALSE)))","v":""},{"$f":"IF(G$2034=1,\"\",IF(S69=\"\",\"\",VLOOKUP(S69,Tabelle!$I$5:$N$7,6,FALSE)))","v":""},null,null,null,null,null,null,null,null,null,{"$f":"IF(D69=\"\",0,IF(D69=D68,COUNTIF(D$9:D68,D69)+1,1))","v":0},0,0]
["62","-1900","-1900-0",null,null,null,null,null,null,null,"",null,null,null,null,null,null,null,null,{"$f":"IF(G$2034=1,\"\",IF(S70=\"\",\"\",VLOOKUP(S70,Tabelle!$I$5:$M$7,5,FALSE)))","v":""},{"$f":"IF(G$2034=1,\"\",IF(S70=\"\",\"\",VLOOKUP(S70,Tabelle!$I$5:$N$7,6,FALSE)))","v":""},null,null,null,null,null,null,null,null,null,{"$f":"IF(D70=\"\",0,IF(D70=D69,COUNTIF(D$9:D69,D70)+1,1))","v":0},0,0]
["63","-1900","-1900-0",null,null,null,null,null,null,null,"",null,null,null,null,null,null,null,null,{"$f":"IF(G$2034=1,\"\",IF(S71=\"\",\"\",VLOOKUP(S71,Tabelle!$I$5:$M$7,5,FALSE)))","v":""},{"$f":"IF(G$2034=1,\"\",IF(S71=\"\",\"\",VLOOKUP(S71,Tabelle!$I$5:$N$7,6,FALSE)))","v":""},null,null,null,null,null,null,null,null,null,{"$f":"IF(D71=\"\",0,IF(D71=D70,COUNTIF(D$9:D70,D71)+1,1))","v":0},0,0]
["64","-1900","-1900-0",null,null,null,null,null,null,null,"",null,null,null,null,null,null,null,null,{"$f":"IF(G$2034=1,\"\",IF(S72=\"\",\"\",VLOOKUP(S72,Tabelle!$I$5:$M$7,5,FALSE)))","v":""},{"$f":"IF(G$2034=1,\"\",IF(S72=\"\",\"\",VLOOKUP(S72,Tabelle!$I$5:$N$7,6,FALSE)))","v":""},null,null,null,null,null,null,null,null,null,{"$f":"IF(D72=\"\",0,IF(D72=D71,COUNTIF(D$9:D71,D72)+1,1))","v":0},0,0]
["65","-1900",{"$f":"IF(G$2034=1,0,B73&\"-\"&AE73)","v":"-1900-0"},null,null,null,null,null,null,null,{"$f":"IF(G$2034=1,0,IF(OR(J73=\"\",ISERROR($O$2034)),\"\",VLOOKUP(J73,$L$2019:$N$2027,2,FALSE)))","v":""},null,null,null,null,null,null,null,null,{"$f":"IF(G$2034=1,\"\",IF(S73=\"\",\"\",VLOOKUP(S73,Tabelle!$I$5:$M$7,5,FALSE)))","v":""},{"$f":"IF(G$2034=1,\"\",IF(S73=\"\",\"\",VLOOKUP(S73,Tabelle!$I$5:$N$7,6,FALSE)))","v":""},null,null,null,null,null,null,null,null,null,{"$f":"IF(D73=\"\",0,IF(D73=D72,COUNTIF(D$9:D72,D73)+1,1))","v":0},0,0]
["66",{"$f":"IF(AG74=$AG$2013,0,IF(G$2034=1,0,D74&\"-\"&YEAR(E74)))","v":"-1900"},"-1900-0",null,null,null,null,null,null,null,"",null,null,null,null,null,null,null,null,{"$f":"IF(G$2034=1,\"\",IF(S74=\"\",\"\",VLOOKUP(S74,Tabelle!$I$5:$M$7,5,FALSE)))","v":""},{"$f":"IF(G$2034=1,\"\",IF(S74=\"\",\"\",VLOOKUP(S74,Tabelle!$I$5:$N$7,6,FALSE)))","v":""},null,null,null,null,null,null,null,null,null,{"$f":"IF(D74=\"\",0,IF(D74=D73,COUNTIF(D$9:D73,D74)+1,1))","v":0},{"$f":"IF(G$2034=1,0,IF(AE74=28,1,0))","v":0},{"$f":"IF(E74>0,IF(OR(MONTH(E74)<$G$2026,MONTH(E74)>$G$2027),AG$2013,0),0)","v":0}]
["67","-1900","-1900-0",null,null,null,null,null,null,null,"",null,null,null,null,null,null,null,null,{"$f":"IF(G$2034=1,\"\",IF(S75=\"\",\"\",VLOOKUP(S75,Tabelle!$I$5:$M$7,5,FALSE)))","v":""},{"$f":"IF(G$2034=1,\"\",IF(S75=\"\",\"\",VLOOKUP(S75,Tabelle!$I$5:$N$7,6,FALSE)))","v":""},null,null,null,null,null,null,null,null,null,{"$f":"IF(D75=\"\",0,IF(D75=D74,COUNTIF(D$9:D74,D75)+1,1))","v":0},0,0]
["68","-1900","-1900-0",null,null,null,null,null,null,null,"",null,null,null,null,null,null,null,null,{"$f":"IF(G$2034=1,\"\",IF(S76=\"\",\"\",VLOOKUP(S76,Tabelle!$I$5:$M$7,5,FALSE)))","v":""},{"$f":"IF(G$2034=1,\"\",IF(S76=\"\",\"\",VLOOKUP(S76,Tabelle!$I$5:$N$7,6,FALSE)))","v":""},null,null,null,null,null,null,null,null,null,{"$f":"IF(D76=\"\",0,IF(D76=D75,COUNTIF(D$9:D75,D76)+1,1))","v":0},0,0]
["69","-1900","-1900-0",null,null,null,null,null,null,null,"",null,null,null,null,null,null,null,null,{"$f":"IF(G$2034=1,\"\",IF(S77=\"\",\"\",VLOOKUP(S77,Tabelle!$I$5:$M$7,5,FALSE)))","v":""},{"$f":"IF(G$2034=1,\"\",IF(S77=\"\",\"\",VLOOKUP(S77,Tabelle!$I$5:$N$7,6,FALSE)))","v":""},null,null,null,null,null,null,null,null,null,{"$f":"IF(D77=\"\",0,IF(D77=D76,COUNTIF(D$9:D76,D77)+1,1))","v":0},0,0]
["70","-1900","-1900-0",null,null,null,null,null,null,null,"",null,null,null,null,null,null,null,null,{"$f":"IF(G$2034=1,\"\",IF(S78=\"\",\"\",VLOOKUP(S78,Tabelle!$I$5:$M$7,5,FALSE)))","v":""},{"$f":"IF(G$2034=1,\"\",IF(S78=\"\",\"\",VLOOKUP(S78,Tabelle!$I$5:$N$7,6,FALSE)))","v":""},null,null,null,null,null,null,null,null,null,{"$f":"IF(D78=\"\",0,IF(D78=D77,COUNTIF(D$9:D77,D78)+1,1))","v":0},0,0]
["71","-1900","-1900-0",null,null,null,null,null,null,null,"",null,null,null,null,null,null,null,null,{"$f":"IF(G$2034=1,\"\",IF(S79=\"\",\"\",VLOOKUP(S79,Tabelle!$I$5:$M$7,5,FALSE)))","v":""},{"$f":"IF(G$2034=1,\"\",IF(S79=\"\",\"\",VLOOKUP(S79,Tabelle!$I$5:$N$7,6,FALSE)))","v":""},null,null,null,null,null,null,null,null,null,{"$f":"IF(D79=\"\",0,IF(D79=D78,COUNTIF(D$9:D78,D79)+1,1))","v":0},0,0]
["72","-1900","-1900-0",null,null,null,null,null,null,null,"",null,null,null,null,null,null,null,null,{"$f":"IF(G$2034=1,\"\",IF(S80=\"\",\"\",VLOOKUP(S80,Tabelle!$I$5:$M$7,5,FALSE)))","v":""},{"$f":"IF(G$2034=1,\"\",IF(S80=\"\",\"\",VLOOKUP(S80,Tabelle!$I$5:$N$7,6,FALSE)))","v":""},null,null,null,null,null,null,null,null,null,{"$f":"IF(D80=\"\",0,IF(D80=D79,COUNTIF(D$9:D79,D80)+1,1))","v":0},0,0]
["73","-1900","-1900-0",null,null,null,null,null,null,null,"",null,null,null,null,null,null,null,null,{"$f":"IF(G$2034=1,\"\",IF(S81=\"\",\"\",VLOOKUP(S81,Tabelle!$I$5:$M$7,5,FALSE)))","v":""},{"$f":"IF(G$2034=1,\"\",IF(S81=\"\",\"\",VLOOKUP(S81,Tabelle!$I$5:$N$7,6,FALSE)))","v":""},null,null,null,null,null,null,null,null,null,{"$f":"IF(D81=\"\",0,IF(D81=D80,COUNTIF(D$9:D80,D81)+1,1))","v":0},0,0]
["74","-1900","-1900-0",null,null,null,null,null,null,null,"",null,null,null,null,null,null,null,null,{"$f":"IF(G$2034=1,\"\",IF(S82=\"\",\"\",VLOOKUP(S82,Tabelle!$I$5:$M$7,5,FALSE)))","v":""},{"$f":"IF(G$2034=1,\"\",IF(S82=\"\",\"\",VLOOKUP(S82,Tabelle!$I$5:$N$7,6,FALSE)))","v":""},null,null,null,null,null,null,null,null,null,{"$f":"IF(D82=\"\",0,IF(D82=D81,COUNTIF(D$9:D81,D82)+1,1))","v":0},0,0]
["75","-1900","-1900-0",null,null,null,null,null,null,null,"",null,null,null,null,null,null,null,null,{"$f":"IF(G$2034=1,\"\",IF(S83=\"\",\"\",VLOOKUP(S83,Tabelle!$I$5:$M$7,5,FALSE)))","v":""},{"$f":"IF(G$2034=1,\"\",IF(S83=\"\",\"\",VLOOKUP(S83,Tabelle!$I$5:$N$7,6,FALSE)))","v":""},null,null,null,null,null,null,null,null,null,{"$f":"IF(D83=\"\",0,IF(D83=D82,COUNTIF(D$9:D82,D83)+1,1))","v":0},0,0]
["76","-1900","-1900-0",null,null,null,null,null,null,null,"",null,null,null,null,null,null,null,null,{"$f":"IF(G$2034=1,\"\",IF(S84=\"\",\"\",VLOOKUP(S84,Tabelle!$I$5:$M$7,5,FALSE)))","v":""},{"$f":"IF(G$2034=1,\"\",IF(S84=\"\",\"\",VLOOKUP(S84,Tabelle!$I$5:$N$7,6,FALSE)))","v":""},null,null,null,null,null,null,null,null,null,{"$f":"IF(D84=\"\",0,IF(D84=D83,COUNTIF(D$9:D83,D84)+1,1))","v":0},0,0]
["77","-1900","-1900-0",null,null,null,null,null,null,null,"",null,null,null,null,null,null,null,null,{"$f":"IF(G$2034=1,\"\",IF(S85=\"\",\"\",VLOOKUP(S85,Tabelle!$I$5:$M$7,5,FALSE)))","v":""},{"$f":"IF(G$2034=1,\"\",IF(S85=\"\",\"\",VLOOKUP(S85,Tabelle!$I$5:$N$7,6,FALSE)))","v":""},null,null,null,null,null,null,null,null,null,{"$f":"IF(D85=\"\",0,IF(D85=D84,COUNTIF(D$9:D84,D85)+1,1))","v":0},0,0]
["78","-1900","-1900-0",null,null,null,null,null,null,null,"",null,null,null,null,null,null,null,null,{"$f":"IF(G$2034=1,\"\",IF(S86=\"\",\"\",VLOOKUP(S86,Tabelle!$I$5:$M$7,5,FALSE)))","v":""},{"$f":"IF(G$2034=1,\"\",IF(S86=\"\",\"\",VLOOKUP(S86,Tabelle!$I$5:$N$7,6,FALSE)))","v":""},null,null,null,null,null,null,null,null,null,{"$f":"IF(D86=\"\",0,IF(D86=D85,COUNTIF(D$9:D85,D86)+1,1))","v":0},0,0]
["79","-1900","-1900-0",null,null,null,null,null,null,null,"",null,null,null,null,null,null,null,null,{"$f":"IF(G$2034=1,\"\",IF(S87=\"\",\"\",VLOOKUP(S87,Tabelle!$I$5:$M$7,5,FALSE)))","v":""},{"$f":"IF(G$2034=1,\"\",IF(S87=\"\",\"\",VLOOKUP(S87,Tabelle!$I$5:$N$7,6,FALSE)))","v":""},null,null,null,null,null,null,null,null,null,{"$f":"IF(D87=\"\",0,IF(D87=D86,COUNTIF(D$9:D86,D87)+1,1))","v":0},0,0]
["80","-1900","-1900-0",null,null,null,null,null,null,null,"",null,null,null,null,null,null,null,null,{"$f":"IF(G$2034=1,\"\",IF(S88=\"\",\"\",VLOOKUP(S88,Tabelle!$I$5:$M$7,5,FALSE)))","v":""},{"$f":"IF(G$2034=1,\"\",IF(S88=\"\",\"\",VLOOKUP(S88,Tabelle!$I$5:$N$7,6,FALSE)))","v":""},null,null,null,null,null,null,null,null,null,{"$f":"IF(D88=\"\",0,IF(D88=D87,COUNTIF(D$9:D87,D88)+1,1))","v":0},0,0]
["81","-1900","-1900-0",null,null,null,null,null,null,null,"",null,null,null,null,null,null,null,null,{"$f":"IF(G$2034=1,\"\",IF(S89=\"\",\"\",VLOOKUP(S89,Tabelle!$I$5:$M$7,5,FALSE)))","v":""},{"$f":"IF(G$2034=1,\"\",IF(S89=\"\",\"\",VLOOKUP(S89,Tabelle!$I$5:$N$7,6,FALSE)))","v":""},null,null,null,null,null,null,null,null,null,{"$f":"IF(D89=\"\",0,IF(D89=D88,COUNTIF(D$9:D88,D89)+1,1))","v":0},0,0]
["82","-1900","-1900-0",null,null,null,null,null,null,null,"",null,null,null,null,null,null,null,null,{"$f":"IF(G$2034=1,\"\",IF(S90=\"\",\"\",VLOOKUP(S90,Tabelle!$I$5:$M$7,5,FALSE)))","v":""},{"$f":"IF(G$2034=1,\"\",IF(S90=\"\",\"\",VLOOKUP(S90,Tabelle!$I$5:$N$7,6,FALSE)))","v":""},null,null,null,null,null,null,null,null,null,{"$f":"IF(D90=\"\",0,IF(D90=D89,COUNTIF(D$9:D89,D90)+1,1))","v":0},0,0]
["83","-1900","-1900-0",null,null,null,null,null,null,null,"",null,null,null,null,null,null,null,null,{"$f":"IF(G$2034=1,\"\",IF(S91=\"\",\"\",VLOOKUP(S91,Tabelle!$I$5:$M$7,5,FALSE)))","v":""},{"$f":"IF(G$2034=1,\"\",IF(S91=\"\",\"\",VLOOKUP(S91,Tabelle!$I$5:$N$7,6,FALSE)))","v":""},null,null,null,null,null,null,null,null,null,{"$f":"IF(D91=\"\",0,IF(D91=D90,COUNTIF(D$9:D90,D91)+1,1))","v":0},0,0]
["84","-1900","-1900-0",null,null,null,null,null,null,null,"",null,null,null,null,null,null,null,null,{"$f":"IF(G$2034=1,\"\",IF(S92=\"\",\"\",VLOOKUP(S92,Tabelle!$I$5:$M$7,5,FALSE)))","v":""},{"$f":"IF(G$2034=1,\"\",IF(S92=\"\",\"\",VLOOKUP(S92,Tabelle!$I$5:$N$7,6,FALSE)))","v":""},null,null,null,null,null,null,null,null,null,{"$f":"IF(D92=\"\",0,IF(D92=D91,COUNTIF(D$9:D91,D92)+1,1))","v":0},0,0]
["85","-1900","-1900-0",null,null,null,null,null,null,null,"",null,null,null,null,null,null,null,null,{"$f":"IF(G$2034=1,\"\",IF(S93=\"\",\"\",VLOOKUP(S93,Tabelle!$I$5:$M$7,5,FALSE)))","v":""},{"$f":"IF(G$2034=1,\"\",IF(S93=\"\",\"\",VLOOKUP(S93,Tabelle!$I$5:$N$7,6,FALSE)))","v":""},null,null,null,null,null,null,null,null,null,{"$f":"IF(D93=\"\",0,IF(D93=D92,COUNTIF(D$9:D92,D93)+1,1))","v":0},0,0]
["86","-1900","-1900-0",null,null,null,null,null,null,null,"",null,null,null,null,null,null,null,null,{"$f":"IF(G$2034=1,\"\",IF(S94=\"\",\"\",VLOOKUP(S94,Tabelle!$I$5:$M$7,5,FALSE)))","v":""},{"$f":"IF(G$2034=1,\"\",IF(S94=\"\",\"\",VLOOKUP(S94,Tabelle!$I$5:$N$7,6,FALSE)))","v":""},null,null,null,null,null,null,null,null,null,{"$f":"IF(D94=\"\",0,IF(D94=D93,COUNTIF(D$9:D93,D94)+1,1))","v":0},0,0]
["87","-1900","-1900-0",null,null,null,null,null,null,null,"",null,null,null,null,null,null,null,null,{"$f":"IF(G$2034=1,\"\",IF(S95=\"\",\"\",VLOOKUP(S95,Tabelle!$I$5:$M$7,5,FALSE)))","v":""},{"$f":"IF(G$2034=1,\"\",IF(S95=\"\",\"\",VLOOKUP(S95,Tabelle!$I$5:$N$7,6,FALSE)))","v":""},null,null,null,null,null,null,null,null,null,{"$f":"IF(D95=\"\",0,IF(D95=D94,COUNTIF(D$9:D94,D95)+1,1))","v":0},0,0]
["88","-1900","-1900-0",null,null,null,null,null,null,null,"",null,null,null,null,null,null,null,null,{"$f":"IF(G$2034=1,\"\",IF(S96=\"\",\"\",VLOOKUP(S96,Tabelle!$I$5:$M$7,5,FALSE)))","v":""},{"$f":"IF(G$2034=1,\"\",IF(S96=\"\",\"\",VLOOKUP(S96,Tabelle!$I$5:$N$7,6,FALSE)))","v":""},null,null,null,null,null,null,null,null,null,{"$f":"IF(D96=\"\",0,IF(D96=D95,COUNTIF(D$9:D95,D96)+1,1))","v":0},0,0]
["89","-1900","-1900-0",null,null,null,null,null,null,null,"",null,null,null,null,null,null,null,null,{"$f":"IF(G$2034=1,\"\",IF(S97=\"\",\"\",VLOOKUP(S97,Tabelle!$I$5:$M$7,5,FALSE)))","v":""},{"$f":"IF(G$2034=1,\"\",IF(S97=\"\",\"\",VLOOKUP(S97,Tabelle!$I$5:$N$7,6,FALSE)))","v":""},null,null,null,null,null,null,null,null,null,{"$f":"IF(D97=\"\",0,IF(D97=D96,COUNTIF(D$9:D96,D97)+1,1))","v":0},0,0]
["90","-1900","-1900-0",null,null,null,null,null,null,null,"",null,null,null,null,null,null,null,null,{"$f":"IF(G$2034=1,\"\",IF(S98=\"\",\"\",VLOOKUP(S98,Tabelle!$I$5:$M$7,5,FALSE)))","v":""},{"$f":"IF(G$2034=1,\"\",IF(S98=\"\",\"\",VLOOKUP(S98,Tabelle!$I$5:$N$7,6,FALSE)))","v":""},null,null,null,null,null,null,null,null,null,{"$f":"IF(D98=\"\",0,IF(D98=D97,COUNTIF(D$9:D97,D98)+1,1))","v":0},0,0]
["91","-1900","-1900-0",null,null,null,null,null,null,null,"",null,null,null,null,null,null,null,null,{"$f":"IF(G$2034=1,\"\",IF(S99=\"\",\"\",VLOOKUP(S99,Tabelle!$I$5:$M$7,5,FALSE)))","v":""},{"$f":"IF(G$2034=1,\"\",IF(S99=\"\",\"\",VLOOKUP(S99,Tabelle!$I$5:$N$7,6,FALSE)))","v":""},null,null,null,null,null,null,null,null,null,{"$f":"IF(D99=\"\",0,IF(D99=D98,COUNTIF(D$9:D98,D99)+1,1))","v":0},0,0]
["92","-1900","-1900-0",null,null,null,null,null,null,null,"",null,null,null,null,null,null,null,null,{"$f":"IF(G$2034=1,\"\",IF(S100=\"\",\"\",VLOOKUP(S100,Tabelle!$I$5:$M$7,5,FALSE)))","v":""},{"$f":"IF(G$2034=1,\"\",IF(S100=\"\",\"\",VLOOKUP(S100,Tabelle!$I$5:$N$7,6,FALSE)))","v":""},null,null,null,null,null,null,null,null,null,{"$f":"IF(D100=\"\",0,IF(D100=D99,COUNTIF(D$9:D99,D100)+1,1))","v":0},0,0]
["93","-1900","-1900-0",null,null,null,null,null,null,null,"",null,null,null,null,null,null,null,null,{"$f":"IF(G$2034=1,\"\",IF(S101=\"\",\"\",VLOOKUP(S101,Tabelle!$I$5:$M$7,5,FALSE)))","v":""},{"$f":"IF(G$2034=1,\"\",IF(S101=\"\",\"\",VLOOKUP(S101,Tabelle!$I$5:$N$7,6,FALSE)))","v":""},null,null,null,null,null,null,null,null,null,{"$f":"IF(D101=\"\",0,IF(D101=D100,COUNTIF(D$9:D100,D101)+1,1))","v":0},0,0]
["94","-1900","-1900-0",null,null,null,null,null,null,null,"",null,null,null,null,null,null,null,null,{"$f":"IF(G$2034=1,\"\",IF(S102=\"\",\"\",VLOOKUP(S102,Tabelle!$I$5:$M$7,5,FALSE)))","v":""},{"$f":"IF(G$2034=1,\"\",IF(S102=\"\",\"\",VLOOKUP(S102,Tabelle!$I$5:$N$7,6,FALSE)))","v":""},null,null,null,null,null,null,null,null,null,{"$f":"IF(D102=\"\",0,IF(D102=D101,COUNTIF(D$9:D101,D102)+1,1))","v":0},0,0]
["95","-1900","-1900-0",null,null,null,null,null,null,null,"",null,null,null,null,null,null,null,null,{"$f":"IF(G$2034=1,\"\",IF(S103=\"\",\"\",VLOOKUP(S103,Tabelle!$I$5:$M$7,5,FALSE)))","v":""},{"$f":"IF(G$2034=1,\"\",IF(S103=\"\",\"\",VLOOKUP(S103,Tabelle!$I$5:$N$7,6,FALSE)))","v":""},null,null,null,null,null,null,null,null,null,{"$f":"IF(D103=\"\",0,IF(D103=D102,COUNTIF(D$9:D102,D103)+1,1))","v":0},0,0]
["96","-1900","-1900-0",null,null,null,null,null,null,null,"",null,null,null,null,null,null,null,null,{"$f":"IF(G$2034=1,\"\",IF(S104=\"\",\"\",VLOOKUP(S104,Tabelle!$I$5:$M$7,5,FALSE)))","v":""},{"$f":"IF(G$2034=1,\"\",IF(S104=\"\",\"\",VLOOKUP(S104,Tabelle!$I$5:$N$7,6,FALSE)))","v":""},null,null,null,null,null,null,null,null,null,{"$f":"IF(D104=\"\",0,IF(D104=D103,COUNTIF(D$9:D103,D104)+1,1))","v":0},0,0]
["97","-1900","-1900-0",null,null,null,null,null,null,null,"",null,null,null,null,null,null,null,null,{"$f":"IF(G$2034=1,\"\",IF(S105=\"\",\"\",VLOOKUP(S105,Tabelle!$I$5:$M$7,5,FALSE)))","v":""},{"$f":"IF(G$2034=1,\"\",IF(S105=\"\",\"\",VLOOKUP(S105,Tabelle!$I$5:$N$7,6,FALSE)))","v":""},null,null,null,null,null,null,null,null,null,{"$f":"IF(D105=\"\",0,IF(D105=D104,COUNTIF(D$9:D104,D105)+1,1))","v":0},0,0]
["98","-1900","-1900-0",null,null,null,null,null,null,null,"",null,null,null,null,null,null,null,null,{"$f":"IF(G$2034=1,\"\",IF(S106=\"\",\"\",VLOOKUP(S106,Tabelle!$I$5:$M$7,5,FALSE)))","v":""},{"$f":"IF(G$2034=1,\"\",IF(S106=\"\",\"\",VLOOKUP(S106,Tabelle!$I$5:$N$7,6,FALSE)))","v":""},null,null,null,null,null,null,null,null,null,{"$f":"IF(D106=\"\",0,IF(D106=D105,COUNTIF(D$9:D105,D106)+1,1))","v":0},0,0]
["99","-1900","-1900-0",null,null,null,null,null,null,null,"",null,null,null,null,null,null,null,null,{"$f":"IF(G$2034=1,\"\",IF(S107=\"\",\"\",VLOOKUP(S107,Tabelle!$I$5:$M$7,5,FALSE)))","v":""},{"$f":"IF(G$2034=1,\"\",IF(S107=\"\",\"\",VLOOKUP(S107,Tabelle!$I$5:$N$7,6,FALSE)))","v":""},null,null,null,null,null,null,null,null,null,{"$f":"IF(D107=\"\",0,IF(D107=D106,COUNTIF(D$9:D106,D107)+1,1))","v":0},0,0]
["100","-1900","-1900-0",null,null,null,null,null,null,null,"",null,null,null,null,null,null,null,null,{"$f":"IF(G$2034=1,\"\",IF(S108=\"\",\"\",VLOOKUP(S108,Tabelle!$I$5:$M$7,5,FALSE)))","v":""},{"$f":"IF(G$2034=1,\"\",IF(S108=\"\",\"\",VLOOKUP(S108,Tabelle!$I$5:$N$7,6,FALSE)))","v":""},null,null,null,null,null,null,null,null,null,{"$f":"IF(D108=\"\",0,IF(D108=D107,COUNTIF(D$9:D107,D108)+1,1))","v":0},0,0]
["101","-1900","-1900-0",null,null,null,null,null,null,null,"",null,null,null,null,null,null,null,null,{"$f":"IF(G$2034=1,\"\",IF(S109=\"\",\"\",VLOOKUP(S109,Tabelle!$I$5:$M$7,5,FALSE)))","v":""},{"$f":"IF(G$2034=1,\"\",IF(S109=\"\",\"\",VLOOKUP(S109,Tabelle!$I$5:$N$7,6,FALSE)))","v":""},null,null,null,null,null,null,null,null,null,{"$f":"IF(D109=\"\",0,IF(D109=D108,COUNTIF(D$9:D108,D109)+1,1))","v":0},0,0]
["102","-1900","-1900-0",null,null,null,null,null,null,null,"",null,null,null,null,null,null,null,null,{"$f":"IF(G$2034=1,\"\",IF(S110=\"\",\"\",VLOOKUP(S110,Tabelle!$I$5:$M$7,5,FALSE)))","v":""},{"$f":"IF(G$2034=1,\"\",IF(S110=\"\",\"\",VLOOKUP(S110,Tabelle!$I$5:$N$7,6,FALSE)))","v":""},null,null,null,null,null,null,null,null,null,{"$f":"IF(D110=\"\",0,IF(D110=D109,COUNTIF(D$9:D109,D110)+1,1))","v":0},0,0]
["103","-1900","-1900-0",null,null,null,null,null,null,null,"",null,null,null,null,null,null,null,null,{"$f":"IF(G$2034=1,\"\",IF(S111=\"\",\"\",VLOOKUP(S111,Tabelle!$I$5:$M$7,5,FALSE)))","v":""},{"$f":"IF(G$2034=1,\"\",IF(S111=\"\",\"\",VLOOKUP(S111,Tabelle!$I$5:$N$7,6,FALSE)))","v":""},null,null,null,null,null,null,null,null,null,{"$f":"IF(D111=\"\",0,IF(D111=D110,COUNTIF(D$9:D110,D111)+1,1))","v":0},0,0]
["104","-1900","-1900-0",null,null,null,null,null,null,null,"",null,null,null,null,null,null,null,null,{"$f":"IF(G$2034=1,\"\",IF(S112=\"\",\"\",VLOOKUP(S112,Tabelle!$I$5:$M$7,5,FALSE)))","v":""},{"$f":"IF(G$2034=1,\"\",IF(S112=\"\",\"\",VLOOKUP(S112,Tabelle!$I$5:$N$7,6,FALSE)))","v":""},null,null,null,null,null,null,null,null,null,{"$f":"IF(D112=\"\",0,IF(D112=D111,COUNTIF(D$9:D111,D112)+1,1))","v":0},0,0]
["105","-1900","-1900-0",null,null,null,null,null,null,null,"",null,null,null,null,null,null,null,null,{"$f":"IF(G$2034=1,\"\",IF(S113=\"\",\"\",VLOOKUP(S113,Tabelle!$I$5:$M$7,5,FALSE)))","v":""},{"$f":"IF(G$2034=1,\"\",IF(S113=\"\",\"\",VLOOKUP(S113,Tabelle!$I$5:$N$7,6,FALSE)))","v":""},null,null,null,null,null,null,null,null,null,{"$f":"IF(D113=\"\",0,IF(D113=D112,COUNTIF(D$9:D112,D113)+1,1))","v":0},0,0]
["106","-1900","-1900-0",null,null,null,null,null,null,null,"",null,null,null,null,null,null,null,null,{"$f":"IF(G$2034=1,\"\",IF(S114=\"\",\"\",VLOOKUP(S114,Tabelle!$I$5:$M$7,5,FALSE)))","v":""},{"$f":"IF(G$2034=1,\"\",IF(S114=\"\",\"\",VLOOKUP(S114,Tabelle!$I$5:$N$7,6,FALSE)))","v":""},null,null,null,null,null,null,null,null,null,{"$f":"IF(D114=\"\",0,IF(D114=D113,COUNTIF(D$9:D113,D114)+1,1))","v":0},0,0]
["107","-1900","-1900-0",null,null,null,null,null,null,null,"",null,null,null,null,null,null,null,null,{"$f":"IF(G$2034=1,\"\",IF(S115=\"\",\"\",VLOOKUP(S115,Tabelle!$I$5:$M$7,5,FALSE)))","v":""},{"$f":"IF(G$2034=1,\"\",IF(S115=\"\",\"\",VLOOKUP(S115,Tabelle!$I$5:$N$7,6,FALSE)))","v":""},null,null,null,null,null,null,null,null,null,{"$f":"IF(D115=\"\",0,IF(D115=D114,COUNTIF(D$9:D114,D115)+1,1))","v":0},0,0]
["108","-1900","-1900-0",null,null,null,null,null,null,null,"",null,null,null,null,null,null,null,null,{"$f":"IF(G$2034=1,\"\",IF(S116=\"\",\"\",VLOOKUP(S116,Tabelle!$I$5:$M$7,5,FALSE)))","v":""},{"$f":"IF(G$2034=1,\"\",IF(S116=\"\",\"\",VLOOKUP(S116,Tabelle!$I$5:$N$7,6,FALSE)))","v":""},null,null,null,null,null,null,null,null,null,{"$f":"IF(D116=\"\",0,IF(D116=D115,COUNTIF(D$9:D115,D116)+1,1))","v":0},0,0]
["109","-1900","-1900-0",null,null,null,null,null,null,null,"",null,null,null,null,null,null,null,null,{"$f":"IF(G$2034=1,\"\",IF(S117=\"\",\"\",VLOOKUP(S117,Tabelle!$I$5:$M$7,5,FALSE)))","v":""},{"$f":"IF(G$2034=1,\"\",IF(S117=\"\",\"\",VLOOKUP(S117,Tabelle!$I$5:$N$7,6,FALSE)))","v":""},null,null,null,null,null,null,null,null,null,{"$f":"IF(D117=\"\",0,IF(D117=D116,COUNTIF(D$9:D116,D117)+1,1))","v":0},0,0]
["110","-1900","-1900-0",null,null,null,null,null,null,null,"",null,null,null,null,null,null,null,null,{"$f":"IF(G$2034=1,\"\",IF(S118=\"\",\"\",VLOOKUP(S118,Tabelle!$I$5:$M$7,5,FALSE)))","v":""},{"$f":"IF(G$2034=1,\"\",IF(S118=\"\",\"\",VLOOKUP(S118,Tabelle!$I$5:$N$7,6,FALSE)))","v":""},null,null,null,null,null,null,null,null,null,{"$f":"IF(D118=\"\",0,IF(D118=D117,COUNTIF(D$9:D117,D118)+1,1))","v":0},0,0]
["111","-1900","-1900-0",null,null,null,null,null,null,null,"",null,null,null,null,null,null,null,null,{"$f":"IF(G$2034=1,\"\",IF(S119=\"\",\"\",VLOOKUP(S119,Tabelle!$I$5:$M$7,5,FALSE)))","v":""},{"$f":"IF(G$2034=1,\"\",IF(S119=\"\",\"\",VLOOKUP(S119,Tabelle!$I$5:$N$7,6,FALSE)))","v":""},null,null,null,null,null,null,null,null,null,{"$f":"IF(D119=\"\",0,IF(D119=D118,COUNTIF(D$9:D118,D119)+1,1))","v":0},0,0]
["112","-1900","-1900-0",null,null,null,null,null,null,null,"",null,null,null,null,null,null,null,null,{"$f":"IF(G$2034=1,\"\",IF(S120=\"\",\"\",VLOOKUP(S120,Tabelle!$I$5:$M$7,5,FALSE)))","v":""},{"$f":"IF(G$2034=1,\"\",IF(S120=\"\",\"\",VLOOKUP(S120,Tabelle!$I$5:$N$7,6,FALSE)))","v":""},null,null,null,null,null,null,null,null,null,{"$f":"IF(D120=\"\",0,IF(D120=D119,COUNTIF(D$9:D119,D120)+1,1))","v":0},0,0]
["113","-1900","-1900-0",null,null,null,null,null,null,null,"",null,null,null,null,null,null,null,null,{"$f":"IF(G$2034=1,\"\",IF(S121=\"\",\"\",VLOOKUP(S121,Tabelle!$I$5:$M$7,5,FALSE)))","v":""},{"$f":"IF(G$2034=1,\"\",IF(S121=\"\",\"\",VLOOKUP(S121,Tabelle!$I$5:$N$7,6,FALSE)))","v":""},null,null,null,null,null,null,null,null,null,{"$f":"IF(D121=\"\",0,IF(D121=D120,COUNTIF(D$9:D120,D121)+1,1))","v":0},0,0]
["114","-1900","-1900-0",null,null,null,null,null,null,null,"",null,null,null,null,null,null,null,null,{"$f":"IF(G$2034=1,\"\",IF(S122=\"\",\"\",VLOOKUP(S122,Tabelle!$I$5:$M$7,5,FALSE)))","v":""},{"$f":"IF(G$2034=1,\"\",IF(S122=\"\",\"\",VLOOKUP(S122,Tabelle!$I$5:$N$7,6,FALSE)))","v":""},null,null,null,null,null,null,null,null,null,{"$f":"IF(D122=\"\",0,IF(D122=D121,COUNTIF(D$9:D121,D122)+1,1))","v":0},0,0]
["115","-1900","-1900-0",null,null,null,null,null,null,null,"",null,null,null,null,null,null,null,null,{"$f":"IF(G$2034=1,\"\",IF(S123=\"\",\"\",VLOOKUP(S123,Tabelle!$I$5:$M$7,5,FALSE)))","v":""},{"$f":"IF(G$2034=1,\"\",IF(S123=\"\",\"\",VLOOKUP(S123,Tabelle!$I$5:$N$7,6,FALSE)))","v":""},null,null,null,null,null,null,null,null,null,{"$f":"IF(D123=\"\",0,IF(D123=D122,COUNTIF(D$9:D122,D123)+1,1))","v":0},0,0]
["116","-1900","-1900-0",null,null,null,null,null,null,null,"",null,null,null,null,null,null,null,null,{"$f":"IF(G$2034=1,\"\",IF(S124=\"\",\"\",VLOOKUP(S124,Tabelle!$I$5:$M$7,5,FALSE)))","v":""},{"$f":"IF(G$2034=1,\"\",IF(S124=\"\",\"\",VLOOKUP(S124,Tabelle!$I$5:$N$7,6,FALSE)))","v":""},null,null,null,null,null,null,null,null,null,{"$f":"IF(D124=\"\",0,IF(D124=D123,COUNTIF(D$9:D123,D124)+1,1))","v":0},0,0]
["117","-1900","-1900-0",null,null,null,null,null,null,null,"",null,null,null,null,null,null,null,null,{"$f":"IF(G$2034=1,\"\",IF(S125=\"\",\"\",VLOOKUP(S125,Tabelle!$I$5:$M$7,5,FALSE)))","v":""},{"$f":"IF(G$2034=1,\"\",IF(S125=\"\",\"\",VLOOKUP(S125,Tabelle!$I$5:$N$7,6,FALSE)))","v":""},null,null,null,null,null,null,null,null,null,{"$f":"IF(D125=\"\",0,IF(D125=D124,COUNTIF(D$9:D124,D125)+1,1))","v":0},0,0]
["118","-1900","-1900-0",null,null,null,null,null,null,null,"",null,null,null,null,null,null,null,null,{"$f":"IF(G$2034=1,\"\",IF(S126=\"\",\"\",VLOOKUP(S126,Tabelle!$I$5:$M$7,5,FALSE)))","v":""},{"$f":"IF(G$2034=1,\"\",IF(S126=\"\",\"\",VLOOKUP(S126,Tabelle!$I$5:$N$7,6,FALSE)))","v":""},null,null,null,null,null,null,null,null,null,{"$f":"IF(D126=\"\",0,IF(D126=D125,COUNTIF(D$9:D125,D126)+1,1))","v":0},0,0]
["119","-1900","-1900-0",null,null,null,null,null,null,null,"",null,null,null,null,null,null,null,null,{"$f":"IF(G$2034=1,\"\",IF(S127=\"\",\"\",VLOOKUP(S127,Tabelle!$I$5:$M$7,5,FALSE)))","v":""},{"$f":"IF(G$2034=1,\"\",IF(S127=\"\",\"\",VLOOKUP(S127,Tabelle!$I$5:$N$7,6,FALSE)))","v":""},null,null,null,null,null,null,null,null,null,{"$f":"IF(D127=\"\",0,IF(D127=D126,COUNTIF(D$9:D126,D127)+1,1))","v":0},0,0]
["120","-1900","-1900-0",null,null,null,null,null,null,null,"",null,null,null,null,null,null,null,null,{"$f":"IF(G$2034=1,\"\",IF(S128=\"\",\"\",VLOOKUP(S128,Tabelle!$I$5:$M$7,5,FALSE)))","v":""},{"$f":"IF(G$2034=1,\"\",IF(S128=\"\",\"\",VLOOKUP(S128,Tabelle!$I$5:$N$7,6,FALSE)))","v":""},null,null,null,null,null,null,null,null,null,{"$f":"IF(D128=\"\",0,IF(D128=D127,COUNTIF(D$9:D127,D128)+1,1))","v":0},0,0]
["121","-1900","-1900-0",null,null,null,null,null,null,null,"",null,null,null,null,null,null,null,null,{"$f":"IF(G$2034=1,\"\",IF(S129=\"\",\"\",VLOOKUP(S129,Tabelle!$I$5:$M$7,5,FALSE)))","v":""},{"$f":"IF(G$2034=1,\"\",IF(S129=\"\",\"\",VLOOKUP(S129,Tabelle!$I$5:$N$7,6,FALSE)))","v":""},null,null,null,null,null,null,null,null,null,{"$f":"IF(D129=\"\",0,IF(D129=D128,COUNTIF(D$9:D128,D129)+1,1))","v":0},0,0]
["122","-1900","-1900-0",null,null,null,null,null,null,null,"",null,null,null,null,null,null,null,null,{"$f":"IF(G$2034=1,\"\",IF(S130=\"\",\"\",VLOOKUP(S130,Tabelle!$I$5:$M$7,5,FALSE)))","v":""},{"$f":"IF(G$2034=1,\"\",IF(S130=\"\",\"\",VLOOKUP(S130,Tabelle!$I$5:$N$7,6,FALSE)))","v":""},null,null,null,null,null,null,null,null,null,{"$f":"IF(D130=\"\",0,IF(D130=D129,COUNTIF(D$9:D129,D130)+1,1))","v":0},0,0]
["123","-1900","-1900-0",null,null,null,null,null,null,null,"",null,null,null,null,null,null,null,null,{"$f":"IF(G$2034=1,\"\",IF(S131=\"\",\"\",VLOOKUP(S131,Tabelle!$I$5:$M$7,5,FALSE)))","v":""},{"$f":"IF(G$2034=1,\"\",IF(S131=\"\",\"\",VLOOKUP(S131,Tabelle!$I$5:$N$7,6,FALSE)))","v":""},null,null,null,null,null,null,null,null,null,{"$f":"IF(D131=\"\",0,IF(D131=D130,COUNTIF(D$9:D130,D131)+1,1))","v":0},0,0]
["124","-1900","-1900-0",null,null,null,null,null,null,null,"",null,null,null,null,null,null,null,null,{"$f":"IF(G$2034=1,\"\",IF(S132=\"\",\"\",VLOOKUP(S132,Tabelle!$I$5:$M$7,5,FALSE)))","v":""},{"$f":"IF(G$2034=1,\"\",IF(S132=\"\",\"\",VLOOKUP(S132,Tabelle!$I$5:$N$7,6,FALSE)))","v":""},null,null,null,null,null,null,null,null,null,{"$f":"IF(D132=\"\",0,IF(D132=D131,COUNTIF(D$9:D131,D132)+1,1))","v":0},0,0]
["125","-1900","-1900-0",null,null,null,null,null,null,null,"",null,null,null,null,null,null,null,null,{"$f":"IF(G$2034=1,\"\",IF(S133=\"\",\"\",VLOOKUP(S133,Tabelle!$I$5:$M$7,5,FALSE)))","v":""},{"$f":"IF(G$2034=1,\"\",IF(S133=\"\",\"\",VLOOKUP(S133,Tabelle!$I$5:$N$7,6,FALSE)))","v":""},null,null,null,null,null,null,null,null,null,{"$f":"IF(D133=\"\",0,IF(D133=D132,COUNTIF(D$9:D132,D133)+1,1))","v":0},0,0]
["126","-1900","-1900-0",null,null,null,null,null,null,null,"",null,null,null,null,null,null,null,null,{"$f":"IF(G$2034=1,\"\",IF(S134=\"\",\"\",VLOOKUP(S134,Tabelle!$I$5:$M$7,5,FALSE)))","v":""},{"$f":"IF(G$2034=1,\"\",IF(S134=\"\",\"\",VLOOKUP(S134,Tabelle!$I$5:$N$7,6,FALSE)))","v":""},null,null,null,null,null,null,null,null,null,{"$f":"IF(D134=\"\",0,IF(D134=D133,COUNTIF(D$9:D133,D134)+1,1))","v":0},0,0]
["127","-1900","-1900-0",null,null,null,null,null,null,null,"",null,null,null,null,null,null,null,null,{"$f":"IF(G$2034=1,\"\",IF(S135=\"\",\"\",VLOOKUP(S135,Tabelle!$I$5:$M$7,5,FALSE)))","v":""},{"$f":"IF(G$2034=1,\"\",IF(S135=\"\",\"\",VLOOKUP(S135,Tabelle!$I$5:$N$7,6,FALSE)))","v":""},null,null,null,null,null,null,null,null,null,{"$f":"IF(D135=\"\",0,IF(D135=D134,COUNTIF(D$9:D134,D135)+1,1))","v":0},0,0]
["128","-1900","-1900-0",null,null,null,null,null,null,null,"",null,null,null,null,null,null,null,null,{"$f":"IF(G$2034=1,\"\",IF(S136=\"\",\"\",VLOOKUP(S136,Tabelle!$I$5:$M$7,5,FALSE)))","v":""},{"$f":"IF(G$2034=1,\"\",IF(S136=\"\",\"\",VLOOKUP(S136,Tabelle!$I$5:$N$7,6,FALSE)))","v":""},null,null,null,null,null,null,null,null,null,{"$f":"IF(D136=\"\",0,IF(D136=D135,COUNTIF(D$9:D135,D136)+1,1))","v":0},0,0]
["129","-1900",{"$f":"IF(G$2034=1,0,B137&\"-\"&AE137)","v":"-1900-0"},null,null,null,null,null,null,null,{"$f":"IF(G$2034=1,0,IF(OR(J137=\"\",ISERROR($O$2034)),\"\",VLOOKUP(J137,$L$2019:$N$2027,2,FALSE)))","v":""},null,null,null,null,null,null,null,null,{"$f":"IF(G$2034=1,\"\",IF(S137=\"\",\"\",VLOOKUP(S137,Tabelle!$I$5:$M$7,5,FALSE)))","v":""},{"$f":"IF(G$2034=1,\"\",IF(S137=\"\",\"\",VLOOKUP(S137,Tabelle!$I$5:$N$7,6,FALSE)))","v":""},null,null,null,null,null,null,null,null,null,{"$f":"IF(D137=\"\",0,IF(D137=D136,COUNTIF(D$9:D136,D137)+1,1))","v":0},0,0]
["130",{"$f":"IF(AG138=$AG$2013,0,IF(G$2034=1,0,D138&\"-\"&YEAR(E138)))","v":"-1900"},"-1900-0",null,null,null,null,null,null,null,"",null,null,null,null,null,null,null,null,{"$f":"IF(G$2034=1,\"\",IF(S138=\"\",\"\",VLOOKUP(S138,Tabelle!$I$5:$M$7,5,FALSE)))","v":""},{"$f":"IF(G$2034=1,\"\",IF(S138=\"\",\"\",VLOOKUP(S138,Tabelle!$I$5:$N$7,6,FALSE)))","v":""},null,null,null,null,null,null,null,null,null,{"$f":"IF(D138=\"\",0,IF(D138=D137,COUNTIF(D$9:D137,D138)+1,1))","v":0},{"$f":"IF(G$2034=1,0,IF(AE138=28,1,0))","v":0},{"$f":"IF(E138>0,IF(OR(MONTH(E138)<$G$2026,MONTH(E138)>$G$2027),AG$2013,0),0)","v":0}]
["131","-1900","-1900-0",null,null,null,null,null,null,null,"",null,null,null,null,null,null,null,null,{"$f":"IF(G$2034=1,\"\",IF(S139=\"\",\"\",VLOOKUP(S139,Tabelle!$I$5:$M$7,5,FALSE)))","v":""},{"$f":"IF(G$2034=1,\"\",IF(S139=\"\",\"\",VLOOKUP(S139,Tabelle!$I$5:$N$7,6,FALSE)))","v":""},null,null,null,null,null,null,null,null,null,{"$f":"IF(D139=\"\",0,IF(D139=D138,COUNTIF(D$9:D138,D139)+1,1))","v":0},0,0]
["132","-1900","-1900-0",null,null,null,null,null,null,null,"",null,null,null,null,null,null,null,null,{"$f":"IF(G$2034=1,\"\",IF(S140=\"\",\"\",VLOOKUP(S140,Tabelle!$I$5:$M$7,5,FALSE)))","v":""},{"$f":"IF(G$2034=1,\"\",IF(S140=\"\",\"\",VLOOKUP(S140,Tabelle!$I$5:$N$7,6,FALSE)))","v":""},null,null,null,null,null,null,null,null,null,{"$f":"IF(D140=\"\",0,IF(D140=D139,COUNTIF(D$9:D139,D140)+1,1))","v":0},0,0]
["133","-1900","-1900-0",null,null,null,null,null,null,null,"",null,null,null,null,null,null,null,null,{"$f":"IF(G$2034=1,\"\",IF(S141=\"\",\"\",VLOOKUP(S141,Tabelle!$I$5:$M$7,5,FALSE)))","v":""},{"$f":"IF(G$2034=1,\"\",IF(S141=\"\",\"\",VLOOKUP(S141,Tabelle!$I$5:$N$7,6,FALSE)))","v":""},null,null,null,null,null,null,null,null,null,{"$f":"IF(D141=\"\",0,IF(D141=D140,COUNTIF(D$9:D140,D141)+1,1))","v":0},0,0]
["134","-1900","-1900-0",null,null,null,null,null,null,null,"",null,null,null,null,null,null,null,null,{"$f":"IF(G$2034=1,\"\",IF(S142=\"\",\"\",VLOOKUP(S142,Tabelle!$I$5:$M$7,5,FALSE)))","v":""},{"$f":"IF(G$2034=1,\"\",IF(S142=\"\",\"\",VLOOKUP(S142,Tabelle!$I$5:$N$7,6,FALSE)))","v":""},null,null,null,null,null,null,null,null,null,{"$f":"IF(D142=\"\",0,IF(D142=D141,COUNTIF(D$9:D141,D142)+1,1))","v":0},0,0]
["135","-1900","-1900-0",null,null,null,null,null,null,null,"",null,null,null,null,null,null,null,null,{"$f":"IF(G$2034=1,\"\",IF(S143=\"\",\"\",VLOOKUP(S143,Tabelle!$I$5:$M$7,5,FALSE)))","v":""},{"$f":"IF(G$2034=1,\"\",IF(S143=\"\",\"\",VLOOKUP(S143,Tabelle!$I$5:$N$7,6,FALSE)))","v":""},null,null,null,null,null,null,null,null,null,{"$f":"IF(D143=\"\",0,IF(D143=D142,COUNTIF(D$9:D142,D143)+1,1))","v":0},0,0]
["136","-1900","-1900-0",null,null,null,null,null,null,null,"",null,null,null,null,null,null,null,null,{"$f":"IF(G$2034=1,\"\",IF(S144=\"\",\"\",VLOOKUP(S144,Tabelle!$I$5:$M$7,5,FALSE)))","v":""},{"$f":"IF(G$2034=1,\"\",IF(S144=\"\",\"\",VLOOKUP(S144,Tabelle!$I$5:$N$7,6,FALSE)))","v":""},null,null,null,null,null,null,null,null,null,{"$f":"IF(D144=\"\",0,IF(D144=D143,COUNTIF(D$9:D143,D144)+1,1))","v":0},0,0]
["137","-1900","-1900-0",null,null,null,null,null,null,null,"",null,null,null,null,null,null,null,null,{"$f":"IF(G$2034=1,\"\",IF(S145=\"\",\"\",VLOOKUP(S145,Tabelle!$I$5:$M$7,5,FALSE)))","v":""},{"$f":"IF(G$2034=1,\"\",IF(S145=\"\",\"\",VLOOKUP(S145,Tabelle!$I$5:$N$7,6,FALSE)))","v":""},null,null,null,null,null,null,null,null,null,{"$f":"IF(D145=\"\",0,IF(D145=D144,COUNTIF(D$9:D144,D145)+1,1))","v":0},0,0]
["138","-1900","-1900-0",null,null,null,null,null,null,null,"",null,null,null,null,null,null,null,null,{"$f":"IF(G$2034=1,\"\",IF(S146=\"\",\"\",VLOOKUP(S146,Tabelle!$I$5:$M$7,5,FALSE)))","v":""},{"$f":"IF(G$2034=1,\"\",IF(S146=\"\",\"\",VLOOKUP(S146,Tabelle!$I$5:$N$7,6,FALSE)))","v":""},null,null,null,null,null,null,null,null,null,{"$f":"IF(D146=\"\",0,IF(D146=D145,COUNTIF(D$9:D145,D146)+1,1))","v":0},0,0]
["139","-1900","-1900-0",null,null,null,null,null,null,null,"",null,null,null,null,null,null,null,null,{"$f":"IF(G$2034=1,\"\",IF(S147=\"\",\"\",VLOOKUP(S147,Tabelle!$I$5:$M$7,5,FALSE)))","v":""},{"$f":"IF(G$2034=1,\"\",IF(S147=\"\",\"\",VLOOKUP(S147,Tabelle!$I$5:$N$7,6,FALSE)))","v":""},null,null,null,null,null,null,null,null,null,{"$f":"IF(D147=\"\",0,IF(D147=D146,COUNTIF(D$9:D146,D147)+1,1))","v":0},0,0]
["140","-1900","-1900-0",null,null,null,null,null,null,null,"",null,null,null,null,null,null,null,null,{"$f":"IF(G$2034=1,\"\",IF(S148=\"\",\"\",VLOOKUP(S148,Tabelle!$I$5:$M$7,5,FALSE)))","v":""},{"$f":"IF(G$2034=1,\"\",IF(S148=\"\",\"\",VLOOKUP(S148,Tabelle!$I$5:$N$7,6,FALSE)))","v":""},null,null,null,null,null,null,null,null,null,{"$f":"IF(D148=\"\",0,IF(D148=D147,COUNTIF(D$9:D147,D148)+1,1))","v":0},0,0]
["141","-1900","-1900-0",null,null,null,null,null,null,null,"",null,null,null,null,null,null,null,null,{"$f":"IF(G$2034=1,\"\",IF(S149=\"\",\"\",VLOOKUP(S149,Tabelle!$I$5:$M$7,5,FALSE)))","v":""},{"$f":"IF(G$2034=1,\"\",IF(S149=\"\",\"\",VLOOKUP(S149,Tabelle!$I$5:$N$7,6,FALSE)))","v":""},null,null,null,null,null,null,null,null,null,{"$f":"IF(D149=\"\",0,IF(D149=D148,COUNTIF(D$9:D148,D149)+1,1))","v":0},0,0]
["142","-1900","-1900-0",null,null,null,null,null,null,null,"",null,null,null,null,null,null,null,null,{"$f":"IF(G$2034=1,\"\",IF(S150=\"\",\"\",VLOOKUP(S150,Tabelle!$I$5:$M$7,5,FALSE)))","v":""},{"$f":"IF(G$2034=1,\"\",IF(S150=\"\",\"\",VLOOKUP(S150,Tabelle!$I$5:$N$7,6,FALSE)))","v":""},null,null,null,null,null,null,null,null,null,{"$f":"IF(D150=\"\",0,IF(D150=D149,COUNTIF(D$9:D149,D150)+1,1))","v":0},0,0]
["143","-1900","-1900-0",null,null,null,null,null,null,null,"",null,null,null,null,null,null,null,null,{"$f":"IF(G$2034=1,\"\",IF(S151=\"\",\"\",VLOOKUP(S151,Tabelle!$I$5:$M$7,5,FALSE)))","v":""},{"$f":"IF(G$2034=1,\"\",IF(S151=\"\",\"\",VLOOKUP(S151,Tabelle!$I$5:$N$7,6,FALSE)))","v":""},null,null,null,null,null,null,null,null,null,{"$f":"IF(D151=\"\",0,IF(D151=D150,COUNTIF(D$9:D150,D151)+1,1))","v":0},0,0]
["144","-1900","-1900-0",null,null,null,null,null,null,null,"",null,null,null,null,null,null,null,null,{"$f":"IF(G$2034=1,\"\",IF(S152=\"\",\"\",VLOOKUP(S152,Tabelle!$I$5:$M$7,5,FALSE)))","v":""},{"$f":"IF(G$2034=1,\"\",IF(S152=\"\",\"\",VLOOKUP(S152,Tabelle!$I$5:$N$7,6,FALSE)))","v":""},null,null,null,null,null,null,null,null,null,{"$f":"IF(D152=\"\",0,IF(D152=D151,COUNTIF(D$9:D151,D152)+1,1))","v":0},0,0]
["145","-1900","-1900-0",null,null,null,null,null,null,null,"",null,null,null,null,null,null,null,null,{"$f":"IF(G$2034=1,\"\",IF(S153=\"\",\"\",VLOOKUP(S153,Tabelle!$I$5:$M$7,5,FALSE)))","v":""},{"$f":"IF(G$2034=1,\"\",IF(S153=\"\",\"\",VLOOKUP(S153,Tabelle!$I$5:$N$7,6,FALSE)))","v":""},null,null,null,null,null,null,null,null,null,{"$f":"IF(D153=\"\",0,IF(D153=D152,COUNTIF(D$9:D152,D153)+1,1))","v":0},0,0]
["146","-1900","-1900-0",null,null,null,null,null,null,null,"",null,null,null,null,null,null,null,null,{"$f":"IF(G$2034=1,\"\",IF(S154=\"\",\"\",VLOOKUP(S154,Tabelle!$I$5:$M$7,5,FALSE)))","v":""},{"$f":"IF(G$2034=1,\"\",IF(S154=\"\",\"\",VLOOKUP(S154,Tabelle!$I$5:$N$7,6,FALSE)))","v":""},null,null,null,null,null,null,null,null,null,{"$f":"IF(D154=\"\",0,IF(D154=D153,COUNTIF(D$9:D153,D154)+1,1))","v":0},0,0]
["147","-1900","-1900-0",null,null,null,null,null,null,null,"",null,null,null,null,null,null,null,null,{"$f":"IF(G$2034=1,\"\",IF(S155=\"\",\"\",VLOOKUP(S155,Tabelle!$I$5:$M$7,5,FALSE)))","v":""},{"$f":"IF(G$2034=1,\"\",IF(S155=\"\",\"\",VLOOKUP(S155,Tabelle!$I$5:$N$7,6,FALSE)))","v":""},null,null,null,null,null,null,null,null,null,{"$f":"IF(D155=\"\",0,IF(D155=D154,COUNTIF(D$9:D154,D155)+1,1))","v":0},0,0]
["148","-1900","-1900-0",null,null,null,null,null,null,null,"",null,null,null,null,null,null,null,null,{"$f":"IF(G$2034=1,\"\",IF(S156=\"\",\"\",VLOOKUP(S156,Tabelle!$I$5:$M$7,5,FALSE)))","v":""},{"$f":"IF(G$2034=1,\"\",IF(S156=\"\",\"\",VLOOKUP(S156,Tabelle!$I$5:$N$7,6,FALSE)))","v":""},null,null,null,null,null,null,null,null,null,{"$f":"IF(D156=\"\",0,IF(D156=D155,COUNTIF(D$9:D155,D156)+1,1))","v":0},0,0]
["149","-1900","-1900-0",null,null,null,null,null,null,null,"",null,null,null,null,null,null,null,null,{"$f":"IF(G$2034=1,\"\",IF(S157=\"\",\"\",VLOOKUP(S157,Tabelle!$I$5:$M$7,5,FALSE)))","v":""},{"$f":"IF(G$2034=1,\"\",IF(S157=\"\",\"\",VLOOKUP(S157,Tabelle!$I$5:$N$7,6,FALSE)))","v":""},null,null,null,null,null,null,null,null,null,{"$f":"IF(D157=\"\",0,IF(D157=D156,COUNTIF(D$9:D156,D157)+1,1))","v":0},0,0]
["150","-1900","-1900-0",null,null,null,null,null,null,null,"",null,null,null,null,null,null,null,null,{"$f":"IF(G$2034=1,\"\",IF(S158=\"\",\"\",VLOOKUP(S158,Tabelle!$I$5:$M$7,5,FALSE)))","v":""},{"$f":"IF(G$2034=1,\"\",IF(S158=\"\",\"\",VLOOKUP(S158,Tabelle!$I$5:$N$7,6,FALSE)))","v":""},null,null,null,null,null,null,null,null,null,{"$f":"IF(D158=\"\",0,IF(D158=D157,COUNTIF(D$9:D157,D158)+1,1))","v":0},0,0]
["151","-1900","-1900-0",null,null,null,null,null,null,null,"",null,null,null,null,null,null,null,null,{"$f":"IF(G$2034=1,\"\",IF(S159=\"\",\"\",VLOOKUP(S159,Tabelle!$I$5:$M$7,5,FALSE)))","v":""},{"$f":"IF(G$2034=1,\"\",IF(S159=\"\",\"\",VLOOKUP(S159,Tabelle!$I$5:$N$7,6,FALSE)))","v":""},null,null,null,null,null,null,null,null,null,{"$f":"IF(D159=\"\",0,IF(D159=D158,COUNTIF(D$9:D158,D159)+1,1))","v":0},0,0]
["152","-1900","-1900-0",null,null,null,null,null,null,null,"",null,null,null,null,null,null,null,null,{"$f":"IF(G$2034=1,\"\",IF(S160=\"\",\"\",VLOOKUP(S160,Tabelle!$I$5:$M$7,5,FALSE)))","v":""},{"$f":"IF(G$2034=1,\"\",IF(S160=\"\",\"\",VLOOKUP(S160,Tabelle!$I$5:$N$7,6,FALSE)))","v":""},null,null,null,null,null,null,null,null,null,{"$f":"IF(D160=\"\",0,IF(D160=D159,COUNTIF(D$9:D159,D160)+1,1))","v":0},0,0]
["153","-1900","-1900-0",null,null,null,null,null,null,null,"",null,null,null,null,null,null,null,null,{"$f":"IF(G$2034=1,\"\",IF(S161=\"\",\"\",VLOOKUP(S161,Tabelle!$I$5:$M$7,5,FALSE)))","v":""},{"$f":"IF(G$2034=1,\"\",IF(S161=\"\",\"\",VLOOKUP(S161,Tabelle!$I$5:$N$7,6,FALSE)))","v":""},null,null,null,null,null,null,null,null,null,{"$f":"IF(D161=\"\",0,IF(D161=D160,COUNTIF(D$9:D160,D161)+1,1))","v":0},0,0]
["154","-1900","-1900-0",null,null,null,null,null,null,null,"",null,null,null,null,null,null,null,null,{"$f":"IF(G$2034=1,\"\",IF(S162=\"\",\"\",VLOOKUP(S162,Tabelle!$I$5:$M$7,5,FALSE)))","v":""},{"$f":"IF(G$2034=1,\"\",IF(S162=\"\",\"\",VLOOKUP(S162,Tabelle!$I$5:$N$7,6,FALSE)))","v":""},null,null,null,null,null,null,null,null,null,{"$f":"IF(D162=\"\",0,IF(D162=D161,COUNTIF(D$9:D161,D162)+1,1))","v":0},0,0]
["155","-1900","-1900-0",null,null,null,null,null,null,null,"",null,null,null,null,null,null,null,null,{"$f":"IF(G$2034=1,\"\",IF(S163=\"\",\"\",VLOOKUP(S163,Tabelle!$I$5:$M$7,5,FALSE)))","v":""},{"$f":"IF(G$2034=1,\"\",IF(S163=\"\",\"\",VLOOKUP(S163,Tabelle!$I$5:$N$7,6,FALSE)))","v":""},null,null,null,null,null,null,null,null,null,{"$f":"IF(D163=\"\",0,IF(D163=D162,COUNTIF(D$9:D162,D163)+1,1))","v":0},0,0]
["156","-1900","-1900-0",null,null,null,null,null,null,null,"",null,null,null,null,null,null,null,null,{"$f":"IF(G$2034=1,\"\",IF(S164=\"\",\"\",VLOOKUP(S164,Tabelle!$I$5:$M$7,5,FALSE)))","v":""},{"$f":"IF(G$2034=1,\"\",IF(S164=\"\",\"\",VLOOKUP(S164,Tabelle!$I$5:$N$7,6,FALSE)))","v":""},null,null,null,null,null,null,null,null,null,{"$f":"IF(D164=\"\",0,IF(D164=D163,COUNTIF(D$9:D163,D164)+1,1))","v":0},0,0]
["157","-1900","-1900-0",null,null,null,null,null,null,null,"",null,null,null,null,null,null,null,null,{"$f":"IF(G$2034=1,\"\",IF(S165=\"\",\"\",VLOOKUP(S165,Tabelle!$I$5:$M$7,5,FALSE)))","v":""},{"$f":"IF(G$2034=1,\"\",IF(S165=\"\",\"\",VLOOKUP(S165,Tabelle!$I$5:$N$7,6,FALSE)))","v":""},null,null,null,null,null,null,null,null,null,{"$f":"IF(D165=\"\",0,IF(D165=D164,COUNTIF(D$9:D164,D165)+1,1))","v":0},0,0]
["158","-1900","-1900-0",null,null,null,null,null,null,null,"",null,null,null,null,null,null,null,null,{"$f":"IF(G$2034=1,\"\",IF(S166=\"\",\"\",VLOOKUP(S166,Tabelle!$I$5:$M$7,5,FALSE)))","v":""},{"$f":"IF(G$2034=1,\"\",IF(S166=\"\",\"\",VLOOKUP(S166,Tabelle!$I$5:$N$7,6,FALSE)))","v":""},null,null,null,null,null,null,null,null,null,{"$f":"IF(D166=\"\",0,IF(D166=D165,COUNTIF(D$9:D165,D166)+1,1))","v":0},0,0]
["159","-1900","-1900-0",null,null,null,null,null,null,null,"",null,null,null,null,null,null,null,null,{"$f":"IF(G$2034=1,\"\",IF(S167=\"\",\"\",VLOOKUP(S167,Tabelle!$I$5:$M$7,5,FALSE)))","v":""},{"$f":"IF(G$2034=1,\"\",IF(S167=\"\",\"\",VLOOKUP(S167,Tabelle!$I$5:$N$7,6,FALSE)))","v":""},null,null,null,null,null,null,null,null,null,{"$f":"IF(D167=\"\",0,IF(D167=D166,COUNTIF(D$9:D166,D167)+1,1))","v":0},0,0]
["160","-1900","-1900-0",null,null,null,null,null,null,null,"",null,null,null,null,null,null,null,null,{"$f":"IF(G$2034=1,\"\",IF(S168=\"\",\"\",VLOOKUP(S168,Tabelle!$I$5:$M$7,5,FALSE)))","v":""},{"$f":"IF(G$2034=1,\"\",IF(S168=\"\",\"\",VLOOKUP(S168,Tabelle!$I$5:$N$7,6,FALSE)))","v":""},null,null,null,null,null,null,null,null,null,{"$f":"IF(D168=\"\",0,IF(D168=D167,COUNTIF(D$9:D167,D168)+1,1))","v":0},0,0]
["161","-1900","-1900-0",null,null,null,null,null,null,null,"",null,null,null,null,null,null,null,null,{"$f":"IF(G$2034=1,\"\",IF(S169=\"\",\"\",VLOOKUP(S169,Tabelle!$I$5:$M$7,5,FALSE)))","v":""},{"$f":"IF(G$2034=1,\"\",IF(S169=\"\",\"\",VLOOKUP(S169,Tabelle!$I$5:$N$7,6,FALSE)))","v":""},null,null,null,null,null,null,null,null,null,{"$f":"IF(D169=\"\",0,IF(D169=D168,COUNTIF(D$9:D168,D169)+1,1))","v":0},0,0]
["162","-1900","-1900-0",null,null,null,null,null,null,null,"",null,null,null,null,null,null,null,null,{"$f":"IF(G$2034=1,\"\",IF(S170=\"\",\"\",VLOOKUP(S170,Tabelle!$I$5:$M$7,5,FALSE)))","v":""},{"$f":"IF(G$2034=1,\"\",IF(S170=\"\",\"\",VLOOKUP(S170,Tabelle!$I$5:$N$7,6,FALSE)))","v":""},null,null,null,null,null,null,null,null,null,{"$f":"IF(D170=\"\",0,IF(D170=D169,COUNTIF(D$9:D169,D170)+1,1))","v":0},0,0]
["163","-1900","-1900-0",null,null,null,null,null,null,null,"",null,null,null,null,null,null,null,null,{"$f":"IF(G$2034=1,\"\",IF(S171=\"\",\"\",VLOOKUP(S171,Tabelle!$I$5:$M$7,5,FALSE)))","v":""},{"$f":"IF(G$2034=1,\"\",IF(S171=\"\",\"\",VLOOKUP(S171,Tabelle!$I$5:$N$7,6,FALSE)))","v":""},null,null,null,null,null,null,null,null,null,{"$f":"IF(D171=\"\",0,IF(D171=D170,COUNTIF(D$9:D170,D171)+1,1))","v":0},0,0]
["164","-1900","-1900-0",null,null,null,null,null,null,null,"",null,null,null,null,null,null,null,null,{"$f":"IF(G$2034=1,\"\",IF(S172=\"\",\"\",VLOOKUP(S172,Tabelle!$I$5:$M$7,5,FALSE)))","v":""},{"$f":"IF(G$2034=1,\"\",IF(S172=\"\",\"\",VLOOKUP(S172,Tabelle!$I$5:$N$7,6,FALSE)))","v":""},null,null,null,null,null,null,null,null,null,{"$f":"IF(D172=\"\",0,IF(D172=D171,COUNTIF(D$9:D171,D172)+1,1))","v":0},0,0]
["165","-1900","-1900-0",null,null,null,null,null,null,null,"",null,null,null,null,null,null,null,null,{"$f":"IF(G$2034=1,\"\",IF(S173=\"\",\"\",VLOOKUP(S173,Tabelle!$I$5:$M$7,5,FALSE)))","v":""},{"$f":"IF(G$2034=1,\"\",IF(S173=\"\",\"\",VLOOKUP(S173,Tabelle!$I$5:$N$7,6,FALSE)))","v":""},null,null,null,null,null,null,null,null,null,{"$f":"IF(D173=\"\",0,IF(D173=D172,COUNTIF(D$9:D172,D173)+1,1))","v":0},0,0]
["166","-1900","-1900-0",null,null,null,null,null,null,null,"",null,null,null,null,null,null,null,null,{"$f":"IF(G$2034=1,\"\",IF(S174=\"\",\"\",VLOOKUP(S174,Tabelle!$I$5:$M$7,5,FALSE)))","v":""},{"$f":"IF(G$2034=1,\"\",IF(S174=\"\",\"\",VLOOKUP(S174,Tabelle!$I$5:$N$7,6,FALSE)))","v":""},null,null,null,null,null,null,null,null,null,{"$f":"IF(D174=\"\",0,IF(D174=D173,COUNTIF(D$9:D173,D174)+1,1))","v":0},0,0]
["167","-1900","-1900-0",null,null,null,null,null,null,null,"",null,null,null,null,null,null,null,null,{"$f":"IF(G$2034=1,\"\",IF(S175=\"\",\"\",VLOOKUP(S175,Tabelle!$I$5:$M$7,5,FALSE)))","v":""},{"$f":"IF(G$2034=1,\"\",IF(S175=\"\",\"\",VLOOKUP(S175,Tabelle!$I$5:$N$7,6,FALSE)))","v":""},null,null,null,null,null,null,null,null,null,{"$f":"IF(D175=\"\",0,IF(D175=D174,COUNTIF(D$9:D174,D175)+1,1))","v":0},0,0]
["168","-1900","-1900-0",null,null,null,null,null,null,null,"",null,null,null,null,null,null,null,null,{"$f":"IF(G$2034=1,\"\",IF(S176=\"\",\"\",VLOOKUP(S176,Tabelle!$I$5:$M$7,5,FALSE)))","v":""},{"$f":"IF(G$2034=1,\"\",IF(S176=\"\",\"\",VLOOKUP(S176,Tabelle!$I$5:$N$7,6,FALSE)))","v":""},null,null,null,null,null,null,null,null,null,{"$f":"IF(D176=\"\",0,IF(D176=D175,COUNTIF(D$9:D175,D176)+1,1))","v":0},0,0]
["169","-1900","-1900-0",null,null,null,null,null,null,null,"",null,null,null,null,null,null,null,null,{"$f":"IF(G$2034=1,\"\",IF(S177=\"\",\"\",VLOOKUP(S177,Tabelle!$I$5:$M$7,5,FALSE)))","v":""},{"$f":"IF(G$2034=1,\"\",IF(S177=\"\",\"\",VLOOKUP(S177,Tabelle!$I$5:$N$7,6,FALSE)))","v":""},null,null,null,null,null,null,null,null,null,{"$f":"IF(D177=\"\",0,IF(D177=D176,COUNTIF(D$9:D176,D177)+1,1))","v":0},0,0]
["170","-1900","-1900-0",null,null,null,null,null,null,null,"",null,null,null,null,null,null,null,null,{"$f":"IF(G$2034=1,\"\",IF(S178=\"\",\"\",VLOOKUP(S178,Tabelle!$I$5:$M$7,5,FALSE)))","v":""},{"$f":"IF(G$2034=1,\"\",IF(S178=\"\",\"\",VLOOKUP(S178,Tabelle!$I$5:$N$7,6,FALSE)))","v":""},null,null,null,null,null,null,null,null,null,{"$f":"IF(D178=\"\",0,IF(D178=D177,COUNTIF(D$9:D177,D178)+1,1))","v":0},0,0]
["171","-1900","-1900-0",null,null,null,null,null,null,null,"",null,null,null,null,null,null,null,null,{"$f":"IF(G$2034=1,\"\",IF(S179=\"\",\"\",VLOOKUP(S179,Tabelle!$I$5:$M$7,5,FALSE)))","v":""},{"$f":"IF(G$2034=1,\"\",IF(S179=\"\",\"\",VLOOKUP(S179,Tabelle!$I$5:$N$7,6,FALSE)))","v":""},null,null,null,null,null,null,null,null,null,{"$f":"IF(D179=\"\",0,IF(D179=D178,COUNTIF(D$9:D178,D179)+1,1))","v":0},0,0]
["172","-1900","-1900-0",null,null,null,null,null,null,null,"",null,null,null,null,null,null,null,null,{"$f":"IF(G$2034=1,\"\",IF(S180=\"\",\"\",VLOOKUP(S180,Tabelle!$I$5:$M$7,5,FALSE)))","v":""},{"$f":"IF(G$2034=1,\"\",IF(S180=\"\",\"\",VLOOKUP(S180,Tabelle!$I$5:$N$7,6,FALSE)))","v":""},null,null,null,null,null,null,null,null,null,{"$f":"IF(D180=\"\",0,IF(D180=D179,COUNTIF(D$9:D179,D180)+1,1))","v":0},0,0]
["173","-1900","-1900-0",null,null,null,null,null,null,null,"",null,null,null,null,null,null,null,null,{"$f":"IF(G$2034=1,\"\",IF(S181=\"\",\"\",VLOOKUP(S181,Tabelle!$I$5:$M$7,5,FALSE)))","v":""},{"$f":"IF(G$2034=1,\"\",IF(S181=\"\",\"\",VLOOKUP(S181,Tabelle!$I$5:$N$7,6,FALSE)))","v":""},null,null,null,null,null,null,null,null,null,{"$f":"IF(D181=\"\",0,IF(D181=D180,COUNTIF(D$9:D180,D181)+1,1))","v":0},0,0]
["174","-1900","-1900-0",null,null,null,null,null,null,null,"",null,null,null,null,null,null,null,null,{"$f":"IF(G$2034=1,\"\",IF(S182=\"\",\"\",VLOOKUP(S182,Tabelle!$I$5:$M$7,5,FALSE)))","v":""},{"$f":"IF(G$2034=1,\"\",IF(S182=\"\",\"\",VLOOKUP(S182,Tabelle!$I$5:$N$7,6,FALSE)))","v":""},null,null,null,null,null,null,null,null,null,{"$f":"IF(D182=\"\",0,IF(D182=D181,COUNTIF(D$9:D181,D182)+1,1))","v":0},0,0]
["175","-1900","-1900-0",null,null,null,null,null,null,null,"",null,null,null,null,null,null,null,null,{"$f":"IF(G$2034=1,\"\",IF(S183=\"\",\"\",VLOOKUP(S183,Tabelle!$I$5:$M$7,5,FALSE)))","v":""},{"$f":"IF(G$2034=1,\"\",IF(S183=\"\",\"\",VLOOKUP(S183,Tabelle!$I$5:$N$7,6,FALSE)))","v":""},null,null,null,null,null,null,null,null,null,{"$f":"IF(D183=\"\",0,IF(D183=D182,COUNTIF(D$9:D182,D183)+1,1))","v":0},0,0]
["176","-1900","-1900-0",null,null,null,null,null,null,null,"",null,null,null,null,null,null,null,null,{"$f":"IF(G$2034=1,\"\",IF(S184=\"\",\"\",VLOOKUP(S184,Tabelle!$I$5:$M$7,5,FALSE)))","v":""},{"$f":"IF(G$2034=1,\"\",IF(S184=\"\",\"\",VLOOKUP(S184,Tabelle!$I$5:$N$7,6,FALSE)))","v":""},null,null,null,null,null,null,null,null,null,{"$f":"IF(D184=\"\",0,IF(D184=D183,COUNTIF(D$9:D183,D184)+1,1))","v":0},0,0]
["177","-1900","-1900-0",null,null,null,null,null,null,null,"",null,null,null,null,null,null,null,null,{"$f":"IF(G$2034=1,\"\",IF(S185=\"\",\"\",VLOOKUP(S185,Tabelle!$I$5:$M$7,5,FALSE)))","v":""},{"$f":"IF(G$2034=1,\"\",IF(S185=\"\",\"\",VLOOKUP(S185,Tabelle!$I$5:$N$7,6,FALSE)))","v":""},null,null,null,null,null,null,null,null,null,{"$f":"IF(D185=\"\",0,IF(D185=D184,COUNTIF(D$9:D184,D185)+1,1))","v":0},0,0]
["178","-1900","-1900-0",null,null,null,null,null,null,null,"",null,null,null,null,null,null,null,null,{"$f":"IF(G$2034=1,\"\",IF(S186=\"\",\"\",VLOOKUP(S186,Tabelle!$I$5:$M$7,5,FALSE)))","v":""},{"$f":"IF(G$2034=1,\"\",IF(S186=\"\",\"\",VLOOKUP(S186,Tabelle!$I$5:$N$7,6,FALSE)))","v":""},null,null,null,null,null,null,null,null,null,{"$f":"IF(D186=\"\",0,IF(D186=D185,COUNTIF(D$9:D185,D186)+1,1))","v":0},0,0]
["179","-1900","-1900-0",null,null,null,null,null,null,null,"",null,null,null,null,null,null,null,null,{"$f":"IF(G$2034=1,\"\",IF(S187=\"\",\"\",VLOOKUP(S187,Tabelle!$I$5:$M$7,5,FALSE)))","v":""},{"$f":"IF(G$2034=1,\"\",IF(S187=\"\",\"\",VLOOKUP(S187,Tabelle!$I$5:$N$7,6,FALSE)))","v":""},null,null,null,null,null,null,null,null,null,{"$f":"IF(D187=\"\",0,IF(D187=D186,COUNTIF(D$9:D186,D187)+1,1))","v":0},0,0]
["180","-1900","-1900-0",null,null,null,null,null,null,null,"",null,null,null,null,null,null,null,null,{"$f":"IF(G$2034=1,\"\",IF(S188=\"\",\"\",VLOOKUP(S188,Tabelle!$I$5:$M$7,5,FALSE)))","v":""},{"$f":"IF(G$2034=1,\"\",IF(S188=\"\",\"\",VLOOKUP(S188,Tabelle!$I$5:$N$7,6,FALSE)))","v":""},null,null,null,null,null,null,null,null,null,{"$f":"IF(D188=\"\",0,IF(D188=D187,COUNTIF(D$9:D187,D188)+1,1))","v":0},0,0]
["181","-1900","-1900-0",null,null,null,null,null,null,null,"",null,null,null,null,null,null,null,null,{"$f":"IF(G$2034=1,\"\",IF(S189=\"\",\"\",VLOOKUP(S189,Tabelle!$I$5:$M$7,5,FALSE)))","v":""},{"$f":"IF(G$2034=1,\"\",IF(S189=\"\",\"\",VLOOKUP(S189,Tabelle!$I$5:$N$7,6,FALSE)))","v":""},null,null,null,null,null,null,null,null,null,{"$f":"IF(D189=\"\",0,IF(D189=D188,COUNTIF(D$9:D188,D189)+1,1))","v":0},0,0]
["182","-1900","-1900-0",null,null,null,null,null,null,null,"",null,null,null,null,null,null,null,null,{"$f":"IF(G$2034=1,\"\",IF(S190=\"\",\"\",VLOOKUP(S190,Tabelle!$I$5:$M$7,5,FALSE)))","v":""},{"$f":"IF(G$2034=1,\"\",IF(S190=\"\",\"\",VLOOKUP(S190,Tabelle!$I$5:$N$7,6,FALSE)))","v":""},null,null,null,null,null,null,null,null,null,{"$f":"IF(D190=\"\",0,IF(D190=D189,COUNTIF(D$9:D189,D190)+1,1))","v":0},0,0]
["183","-1900","-1900-0",null,null,null,null,null,null,null,"",null,null,null,null,null,null,null,null,{"$f":"IF(G$2034=1,\"\",IF(S191=\"\",\"\",VLOOKUP(S191,Tabelle!$I$5:$M$7,5,FALSE)))","v":""},{"$f":"IF(G$2034=1,\"\",IF(S191=\"\",\"\",VLOOKUP(S191,Tabelle!$I$5:$N$7,6,FALSE)))","v":""},null,null,null,null,null,null,null,null,null,{"$f":"IF(D191=\"\",0,IF(D191=D190,COUNTIF(D$9:D190,D191)+1,1))","v":0},0,0]
["184","-1900","-1900-0",null,null,null,null,null,null,null,"",null,null,null,null,null,null,null,null,{"$f":"IF(G$2034=1,\"\",IF(S192=\"\",\"\",VLOOKUP(S192,Tabelle!$I$5:$M$7,5,FALSE)))","v":""},{"$f":"IF(G$2034=1,\"\",IF(S192=\"\",\"\",VLOOKUP(S192,Tabelle!$I$5:$N$7,6,FALSE)))","v":""},null,null,null,null,null,null,null,null,null,{"$f":"IF(D192=\"\",0,IF(D192=D191,COUNTIF(D$9:D191,D192)+1,1))","v":0},0,0]
["185","-1900","-1900-0",null,null,null,null,null,null,null,"",null,null,null,null,null,null,null,null,{"$f":"IF(G$2034=1,\"\",IF(S193=\"\",\"\",VLOOKUP(S193,Tabelle!$I$5:$M$7,5,FALSE)))","v":""},{"$f":"IF(G$2034=1,\"\",IF(S193=\"\",\"\",VLOOKUP(S193,Tabelle!$I$5:$N$7,6,FALSE)))","v":""},null,null,null,null,null,null,null,null,null,{"$f":"IF(D193=\"\",0,IF(D193=D192,COUNTIF(D$9:D192,D193)+1,1))","v":0},0,0]
["186","-1900","-1900-0",null,null,null,null,null,null,null,"",null,null,null,null,null,null,null,null,{"$f":"IF(G$2034=1,\"\",IF(S194=\"\",\"\",VLOOKUP(S194,Tabelle!$I$5:$M$7,5,FALSE)))","v":""},{"$f":"IF(G$2034=1,\"\",IF(S194=\"\",\"\",VLOOKUP(S194,Tabelle!$I$5:$N$7,6,FALSE)))","v":""},null,null,null,null,null,null,null,null,null,{"$f":"IF(D194=\"\",0,IF(D194=D193,COUNTIF(D$9:D193,D194)+1,1))","v":0},0,0]
["187","-1900","-1900-0",null,null,null,null,null,null,null,"",null,null,null,null,null,null,null,null,{"$f":"IF(G$2034=1,\"\",IF(S195=\"\",\"\",VLOOKUP(S195,Tabelle!$I$5:$M$7,5,FALSE)))","v":""},{"$f":"IF(G$2034=1,\"\",IF(S195=\"\",\"\",VLOOKUP(S195,Tabelle!$I$5:$N$7,6,FALSE)))","v":""},null,null,null,null,null,null,null,null,null,{"$f":"IF(D195=\"\",0,IF(D195=D194,COUNTIF(D$9:D194,D195)+1,1))","v":0},0,0]
["188","-1900","-1900-0",null,null,null,null,null,null,null,"",null,null,null,null,null,null,null,null,{"$f":"IF(G$2034=1,\"\",IF(S196=\"\",\"\",VLOOKUP(S196,Tabelle!$I$5:$M$7,5,FALSE)))","v":""},{"$f":"IF(G$2034=1,\"\",IF(S196=\"\",\"\",VLOOKUP(S196,Tabelle!$I$5:$N$7,6,FALSE)))","v":""},null,null,null,null,null,null,null,null,null,{"$f":"IF(D196=\"\",0,IF(D196=D195,COUNTIF(D$9:D195,D196)+1,1))","v":0},0,0]
["189","-1900","-1900-0",null,null,null,null,null,null,null,"",null,null,null,null,null,null,null,null,{"$f":"IF(G$2034=1,\"\",IF(S197=\"\",\"\",VLOOKUP(S197,Tabelle!$I$5:$M$7,5,FALSE)))","v":""},{"$f":"IF(G$2034=1,\"\",IF(S197=\"\",\"\",VLOOKUP(S197,Tabelle!$I$5:$N$7,6,FALSE)))","v":""},null,null,null,null,null,null,null,null,null,{"$f":"IF(D197=\"\",0,IF(D197=D196,COUNTIF(D$9:D196,D197)+1,1))","v":0},0,0]
["190","-1900","-1900-0",null,null,null,null,null,null,null,"",null,null,null,null,null,null,null,null,{"$f":"IF(G$2034=1,\"\",IF(S198=\"\",\"\",VLOOKUP(S198,Tabelle!$I$5:$M$7,5,FALSE)))","v":""},{"$f":"IF(G$2034=1,\"\",IF(S198=\"\",\"\",VLOOKUP(S198,Tabelle!$I$5:$N$7,6,FALSE)))","v":""},null,null,null,null,null,null,null,null,null,{"$f":"IF(D198=\"\",0,IF(D198=D197,COUNTIF(D$9:D197,D198)+1,1))","v":0},0,0]
["191","-1900","-1900-0",null,null,null,null,null,null,null,"",null,null,null,null,null,null,null,null,{"$f":"IF(G$2034=1,\"\",IF(S199=\"\",\"\",VLOOKUP(S199,Tabelle!$I$5:$M$7,5,FALSE)))","v":""},{"$f":"IF(G$2034=1,\"\",IF(S199=\"\",\"\",VLOOKUP(S199,Tabelle!$I$5:$N$7,6,FALSE)))","v":""},null,null,null,null,null,null,null,null,null,{"$f":"IF(D199=\"\",0,IF(D199=D198,COUNTIF(D$9:D198,D199)+1,1))","v":0},0,0]
["192","-1900","-1900-0",null,null,null,null,null,null,null,"",null,null,null,null,null,null,null,null,{"$f":"IF(G$2034=1,\"\",IF(S200=\"\",\"\",VLOOKUP(S200,Tabelle!$I$5:$M$7,5,FALSE)))","v":""},{"$f":"IF(G$2034=1,\"\",IF(S200=\"\",\"\",VLOOKUP(S200,Tabelle!$I$5:$N$7,6,FALSE)))","v":""},null,null,null,null,null,null,null,null,null,{"$f":"IF(D200=\"\",0,IF(D200=D199,COUNTIF(D$9:D199,D200)+1,1))","v":0},0,0]
["193","-1900",{"$f":"IF(G$2034=1,0,B201&\"-\"&AE201)","v":"-1900-0"},null,null,null,null,null,null,null,{"$f":"IF(G$2034=1,0,IF(OR(J201=\"\",ISERROR($O$2034)),\"\",VLOOKUP(J201,$L$2019:$N$2027,2,FALSE)))","v":""},null,null,null,null,null,null,null,null,{"$f":"IF(G$2034=1,\"\",IF(S201=\"\",\"\",VLOOKUP(S201,Tabelle!$I$5:$M$7,5,FALSE)))","v":""},{"$f":"IF(G$2034=1,\"\",IF(S201=\"\",\"\",VLOOKUP(S201,Tabelle!$I$5:$N$7,6,FALSE)))","v":""},null,null,null,null,null,null,null,null,null,{"$f":"IF(D201=\"\",0,IF(D201=D200,COUNTIF(D$9:D200,D201)+1,1))","v":0},0,0]
["194",{"$f":"IF(AG202=$AG$2013,0,IF(G$2034=1,0,D202&\"-\"&YEAR(E202)))","v":"-1900"},"-1900-0",null,null,null,null,null,null,null,"",null,null,null,null,null,null,null,null,{"$f":"IF(G$2034=1,\"\",IF(S202=\"\",\"\",VLOOKUP(S202,Tabelle!$I$5:$M$7,5,FALSE)))","v":""},{"$f":"IF(G$2034=1,\"\",IF(S202=\"\",\"\",VLOOKUP(S202,Tabelle!$I$5:$N$7,6,FALSE)))","v":""},null,null,null,null,null,null,null,null,null,{"$f":"IF(D202=\"\",0,IF(D202=D201,COUNTIF(D$9:D201,D202)+1,1))","v":0},{"$f":"IF(G$2034=1,0,IF(AE202=28,1,0))","v":0},{"$f":"IF(E202>0,IF(OR(MONTH(E202)<$G$2026,MONTH(E202)>$G$2027),AG$2013,0),0)","v":0}]
["195","-1900","-1900-0",null,null,null,null,null,null,null,"",null,null,null,null,null,null,null,null,{"$f":"IF(G$2034=1,\"\",IF(S203=\"\",\"\",VLOOKUP(S203,Tabelle!$I$5:$M$7,5,FALSE)))","v":""},{"$f":"IF(G$2034=1,\"\",IF(S203=\"\",\"\",VLOOKUP(S203,Tabelle!$I$5:$N$7,6,FALSE)))","v":""},null,null,null,null,null,null,null,null,null,{"$f":"IF(D203=\"\",0,IF(D203=D202,COUNTIF(D$9:D202,D203)+1,1))","v":0},0,0]
["196","-1900","-1900-0",null,null,null,null,null,null,null,"",null,null,null,null,null,null,null,null,{"$f":"IF(G$2034=1,\"\",IF(S204=\"\",\"\",VLOOKUP(S204,Tabelle!$I$5:$M$7,5,FALSE)))","v":""},{"$f":"IF(G$2034=1,\"\",IF(S204=\"\",\"\",VLOOKUP(S204,Tabelle!$I$5:$N$7,6,FALSE)))","v":""},null,null,null,null,null,null,null,null,null,{"$f":"IF(D204=\"\",0,IF(D204=D203,COUNTIF(D$9:D203,D204)+1,1))","v":0},0,0]
["197","-1900","-1900-0",null,null,null,null,null,null,null,"",null,null,null,null,null,null,null,null,{"$f":"IF(G$2034=1,\"\",IF(S205=\"\",\"\",VLOOKUP(S205,Tabelle!$I$5:$M$7,5,FALSE)))","v":""},{"$f":"IF(G$2034=1,\"\",IF(S205=\"\",\"\",VLOOKUP(S205,Tabelle!$I$5:$N$7,6,FALSE)))","v":""},null,null,null,null,null,null,null,null,null,{"$f":"IF(D205=\"\",0,IF(D205=D204,COUNTIF(D$9:D204,D205)+1,1))","v":0},0,0]
["198","-1900","-1900-0",null,null,null,null,null,null,null,"",null,null,null,null,null,null,null,null,{"$f":"IF(G$2034=1,\"\",IF(S206=\"\",\"\",VLOOKUP(S206,Tabelle!$I$5:$M$7,5,FALSE)))","v":""},{"$f":"IF(G$2034=1,\"\",IF(S206=\"\",\"\",VLOOKUP(S206,Tabelle!$I$5:$N$7,6,FALSE)))","v":""},null,null,null,null,null,null,null,null,null,{"$f":"IF(D206=\"\",0,IF(D206=D205,COUNTIF(D$9:D205,D206)+1,1))","v":0},0,0]
["199","-1900","-1900-0",null,null,null,null,null,null,null,"",null,null,null,null,null,null,null,null,{"$f":"IF(G$2034=1,\"\",IF(S207=\"\",\"\",VLOOKUP(S207,Tabelle!$I$5:$M$7,5,FALSE)))","v":""},{"$f":"IF(G$2034=1,\"\",IF(S207=\"\",\"\",VLOOKUP(S207,Tabelle!$I$5:$N$7,6,FALSE)))","v":""},null,null,null,null,null,null,null,null,null,{"$f":"IF(D207=\"\",0,IF(D207=D206,COUNTIF(D$9:D206,D207)+1,1))","v":0},0,0]
["200","-1900","-1900-0",null,null,null,null,null,null,null,"",null,null,null,null,null,null,null,null,{"$f":"IF(G$2034=1,\"\",IF(S208=\"\",\"\",VLOOKUP(S208,Tabelle!$I$5:$M$7,5,FALSE)))","v":""},{"$f":"IF(G$2034=1,\"\",IF(S208=\"\",\"\",VLOOKUP(S208,Tabelle!$I$5:$N$7,6,FALSE)))","v":""},null,null,null,null,null,null,null,null,null,{"$f":"IF(D208=\"\",0,IF(D208=D207,COUNTIF(D$9:D207,D208)+1,1))","v":0},0,0]
["201","-1900","-1900-0",null,null,null,null,null,null,null,"",null,null,null,null,null,null,null,null,{"$f":"IF(G$2034=1,\"\",IF(S209=\"\",\"\",VLOOKUP(S209,Tabelle!$I$5:$M$7,5,FALSE)))","v":""},{"$f":"IF(G$2034=1,\"\",IF(S209=\"\",\"\",VLOOKUP(S209,Tabelle!$I$5:$N$7,6,FALSE)))","v":""},null,null,null,null,null,null,null,null,null,{"$f":"IF(D209=\"\",0,IF(D209=D208,COUNTIF(D$9:D208,D209)+1,1))","v":0},0,0]
["202","-1900","-1900-0",null,null,null,null,null,null,null,"",null,null,null,null,null,null,null,null,{"$f":"IF(G$2034=1,\"\",IF(S210=\"\",\"\",VLOOKUP(S210,Tabelle!$I$5:$M$7,5,FALSE)))","v":""},{"$f":"IF(G$2034=1,\"\",IF(S210=\"\",\"\",VLOOKUP(S210,Tabelle!$I$5:$N$7,6,FALSE)))","v":""},null,null,null,null,null,null,null,null,null,{"$f":"IF(D210=\"\",0,IF(D210=D209,COUNTIF(D$9:D209,D210)+1,1))","v":0},0,0]
["203","-1900","-1900-0",null,null,null,null,null,null,null,"",null,null,null,null,null,null,null,null,{"$f":"IF(G$2034=1,\"\",IF(S211=\"\",\"\",VLOOKUP(S211,Tabelle!$I$5:$M$7,5,FALSE)))","v":""},{"$f":"IF(G$2034=1,\"\",IF(S211=\"\",\"\",VLOOKUP(S211,Tabelle!$I$5:$N$7,6,FALSE)))","v":""},null,null,null,null,null,null,null,null,null,{"$f":"IF(D211=\"\",0,IF(D211=D210,COUNTIF(D$9:D210,D211)+1,1))","v":0},0,0]
["204","-1900","-1900-0",null,null,null,null,null,null,null,"",null,null,null,null,null,null,null,null,{"$f":"IF(G$2034=1,\"\",IF(S212=\"\",\"\",VLOOKUP(S212,Tabelle!$I$5:$M$7,5,FALSE)))","v":""},{"$f":"IF(G$2034=1,\"\",IF(S212=\"\",\"\",VLOOKUP(S212,Tabelle!$I$5:$N$7,6,FALSE)))","v":""},null,null,null,null,null,null,null,null,null,{"$f":"IF(D212=\"\",0,IF(D212=D211,COUNTIF(D$9:D211,D212)+1,1))","v":0},0,0]
["205","-1900","-1900-0",null,null,null,null,null,null,null,"",null,null,null,null,null,null,null,null,{"$f":"IF(G$2034=1,\"\",IF(S213=\"\",\"\",VLOOKUP(S213,Tabelle!$I$5:$M$7,5,FALSE)))","v":""},{"$f":"IF(G$2034=1,\"\",IF(S213=\"\",\"\",VLOOKUP(S213,Tabelle!$I$5:$N$7,6,FALSE)))","v":""},null,null,null,null,null,null,null,null,null,{"$f":"IF(D213=\"\",0,IF(D213=D212,COUNTIF(D$9:D212,D213)+1,1))","v":0},0,0]
["206","-1900","-1900-0",null,null,null,null,null,null,null,"",null,null,null,null,null,null,null,null,{"$f":"IF(G$2034=1,\"\",IF(S214=\"\",\"\",VLOOKUP(S214,Tabelle!$I$5:$M$7,5,FALSE)))","v":""},{"$f":"IF(G$2034=1,\"\",IF(S214=\"\",\"\",VLOOKUP(S214,Tabelle!$I$5:$N$7,6,FALSE)))","v":""},null,null,null,null,null,null,null,null,null,{"$f":"IF(D214=\"\",0,IF(D214=D213,COUNTIF(D$9:D213,D214)+1,1))","v":0},0,0]
["207","-1900","-1900-0",null,null,null,null,null,null,null,"",null,null,null,null,null,null,null,null,{"$f":"IF(G$2034=1,\"\",IF(S215=\"\",\"\",VLOOKUP(S215,Tabelle!$I$5:$M$7,5,FALSE)))","v":""},{"$f":"IF(G$2034=1,\"\",IF(S215=\"\",\"\",VLOOKUP(S215,Tabelle!$I$5:$N$7,6,FALSE)))","v":""},null,null,null,null,null,null,null,null,null,{"$f":"IF(D215=\"\",0,IF(D215=D214,COUNTIF(D$9:D214,D215)+1,1))","v":0},0,0]
["208","-1900","-1900-0",null,null,null,null,null,null,null,"",null,null,null,null,null,null,null,null,{"$f":"IF(G$2034=1,\"\",IF(S216=\"\",\"\",VLOOKUP(S216,Tabelle!$I$5:$M$7,5,FALSE)))","v":""},{"$f":"IF(G$2034=1,\"\",IF(S216=\"\",\"\",VLOOKUP(S216,Tabelle!$I$5:$N$7,6,FALSE)))","v":""},null,null,null,null,null,null,null,null,null,{"$f":"IF(D216=\"\",0,IF(D216=D215,COUNTIF(D$9:D215,D216)+1,1))","v":0},0,0]
["209","-1900","-1900-0",null,null,null,null,null,null,null,"",null,null,null,null,null,null,null,null,{"$f":"IF(G$2034=1,\"\",IF(S217=\"\",\"\",VLOOKUP(S217,Tabelle!$I$5:$M$7,5,FALSE)))","v":""},{"$f":"IF(G$2034=1,\"\",IF(S217=\"\",\"\",VLOOKUP(S217,Tabelle!$I$5:$N$7,6,FALSE)))","v":""},null,null,null,null,null,null,null,null,null,{"$f":"IF(D217=\"\",0,IF(D217=D216,COUNTIF(D$9:D216,D217)+1,1))","v":0},0,0]
["210","-1900","-1900-0",null,null,null,null,null,null,null,"",null,null,null,null,null,null,null,null,{"$f":"IF(G$2034=1,\"\",IF(S218=\"\",\"\",VLOOKUP(S218,Tabelle!$I$5:$M$7,5,FALSE)))","v":""},{"$f":"IF(G$2034=1,\"\",IF(S218=\"\",\"\",VLOOKUP(S218,Tabelle!$I$5:$N$7,6,FALSE)))","v":""},null,null,null,null,null,null,null,null,null,{"$f":"IF(D218=\"\",0,IF(D218=D217,COUNTIF(D$9:D217,D218)+1,1))","v":0},0,0]
["211","-1900","-1900-0",null,null,null,null,null,null,null,"",null,null,null,null,null,null,null,null,{"$f":"IF(G$2034=1,\"\",IF(S219=\"\",\"\",VLOOKUP(S219,Tabelle!$I$5:$M$7,5,FALSE)))","v":""},{"$f":"IF(G$2034=1,\"\",IF(S219=\"\",\"\",VLOOKUP(S219,Tabelle!$I$5:$N$7,6,FALSE)))","v":""},null,null,null,null,null,null,null,null,null,{"$f":"IF(D219=\"\",0,IF(D219=D218,COUNTIF(D$9:D218,D219)+1,1))","v":0},0,0]
["212","-1900","-1900-0",null,null,null,null,null,null,null,"",null,null,null,null,null,null,null,null,{"$f":"IF(G$2034=1,\"\",IF(S220=\"\",\"\",VLOOKUP(S220,Tabelle!$I$5:$M$7,5,FALSE)))","v":""},{"$f":"IF(G$2034=1,\"\",IF(S220=\"\",\"\",VLOOKUP(S220,Tabelle!$I$5:$N$7,6,FALSE)))","v":""},null,null,null,null,null,null,null,null,null,{"$f":"IF(D220=\"\",0,IF(D220=D219,COUNTIF(D$9:D219,D220)+1,1))","v":0},0,0]
["213","-1900","-1900-0",null,null,null,null,null,null,null,"",null,null,null,null,null,null,null,null,{"$f":"IF(G$2034=1,\"\",IF(S221=\"\",\"\",VLOOKUP(S221,Tabelle!$I$5:$M$7,5,FALSE)))","v":""},{"$f":"IF(G$2034=1,\"\",IF(S221=\"\",\"\",VLOOKUP(S221,Tabelle!$I$5:$N$7,6,FALSE)))","v":""},null,null,null,null,null,null,null,null,null,{"$f":"IF(D221=\"\",0,IF(D221=D220,COUNTIF(D$9:D220,D221)+1,1))","v":0},0,0]
["214","-1900","-1900-0",null,null,null,null,null,null,null,"",null,null,null,null,null,null,null,null,{"$f":"IF(G$2034=1,\"\",IF(S222=\"\",\"\",VLOOKUP(S222,Tabelle!$I$5:$M$7,5,FALSE)))","v":""},{"$f":"IF(G$2034=1,\"\",IF(S222=\"\",\"\",VLOOKUP(S222,Tabelle!$I$5:$N$7,6,FALSE)))","v":""},null,null,null,null,null,null,null,null,null,{"$f":"IF(D222=\"\",0,IF(D222=D221,COUNTIF(D$9:D221,D222)+1,1))","v":0},0,0]
["215","-1900","-1900-0",null,null,null,null,null,null,null,"",null,null,null,null,null,null,null,null,{"$f":"IF(G$2034=1,\"\",IF(S223=\"\",\"\",VLOOKUP(S223,Tabelle!$I$5:$M$7,5,FALSE)))","v":""},{"$f":"IF(G$2034=1,\"\",IF(S223=\"\",\"\",VLOOKUP(S223,Tabelle!$I$5:$N$7,6,FALSE)))","v":""},null,null,null,null,null,null,null,null,null,{"$f":"IF(D223=\"\",0,IF(D223=D222,COUNTIF(D$9:D222,D223)+1,1))","v":0},0,0]
["216","-1900","-1900-0",null,null,null,null,null,null,null,"",null,null,null,null,null,null,null,null,{"$f":"IF(G$2034=1,\"\",IF(S224=\"\",\"\",VLOOKUP(S224,Tabelle!$I$5:$M$7,5,FALSE)))","v":""},{"$f":"IF(G$2034=1,\"\",IF(S224=\"\",\"\",VLOOKUP(S224,Tabelle!$I$5:$N$7,6,FALSE)))","v":""},null,null,null,null,null,null,null,null,null,{"$f":"IF(D224=\"\",0,IF(D224=D223,COUNTIF(D$9:D223,D224)+1,1))","v":0},0,0]
["217","-1900","-1900-0",null,null,null,null,null,null,null,"",null,null,null,null,null,null,null,null,{"$f":"IF(G$2034=1,\"\",IF(S225=\"\",\"\",VLOOKUP(S225,Tabelle!$I$5:$M$7,5,FALSE)))","v":""},{"$f":"IF(G$2034=1,\"\",IF(S225=\"\",\"\",VLOOKUP(S225,Tabelle!$I$5:$N$7,6,FALSE)))","v":""},null,null,null,null,null,null,null,null,null,{"$f":"IF(D225=\"\",0,IF(D225=D224,COUNTIF(D$9:D224,D225)+1,1))","v":0},0,0]
["218","-1900","-1900-0",null,null,null,null,null,null,null,"",null,null,null,null,null,null,null,null,{"$f":"IF(G$2034=1,\"\",IF(S226=\"\",\"\",VLOOKUP(S226,Tabelle!$I$5:$M$7,5,FALSE)))","v":""},{"$f":"IF(G$2034=1,\"\",IF(S226=\"\",\"\",VLOOKUP(S226,Tabelle!$I$5:$N$7,6,FALSE)))","v":""},null,null,null,null,null,null,null,null,null,{"$f":"IF(D226=\"\",0,IF(D226=D225,COUNTIF(D$9:D225,D226)+1,1))","v":0},0,0]
["219","-1900","-1900-0",null,null,null,null,null,null,null,"",null,null,null,null,null,null,null,null,{"$f":"IF(G$2034=1,\"\",IF(S227=\"\",\"\",VLOOKUP(S227,Tabelle!$I$5:$M$7,5,FALSE)))","v":""},{"$f":"IF(G$2034=1,\"\",IF(S227=\"\",\"\",VLOOKUP(S227,Tabelle!$I$5:$N$7,6,FALSE)))","v":""},null,null,null,null,null,null,null,null,null,{"$f":"IF(D227=\"\",0,IF(D227=D226,COUNTIF(D$9:D226,D227)+1,1))","v":0},0,0]
["220","-1900","-1900-0",null,null,null,null,null,null,null,"",null,null,null,null,null,null,null,null,{"$f":"IF(G$2034=1,\"\",IF(S228=\"\",\"\",VLOOKUP(S228,Tabelle!$I$5:$M$7,5,FALSE)))","v":""},{"$f":"IF(G$2034=1,\"\",IF(S228=\"\",\"\",VLOOKUP(S228,Tabelle!$I$5:$N$7,6,FALSE)))","v":""},null,null,null,null,null,null,null,null,null,{"$f":"IF(D228=\"\",0,IF(D228=D227,COUNTIF(D$9:D227,D228)+1,1))","v":0},0,0]
["221","-1900","-1900-0",null,null,null,null,null,null,null,"",null,null,null,null,null,null,null,null,{"$f":"IF(G$2034=1,\"\",IF(S229=\"\",\"\",VLOOKUP(S229,Tabelle!$I$5:$M$7,5,FALSE)))","v":""},{"$f":"IF(G$2034=1,\"\",IF(S229=\"\",\"\",VLOOKUP(S229,Tabelle!$I$5:$N$7,6,FALSE)))","v":""},null,null,null,null,null,null,null,null,null,{"$f":"IF(D229=\"\",0,IF(D229=D228,COUNTIF(D$9:D228,D229)+1,1))","v":0},0,0]
["222","-1900","-1900-0",null,null,null,null,null,null,null,"",null,null,null,null,null,null,null,null,{"$f":"IF(G$2034=1,\"\",IF(S230=\"\",\"\",VLOOKUP(S230,Tabelle!$I$5:$M$7,5,FALSE)))","v":""},{"$f":"IF(G$2034=1,\"\",IF(S230=\"\",\"\",VLOOKUP(S230,Tabelle!$I$5:$N$7,6,FALSE)))","v":""},null,null,null,null,null,null,null,null,null,{"$f":"IF(D230=\"\",0,IF(D230=D229,COUNTIF(D$9:D229,D230)+1,1))","v":0},0,0]
["223","-1900","-1900-0",null,null,null,null,null,null,null,"",null,null,null,null,null,null,null,null,{"$f":"IF(G$2034=1,\"\",IF(S231=\"\",\"\",VLOOKUP(S231,Tabelle!$I$5:$M$7,5,FALSE)))","v":""},{"$f":"IF(G$2034=1,\"\",IF(S231=\"\",\"\",VLOOKUP(S231,Tabelle!$I$5:$N$7,6,FALSE)))","v":""},null,null,null,null,null,null,null,null,null,{"$f":"IF(D231=\"\",0,IF(D231=D230,COUNTIF(D$9:D230,D231)+1,1))","v":0},0,0]
["224","-1900","-1900-0",null,null,null,null,null,null,null,"",null,null,null,null,null,null,null,null,{"$f":"IF(G$2034=1,\"\",IF(S232=\"\",\"\",VLOOKUP(S232,Tabelle!$I$5:$M$7,5,FALSE)))","v":""},{"$f":"IF(G$2034=1,\"\",IF(S232=\"\",\"\",VLOOKUP(S232,Tabelle!$I$5:$N$7,6,FALSE)))","v":""},null,null,null,null,null,null,null,null,null,{"$f":"IF(D232=\"\",0,IF(D232=D231,COUNTIF(D$9:D231,D232)+1,1))","v":0},0,0]
["225","-1900","-1900-0",null,null,null,null,null,null,null,"",null,null,null,null,null,null,null,null,{"$f":"IF(G$2034=1,\"\",IF(S233=\"\",\"\",VLOOKUP(S233,Tabelle!$I$5:$M$7,5,FALSE)))","v":""},{"$f":"IF(G$2034=1,\"\",IF(S233=\"\",\"\",VLOOKUP(S233,Tabelle!$I$5:$N$7,6,FALSE)))","v":""},null,null,null,null,null,null,null,null,null,{"$f":"IF(D233=\"\",0,IF(D233=D232,COUNTIF(D$9:D232,D233)+1,1))","v":0},0,0]
["226","-1900","-1900-0",null,null,null,null,null,null,null,"",null,null,null,null,null,null,null,null,{"$f":"IF(G$2034=1,\"\",IF(S234=\"\",\"\",VLOOKUP(S234,Tabelle!$I$5:$M$7,5,FALSE)))","v":""},{"$f":"IF(G$2034=1,\"\",IF(S234=\"\",\"\",VLOOKUP(S234,Tabelle!$I$5:$N$7,6,FALSE)))","v":""},null,null,null,null,null,null,null,null,null,{"$f":"IF(D234=\"\",0,IF(D234=D233,COUNTIF(D$9:D233,D234)+1,1))","v":0},0,0]
["227","-1900","-1900-0",null,null,null,null,null,null,null,"",null,null,null,null,null,null,null,null,{"$f":"IF(G$2034=1,\"\",IF(S235=\"\",\"\",VLOOKUP(S235,Tabelle!$I$5:$M$7,5,FALSE)))","v":""},{"$f":"IF(G$2034=1,\"\",IF(S235=\"\",\"\",VLOOKUP(S235,Tabelle!$I$5:$N$7,6,FALSE)))","v":""},null,null,null,null,null,null,null,null,null,{"$f":"IF(D235=\"\",0,IF(D235=D234,COUNTIF(D$9:D234,D235)+1,1))","v":0},0,0]
["228","-1900","-1900-0",null,null,null,null,null,null,null,"",null,null,null,null,null,null,null,null,{"$f":"IF(G$2034=1,\"\",IF(S236=\"\",\"\",VLOOKUP(S236,Tabelle!$I$5:$M$7,5,FALSE)))","v":""},{"$f":"IF(G$2034=1,\"\",IF(S236=\"\",\"\",VLOOKUP(S236,Tabelle!$I$5:$N$7,6,FALSE)))","v":""},null,null,null,null,null,null,null,null,null,{"$f":"IF(D236=\"\",0,IF(D236=D235,COUNTIF(D$9:D235,D236)+1,1))","v":0},0,0]
["229","-1900","-1900-0",null,null,null,null,null,null,null,"",null,null,null,null,null,null,null,null,{"$f":"IF(G$2034=1,\"\",IF(S237=\"\",\"\",VLOOKUP(S237,Tabelle!$I$5:$M$7,5,FALSE)))","v":""},{"$f":"IF(G$2034=1,\"\",IF(S237=\"\",\"\",VLOOKUP(S237,Tabelle!$I$5:$N$7,6,FALSE)))","v":""},null,null,null,null,null,null,null,null,null,{"$f":"IF(D237=\"\",0,IF(D237=D236,COUNTIF(D$9:D236,D237)+1,1))","v":0},0,0]
["230","-1900","-1900-0",null,null,null,null,null,null,null,"",null,null,null,null,null,null,null,null,{"$f":"IF(G$2034=1,\"\",IF(S238=\"\",\"\",VLOOKUP(S238,Tabelle!$I$5:$M$7,5,FALSE)))","v":""},{"$f":"IF(G$2034=1,\"\",IF(S238=\"\",\"\",VLOOKUP(S238,Tabelle!$I$5:$N$7,6,FALSE)))","v":""},null,null,null,null,null,null,null,null,null,{"$f":"IF(D238=\"\",0,IF(D238=D237,COUNTIF(D$9:D237,D238)+1,1))","v":0},0,0]
["231","-1900","-1900-0",null,null,null,null,null,null,null,"",null,null,null,null,null,null,null,null,{"$f":"IF(G$2034=1,\"\",IF(S239=\"\",\"\",VLOOKUP(S239,Tabelle!$I$5:$M$7,5,FALSE)))","v":""},{"$f":"IF(G$2034=1,\"\",IF(S239=\"\",\"\",VLOOKUP(S239,Tabelle!$I$5:$N$7,6,FALSE)))","v":""},null,null,null,null,null,null,null,null,null,{"$f":"IF(D239=\"\",0,IF(D239=D238,COUNTIF(D$9:D238,D239)+1,1))","v":0},0,0]
["232","-1900","-1900-0",null,null,null,null,null,null,null,"",null,null,null,null,null,null,null,null,{"$f":"IF(G$2034=1,\"\",IF(S240=\"\",\"\",VLOOKUP(S240,Tabelle!$I$5:$M$7,5,FALSE)))","v":""},{"$f":"IF(G$2034=1,\"\",IF(S240=\"\",\"\",VLOOKUP(S240,Tabelle!$I$5:$N$7,6,FALSE)))","v":""},null,null,null,null,null,null,null,null,null,{"$f":"IF(D240=\"\",0,IF(D240=D239,COUNTIF(D$9:D239,D240)+1,1))","v":0},0,0]
["233","-1900","-1900-0",null,null,null,null,null,null,null,"",null,null,null,null,null,null,null,null,{"$f":"IF(G$2034=1,\"\",IF(S241=\"\",\"\",VLOOKUP(S241,Tabelle!$I$5:$M$7,5,FALSE)))","v":""},{"$f":"IF(G$2034=1,\"\",IF(S241=\"\",\"\",VLOOKUP(S241,Tabelle!$I$5:$N$7,6,FALSE)))","v":""},null,null,null,null,null,null,null,null,null,{"$f":"IF(D241=\"\",0,IF(D241=D240,COUNTIF(D$9:D240,D241)+1,1))","v":0},0,0]
["234","-1900","-1900-0",null,null,null,null,null,null,null,"",null,null,null,null,null,null,null,null,{"$f":"IF(G$2034=1,\"\",IF(S242=\"\",\"\",VLOOKUP(S242,Tabelle!$I$5:$M$7,5,FALSE)))","v":""},{"$f":"IF(G$2034=1,\"\",IF(S242=\"\",\"\",VLOOKUP(S242,Tabelle!$I$5:$N$7,6,FALSE)))","v":""},null,null,null,null,null,null,null,null,null,{"$f":"IF(D242=\"\",0,IF(D242=D241,COUNTIF(D$9:D241,D242)+1,1))","v":0},0,0]
["235","-1900","-1900-0",null,null,null,null,null,null,null,"",null,null,null,null,null,null,null,null,{"$f":"IF(G$2034=1,\"\",IF(S243=\"\",\"\",VLOOKUP(S243,Tabelle!$I$5:$M$7,5,FALSE)))","v":""},{"$f":"IF(G$2034=1,\"\",IF(S243=\"\",\"\",VLOOKUP(S243,Tabelle!$I$5:$N$7,6,FALSE)))","v":""},null,null,null,null,null,null,null,null,null,{"$f":"IF(D243=\"\",0,IF(D243=D242,COUNTIF(D$9:D242,D243)+1,1))","v":0},0,0]
["236","-1900","-1900-0",null,null,null,null,null,null,null,"",null,null,null,null,null,null,null,null,{"$f":"IF(G$2034=1,\"\",IF(S244=\"\",\"\",VLOOKUP(S244,Tabelle!$I$5:$M$7,5,FALSE)))","v":""},{"$f":"IF(G$2034=1,\"\",IF(S244=\"\",\"\",VLOOKUP(S244,Tabelle!$I$5:$N$7,6,FALSE)))","v":""},null,null,null,null,null,null,null,null,null,{"$f":"IF(D244=\"\",0,IF(D244=D243,COUNTIF(D$9:D243,D244)+1,1))","v":0},0,0]
["237","-1900","-1900-0",null,null,null,null,null,null,null,"",null,null,null,null,null,null,null,null,{"$f":"IF(G$2034=1,\"\",IF(S245=\"\",\"\",VLOOKUP(S245,Tabelle!$I$5:$M$7,5,FALSE)))","v":""},{"$f":"IF(G$2034=1,\"\",IF(S245=\"\",\"\",VLOOKUP(S245,Tabelle!$I$5:$N$7,6,FALSE)))","v":""},null,null,null,null,null,null,null,null,null,{"$f":"IF(D245=\"\",0,IF(D245=D244,COUNTIF(D$9:D244,D245)+1,1))","v":0},0,0]
["238","-1900","-1900-0",null,null,null,null,null,null,null,"",null,null,null,null,null,null,null,null,{"$f":"IF(G$2034=1,\"\",IF(S246=\"\",\"\",VLOOKUP(S246,Tabelle!$I$5:$M$7,5,FALSE)))","v":""},{"$f":"IF(G$2034=1,\"\",IF(S246=\"\",\"\",VLOOKUP(S246,Tabelle!$I$5:$N$7,6,FALSE)))","v":""},null,null,null,null,null,null,null,null,null,{"$f":"IF(D246=\"\",0,IF(D246=D245,COUNTIF(D$9:D245,D246)+1,1))","v":0},0,0]
["239","-1900","-1900-0",null,null,null,null,null,null,null,"",null,null,null,null,null,null,null,null,{"$f":"IF(G$2034=1,\"\",IF(S247=\"\",\"\",VLOOKUP(S247,Tabelle!$I$5:$M$7,5,FALSE)))","v":""},{"$f":"IF(G$2034=1,\"\",IF(S247=\"\",\"\",VLOOKUP(S247,Tabelle!$I$5:$N$7,6,FALSE)))","v":""},null,null,null,null,null,null,null,null,null,{"$f":"IF(D247=\"\",0,IF(D247=D246,COUNTIF(D$9:D246,D247)+1,1))","v":0},0,0]
["240","-1900","-1900-0",null,null,null,null,null,null,null,"",null,null,null,null,null,null,null,null,{"$f":"IF(G$2034=1,\"\",IF(S248=\"\",\"\",VLOOKUP(S248,Tabelle!$I$5:$M$7,5,FALSE)))","v":""},{"$f":"IF(G$2034=1,\"\",IF(S248=\"\",\"\",VLOOKUP(S248,Tabelle!$I$5:$N$7,6,FALSE)))","v":""},null,null,null,null,null,null,null,null,null,{"$f":"IF(D248=\"\",0,IF(D248=D247,COUNTIF(D$9:D247,D248)+1,1))","v":0},0,0]
["241","-1900","-1900-0",null,null,null,null,null,null,null,"",null,null,null,null,null,null,null,null,{"$f":"IF(G$2034=1,\"\",IF(S249=\"\",\"\",VLOOKUP(S249,Tabelle!$I$5:$M$7,5,FALSE)))","v":""},{"$f":"IF(G$2034=1,\"\",IF(S249=\"\",\"\",VLOOKUP(S249,Tabelle!$I$5:$N$7,6,FALSE)))","v":""},null,null,null,null,null,null,null,null,null,{"$f":"IF(D249=\"\",0,IF(D249=D248,COUNTIF(D$9:D248,D249)+1,1))","v":0},0,0]
["242","-1900","-1900-0",null,null,null,null,null,null,null,"",null,null,null,null,null,null,null,null,{"$f":"IF(G$2034=1,\"\",IF(S250=\"\",\"\",VLOOKUP(S250,Tabelle!$I$5:$M$7,5,FALSE)))","v":""},{"$f":"IF(G$2034=1,\"\",IF(S250=\"\",\"\",VLOOKUP(S250,Tabelle!$I$5:$N$7,6,FALSE)))","v":""},null,null,null,null,null,null,null,null,null,{"$f":"IF(D250=\"\",0,IF(D250=D249,COUNTIF(D$9:D249,D250)+1,1))","v":0},0,0]
["243","-1900","-1900-0",null,null,null,null,null,null,null,"",null,null,null,null,null,null,null,null,{"$f":"IF(G$2034=1,\"\",IF(S251=\"\",\"\",VLOOKUP(S251,Tabelle!$I$5:$M$7,5,FALSE)))","v":""},{"$f":"IF(G$2034=1,\"\",IF(S251=\"\",\"\",VLOOKUP(S251,Tabelle!$I$5:$N$7,6,FALSE)))","v":""},null,null,null,null,null,null,null,null,null,{"$f":"IF(D251=\"\",0,IF(D251=D250,COUNTIF(D$9:D250,D251)+1,1))","v":0},0,0]
["244","-1900","-1900-0",null,null,null,null,null,null,null,"",null,null,null,null,null,null,null,null,{"$f":"IF(G$2034=1,\"\",IF(S252=\"\",\"\",VLOOKUP(S252,Tabelle!$I$5:$M$7,5,FALSE)))","v":""},{"$f":"IF(G$2034=1,\"\",IF(S252=\"\",\"\",VLOOKUP(S252,Tabelle!$I$5:$N$7,6,FALSE)))","v":""},null,null,null,null,null,null,null,null,null,{"$f":"IF(D252=\"\",0,IF(D252=D251,COUNTIF(D$9:D251,D252)+1,1))","v":0},0,0]
["245","-1900","-1900-0",null,null,null,null,null,null,null,"",null,null,null,null,null,null,null,null,{"$f":"IF(G$2034=1,\"\",IF(S253=\"\",\"\",VLOOKUP(S253,Tabelle!$I$5:$M$7,5,FALSE)))","v":""},{"$f":"IF(G$2034=1,\"\",IF(S253=\"\",\"\",VLOOKUP(S253,Tabelle!$I$5:$N$7,6,FALSE)))","v":""},null,null,null,null,null,null,null,null,null,{"$f":"IF(D253=\"\",0,IF(D253=D252,COUNTIF(D$9:D252,D253)+1,1))","v":0},0,0]
["246","-1900","-1900-0",null,null,null,null,null,null,null,"",null,null,null,null,null,null,null,null,{"$f":"IF(G$2034=1,\"\",IF(S254=\"\",\"\",VLOOKUP(S254,Tabelle!$I$5:$M$7,5,FALSE)))","v":""},{"$f":"IF(G$2034=1,\"\",IF(S254=\"\",\"\",VLOOKUP(S254,Tabelle!$I$5:$N$7,6,FALSE)))","v":""},null,null,null,null,null,null,null,null,null,{"$f":"IF(D254=\"\",0,IF(D254=D253,COUNTIF(D$9:D253,D254)+1,1))","v":0},0,0]
["247","-1900","-1900-0",null,null,null,null,null,null,null,"",null,null,null,null,null,null,null,null,{"$f":"IF(G$2034=1,\"\",IF(S255=\"\",\"\",VLOOKUP(S255,Tabelle!$I$5:$M$7,5,FALSE)))","v":""},{"$f":"IF(G$2034=1,\"\",IF(S255=\"\",\"\",VLOOKUP(S255,Tabelle!$I$5:$N$7,6,FALSE)))","v":""},null,null,null,null,null,null,null,null,null,{"$f":"IF(D255=\"\",0,IF(D255=D254,COUNTIF(D$9:D254,D255)+1,1))","v":0},0,0]
["248","-1900","-1900-0",null,null,null,null,null,null,null,"",null,null,null,null,null,null,null,null,{"$f":"IF(G$2034=1,\"\",IF(S256=\"\",\"\",VLOOKUP(S256,Tabelle!$I$5:$M$7,5,FALSE)))","v":""},{"$f":"IF(G$2034=1,\"\",IF(S256=\"\",\"\",VLOOKUP(S256,Tabelle!$I$5:$N$7,6,FALSE)))","v":""},null,null,null,null,null,null,null,null,null,{"$f":"IF(D256=\"\",0,IF(D256=D255,COUNTIF(D$9:D255,D256)+1,1))","v":0},0,0]
["249","-1900","-1900-0",null,null,null,null,null,null,null,"",null,null,null,null,null,null,null,null,{"$f":"IF(G$2034=1,\"\",IF(S257=\"\",\"\",VLOOKUP(S257,Tabelle!$I$5:$M$7,5,FALSE)))","v":""},{"$f":"IF(G$2034=1,\"\",IF(S257=\"\",\"\",VLOOKUP(S257,Tabelle!$I$5:$N$7,6,FALSE)))","v":""},null,null,null,null,null,null,null,null,null,{"$f":"IF(D257=\"\",0,IF(D257=D256,COUNTIF(D$9:D256,D257)+1,1))","v":0},0,0]
["250","-1900","-1900-0",null,null,null,null,null,null,null,"",null,null,null,null,null,null,null,null,{"$f":"IF(G$2034=1,\"\",IF(S258=\"\",\"\",VLOOKUP(S258,Tabelle!$I$5:$M$7,5,FALSE)))","v":""},{"$f":"IF(G$2034=1,\"\",IF(S258=\"\",\"\",VLOOKUP(S258,Tabelle!$I$5:$N$7,6,FALSE)))","v":""},null,null,null,null,null,null,null,null,null,{"$f":"IF(D258=\"\",0,IF(D258=D257,COUNTIF(D$9:D257,D258)+1,1))","v":0},0,0]
["251","-1900","-1900-0",null,null,null,null,null,null,null,"",null,null,null,null,null,null,null,null,{"$f":"IF(G$2034=1,\"\",IF(S259=\"\",\"\",VLOOKUP(S259,Tabelle!$I$5:$M$7,5,FALSE)))","v":""},{"$f":"IF(G$2034=1,\"\",IF(S259=\"\",\"\",VLOOKUP(S259,Tabelle!$I$5:$N$7,6,FALSE)))","v":""},null,null,null,null,null,null,null,null,null,{"$f":"IF(D259=\"\",0,IF(D259=D258,COUNTIF(D$9:D258,D259)+1,1))","v":0},0,0]
["252","-1900","-1900-0",null,null,null,null,null,null,null,"",null,null,null,null,null,null,null,null,{"$f":"IF(G$2034=1,\"\",IF(S260=\"\",\"\",VLOOKUP(S260,Tabelle!$I$5:$M$7,5,FALSE)))","v":""},{"$f":"IF(G$2034=1,\"\",IF(S260=\"\",\"\",VLOOKUP(S260,Tabelle!$I$5:$N$7,6,FALSE)))","v":""},null,null,null,null,null,null,null,null,null,{"$f":"IF(D260=\"\",0,IF(D260=D259,COUNTIF(D$9:D259,D260)+1,1))","v":0},0,0]
["253","-1900","-1900-0",null,null,null,null,null,null,null,"",null,null,null,null,null,null,null,null,{"$f":"IF(G$2034=1,\"\",IF(S261=\"\",\"\",VLOOKUP(S261,Tabelle!$I$5:$M$7,5,FALSE)))","v":""},{"$f":"IF(G$2034=1,\"\",IF(S261=\"\",\"\",VLOOKUP(S261,Tabelle!$I$5:$N$7,6,FALSE)))","v":""},null,null,null,null,null,null,null,null,null,{"$f":"IF(D261=\"\",0,IF(D261=D260,COUNTIF(D$9:D260,D261)+1,1))","v":0},0,0]
["254","-1900","-1900-0",null,null,null,null,null,null,null,"",null,null,null,null,null,null,null,null,{"$f":"IF(G$2034=1,\"\",IF(S262=\"\",\"\",VLOOKUP(S262,Tabelle!$I$5:$M$7,5,FALSE)))","v":""},{"$f":"IF(G$2034=1,\"\",IF(S262=\"\",\"\",VLOOKUP(S262,Tabelle!$I$5:$N$7,6,FALSE)))","v":""},null,null,null,null,null,null,null,null,null,{"$f":"IF(D262=\"\",0,IF(D262=D261,COUNTIF(D$9:D261,D262)+1,1))","v":0},0,0]
["255","-1900","-1900-0",null,null,null,null,null,null,null,"",null,null,null,null,null,null,null,null,{"$f":"IF(G$2034=1,\"\",IF(S263=\"\",\"\",VLOOKUP(S263,Tabelle!$I$5:$M$7,5,FALSE)))","v":""},{"$f":"IF(G$2034=1,\"\",IF(S263=\"\",\"\",VLOOKUP(S263,Tabelle!$I$5:$N$7,6,FALSE)))","v":""},null,null,null,null,null,null,null,null,null,{"$f":"IF(D263=\"\",0,IF(D263=D262,COUNTIF(D$9:D262,D263)+1,1))","v":0},0,0]
["256","-1900","-1900-0",null,null,null,null,null,null,null,"",null,null,null,null,null,null,null,null,{"$f":"IF(G$2034=1,\"\",IF(S264=\"\",\"\",VLOOKUP(S264,Tabelle!$I$5:$M$7,5,FALSE)))","v":""},{"$f":"IF(G$2034=1,\"\",IF(S264=\"\",\"\",VLOOKUP(S264,Tabelle!$I$5:$N$7,6,FALSE)))","v":""},null,null,null,null,null,null,null,null,null,{"$f":"IF(D264=\"\",0,IF(D264=D263,COUNTIF(D$9:D263,D264)+1,1))","v":0},0,0]
["257","-1900",{"$f":"IF(G$2034=1,0,B265&\"-\"&AE265)","v":"-1900-0"},null,null,null,null,null,null,null,{"$f":"IF(G$2034=1,0,IF(OR(J265=\"\",ISERROR($O$2034)),\"\",VLOOKUP(J265,$L$2019:$N$2027,2,FALSE)))","v":""},null,null,null,null,null,null,null,null,{"$f":"IF(G$2034=1,\"\",IF(S265=\"\",\"\",VLOOKUP(S265,Tabelle!$I$5:$M$7,5,FALSE)))","v":""},{"$f":"IF(G$2034=1,\"\",IF(S265=\"\",\"\",VLOOKUP(S265,Tabelle!$I$5:$N$7,6,FALSE)))","v":""},null,null,null,null,null,null,null,null,null,{"$f":"IF(D265=\"\",0,IF(D265=D264,COUNTIF(D$9:D264,D265)+1,1))","v":0},0,0]
["258",{"$f":"IF(AG266=$AG$2013,0,IF(G$2034=1,0,D266&\"-\"&YEAR(E266)))","v":"-1900"},"-1900-0",null,null,null,null,null,null,null,"",null,null,null,null,null,null,null,null,{"$f":"IF(G$2034=1,\"\",IF(S266=\"\",\"\",VLOOKUP(S266,Tabelle!$I$5:$M$7,5,FALSE)))","v":""},{"$f":"IF(G$2034=1,\"\",IF(S266=\"\",\"\",VLOOKUP(S266,Tabelle!$I$5:$N$7,6,FALSE)))","v":""},null,null,null,null,null,null,null,null,null,{"$f":"IF(D266=\"\",0,IF(D266=D265,COUNTIF(D$9:D265,D266)+1,1))","v":0},{"$f":"IF(G$2034=1,0,IF(AE266=28,1,0))","v":0},{"$f":"IF(E266>0,IF(OR(MONTH(E266)<$G$2026,MONTH(E266)>$G$2027),AG$2013,0),0)","v":0}]
["259","-1900","-1900-0",null,null,null,null,null,null,null,"",null,null,null,null,null,null,null,null,{"$f":"IF(G$2034=1,\"\",IF(S267=\"\",\"\",VLOOKUP(S267,Tabelle!$I$5:$M$7,5,FALSE)))","v":""},{"$f":"IF(G$2034=1,\"\",IF(S267=\"\",\"\",VLOOKUP(S267,Tabelle!$I$5:$N$7,6,FALSE)))","v":""},null,null,null,null,null,null,null,null,null,{"$f":"IF(D267=\"\",0,IF(D267=D266,COUNTIF(D$9:D266,D267)+1,1))","v":0},0,0]
["260","-1900","-1900-0",null,null,null,null,null,null,null,"",null,null,null,null,null,null,null,null,{"$f":"IF(G$2034=1,\"\",IF(S268=\"\",\"\",VLOOKUP(S268,Tabelle!$I$5:$M$7,5,FALSE)))","v":""},{"$f":"IF(G$2034=1,\"\",IF(S268=\"\",\"\",VLOOKUP(S268,Tabelle!$I$5:$N$7,6,FALSE)))","v":""},null,null,null,null,null,null,null,null,null,{"$f":"IF(D268=\"\",0,IF(D268=D267,COUNTIF(D$9:D267,D268)+1,1))","v":0},0,0]
["261","-1900","-1900-0",null,null,null,null,null,null,null,"",null,null,null,null,null,null,null,null,{"$f":"IF(G$2034=1,\"\",IF(S269=\"\",\"\",VLOOKUP(S269,Tabelle!$I$5:$M$7,5,FALSE)))","v":""},{"$f":"IF(G$2034=1,\"\",IF(S269=\"\",\"\",VLOOKUP(S269,Tabelle!$I$5:$N$7,6,FALSE)))","v":""},null,null,null,null,null,null,null,null,null,{"$f":"IF(D269=\"\",0,IF(D269=D268,COUNTIF(D$9:D268,D269)+1,1))","v":0},0,0]
["262","-1900","-1900-0",null,null,null,null,null,null,null,"",null,null,null,null,null,null,null,null,{"$f":"IF(G$2034=1,\"\",IF(S270=\"\",\"\",VLOOKUP(S270,Tabelle!$I$5:$M$7,5,FALSE)))","v":""},{"$f":"IF(G$2034=1,\"\",IF(S270=\"\",\"\",VLOOKUP(S270,Tabelle!$I$5:$N$7,6,FALSE)))","v":""},null,null,null,null,null,null,null,null,null,{"$f":"IF(D270=\"\",0,IF(D270=D269,COUNTIF(D$9:D269,D270)+1,1))","v":0},0,0]
["263","-1900","-1900-0",null,null,null,null,null,null,null,"",null,null,null,null,null,null,null,null,{"$f":"IF(G$2034=1,\"\",IF(S271=\"\",\"\",VLOOKUP(S271,Tabelle!$I$5:$M$7,5,FALSE)))","v":""},{"$f":"IF(G$2034=1,\"\",IF(S271=\"\",\"\",VLOOKUP(S271,Tabelle!$I$5:$N$7,6,FALSE)))","v":""},null,null,null,null,null,null,null,null,null,{"$f":"IF(D271=\"\",0,IF(D271=D270,COUNTIF(D$9:D270,D271)+1,1))","v":0},0,0]
["264","-1900","-1900-0",null,null,null,null,null,null,null,"",null,null,null,null,null,null,null,null,{"$f":"IF(G$2034=1,\"\",IF(S272=\"\",\"\",VLOOKUP(S272,Tabelle!$I$5:$M$7,5,FALSE)))","v":""},{"$f":"IF(G$2034=1,\"\",IF(S272=\"\",\"\",VLOOKUP(S272,Tabelle!$I$5:$N$7,6,FALSE)))","v":""},null,null,null,null,null,null,null,null,null,{"$f":"IF(D272=\"\",0,IF(D272=D271,COUNTIF(D$9:D271,D272)+1,1))","v":0},0,0]
["265","-1900","-1900-0",null,null,null,null,null,null,null,"",null,null,null,null,null,null,null,null,{"$f":"IF(G$2034=1,\"\",IF(S273=\"\",\"\",VLOOKUP(S273,Tabelle!$I$5:$M$7,5,FALSE)))","v":""},{"$f":"IF(G$2034=1,\"\",IF(S273=\"\",\"\",VLOOKUP(S273,Tabelle!$I$5:$N$7,6,FALSE)))","v":""},null,null,null,null,null,null,null,null,null,{"$f":"IF(D273=\"\",0,IF(D273=D272,COUNTIF(D$9:D272,D273)+1,1))","v":0},0,0]
["266","-1900","-1900-0",null,null,null,null,null,null,null,"",null,null,null,null,null,null,null,null,{"$f":"IF(G$2034=1,\"\",IF(S274=\"\",\"\",VLOOKUP(S274,Tabelle!$I$5:$M$7,5,FALSE)))","v":""},{"$f":"IF(G$2034=1,\"\",IF(S274=\"\",\"\",VLOOKUP(S274,Tabelle!$I$5:$N$7,6,FALSE)))","v":""},null,null,null,null,null,null,null,null,null,{"$f":"IF(D274=\"\",0,IF(D274=D273,COUNTIF(D$9:D273,D274)+1,1))","v":0},0,0]
["267","-1900","-1900-0",null,null,null,null,null,null,null,"",null,null,null,null,null,null,null,null,{"$f":"IF(G$2034=1,\"\",IF(S275=\"\",\"\",VLOOKUP(S275,Tabelle!$I$5:$M$7,5,FALSE)))","v":""},{"$f":"IF(G$2034=1,\"\",IF(S275=\"\",\"\",VLOOKUP(S275,Tabelle!$I$5:$N$7,6,FALSE)))","v":""},null,null,null,null,null,null,null,null,null,{"$f":"IF(D275=\"\",0,IF(D275=D274,COUNTIF(D$9:D274,D275)+1,1))","v":0},0,0]
["268","-1900","-1900-0",null,null,null,null,null,null,null,"",null,null,null,null,null,null,null,null,{"$f":"IF(G$2034=1,\"\",IF(S276=\"\",\"\",VLOOKUP(S276,Tabelle!$I$5:$M$7,5,FALSE)))","v":""},{"$f":"IF(G$2034=1,\"\",IF(S276=\"\",\"\",VLOOKUP(S276,Tabelle!$I$5:$N$7,6,FALSE)))","v":""},null,null,null,null,null,null,null,null,null,{"$f":"IF(D276=\"\",0,IF(D276=D275,COUNTIF(D$9:D275,D276)+1,1))","v":0},0,0]
["269","-1900","-1900-0",null,null,null,null,null,null,null,"",null,null,null,null,null,null,null,null,{"$f":"IF(G$2034=1,\"\",IF(S277=\"\",\"\",VLOOKUP(S277,Tabelle!$I$5:$M$7,5,FALSE)))","v":""},{"$f":"IF(G$2034=1,\"\",IF(S277=\"\",\"\",VLOOKUP(S277,Tabelle!$I$5:$N$7,6,FALSE)))","v":""},null,null,null,null,null,null,null,null,null,{"$f":"IF(D277=\"\",0,IF(D277=D276,COUNTIF(D$9:D276,D277)+1,1))","v":0},0,0]
["270","-1900","-1900-0",null,null,null,null,null,null,null,"",null,null,null,null,null,null,null,null,{"$f":"IF(G$2034=1,\"\",IF(S278=\"\",\"\",VLOOKUP(S278,Tabelle!$I$5:$M$7,5,FALSE)))","v":""},{"$f":"IF(G$2034=1,\"\",IF(S278=\"\",\"\",VLOOKUP(S278,Tabelle!$I$5:$N$7,6,FALSE)))","v":""},null,null,null,null,null,null,null,null,null,{"$f":"IF(D278=\"\",0,IF(D278=D277,COUNTIF(D$9:D277,D278)+1,1))","v":0},0,0]
["271","-1900","-1900-0",null,null,null,null,null,null,null,"",null,null,null,null,null,null,null,null,{"$f":"IF(G$2034=1,\"\",IF(S279=\"\",\"\",VLOOKUP(S279,Tabelle!$I$5:$M$7,5,FALSE)))","v":""},{"$f":"IF(G$2034=1,\"\",IF(S279=\"\",\"\",VLOOKUP(S279,Tabelle!$I$5:$N$7,6,FALSE)))","v":""},null,null,null,null,null,null,null,null,null,{"$f":"IF(D279=\"\",0,IF(D279=D278,COUNTIF(D$9:D278,D279)+1,1))","v":0},0,0]
["272","-1900","-1900-0",null,null,null,null,null,null,null,"",null,null,null,null,null,null,null,null,{"$f":"IF(G$2034=1,\"\",IF(S280=\"\",\"\",VLOOKUP(S280,Tabelle!$I$5:$M$7,5,FALSE)))","v":""},{"$f":"IF(G$2034=1,\"\",IF(S280=\"\",\"\",VLOOKUP(S280,Tabelle!$I$5:$N$7,6,FALSE)))","v":""},null,null,null,null,null,null,null,null,null,{"$f":"IF(D280=\"\",0,IF(D280=D279,COUNTIF(D$9:D279,D280)+1,1))","v":0},0,0]
["273","-1900","-1900-0",null,null,null,null,null,null,null,"",null,null,null,null,null,null,null,null,{"$f":"IF(G$2034=1,\"\",IF(S281=\"\",\"\",VLOOKUP(S281,Tabelle!$I$5:$M$7,5,FALSE)))","v":""},{"$f":"IF(G$2034=1,\"\",IF(S281=\"\",\"\",VLOOKUP(S281,Tabelle!$I$5:$N$7,6,FALSE)))","v":""},null,null,null,null,null,null,null,null,null,{"$f":"IF(D281=\"\",0,IF(D281=D280,COUNTIF(D$9:D280,D281)+1,1))","v":0},0,0]
["274","-1900","-1900-0",null,null,null,null,null,null,null,"",null,null,null,null,null,null,null,null,{"$f":"IF(G$2034=1,\"\",IF(S282=\"\",\"\",VLOOKUP(S282,Tabelle!$I$5:$M$7,5,FALSE)))","v":""},{"$f":"IF(G$2034=1,\"\",IF(S282=\"\",\"\",VLOOKUP(S282,Tabelle!$I$5:$N$7,6,FALSE)))","v":""},null,null,null,null,null,null,null,null,null,{"$f":"IF(D282=\"\",0,IF(D282=D281,COUNTIF(D$9:D281,D282)+1,1))","v":0},0,0]
["275","-1900","-1900-0",null,null,null,null,null,null,null,"",null,null,null,null,null,null,null,null,{"$f":"IF(G$2034=1,\"\",IF(S283=\"\",\"\",VLOOKUP(S283,Tabelle!$I$5:$M$7,5,FALSE)))","v":""},{"$f":"IF(G$2034=1,\"\",IF(S283=\"\",\"\",VLOOKUP(S283,Tabelle!$I$5:$N$7,6,FALSE)))","v":""},null,null,null,null,null,null,null,null,null,{"$f":"IF(D283=\"\",0,IF(D283=D282,COUNTIF(D$9:D282,D283)+1,1))","v":0},0,0]
["276","-1900","-1900-0",null,null,null,null,null,null,null,"",null,null,null,null,null,null,null,null,{"$f":"IF(G$2034=1,\"\",IF(S284=\"\",\"\",VLOOKUP(S284,Tabelle!$I$5:$M$7,5,FALSE)))","v":""},{"$f":"IF(G$2034=1,\"\",IF(S284=\"\",\"\",VLOOKUP(S284,Tabelle!$I$5:$N$7,6,FALSE)))","v":""},null,null,null,null,null,null,null,null,null,{"$f":"IF(D284=\"\",0,IF(D284=D283,COUNTIF(D$9:D283,D284)+1,1))","v":0},0,0]
["277","-1900","-1900-0",null,null,null,null,null,null,null,"",null,null,null,null,null,null,null,null,{"$f":"IF(G$2034=1,\"\",IF(S285=\"\",\"\",VLOOKUP(S285,Tabelle!$I$5:$M$7,5,FALSE)))","v":""},{"$f":"IF(G$2034=1,\"\",IF(S285=\"\",\"\",VLOOKUP(S285,Tabelle!$I$5:$N$7,6,FALSE)))","v":""},null,null,null,null,null,null,null,null,null,{"$f":"IF(D285=\"\",0,IF(D285=D284,COUNTIF(D$9:D284,D285)+1,1))","v":0},0,0]
["278","-1900","-1900-0",null,null,null,null,null,null,null,"",null,null,null,null,null,null,null,null,{"$f":"IF(G$2034=1,\"\",IF(S286=\"\",\"\",VLOOKUP(S286,Tabelle!$I$5:$M$7,5,FALSE)))","v":""},{"$f":"IF(G$2034=1,\"\",IF(S286=\"\",\"\",VLOOKUP(S286,Tabelle!$I$5:$N$7,6,FALSE)))","v":""},null,null,null,null,null,null,null,null,null,{"$f":"IF(D286=\"\",0,IF(D286=D285,COUNTIF(D$9:D285,D286)+1,1))","v":0},0,0]
["279","-1900","-1900-0",null,null,null,null,null,null,null,"",null,null,null,null,null,null,null,null,{"$f":"IF(G$2034=1,\"\",IF(S287=\"\",\"\",VLOOKUP(S287,Tabelle!$I$5:$M$7,5,FALSE)))","v":""},{"$f":"IF(G$2034=1,\"\",IF(S287=\"\",\"\",VLOOKUP(S287,Tabelle!$I$5:$N$7,6,FALSE)))","v":""},null,null,null,null,null,null,null,null,null,{"$f":"IF(D287=\"\",0,IF(D287=D286,COUNTIF(D$9:D286,D287)+1,1))","v":0},0,0]
["280","-1900","-1900-0",null,null,null,null,null,null,null,"",null,null,null,null,null,null,null,null,{"$f":"IF(G$2034=1,\"\",IF(S288=\"\",\"\",VLOOKUP(S288,Tabelle!$I$5:$M$7,5,FALSE)))","v":""},{"$f":"IF(G$2034=1,\"\",IF(S288=\"\",\"\",VLOOKUP(S288,Tabelle!$I$5:$N$7,6,FALSE)))","v":""},null,null,null,null,null,null,null,null,null,{"$f":"IF(D288=\"\",0,IF(D288=D287,COUNTIF(D$9:D287,D288)+1,1))","v":0},0,0]
["281","-1900","-1900-0",null,null,null,null,null,null,null,"",null,null,null,null,null,null,null,null,{"$f":"IF(G$2034=1,\"\",IF(S289=\"\",\"\",VLOOKUP(S289,Tabelle!$I$5:$M$7,5,FALSE)))","v":""},{"$f":"IF(G$2034=1,\"\",IF(S289=\"\",\"\",VLOOKUP(S289,Tabelle!$I$5:$N$7,6,FALSE)))","v":""},null,null,null,null,null,null,null,null,null,{"$f":"IF(D289=\"\",0,IF(D289=D288,COUNTIF(D$9:D288,D289)+1,1))","v":0},0,0]
["282","-1900","-1900-0",null,null,null,null,null,null,null,"",null,null,null,null,null,null,null,null,{"$f":"IF(G$2034=1,\"\",IF(S290=\"\",\"\",VLOOKUP(S290,Tabelle!$I$5:$M$7,5,FALSE)))","v":""},{"$f":"IF(G$2034=1,\"\",IF(S290=\"\",\"\",VLOOKUP(S290,Tabelle!$I$5:$N$7,6,FALSE)))","v":""},null,null,null,null,null,null,null,null,null,{"$f":"IF(D290=\"\",0,IF(D290=D289,COUNTIF(D$9:D289,D290)+1,1))","v":0},0,0]
["283","-1900","-1900-0",null,null,null,null,null,null,null,"",null,null,null,null,null,null,null,null,{"$f":"IF(G$2034=1,\"\",IF(S291=\"\",\"\",VLOOKUP(S291,Tabelle!$I$5:$M$7,5,FALSE)))","v":""},{"$f":"IF(G$2034=1,\"\",IF(S291=\"\",\"\",VLOOKUP(S291,Tabelle!$I$5:$N$7,6,FALSE)))","v":""},null,null,null,null,null,null,null,null,null,{"$f":"IF(D291=\"\",0,IF(D291=D290,COUNTIF(D$9:D290,D291)+1,1))","v":0},0,0]
["284","-1900","-1900-0",null,null,null,null,null,null,null,"",null,null,null,null,null,null,null,null,{"$f":"IF(G$2034=1,\"\",IF(S292=\"\",\"\",VLOOKUP(S292,Tabelle!$I$5:$M$7,5,FALSE)))","v":""},{"$f":"IF(G$2034=1,\"\",IF(S292=\"\",\"\",VLOOKUP(S292,Tabelle!$I$5:$N$7,6,FALSE)))","v":""},null,null,null,null,null,null,null,null,null,{"$f":"IF(D292=\"\",0,IF(D292=D291,COUNTIF(D$9:D291,D292)+1,1))","v":0},0,0]
["285","-1900","-1900-0",null,null,null,null,null,null,null,"",null,null,null,null,null,null,null,null,{"$f":"IF(G$2034=1,\"\",IF(S293=\"\",\"\",VLOOKUP(S293,Tabelle!$I$5:$M$7,5,FALSE)))","v":""},{"$f":"IF(G$2034=1,\"\",IF(S293=\"\",\"\",VLOOKUP(S293,Tabelle!$I$5:$N$7,6,FALSE)))","v":""},null,null,null,null,null,null,null,null,null,{"$f":"IF(D293=\"\",0,IF(D293=D292,COUNTIF(D$9:D292,D293)+1,1))","v":0},0,0]
["286","-1900","-1900-0",null,null,null,null,null,null,null,"",null,null,null,null,null,null,null,null,{"$f":"IF(G$2034=1,\"\",IF(S294=\"\",\"\",VLOOKUP(S294,Tabelle!$I$5:$M$7,5,FALSE)))","v":""},{"$f":"IF(G$2034=1,\"\",IF(S294=\"\",\"\",VLOOKUP(S294,Tabelle!$I$5:$N$7,6,FALSE)))","v":""},null,null,null,null,null,null,null,null,null,{"$f":"IF(D294=\"\",0,IF(D294=D293,COUNTIF(D$9:D293,D294)+1,1))","v":0},0,0]
["287","-1900","-1900-0",null,null,null,null,null,null,null,"",null,null,null,null,null,null,null,null,{"$f":"IF(G$2034=1,\"\",IF(S295=\"\",\"\",VLOOKUP(S295,Tabelle!$I$5:$M$7,5,FALSE)))","v":""},{"$f":"IF(G$2034=1,\"\",IF(S295=\"\",\"\",VLOOKUP(S295,Tabelle!$I$5:$N$7,6,FALSE)))","v":""},null,null,null,null,null,null,null,null,null,{"$f":"IF(D295=\"\",0,IF(D295=D294,COUNTIF(D$9:D294,D295)+1,1))","v":0},0,0]
["288","-1900","-1900-0",null,null,null,null,null,null,null,"",null,null,null,null,null,null,null,null,{"$f":"IF(G$2034=1,\"\",IF(S296=\"\",\"\",VLOOKUP(S296,Tabelle!$I$5:$M$7,5,FALSE)))","v":""},{"$f":"IF(G$2034=1,\"\",IF(S296=\"\",\"\",VLOOKUP(S296,Tabelle!$I$5:$N$7,6,FALSE)))","v":""},null,null,null,null,null,null,null,null,null,{"$f":"IF(D296=\"\",0,IF(D296=D295,COUNTIF(D$9:D295,D296)+1,1))","v":0},0,0]
["289","-1900","-1900-0",null,null,null,null,null,null,null,"",null,null,null,null,null,null,null,null,{"$f":"IF(G$2034=1,\"\",IF(S297=\"\",\"\",VLOOKUP(S297,Tabelle!$I$5:$M$7,5,FALSE)))","v":""},{"$f":"IF(G$2034=1,\"\",IF(S297=\"\",\"\",VLOOKUP(S297,Tabelle!$I$5:$N$7,6,FALSE)))","v":""},null,null,null,null,null,null,null,null,null,{"$f":"IF(D297=\"\",0,IF(D297=D296,COUNTIF(D$9:D296,D297)+1,1))","v":0},0,0]
["290","-1900","-1900-0",null,null,null,null,null,null,null,"",null,null,null,null,null,null,null,null,{"$f":"IF(G$2034=1,\"\",IF(S298=\"\",\"\",VLOOKUP(S298,Tabelle!$I$5:$M$7,5,FALSE)))","v":""},{"$f":"IF(G$2034=1,\"\",IF(S298=\"\",\"\",VLOOKUP(S298,Tabelle!$I$5:$N$7,6,FALSE)))","v":""},null,null,null,null,null,null,null,null,null,{"$f":"IF(D298=\"\",0,IF(D298=D297,COUNTIF(D$9:D297,D298)+1,1))","v":0},0,0]
["291","-1900","-1900-0",null,null,null,null,null,null,null,"",null,null,null,null,null,null,null,null,{"$f":"IF(G$2034=1,\"\",IF(S299=\"\",\"\",VLOOKUP(S299,Tabelle!$I$5:$M$7,5,FALSE)))","v":""},{"$f":"IF(G$2034=1,\"\",IF(S299=\"\",\"\",VLOOKUP(S299,Tabelle!$I$5:$N$7,6,FALSE)))","v":""},null,null,null,null,null,null,null,null,null,{"$f":"IF(D299=\"\",0,IF(D299=D298,COUNTIF(D$9:D298,D299)+1,1))","v":0},0,0]
["292","-1900","-1900-0",null,null,null,null,null,null,null,"",null,null,null,null,null,null,null,null,{"$f":"IF(G$2034=1,\"\",IF(S300=\"\",\"\",VLOOKUP(S300,Tabelle!$I$5:$M$7,5,FALSE)))","v":""},{"$f":"IF(G$2034=1,\"\",IF(S300=\"\",\"\",VLOOKUP(S300,Tabelle!$I$5:$N$7,6,FALSE)))","v":""},null,null,null,null,null,null,null,null,null,{"$f":"IF(D300=\"\",0,IF(D300=D299,COUNTIF(D$9:D299,D300)+1,1))","v":0},0,0]
["293","-1900","-1900-0",null,null,null,null,null,null,null,"",null,null,null,null,null,null,null,null,{"$f":"IF(G$2034=1,\"\",IF(S301=\"\",\"\",VLOOKUP(S301,Tabelle!$I$5:$M$7,5,FALSE)))","v":""},{"$f":"IF(G$2034=1,\"\",IF(S301=\"\",\"\",VLOOKUP(S301,Tabelle!$I$5:$N$7,6,FALSE)))","v":""},null,null,null,null,null,null,null,null,null,{"$f":"IF(D301=\"\",0,IF(D301=D300,COUNTIF(D$9:D300,D301)+1,1))","v":0},0,0]
["294","-1900","-1900-0",null,null,null,null,null,null,null,"",null,null,null,null,null,null,null,null,{"$f":"IF(G$2034=1,\"\",IF(S302=\"\",\"\",VLOOKUP(S302,Tabelle!$I$5:$M$7,5,FALSE)))","v":""},{"$f":"IF(G$2034=1,\"\",IF(S302=\"\",\"\",VLOOKUP(S302,Tabelle!$I$5:$N$7,6,FALSE)))","v":""},null,null,null,null,null,null,null,null,null,{"$f":"IF(D302=\"\",0,IF(D302=D301,COUNTIF(D$9:D301,D302)+1,1))","v":0},0,0]
["295","-1900","-1900-0",null,null,null,null,null,null,null,"",null,null,null,null,null,null,null,null,{"$f":"IF(G$2034=1,\"\",IF(S303=\"\",\"\",VLOOKUP(S303,Tabelle!$I$5:$M$7,5,FALSE)))","v":""},{"$f":"IF(G$2034=1,\"\",IF(S303=\"\",\"\",VLOOKUP(S303,Tabelle!$I$5:$N$7,6,FALSE)))","v":""},null,null,null,null,null,null,null,null,null,{"$f":"IF(D303=\"\",0,IF(D303=D302,COUNTIF(D$9:D302,D303)+1,1))","v":0},0,0]
["296","-1900","-1900-0",null,null,null,null,null,null,null,"",null,null,null,null,null,null,null,null,{"$f":"IF(G$2034=1,\"\",IF(S304=\"\",\"\",VLOOKUP(S304,Tabelle!$I$5:$M$7,5,FALSE)))","v":""},{"$f":"IF(G$2034=1,\"\",IF(S304=\"\",\"\",VLOOKUP(S304,Tabelle!$I$5:$N$7,6,FALSE)))","v":""},null,null,null,null,null,null,null,null,null,{"$f":"IF(D304=\"\",0,IF(D304=D303,COUNTIF(D$9:D303,D304)+1,1))","v":0},0,0]
["297","-1900","-1900-0",null,null,null,null,null,null,null,"",null,null,null,null,null,null,null,null,{"$f":"IF(G$2034=1,\"\",IF(S305=\"\",\"\",VLOOKUP(S305,Tabelle!$I$5:$M$7,5,FALSE)))","v":""},{"$f":"IF(G$2034=1,\"\",IF(S305=\"\",\"\",VLOOKUP(S305,Tabelle!$I$5:$N$7,6,FALSE)))","v":""},null,null,null,null,null,null,null,null,null,{"$f":"IF(D305=\"\",0,IF(D305=D304,COUNTIF(D$9:D304,D305)+1,1))","v":0},0,0]
["298","-1900","-1900-0",null,null,null,null,null,null,null,"",null,null,null,null,null,null,null,null,{"$f":"IF(G$2034=1,\"\",IF(S306=\"\",\"\",VLOOKUP(S306,Tabelle!$I$5:$M$7,5,FALSE)))","v":""},{"$f":"IF(G$2034=1,\"\",IF(S306=\"\",\"\",VLOOKUP(S306,Tabelle!$I$5:$N$7,6,FALSE)))","v":""},null,null,null,null,null,null,null,null,null,{"$f":"IF(D306=\"\",0,IF(D306=D305,COUNTIF(D$9:D305,D306)+1,1))","v":0},0,0]
["299","-1900","-1900-0",null,null,null,null,null,null,null,"",null,null,null,null,null,null,null,null,{"$f":"IF(G$2034=1,\"\",IF(S307=\"\",\"\",VLOOKUP(S307,Tabelle!$I$5:$M$7,5,FALSE)))","v":""},{"$f":"IF(G$2034=1,\"\",IF(S307=\"\",\"\",VLOOKUP(S307,Tabelle!$I$5:$N$7,6,FALSE)))","v":""},null,null,null,null,null,null,null,null,null,{"$f":"IF(D307=\"\",0,IF(D307=D306,COUNTIF(D$9:D306,D307)+1,1))","v":0},0,0]
["300","-1900","-1900-0",null,null,null,null,null,null,null,"",null,null,null,null,null,null,null,null,{"$f":"IF(G$2034=1,\"\",IF(S308=\"\",\"\",VLOOKUP(S308,Tabelle!$I$5:$M$7,5,FALSE)))","v":""},{"$f":"IF(G$2034=1,\"\",IF(S308=\"\",\"\",VLOOKUP(S308,Tabelle!$I$5:$N$7,6,FALSE)))","v":""},null,null,null,null,null,null,null,null,null,{"$f":"IF(D308=\"\",0,IF(D308=D307,COUNTIF(D$9:D307,D308)+1,1))","v":0},0,0]
["301","-1900","-1900-0",null,null,null,null,null,null,null,"",null,null,null,null,null,null,null,null,{"$f":"IF(G$2034=1,\"\",IF(S309=\"\",\"\",VLOOKUP(S309,Tabelle!$I$5:$M$7,5,FALSE)))","v":""},{"$f":"IF(G$2034=1,\"\",IF(S309=\"\",\"\",VLOOKUP(S309,Tabelle!$I$5:$N$7,6,FALSE)))","v":""},null,null,null,null,null,null,null,null,null,{"$f":"IF(D309=\"\",0,IF(D309=D308,COUNTIF(D$9:D308,D309)+1,1))","v":0},0,0]
["302","-1900","-1900-0",null,null,null,null,null,null,null,"",null,null,null,null,null,null,null,null,{"$f":"IF(G$2034=1,\"\",IF(S310=\"\",\"\",VLOOKUP(S310,Tabelle!$I$5:$M$7,5,FALSE)))","v":""},{"$f":"IF(G$2034=1,\"\",IF(S310=\"\",\"\",VLOOKUP(S310,Tabelle!$I$5:$N$7,6,FALSE)))","v":""},null,null,null,null,null,null,null,null,null,{"$f":"IF(D310=\"\",0,IF(D310=D309,COUNTIF(D$9:D309,D310)+1,1))","v":0},0,0]
["303","-1900","-1900-0",null,null,null,null,null,null,null,"",null,null,null,null,null,null,null,null,{"$f":"IF(G$2034=1,\"\",IF(S311=\"\",\"\",VLOOKUP(S311,Tabelle!$I$5:$M$7,5,FALSE)))","v":""},{"$f":"IF(G$2034=1,\"\",IF(S311=\"\",\"\",VLOOKUP(S311,Tabelle!$I$5:$N$7,6,FALSE)))","v":""},null,null,null,null,null,null,null,null,null,{"$f":"IF(D311=\"\",0,IF(D311=D310,COUNTIF(D$9:D310,D311)+1,1))","v":0},0,0]
["304","-1900","-1900-0",null,null,null,null,null,null,null,"",null,null,null,null,null,null,null,null,{"$f":"IF(G$2034=1,\"\",IF(S312=\"\",\"\",VLOOKUP(S312,Tabelle!$I$5:$M$7,5,FALSE)))","v":""},{"$f":"IF(G$2034=1,\"\",IF(S312=\"\",\"\",VLOOKUP(S312,Tabelle!$I$5:$N$7,6,FALSE)))","v":""},null,null,null,null,null,null,null,null,null,{"$f":"IF(D312=\"\",0,IF(D312=D311,COUNTIF(D$9:D311,D312)+1,1))","v":0},0,0]
["305","-1900","-1900-0",null,null,null,null,null,null,null,"",null,null,null,null,null,null,null,null,{"$f":"IF(G$2034=1,\"\",IF(S313=\"\",\"\",VLOOKUP(S313,Tabelle!$I$5:$M$7,5,FALSE)))","v":""},{"$f":"IF(G$2034=1,\"\",IF(S313=\"\",\"\",VLOOKUP(S313,Tabelle!$I$5:$N$7,6,FALSE)))","v":""},null,null,null,null,null,null,null,null,null,{"$f":"IF(D313=\"\",0,IF(D313=D312,COUNTIF(D$9:D312,D313)+1,1))","v":0},0,0]
["306","-1900","-1900-0",null,null,null,null,null,null,null,"",null,null,null,null,null,null,null,null,{"$f":"IF(G$2034=1,\"\",IF(S314=\"\",\"\",VLOOKUP(S314,Tabelle!$I$5:$M$7,5,FALSE)))","v":""},{"$f":"IF(G$2034=1,\"\",IF(S314=\"\",\"\",VLOOKUP(S314,Tabelle!$I$5:$N$7,6,FALSE)))","v":""},null,null,null,null,null,null,null,null,null,{"$f":"IF(D314=\"\",0,IF(D314=D313,COUNTIF(D$9:D313,D314)+1,1))","v":0},0,0]
["307","-1900","-1900-0",null,null,null,null,null,null,null,"",null,null,null,null,null,null,null,null,{"$f":"IF(G$2034=1,\"\",IF(S315=\"\",\"\",VLOOKUP(S315,Tabelle!$I$5:$M$7,5,FALSE)))","v":""},{"$f":"IF(G$2034=1,\"\",IF(S315=\"\",\"\",VLOOKUP(S315,Tabelle!$I$5:$N$7,6,FALSE)))","v":""},null,null,null,null,null,null,null,null,null,{"$f":"IF(D315=\"\",0,IF(D315=D314,COUNTIF(D$9:D314,D315)+1,1))","v":0},0,0]
["308","-1900","-1900-0",null,null,null,null,null,null,null,"",null,null,null,null,null,null,null,null,{"$f":"IF(G$2034=1,\"\",IF(S316=\"\",\"\",VLOOKUP(S316,Tabelle!$I$5:$M$7,5,FALSE)))","v":""},{"$f":"IF(G$2034=1,\"\",IF(S316=\"\",\"\",VLOOKUP(S316,Tabelle!$I$5:$N$7,6,FALSE)))","v":""},null,null,null,null,null,null,null,null,null,{"$f":"IF(D316=\"\",0,IF(D316=D315,COUNTIF(D$9:D315,D316)+1,1))","v":0},0,0]
["309","-1900","-1900-0",null,null,null,null,null,null,null,"",null,null,null,null,null,null,null,null,{"$f":"IF(G$2034=1,\"\",IF(S317=\"\",\"\",VLOOKUP(S317,Tabelle!$I$5:$M$7,5,FALSE)))","v":""},{"$f":"IF(G$2034=1,\"\",IF(S317=\"\",\"\",VLOOKUP(S317,Tabelle!$I$5:$N$7,6,FALSE)))","v":""},null,null,null,null,null,null,null,null,null,{"$f":"IF(D317=\"\",0,IF(D317=D316,COUNTIF(D$9:D316,D317)+1,1))","v":0},0,0]
["310","-1900","-1900-0",null,null,null,null,null,null,null,"",null,null,null,null,null,null,null,null,{"$f":"IF(G$2034=1,\"\",IF(S318=\"\",\"\",VLOOKUP(S318,Tabelle!$I$5:$M$7,5,FALSE)))","v":""},{"$f":"IF(G$2034=1,\"\",IF(S318=\"\",\"\",VLOOKUP(S318,Tabelle!$I$5:$N$7,6,FALSE)))","v":""},null,null,null,null,null,null,null,null,null,{"$f":"IF(D318=\"\",0,IF(D318=D317,COUNTIF(D$9:D317,D318)+1,1))","v":0},0,0]
["311","-1900","-1900-0",null,null,null,null,null,null,null,"",null,null,null,null,null,null,null,null,{"$f":"IF(G$2034=1,\"\",IF(S319=\"\",\"\",VLOOKUP(S319,Tabelle!$I$5:$M$7,5,FALSE)))","v":""},{"$f":"IF(G$2034=1,\"\",IF(S319=\"\",\"\",VLOOKUP(S319,Tabelle!$I$5:$N$7,6,FALSE)))","v":""},null,null,null,null,null,null,null,null,null,{"$f":"IF(D319=\"\",0,IF(D319=D318,COUNTIF(D$9:D318,D319)+1,1))","v":0},0,0]
["312","-1900","-1900-0",null,null,null,null,null,null,null,"",null,null,null,null,null,null,null,null,{"$f":"IF(G$2034=1,\"\",IF(S320=\"\",\"\",VLOOKUP(S320,Tabelle!$I$5:$M$7,5,FALSE)))","v":""},{"$f":"IF(G$2034=1,\"\",IF(S320=\"\",\"\",VLOOKUP(S320,Tabelle!$I$5:$N$7,6,FALSE)))","v":""},null,null,null,null,null,null,null,null,null,{"$f":"IF(D320=\"\",0,IF(D320=D319,COUNTIF(D$9:D319,D320)+1,1))","v":0},0,0]
["313","-1900","-1900-0",null,null,null,null,null,null,null,"",null,null,null,null,null,null,null,null,{"$f":"IF(G$2034=1,\"\",IF(S321=\"\",\"\",VLOOKUP(S321,Tabelle!$I$5:$M$7,5,FALSE)))","v":""},{"$f":"IF(G$2034=1,\"\",IF(S321=\"\",\"\",VLOOKUP(S321,Tabelle!$I$5:$N$7,6,FALSE)))","v":""},null,null,null,null,null,null,null,null,null,{"$f":"IF(D321=\"\",0,IF(D321=D320,COUNTIF(D$9:D320,D321)+1,1))","v":0},0,0]
["314","-1900","-1900-0",null,null,null,null,null,null,null,"",null,null,null,null,null,null,null,null,{"$f":"IF(G$2034=1,\"\",IF(S322=\"\",\"\",VLOOKUP(S322,Tabelle!$I$5:$M$7,5,FALSE)))","v":""},{"$f":"IF(G$2034=1,\"\",IF(S322=\"\",\"\",VLOOKUP(S322,Tabelle!$I$5:$N$7,6,FALSE)))","v":""},null,null,null,null,null,null,null,null,null,{"$f":"IF(D322=\"\",0,IF(D322=D321,COUNTIF(D$9:D321,D322)+1,1))","v":0},0,0]
["315","-1900","-1900-0",null,null,null,null,null,null,null,"",null,null,null,null,null,null,null,null,{"$f":"IF(G$2034=1,\"\",IF(S323=\"\",\"\",VLOOKUP(S323,Tabelle!$I$5:$M$7,5,FALSE)))","v":""},{"$f":"IF(G$2034=1,\"\",IF(S323=\"\",\"\",VLOOKUP(S323,Tabelle!$I$5:$N$7,6,FALSE)))","v":""},null,null,null,null,null,null,null,null,null,{"$f":"IF(D323=\"\",0,IF(D323=D322,COUNTIF(D$9:D322,D323)+1,1))","v":0},0,0]
["316","-1900","-1900-0",null,null,null,null,null,null,null,"",null,null,null,null,null,null,null,null,{"$f":"IF(G$2034=1,\"\",IF(S324=\"\",\"\",VLOOKUP(S324,Tabelle!$I$5:$M$7,5,FALSE)))","v":""},{"$f":"IF(G$2034=1,\"\",IF(S324=\"\",\"\",VLOOKUP(S324,Tabelle!$I$5:$N$7,6,FALSE)))","v":""},null,null,null,null,null,null,null,null,null,{"$f":"IF(D324=\"\",0,IF(D324=D323,COUNTIF(D$9:D323,D324)+1,1))","v":0},0,0]
["317","-1900","-1900-0",null,null,null,null,null,null,null,"",null,null,null,null,null,null,null,null,{"$f":"IF(G$2034=1,\"\",IF(S325=\"\",\"\",VLOOKUP(S325,Tabelle!$I$5:$M$7,5,FALSE)))","v":""},{"$f":"IF(G$2034=1,\"\",IF(S325=\"\",\"\",VLOOKUP(S325,Tabelle!$I$5:$N$7,6,FALSE)))","v":""},null,null,null,null,null,null,null,null,null,{"$f":"IF(D325=\"\",0,IF(D325=D324,COUNTIF(D$9:D324,D325)+1,1))","v":0},0,0]
["318","-1900","-1900-0",null,null,null,null,null,null,null,"",null,null,null,null,null,null,null,null,{"$f":"IF(G$2034=1,\"\",IF(S326=\"\",\"\",VLOOKUP(S326,Tabelle!$I$5:$M$7,5,FALSE)))","v":""},{"$f":"IF(G$2034=1,\"\",IF(S326=\"\",\"\",VLOOKUP(S326,Tabelle!$I$5:$N$7,6,FALSE)))","v":""},null,null,null,null,null,null,null,null,null,{"$f":"IF(D326=\"\",0,IF(D326=D325,COUNTIF(D$9:D325,D326)+1,1))","v":0},0,0]
["319","-1900","-1900-0",null,null,null,null,null,null,null,"",null,null,null,null,null,null,null,null,{"$f":"IF(G$2034=1,\"\",IF(S327=\"\",\"\",VLOOKUP(S327,Tabelle!$I$5:$M$7,5,FALSE)))","v":""},{"$f":"IF(G$2034=1,\"\",IF(S327=\"\",\"\",VLOOKUP(S327,Tabelle!$I$5:$N$7,6,FALSE)))","v":""},null,null,null,null,null,null,null,null,null,{"$f":"IF(D327=\"\",0,IF(D327=D326,COUNTIF(D$9:D326,D327)+1,1))","v":0},0,0]
["320","-1900","-1900-0",null,null,null,null,null,null,null,"",null,null,null,null,null,null,null,null,{"$f":"IF(G$2034=1,\"\",IF(S328=\"\",\"\",VLOOKUP(S328,Tabelle!$I$5:$M$7,5,FALSE)))","v":""},{"$f":"IF(G$2034=1,\"\",IF(S328=\"\",\"\",VLOOKUP(S328,Tabelle!$I$5:$N$7,6,FALSE)))","v":""},null,null,null,null,null,null,null,null,null,{"$f":"IF(D328=\"\",0,IF(D328=D327,COUNTIF(D$9:D327,D328)+1,1))","v":0},0,0]
["321","-1900",{"$f":"IF(G$2034=1,0,B329&\"-\"&AE329)","v":"-1900-0"},null,null,null,null,null,null,null,{"$f":"IF(G$2034=1,0,IF(OR(J329=\"\",ISERROR($O$2034)),\"\",VLOOKUP(J329,$L$2019:$N$2027,2,FALSE)))","v":""},null,null,null,null,null,null,null,null,{"$f":"IF(G$2034=1,\"\",IF(S329=\"\",\"\",VLOOKUP(S329,Tabelle!$I$5:$M$7,5,FALSE)))","v":""},{"$f":"IF(G$2034=1,\"\",IF(S329=\"\",\"\",VLOOKUP(S329,Tabelle!$I$5:$N$7,6,FALSE)))","v":""},null,null,null,null,null,null,null,null,null,{"$f":"IF(D329=\"\",0,IF(D329=D328,COUNTIF(D$9:D328,D329)+1,1))","v":0},0,0]
["322",{"$f":"IF(AG330=$AG$2013,0,IF(G$2034=1,0,D330&\"-\"&YEAR(E330)))","v":"-1900"},"-1900-0",null,null,null,null,null,null,null,"",null,null,null,null,null,null,null,null,{"$f":"IF(G$2034=1,\"\",IF(S330=\"\",\"\",VLOOKUP(S330,Tabelle!$I$5:$M$7,5,FALSE)))","v":""},{"$f":"IF(G$2034=1,\"\",IF(S330=\"\",\"\",VLOOKUP(S330,Tabelle!$I$5:$N$7,6,FALSE)))","v":""},null,null,null,null,null,null,null,null,null,{"$f":"IF(D330=\"\",0,IF(D330=D329,COUNTIF(D$9:D329,D330)+1,1))","v":0},{"$f":"IF(G$2034=1,0,IF(AE330=28,1,0))","v":0},{"$f":"IF(E330>0,IF(OR(MONTH(E330)<$G$2026,MONTH(E330)>$G$2027),AG$2013,0),0)","v":0}]
["323","-1900","-1900-0",null,null,null,null,null,null,null,"",null,null,null,null,null,null,null,null,{"$f":"IF(G$2034=1,\"\",IF(S331=\"\",\"\",VLOOKUP(S331,Tabelle!$I$5:$M$7,5,FALSE)))","v":""},{"$f":"IF(G$2034=1,\"\",IF(S331=\"\",\"\",VLOOKUP(S331,Tabelle!$I$5:$N$7,6,FALSE)))","v":""},null,null,null,null,null,null,null,null,null,{"$f":"IF(D331=\"\",0,IF(D331=D330,COUNTIF(D$9:D330,D331)+1,1))","v":0},0,0]
["324","-1900","-1900-0",null,null,null,null,null,null,null,"",null,null,null,null,null,null,null,null,{"$f":"IF(G$2034=1,\"\",IF(S332=\"\",\"\",VLOOKUP(S332,Tabelle!$I$5:$M$7,5,FALSE)))","v":""},{"$f":"IF(G$2034=1,\"\",IF(S332=\"\",\"\",VLOOKUP(S332,Tabelle!$I$5:$N$7,6,FALSE)))","v":""},null,null,null,null,null,null,null,null,null,{"$f":"IF(D332=\"\",0,IF(D332=D331,COUNTIF(D$9:D331,D332)+1,1))","v":0},0,0]
["325","-1900","-1900-0",null,null,null,null,null,null,null,"",null,null,null,null,null,null,null,null,{"$f":"IF(G$2034=1,\"\",IF(S333=\"\",\"\",VLOOKUP(S333,Tabelle!$I$5:$M$7,5,FALSE)))","v":""},{"$f":"IF(G$2034=1,\"\",IF(S333=\"\",\"\",VLOOKUP(S333,Tabelle!$I$5:$N$7,6,FALSE)))","v":""},null,null,null,null,null,null,null,null,null,{"$f":"IF(D333=\"\",0,IF(D333=D332,COUNTIF(D$9:D332,D333)+1,1))","v":0},0,0]
["326","-1900","-1900-0",null,null,null,null,null,null,null,"",null,null,null,null,null,null,null,null,{"$f":"IF(G$2034=1,\"\",IF(S334=\"\",\"\",VLOOKUP(S334,Tabelle!$I$5:$M$7,5,FALSE)))","v":""},{"$f":"IF(G$2034=1,\"\",IF(S334=\"\",\"\",VLOOKUP(S334,Tabelle!$I$5:$N$7,6,FALSE)))","v":""},null,null,null,null,null,null,null,null,null,{"$f":"IF(D334=\"\",0,IF(D334=D333,COUNTIF(D$9:D333,D334)+1,1))","v":0},0,0]
["327","-1900","-1900-0",null,null,null,null,null,null,null,"",null,null,null,null,null,null,null,null,{"$f":"IF(G$2034=1,\"\",IF(S335=\"\",\"\",VLOOKUP(S335,Tabelle!$I$5:$M$7,5,FALSE)))","v":""},{"$f":"IF(G$2034=1,\"\",IF(S335=\"\",\"\",VLOOKUP(S335,Tabelle!$I$5:$N$7,6,FALSE)))","v":""},null,null,null,null,null,null,null,null,null,{"$f":"IF(D335=\"\",0,IF(D335=D334,COUNTIF(D$9:D334,D335)+1,1))","v":0},0,0]
["328","-1900","-1900-0",null,null,null,null,null,null,null,"",null,null,null,null,null,null,null,null,{"$f":"IF(G$2034=1,\"\",IF(S336=\"\",\"\",VLOOKUP(S336,Tabelle!$I$5:$M$7,5,FALSE)))","v":""},{"$f":"IF(G$2034=1,\"\",IF(S336=\"\",\"\",VLOOKUP(S336,Tabelle!$I$5:$N$7,6,FALSE)))","v":""},null,null,null,null,null,null,null,null,null,{"$f":"IF(D336=\"\",0,IF(D336=D335,COUNTIF(D$9:D335,D336)+1,1))","v":0},0,0]
["329","-1900","-1900-0",null,null,null,null,null,null,null,"",null,null,null,null,null,null,null,null,{"$f":"IF(G$2034=1,\"\",IF(S337=\"\",\"\",VLOOKUP(S337,Tabelle!$I$5:$M$7,5,FALSE)))","v":""},{"$f":"IF(G$2034=1,\"\",IF(S337=\"\",\"\",VLOOKUP(S337,Tabelle!$I$5:$N$7,6,FALSE)))","v":""},null,null,null,null,null,null,null,null,null,{"$f":"IF(D337=\"\",0,IF(D337=D336,COUNTIF(D$9:D336,D337)+1,1))","v":0},0,0]
["330","-1900","-1900-0",null,null,null,null,null,null,null,"",null,null,null,null,null,null,null,null,{"$f":"IF(G$2034=1,\"\",IF(S338=\"\",\"\",VLOOKUP(S338,Tabelle!$I$5:$M$7,5,FALSE)))","v":""},{"$f":"IF(G$2034=1,\"\",IF(S338=\"\",\"\",VLOOKUP(S338,Tabelle!$I$5:$N$7,6,FALSE)))","v":""},null,null,null,null,null,null,null,null,null,{"$f":"IF(D338=\"\",0,IF(D338=D337,COUNTIF(D$9:D337,D338)+1,1))","v":0},0,0]
["331","-1900","-1900-0",null,null,null,null,null,null,null,"",null,null,null,null,null,null,null,null,{"$f":"IF(G$2034=1,\"\",IF(S339=\"\",\"\",VLOOKUP(S339,Tabelle!$I$5:$M$7,5,FALSE)))","v":""},{"$f":"IF(G$2034=1,\"\",IF(S339=\"\",\"\",VLOOKUP(S339,Tabelle!$I$5:$N$7,6,FALSE)))","v":""},null,null,null,null,null,null,null,null,null,{"$f":"IF(D339=\"\",0,IF(D339=D338,COUNTIF(D$9:D338,D339)+1,1))","v":0},0,0]
["332","-1900","-1900-0",null,null,null,null,null,null,null,"",null,null,null,null,null,null,null,null,{"$f":"IF(G$2034=1,\"\",IF(S340=\"\",\"\",VLOOKUP(S340,Tabelle!$I$5:$M$7,5,FALSE)))","v":""},{"$f":"IF(G$2034=1,\"\",IF(S340=\"\",\"\",VLOOKUP(S340,Tabelle!$I$5:$N$7,6,FALSE)))","v":""},null,null,null,null,null,null,null,null,null,{"$f":"IF(D340=\"\",0,IF(D340=D339,COUNTIF(D$9:D339,D340)+1,1))","v":0},0,0]
["333","-1900","-1900-0",null,null,null,null,null,null,null,"",null,null,null,null,null,null,null,null,{"$f":"IF(G$2034=1,\"\",IF(S341=\"\",\"\",VLOOKUP(S341,Tabelle!$I$5:$M$7,5,FALSE)))","v":""},{"$f":"IF(G$2034=1,\"\",IF(S341=\"\",\"\",VLOOKUP(S341,Tabelle!$I$5:$N$7,6,FALSE)))","v":""},null,null,null,null,null,null,null,null,null,{"$f":"IF(D341=\"\",0,IF(D341=D340,COUNTIF(D$9:D340,D341)+1,1))","v":0},0,0]
["334","-1900","-1900-0",null,null,null,null,null,null,null,"",null,null,null,null,null,null,null,null,{"$f":"IF(G$2034=1,\"\",IF(S342=\"\",\"\",VLOOKUP(S342,Tabelle!$I$5:$M$7,5,FALSE)))","v":""},{"$f":"IF(G$2034=1,\"\",IF(S342=\"\",\"\",VLOOKUP(S342,Tabelle!$I$5:$N$7,6,FALSE)))","v":""},null,null,null,null,null,null,null,null,null,{"$f":"IF(D342=\"\",0,IF(D342=D341,COUNTIF(D$9:D341,D342)+1,1))","v":0},0,0]
["335","-1900","-1900-0",null,null,null,null,null,null,null,"",null,null,null,null,null,null,null,null,{"$f":"IF(G$2034=1,\"\",IF(S343=\"\",\"\",VLOOKUP(S343,Tabelle!$I$5:$M$7,5,FALSE)))","v":""},{"$f":"IF(G$2034=1,\"\",IF(S343=\"\",\"\",VLOOKUP(S343,Tabelle!$I$5:$N$7,6,FALSE)))","v":""},null,null,null,null,null,null,null,null,null,{"$f":"IF(D343=\"\",0,IF(D343=D342,COUNTIF(D$9:D342,D343)+1,1))","v":0},0,0]
["336","-1900","-1900-0",null,null,null,null,null,null,null,"",null,null,null,null,null,null,null,null,{"$f":"IF(G$2034=1,\"\",IF(S344=\"\",\"\",VLOOKUP(S344,Tabelle!$I$5:$M$7,5,FALSE)))","v":""},{"$f":"IF(G$2034=1,\"\",IF(S344=\"\",\"\",VLOOKUP(S344,Tabelle!$I$5:$N$7,6,FALSE)))","v":""},null,null,null,null,null,null,null,null,null,{"$f":"IF(D344=\"\",0,IF(D344=D343,COUNTIF(D$9:D343,D344)+1,1))","v":0},0,0]
["337","-1900","-1900-0",null,null,null,null,null,null,null,"",null,null,null,null,null,null,null,null,{"$f":"IF(G$2034=1,\"\",IF(S345=\"\",\"\",VLOOKUP(S345,Tabelle!$I$5:$M$7,5,FALSE)))","v":""},{"$f":"IF(G$2034=1,\"\",IF(S345=\"\",\"\",VLOOKUP(S345,Tabelle!$I$5:$N$7,6,FALSE)))","v":""},null,null,null,null,null,null,null,null,null,{"$f":"IF(D345=\"\",0,IF(D345=D344,COUNTIF(D$9:D344,D345)+1,1))","v":0},0,0]
["338","-1900","-1900-0",null,null,null,null,null,null,null,"",null,null,null,null,null,null,null,null,{"$f":"IF(G$2034=1,\"\",IF(S346=\"\",\"\",VLOOKUP(S346,Tabelle!$I$5:$M$7,5,FALSE)))","v":""},{"$f":"IF(G$2034=1,\"\",IF(S346=\"\",\"\",VLOOKUP(S346,Tabelle!$I$5:$N$7,6,FALSE)))","v":""},null,null,null,null,null,null,null,null,null,{"$f":"IF(D346=\"\",0,IF(D346=D345,COUNTIF(D$9:D345,D346)+1,1))","v":0},0,0]
["339","-1900","-1900-0",null,null,null,null,null,null,null,"",null,null,null,null,null,null,null,null,{"$f":"IF(G$2034=1,\"\",IF(S347=\"\",\"\",VLOOKUP(S347,Tabelle!$I$5:$M$7,5,FALSE)))","v":""},{"$f":"IF(G$2034=1,\"\",IF(S347=\"\",\"\",VLOOKUP(S347,Tabelle!$I$5:$N$7,6,FALSE)))","v":""},null,null,null,null,null,null,null,null,null,{"$f":"IF(D347=\"\",0,IF(D347=D346,COUNTIF(D$9:D346,D347)+1,1))","v":0},0,0]
["340","-1900","-1900-0",null,null,null,null,null,null,null,"",null,null,null,null,null,null,null,null,{"$f":"IF(G$2034=1,\"\",IF(S348=\"\",\"\",VLOOKUP(S348,Tabelle!$I$5:$M$7,5,FALSE)))","v":""},{"$f":"IF(G$2034=1,\"\",IF(S348=\"\",\"\",VLOOKUP(S348,Tabelle!$I$5:$N$7,6,FALSE)))","v":""},null,null,null,null,null,null,null,null,null,{"$f":"IF(D348=\"\",0,IF(D348=D347,COUNTIF(D$9:D347,D348)+1,1))","v":0},0,0]
["341","-1900","-1900-0",null,null,null,null,null,null,null,"",null,null,null,null,null,null,null,null,{"$f":"IF(G$2034=1,\"\",IF(S349=\"\",\"\",VLOOKUP(S349,Tabelle!$I$5:$M$7,5,FALSE)))","v":""},{"$f":"IF(G$2034=1,\"\",IF(S349=\"\",\"\",VLOOKUP(S349,Tabelle!$I$5:$N$7,6,FALSE)))","v":""},null,null,null,null,null,null,null,null,null,{"$f":"IF(D349=\"\",0,IF(D349=D348,COUNTIF(D$9:D348,D349)+1,1))","v":0},0,0]
["342","-1900","-1900-0",null,null,null,null,null,null,null,"",null,null,null,null,null,null,null,null,{"$f":"IF(G$2034=1,\"\",IF(S350=\"\",\"\",VLOOKUP(S350,Tabelle!$I$5:$M$7,5,FALSE)))","v":""},{"$f":"IF(G$2034=1,\"\",IF(S350=\"\",\"\",VLOOKUP(S350,Tabelle!$I$5:$N$7,6,FALSE)))","v":""},null,null,null,null,null,null,null,null,null,{"$f":"IF(D350=\"\",0,IF(D350=D349,COUNTIF(D$9:D349,D350)+1,1))","v":0},0,0]
["343","-1900","-1900-0",null,null,null,null,null,null,null,"",null,null,null,null,null,null,null,null,{"$f":"IF(G$2034=1,\"\",IF(S351=\"\",\"\",VLOOKUP(S351,Tabelle!$I$5:$M$7,5,FALSE)))","v":""},{"$f":"IF(G$2034=1,\"\",IF(S351=\"\",\"\",VLOOKUP(S351,Tabelle!$I$5:$N$7,6,FALSE)))","v":""},null,null,null,null,null,null,null,null,null,{"$f":"IF(D351=\"\",0,IF(D351=D350,COUNTIF(D$9:D350,D351)+1,1))","v":0},0,0]
["344","-1900","-1900-0",null,null,null,null,null,null,null,"",null,null,null,null,null,null,null,null,{"$f":"IF(G$2034=1,\"\",IF(S352=\"\",\"\",VLOOKUP(S352,Tabelle!$I$5:$M$7,5,FALSE)))","v":""},{"$f":"IF(G$2034=1,\"\",IF(S352=\"\",\"\",VLOOKUP(S352,Tabelle!$I$5:$N$7,6,FALSE)))","v":""},null,null,null,null,null,null,null,null,null,{"$f":"IF(D352=\"\",0,IF(D352=D351,COUNTIF(D$9:D351,D352)+1,1))","v":0},0,0]
["345","-1900","-1900-0",null,null,null,null,null,null,null,"",null,null,null,null,null,null,null,null,{"$f":"IF(G$2034=1,\"\",IF(S353=\"\",\"\",VLOOKUP(S353,Tabelle!$I$5:$M$7,5,FALSE)))","v":""},{"$f":"IF(G$2034=1,\"\",IF(S353=\"\",\"\",VLOOKUP(S353,Tabelle!$I$5:$N$7,6,FALSE)))","v":""},null,null,null,null,null,null,null,null,null,{"$f":"IF(D353=\"\",0,IF(D353=D352,COUNTIF(D$9:D352,D353)+1,1))","v":0},0,0]
["346","-1900","-1900-0",null,null,null,null,null,null,null,"",null,null,null,null,null,null,null,null,{"$f":"IF(G$2034=1,\"\",IF(S354=\"\",\"\",VLOOKUP(S354,Tabelle!$I$5:$M$7,5,FALSE)))","v":""},{"$f":"IF(G$2034=1,\"\",IF(S354=\"\",\"\",VLOOKUP(S354,Tabelle!$I$5:$N$7,6,FALSE)))","v":""},null,null,null,null,null,null,null,null,null,{"$f":"IF(D354=\"\",0,IF(D354=D353,COUNTIF(D$9:D353,D354)+1,1))","v":0},0,0]
["347","-1900","-1900-0",null,null,null,null,null,null,null,"",null,null,null,null,null,null,null,null,{"$f":"IF(G$2034=1,\"\",IF(S355=\"\",\"\",VLOOKUP(S355,Tabelle!$I$5:$M$7,5,FALSE)))","v":""},{"$f":"IF(G$2034=1,\"\",IF(S355=\"\",\"\",VLOOKUP(S355,Tabelle!$I$5:$N$7,6,FALSE)))","v":""},null,null,null,null,null,null,null,null,null,{"$f":"IF(D355=\"\",0,IF(D355=D354,COUNTIF(D$9:D354,D355)+1,1))","v":0},0,0]
["348","-1900","-1900-0",null,null,null,null,null,null,null,"",null,null,null,null,null,null,null,null,{"$f":"IF(G$2034=1,\"\",IF(S356=\"\",\"\",VLOOKUP(S356,Tabelle!$I$5:$M$7,5,FALSE)))","v":""},{"$f":"IF(G$2034=1,\"\",IF(S356=\"\",\"\",VLOOKUP(S356,Tabelle!$I$5:$N$7,6,FALSE)))","v":""},null,null,null,null,null,null,null,null,null,{"$f":"IF(D356=\"\",0,IF(D356=D355,COUNTIF(D$9:D355,D356)+1,1))","v":0},0,0]
["349","-1900","-1900-0",null,null,null,null,null,null,null,"",null,null,null,null,null,null,null,null,{"$f":"IF(G$2034=1,\"\",IF(S357=\"\",\"\",VLOOKUP(S357,Tabelle!$I$5:$M$7,5,FALSE)))","v":""},{"$f":"IF(G$2034=1,\"\",IF(S357=\"\",\"\",VLOOKUP(S357,Tabelle!$I$5:$N$7,6,FALSE)))","v":""},null,null,null,null,null,null,null,null,null,{"$f":"IF(D357=\"\",0,IF(D357=D356,COUNTIF(D$9:D356,D357)+1,1))","v":0},0,0]
["350","-1900","-1900-0",null,null,null,null,null,null,null,"",null,null,null,null,null,null,null,null,{"$f":"IF(G$2034=1,\"\",IF(S358=\"\",\"\",VLOOKUP(S358,Tabelle!$I$5:$M$7,5,FALSE)))","v":""},{"$f":"IF(G$2034=1,\"\",IF(S358=\"\",\"\",VLOOKUP(S358,Tabelle!$I$5:$N$7,6,FALSE)))","v":""},null,null,null,null,null,null,null,null,null,{"$f":"IF(D358=\"\",0,IF(D358=D357,COUNTIF(D$9:D357,D358)+1,1))","v":0},0,0]
["351","-1900","-1900-0",null,null,null,null,null,null,null,"",null,null,null,null,null,null,null,null,{"$f":"IF(G$2034=1,\"\",IF(S359=\"\",\"\",VLOOKUP(S359,Tabelle!$I$5:$M$7,5,FALSE)))","v":""},{"$f":"IF(G$2034=1,\"\",IF(S359=\"\",\"\",VLOOKUP(S359,Tabelle!$I$5:$N$7,6,FALSE)))","v":""},null,null,null,null,null,null,null,null,null,{"$f":"IF(D359=\"\",0,IF(D359=D358,COUNTIF(D$9:D358,D359)+1,1))","v":0},0,0]
["352","-1900","-1900-0",null,null,null,null,null,null,null,"",null,null,null,null,null,null,null,null,{"$f":"IF(G$2034=1,\"\",IF(S360=\"\",\"\",VLOOKUP(S360,Tabelle!$I$5:$M$7,5,FALSE)))","v":""},{"$f":"IF(G$2034=1,\"\",IF(S360=\"\",\"\",VLOOKUP(S360,Tabelle!$I$5:$N$7,6,FALSE)))","v":""},null,null,null,null,null,null,null,null,null,{"$f":"IF(D360=\"\",0,IF(D360=D359,COUNTIF(D$9:D359,D360)+1,1))","v":0},0,0]
["353","-1900","-1900-0",null,null,null,null,null,null,null,"",null,null,null,null,null,null,null,null,{"$f":"IF(G$2034=1,\"\",IF(S361=\"\",\"\",VLOOKUP(S361,Tabelle!$I$5:$M$7,5,FALSE)))","v":""},{"$f":"IF(G$2034=1,\"\",IF(S361=\"\",\"\",VLOOKUP(S361,Tabelle!$I$5:$N$7,6,FALSE)))","v":""},null,null,null,null,null,null,null,null,null,{"$f":"IF(D361=\"\",0,IF(D361=D360,COUNTIF(D$9:D360,D361)+1,1))","v":0},0,0]
["354","-1900","-1900-0",null,null,null,null,null,null,null,"",null,null,null,null,null,null,null,null,{"$f":"IF(G$2034=1,\"\",IF(S362=\"\",\"\",VLOOKUP(S362,Tabelle!$I$5:$M$7,5,FALSE)))","v":""},{"$f":"IF(G$2034=1,\"\",IF(S362=\"\",\"\",VLOOKUP(S362,Tabelle!$I$5:$N$7,6,FALSE)))","v":""},null,null,null,null,null,null,null,null,null,{"$f":"IF(D362=\"\",0,IF(D362=D361,COUNTIF(D$9:D361,D362)+1,1))","v":0},0,0]
["355","-1900","-1900-0",null,null,null,null,null,null,null,"",null,null,null,null,null,null,null,null,{"$f":"IF(G$2034=1,\"\",IF(S363=\"\",\"\",VLOOKUP(S363,Tabelle!$I$5:$M$7,5,FALSE)))","v":""},{"$f":"IF(G$2034=1,\"\",IF(S363=\"\",\"\",VLOOKUP(S363,Tabelle!$I$5:$N$7,6,FALSE)))","v":""},null,null,null,null,null,null,null,null,null,{"$f":"IF(D363=\"\",0,IF(D363=D362,COUNTIF(D$9:D362,D363)+1,1))","v":0},0,0]
["356","-1900","-1900-0",null,null,null,null,null,null,null,"",null,null,null,null,null,null,null,null,{"$f":"IF(G$2034=1,\"\",IF(S364=\"\",\"\",VLOOKUP(S364,Tabelle!$I$5:$M$7,5,FALSE)))","v":""},{"$f":"IF(G$2034=1,\"\",IF(S364=\"\",\"\",VLOOKUP(S364,Tabelle!$I$5:$N$7,6,FALSE)))","v":""},null,null,null,null,null,null,null,null,null,{"$f":"IF(D364=\"\",0,IF(D364=D363,COUNTIF(D$9:D363,D364)+1,1))","v":0},0,0]
["357","-1900","-1900-0",null,null,null,null,null,null,null,"",null,null,null,null,null,null,null,null,{"$f":"IF(G$2034=1,\"\",IF(S365=\"\",\"\",VLOOKUP(S365,Tabelle!$I$5:$M$7,5,FALSE)))","v":""},{"$f":"IF(G$2034=1,\"\",IF(S365=\"\",\"\",VLOOKUP(S365,Tabelle!$I$5:$N$7,6,FALSE)))","v":""},null,null,null,null,null,null,null,null,null,{"$f":"IF(D365=\"\",0,IF(D365=D364,COUNTIF(D$9:D364,D365)+1,1))","v":0},0,0]
["358","-1900","-1900-0",null,null,null,null,null,null,null,"",null,null,null,null,null,null,null,null,{"$f":"IF(G$2034=1,\"\",IF(S366=\"\",\"\",VLOOKUP(S366,Tabelle!$I$5:$M$7,5,FALSE)))","v":""},{"$f":"IF(G$2034=1,\"\",IF(S366=\"\",\"\",VLOOKUP(S366,Tabelle!$I$5:$N$7,6,FALSE)))","v":""},null,null,null,null,null,null,null,null,null,{"$f":"IF(D366=\"\",0,IF(D366=D365,COUNTIF(D$9:D365,D366)+1,1))","v":0},0,0]
["359","-1900","-1900-0",null,null,null,null,null,null,null,"",null,null,null,null,null,null,null,null,{"$f":"IF(G$2034=1,\"\",IF(S367=\"\",\"\",VLOOKUP(S367,Tabelle!$I$5:$M$7,5,FALSE)))","v":""},{"$f":"IF(G$2034=1,\"\",IF(S367=\"\",\"\",VLOOKUP(S367,Tabelle!$I$5:$N$7,6,FALSE)))","v":""},null,null,null,null,null,null,null,null,null,{"$f":"IF(D367=\"\",0,IF(D367=D366,COUNTIF(D$9:D366,D367)+1,1))","v":0},0,0]
["360","-1900","-1900-0",null,null,null,null,null,null,null,"",null,null,null,null,null,null,null,null,{"$f":"IF(G$2034=1,\"\",IF(S368=\"\",\"\",VLOOKUP(S368,Tabelle!$I$5:$M$7,5,FALSE)))","v":""},{"$f":"IF(G$2034=1,\"\",IF(S368=\"\",\"\",VLOOKUP(S368,Tabelle!$I$5:$N$7,6,FALSE)))","v":""},null,null,null,null,null,null,null,null,null,{"$f":"IF(D368=\"\",0,IF(D368=D367,COUNTIF(D$9:D367,D368)+1,1))","v":0},0,0]
["361","-1900","-1900-0",null,null,null,null,null,null,null,"",null,null,null,null,null,null,null,null,{"$f":"IF(G$2034=1,\"\",IF(S369=\"\",\"\",VLOOKUP(S369,Tabelle!$I$5:$M$7,5,FALSE)))","v":""},{"$f":"IF(G$2034=1,\"\",IF(S369=\"\",\"\",VLOOKUP(S369,Tabelle!$I$5:$N$7,6,FALSE)))","v":""},null,null,null,null,null,null,null,null,null,{"$f":"IF(D369=\"\",0,IF(D369=D368,COUNTIF(D$9:D368,D369)+1,1))","v":0},0,0]
["362","-1900","-1900-0",null,null,null,null,null,null,null,"",null,null,null,null,null,null,null,null,{"$f":"IF(G$2034=1,\"\",IF(S370=\"\",\"\",VLOOKUP(S370,Tabelle!$I$5:$M$7,5,FALSE)))","v":""},{"$f":"IF(G$2034=1,\"\",IF(S370=\"\",\"\",VLOOKUP(S370,Tabelle!$I$5:$N$7,6,FALSE)))","v":""},null,null,null,null,null,null,null,null,null,{"$f":"IF(D370=\"\",0,IF(D370=D369,COUNTIF(D$9:D369,D370)+1,1))","v":0},0,0]
["363","-1900","-1900-0",null,null,null,null,null,null,null,"",null,null,null,null,null,null,null,null,{"$f":"IF(G$2034=1,\"\",IF(S371=\"\",\"\",VLOOKUP(S371,Tabelle!$I$5:$M$7,5,FALSE)))","v":""},{"$f":"IF(G$2034=1,\"\",IF(S371=\"\",\"\",VLOOKUP(S371,Tabelle!$I$5:$N$7,6,FALSE)))","v":""},null,null,null,null,null,null,null,null,null,{"$f":"IF(D371=\"\",0,IF(D371=D370,COUNTIF(D$9:D370,D371)+1,1))","v":0},0,0]
["364","-1900","-1900-0",null,null,null,null,null,null,null,"",null,null,null,null,null,null,null,null,{"$f":"IF(G$2034=1,\"\",IF(S372=\"\",\"\",VLOOKUP(S372,Tabelle!$I$5:$M$7,5,FALSE)))","v":""},{"$f":"IF(G$2034=1,\"\",IF(S372=\"\",\"\",VLOOKUP(S372,Tabelle!$I$5:$N$7,6,FALSE)))","v":""},null,null,null,null,null,null,null,null,null,{"$f":"IF(D372=\"\",0,IF(D372=D371,COUNTIF(D$9:D371,D372)+1,1))","v":0},0,0]
["365","-1900","-1900-0",null,null,null,null,null,null,null,"",null,null,null,null,null,null,null,null,{"$f":"IF(G$2034=1,\"\",IF(S373=\"\",\"\",VLOOKUP(S373,Tabelle!$I$5:$M$7,5,FALSE)))","v":""},{"$f":"IF(G$2034=1,\"\",IF(S373=\"\",\"\",VLOOKUP(S373,Tabelle!$I$5:$N$7,6,FALSE)))","v":""},null,null,null,null,null,null,null,null,null,{"$f":"IF(D373=\"\",0,IF(D373=D372,COUNTIF(D$9:D372,D373)+1,1))","v":0},0,0]
["366","-1900","-1900-0",null,null,null,null,null,null,null,"",null,null,null,null,null,null,null,null,{"$f":"IF(G$2034=1,\"\",IF(S374=\"\",\"\",VLOOKUP(S374,Tabelle!$I$5:$M$7,5,FALSE)))","v":""},{"$f":"IF(G$2034=1,\"\",IF(S374=\"\",\"\",VLOOKUP(S374,Tabelle!$I$5:$N$7,6,FALSE)))","v":""},null,null,null,null,null,null,null,null,null,{"$f":"IF(D374=\"\",0,IF(D374=D373,COUNTIF(D$9:D373,D374)+1,1))","v":0},0,0]
["367","-1900","-1900-0",null,null,null,null,null,null,null,"",null,null,null,null,null,null,null,null,{"$f":"IF(G$2034=1,\"\",IF(S375=\"\",\"\",VLOOKUP(S375,Tabelle!$I$5:$M$7,5,FALSE)))","v":""},{"$f":"IF(G$2034=1,\"\",IF(S375=\"\",\"\",VLOOKUP(S375,Tabelle!$I$5:$N$7,6,FALSE)))","v":""},null,null,null,null,null,null,null,null,null,{"$f":"IF(D375=\"\",0,IF(D375=D374,COUNTIF(D$9:D374,D375)+1,1))","v":0},0,0]
["368","-1900","-1900-0",null,null,null,null,null,null,null,"",null,null,null,null,null,null,null,null,{"$f":"IF(G$2034=1,\"\",IF(S376=\"\",\"\",VLOOKUP(S376,Tabelle!$I$5:$M$7,5,FALSE)))","v":""},{"$f":"IF(G$2034=1,\"\",IF(S376=\"\",\"\",VLOOKUP(S376,Tabelle!$I$5:$N$7,6,FALSE)))","v":""},null,null,null,null,null,null,null,null,null,{"$f":"IF(D376=\"\",0,IF(D376=D375,COUNTIF(D$9:D375,D376)+1,1))","v":0},0,0]
["369","-1900","-1900-0",null,null,null,null,null,null,null,"",null,null,null,null,null,null,null,null,{"$f":"IF(G$2034=1,\"\",IF(S377=\"\",\"\",VLOOKUP(S377,Tabelle!$I$5:$M$7,5,FALSE)))","v":""},{"$f":"IF(G$2034=1,\"\",IF(S377=\"\",\"\",VLOOKUP(S377,Tabelle!$I$5:$N$7,6,FALSE)))","v":""},null,null,null,null,null,null,null,null,null,{"$f":"IF(D377=\"\",0,IF(D377=D376,COUNTIF(D$9:D376,D377)+1,1))","v":0},0,0]
["370","-1900","-1900-0",null,null,null,null,null,null,null,"",null,null,null,null,null,null,null,null,{"$f":"IF(G$2034=1,\"\",IF(S378=\"\",\"\",VLOOKUP(S378,Tabelle!$I$5:$M$7,5,FALSE)))","v":""},{"$f":"IF(G$2034=1,\"\",IF(S378=\"\",\"\",VLOOKUP(S378,Tabelle!$I$5:$N$7,6,FALSE)))","v":""},null,null,null,null,null,null,null,null,null,{"$f":"IF(D378=\"\",0,IF(D378=D377,COUNTIF(D$9:D377,D378)+1,1))","v":0},0,0]
["371","-1900","-1900-0",null,null,null,null,null,null,null,"",null,null,null,null,null,null,null,null,{"$f":"IF(G$2034=1,\"\",IF(S379=\"\",\"\",VLOOKUP(S379,Tabelle!$I$5:$M$7,5,FALSE)))","v":""},{"$f":"IF(G$2034=1,\"\",IF(S379=\"\",\"\",VLOOKUP(S379,Tabelle!$I$5:$N$7,6,FALSE)))","v":""},null,null,null,null,null,null,null,null,null,{"$f":"IF(D379=\"\",0,IF(D379=D378,COUNTIF(D$9:D378,D379)+1,1))","v":0},0,0]
["372","-1900","-1900-0",null,null,null,null,null,null,null,"",null,null,null,null,null,null,null,null,{"$f":"IF(G$2034=1,\"\",IF(S380=\"\",\"\",VLOOKUP(S380,Tabelle!$I$5:$M$7,5,FALSE)))","v":""},{"$f":"IF(G$2034=1,\"\",IF(S380=\"\",\"\",VLOOKUP(S380,Tabelle!$I$5:$N$7,6,FALSE)))","v":""},null,null,null,null,null,null,null,null,null,{"$f":"IF(D380=\"\",0,IF(D380=D379,COUNTIF(D$9:D379,D380)+1,1))","v":0},0,0]
["373","-1900","-1900-0",null,null,null,null,null,null,null,"",null,null,null,null,null,null,null,null,{"$f":"IF(G$2034=1,\"\",IF(S381=\"\",\"\",VLOOKUP(S381,Tabelle!$I$5:$M$7,5,FALSE)))","v":""},{"$f":"IF(G$2034=1,\"\",IF(S381=\"\",\"\",VLOOKUP(S381,Tabelle!$I$5:$N$7,6,FALSE)))","v":""},null,null,null,null,null,null,null,null,null,{"$f":"IF(D381=\"\",0,IF(D381=D380,COUNTIF(D$9:D380,D381)+1,1))","v":0},0,0]
["374","-1900","-1900-0",null,null,null,null,null,null,null,"",null,null,null,null,null,null,null,null,{"$f":"IF(G$2034=1,\"\",IF(S382=\"\",\"\",VLOOKUP(S382,Tabelle!$I$5:$M$7,5,FALSE)))","v":""},{"$f":"IF(G$2034=1,\"\",IF(S382=\"\",\"\",VLOOKUP(S382,Tabelle!$I$5:$N$7,6,FALSE)))","v":""},null,null,null,null,null,null,null,null,null,{"$f":"IF(D382=\"\",0,IF(D382=D381,COUNTIF(D$9:D381,D382)+1,1))","v":0},0,0]
["375","-1900","-1900-0",null,null,null,null,null,null,null,"",null,null,null,null,null,null,null,null,{"$f":"IF(G$2034=1,\"\",IF(S383=\"\",\"\",VLOOKUP(S383,Tabelle!$I$5:$M$7,5,FALSE)))","v":""},{"$f":"IF(G$2034=1,\"\",IF(S383=\"\",\"\",VLOOKUP(S383,Tabelle!$I$5:$N$7,6,FALSE)))","v":""},null,null,null,null,null,null,null,null,null,{"$f":"IF(D383=\"\",0,IF(D383=D382,COUNTIF(D$9:D382,D383)+1,1))","v":0},0,0]
["376","-1900","-1900-0",null,null,null,null,null,null,null,"",null,null,null,null,null,null,null,null,{"$f":"IF(G$2034=1,\"\",IF(S384=\"\",\"\",VLOOKUP(S384,Tabelle!$I$5:$M$7,5,FALSE)))","v":""},{"$f":"IF(G$2034=1,\"\",IF(S384=\"\",\"\",VLOOKUP(S384,Tabelle!$I$5:$N$7,6,FALSE)))","v":""},null,null,null,null,null,null,null,null,null,{"$f":"IF(D384=\"\",0,IF(D384=D383,COUNTIF(D$9:D383,D384)+1,1))","v":0},0,0]
["377","-1900","-1900-0",null,null,null,null,null,null,null,"",null,null,null,null,null,null,null,null,{"$f":"IF(G$2034=1,\"\",IF(S385=\"\",\"\",VLOOKUP(S385,Tabelle!$I$5:$M$7,5,FALSE)))","v":""},{"$f":"IF(G$2034=1,\"\",IF(S385=\"\",\"\",VLOOKUP(S385,Tabelle!$I$5:$N$7,6,FALSE)))","v":""},null,null,null,null,null,null,null,null,null,{"$f":"IF(D385=\"\",0,IF(D385=D384,COUNTIF(D$9:D384,D385)+1,1))","v":0},0,0]
["378","-1900","-1900-0",null,null,null,null,null,null,null,"",null,null,null,null,null,null,null,null,{"$f":"IF(G$2034=1,\"\",IF(S386=\"\",\"\",VLOOKUP(S386,Tabelle!$I$5:$M$7,5,FALSE)))","v":""},{"$f":"IF(G$2034=1,\"\",IF(S386=\"\",\"\",VLOOKUP(S386,Tabelle!$I$5:$N$7,6,FALSE)))","v":""},null,null,null,null,null,null,null,null,null,{"$f":"IF(D386=\"\",0,IF(D386=D385,COUNTIF(D$9:D385,D386)+1,1))","v":0},0,0]
["379","-1900","-1900-0",null,null,null,null,null,null,null,"",null,null,null,null,null,null,null,null,{"$f":"IF(G$2034=1,\"\",IF(S387=\"\",\"\",VLOOKUP(S387,Tabelle!$I$5:$M$7,5,FALSE)))","v":""},{"$f":"IF(G$2034=1,\"\",IF(S387=\"\",\"\",VLOOKUP(S387,Tabelle!$I$5:$N$7,6,FALSE)))","v":""},null,null,null,null,null,null,null,null,null,{"$f":"IF(D387=\"\",0,IF(D387=D386,COUNTIF(D$9:D386,D387)+1,1))","v":0},0,0]
["380","-1900","-1900-0",null,null,null,null,null,null,null,"",null,null,null,null,null,null,null,null,{"$f":"IF(G$2034=1,\"\",IF(S388=\"\",\"\",VLOOKUP(S388,Tabelle!$I$5:$M$7,5,FALSE)))","v":""},{"$f":"IF(G$2034=1,\"\",IF(S388=\"\",\"\",VLOOKUP(S388,Tabelle!$I$5:$N$7,6,FALSE)))","v":""},null,null,null,null,null,null,null,null,null,{"$f":"IF(D388=\"\",0,IF(D388=D387,COUNTIF(D$9:D387,D388)+1,1))","v":0},0,0]
["381","-1900","-1900-0",null,null,null,null,null,null,null,"",null,null,null,null,null,null,null,null,{"$f":"IF(G$2034=1,\"\",IF(S389=\"\",\"\",VLOOKUP(S389,Tabelle!$I$5:$M$7,5,FALSE)))","v":""},{"$f":"IF(G$2034=1,\"\",IF(S389=\"\",\"\",VLOOKUP(S389,Tabelle!$I$5:$N$7,6,FALSE)))","v":""},null,null,null,null,null,null,null,null,null,{"$f":"IF(D389=\"\",0,IF(D389=D388,COUNTIF(D$9:D388,D389)+1,1))","v":0},0,0]
["382","-1900","-1900-0",null,null,null,null,null,null,null,"",null,null,null,null,null,null,null,null,{"$f":"IF(G$2034=1,\"\",IF(S390=\"\",\"\",VLOOKUP(S390,Tabelle!$I$5:$M$7,5,FALSE)))","v":""},{"$f":"IF(G$2034=1,\"\",IF(S390=\"\",\"\",VLOOKUP(S390,Tabelle!$I$5:$N$7,6,FALSE)))","v":""},null,null,null,null,null,null,null,null,null,{"$f":"IF(D390=\"\",0,IF(D390=D389,COUNTIF(D$9:D389,D390)+1,1))","v":0},0,0]
["383","-1900","-1900-0",null,null,null,null,null,null,null,"",null,null,null,null,null,null,null,null,{"$f":"IF(G$2034=1,\"\",IF(S391=\"\",\"\",VLOOKUP(S391,Tabelle!$I$5:$M$7,5,FALSE)))","v":""},{"$f":"IF(G$2034=1,\"\",IF(S391=\"\",\"\",VLOOKUP(S391,Tabelle!$I$5:$N$7,6,FALSE)))","v":""},null,null,null,null,null,null,null,null,null,{"$f":"IF(D391=\"\",0,IF(D391=D390,COUNTIF(D$9:D390,D391)+1,1))","v":0},0,0]
["384","-1900","-1900-0",null,null,null,null,null,null,null,"",null,null,null,null,null,null,null,null,{"$f":"IF(G$2034=1,\"\",IF(S392=\"\",\"\",VLOOKUP(S392,Tabelle!$I$5:$M$7,5,FALSE)))","v":""},{"$f":"IF(G$2034=1,\"\",IF(S392=\"\",\"\",VLOOKUP(S392,Tabelle!$I$5:$N$7,6,FALSE)))","v":""},null,null,null,null,null,null,null,null,null,{"$f":"IF(D392=\"\",0,IF(D392=D391,COUNTIF(D$9:D391,D392)+1,1))","v":0},0,0]
["385","-1900",{"$f":"IF(G$2034=1,0,B393&\"-\"&AE393)","v":"-1900-0"},null,null,null,null,null,null,null,{"$f":"IF(G$2034=1,0,IF(OR(J393=\"\",ISERROR($O$2034)),\"\",VLOOKUP(J393,$L$2019:$N$2027,2,FALSE)))","v":""},null,null,null,null,null,null,null,null,{"$f":"IF(G$2034=1,\"\",IF(S393=\"\",\"\",VLOOKUP(S393,Tabelle!$I$5:$M$7,5,FALSE)))","v":""},{"$f":"IF(G$2034=1,\"\",IF(S393=\"\",\"\",VLOOKUP(S393,Tabelle!$I$5:$N$7,6,FALSE)))","v":""},null,null,null,null,null,null,null,null,null,{"$f":"IF(D393=\"\",0,IF(D393=D392,COUNTIF(D$9:D392,D393)+1,1))","v":0},0,0]
["386",{"$f":"IF(AG394=$AG$2013,0,IF(G$2034=1,0,D394&\"-\"&YEAR(E394)))","v":"-1900"},"-1900-0",null,null,null,null,null,null,null,"",null,null,null,null,null,null,null,null,{"$f":"IF(G$2034=1,\"\",IF(S394=\"\",\"\",VLOOKUP(S394,Tabelle!$I$5:$M$7,5,FALSE)))","v":""},{"$f":"IF(G$2034=1,\"\",IF(S394=\"\",\"\",VLOOKUP(S394,Tabelle!$I$5:$N$7,6,FALSE)))","v":""},null,null,null,null,null,null,null,null,null,{"$f":"IF(D394=\"\",0,IF(D394=D393,COUNTIF(D$9:D393,D394)+1,1))","v":0},{"$f":"IF(G$2034=1,0,IF(AE394=28,1,0))","v":0},{"$f":"IF(E394>0,IF(OR(MONTH(E394)<$G$2026,MONTH(E394)>$G$2027),AG$2013,0),0)","v":0}]
["387","-1900","-1900-0",null,null,null,null,null,null,null,"",null,null,null,null,null,null,null,null,{"$f":"IF(G$2034=1,\"\",IF(S395=\"\",\"\",VLOOKUP(S395,Tabelle!$I$5:$M$7,5,FALSE)))","v":""},{"$f":"IF(G$2034=1,\"\",IF(S395=\"\",\"\",VLOOKUP(S395,Tabelle!$I$5:$N$7,6,FALSE)))","v":""},null,null,null,null,null,null,null,null,null,{"$f":"IF(D395=\"\",0,IF(D395=D394,COUNTIF(D$9:D394,D395)+1,1))","v":0},0,0]
["388","-1900","-1900-0",null,null,null,null,null,null,null,"",null,null,null,null,null,null,null,null,{"$f":"IF(G$2034=1,\"\",IF(S396=\"\",\"\",VLOOKUP(S396,Tabelle!$I$5:$M$7,5,FALSE)))","v":""},{"$f":"IF(G$2034=1,\"\",IF(S396=\"\",\"\",VLOOKUP(S396,Tabelle!$I$5:$N$7,6,FALSE)))","v":""},null,null,null,null,null,null,null,null,null,{"$f":"IF(D396=\"\",0,IF(D396=D395,COUNTIF(D$9:D395,D396)+1,1))","v":0},0,0]
["389","-1900","-1900-0",null,null,null,null,null,null,null,"",null,null,null,null,null,null,null,null,{"$f":"IF(G$2034=1,\"\",IF(S397=\"\",\"\",VLOOKUP(S397,Tabelle!$I$5:$M$7,5,FALSE)))","v":""},{"$f":"IF(G$2034=1,\"\",IF(S397=\"\",\"\",VLOOKUP(S397,Tabelle!$I$5:$N$7,6,FALSE)))","v":""},null,null,null,null,null,null,null,null,null,{"$f":"IF(D397=\"\",0,IF(D397=D396,COUNTIF(D$9:D396,D397)+1,1))","v":0},0,0]
["390","-1900","-1900-0",null,null,null,null,null,null,null,"",null,null,null,null,null,null,null,null,{"$f":"IF(G$2034=1,\"\",IF(S398=\"\",\"\",VLOOKUP(S398,Tabelle!$I$5:$M$7,5,FALSE)))","v":""},{"$f":"IF(G$2034=1,\"\",IF(S398=\"\",\"\",VLOOKUP(S398,Tabelle!$I$5:$N$7,6,FALSE)))","v":""},null,null,null,null,null,null,null,null,null,{"$f":"IF(D398=\"\",0,IF(D398=D397,COUNTIF(D$9:D397,D398)+1,1))","v":0},0,0]
["391","-1900","-1900-0",null,null,null,null,null,null,null,"",null,null,null,null,null,null,null,null,{"$f":"IF(G$2034=1,\"\",IF(S399=\"\",\"\",VLOOKUP(S399,Tabelle!$I$5:$M$7,5,FALSE)))","v":""},{"$f":"IF(G$2034=1,\"\",IF(S399=\"\",\"\",VLOOKUP(S399,Tabelle!$I$5:$N$7,6,FALSE)))","v":""},null,null,null,null,null,null,null,null,null,{"$f":"IF(D399=\"\",0,IF(D399=D398,COUNTIF(D$9:D398,D399)+1,1))","v":0},0,0]
["392","-1900","-1900-0",null,null,null,null,null,null,null,"",null,null,null,null,null,null,null,null,{"$f":"IF(G$2034=1,\"\",IF(S400=\"\",\"\",VLOOKUP(S400,Tabelle!$I$5:$M$7,5,FALSE)))","v":""},{"$f":"IF(G$2034=1,\"\",IF(S400=\"\",\"\",VLOOKUP(S400,Tabelle!$I$5:$N$7,6,FALSE)))","v":""},null,null,null,null,null,null,null,null,null,{"$f":"IF(D400=\"\",0,IF(D400=D399,COUNTIF(D$9:D399,D400)+1,1))","v":0},0,0]
["393","-1900","-1900-0",null,null,null,null,null,null,null,"",null,null,null,null,null,null,null,null,{"$f":"IF(G$2034=1,\"\",IF(S401=\"\",\"\",VLOOKUP(S401,Tabelle!$I$5:$M$7,5,FALSE)))","v":""},{"$f":"IF(G$2034=1,\"\",IF(S401=\"\",\"\",VLOOKUP(S401,Tabelle!$I$5:$N$7,6,FALSE)))","v":""},null,null,null,null,null,null,null,null,null,{"$f":"IF(D401=\"\",0,IF(D401=D400,COUNTIF(D$9:D400,D401)+1,1))","v":0},0,0]
["394","-1900","-1900-0",null,null,null,null,null,null,null,"",null,null,null,null,null,null,null,null,{"$f":"IF(G$2034=1,\"\",IF(S402=\"\",\"\",VLOOKUP(S402,Tabelle!$I$5:$M$7,5,FALSE)))","v":""},{"$f":"IF(G$2034=1,\"\",IF(S402=\"\",\"\",VLOOKUP(S402,Tabelle!$I$5:$N$7,6,FALSE)))","v":""},null,null,null,null,null,null,null,null,null,{"$f":"IF(D402=\"\",0,IF(D402=D401,COUNTIF(D$9:D401,D402)+1,1))","v":0},0,0]
["395","-1900","-1900-0",null,null,null,null,null,null,null,"",null,null,null,null,null,null,null,null,{"$f":"IF(G$2034=1,\"\",IF(S403=\"\",\"\",VLOOKUP(S403,Tabelle!$I$5:$M$7,5,FALSE)))","v":""},{"$f":"IF(G$2034=1,\"\",IF(S403=\"\",\"\",VLOOKUP(S403,Tabelle!$I$5:$N$7,6,FALSE)))","v":""},null,null,null,null,null,null,null,null,null,{"$f":"IF(D403=\"\",0,IF(D403=D402,COUNTIF(D$9:D402,D403)+1,1))","v":0},0,0]
["396","-1900","-1900-0",null,null,null,null,null,null,null,"",null,null,null,null,null,null,null,null,{"$f":"IF(G$2034=1,\"\",IF(S404=\"\",\"\",VLOOKUP(S404,Tabelle!$I$5:$M$7,5,FALSE)))","v":""},{"$f":"IF(G$2034=1,\"\",IF(S404=\"\",\"\",VLOOKUP(S404,Tabelle!$I$5:$N$7,6,FALSE)))","v":""},null,null,null,null,null,null,null,null,null,{"$f":"IF(D404=\"\",0,IF(D404=D403,COUNTIF(D$9:D403,D404)+1,1))","v":0},0,0]
["397","-1900","-1900-0",null,null,null,null,null,null,null,"",null,null,null,null,null,null,null,null,{"$f":"IF(G$2034=1,\"\",IF(S405=\"\",\"\",VLOOKUP(S405,Tabelle!$I$5:$M$7,5,FALSE)))","v":""},{"$f":"IF(G$2034=1,\"\",IF(S405=\"\",\"\",VLOOKUP(S405,Tabelle!$I$5:$N$7,6,FALSE)))","v":""},null,null,null,null,null,null,null,null,null,{"$f":"IF(D405=\"\",0,IF(D405=D404,COUNTIF(D$9:D404,D405)+1,1))","v":0},0,0]
["398","-1900","-1900-0",null,null,null,null,null,null,null,"",null,null,null,null,null,null,null,null,{"$f":"IF(G$2034=1,\"\",IF(S406=\"\",\"\",VLOOKUP(S406,Tabelle!$I$5:$M$7,5,FALSE)))","v":""},{"$f":"IF(G$2034=1,\"\",IF(S406=\"\",\"\",VLOOKUP(S406,Tabelle!$I$5:$N$7,6,FALSE)))","v":""},null,null,null,null,null,null,null,null,null,{"$f":"IF(D406=\"\",0,IF(D406=D405,COUNTIF(D$9:D405,D406)+1,1))","v":0},0,0]
["399","-1900","-1900-0",null,null,null,null,null,null,null,"",null,null,null,null,null,null,null,null,{"$f":"IF(G$2034=1,\"\",IF(S407=\"\",\"\",VLOOKUP(S407,Tabelle!$I$5:$M$7,5,FALSE)))","v":""},{"$f":"IF(G$2034=1,\"\",IF(S407=\"\",\"\",VLOOKUP(S407,Tabelle!$I$5:$N$7,6,FALSE)))","v":""},null,null,null,null,null,null,null,null,null,{"$f":"IF(D407=\"\",0,IF(D407=D406,COUNTIF(D$9:D406,D407)+1,1))","v":0},0,0]
["400","-1900","-1900-0",null,null,null,null,null,null,null,"",null,null,null,null,null,null,null,null,{"$f":"IF(G$2034=1,\"\",IF(S408=\"\",\"\",VLOOKUP(S408,Tabelle!$I$5:$M$7,5,FALSE)))","v":""},{"$f":"IF(G$2034=1,\"\",IF(S408=\"\",\"\",VLOOKUP(S408,Tabelle!$I$5:$N$7,6,FALSE)))","v":""},null,null,null,null,null,null,null,null,null,{"$f":"IF(D408=\"\",0,IF(D408=D407,COUNTIF(D$9:D407,D408)+1,1))","v":0},0,0]
["401","-1900","-1900-0",null,null,null,null,null,null,null,"",null,null,null,null,null,null,null,null,{"$f":"IF(G$2034=1,\"\",IF(S409=\"\",\"\",VLOOKUP(S409,Tabelle!$I$5:$M$7,5,FALSE)))","v":""},{"$f":"IF(G$2034=1,\"\",IF(S409=\"\",\"\",VLOOKUP(S409,Tabelle!$I$5:$N$7,6,FALSE)))","v":""},null,null,null,null,null,null,null,null,null,{"$f":"IF(D409=\"\",0,IF(D409=D408,COUNTIF(D$9:D408,D409)+1,1))","v":0},0,0]
["402","-1900","-1900-0",null,null,null,null,null,null,null,"",null,null,null,null,null,null,null,null,{"$f":"IF(G$2034=1,\"\",IF(S410=\"\",\"\",VLOOKUP(S410,Tabelle!$I$5:$M$7,5,FALSE)))","v":""},{"$f":"IF(G$2034=1,\"\",IF(S410=\"\",\"\",VLOOKUP(S410,Tabelle!$I$5:$N$7,6,FALSE)))","v":""},null,null,null,null,null,null,null,null,null,{"$f":"IF(D410=\"\",0,IF(D410=D409,COUNTIF(D$9:D409,D410)+1,1))","v":0},0,0]
["403","-1900","-1900-0",null,null,null,null,null,null,null,"",null,null,null,null,null,null,null,null,{"$f":"IF(G$2034=1,\"\",IF(S411=\"\",\"\",VLOOKUP(S411,Tabelle!$I$5:$M$7,5,FALSE)))","v":""},{"$f":"IF(G$2034=1,\"\",IF(S411=\"\",\"\",VLOOKUP(S411,Tabelle!$I$5:$N$7,6,FALSE)))","v":""},null,null,null,null,null,null,null,null,null,{"$f":"IF(D411=\"\",0,IF(D411=D410,COUNTIF(D$9:D410,D411)+1,1))","v":0},0,0]
["404","-1900","-1900-0",null,null,null,null,null,null,null,"",null,null,null,null,null,null,null,null,{"$f":"IF(G$2034=1,\"\",IF(S412=\"\",\"\",VLOOKUP(S412,Tabelle!$I$5:$M$7,5,FALSE)))","v":""},{"$f":"IF(G$2034=1,\"\",IF(S412=\"\",\"\",VLOOKUP(S412,Tabelle!$I$5:$N$7,6,FALSE)))","v":""},null,null,null,null,null,null,null,null,null,{"$f":"IF(D412=\"\",0,IF(D412=D411,COUNTIF(D$9:D411,D412)+1,1))","v":0},0,0]
["405","-1900","-1900-0",null,null,null,null,null,null,null,"",null,null,null,null,null,null,null,null,{"$f":"IF(G$2034=1,\"\",IF(S413=\"\",\"\",VLOOKUP(S413,Tabelle!$I$5:$M$7,5,FALSE)))","v":""},{"$f":"IF(G$2034=1,\"\",IF(S413=\"\",\"\",VLOOKUP(S413,Tabelle!$I$5:$N$7,6,FALSE)))","v":""},null,null,null,null,null,null,null,null,null,{"$f":"IF(D413=\"\",0,IF(D413=D412,COUNTIF(D$9:D412,D413)+1,1))","v":0},0,0]
["406","-1900","-1900-0",null,null,null,null,null,null,null,"",null,null,null,null,null,null,null,null,{"$f":"IF(G$2034=1,\"\",IF(S414=\"\",\"\",VLOOKUP(S414,Tabelle!$I$5:$M$7,5,FALSE)))","v":""},{"$f":"IF(G$2034=1,\"\",IF(S414=\"\",\"\",VLOOKUP(S414,Tabelle!$I$5:$N$7,6,FALSE)))","v":""},null,null,null,null,null,null,null,null,null,{"$f":"IF(D414=\"\",0,IF(D414=D413,COUNTIF(D$9:D413,D414)+1,1))","v":0},0,0]
["407","-1900","-1900-0",null,null,null,null,null,null,null,"",null,null,null,null,null,null,null,null,{"$f":"IF(G$2034=1,\"\",IF(S415=\"\",\"\",VLOOKUP(S415,Tabelle!$I$5:$M$7,5,FALSE)))","v":""},{"$f":"IF(G$2034=1,\"\",IF(S415=\"\",\"\",VLOOKUP(S415,Tabelle!$I$5:$N$7,6,FALSE)))","v":""},null,null,null,null,null,null,null,null,null,{"$f":"IF(D415=\"\",0,IF(D415=D414,COUNTIF(D$9:D414,D415)+1,1))","v":0},0,0]
["408","-1900","-1900-0",null,null,null,null,null,null,null,"",null,null,null,null,null,null,null,null,{"$f":"IF(G$2034=1,\"\",IF(S416=\"\",\"\",VLOOKUP(S416,Tabelle!$I$5:$M$7,5,FALSE)))","v":""},{"$f":"IF(G$2034=1,\"\",IF(S416=\"\",\"\",VLOOKUP(S416,Tabelle!$I$5:$N$7,6,FALSE)))","v":""},null,null,null,null,null,null,null,null,null,{"$f":"IF(D416=\"\",0,IF(D416=D415,COUNTIF(D$9:D415,D416)+1,1))","v":0},0,0]
["409","-1900","-1900-0",null,null,null,null,null,null,null,"",null,null,null,null,null,null,null,null,{"$f":"IF(G$2034=1,\"\",IF(S417=\"\",\"\",VLOOKUP(S417,Tabelle!$I$5:$M$7,5,FALSE)))","v":""},{"$f":"IF(G$2034=1,\"\",IF(S417=\"\",\"\",VLOOKUP(S417,Tabelle!$I$5:$N$7,6,FALSE)))","v":""},null,null,null,null,null,null,null,null,null,{"$f":"IF(D417=\"\",0,IF(D417=D416,COUNTIF(D$9:D416,D417)+1,1))","v":0},0,0]
["410","-1900","-1900-0",null,null,null,null,null,null,null,"",null,null,null,null,null,null,null,null,{"$f":"IF(G$2034=1,\"\",IF(S418=\"\",\"\",VLOOKUP(S418,Tabelle!$I$5:$M$7,5,FALSE)))","v":""},{"$f":"IF(G$2034=1,\"\",IF(S418=\"\",\"\",VLOOKUP(S418,Tabelle!$I$5:$N$7,6,FALSE)))","v":""},null,null,null,null,null,null,null,null,null,{"$f":"IF(D418=\"\",0,IF(D418=D417,COUNTIF(D$9:D417,D418)+1,1))","v":0},0,0]
["411","-1900","-1900-0",null,null,null,null,null,null,null,"",null,null,null,null,null,null,null,null,{"$f":"IF(G$2034=1,\"\",IF(S419=\"\",\"\",VLOOKUP(S419,Tabelle!$I$5:$M$7,5,FALSE)))","v":""},{"$f":"IF(G$2034=1,\"\",IF(S419=\"\",\"\",VLOOKUP(S419,Tabelle!$I$5:$N$7,6,FALSE)))","v":""},null,null,null,null,null,null,null,null,null,{"$f":"IF(D419=\"\",0,IF(D419=D418,COUNTIF(D$9:D418,D419)+1,1))","v":0},0,0]
["412","-1900","-1900-0",null,null,null,null,null,null,null,"",null,null,null,null,null,null,null,null,{"$f":"IF(G$2034=1,\"\",IF(S420=\"\",\"\",VLOOKUP(S420,Tabelle!$I$5:$M$7,5,FALSE)))","v":""},{"$f":"IF(G$2034=1,\"\",IF(S420=\"\",\"\",VLOOKUP(S420,Tabelle!$I$5:$N$7,6,FALSE)))","v":""},null,null,null,null,null,null,null,null,null,{"$f":"IF(D420=\"\",0,IF(D420=D419,COUNTIF(D$9:D419,D420)+1,1))","v":0},0,0]
["413","-1900","-1900-0",null,null,null,null,null,null,null,"",null,null,null,null,null,null,null,null,{"$f":"IF(G$2034=1,\"\",IF(S421=\"\",\"\",VLOOKUP(S421,Tabelle!$I$5:$M$7,5,FALSE)))","v":""},{"$f":"IF(G$2034=1,\"\",IF(S421=\"\",\"\",VLOOKUP(S421,Tabelle!$I$5:$N$7,6,FALSE)))","v":""},null,null,null,null,null,null,null,null,null,{"$f":"IF(D421=\"\",0,IF(D421=D420,COUNTIF(D$9:D420,D421)+1,1))","v":0},0,0]
["414","-1900","-1900-0",null,null,null,null,null,null,null,"",null,null,null,null,null,null,null,null,{"$f":"IF(G$2034=1,\"\",IF(S422=\"\",\"\",VLOOKUP(S422,Tabelle!$I$5:$M$7,5,FALSE)))","v":""},{"$f":"IF(G$2034=1,\"\",IF(S422=\"\",\"\",VLOOKUP(S422,Tabelle!$I$5:$N$7,6,FALSE)))","v":""},null,null,null,null,null,null,null,null,null,{"$f":"IF(D422=\"\",0,IF(D422=D421,COUNTIF(D$9:D421,D422)+1,1))","v":0},0,0]
["415","-1900","-1900-0",null,null,null,null,null,null,null,"",null,null,null,null,null,null,null,null,{"$f":"IF(G$2034=1,\"\",IF(S423=\"\",\"\",VLOOKUP(S423,Tabelle!$I$5:$M$7,5,FALSE)))","v":""},{"$f":"IF(G$2034=1,\"\",IF(S423=\"\",\"\",VLOOKUP(S423,Tabelle!$I$5:$N$7,6,FALSE)))","v":""},null,null,null,null,null,null,null,null,null,{"$f":"IF(D423=\"\",0,IF(D423=D422,COUNTIF(D$9:D422,D423)+1,1))","v":0},0,0]
["416","-1900","-1900-0",null,null,null,null,null,null,null,"",null,null,null,null,null,null,null,null,{"$f":"IF(G$2034=1,\"\",IF(S424=\"\",\"\",VLOOKUP(S424,Tabelle!$I$5:$M$7,5,FALSE)))","v":""},{"$f":"IF(G$2034=1,\"\",IF(S424=\"\",\"\",VLOOKUP(S424,Tabelle!$I$5:$N$7,6,FALSE)))","v":""},null,null,null,null,null,null,null,null,null,{"$f":"IF(D424=\"\",0,IF(D424=D423,COUNTIF(D$9:D423,D424)+1,1))","v":0},0,0]
["417","-1900","-1900-0",null,null,null,null,null,null,null,"",null,null,null,null,null,null,null,null,{"$f":"IF(G$2034=1,\"\",IF(S425=\"\",\"\",VLOOKUP(S425,Tabelle!$I$5:$M$7,5,FALSE)))","v":""},{"$f":"IF(G$2034=1,\"\",IF(S425=\"\",\"\",VLOOKUP(S425,Tabelle!$I$5:$N$7,6,FALSE)))","v":""},null,null,null,null,null,null,null,null,null,{"$f":"IF(D425=\"\",0,IF(D425=D424,COUNTIF(D$9:D424,D425)+1,1))","v":0},0,0]
["418","-1900","-1900-0",null,null,null,null,null,null,null,"",null,null,null,null,null,null,null,null,{"$f":"IF(G$2034=1,\"\",IF(S426=\"\",\"\",VLOOKUP(S426,Tabelle!$I$5:$M$7,5,FALSE)))","v":""},{"$f":"IF(G$2034=1,\"\",IF(S426=\"\",\"\",VLOOKUP(S426,Tabelle!$I$5:$N$7,6,FALSE)))","v":""},null,null,null,null,null,null,null,null,null,{"$f":"IF(D426=\"\",0,IF(D426=D425,COUNTIF(D$9:D425,D426)+1,1))","v":0},0,0]
["419","-1900","-1900-0",null,null,null,null,null,null,null,"",null,null,null,null,null,null,null,null,{"$f":"IF(G$2034=1,\"\",IF(S427=\"\",\"\",VLOOKUP(S427,Tabelle!$I$5:$M$7,5,FALSE)))","v":""},{"$f":"IF(G$2034=1,\"\",IF(S427=\"\",\"\",VLOOKUP(S427,Tabelle!$I$5:$N$7,6,FALSE)))","v":""},null,null,null,null,null,null,null,null,null,{"$f":"IF(D427=\"\",0,IF(D427=D426,COUNTIF(D$9:D426,D427)+1,1))","v":0},0,0]
["420","-1900","-1900-0",null,null,null,null,null,null,null,"",null,null,null,null,null,null,null,null,{"$f":"IF(G$2034=1,\"\",IF(S428=\"\",\"\",VLOOKUP(S428,Tabelle!$I$5:$M$7,5,FALSE)))","v":""},{"$f":"IF(G$2034=1,\"\",IF(S428=\"\",\"\",VLOOKUP(S428,Tabelle!$I$5:$N$7,6,FALSE)))","v":""},null,null,null,null,null,null,null,null,null,{"$f":"IF(D428=\"\",0,IF(D428=D427,COUNTIF(D$9:D427,D428)+1,1))","v":0},0,0]
["421","-1900","-1900-0",null,null,null,null,null,null,null,"",null,null,null,null,null,null,null,null,{"$f":"IF(G$2034=1,\"\",IF(S429=\"\",\"\",VLOOKUP(S429,Tabelle!$I$5:$M$7,5,FALSE)))","v":""},{"$f":"IF(G$2034=1,\"\",IF(S429=\"\",\"\",VLOOKUP(S429,Tabelle!$I$5:$N$7,6,FALSE)))","v":""},null,null,null,null,null,null,null,null,null,{"$f":"IF(D429=\"\",0,IF(D429=D428,COUNTIF(D$9:D428,D429)+1,1))","v":0},0,0]
["422","-1900","-1900-0",null,null,null,null,null,null,null,"",null,null,null,null,null,null,null,null,{"$f":"IF(G$2034=1,\"\",IF(S430=\"\",\"\",VLOOKUP(S430,Tabelle!$I$5:$M$7,5,FALSE)))","v":""},{"$f":"IF(G$2034=1,\"\",IF(S430=\"\",\"\",VLOOKUP(S430,Tabelle!$I$5:$N$7,6,FALSE)))","v":""},null,null,null,null,null,null,null,null,null,{"$f":"IF(D430=\"\",0,IF(D430=D429,COUNTIF(D$9:D429,D430)+1,1))","v":0},0,0]
["423","-1900","-1900-0",null,null,null,null,null,null,null,"",null,null,null,null,null,null,null,null,{"$f":"IF(G$2034=1,\"\",IF(S431=\"\",\"\",VLOOKUP(S431,Tabelle!$I$5:$M$7,5,FALSE)))","v":""},{"$f":"IF(G$2034=1,\"\",IF(S431=\"\",\"\",VLOOKUP(S431,Tabelle!$I$5:$N$7,6,FALSE)))","v":""},null,null,null,null,null,null,null,null,null,{"$f":"IF(D431=\"\",0,IF(D431=D430,COUNTIF(D$9:D430,D431)+1,1))","v":0},0,0]
["424","-1900","-1900-0",null,null,null,null,null,null,null,"",null,null,null,null,null,null,null,null,{"$f":"IF(G$2034=1,\"\",IF(S432=\"\",\"\",VLOOKUP(S432,Tabelle!$I$5:$M$7,5,FALSE)))","v":""},{"$f":"IF(G$2034=1,\"\",IF(S432=\"\",\"\",VLOOKUP(S432,Tabelle!$I$5:$N$7,6,FALSE)))","v":""},null,null,null,null,null,null,null,null,null,{"$f":"IF(D432=\"\",0,IF(D432=D431,COUNTIF(D$9:D431,D432)+1,1))","v":0},0,0]
["425","-1900","-1900-0",null,null,null,null,null,null,null,"",null,null,null,null,null,null,null,null,{"$f":"IF(G$2034=1,\"\",IF(S433=\"\",\"\",VLOOKUP(S433,Tabelle!$I$5:$M$7,5,FALSE)))","v":""},{"$f":"IF(G$2034=1,\"\",IF(S433=\"\",\"\",VLOOKUP(S433,Tabelle!$I$5:$N$7,6,FALSE)))","v":""},null,null,null,null,null,null,null,null,null,{"$f":"IF(D433=\"\",0,IF(D433=D432,COUNTIF(D$9:D432,D433)+1,1))","v":0},0,0]
["426","-1900","-1900-0",null,null,null,null,null,null,null,"",null,null,null,null,null,null,null,null,{"$f":"IF(G$2034=1,\"\",IF(S434=\"\",\"\",VLOOKUP(S434,Tabelle!$I$5:$M$7,5,FALSE)))","v":""},{"$f":"IF(G$2034=1,\"\",IF(S434=\"\",\"\",VLOOKUP(S434,Tabelle!$I$5:$N$7,6,FALSE)))","v":""},null,null,null,null,null,null,null,null,null,{"$f":"IF(D434=\"\",0,IF(D434=D433,COUNTIF(D$9:D433,D434)+1,1))","v":0},0,0]
["427","-1900","-1900-0",null,null,null,null,null,null,null,"",null,null,null,null,null,null,null,null,{"$f":"IF(G$2034=1,\"\",IF(S435=\"\",\"\",VLOOKUP(S435,Tabelle!$I$5:$M$7,5,FALSE)))","v":""},{"$f":"IF(G$2034=1,\"\",IF(S435=\"\",\"\",VLOOKUP(S435,Tabelle!$I$5:$N$7,6,FALSE)))","v":""},null,null,null,null,null,null,null,null,null,{"$f":"IF(D435=\"\",0,IF(D435=D434,COUNTIF(D$9:D434,D435)+1,1))","v":0},0,0]
["428","-1900","-1900-0",null,null,null,null,null,null,null,"",null,null,null,null,null,null,null,null,{"$f":"IF(G$2034=1,\"\",IF(S436=\"\",\"\",VLOOKUP(S436,Tabelle!$I$5:$M$7,5,FALSE)))","v":""},{"$f":"IF(G$2034=1,\"\",IF(S436=\"\",\"\",VLOOKUP(S436,Tabelle!$I$5:$N$7,6,FALSE)))","v":""},null,null,null,null,null,null,null,null,null,{"$f":"IF(D436=\"\",0,IF(D436=D435,COUNTIF(D$9:D435,D436)+1,1))","v":0},0,0]
["429","-1900","-1900-0",null,null,null,null,null,null,null,"",null,null,null,null,null,null,null,null,{"$f":"IF(G$2034=1,\"\",IF(S437=\"\",\"\",VLOOKUP(S437,Tabelle!$I$5:$M$7,5,FALSE)))","v":""},{"$f":"IF(G$2034=1,\"\",IF(S437=\"\",\"\",VLOOKUP(S437,Tabelle!$I$5:$N$7,6,FALSE)))","v":""},null,null,null,null,null,null,null,null,null,{"$f":"IF(D437=\"\",0,IF(D437=D436,COUNTIF(D$9:D436,D437)+1,1))","v":0},0,0]
["430","-1900","-1900-0",null,null,null,null,null,null,null,"",null,null,null,null,null,null,null,null,{"$f":"IF(G$2034=1,\"\",IF(S438=\"\",\"\",VLOOKUP(S438,Tabelle!$I$5:$M$7,5,FALSE)))","v":""},{"$f":"IF(G$2034=1,\"\",IF(S438=\"\",\"\",VLOOKUP(S438,Tabelle!$I$5:$N$7,6,FALSE)))","v":""},null,null,null,null,null,null,null,null,null,{"$f":"IF(D438=\"\",0,IF(D438=D437,COUNTIF(D$9:D437,D438)+1,1))","v":0},0,0]
["431","-1900","-1900-0",null,null,null,null,null,null,null,"",null,null,null,null,null,null,null,null,{"$f":"IF(G$2034=1,\"\",IF(S439=\"\",\"\",VLOOKUP(S439,Tabelle!$I$5:$M$7,5,FALSE)))","v":""},{"$f":"IF(G$2034=1,\"\",IF(S439=\"\",\"\",VLOOKUP(S439,Tabelle!$I$5:$N$7,6,FALSE)))","v":""},null,null,null,null,null,null,null,null,null,{"$f":"IF(D439=\"\",0,IF(D439=D438,COUNTIF(D$9:D438,D439)+1,1))","v":0},0,0]
["432","-1900","-1900-0",null,null,null,null,null,null,null,"",null,null,null,null,null,null,null,null,{"$f":"IF(G$2034=1,\"\",IF(S440=\"\",\"\",VLOOKUP(S440,Tabelle!$I$5:$M$7,5,FALSE)))","v":""},{"$f":"IF(G$2034=1,\"\",IF(S440=\"\",\"\",VLOOKUP(S440,Tabelle!$I$5:$N$7,6,FALSE)))","v":""},null,null,null,null,null,null,null,null,null,{"$f":"IF(D440=\"\",0,IF(D440=D439,COUNTIF(D$9:D439,D440)+1,1))","v":0},0,0]
["433","-1900","-1900-0",null,null,null,null,null,null,null,"",null,null,null,null,null,null,null,null,{"$f":"IF(G$2034=1,\"\",IF(S441=\"\",\"\",VLOOKUP(S441,Tabelle!$I$5:$M$7,5,FALSE)))","v":""},{"$f":"IF(G$2034=1,\"\",IF(S441=\"\",\"\",VLOOKUP(S441,Tabelle!$I$5:$N$7,6,FALSE)))","v":""},null,null,null,null,null,null,null,null,null,{"$f":"IF(D441=\"\",0,IF(D441=D440,COUNTIF(D$9:D440,D441)+1,1))","v":0},0,0]
["434","-1900","-1900-0",null,null,null,null,null,null,null,"",null,null,null,null,null,null,null,null,{"$f":"IF(G$2034=1,\"\",IF(S442=\"\",\"\",VLOOKUP(S442,Tabelle!$I$5:$M$7,5,FALSE)))","v":""},{"$f":"IF(G$2034=1,\"\",IF(S442=\"\",\"\",VLOOKUP(S442,Tabelle!$I$5:$N$7,6,FALSE)))","v":""},null,null,null,null,null,null,null,null,null,{"$f":"IF(D442=\"\",0,IF(D442=D441,COUNTIF(D$9:D441,D442)+1,1))","v":0},0,0]
["435","-1900","-1900-0",null,null,null,null,null,null,null,"",null,null,null,null,null,null,null,null,{"$f":"IF(G$2034=1,\"\",IF(S443=\"\",\"\",VLOOKUP(S443,Tabelle!$I$5:$M$7,5,FALSE)))","v":""},{"$f":"IF(G$2034=1,\"\",IF(S443=\"\",\"\",VLOOKUP(S443,Tabelle!$I$5:$N$7,6,FALSE)))","v":""},null,null,null,null,null,null,null,null,null,{"$f":"IF(D443=\"\",0,IF(D443=D442,COUNTIF(D$9:D442,D443)+1,1))","v":0},0,0]
["436","-1900","-1900-0",null,null,null,null,null,null,null,"",null,null,null,null,null,null,null,null,{"$f":"IF(G$2034=1,\"\",IF(S444=\"\",\"\",VLOOKUP(S444,Tabelle!$I$5:$M$7,5,FALSE)))","v":""},{"$f":"IF(G$2034=1,\"\",IF(S444=\"\",\"\",VLOOKUP(S444,Tabelle!$I$5:$N$7,6,FALSE)))","v":""},null,null,null,null,null,null,null,null,null,{"$f":"IF(D444=\"\",0,IF(D444=D443,COUNTIF(D$9:D443,D444)+1,1))","v":0},0,0]
["437","-1900","-1900-0",null,null,null,null,null,null,null,"",null,null,null,null,null,null,null,null,{"$f":"IF(G$2034=1,\"\",IF(S445=\"\",\"\",VLOOKUP(S445,Tabelle!$I$5:$M$7,5,FALSE)))","v":""},{"$f":"IF(G$2034=1,\"\",IF(S445=\"\",\"\",VLOOKUP(S445,Tabelle!$I$5:$N$7,6,FALSE)))","v":""},null,null,null,null,null,null,null,null,null,{"$f":"IF(D445=\"\",0,IF(D445=D444,COUNTIF(D$9:D444,D445)+1,1))","v":0},0,0]
["438","-1900","-1900-0",null,null,null,null,null,null,null,"",null,null,null,null,null,null,null,null,{"$f":"IF(G$2034=1,\"\",IF(S446=\"\",\"\",VLOOKUP(S446,Tabelle!$I$5:$M$7,5,FALSE)))","v":""},{"$f":"IF(G$2034=1,\"\",IF(S446=\"\",\"\",VLOOKUP(S446,Tabelle!$I$5:$N$7,6,FALSE)))","v":""},null,null,null,null,null,null,null,null,null,{"$f":"IF(D446=\"\",0,IF(D446=D445,COUNTIF(D$9:D445,D446)+1,1))","v":0},0,0]
["439","-1900","-1900-0",null,null,null,null,null,null,null,"",null,null,null,null,null,null,null,null,{"$f":"IF(G$2034=1,\"\",IF(S447=\"\",\"\",VLOOKUP(S447,Tabelle!$I$5:$M$7,5,FALSE)))","v":""},{"$f":"IF(G$2034=1,\"\",IF(S447=\"\",\"\",VLOOKUP(S447,Tabelle!$I$5:$N$7,6,FALSE)))","v":""},null,null,null,null,null,null,null,null,null,{"$f":"IF(D447=\"\",0,IF(D447=D446,COUNTIF(D$9:D446,D447)+1,1))","v":0},0,0]
["440","-1900","-1900-0",null,null,null,null,null,null,null,"",null,null,null,null,null,null,null,null,{"$f":"IF(G$2034=1,\"\",IF(S448=\"\",\"\",VLOOKUP(S448,Tabelle!$I$5:$M$7,5,FALSE)))","v":""},{"$f":"IF(G$2034=1,\"\",IF(S448=\"\",\"\",VLOOKUP(S448,Tabelle!$I$5:$N$7,6,FALSE)))","v":""},null,null,null,null,null,null,null,null,null,{"$f":"IF(D448=\"\",0,IF(D448=D447,COUNTIF(D$9:D447,D448)+1,1))","v":0},0,0]
["441","-1900","-1900-0",null,null,null,null,null,null,null,"",null,null,null,null,null,null,null,null,{"$f":"IF(G$2034=1,\"\",IF(S449=\"\",\"\",VLOOKUP(S449,Tabelle!$I$5:$M$7,5,FALSE)))","v":""},{"$f":"IF(G$2034=1,\"\",IF(S449=\"\",\"\",VLOOKUP(S449,Tabelle!$I$5:$N$7,6,FALSE)))","v":""},null,null,null,null,null,null,null,null,null,{"$f":"IF(D449=\"\",0,IF(D449=D448,COUNTIF(D$9:D448,D449)+1,1))","v":0},0,0]
["442","-1900","-1900-0",null,null,null,null,null,null,null,"",null,null,null,null,null,null,null,null,{"$f":"IF(G$2034=1,\"\",IF(S450=\"\",\"\",VLOOKUP(S450,Tabelle!$I$5:$M$7,5,FALSE)))","v":""},{"$f":"IF(G$2034=1,\"\",IF(S450=\"\",\"\",VLOOKUP(S450,Tabelle!$I$5:$N$7,6,FALSE)))","v":""},null,null,null,null,null,null,null,null,null,{"$f":"IF(D450=\"\",0,IF(D450=D449,COUNTIF(D$9:D449,D450)+1,1))","v":0},0,0]
["443","-1900","-1900-0",null,null,null,null,null,null,null,"",null,null,null,null,null,null,null,null,{"$f":"IF(G$2034=1,\"\",IF(S451=\"\",\"\",VLOOKUP(S451,Tabelle!$I$5:$M$7,5,FALSE)))","v":""},{"$f":"IF(G$2034=1,\"\",IF(S451=\"\",\"\",VLOOKUP(S451,Tabelle!$I$5:$N$7,6,FALSE)))","v":""},null,null,null,null,null,null,null,null,null,{"$f":"IF(D451=\"\",0,IF(D451=D450,COUNTIF(D$9:D450,D451)+1,1))","v":0},0,0]
["444","-1900","-1900-0",null,null,null,null,null,null,null,"",null,null,null,null,null,null,null,null,{"$f":"IF(G$2034=1,\"\",IF(S452=\"\",\"\",VLOOKUP(S452,Tabelle!$I$5:$M$7,5,FALSE)))","v":""},{"$f":"IF(G$2034=1,\"\",IF(S452=\"\",\"\",VLOOKUP(S452,Tabelle!$I$5:$N$7,6,FALSE)))","v":""},null,null,null,null,null,null,null,null,null,{"$f":"IF(D452=\"\",0,IF(D452=D451,COUNTIF(D$9:D451,D452)+1,1))","v":0},0,0]
["445","-1900","-1900-0",null,null,null,null,null,null,null,"",null,null,null,null,null,null,null,null,{"$f":"IF(G$2034=1,\"\",IF(S453=\"\",\"\",VLOOKUP(S453,Tabelle!$I$5:$M$7,5,FALSE)))","v":""},{"$f":"IF(G$2034=1,\"\",IF(S453=\"\",\"\",VLOOKUP(S453,Tabelle!$I$5:$N$7,6,FALSE)))","v":""},null,null,null,null,null,null,null,null,null,{"$f":"IF(D453=\"\",0,IF(D453=D452,COUNTIF(D$9:D452,D453)+1,1))","v":0},0,0]
["446","-1900","-1900-0",null,null,null,null,null,null,null,"",null,null,null,null,null,null,null,null,{"$f":"IF(G$2034=1,\"\",IF(S454=\"\",\"\",VLOOKUP(S454,Tabelle!$I$5:$M$7,5,FALSE)))","v":""},{"$f":"IF(G$2034=1,\"\",IF(S454=\"\",\"\",VLOOKUP(S454,Tabelle!$I$5:$N$7,6,FALSE)))","v":""},null,null,null,null,null,null,null,null,null,{"$f":"IF(D454=\"\",0,IF(D454=D453,COUNTIF(D$9:D453,D454)+1,1))","v":0},0,0]
["447","-1900","-1900-0",null,null,null,null,null,null,null,"",null,null,null,null,null,null,null,null,{"$f":"IF(G$2034=1,\"\",IF(S455=\"\",\"\",VLOOKUP(S455,Tabelle!$I$5:$M$7,5,FALSE)))","v":""},{"$f":"IF(G$2034=1,\"\",IF(S455=\"\",\"\",VLOOKUP(S455,Tabelle!$I$5:$N$7,6,FALSE)))","v":""},null,null,null,null,null,null,null,null,null,{"$f":"IF(D455=\"\",0,IF(D455=D454,COUNTIF(D$9:D454,D455)+1,1))","v":0},0,0]
["448","-1900","-1900-0",null,null,null,null,null,null,null,"",null,null,null,null,null,null,null,null,{"$f":"IF(G$2034=1,\"\",IF(S456=\"\",\"\",VLOOKUP(S456,Tabelle!$I$5:$M$7,5,FALSE)))","v":""},{"$f":"IF(G$2034=1,\"\",IF(S456=\"\",\"\",VLOOKUP(S456,Tabelle!$I$5:$N$7,6,FALSE)))","v":""},null,null,null,null,null,null,null,null,null,{"$f":"IF(D456=\"\",0,IF(D456=D455,COUNTIF(D$9:D455,D456)+1,1))","v":0},0,0]
["449","-1900",{"$f":"IF(G$2034=1,0,B457&\"-\"&AE457)","v":"-1900-0"},null,null,null,null,null,null,null,{"$f":"IF(G$2034=1,0,IF(OR(J457=\"\",ISERROR($O$2034)),\"\",VLOOKUP(J457,$L$2019:$N$2027,2,FALSE)))","v":""},null,null,null,null,null,null,null,null,{"$f":"IF(G$2034=1,\"\",IF(S457=\"\",\"\",VLOOKUP(S457,Tabelle!$I$5:$M$7,5,FALSE)))","v":""},{"$f":"IF(G$2034=1,\"\",IF(S457=\"\",\"\",VLOOKUP(S457,Tabelle!$I$5:$N$7,6,FALSE)))","v":""},null,null,null,null,null,null,null,null,null,{"$f":"IF(D457=\"\",0,IF(D457=D456,COUNTIF(D$9:D456,D457)+1,1))","v":0},0,0]
["450",{"$f":"IF(AG458=$AG$2013,0,IF(G$2034=1,0,D458&\"-\"&YEAR(E458)))","v":"-1900"},"-1900-0",null,null,null,null,null,null,null,"",null,null,null,null,null,null,null,null,{"$f":"IF(G$2034=1,\"\",IF(S458=\"\",\"\",VLOOKUP(S458,Tabelle!$I$5:$M$7,5,FALSE)))","v":""},{"$f":"IF(G$2034=1,\"\",IF(S458=\"\",\"\",VLOOKUP(S458,Tabelle!$I$5:$N$7,6,FALSE)))","v":""},null,null,null,null,null,null,null,null,null,{"$f":"IF(D458=\"\",0,IF(D458=D457,COUNTIF(D$9:D457,D458)+1,1))","v":0},{"$f":"IF(G$2034=1,0,IF(AE458=28,1,0))","v":0},{"$f":"IF(E458>0,IF(OR(MONTH(E458)<$G$2026,MONTH(E458)>$G$2027),AG$2013,0),0)","v":0}]
["451","-1900","-1900-0",null,null,null,null,null,null,null,"",null,null,null,null,null,null,null,null,{"$f":"IF(G$2034=1,\"\",IF(S459=\"\",\"\",VLOOKUP(S459,Tabelle!$I$5:$M$7,5,FALSE)))","v":""},{"$f":"IF(G$2034=1,\"\",IF(S459=\"\",\"\",VLOOKUP(S459,Tabelle!$I$5:$N$7,6,FALSE)))","v":""},null,null,null,null,null,null,null,null,null,{"$f":"IF(D459=\"\",0,IF(D459=D458,COUNTIF(D$9:D458,D459)+1,1))","v":0},0,0]
["452","-1900","-1900-0",null,null,null,null,null,null,null,"",null,null,null,null,null,null,null,null,{"$f":"IF(G$2034=1,\"\",IF(S460=\"\",\"\",VLOOKUP(S460,Tabelle!$I$5:$M$7,5,FALSE)))","v":""},{"$f":"IF(G$2034=1,\"\",IF(S460=\"\",\"\",VLOOKUP(S460,Tabelle!$I$5:$N$7,6,FALSE)))","v":""},null,null,null,null,null,null,null,null,null,{"$f":"IF(D460=\"\",0,IF(D460=D459,COUNTIF(D$9:D459,D460)+1,1))","v":0},0,0]
["453","-1900","-1900-0",null,null,null,null,null,null,null,"",null,null,null,null,null,null,null,null,{"$f":"IF(G$2034=1,\"\",IF(S461=\"\",\"\",VLOOKUP(S461,Tabelle!$I$5:$M$7,5,FALSE)))","v":""},{"$f":"IF(G$2034=1,\"\",IF(S461=\"\",\"\",VLOOKUP(S461,Tabelle!$I$5:$N$7,6,FALSE)))","v":""},null,null,null,null,null,null,null,null,null,{"$f":"IF(D461=\"\",0,IF(D461=D460,COUNTIF(D$9:D460,D461)+1,1))","v":0},0,0]
["454","-1900","-1900-0",null,null,null,null,null,null,null,"",null,null,null,null,null,null,null,null,{"$f":"IF(G$2034=1,\"\",IF(S462=\"\",\"\",VLOOKUP(S462,Tabelle!$I$5:$M$7,5,FALSE)))","v":""},{"$f":"IF(G$2034=1,\"\",IF(S462=\"\",\"\",VLOOKUP(S462,Tabelle!$I$5:$N$7,6,FALSE)))","v":""},null,null,null,null,null,null,null,null,null,{"$f":"IF(D462=\"\",0,IF(D462=D461,COUNTIF(D$9:D461,D462)+1,1))","v":0},0,0]
["455","-1900","-1900-0",null,null,null,null,null,null,null,"",null,null,null,null,null,null,null,null,{"$f":"IF(G$2034=1,\"\",IF(S463=\"\",\"\",VLOOKUP(S463,Tabelle!$I$5:$M$7,5,FALSE)))","v":""},{"$f":"IF(G$2034=1,\"\",IF(S463=\"\",\"\",VLOOKUP(S463,Tabelle!$I$5:$N$7,6,FALSE)))","v":""},null,null,null,null,null,null,null,null,null,{"$f":"IF(D463=\"\",0,IF(D463=D462,COUNTIF(D$9:D462,D463)+1,1))","v":0},0,0]
["456","-1900","-1900-0",null,null,null,null,null,null,null,"",null,null,null,null,null,null,null,null,{"$f":"IF(G$2034=1,\"\",IF(S464=\"\",\"\",VLOOKUP(S464,Tabelle!$I$5:$M$7,5,FALSE)))","v":""},{"$f":"IF(G$2034=1,\"\",IF(S464=\"\",\"\",VLOOKUP(S464,Tabelle!$I$5:$N$7,6,FALSE)))","v":""},null,null,null,null,null,null,null,null,null,{"$f":"IF(D464=\"\",0,IF(D464=D463,COUNTIF(D$9:D463,D464)+1,1))","v":0},0,0]
["457","-1900","-1900-0",null,null,null,null,null,null,null,"",null,null,null,null,null,null,null,null,{"$f":"IF(G$2034=1,\"\",IF(S465=\"\",\"\",VLOOKUP(S465,Tabelle!$I$5:$M$7,5,FALSE)))","v":""},{"$f":"IF(G$2034=1,\"\",IF(S465=\"\",\"\",VLOOKUP(S465,Tabelle!$I$5:$N$7,6,FALSE)))","v":""},null,null,null,null,null,null,null,null,null,{"$f":"IF(D465=\"\",0,IF(D465=D464,COUNTIF(D$9:D464,D465)+1,1))","v":0},0,0]
["458","-1900","-1900-0",null,null,null,null,null,null,null,"",null,null,null,null,null,null,null,null,{"$f":"IF(G$2034=1,\"\",IF(S466=\"\",\"\",VLOOKUP(S466,Tabelle!$I$5:$M$7,5,FALSE)))","v":""},{"$f":"IF(G$2034=1,\"\",IF(S466=\"\",\"\",VLOOKUP(S466,Tabelle!$I$5:$N$7,6,FALSE)))","v":""},null,null,null,null,null,null,null,null,null,{"$f":"IF(D466=\"\",0,IF(D466=D465,COUNTIF(D$9:D465,D466)+1,1))","v":0},0,0]
["459","-1900","-1900-0",null,null,null,null,null,null,null,"",null,null,null,null,null,null,null,null,{"$f":"IF(G$2034=1,\"\",IF(S467=\"\",\"\",VLOOKUP(S467,Tabelle!$I$5:$M$7,5,FALSE)))","v":""},{"$f":"IF(G$2034=1,\"\",IF(S467=\"\",\"\",VLOOKUP(S467,Tabelle!$I$5:$N$7,6,FALSE)))","v":""},null,null,null,null,null,null,null,null,null,{"$f":"IF(D467=\"\",0,IF(D467=D466,COUNTIF(D$9:D466,D467)+1,1))","v":0},0,0]
["460","-1900","-1900-0",null,null,null,null,null,null,null,"",null,null,null,null,null,null,null,null,{"$f":"IF(G$2034=1,\"\",IF(S468=\"\",\"\",VLOOKUP(S468,Tabelle!$I$5:$M$7,5,FALSE)))","v":""},{"$f":"IF(G$2034=1,\"\",IF(S468=\"\",\"\",VLOOKUP(S468,Tabelle!$I$5:$N$7,6,FALSE)))","v":""},null,null,null,null,null,null,null,null,null,{"$f":"IF(D468=\"\",0,IF(D468=D467,COUNTIF(D$9:D467,D468)+1,1))","v":0},0,0]
["461","-1900","-1900-0",null,null,null,null,null,null,null,"",null,null,null,null,null,null,null,null,{"$f":"IF(G$2034=1,\"\",IF(S469=\"\",\"\",VLOOKUP(S469,Tabelle!$I$5:$M$7,5,FALSE)))","v":""},{"$f":"IF(G$2034=1,\"\",IF(S469=\"\",\"\",VLOOKUP(S469,Tabelle!$I$5:$N$7,6,FALSE)))","v":""},null,null,null,null,null,null,null,null,null,{"$f":"IF(D469=\"\",0,IF(D469=D468,COUNTIF(D$9:D468,D469)+1,1))","v":0},0,0]
["462","-1900","-1900-0",null,null,null,null,null,null,null,"",null,null,null,null,null,null,null,null,{"$f":"IF(G$2034=1,\"\",IF(S470=\"\",\"\",VLOOKUP(S470,Tabelle!$I$5:$M$7,5,FALSE)))","v":""},{"$f":"IF(G$2034=1,\"\",IF(S470=\"\",\"\",VLOOKUP(S470,Tabelle!$I$5:$N$7,6,FALSE)))","v":""},null,null,null,null,null,null,null,null,null,{"$f":"IF(D470=\"\",0,IF(D470=D469,COUNTIF(D$9:D469,D470)+1,1))","v":0},0,0]
["463","-1900","-1900-0",null,null,null,null,null,null,null,"",null,null,null,null,null,null,null,null,{"$f":"IF(G$2034=1,\"\",IF(S471=\"\",\"\",VLOOKUP(S471,Tabelle!$I$5:$M$7,5,FALSE)))","v":""},{"$f":"IF(G$2034=1,\"\",IF(S471=\"\",\"\",VLOOKUP(S471,Tabelle!$I$5:$N$7,6,FALSE)))","v":""},null,null,null,null,null,null,null,null,null,{"$f":"IF(D471=\"\",0,IF(D471=D470,COUNTIF(D$9:D470,D471)+1,1))","v":0},0,0]
["464","-1900","-1900-0",null,null,null,null,null,null,null,"",null,null,null,null,null,null,null,null,{"$f":"IF(G$2034=1,\"\",IF(S472=\"\",\"\",VLOOKUP(S472,Tabelle!$I$5:$M$7,5,FALSE)))","v":""},{"$f":"IF(G$2034=1,\"\",IF(S472=\"\",\"\",VLOOKUP(S472,Tabelle!$I$5:$N$7,6,FALSE)))","v":""},null,null,null,null,null,null,null,null,null,{"$f":"IF(D472=\"\",0,IF(D472=D471,COUNTIF(D$9:D471,D472)+1,1))","v":0},0,0]
["465","-1900","-1900-0",null,null,null,null,null,null,null,"",null,null,null,null,null,null,null,null,{"$f":"IF(G$2034=1,\"\",IF(S473=\"\",\"\",VLOOKUP(S473,Tabelle!$I$5:$M$7,5,FALSE)))","v":""},{"$f":"IF(G$2034=1,\"\",IF(S473=\"\",\"\",VLOOKUP(S473,Tabelle!$I$5:$N$7,6,FALSE)))","v":""},null,null,null,null,null,null,null,null,null,{"$f":"IF(D473=\"\",0,IF(D473=D472,COUNTIF(D$9:D472,D473)+1,1))","v":0},0,0]
["466","-1900","-1900-0",null,null,null,null,null,null,null,"",null,null,null,null,null,null,null,null,{"$f":"IF(G$2034=1,\"\",IF(S474=\"\",\"\",VLOOKUP(S474,Tabelle!$I$5:$M$7,5,FALSE)))","v":""},{"$f":"IF(G$2034=1,\"\",IF(S474=\"\",\"\",VLOOKUP(S474,Tabelle!$I$5:$N$7,6,FALSE)))","v":""},null,null,null,null,null,null,null,null,null,{"$f":"IF(D474=\"\",0,IF(D474=D473,COUNTIF(D$9:D473,D474)+1,1))","v":0},0,0]
["467","-1900","-1900-0",null,null,null,null,null,null,null,"",null,null,null,null,null,null,null,null,{"$f":"IF(G$2034=1,\"\",IF(S475=\"\",\"\",VLOOKUP(S475,Tabelle!$I$5:$M$7,5,FALSE)))","v":""},{"$f":"IF(G$2034=1,\"\",IF(S475=\"\",\"\",VLOOKUP(S475,Tabelle!$I$5:$N$7,6,FALSE)))","v":""},null,null,null,null,null,null,null,null,null,{"$f":"IF(D475=\"\",0,IF(D475=D474,COUNTIF(D$9:D474,D475)+1,1))","v":0},0,0]
["468","-1900","-1900-0",null,null,null,null,null,null,null,"",null,null,null,null,null,null,null,null,{"$f":"IF(G$2034=1,\"\",IF(S476=\"\",\"\",VLOOKUP(S476,Tabelle!$I$5:$M$7,5,FALSE)))","v":""},{"$f":"IF(G$2034=1,\"\",IF(S476=\"\",\"\",VLOOKUP(S476,Tabelle!$I$5:$N$7,6,FALSE)))","v":""},null,null,null,null,null,null,null,null,null,{"$f":"IF(D476=\"\",0,IF(D476=D475,COUNTIF(D$9:D475,D476)+1,1))","v":0},0,0]
["469","-1900","-1900-0",null,null,null,null,null,null,null,"",null,null,null,null,null,null,null,null,{"$f":"IF(G$2034=1,\"\",IF(S477=\"\",\"\",VLOOKUP(S477,Tabelle!$I$5:$M$7,5,FALSE)))","v":""},{"$f":"IF(G$2034=1,\"\",IF(S477=\"\",\"\",VLOOKUP(S477,Tabelle!$I$5:$N$7,6,FALSE)))","v":""},null,null,null,null,null,null,null,null,null,{"$f":"IF(D477=\"\",0,IF(D477=D476,COUNTIF(D$9:D476,D477)+1,1))","v":0},0,0]
["470","-1900","-1900-0",null,null,null,null,null,null,null,"",null,null,null,null,null,null,null,null,{"$f":"IF(G$2034=1,\"\",IF(S478=\"\",\"\",VLOOKUP(S478,Tabelle!$I$5:$M$7,5,FALSE)))","v":""},{"$f":"IF(G$2034=1,\"\",IF(S478=\"\",\"\",VLOOKUP(S478,Tabelle!$I$5:$N$7,6,FALSE)))","v":""},null,null,null,null,null,null,null,null,null,{"$f":"IF(D478=\"\",0,IF(D478=D477,COUNTIF(D$9:D477,D478)+1,1))","v":0},0,0]
["471","-1900","-1900-0",null,null,null,null,null,null,null,"",null,null,null,null,null,null,null,null,{"$f":"IF(G$2034=1,\"\",IF(S479=\"\",\"\",VLOOKUP(S479,Tabelle!$I$5:$M$7,5,FALSE)))","v":""},{"$f":"IF(G$2034=1,\"\",IF(S479=\"\",\"\",VLOOKUP(S479,Tabelle!$I$5:$N$7,6,FALSE)))","v":""},null,null,null,null,null,null,null,null,null,{"$f":"IF(D479=\"\",0,IF(D479=D478,COUNTIF(D$9:D478,D479)+1,1))","v":0},0,0]
["472","-1900","-1900-0",null,null,null,null,null,null,null,"",null,null,null,null,null,null,null,null,{"$f":"IF(G$2034=1,\"\",IF(S480=\"\",\"\",VLOOKUP(S480,Tabelle!$I$5:$M$7,5,FALSE)))","v":""},{"$f":"IF(G$2034=1,\"\",IF(S480=\"\",\"\",VLOOKUP(S480,Tabelle!$I$5:$N$7,6,FALSE)))","v":""},null,null,null,null,null,null,null,null,null,{"$f":"IF(D480=\"\",0,IF(D480=D479,COUNTIF(D$9:D479,D480)+1,1))","v":0},0,0]
["473","-1900","-1900-0",null,null,null,null,null,null,null,"",null,null,null,null,null,null,null,null,{"$f":"IF(G$2034=1,\"\",IF(S481=\"\",\"\",VLOOKUP(S481,Tabelle!$I$5:$M$7,5,FALSE)))","v":""},{"$f":"IF(G$2034=1,\"\",IF(S481=\"\",\"\",VLOOKUP(S481,Tabelle!$I$5:$N$7,6,FALSE)))","v":""},null,null,null,null,null,null,null,null,null,{"$f":"IF(D481=\"\",0,IF(D481=D480,COUNTIF(D$9:D480,D481)+1,1))","v":0},0,0]
["474","-1900","-1900-0",null,null,null,null,null,null,null,"",null,null,null,null,null,null,null,null,{"$f":"IF(G$2034=1,\"\",IF(S482=\"\",\"\",VLOOKUP(S482,Tabelle!$I$5:$M$7,5,FALSE)))","v":""},{"$f":"IF(G$2034=1,\"\",IF(S482=\"\",\"\",VLOOKUP(S482,Tabelle!$I$5:$N$7,6,FALSE)))","v":""},null,null,null,null,null,null,null,null,null,{"$f":"IF(D482=\"\",0,IF(D482=D481,COUNTIF(D$9:D481,D482)+1,1))","v":0},0,0]
["475","-1900","-1900-0",null,null,null,null,null,null,null,"",null,null,null,null,null,null,null,null,{"$f":"IF(G$2034=1,\"\",IF(S483=\"\",\"\",VLOOKUP(S483,Tabelle!$I$5:$M$7,5,FALSE)))","v":""},{"$f":"IF(G$2034=1,\"\",IF(S483=\"\",\"\",VLOOKUP(S483,Tabelle!$I$5:$N$7,6,FALSE)))","v":""},null,null,null,null,null,null,null,null,null,{"$f":"IF(D483=\"\",0,IF(D483=D482,COUNTIF(D$9:D482,D483)+1,1))","v":0},0,0]
["476","-1900","-1900-0",null,null,null,null,null,null,null,"",null,null,null,null,null,null,null,null,{"$f":"IF(G$2034=1,\"\",IF(S484=\"\",\"\",VLOOKUP(S484,Tabelle!$I$5:$M$7,5,FALSE)))","v":""},{"$f":"IF(G$2034=1,\"\",IF(S484=\"\",\"\",VLOOKUP(S484,Tabelle!$I$5:$N$7,6,FALSE)))","v":""},null,null,null,null,null,null,null,null,null,{"$f":"IF(D484=\"\",0,IF(D484=D483,COUNTIF(D$9:D483,D484)+1,1))","v":0},0,0]
["477","-1900","-1900-0",null,null,null,null,null,null,null,"",null,null,null,null,null,null,null,null,{"$f":"IF(G$2034=1,\"\",IF(S485=\"\",\"\",VLOOKUP(S485,Tabelle!$I$5:$M$7,5,FALSE)))","v":""},{"$f":"IF(G$2034=1,\"\",IF(S485=\"\",\"\",VLOOKUP(S485,Tabelle!$I$5:$N$7,6,FALSE)))","v":""},null,null,null,null,null,null,null,null,null,{"$f":"IF(D485=\"\",0,IF(D485=D484,COUNTIF(D$9:D484,D485)+1,1))","v":0},0,0]
["478","-1900","-1900-0",null,null,null,null,null,null,null,"",null,null,null,null,null,null,null,null,{"$f":"IF(G$2034=1,\"\",IF(S486=\"\",\"\",VLOOKUP(S486,Tabelle!$I$5:$M$7,5,FALSE)))","v":""},{"$f":"IF(G$2034=1,\"\",IF(S486=\"\",\"\",VLOOKUP(S486,Tabelle!$I$5:$N$7,6,FALSE)))","v":""},null,null,null,null,null,null,null,null,null,{"$f":"IF(D486=\"\",0,IF(D486=D485,COUNTIF(D$9:D485,D486)+1,1))","v":0},0,0]
["479","-1900","-1900-0",null,null,null,null,null,null,null,"",null,null,null,null,null,null,null,null,{"$f":"IF(G$2034=1,\"\",IF(S487=\"\",\"\",VLOOKUP(S487,Tabelle!$I$5:$M$7,5,FALSE)))","v":""},{"$f":"IF(G$2034=1,\"\",IF(S487=\"\",\"\",VLOOKUP(S487,Tabelle!$I$5:$N$7,6,FALSE)))","v":""},null,null,null,null,null,null,null,null,null,{"$f":"IF(D487=\"\",0,IF(D487=D486,COUNTIF(D$9:D486,D487)+1,1))","v":0},0,0]
["480","-1900","-1900-0",null,null,null,null,null,null,null,"",null,null,null,null,null,null,null,null,{"$f":"IF(G$2034=1,\"\",IF(S488=\"\",\"\",VLOOKUP(S488,Tabelle!$I$5:$M$7,5,FALSE)))","v":""},{"$f":"IF(G$2034=1,\"\",IF(S488=\"\",\"\",VLOOKUP(S488,Tabelle!$I$5:$N$7,6,FALSE)))","v":""},null,null,null,null,null,null,null,null,null,{"$f":"IF(D488=\"\",0,IF(D488=D487,COUNTIF(D$9:D487,D488)+1,1))","v":0},0,0]
["481","-1900","-1900-0",null,null,null,null,null,null,null,"",null,null,null,null,null,null,null,null,{"$f":"IF(G$2034=1,\"\",IF(S489=\"\",\"\",VLOOKUP(S489,Tabelle!$I$5:$M$7,5,FALSE)))","v":""},{"$f":"IF(G$2034=1,\"\",IF(S489=\"\",\"\",VLOOKUP(S489,Tabelle!$I$5:$N$7,6,FALSE)))","v":""},null,null,null,null,null,null,null,null,null,{"$f":"IF(D489=\"\",0,IF(D489=D488,COUNTIF(D$9:D488,D489)+1,1))","v":0},0,0]
["482","-1900","-1900-0",null,null,null,null,null,null,null,"",null,null,null,null,null,null,null,null,{"$f":"IF(G$2034=1,\"\",IF(S490=\"\",\"\",VLOOKUP(S490,Tabelle!$I$5:$M$7,5,FALSE)))","v":""},{"$f":"IF(G$2034=1,\"\",IF(S490=\"\",\"\",VLOOKUP(S490,Tabelle!$I$5:$N$7,6,FALSE)))","v":""},null,null,null,null,null,null,null,null,null,{"$f":"IF(D490=\"\",0,IF(D490=D489,COUNTIF(D$9:D489,D490)+1,1))","v":0},0,0]
["483","-1900","-1900-0",null,null,null,null,null,null,null,"",null,null,null,null,null,null,null,null,{"$f":"IF(G$2034=1,\"\",IF(S491=\"\",\"\",VLOOKUP(S491,Tabelle!$I$5:$M$7,5,FALSE)))","v":""},{"$f":"IF(G$2034=1,\"\",IF(S491=\"\",\"\",VLOOKUP(S491,Tabelle!$I$5:$N$7,6,FALSE)))","v":""},null,null,null,null,null,null,null,null,null,{"$f":"IF(D491=\"\",0,IF(D491=D490,COUNTIF(D$9:D490,D491)+1,1))","v":0},0,0]
["484","-1900","-1900-0",null,null,null,null,null,null,null,"",null,null,null,null,null,null,null,null,{"$f":"IF(G$2034=1,\"\",IF(S492=\"\",\"\",VLOOKUP(S492,Tabelle!$I$5:$M$7,5,FALSE)))","v":""},{"$f":"IF(G$2034=1,\"\",IF(S492=\"\",\"\",VLOOKUP(S492,Tabelle!$I$5:$N$7,6,FALSE)))","v":""},null,null,null,null,null,null,null,null,null,{"$f":"IF(D492=\"\",0,IF(D492=D491,COUNTIF(D$9:D491,D492)+1,1))","v":0},0,0]
["485","-1900","-1900-0",null,null,null,null,null,null,null,"",null,null,null,null,null,null,null,null,{"$f":"IF(G$2034=1,\"\",IF(S493=\"\",\"\",VLOOKUP(S493,Tabelle!$I$5:$M$7,5,FALSE)))","v":""},{"$f":"IF(G$2034=1,\"\",IF(S493=\"\",\"\",VLOOKUP(S493,Tabelle!$I$5:$N$7,6,FALSE)))","v":""},null,null,null,null,null,null,null,null,null,{"$f":"IF(D493=\"\",0,IF(D493=D492,COUNTIF(D$9:D492,D493)+1,1))","v":0},0,0]
["486","-1900","-1900-0",null,null,null,null,null,null,null,"",null,null,null,null,null,null,null,null,{"$f":"IF(G$2034=1,\"\",IF(S494=\"\",\"\",VLOOKUP(S494,Tabelle!$I$5:$M$7,5,FALSE)))","v":""},{"$f":"IF(G$2034=1,\"\",IF(S494=\"\",\"\",VLOOKUP(S494,Tabelle!$I$5:$N$7,6,FALSE)))","v":""},null,null,null,null,null,null,null,null,null,{"$f":"IF(D494=\"\",0,IF(D494=D493,COUNTIF(D$9:D493,D494)+1,1))","v":0},0,0]
["487","-1900","-1900-0",null,null,null,null,null,null,null,"",null,null,null,null,null,null,null,null,{"$f":"IF(G$2034=1,\"\",IF(S495=\"\",\"\",VLOOKUP(S495,Tabelle!$I$5:$M$7,5,FALSE)))","v":""},{"$f":"IF(G$2034=1,\"\",IF(S495=\"\",\"\",VLOOKUP(S495,Tabelle!$I$5:$N$7,6,FALSE)))","v":""},null,null,null,null,null,null,null,null,null,{"$f":"IF(D495=\"\",0,IF(D495=D494,COUNTIF(D$9:D494,D495)+1,1))","v":0},0,0]
["488","-1900","-1900-0",null,null,null,null,null,null,null,"",null,null,null,null,null,null,null,null,{"$f":"IF(G$2034=1,\"\",IF(S496=\"\",\"\",VLOOKUP(S496,Tabelle!$I$5:$M$7,5,FALSE)))","v":""},{"$f":"IF(G$2034=1,\"\",IF(S496=\"\",\"\",VLOOKUP(S496,Tabelle!$I$5:$N$7,6,FALSE)))","v":""},null,null,null,null,null,null,null,null,null,{"$f":"IF(D496=\"\",0,IF(D496=D495,COUNTIF(D$9:D495,D496)+1,1))","v":0},0,0]
["489","-1900","-1900-0",null,null,null,null,null,null,null,"",null,null,null,null,null,null,null,null,{"$f":"IF(G$2034=1,\"\",IF(S497=\"\",\"\",VLOOKUP(S497,Tabelle!$I$5:$M$7,5,FALSE)))","v":""},{"$f":"IF(G$2034=1,\"\",IF(S497=\"\",\"\",VLOOKUP(S497,Tabelle!$I$5:$N$7,6,FALSE)))","v":""},null,null,null,null,null,null,null,null,null,{"$f":"IF(D497=\"\",0,IF(D497=D496,COUNTIF(D$9:D496,D497)+1,1))","v":0},0,0]
["490","-1900","-1900-0",null,null,null,null,null,null,null,"",null,null,null,null,null,null,null,null,{"$f":"IF(G$2034=1,\"\",IF(S498=\"\",\"\",VLOOKUP(S498,Tabelle!$I$5:$M$7,5,FALSE)))","v":""},{"$f":"IF(G$2034=1,\"\",IF(S498=\"\",\"\",VLOOKUP(S498,Tabelle!$I$5:$N$7,6,FALSE)))","v":""},null,null,null,null,null,null,null,null,null,{"$f":"IF(D498=\"\",0,IF(D498=D497,COUNTIF(D$9:D497,D498)+1,1))","v":0},0,0]
["491","-1900","-1900-0",null,null,null,null,null,null,null,"",null,null,null,null,null,null,null,null,{"$f":"IF(G$2034=1,\"\",IF(S499=\"\",\"\",VLOOKUP(S499,Tabelle!$I$5:$M$7,5,FALSE)))","v":""},{"$f":"IF(G$2034=1,\"\",IF(S499=\"\",\"\",VLOOKUP(S499,Tabelle!$I$5:$N$7,6,FALSE)))","v":""},null,null,null,null,null,null,null,null,null,{"$f":"IF(D499=\"\",0,IF(D499=D498,COUNTIF(D$9:D498,D499)+1,1))","v":0},0,0]
["492","-1900","-1900-0",null,null,null,null,null,null,null,"",null,null,null,null,null,null,null,null,{"$f":"IF(G$2034=1,\"\",IF(S500=\"\",\"\",VLOOKUP(S500,Tabelle!$I$5:$M$7,5,FALSE)))","v":""},{"$f":"IF(G$2034=1,\"\",IF(S500=\"\",\"\",VLOOKUP(S500,Tabelle!$I$5:$N$7,6,FALSE)))","v":""},null,null,null,null,null,null,null,null,null,{"$f":"IF(D500=\"\",0,IF(D500=D499,COUNTIF(D$9:D499,D500)+1,1))","v":0},0,0]
["493","-1900","-1900-0",null,null,null,null,null,null,null,"",null,null,null,null,null,null,null,null,{"$f":"IF(G$2034=1,\"\",IF(S501=\"\",\"\",VLOOKUP(S501,Tabelle!$I$5:$M$7,5,FALSE)))","v":""},{"$f":"IF(G$2034=1,\"\",IF(S501=\"\",\"\",VLOOKUP(S501,Tabelle!$I$5:$N$7,6,FALSE)))","v":""},null,null,null,null,null,null,null,null,null,{"$f":"IF(D501=\"\",0,IF(D501=D500,COUNTIF(D$9:D500,D501)+1,1))","v":0},0,0]
["494","-1900","-1900-0",null,null,null,null,null,null,null,"",null,null,null,null,null,null,null,null,{"$f":"IF(G$2034=1,\"\",IF(S502=\"\",\"\",VLOOKUP(S502,Tabelle!$I$5:$M$7,5,FALSE)))","v":""},{"$f":"IF(G$2034=1,\"\",IF(S502=\"\",\"\",VLOOKUP(S502,Tabelle!$I$5:$N$7,6,FALSE)))","v":""},null,null,null,null,null,null,null,null,null,{"$f":"IF(D502=\"\",0,IF(D502=D501,COUNTIF(D$9:D501,D502)+1,1))","v":0},0,0]
["495","-1900","-1900-0",null,null,null,null,null,null,null,"",null,null,null,null,null,null,null,null,{"$f":"IF(G$2034=1,\"\",IF(S503=\"\",\"\",VLOOKUP(S503,Tabelle!$I$5:$M$7,5,FALSE)))","v":""},{"$f":"IF(G$2034=1,\"\",IF(S503=\"\",\"\",VLOOKUP(S503,Tabelle!$I$5:$N$7,6,FALSE)))","v":""},null,null,null,null,null,null,null,null,null,{"$f":"IF(D503=\"\",0,IF(D503=D502,COUNTIF(D$9:D502,D503)+1,1))","v":0},0,0]
["496","-1900","-1900-0",null,null,null,null,null,null,null,"",null,null,null,null,null,null,null,null,{"$f":"IF(G$2034=1,\"\",IF(S504=\"\",\"\",VLOOKUP(S504,Tabelle!$I$5:$M$7,5,FALSE)))","v":""},{"$f":"IF(G$2034=1,\"\",IF(S504=\"\",\"\",VLOOKUP(S504,Tabelle!$I$5:$N$7,6,FALSE)))","v":""},null,null,null,null,null,null,null,null,null,{"$f":"IF(D504=\"\",0,IF(D504=D503,COUNTIF(D$9:D503,D504)+1,1))","v":0},0,0]
["497","-1900","-1900-0",null,null,null,null,null,null,null,"",null,null,null,null,null,null,null,null,{"$f":"IF(G$2034=1,\"\",IF(S505=\"\",\"\",VLOOKUP(S505,Tabelle!$I$5:$M$7,5,FALSE)))","v":""},{"$f":"IF(G$2034=1,\"\",IF(S505=\"\",\"\",VLOOKUP(S505,Tabelle!$I$5:$N$7,6,FALSE)))","v":""},null,null,null,null,null,null,null,null,null,{"$f":"IF(D505=\"\",0,IF(D505=D504,COUNTIF(D$9:D504,D505)+1,1))","v":0},0,0]
["498","-1900","-1900-0",null,null,null,null,null,null,null,"",null,null,null,null,null,null,null,null,{"$f":"IF(G$2034=1,\"\",IF(S506=\"\",\"\",VLOOKUP(S506,Tabelle!$I$5:$M$7,5,FALSE)))","v":""},{"$f":"IF(G$2034=1,\"\",IF(S506=\"\",\"\",VLOOKUP(S506,Tabelle!$I$5:$N$7,6,FALSE)))","v":""},null,null,null,null,null,null,null,null,null,{"$f":"IF(D506=\"\",0,IF(D506=D505,COUNTIF(D$9:D505,D506)+1,1))","v":0},0,0]
["499","-1900","-1900-0",null,null,null,null,null,null,null,"",null,null,null,null,null,null,null,null,{"$f":"IF(G$2034=1,\"\",IF(S507=\"\",\"\",VLOOKUP(S507,Tabelle!$I$5:$M$7,5,FALSE)))","v":""},{"$f":"IF(G$2034=1,\"\",IF(S507=\"\",\"\",VLOOKUP(S507,Tabelle!$I$5:$N$7,6,FALSE)))","v":""},null,null,null,null,null,null,null,null,null,{"$f":"IF(D507=\"\",0,IF(D507=D506,COUNTIF(D$9:D506,D507)+1,1))","v":0},0,0]
["500","-1900","-1900-0",null,null,null,null,null,null,null,"",null,null,null,null,null,null,null,null,{"$f":"IF(G$2034=1,\"\",IF(S508=\"\",\"\",VLOOKUP(S508,Tabelle!$I$5:$M$7,5,FALSE)))","v":""},{"$f":"IF(G$2034=1,\"\",IF(S508=\"\",\"\",VLOOKUP(S508,Tabelle!$I$5:$N$7,6,FALSE)))","v":""},null,null,null,null,null,null,null,null,null,{"$f":"IF(D508=\"\",0,IF(D508=D507,COUNTIF(D$9:D507,D508)+1,1))","v":0},0,0]
["501","-1900","-1900-0",null,null,null,null,null,null,null,"",null,null,null,null,null,null,null,null,{"$f":"IF(G$2034=1,\"\",IF(S509=\"\",\"\",VLOOKUP(S509,Tabelle!$I$5:$M$7,5,FALSE)))","v":""},{"$f":"IF(G$2034=1,\"\",IF(S509=\"\",\"\",VLOOKUP(S509,Tabelle!$I$5:$N$7,6,FALSE)))","v":""},null,null,null,null,null,null,null,null,null,{"$f":"IF(D509=\"\",0,IF(D509=D508,COUNTIF(D$9:D508,D509)+1,1))","v":0},0,0]
["502","-1900","-1900-0",null,null,null,null,null,null,null,"",null,null,null,null,null,null,null,null,{"$f":"IF(G$2034=1,\"\",IF(S510=\"\",\"\",VLOOKUP(S510,Tabelle!$I$5:$M$7,5,FALSE)))","v":""},{"$f":"IF(G$2034=1,\"\",IF(S510=\"\",\"\",VLOOKUP(S510,Tabelle!$I$5:$N$7,6,FALSE)))","v":""},null,null,null,null,null,null,null,null,null,{"$f":"IF(D510=\"\",0,IF(D510=D509,COUNTIF(D$9:D509,D510)+1,1))","v":0},0,0]
["503","-1900","-1900-0",null,null,null,null,null,null,null,"",null,null,null,null,null,null,null,null,{"$f":"IF(G$2034=1,\"\",IF(S511=\"\",\"\",VLOOKUP(S511,Tabelle!$I$5:$M$7,5,FALSE)))","v":""},{"$f":"IF(G$2034=1,\"\",IF(S511=\"\",\"\",VLOOKUP(S511,Tabelle!$I$5:$N$7,6,FALSE)))","v":""},null,null,null,null,null,null,null,null,null,{"$f":"IF(D511=\"\",0,IF(D511=D510,COUNTIF(D$9:D510,D511)+1,1))","v":0},0,0]
["504","-1900","-1900-0",null,null,null,null,null,null,null,"",null,null,null,null,null,null,null,null,{"$f":"IF(G$2034=1,\"\",IF(S512=\"\",\"\",VLOOKUP(S512,Tabelle!$I$5:$M$7,5,FALSE)))","v":""},{"$f":"IF(G$2034=1,\"\",IF(S512=\"\",\"\",VLOOKUP(S512,Tabelle!$I$5:$N$7,6,FALSE)))","v":""},null,null,null,null,null,null,null,null,null,{"$f":"IF(D512=\"\",0,IF(D512=D511,COUNTIF(D$9:D511,D512)+1,1))","v":0},0,0]
["505","-1900","-1900-0",null,null,null,null,null,null,null,"",null,null,null,null,null,null,null,null,{"$f":"IF(G$2034=1,\"\",IF(S513=\"\",\"\",VLOOKUP(S513,Tabelle!$I$5:$M$7,5,FALSE)))","v":""},{"$f":"IF(G$2034=1,\"\",IF(S513=\"\",\"\",VLOOKUP(S513,Tabelle!$I$5:$N$7,6,FALSE)))","v":""},null,null,null,null,null,null,null,null,null,{"$f":"IF(D513=\"\",0,IF(D513=D512,COUNTIF(D$9:D512,D513)+1,1))","v":0},0,0]
["506","-1900","-1900-0",null,null,null,null,null,null,null,"",null,null,null,null,null,null,null,null,{"$f":"IF(G$2034=1,\"\",IF(S514=\"\",\"\",VLOOKUP(S514,Tabelle!$I$5:$M$7,5,FALSE)))","v":""},{"$f":"IF(G$2034=1,\"\",IF(S514=\"\",\"\",VLOOKUP(S514,Tabelle!$I$5:$N$7,6,FALSE)))","v":""},null,null,null,null,null,null,null,null,null,{"$f":"IF(D514=\"\",0,IF(D514=D513,COUNTIF(D$9:D513,D514)+1,1))","v":0},0,0]
["507","-1900","-1900-0",null,null,null,null,null,null,null,"",null,null,null,null,null,null,null,null,{"$f":"IF(G$2034=1,\"\",IF(S515=\"\",\"\",VLOOKUP(S515,Tabelle!$I$5:$M$7,5,FALSE)))","v":""},{"$f":"IF(G$2034=1,\"\",IF(S515=\"\",\"\",VLOOKUP(S515,Tabelle!$I$5:$N$7,6,FALSE)))","v":""},null,null,null,null,null,null,null,null,null,{"$f":"IF(D515=\"\",0,IF(D515=D514,COUNTIF(D$9:D514,D515)+1,1))","v":0},0,0]
["508","-1900","-1900-0",null,null,null,null,null,null,null,"",null,null,null,null,null,null,null,null,{"$f":"IF(G$2034=1,\"\",IF(S516=\"\",\"\",VLOOKUP(S516,Tabelle!$I$5:$M$7,5,FALSE)))","v":""},{"$f":"IF(G$2034=1,\"\",IF(S516=\"\",\"\",VLOOKUP(S516,Tabelle!$I$5:$N$7,6,FALSE)))","v":""},null,null,null,null,null,null,null,null,null,{"$f":"IF(D516=\"\",0,IF(D516=D515,COUNTIF(D$9:D515,D516)+1,1))","v":0},0,0]
["509","-1900","-1900-0",null,null,null,null,null,null,null,"",null,null,null,null,null,null,null,null,{"$f":"IF(G$2034=1,\"\",IF(S517=\"\",\"\",VLOOKUP(S517,Tabelle!$I$5:$M$7,5,FALSE)))","v":""},{"$f":"IF(G$2034=1,\"\",IF(S517=\"\",\"\",VLOOKUP(S517,Tabelle!$I$5:$N$7,6,FALSE)))","v":""},null,null,null,null,null,null,null,null,null,{"$f":"IF(D517=\"\",0,IF(D517=D516,COUNTIF(D$9:D516,D517)+1,1))","v":0},0,0]
["510","-1900","-1900-0",null,null,null,null,null,null,null,"",null,null,null,null,null,null,null,null,{"$f":"IF(G$2034=1,\"\",IF(S518=\"\",\"\",VLOOKUP(S518,Tabelle!$I$5:$M$7,5,FALSE)))","v":""},{"$f":"IF(G$2034=1,\"\",IF(S518=\"\",\"\",VLOOKUP(S518,Tabelle!$I$5:$N$7,6,FALSE)))","v":""},null,null,null,null,null,null,null,null,null,{"$f":"IF(D518=\"\",0,IF(D518=D517,COUNTIF(D$9:D517,D518)+1,1))","v":0},0,0]
["511","-1900","-1900-0",null,null,null,null,null,null,null,"",null,null,null,null,null,null,null,null,{"$f":"IF(G$2034=1,\"\",IF(S519=\"\",\"\",VLOOKUP(S519,Tabelle!$I$5:$M$7,5,FALSE)))","v":""},{"$f":"IF(G$2034=1,\"\",IF(S519=\"\",\"\",VLOOKUP(S519,Tabelle!$I$5:$N$7,6,FALSE)))","v":""},null,null,null,null,null,null,null,null,null,{"$f":"IF(D519=\"\",0,IF(D519=D518,COUNTIF(D$9:D518,D519)+1,1))","v":0},0,0]
["512","-1900","-1900-0",null,null,null,null,null,null,null,"",null,null,null,null,null,null,null,null,{"$f":"IF(G$2034=1,\"\",IF(S520=\"\",\"\",VLOOKUP(S520,Tabelle!$I$5:$M$7,5,FALSE)))","v":""},{"$f":"IF(G$2034=1,\"\",IF(S520=\"\",\"\",VLOOKUP(S520,Tabelle!$I$5:$N$7,6,FALSE)))","v":""},null,null,null,null,null,null,null,null,null,{"$f":"IF(D520=\"\",0,IF(D520=D519,COUNTIF(D$9:D519,D520)+1,1))","v":0},0,0]
["513","-1900",{"$f":"IF(G$2034=1,0,B521&\"-\"&AE521)","v":"-1900-0"},null,null,null,null,null,null,null,{"$f":"IF(G$2034=1,0,IF(OR(J521=\"\",ISERROR($O$2034)),\"\",VLOOKUP(J521,$L$2019:$N$2027,2,FALSE)))","v":""},null,null,null,null,null,null,null,null,{"$f":"IF(G$2034=1,\"\",IF(S521=\"\",\"\",VLOOKUP(S521,Tabelle!$I$5:$M$7,5,FALSE)))","v":""},{"$f":"IF(G$2034=1,\"\",IF(S521=\"\",\"\",VLOOKUP(S521,Tabelle!$I$5:$N$7,6,FALSE)))","v":""},null,null,null,null,null,null,null,null,null,{"$f":"IF(D521=\"\",0,IF(D521=D520,COUNTIF(D$9:D520,D521)+1,1))","v":0},0,0]
["514",{"$f":"IF(AG522=$AG$2013,0,IF(G$2034=1,0,D522&\"-\"&YEAR(E522)))","v":"-1900"},"-1900-0",null,null,null,null,null,null,null,"",null,null,null,null,null,null,null,null,{"$f":"IF(G$2034=1,\"\",IF(S522=\"\",\"\",VLOOKUP(S522,Tabelle!$I$5:$M$7,5,FALSE)))","v":""},{"$f":"IF(G$2034=1,\"\",IF(S522=\"\",\"\",VLOOKUP(S522,Tabelle!$I$5:$N$7,6,FALSE)))","v":""},null,null,null,null,null,null,null,null,null,{"$f":"IF(D522=\"\",0,IF(D522=D521,COUNTIF(D$9:D521,D522)+1,1))","v":0},{"$f":"IF(G$2034=1,0,IF(AE522=28,1,0))","v":0},{"$f":"IF(E522>0,IF(OR(MONTH(E522)<$G$2026,MONTH(E522)>$G$2027),AG$2013,0),0)","v":0}]
["515","-1900","-1900-0",null,null,null,null,null,null,null,"",null,null,null,null,null,null,null,null,{"$f":"IF(G$2034=1,\"\",IF(S523=\"\",\"\",VLOOKUP(S523,Tabelle!$I$5:$M$7,5,FALSE)))","v":""},{"$f":"IF(G$2034=1,\"\",IF(S523=\"\",\"\",VLOOKUP(S523,Tabelle!$I$5:$N$7,6,FALSE)))","v":""},null,null,null,null,null,null,null,null,null,{"$f":"IF(D523=\"\",0,IF(D523=D522,COUNTIF(D$9:D522,D523)+1,1))","v":0},0,0]
["516","-1900","-1900-0",null,null,null,null,null,null,null,"",null,null,null,null,null,null,null,null,{"$f":"IF(G$2034=1,\"\",IF(S524=\"\",\"\",VLOOKUP(S524,Tabelle!$I$5:$M$7,5,FALSE)))","v":""},{"$f":"IF(G$2034=1,\"\",IF(S524=\"\",\"\",VLOOKUP(S524,Tabelle!$I$5:$N$7,6,FALSE)))","v":""},null,null,null,null,null,null,null,null,null,{"$f":"IF(D524=\"\",0,IF(D524=D523,COUNTIF(D$9:D523,D524)+1,1))","v":0},0,0]
["517","-1900","-1900-0",null,null,null,null,null,null,null,"",null,null,null,null,null,null,null,null,{"$f":"IF(G$2034=1,\"\",IF(S525=\"\",\"\",VLOOKUP(S525,Tabelle!$I$5:$M$7,5,FALSE)))","v":""},{"$f":"IF(G$2034=1,\"\",IF(S525=\"\",\"\",VLOOKUP(S525,Tabelle!$I$5:$N$7,6,FALSE)))","v":""},null,null,null,null,null,null,null,null,null,{"$f":"IF(D525=\"\",0,IF(D525=D524,COUNTIF(D$9:D524,D525)+1,1))","v":0},0,0]
["518","-1900","-1900-0",null,null,null,null,null,null,null,"",null,null,null,null,null,null,null,null,{"$f":"IF(G$2034=1,\"\",IF(S526=\"\",\"\",VLOOKUP(S526,Tabelle!$I$5:$M$7,5,FALSE)))","v":""},{"$f":"IF(G$2034=1,\"\",IF(S526=\"\",\"\",VLOOKUP(S526,Tabelle!$I$5:$N$7,6,FALSE)))","v":""},null,null,null,null,null,null,null,null,null,{"$f":"IF(D526=\"\",0,IF(D526=D525,COUNTIF(D$9:D525,D526)+1,1))","v":0},0,0]
["519","-1900","-1900-0",null,null,null,null,null,null,null,"",null,null,null,null,null,null,null,null,{"$f":"IF(G$2034=1,\"\",IF(S527=\"\",\"\",VLOOKUP(S527,Tabelle!$I$5:$M$7,5,FALSE)))","v":""},{"$f":"IF(G$2034=1,\"\",IF(S527=\"\",\"\",VLOOKUP(S527,Tabelle!$I$5:$N$7,6,FALSE)))","v":""},null,null,null,null,null,null,null,null,null,{"$f":"IF(D527=\"\",0,IF(D527=D526,COUNTIF(D$9:D526,D527)+1,1))","v":0},0,0]
["520","-1900","-1900-0",null,null,null,null,null,null,null,"",null,null,null,null,null,null,null,null,{"$f":"IF(G$2034=1,\"\",IF(S528=\"\",\"\",VLOOKUP(S528,Tabelle!$I$5:$M$7,5,FALSE)))","v":""},{"$f":"IF(G$2034=1,\"\",IF(S528=\"\",\"\",VLOOKUP(S528,Tabelle!$I$5:$N$7,6,FALSE)))","v":""},null,null,null,null,null,null,null,null,null,{"$f":"IF(D528=\"\",0,IF(D528=D527,COUNTIF(D$9:D527,D528)+1,1))","v":0},0,0]
["521","-1900","-1900-0",null,null,null,null,null,null,null,"",null,null,null,null,null,null,null,null,{"$f":"IF(G$2034=1,\"\",IF(S529=\"\",\"\",VLOOKUP(S529,Tabelle!$I$5:$M$7,5,FALSE)))","v":""},{"$f":"IF(G$2034=1,\"\",IF(S529=\"\",\"\",VLOOKUP(S529,Tabelle!$I$5:$N$7,6,FALSE)))","v":""},null,null,null,null,null,null,null,null,null,{"$f":"IF(D529=\"\",0,IF(D529=D528,COUNTIF(D$9:D528,D529)+1,1))","v":0},0,0]
["522","-1900","-1900-0",null,null,null,null,null,null,null,"",null,null,null,null,null,null,null,null,{"$f":"IF(G$2034=1,\"\",IF(S530=\"\",\"\",VLOOKUP(S530,Tabelle!$I$5:$M$7,5,FALSE)))","v":""},{"$f":"IF(G$2034=1,\"\",IF(S530=\"\",\"\",VLOOKUP(S530,Tabelle!$I$5:$N$7,6,FALSE)))","v":""},null,null,null,null,null,null,null,null,null,{"$f":"IF(D530=\"\",0,IF(D530=D529,COUNTIF(D$9:D529,D530)+1,1))","v":0},0,0]
["523","-1900","-1900-0",null,null,null,null,null,null,null,"",null,null,null,null,null,null,null,null,{"$f":"IF(G$2034=1,\"\",IF(S531=\"\",\"\",VLOOKUP(S531,Tabelle!$I$5:$M$7,5,FALSE)))","v":""},{"$f":"IF(G$2034=1,\"\",IF(S531=\"\",\"\",VLOOKUP(S531,Tabelle!$I$5:$N$7,6,FALSE)))","v":""},null,null,null,null,null,null,null,null,null,{"$f":"IF(D531=\"\",0,IF(D531=D530,COUNTIF(D$9:D530,D531)+1,1))","v":0},0,0]
["524","-1900","-1900-0",null,null,null,null,null,null,null,"",null,null,null,null,null,null,null,null,{"$f":"IF(G$2034=1,\"\",IF(S532=\"\",\"\",VLOOKUP(S532,Tabelle!$I$5:$M$7,5,FALSE)))","v":""},{"$f":"IF(G$2034=1,\"\",IF(S532=\"\",\"\",VLOOKUP(S532,Tabelle!$I$5:$N$7,6,FALSE)))","v":""},null,null,null,null,null,null,null,null,null,{"$f":"IF(D532=\"\",0,IF(D532=D531,COUNTIF(D$9:D531,D532)+1,1))","v":0},0,0]
["525","-1900","-1900-0",null,null,null,null,null,null,null,"",null,null,null,null,null,null,null,null,{"$f":"IF(G$2034=1,\"\",IF(S533=\"\",\"\",VLOOKUP(S533,Tabelle!$I$5:$M$7,5,FALSE)))","v":""},{"$f":"IF(G$2034=1,\"\",IF(S533=\"\",\"\",VLOOKUP(S533,Tabelle!$I$5:$N$7,6,FALSE)))","v":""},null,null,null,null,null,null,null,null,null,{"$f":"IF(D533=\"\",0,IF(D533=D532,COUNTIF(D$9:D532,D533)+1,1))","v":0},0,0]
["526","-1900","-1900-0",null,null,null,null,null,null,null,"",null,null,null,null,null,null,null,null,{"$f":"IF(G$2034=1,\"\",IF(S534=\"\",\"\",VLOOKUP(S534,Tabelle!$I$5:$M$7,5,FALSE)))","v":""},{"$f":"IF(G$2034=1,\"\",IF(S534=\"\",\"\",VLOOKUP(S534,Tabelle!$I$5:$N$7,6,FALSE)))","v":""},null,null,null,null,null,null,null,null,null,{"$f":"IF(D534=\"\",0,IF(D534=D533,COUNTIF(D$9:D533,D534)+1,1))","v":0},0,0]
["527","-1900","-1900-0",null,null,null,null,null,null,null,"",null,null,null,null,null,null,null,null,{"$f":"IF(G$2034=1,\"\",IF(S535=\"\",\"\",VLOOKUP(S535,Tabelle!$I$5:$M$7,5,FALSE)))","v":""},{"$f":"IF(G$2034=1,\"\",IF(S535=\"\",\"\",VLOOKUP(S535,Tabelle!$I$5:$N$7,6,FALSE)))","v":""},null,null,null,null,null,null,null,null,null,{"$f":"IF(D535=\"\",0,IF(D535=D534,COUNTIF(D$9:D534,D535)+1,1))","v":0},0,0]
["528","-1900","-1900-0",null,null,null,null,null,null,null,"",null,null,null,null,null,null,null,null,{"$f":"IF(G$2034=1,\"\",IF(S536=\"\",\"\",VLOOKUP(S536,Tabelle!$I$5:$M$7,5,FALSE)))","v":""},{"$f":"IF(G$2034=1,\"\",IF(S536=\"\",\"\",VLOOKUP(S536,Tabelle!$I$5:$N$7,6,FALSE)))","v":""},null,null,null,null,null,null,null,null,null,{"$f":"IF(D536=\"\",0,IF(D536=D535,COUNTIF(D$9:D535,D536)+1,1))","v":0},0,0]
["529","-1900","-1900-0",null,null,null,null,null,null,null,"",null,null,null,null,null,null,null,null,{"$f":"IF(G$2034=1,\"\",IF(S537=\"\",\"\",VLOOKUP(S537,Tabelle!$I$5:$M$7,5,FALSE)))","v":""},{"$f":"IF(G$2034=1,\"\",IF(S537=\"\",\"\",VLOOKUP(S537,Tabelle!$I$5:$N$7,6,FALSE)))","v":""},null,null,null,null,null,null,null,null,null,{"$f":"IF(D537=\"\",0,IF(D537=D536,COUNTIF(D$9:D536,D537)+1,1))","v":0},0,0]
["530","-1900","-1900-0",null,null,null,null,null,null,null,"",null,null,null,null,null,null,null,null,{"$f":"IF(G$2034=1,\"\",IF(S538=\"\",\"\",VLOOKUP(S538,Tabelle!$I$5:$M$7,5,FALSE)))","v":""},{"$f":"IF(G$2034=1,\"\",IF(S538=\"\",\"\",VLOOKUP(S538,Tabelle!$I$5:$N$7,6,FALSE)))","v":""},null,null,null,null,null,null,null,null,null,{"$f":"IF(D538=\"\",0,IF(D538=D537,COUNTIF(D$9:D537,D538)+1,1))","v":0},0,0]
["531","-1900","-1900-0",null,null,null,null,null,null,null,"",null,null,null,null,null,null,null,null,{"$f":"IF(G$2034=1,\"\",IF(S539=\"\",\"\",VLOOKUP(S539,Tabelle!$I$5:$M$7,5,FALSE)))","v":""},{"$f":"IF(G$2034=1,\"\",IF(S539=\"\",\"\",VLOOKUP(S539,Tabelle!$I$5:$N$7,6,FALSE)))","v":""},null,null,null,null,null,null,null,null,null,{"$f":"IF(D539=\"\",0,IF(D539=D538,COUNTIF(D$9:D538,D539)+1,1))","v":0},0,0]
["532","-1900","-1900-0",null,null,null,null,null,null,null,"",null,null,null,null,null,null,null,null,{"$f":"IF(G$2034=1,\"\",IF(S540=\"\",\"\",VLOOKUP(S540,Tabelle!$I$5:$M$7,5,FALSE)))","v":""},{"$f":"IF(G$2034=1,\"\",IF(S540=\"\",\"\",VLOOKUP(S540,Tabelle!$I$5:$N$7,6,FALSE)))","v":""},null,null,null,null,null,null,null,null,null,{"$f":"IF(D540=\"\",0,IF(D540=D539,COUNTIF(D$9:D539,D540)+1,1))","v":0},0,0]
["533","-1900","-1900-0",null,null,null,null,null,null,null,"",null,null,null,null,null,null,null,null,{"$f":"IF(G$2034=1,\"\",IF(S541=\"\",\"\",VLOOKUP(S541,Tabelle!$I$5:$M$7,5,FALSE)))","v":""},{"$f":"IF(G$2034=1,\"\",IF(S541=\"\",\"\",VLOOKUP(S541,Tabelle!$I$5:$N$7,6,FALSE)))","v":""},null,null,null,null,null,null,null,null,null,{"$f":"IF(D541=\"\",0,IF(D541=D540,COUNTIF(D$9:D540,D541)+1,1))","v":0},0,0]
["534","-1900","-1900-0",null,null,null,null,null,null,null,"",null,null,null,null,null,null,null,null,{"$f":"IF(G$2034=1,\"\",IF(S542=\"\",\"\",VLOOKUP(S542,Tabelle!$I$5:$M$7,5,FALSE)))","v":""},{"$f":"IF(G$2034=1,\"\",IF(S542=\"\",\"\",VLOOKUP(S542,Tabelle!$I$5:$N$7,6,FALSE)))","v":""},null,null,null,null,null,null,null,null,null,{"$f":"IF(D542=\"\",0,IF(D542=D541,COUNTIF(D$9:D541,D542)+1,1))","v":0},0,0]
["535","-1900","-1900-0",null,null,null,null,null,null,null,"",null,null,null,null,null,null,null,null,{"$f":"IF(G$2034=1,\"\",IF(S543=\"\",\"\",VLOOKUP(S543,Tabelle!$I$5:$M$7,5,FALSE)))","v":""},{"$f":"IF(G$2034=1,\"\",IF(S543=\"\",\"\",VLOOKUP(S543,Tabelle!$I$5:$N$7,6,FALSE)))","v":""},null,null,null,null,null,null,null,null,null,{"$f":"IF(D543=\"\",0,IF(D543=D542,COUNTIF(D$9:D542,D543)+1,1))","v":0},0,0]
["536","-1900","-1900-0",null,null,null,null,null,null,null,"",null,null,null,null,null,null,null,null,{"$f":"IF(G$2034=1,\"\",IF(S544=\"\",\"\",VLOOKUP(S544,Tabelle!$I$5:$M$7,5,FALSE)))","v":""},{"$f":"IF(G$2034=1,\"\",IF(S544=\"\",\"\",VLOOKUP(S544,Tabelle!$I$5:$N$7,6,FALSE)))","v":""},null,null,null,null,null,null,null,null,null,{"$f":"IF(D544=\"\",0,IF(D544=D543,COUNTIF(D$9:D543,D544)+1,1))","v":0},0,0]
["537","-1900","-1900-0",null,null,null,null,null,null,null,"",null,null,null,null,null,null,null,null,{"$f":"IF(G$2034=1,\"\",IF(S545=\"\",\"\",VLOOKUP(S545,Tabelle!$I$5:$M$7,5,FALSE)))","v":""},{"$f":"IF(G$2034=1,\"\",IF(S545=\"\",\"\",VLOOKUP(S545,Tabelle!$I$5:$N$7,6,FALSE)))","v":""},null,null,null,null,null,null,null,null,null,{"$f":"IF(D545=\"\",0,IF(D545=D544,COUNTIF(D$9:D544,D545)+1,1))","v":0},0,0]
["538","-1900","-1900-0",null,null,null,null,null,null,null,"",null,null,null,null,null,null,null,null,{"$f":"IF(G$2034=1,\"\",IF(S546=\"\",\"\",VLOOKUP(S546,Tabelle!$I$5:$M$7,5,FALSE)))","v":""},{"$f":"IF(G$2034=1,\"\",IF(S546=\"\",\"\",VLOOKUP(S546,Tabelle!$I$5:$N$7,6,FALSE)))","v":""},null,null,null,null,null,null,null,null,null,{"$f":"IF(D546=\"\",0,IF(D546=D545,COUNTIF(D$9:D545,D546)+1,1))","v":0},0,0]
["539","-1900","-1900-0",null,null,null,null,null,null,null,"",null,null,null,null,null,null,null,null,{"$f":"IF(G$2034=1,\"\",IF(S547=\"\",\"\",VLOOKUP(S547,Tabelle!$I$5:$M$7,5,FALSE)))","v":""},{"$f":"IF(G$2034=1,\"\",IF(S547=\"\",\"\",VLOOKUP(S547,Tabelle!$I$5:$N$7,6,FALSE)))","v":""},null,null,null,null,null,null,null,null,null,{"$f":"IF(D547=\"\",0,IF(D547=D546,COUNTIF(D$9:D546,D547)+1,1))","v":0},0,0]
["540","-1900","-1900-0",null,null,null,null,null,null,null,"",null,null,null,null,null,null,null,null,{"$f":"IF(G$2034=1,\"\",IF(S548=\"\",\"\",VLOOKUP(S548,Tabelle!$I$5:$M$7,5,FALSE)))","v":""},{"$f":"IF(G$2034=1,\"\",IF(S548=\"\",\"\",VLOOKUP(S548,Tabelle!$I$5:$N$7,6,FALSE)))","v":""},null,null,null,null,null,null,null,null,null,{"$f":"IF(D548=\"\",0,IF(D548=D547,COUNTIF(D$9:D547,D548)+1,1))","v":0},0,0]
["541","-1900","-1900-0",null,null,null,null,null,null,null,"",null,null,null,null,null,null,null,null,{"$f":"IF(G$2034=1,\"\",IF(S549=\"\",\"\",VLOOKUP(S549,Tabelle!$I$5:$M$7,5,FALSE)))","v":""},{"$f":"IF(G$2034=1,\"\",IF(S549=\"\",\"\",VLOOKUP(S549,Tabelle!$I$5:$N$7,6,FALSE)))","v":""},null,null,null,null,null,null,null,null,null,{"$f":"IF(D549=\"\",0,IF(D549=D548,COUNTIF(D$9:D548,D549)+1,1))","v":0},0,0]
["542","-1900","-1900-0",null,null,null,null,null,null,null,"",null,null,null,null,null,null,null,null,{"$f":"IF(G$2034=1,\"\",IF(S550=\"\",\"\",VLOOKUP(S550,Tabelle!$I$5:$M$7,5,FALSE)))","v":""},{"$f":"IF(G$2034=1,\"\",IF(S550=\"\",\"\",VLOOKUP(S550,Tabelle!$I$5:$N$7,6,FALSE)))","v":""},null,null,null,null,null,null,null,null,null,{"$f":"IF(D550=\"\",0,IF(D550=D549,COUNTIF(D$9:D549,D550)+1,1))","v":0},0,0]
["543","-1900","-1900-0",null,null,null,null,null,null,null,"",null,null,null,null,null,null,null,null,{"$f":"IF(G$2034=1,\"\",IF(S551=\"\",\"\",VLOOKUP(S551,Tabelle!$I$5:$M$7,5,FALSE)))","v":""},{"$f":"IF(G$2034=1,\"\",IF(S551=\"\",\"\",VLOOKUP(S551,Tabelle!$I$5:$N$7,6,FALSE)))","v":""},null,null,null,null,null,null,null,null,null,{"$f":"IF(D551=\"\",0,IF(D551=D550,COUNTIF(D$9:D550,D551)+1,1))","v":0},0,0]
["544","-1900","-1900-0",null,null,null,null,null,null,null,"",null,null,null,null,null,null,null,null,{"$f":"IF(G$2034=1,\"\",IF(S552=\"\",\"\",VLOOKUP(S552,Tabelle!$I$5:$M$7,5,FALSE)))","v":""},{"$f":"IF(G$2034=1,\"\",IF(S552=\"\",\"\",VLOOKUP(S552,Tabelle!$I$5:$N$7,6,FALSE)))","v":""},null,null,null,null,null,null,null,null,null,{"$f":"IF(D552=\"\",0,IF(D552=D551,COUNTIF(D$9:D551,D552)+1,1))","v":0},0,0]
["545","-1900","-1900-0",null,null,null,null,null,null,null,"",null,null,null,null,null,null,null,null,{"$f":"IF(G$2034=1,\"\",IF(S553=\"\",\"\",VLOOKUP(S553,Tabelle!$I$5:$M$7,5,FALSE)))","v":""},{"$f":"IF(G$2034=1,\"\",IF(S553=\"\",\"\",VLOOKUP(S553,Tabelle!$I$5:$N$7,6,FALSE)))","v":""},null,null,null,null,null,null,null,null,null,{"$f":"IF(D553=\"\",0,IF(D553=D552,COUNTIF(D$9:D552,D553)+1,1))","v":0},0,0]
["546","-1900","-1900-0",null,null,null,null,null,null,null,"",null,null,null,null,null,null,null,null,{"$f":"IF(G$2034=1,\"\",IF(S554=\"\",\"\",VLOOKUP(S554,Tabelle!$I$5:$M$7,5,FALSE)))","v":""},{"$f":"IF(G$2034=1,\"\",IF(S554=\"\",\"\",VLOOKUP(S554,Tabelle!$I$5:$N$7,6,FALSE)))","v":""},null,null,null,null,null,null,null,null,null,{"$f":"IF(D554=\"\",0,IF(D554=D553,COUNTIF(D$9:D553,D554)+1,1))","v":0},0,0]
["547","-1900","-1900-0",null,null,null,null,null,null,null,"",null,null,null,null,null,null,null,null,{"$f":"IF(G$2034=1,\"\",IF(S555=\"\",\"\",VLOOKUP(S555,Tabelle!$I$5:$M$7,5,FALSE)))","v":""},{"$f":"IF(G$2034=1,\"\",IF(S555=\"\",\"\",VLOOKUP(S555,Tabelle!$I$5:$N$7,6,FALSE)))","v":""},null,null,null,null,null,null,null,null,null,{"$f":"IF(D555=\"\",0,IF(D555=D554,COUNTIF(D$9:D554,D555)+1,1))","v":0},0,0]
["548","-1900","-1900-0",null,null,null,null,null,null,null,"",null,null,null,null,null,null,null,null,{"$f":"IF(G$2034=1,\"\",IF(S556=\"\",\"\",VLOOKUP(S556,Tabelle!$I$5:$M$7,5,FALSE)))","v":""},{"$f":"IF(G$2034=1,\"\",IF(S556=\"\",\"\",VLOOKUP(S556,Tabelle!$I$5:$N$7,6,FALSE)))","v":""},null,null,null,null,null,null,null,null,null,{"$f":"IF(D556=\"\",0,IF(D556=D555,COUNTIF(D$9:D555,D556)+1,1))","v":0},0,0]
["549","-1900","-1900-0",null,null,null,null,null,null,null,"",null,null,null,null,null,null,null,null,{"$f":"IF(G$2034=1,\"\",IF(S557=\"\",\"\",VLOOKUP(S557,Tabelle!$I$5:$M$7,5,FALSE)))","v":""},{"$f":"IF(G$2034=1,\"\",IF(S557=\"\",\"\",VLOOKUP(S557,Tabelle!$I$5:$N$7,6,FALSE)))","v":""},null,null,null,null,null,null,null,null,null,{"$f":"IF(D557=\"\",0,IF(D557=D556,COUNTIF(D$9:D556,D557)+1,1))","v":0},0,0]
["550","-1900","-1900-0",null,null,null,null,null,null,null,"",null,null,null,null,null,null,null,null,{"$f":"IF(G$2034=1,\"\",IF(S558=\"\",\"\",VLOOKUP(S558,Tabelle!$I$5:$M$7,5,FALSE)))","v":""},{"$f":"IF(G$2034=1,\"\",IF(S558=\"\",\"\",VLOOKUP(S558,Tabelle!$I$5:$N$7,6,FALSE)))","v":""},null,null,null,null,null,null,null,null,null,{"$f":"IF(D558=\"\",0,IF(D558=D557,COUNTIF(D$9:D557,D558)+1,1))","v":0},0,0]
["551","-1900","-1900-0",null,null,null,null,null,null,null,"",null,null,null,null,null,null,null,null,{"$f":"IF(G$2034=1,\"\",IF(S559=\"\",\"\",VLOOKUP(S559,Tabelle!$I$5:$M$7,5,FALSE)))","v":""},{"$f":"IF(G$2034=1,\"\",IF(S559=\"\",\"\",VLOOKUP(S559,Tabelle!$I$5:$N$7,6,FALSE)))","v":""},null,null,null,null,null,null,null,null,null,{"$f":"IF(D559=\"\",0,IF(D559=D558,COUNTIF(D$9:D558,D559)+1,1))","v":0},0,0]
["552","-1900","-1900-0",null,null,null,null,null,null,null,"",null,null,null,null,null,null,null,null,{"$f":"IF(G$2034=1,\"\",IF(S560=\"\",\"\",VLOOKUP(S560,Tabelle!$I$5:$M$7,5,FALSE)))","v":""},{"$f":"IF(G$2034=1,\"\",IF(S560=\"\",\"\",VLOOKUP(S560,Tabelle!$I$5:$N$7,6,FALSE)))","v":""},null,null,null,null,null,null,null,null,null,{"$f":"IF(D560=\"\",0,IF(D560=D559,COUNTIF(D$9:D559,D560)+1,1))","v":0},0,0]
["553","-1900","-1900-0",null,null,null,null,null,null,null,"",null,null,null,null,null,null,null,null,{"$f":"IF(G$2034=1,\"\",IF(S561=\"\",\"\",VLOOKUP(S561,Tabelle!$I$5:$M$7,5,FALSE)))","v":""},{"$f":"IF(G$2034=1,\"\",IF(S561=\"\",\"\",VLOOKUP(S561,Tabelle!$I$5:$N$7,6,FALSE)))","v":""},null,null,null,null,null,null,null,null,null,{"$f":"IF(D561=\"\",0,IF(D561=D560,COUNTIF(D$9:D560,D561)+1,1))","v":0},0,0]
["554","-1900","-1900-0",null,null,null,null,null,null,null,"",null,null,null,null,null,null,null,null,{"$f":"IF(G$2034=1,\"\",IF(S562=\"\",\"\",VLOOKUP(S562,Tabelle!$I$5:$M$7,5,FALSE)))","v":""},{"$f":"IF(G$2034=1,\"\",IF(S562=\"\",\"\",VLOOKUP(S562,Tabelle!$I$5:$N$7,6,FALSE)))","v":""},null,null,null,null,null,null,null,null,null,{"$f":"IF(D562=\"\",0,IF(D562=D561,COUNTIF(D$9:D561,D562)+1,1))","v":0},0,0]
["555","-1900","-1900-0",null,null,null,null,null,null,null,"",null,null,null,null,null,null,null,null,{"$f":"IF(G$2034=1,\"\",IF(S563=\"\",\"\",VLOOKUP(S563,Tabelle!$I$5:$M$7,5,FALSE)))","v":""},{"$f":"IF(G$2034=1,\"\",IF(S563=\"\",\"\",VLOOKUP(S563,Tabelle!$I$5:$N$7,6,FALSE)))","v":""},null,null,null,null,null,null,null,null,null,{"$f":"IF(D563=\"\",0,IF(D563=D562,COUNTIF(D$9:D562,D563)+1,1))","v":0},0,0]
["556","-1900","-1900-0",null,null,null,null,null,null,null,"",null,null,null,null,null,null,null,null,{"$f":"IF(G$2034=1,\"\",IF(S564=\"\",\"\",VLOOKUP(S564,Tabelle!$I$5:$M$7,5,FALSE)))","v":""},{"$f":"IF(G$2034=1,\"\",IF(S564=\"\",\"\",VLOOKUP(S564,Tabelle!$I$5:$N$7,6,FALSE)))","v":""},null,null,null,null,null,null,null,null,null,{"$f":"IF(D564=\"\",0,IF(D564=D563,COUNTIF(D$9:D563,D564)+1,1))","v":0},0,0]
["557","-1900","-1900-0",null,null,null,null,null,null,null,"",null,null,null,null,null,null,null,null,{"$f":"IF(G$2034=1,\"\",IF(S565=\"\",\"\",VLOOKUP(S565,Tabelle!$I$5:$M$7,5,FALSE)))","v":""},{"$f":"IF(G$2034=1,\"\",IF(S565=\"\",\"\",VLOOKUP(S565,Tabelle!$I$5:$N$7,6,FALSE)))","v":""},null,null,null,null,null,null,null,null,null,{"$f":"IF(D565=\"\",0,IF(D565=D564,COUNTIF(D$9:D564,D565)+1,1))","v":0},0,0]
["558","-1900","-1900-0",null,null,null,null,null,null,null,"",null,null,null,null,null,null,null,null,{"$f":"IF(G$2034=1,\"\",IF(S566=\"\",\"\",VLOOKUP(S566,Tabelle!$I$5:$M$7,5,FALSE)))","v":""},{"$f":"IF(G$2034=1,\"\",IF(S566=\"\",\"\",VLOOKUP(S566,Tabelle!$I$5:$N$7,6,FALSE)))","v":""},null,null,null,null,null,null,null,null,null,{"$f":"IF(D566=\"\",0,IF(D566=D565,COUNTIF(D$9:D565,D566)+1,1))","v":0},0,0]
["559","-1900","-1900-0",null,null,null,null,null,null,null,"",null,null,null,null,null,null,null,null,{"$f":"IF(G$2034=1,\"\",IF(S567=\"\",\"\",VLOOKUP(S567,Tabelle!$I$5:$M$7,5,FALSE)))","v":""},{"$f":"IF(G$2034=1,\"\",IF(S567=\"\",\"\",VLOOKUP(S567,Tabelle!$I$5:$N$7,6,FALSE)))","v":""},null,null,null,null,null,null,null,null,null,{"$f":"IF(D567=\"\",0,IF(D567=D566,COUNTIF(D$9:D566,D567)+1,1))","v":0},0,0]
["560","-1900","-1900-0",null,null,null,null,null,null,null,"",null,null,null,null,null,null,null,null,{"$f":"IF(G$2034=1,\"\",IF(S568=\"\",\"\",VLOOKUP(S568,Tabelle!$I$5:$M$7,5,FALSE)))","v":""},{"$f":"IF(G$2034=1,\"\",IF(S568=\"\",\"\",VLOOKUP(S568,Tabelle!$I$5:$N$7,6,FALSE)))","v":""},null,null,null,null,null,null,null,null,null,{"$f":"IF(D568=\"\",0,IF(D568=D567,COUNTIF(D$9:D567,D568)+1,1))","v":0},0,0]
["561","-1900","-1900-0",null,null,null,null,null,null,null,"",null,null,null,null,null,null,null,null,{"$f":"IF(G$2034=1,\"\",IF(S569=\"\",\"\",VLOOKUP(S569,Tabelle!$I$5:$M$7,5,FALSE)))","v":""},{"$f":"IF(G$2034=1,\"\",IF(S569=\"\",\"\",VLOOKUP(S569,Tabelle!$I$5:$N$7,6,FALSE)))","v":""},null,null,null,null,null,null,null,null,null,{"$f":"IF(D569=\"\",0,IF(D569=D568,COUNTIF(D$9:D568,D569)+1,1))","v":0},0,0]
["562","-1900","-1900-0",null,null,null,null,null,null,null,"",null,null,null,null,null,null,null,null,{"$f":"IF(G$2034=1,\"\",IF(S570=\"\",\"\",VLOOKUP(S570,Tabelle!$I$5:$M$7,5,FALSE)))","v":""},{"$f":"IF(G$2034=1,\"\",IF(S570=\"\",\"\",VLOOKUP(S570,Tabelle!$I$5:$N$7,6,FALSE)))","v":""},null,null,null,null,null,null,null,null,null,{"$f":"IF(D570=\"\",0,IF(D570=D569,COUNTIF(D$9:D569,D570)+1,1))","v":0},0,0]
["563","-1900","-1900-0",null,null,null,null,null,null,null,"",null,null,null,null,null,null,null,null,{"$f":"IF(G$2034=1,\"\",IF(S571=\"\",\"\",VLOOKUP(S571,Tabelle!$I$5:$M$7,5,FALSE)))","v":""},{"$f":"IF(G$2034=1,\"\",IF(S571=\"\",\"\",VLOOKUP(S571,Tabelle!$I$5:$N$7,6,FALSE)))","v":""},null,null,null,null,null,null,null,null,null,{"$f":"IF(D571=\"\",0,IF(D571=D570,COUNTIF(D$9:D570,D571)+1,1))","v":0},0,0]
["564","-1900","-1900-0",null,null,null,null,null,null,null,"",null,null,null,null,null,null,null,null,{"$f":"IF(G$2034=1,\"\",IF(S572=\"\",\"\",VLOOKUP(S572,Tabelle!$I$5:$M$7,5,FALSE)))","v":""},{"$f":"IF(G$2034=1,\"\",IF(S572=\"\",\"\",VLOOKUP(S572,Tabelle!$I$5:$N$7,6,FALSE)))","v":""},null,null,null,null,null,null,null,null,null,{"$f":"IF(D572=\"\",0,IF(D572=D571,COUNTIF(D$9:D571,D572)+1,1))","v":0},0,0]
["565","-1900","-1900-0",null,null,null,null,null,null,null,"",null,null,null,null,null,null,null,null,{"$f":"IF(G$2034=1,\"\",IF(S573=\"\",\"\",VLOOKUP(S573,Tabelle!$I$5:$M$7,5,FALSE)))","v":""},{"$f":"IF(G$2034=1,\"\",IF(S573=\"\",\"\",VLOOKUP(S573,Tabelle!$I$5:$N$7,6,FALSE)))","v":""},null,null,null,null,null,null,null,null,null,{"$f":"IF(D573=\"\",0,IF(D573=D572,COUNTIF(D$9:D572,D573)+1,1))","v":0},0,0]
["566","-1900","-1900-0",null,null,null,null,null,null,null,"",null,null,null,null,null,null,null,null,{"$f":"IF(G$2034=1,\"\",IF(S574=\"\",\"\",VLOOKUP(S574,Tabelle!$I$5:$M$7,5,FALSE)))","v":""},{"$f":"IF(G$2034=1,\"\",IF(S574=\"\",\"\",VLOOKUP(S574,Tabelle!$I$5:$N$7,6,FALSE)))","v":""},null,null,null,null,null,null,null,null,null,{"$f":"IF(D574=\"\",0,IF(D574=D573,COUNTIF(D$9:D573,D574)+1,1))","v":0},0,0]
["567","-1900","-1900-0",null,null,null,null,null,null,null,"",null,null,null,null,null,null,null,null,{"$f":"IF(G$2034=1,\"\",IF(S575=\"\",\"\",VLOOKUP(S575,Tabelle!$I$5:$M$7,5,FALSE)))","v":""},{"$f":"IF(G$2034=1,\"\",IF(S575=\"\",\"\",VLOOKUP(S575,Tabelle!$I$5:$N$7,6,FALSE)))","v":""},null,null,null,null,null,null,null,null,null,{"$f":"IF(D575=\"\",0,IF(D575=D574,COUNTIF(D$9:D574,D575)+1,1))","v":0},0,0]
["568","-1900","-1900-0",null,null,null,null,null,null,null,"",null,null,null,null,null,null,null,null,{"$f":"IF(G$2034=1,\"\",IF(S576=\"\",\"\",VLOOKUP(S576,Tabelle!$I$5:$M$7,5,FALSE)))","v":""},{"$f":"IF(G$2034=1,\"\",IF(S576=\"\",\"\",VLOOKUP(S576,Tabelle!$I$5:$N$7,6,FALSE)))","v":""},null,null,null,null,null,null,null,null,null,{"$f":"IF(D576=\"\",0,IF(D576=D575,COUNTIF(D$9:D575,D576)+1,1))","v":0},0,0]
["569","-1900","-1900-0",null,null,null,null,null,null,null,"",null,null,null,null,null,null,null,null,{"$f":"IF(G$2034=1,\"\",IF(S577=\"\",\"\",VLOOKUP(S577,Tabelle!$I$5:$M$7,5,FALSE)))","v":""},{"$f":"IF(G$2034=1,\"\",IF(S577=\"\",\"\",VLOOKUP(S577,Tabelle!$I$5:$N$7,6,FALSE)))","v":""},null,null,null,null,null,null,null,null,null,{"$f":"IF(D577=\"\",0,IF(D577=D576,COUNTIF(D$9:D576,D577)+1,1))","v":0},0,0]
["570","-1900","-1900-0",null,null,null,null,null,null,null,"",null,null,null,null,null,null,null,null,{"$f":"IF(G$2034=1,\"\",IF(S578=\"\",\"\",VLOOKUP(S578,Tabelle!$I$5:$M$7,5,FALSE)))","v":""},{"$f":"IF(G$2034=1,\"\",IF(S578=\"\",\"\",VLOOKUP(S578,Tabelle!$I$5:$N$7,6,FALSE)))","v":""},null,null,null,null,null,null,null,null,null,{"$f":"IF(D578=\"\",0,IF(D578=D577,COUNTIF(D$9:D577,D578)+1,1))","v":0},0,0]
["571","-1900","-1900-0",null,null,null,null,null,null,null,"",null,null,null,null,null,null,null,null,{"$f":"IF(G$2034=1,\"\",IF(S579=\"\",\"\",VLOOKUP(S579,Tabelle!$I$5:$M$7,5,FALSE)))","v":""},{"$f":"IF(G$2034=1,\"\",IF(S579=\"\",\"\",VLOOKUP(S579,Tabelle!$I$5:$N$7,6,FALSE)))","v":""},null,null,null,null,null,null,null,null,null,{"$f":"IF(D579=\"\",0,IF(D579=D578,COUNTIF(D$9:D578,D579)+1,1))","v":0},0,0]
["572","-1900","-1900-0",null,null,null,null,null,null,null,"",null,null,null,null,null,null,null,null,{"$f":"IF(G$2034=1,\"\",IF(S580=\"\",\"\",VLOOKUP(S580,Tabelle!$I$5:$M$7,5,FALSE)))","v":""},{"$f":"IF(G$2034=1,\"\",IF(S580=\"\",\"\",VLOOKUP(S580,Tabelle!$I$5:$N$7,6,FALSE)))","v":""},null,null,null,null,null,null,null,null,null,{"$f":"IF(D580=\"\",0,IF(D580=D579,COUNTIF(D$9:D579,D580)+1,1))","v":0},0,0]
["573","-1900","-1900-0",null,null,null,null,null,null,null,"",null,null,null,null,null,null,null,null,{"$f":"IF(G$2034=1,\"\",IF(S581=\"\",\"\",VLOOKUP(S581,Tabelle!$I$5:$M$7,5,FALSE)))","v":""},{"$f":"IF(G$2034=1,\"\",IF(S581=\"\",\"\",VLOOKUP(S581,Tabelle!$I$5:$N$7,6,FALSE)))","v":""},null,null,null,null,null,null,null,null,null,{"$f":"IF(D581=\"\",0,IF(D581=D580,COUNTIF(D$9:D580,D581)+1,1))","v":0},0,0]
["574","-1900","-1900-0",null,null,null,null,null,null,null,"",null,null,null,null,null,null,null,null,{"$f":"IF(G$2034=1,\"\",IF(S582=\"\",\"\",VLOOKUP(S582,Tabelle!$I$5:$M$7,5,FALSE)))","v":""},{"$f":"IF(G$2034=1,\"\",IF(S582=\"\",\"\",VLOOKUP(S582,Tabelle!$I$5:$N$7,6,FALSE)))","v":""},null,null,null,null,null,null,null,null,null,{"$f":"IF(D582=\"\",0,IF(D582=D581,COUNTIF(D$9:D581,D582)+1,1))","v":0},0,0]
["575","-1900","-1900-0",null,null,null,null,null,null,null,"",null,null,null,null,null,null,null,null,{"$f":"IF(G$2034=1,\"\",IF(S583=\"\",\"\",VLOOKUP(S583,Tabelle!$I$5:$M$7,5,FALSE)))","v":""},{"$f":"IF(G$2034=1,\"\",IF(S583=\"\",\"\",VLOOKUP(S583,Tabelle!$I$5:$N$7,6,FALSE)))","v":""},null,null,null,null,null,null,null,null,null,{"$f":"IF(D583=\"\",0,IF(D583=D582,COUNTIF(D$9:D582,D583)+1,1))","v":0},0,0]
["576","-1900","-1900-0",null,null,null,null,null,null,null,"",null,null,null,null,null,null,null,null,{"$f":"IF(G$2034=1,\"\",IF(S584=\"\",\"\",VLOOKUP(S584,Tabelle!$I$5:$M$7,5,FALSE)))","v":""},{"$f":"IF(G$2034=1,\"\",IF(S584=\"\",\"\",VLOOKUP(S584,Tabelle!$I$5:$N$7,6,FALSE)))","v":""},null,null,null,null,null,null,null,null,null,{"$f":"IF(D584=\"\",0,IF(D584=D583,COUNTIF(D$9:D583,D584)+1,1))","v":0},0,0]
["577","-1900",{"$f":"IF(G$2034=1,0,B585&\"-\"&AE585)","v":"-1900-0"},null,null,null,null,null,null,null,{"$f":"IF(G$2034=1,0,IF(OR(J585=\"\",ISERROR($O$2034)),\"\",VLOOKUP(J585,$L$2019:$N$2027,2,FALSE)))","v":""},null,null,null,null,null,null,null,null,{"$f":"IF(G$2034=1,\"\",IF(S585=\"\",\"\",VLOOKUP(S585,Tabelle!$I$5:$M$7,5,FALSE)))","v":""},{"$f":"IF(G$2034=1,\"\",IF(S585=\"\",\"\",VLOOKUP(S585,Tabelle!$I$5:$N$7,6,FALSE)))","v":""},null,null,null,null,null,null,null,null,null,{"$f":"IF(D585=\"\",0,IF(D585=D584,COUNTIF(D$9:D584,D585)+1,1))","v":0},0,0]
["578",{"$f":"IF(AG586=$AG$2013,0,IF(G$2034=1,0,D586&\"-\"&YEAR(E586)))","v":"-1900"},"-1900-0",null,null,null,null,null,null,null,"",null,null,null,null,null,null,null,null,{"$f":"IF(G$2034=1,\"\",IF(S586=\"\",\"\",VLOOKUP(S586,Tabelle!$I$5:$M$7,5,FALSE)))","v":""},{"$f":"IF(G$2034=1,\"\",IF(S586=\"\",\"\",VLOOKUP(S586,Tabelle!$I$5:$N$7,6,FALSE)))","v":""},null,null,null,null,null,null,null,null,null,{"$f":"IF(D586=\"\",0,IF(D586=D585,COUNTIF(D$9:D585,D586)+1,1))","v":0},{"$f":"IF(G$2034=1,0,IF(AE586=28,1,0))","v":0},{"$f":"IF(E586>0,IF(OR(MONTH(E586)<$G$2026,MONTH(E586)>$G$2027),AG$2013,0),0)","v":0}]
["579","-1900","-1900-0",null,null,null,null,null,null,null,"",null,null,null,null,null,null,null,null,{"$f":"IF(G$2034=1,\"\",IF(S587=\"\",\"\",VLOOKUP(S587,Tabelle!$I$5:$M$7,5,FALSE)))","v":""},{"$f":"IF(G$2034=1,\"\",IF(S587=\"\",\"\",VLOOKUP(S587,Tabelle!$I$5:$N$7,6,FALSE)))","v":""},null,null,null,null,null,null,null,null,null,{"$f":"IF(D587=\"\",0,IF(D587=D586,COUNTIF(D$9:D586,D587)+1,1))","v":0},0,0]
["580","-1900","-1900-0",null,null,null,null,null,null,null,"",null,null,null,null,null,null,null,null,{"$f":"IF(G$2034=1,\"\",IF(S588=\"\",\"\",VLOOKUP(S588,Tabelle!$I$5:$M$7,5,FALSE)))","v":""},{"$f":"IF(G$2034=1,\"\",IF(S588=\"\",\"\",VLOOKUP(S588,Tabelle!$I$5:$N$7,6,FALSE)))","v":""},null,null,null,null,null,null,null,null,null,{"$f":"IF(D588=\"\",0,IF(D588=D587,COUNTIF(D$9:D587,D588)+1,1))","v":0},0,0]
["581","-1900","-1900-0",null,null,null,null,null,null,null,"",null,null,null,null,null,null,null,null,{"$f":"IF(G$2034=1,\"\",IF(S589=\"\",\"\",VLOOKUP(S589,Tabelle!$I$5:$M$7,5,FALSE)))","v":""},{"$f":"IF(G$2034=1,\"\",IF(S589=\"\",\"\",VLOOKUP(S589,Tabelle!$I$5:$N$7,6,FALSE)))","v":""},null,null,null,null,null,null,null,null,null,{"$f":"IF(D589=\"\",0,IF(D589=D588,COUNTIF(D$9:D588,D589)+1,1))","v":0},0,0]
["582","-1900","-1900-0",null,null,null,null,null,null,null,"",null,null,null,null,null,null,null,null,{"$f":"IF(G$2034=1,\"\",IF(S590=\"\",\"\",VLOOKUP(S590,Tabelle!$I$5:$M$7,5,FALSE)))","v":""},{"$f":"IF(G$2034=1,\"\",IF(S590=\"\",\"\",VLOOKUP(S590,Tabelle!$I$5:$N$7,6,FALSE)))","v":""},null,null,null,null,null,null,null,null,null,{"$f":"IF(D590=\"\",0,IF(D590=D589,COUNTIF(D$9:D589,D590)+1,1))","v":0},0,0]
["583","-1900","-1900-0",null,null,null,null,null,null,null,"",null,null,null,null,null,null,null,null,{"$f":"IF(G$2034=1,\"\",IF(S591=\"\",\"\",VLOOKUP(S591,Tabelle!$I$5:$M$7,5,FALSE)))","v":""},{"$f":"IF(G$2034=1,\"\",IF(S591=\"\",\"\",VLOOKUP(S591,Tabelle!$I$5:$N$7,6,FALSE)))","v":""},null,null,null,null,null,null,null,null,null,{"$f":"IF(D591=\"\",0,IF(D591=D590,COUNTIF(D$9:D590,D591)+1,1))","v":0},0,0]
["584","-1900","-1900-0",null,null,null,null,null,null,null,"",null,null,null,null,null,null,null,null,{"$f":"IF(G$2034=1,\"\",IF(S592=\"\",\"\",VLOOKUP(S592,Tabelle!$I$5:$M$7,5,FALSE)))","v":""},{"$f":"IF(G$2034=1,\"\",IF(S592=\"\",\"\",VLOOKUP(S592,Tabelle!$I$5:$N$7,6,FALSE)))","v":""},null,null,null,null,null,null,null,null,null,{"$f":"IF(D592=\"\",0,IF(D592=D591,COUNTIF(D$9:D591,D592)+1,1))","v":0},0,0]
["585","-1900","-1900-0",null,null,null,null,null,null,null,"",null,null,null,null,null,null,null,null,{"$f":"IF(G$2034=1,\"\",IF(S593=\"\",\"\",VLOOKUP(S593,Tabelle!$I$5:$M$7,5,FALSE)))","v":""},{"$f":"IF(G$2034=1,\"\",IF(S593=\"\",\"\",VLOOKUP(S593,Tabelle!$I$5:$N$7,6,FALSE)))","v":""},null,null,null,null,null,null,null,null,null,{"$f":"IF(D593=\"\",0,IF(D593=D592,COUNTIF(D$9:D592,D593)+1,1))","v":0},0,0]
["586","-1900","-1900-0",null,null,null,null,null,null,null,"",null,null,null,null,null,null,null,null,{"$f":"IF(G$2034=1,\"\",IF(S594=\"\",\"\",VLOOKUP(S594,Tabelle!$I$5:$M$7,5,FALSE)))","v":""},{"$f":"IF(G$2034=1,\"\",IF(S594=\"\",\"\",VLOOKUP(S594,Tabelle!$I$5:$N$7,6,FALSE)))","v":""},null,null,null,null,null,null,null,null,null,{"$f":"IF(D594=\"\",0,IF(D594=D593,COUNTIF(D$9:D593,D594)+1,1))","v":0},0,0]
["587","-1900","-1900-0",null,null,null,null,null,null,null,"",null,null,null,null,null,null,null,null,{"$f":"IF(G$2034=1,\"\",IF(S595=\"\",\"\",VLOOKUP(S595,Tabelle!$I$5:$M$7,5,FALSE)))","v":""},{"$f":"IF(G$2034=1,\"\",IF(S595=\"\",\"\",VLOOKUP(S595,Tabelle!$I$5:$N$7,6,FALSE)))","v":""},null,null,null,null,null,null,null,null,null,{"$f":"IF(D595=\"\",0,IF(D595=D594,COUNTIF(D$9:D594,D595)+1,1))","v":0},0,0]
["588","-1900","-1900-0",null,null,null,null,null,null,null,"",null,null,null,null,null,null,null,null,{"$f":"IF(G$2034=1,\"\",IF(S596=\"\",\"\",VLOOKUP(S596,Tabelle!$I$5:$M$7,5,FALSE)))","v":""},{"$f":"IF(G$2034=1,\"\",IF(S596=\"\",\"\",VLOOKUP(S596,Tabelle!$I$5:$N$7,6,FALSE)))","v":""},null,null,null,null,null,null,null,null,null,{"$f":"IF(D596=\"\",0,IF(D596=D595,COUNTIF(D$9:D595,D596)+1,1))","v":0},0,0]
["589","-1900","-1900-0",null,null,null,null,null,null,null,"",null,null,null,null,null,null,null,null,{"$f":"IF(G$2034=1,\"\",IF(S597=\"\",\"\",VLOOKUP(S597,Tabelle!$I$5:$M$7,5,FALSE)))","v":""},{"$f":"IF(G$2034=1,\"\",IF(S597=\"\",\"\",VLOOKUP(S597,Tabelle!$I$5:$N$7,6,FALSE)))","v":""},null,null,null,null,null,null,null,null,null,{"$f":"IF(D597=\"\",0,IF(D597=D596,COUNTIF(D$9:D596,D597)+1,1))","v":0},0,0]
["590","-1900","-1900-0",null,null,null,null,null,null,null,"",null,null,null,null,null,null,null,null,{"$f":"IF(G$2034=1,\"\",IF(S598=\"\",\"\",VLOOKUP(S598,Tabelle!$I$5:$M$7,5,FALSE)))","v":""},{"$f":"IF(G$2034=1,\"\",IF(S598=\"\",\"\",VLOOKUP(S598,Tabelle!$I$5:$N$7,6,FALSE)))","v":""},null,null,null,null,null,null,null,null,null,{"$f":"IF(D598=\"\",0,IF(D598=D597,COUNTIF(D$9:D597,D598)+1,1))","v":0},0,0]
["591","-1900","-1900-0",null,null,null,null,null,null,null,"",null,null,null,null,null,null,null,null,{"$f":"IF(G$2034=1,\"\",IF(S599=\"\",\"\",VLOOKUP(S599,Tabelle!$I$5:$M$7,5,FALSE)))","v":""},{"$f":"IF(G$2034=1,\"\",IF(S599=\"\",\"\",VLOOKUP(S599,Tabelle!$I$5:$N$7,6,FALSE)))","v":""},null,null,null,null,null,null,null,null,null,{"$f":"IF(D599=\"\",0,IF(D599=D598,COUNTIF(D$9:D598,D599)+1,1))","v":0},0,0]
["592","-1900","-1900-0",null,null,null,null,null,null,null,"",null,null,null,null,null,null,null,null,{"$f":"IF(G$2034=1,\"\",IF(S600=\"\",\"\",VLOOKUP(S600,Tabelle!$I$5:$M$7,5,FALSE)))","v":""},{"$f":"IF(G$2034=1,\"\",IF(S600=\"\",\"\",VLOOKUP(S600,Tabelle!$I$5:$N$7,6,FALSE)))","v":""},null,null,null,null,null,null,null,null,null,{"$f":"IF(D600=\"\",0,IF(D600=D599,COUNTIF(D$9:D599,D600)+1,1))","v":0},0,0]
["593","-1900","-1900-0",null,null,null,null,null,null,null,"",null,null,null,null,null,null,null,null,{"$f":"IF(G$2034=1,\"\",IF(S601=\"\",\"\",VLOOKUP(S601,Tabelle!$I$5:$M$7,5,FALSE)))","v":""},{"$f":"IF(G$2034=1,\"\",IF(S601=\"\",\"\",VLOOKUP(S601,Tabelle!$I$5:$N$7,6,FALSE)))","v":""},null,null,null,null,null,null,null,null,null,{"$f":"IF(D601=\"\",0,IF(D601=D600,COUNTIF(D$9:D600,D601)+1,1))","v":0},0,0]
["594","-1900","-1900-0",null,null,null,null,null,null,null,"",null,null,null,null,null,null,null,null,{"$f":"IF(G$2034=1,\"\",IF(S602=\"\",\"\",VLOOKUP(S602,Tabelle!$I$5:$M$7,5,FALSE)))","v":""},{"$f":"IF(G$2034=1,\"\",IF(S602=\"\",\"\",VLOOKUP(S602,Tabelle!$I$5:$N$7,6,FALSE)))","v":""},null,null,null,null,null,null,null,null,null,{"$f":"IF(D602=\"\",0,IF(D602=D601,COUNTIF(D$9:D601,D602)+1,1))","v":0},0,0]
["595","-1900","-1900-0",null,null,null,null,null,null,null,"",null,null,null,null,null,null,null,null,{"$f":"IF(G$2034=1,\"\",IF(S603=\"\",\"\",VLOOKUP(S603,Tabelle!$I$5:$M$7,5,FALSE)))","v":""},{"$f":"IF(G$2034=1,\"\",IF(S603=\"\",\"\",VLOOKUP(S603,Tabelle!$I$5:$N$7,6,FALSE)))","v":""},null,null,null,null,null,null,null,null,null,{"$f":"IF(D603=\"\",0,IF(D603=D602,COUNTIF(D$9:D602,D603)+1,1))","v":0},0,0]
["596","-1900","-1900-0",null,null,null,null,null,null,null,"",null,null,null,null,null,null,null,null,{"$f":"IF(G$2034=1,\"\",IF(S604=\"\",\"\",VLOOKUP(S604,Tabelle!$I$5:$M$7,5,FALSE)))","v":""},{"$f":"IF(G$2034=1,\"\",IF(S604=\"\",\"\",VLOOKUP(S604,Tabelle!$I$5:$N$7,6,FALSE)))","v":""},null,null,null,null,null,null,null,null,null,{"$f":"IF(D604=\"\",0,IF(D604=D603,COUNTIF(D$9:D603,D604)+1,1))","v":0},0,0]
["597","-1900","-1900-0",null,null,null,null,null,null,null,"",null,null,null,null,null,null,null,null,{"$f":"IF(G$2034=1,\"\",IF(S605=\"\",\"\",VLOOKUP(S605,Tabelle!$I$5:$M$7,5,FALSE)))","v":""},{"$f":"IF(G$2034=1,\"\",IF(S605=\"\",\"\",VLOOKUP(S605,Tabelle!$I$5:$N$7,6,FALSE)))","v":""},null,null,null,null,null,null,null,null,null,{"$f":"IF(D605=\"\",0,IF(D605=D604,COUNTIF(D$9:D604,D605)+1,1))","v":0},0,0]
["598","-1900","-1900-0",null,null,null,null,null,null,null,"",null,null,null,null,null,null,null,null,{"$f":"IF(G$2034=1,\"\",IF(S606=\"\",\"\",VLOOKUP(S606,Tabelle!$I$5:$M$7,5,FALSE)))","v":""},{"$f":"IF(G$2034=1,\"\",IF(S606=\"\",\"\",VLOOKUP(S606,Tabelle!$I$5:$N$7,6,FALSE)))","v":""},null,null,null,null,null,null,null,null,null,{"$f":"IF(D606=\"\",0,IF(D606=D605,COUNTIF(D$9:D605,D606)+1,1))","v":0},0,0]
["599","-1900","-1900-0",null,null,null,null,null,null,null,"",null,null,null,null,null,null,null,null,{"$f":"IF(G$2034=1,\"\",IF(S607=\"\",\"\",VLOOKUP(S607,Tabelle!$I$5:$M$7,5,FALSE)))","v":""},{"$f":"IF(G$2034=1,\"\",IF(S607=\"\",\"\",VLOOKUP(S607,Tabelle!$I$5:$N$7,6,FALSE)))","v":""},null,null,null,null,null,null,null,null,null,{"$f":"IF(D607=\"\",0,IF(D607=D606,COUNTIF(D$9:D606,D607)+1,1))","v":0},0,0]
["600","-1900","-1900-0",null,null,null,null,null,null,null,"",null,null,null,null,null,null,null,null,{"$f":"IF(G$2034=1,\"\",IF(S608=\"\",\"\",VLOOKUP(S608,Tabelle!$I$5:$M$7,5,FALSE)))","v":""},{"$f":"IF(G$2034=1,\"\",IF(S608=\"\",\"\",VLOOKUP(S608,Tabelle!$I$5:$N$7,6,FALSE)))","v":""},null,null,null,null,null,null,null,null,null,{"$f":"IF(D608=\"\",0,IF(D608=D607,COUNTIF(D$9:D607,D608)+1,1))","v":0},0,0]
["601","-1900","-1900-0",null,null,null,null,null,null,null,"",null,null,null,null,null,null,null,null,{"$f":"IF(G$2034=1,\"\",IF(S609=\"\",\"\",VLOOKUP(S609,Tabelle!$I$5:$M$7,5,FALSE)))","v":""},{"$f":"IF(G$2034=1,\"\",IF(S609=\"\",\"\",VLOOKUP(S609,Tabelle!$I$5:$N$7,6,FALSE)))","v":""},null,null,null,null,null,null,null,null,null,{"$f":"IF(D609=\"\",0,IF(D609=D608,COUNTIF(D$9:D608,D609)+1,1))","v":0},0,0]
["602","-1900","-1900-0",null,null,null,null,null,null,null,"",null,null,null,null,null,null,null,null,{"$f":"IF(G$2034=1,\"\",IF(S610=\"\",\"\",VLOOKUP(S610,Tabelle!$I$5:$M$7,5,FALSE)))","v":""},{"$f":"IF(G$2034=1,\"\",IF(S610=\"\",\"\",VLOOKUP(S610,Tabelle!$I$5:$N$7,6,FALSE)))","v":""},null,null,null,null,null,null,null,null,null,{"$f":"IF(D610=\"\",0,IF(D610=D609,COUNTIF(D$9:D609,D610)+1,1))","v":0},0,0]
["603","-1900","-1900-0",null,null,null,null,null,null,null,"",null,null,null,null,null,null,null,null,{"$f":"IF(G$2034=1,\"\",IF(S611=\"\",\"\",VLOOKUP(S611,Tabelle!$I$5:$M$7,5,FALSE)))","v":""},{"$f":"IF(G$2034=1,\"\",IF(S611=\"\",\"\",VLOOKUP(S611,Tabelle!$I$5:$N$7,6,FALSE)))","v":""},null,null,null,null,null,null,null,null,null,{"$f":"IF(D611=\"\",0,IF(D611=D610,COUNTIF(D$9:D610,D611)+1,1))","v":0},0,0]
["604","-1900","-1900-0",null,null,null,null,null,null,null,"",null,null,null,null,null,null,null,null,{"$f":"IF(G$2034=1,\"\",IF(S612=\"\",\"\",VLOOKUP(S612,Tabelle!$I$5:$M$7,5,FALSE)))","v":""},{"$f":"IF(G$2034=1,\"\",IF(S612=\"\",\"\",VLOOKUP(S612,Tabelle!$I$5:$N$7,6,FALSE)))","v":""},null,null,null,null,null,null,null,null,null,{"$f":"IF(D612=\"\",0,IF(D612=D611,COUNTIF(D$9:D611,D612)+1,1))","v":0},0,0]
["605","-1900","-1900-0",null,null,null,null,null,null,null,"",null,null,null,null,null,null,null,null,{"$f":"IF(G$2034=1,\"\",IF(S613=\"\",\"\",VLOOKUP(S613,Tabelle!$I$5:$M$7,5,FALSE)))","v":""},{"$f":"IF(G$2034=1,\"\",IF(S613=\"\",\"\",VLOOKUP(S613,Tabelle!$I$5:$N$7,6,FALSE)))","v":""},null,null,null,null,null,null,null,null,null,{"$f":"IF(D613=\"\",0,IF(D613=D612,COUNTIF(D$9:D612,D613)+1,1))","v":0},0,0]
["606","-1900","-1900-0",null,null,null,null,null,null,null,"",null,null,null,null,null,null,null,null,{"$f":"IF(G$2034=1,\"\",IF(S614=\"\",\"\",VLOOKUP(S614,Tabelle!$I$5:$M$7,5,FALSE)))","v":""},{"$f":"IF(G$2034=1,\"\",IF(S614=\"\",\"\",VLOOKUP(S614,Tabelle!$I$5:$N$7,6,FALSE)))","v":""},null,null,null,null,null,null,null,null,null,{"$f":"IF(D614=\"\",0,IF(D614=D613,COUNTIF(D$9:D613,D614)+1,1))","v":0},0,0]
["607","-1900","-1900-0",null,null,null,null,null,null,null,"",null,null,null,null,null,null,null,null,{"$f":"IF(G$2034=1,\"\",IF(S615=\"\",\"\",VLOOKUP(S615,Tabelle!$I$5:$M$7,5,FALSE)))","v":""},{"$f":"IF(G$2034=1,\"\",IF(S615=\"\",\"\",VLOOKUP(S615,Tabelle!$I$5:$N$7,6,FALSE)))","v":""},null,null,null,null,null,null,null,null,null,{"$f":"IF(D615=\"\",0,IF(D615=D614,COUNTIF(D$9:D614,D615)+1,1))","v":0},0,0]
["608","-1900","-1900-0",null,null,null,null,null,null,null,"",null,null,null,null,null,null,null,null,{"$f":"IF(G$2034=1,\"\",IF(S616=\"\",\"\",VLOOKUP(S616,Tabelle!$I$5:$M$7,5,FALSE)))","v":""},{"$f":"IF(G$2034=1,\"\",IF(S616=\"\",\"\",VLOOKUP(S616,Tabelle!$I$5:$N$7,6,FALSE)))","v":""},null,null,null,null,null,null,null,null,null,{"$f":"IF(D616=\"\",0,IF(D616=D615,COUNTIF(D$9:D615,D616)+1,1))","v":0},0,0]
["609","-1900","-1900-0",null,null,null,null,null,null,null,"",null,null,null,null,null,null,null,null,{"$f":"IF(G$2034=1,\"\",IF(S617=\"\",\"\",VLOOKUP(S617,Tabelle!$I$5:$M$7,5,FALSE)))","v":""},{"$f":"IF(G$2034=1,\"\",IF(S617=\"\",\"\",VLOOKUP(S617,Tabelle!$I$5:$N$7,6,FALSE)))","v":""},null,null,null,null,null,null,null,null,null,{"$f":"IF(D617=\"\",0,IF(D617=D616,COUNTIF(D$9:D616,D617)+1,1))","v":0},0,0]
["610","-1900","-1900-0",null,null,null,null,null,null,null,"",null,null,null,null,null,null,null,null,{"$f":"IF(G$2034=1,\"\",IF(S618=\"\",\"\",VLOOKUP(S618,Tabelle!$I$5:$M$7,5,FALSE)))","v":""},{"$f":"IF(G$2034=1,\"\",IF(S618=\"\",\"\",VLOOKUP(S618,Tabelle!$I$5:$N$7,6,FALSE)))","v":""},null,null,null,null,null,null,null,null,null,{"$f":"IF(D618=\"\",0,IF(D618=D617,COUNTIF(D$9:D617,D618)+1,1))","v":0},0,0]
["611","-1900","-1900-0",null,null,null,null,null,null,null,"",null,null,null,null,null,null,null,null,{"$f":"IF(G$2034=1,\"\",IF(S619=\"\",\"\",VLOOKUP(S619,Tabelle!$I$5:$M$7,5,FALSE)))","v":""},{"$f":"IF(G$2034=1,\"\",IF(S619=\"\",\"\",VLOOKUP(S619,Tabelle!$I$5:$N$7,6,FALSE)))","v":""},null,null,null,null,null,null,null,null,null,{"$f":"IF(D619=\"\",0,IF(D619=D618,COUNTIF(D$9:D618,D619)+1,1))","v":0},0,0]
["612","-1900","-1900-0",null,null,null,null,null,null,null,"",null,null,null,null,null,null,null,null,{"$f":"IF(G$2034=1,\"\",IF(S620=\"\",\"\",VLOOKUP(S620,Tabelle!$I$5:$M$7,5,FALSE)))","v":""},{"$f":"IF(G$2034=1,\"\",IF(S620=\"\",\"\",VLOOKUP(S620,Tabelle!$I$5:$N$7,6,FALSE)))","v":""},null,null,null,null,null,null,null,null,null,{"$f":"IF(D620=\"\",0,IF(D620=D619,COUNTIF(D$9:D619,D620)+1,1))","v":0},0,0]
["613","-1900","-1900-0",null,null,null,null,null,null,null,"",null,null,null,null,null,null,null,null,{"$f":"IF(G$2034=1,\"\",IF(S621=\"\",\"\",VLOOKUP(S621,Tabelle!$I$5:$M$7,5,FALSE)))","v":""},{"$f":"IF(G$2034=1,\"\",IF(S621=\"\",\"\",VLOOKUP(S621,Tabelle!$I$5:$N$7,6,FALSE)))","v":""},null,null,null,null,null,null,null,null,null,{"$f":"IF(D621=\"\",0,IF(D621=D620,COUNTIF(D$9:D620,D621)+1,1))","v":0},0,0]
["614","-1900","-1900-0",null,null,null,null,null,null,null,"",null,null,null,null,null,null,null,null,{"$f":"IF(G$2034=1,\"\",IF(S622=\"\",\"\",VLOOKUP(S622,Tabelle!$I$5:$M$7,5,FALSE)))","v":""},{"$f":"IF(G$2034=1,\"\",IF(S622=\"\",\"\",VLOOKUP(S622,Tabelle!$I$5:$N$7,6,FALSE)))","v":""},null,null,null,null,null,null,null,null,null,{"$f":"IF(D622=\"\",0,IF(D622=D621,COUNTIF(D$9:D621,D622)+1,1))","v":0},0,0]
["615","-1900","-1900-0",null,null,null,null,null,null,null,"",null,null,null,null,null,null,null,null,{"$f":"IF(G$2034=1,\"\",IF(S623=\"\",\"\",VLOOKUP(S623,Tabelle!$I$5:$M$7,5,FALSE)))","v":""},{"$f":"IF(G$2034=1,\"\",IF(S623=\"\",\"\",VLOOKUP(S623,Tabelle!$I$5:$N$7,6,FALSE)))","v":""},null,null,null,null,null,null,null,null,null,{"$f":"IF(D623=\"\",0,IF(D623=D622,COUNTIF(D$9:D622,D623)+1,1))","v":0},0,0]
["616","-1900","-1900-0",null,null,null,null,null,null,null,"",null,null,null,null,null,null,null,null,{"$f":"IF(G$2034=1,\"\",IF(S624=\"\",\"\",VLOOKUP(S624,Tabelle!$I$5:$M$7,5,FALSE)))","v":""},{"$f":"IF(G$2034=1,\"\",IF(S624=\"\",\"\",VLOOKUP(S624,Tabelle!$I$5:$N$7,6,FALSE)))","v":""},null,null,null,null,null,null,null,null,null,{"$f":"IF(D624=\"\",0,IF(D624=D623,COUNTIF(D$9:D623,D624)+1,1))","v":0},0,0]
["617","-1900","-1900-0",null,null,null,null,null,null,null,"",null,null,null,null,null,null,null,null,{"$f":"IF(G$2034=1,\"\",IF(S625=\"\",\"\",VLOOKUP(S625,Tabelle!$I$5:$M$7,5,FALSE)))","v":""},{"$f":"IF(G$2034=1,\"\",IF(S625=\"\",\"\",VLOOKUP(S625,Tabelle!$I$5:$N$7,6,FALSE)))","v":""},null,null,null,null,null,null,null,null,null,{"$f":"IF(D625=\"\",0,IF(D625=D624,COUNTIF(D$9:D624,D625)+1,1))","v":0},0,0]
["618","-1900","-1900-0",null,null,null,null,null,null,null,"",null,null,null,null,null,null,null,null,{"$f":"IF(G$2034=1,\"\",IF(S626=\"\",\"\",VLOOKUP(S626,Tabelle!$I$5:$M$7,5,FALSE)))","v":""},{"$f":"IF(G$2034=1,\"\",IF(S626=\"\",\"\",VLOOKUP(S626,Tabelle!$I$5:$N$7,6,FALSE)))","v":""},null,null,null,null,null,null,null,null,null,{"$f":"IF(D626=\"\",0,IF(D626=D625,COUNTIF(D$9:D625,D626)+1,1))","v":0},0,0]
["619","-1900","-1900-0",null,null,null,null,null,null,null,"",null,null,null,null,null,null,null,null,{"$f":"IF(G$2034=1,\"\",IF(S627=\"\",\"\",VLOOKUP(S627,Tabelle!$I$5:$M$7,5,FALSE)))","v":""},{"$f":"IF(G$2034=1,\"\",IF(S627=\"\",\"\",VLOOKUP(S627,Tabelle!$I$5:$N$7,6,FALSE)))","v":""},null,null,null,null,null,null,null,null,null,{"$f":"IF(D627=\"\",0,IF(D627=D626,COUNTIF(D$9:D626,D627)+1,1))","v":0},0,0]
["620","-1900","-1900-0",null,null,null,null,null,null,null,"",null,null,null,null,null,null,null,null,{"$f":"IF(G$2034=1,\"\",IF(S628=\"\",\"\",VLOOKUP(S628,Tabelle!$I$5:$M$7,5,FALSE)))","v":""},{"$f":"IF(G$2034=1,\"\",IF(S628=\"\",\"\",VLOOKUP(S628,Tabelle!$I$5:$N$7,6,FALSE)))","v":""},null,null,null,null,null,null,null,null,null,{"$f":"IF(D628=\"\",0,IF(D628=D627,COUNTIF(D$9:D627,D628)+1,1))","v":0},0,0]
["621","-1900","-1900-0",null,null,null,null,null,null,null,"",null,null,null,null,null,null,null,null,{"$f":"IF(G$2034=1,\"\",IF(S629=\"\",\"\",VLOOKUP(S629,Tabelle!$I$5:$M$7,5,FALSE)))","v":""},{"$f":"IF(G$2034=1,\"\",IF(S629=\"\",\"\",VLOOKUP(S629,Tabelle!$I$5:$N$7,6,FALSE)))","v":""},null,null,null,null,null,null,null,null,null,{"$f":"IF(D629=\"\",0,IF(D629=D628,COUNTIF(D$9:D628,D629)+1,1))","v":0},0,0]
["622","-1900","-1900-0",null,null,null,null,null,null,null,"",null,null,null,null,null,null,null,null,{"$f":"IF(G$2034=1,\"\",IF(S630=\"\",\"\",VLOOKUP(S630,Tabelle!$I$5:$M$7,5,FALSE)))","v":""},{"$f":"IF(G$2034=1,\"\",IF(S630=\"\",\"\",VLOOKUP(S630,Tabelle!$I$5:$N$7,6,FALSE)))","v":""},null,null,null,null,null,null,null,null,null,{"$f":"IF(D630=\"\",0,IF(D630=D629,COUNTIF(D$9:D629,D630)+1,1))","v":0},0,0]
["623","-1900","-1900-0",null,null,null,null,null,null,null,"",null,null,null,null,null,null,null,null,{"$f":"IF(G$2034=1,\"\",IF(S631=\"\",\"\",VLOOKUP(S631,Tabelle!$I$5:$M$7,5,FALSE)))","v":""},{"$f":"IF(G$2034=1,\"\",IF(S631=\"\",\"\",VLOOKUP(S631,Tabelle!$I$5:$N$7,6,FALSE)))","v":""},null,null,null,null,null,null,null,null,null,{"$f":"IF(D631=\"\",0,IF(D631=D630,COUNTIF(D$9:D630,D631)+1,1))","v":0},0,0]
["624","-1900","-1900-0",null,null,null,null,null,null,null,"",null,null,null,null,null,null,null,null,{"$f":"IF(G$2034=1,\"\",IF(S632=\"\",\"\",VLOOKUP(S632,Tabelle!$I$5:$M$7,5,FALSE)))","v":""},{"$f":"IF(G$2034=1,\"\",IF(S632=\"\",\"\",VLOOKUP(S632,Tabelle!$I$5:$N$7,6,FALSE)))","v":""},null,null,null,null,null,null,null,null,null,{"$f":"IF(D632=\"\",0,IF(D632=D631,COUNTIF(D$9:D631,D632)+1,1))","v":0},0,0]
["625","-1900","-1900-0",null,null,null,null,null,null,null,"",null,null,null,null,null,null,null,null,{"$f":"IF(G$2034=1,\"\",IF(S633=\"\",\"\",VLOOKUP(S633,Tabelle!$I$5:$M$7,5,FALSE)))","v":""},{"$f":"IF(G$2034=1,\"\",IF(S633=\"\",\"\",VLOOKUP(S633,Tabelle!$I$5:$N$7,6,FALSE)))","v":""},null,null,null,null,null,null,null,null,null,{"$f":"IF(D633=\"\",0,IF(D633=D632,COUNTIF(D$9:D632,D633)+1,1))","v":0},0,0]
["626","-1900","-1900-0",null,null,null,null,null,null,null,"",null,null,null,null,null,null,null,null,{"$f":"IF(G$2034=1,\"\",IF(S634=\"\",\"\",VLOOKUP(S634,Tabelle!$I$5:$M$7,5,FALSE)))","v":""},{"$f":"IF(G$2034=1,\"\",IF(S634=\"\",\"\",VLOOKUP(S634,Tabelle!$I$5:$N$7,6,FALSE)))","v":""},null,null,null,null,null,null,null,null,null,{"$f":"IF(D634=\"\",0,IF(D634=D633,COUNTIF(D$9:D633,D634)+1,1))","v":0},0,0]
["627","-1900","-1900-0",null,null,null,null,null,null,null,"",null,null,null,null,null,null,null,null,{"$f":"IF(G$2034=1,\"\",IF(S635=\"\",\"\",VLOOKUP(S635,Tabelle!$I$5:$M$7,5,FALSE)))","v":""},{"$f":"IF(G$2034=1,\"\",IF(S635=\"\",\"\",VLOOKUP(S635,Tabelle!$I$5:$N$7,6,FALSE)))","v":""},null,null,null,null,null,null,null,null,null,{"$f":"IF(D635=\"\",0,IF(D635=D634,COUNTIF(D$9:D634,D635)+1,1))","v":0},0,0]
["628","-1900","-1900-0",null,null,null,null,null,null,null,"",null,null,null,null,null,null,null,null,{"$f":"IF(G$2034=1,\"\",IF(S636=\"\",\"\",VLOOKUP(S636,Tabelle!$I$5:$M$7,5,FALSE)))","v":""},{"$f":"IF(G$2034=1,\"\",IF(S636=\"\",\"\",VLOOKUP(S636,Tabelle!$I$5:$N$7,6,FALSE)))","v":""},null,null,null,null,null,null,null,null,null,{"$f":"IF(D636=\"\",0,IF(D636=D635,COUNTIF(D$9:D635,D636)+1,1))","v":0},0,0]
["629","-1900","-1900-0",null,null,null,null,null,null,null,"",null,null,null,null,null,null,null,null,{"$f":"IF(G$2034=1,\"\",IF(S637=\"\",\"\",VLOOKUP(S637,Tabelle!$I$5:$M$7,5,FALSE)))","v":""},{"$f":"IF(G$2034=1,\"\",IF(S637=\"\",\"\",VLOOKUP(S637,Tabelle!$I$5:$N$7,6,FALSE)))","v":""},null,null,null,null,null,null,null,null,null,{"$f":"IF(D637=\"\",0,IF(D637=D636,COUNTIF(D$9:D636,D637)+1,1))","v":0},0,0]
["630","-1900","-1900-0",null,null,null,null,null,null,null,"",null,null,null,null,null,null,null,null,{"$f":"IF(G$2034=1,\"\",IF(S638=\"\",\"\",VLOOKUP(S638,Tabelle!$I$5:$M$7,5,FALSE)))","v":""},{"$f":"IF(G$2034=1,\"\",IF(S638=\"\",\"\",VLOOKUP(S638,Tabelle!$I$5:$N$7,6,FALSE)))","v":""},null,null,null,null,null,null,null,null,null,{"$f":"IF(D638=\"\",0,IF(D638=D637,COUNTIF(D$9:D637,D638)+1,1))","v":0},0,0]
["631","-1900","-1900-0",null,null,null,null,null,null,null,"",null,null,null,null,null,null,null,null,{"$f":"IF(G$2034=1,\"\",IF(S639=\"\",\"\",VLOOKUP(S639,Tabelle!$I$5:$M$7,5,FALSE)))","v":""},{"$f":"IF(G$2034=1,\"\",IF(S639=\"\",\"\",VLOOKUP(S639,Tabelle!$I$5:$N$7,6,FALSE)))","v":""},null,null,null,null,null,null,null,null,null,{"$f":"IF(D639=\"\",0,IF(D639=D638,COUNTIF(D$9:D638,D639)+1,1))","v":0},0,0]
["632","-1900","-1900-0",null,null,null,null,null,null,null,"",null,null,null,null,null,null,null,null,{"$f":"IF(G$2034=1,\"\",IF(S640=\"\",\"\",VLOOKUP(S640,Tabelle!$I$5:$M$7,5,FALSE)))","v":""},{"$f":"IF(G$2034=1,\"\",IF(S640=\"\",\"\",VLOOKUP(S640,Tabelle!$I$5:$N$7,6,FALSE)))","v":""},null,null,null,null,null,null,null,null,null,{"$f":"IF(D640=\"\",0,IF(D640=D639,COUNTIF(D$9:D639,D640)+1,1))","v":0},0,0]
["633","-1900","-1900-0",null,null,null,null,null,null,null,"",null,null,null,null,null,null,null,null,{"$f":"IF(G$2034=1,\"\",IF(S641=\"\",\"\",VLOOKUP(S641,Tabelle!$I$5:$M$7,5,FALSE)))","v":""},{"$f":"IF(G$2034=1,\"\",IF(S641=\"\",\"\",VLOOKUP(S641,Tabelle!$I$5:$N$7,6,FALSE)))","v":""},null,null,null,null,null,null,null,null,null,{"$f":"IF(D641=\"\",0,IF(D641=D640,COUNTIF(D$9:D640,D641)+1,1))","v":0},0,0]
["634","-1900","-1900-0",null,null,null,null,null,null,null,"",null,null,null,null,null,null,null,null,{"$f":"IF(G$2034=1,\"\",IF(S642=\"\",\"\",VLOOKUP(S642,Tabelle!$I$5:$M$7,5,FALSE)))","v":""},{"$f":"IF(G$2034=1,\"\",IF(S642=\"\",\"\",VLOOKUP(S642,Tabelle!$I$5:$N$7,6,FALSE)))","v":""},null,null,null,null,null,null,null,null,null,{"$f":"IF(D642=\"\",0,IF(D642=D641,COUNTIF(D$9:D641,D642)+1,1))","v":0},0,0]
["635","-1900","-1900-0",null,null,null,null,null,null,null,"",null,null,null,null,null,null,null,null,{"$f":"IF(G$2034=1,\"\",IF(S643=\"\",\"\",VLOOKUP(S643,Tabelle!$I$5:$M$7,5,FALSE)))","v":""},{"$f":"IF(G$2034=1,\"\",IF(S643=\"\",\"\",VLOOKUP(S643,Tabelle!$I$5:$N$7,6,FALSE)))","v":""},null,null,null,null,null,null,null,null,null,{"$f":"IF(D643=\"\",0,IF(D643=D642,COUNTIF(D$9:D642,D643)+1,1))","v":0},0,0]
["636","-1900","-1900-0",null,null,null,null,null,null,null,"",null,null,null,null,null,null,null,null,{"$f":"IF(G$2034=1,\"\",IF(S644=\"\",\"\",VLOOKUP(S644,Tabelle!$I$5:$M$7,5,FALSE)))","v":""},{"$f":"IF(G$2034=1,\"\",IF(S644=\"\",\"\",VLOOKUP(S644,Tabelle!$I$5:$N$7,6,FALSE)))","v":""},null,null,null,null,null,null,null,null,null,{"$f":"IF(D644=\"\",0,IF(D644=D643,COUNTIF(D$9:D643,D644)+1,1))","v":0},0,0]
["637","-1900","-1900-0",null,null,null,null,null,null,null,"",null,null,null,null,null,null,null,null,{"$f":"IF(G$2034=1,\"\",IF(S645=\"\",\"\",VLOOKUP(S645,Tabelle!$I$5:$M$7,5,FALSE)))","v":""},{"$f":"IF(G$2034=1,\"\",IF(S645=\"\",\"\",VLOOKUP(S645,Tabelle!$I$5:$N$7,6,FALSE)))","v":""},null,null,null,null,null,null,null,null,null,{"$f":"IF(D645=\"\",0,IF(D645=D644,COUNTIF(D$9:D644,D645)+1,1))","v":0},0,0]
["638","-1900","-1900-0",null,null,null,null,null,null,null,"",null,null,null,null,null,null,null,null,{"$f":"IF(G$2034=1,\"\",IF(S646=\"\",\"\",VLOOKUP(S646,Tabelle!$I$5:$M$7,5,FALSE)))","v":""},{"$f":"IF(G$2034=1,\"\",IF(S646=\"\",\"\",VLOOKUP(S646,Tabelle!$I$5:$N$7,6,FALSE)))","v":""},null,null,null,null,null,null,null,null,null,{"$f":"IF(D646=\"\",0,IF(D646=D645,COUNTIF(D$9:D645,D646)+1,1))","v":0},0,0]
["639","-1900","-1900-0",null,null,null,null,null,null,null,"",null,null,null,null,null,null,null,null,{"$f":"IF(G$2034=1,\"\",IF(S647=\"\",\"\",VLOOKUP(S647,Tabelle!$I$5:$M$7,5,FALSE)))","v":""},{"$f":"IF(G$2034=1,\"\",IF(S647=\"\",\"\",VLOOKUP(S647,Tabelle!$I$5:$N$7,6,FALSE)))","v":""},null,null,null,null,null,null,null,null,null,{"$f":"IF(D647=\"\",0,IF(D647=D646,COUNTIF(D$9:D646,D647)+1,1))","v":0},0,0]
["640","-1900","-1900-0",null,null,null,null,null,null,null,"",null,null,null,null,null,null,null,null,{"$f":"IF(G$2034=1,\"\",IF(S648=\"\",\"\",VLOOKUP(S648,Tabelle!$I$5:$M$7,5,FALSE)))","v":""},{"$f":"IF(G$2034=1,\"\",IF(S648=\"\",\"\",VLOOKUP(S648,Tabelle!$I$5:$N$7,6,FALSE)))","v":""},null,null,null,null,null,null,null,null,null,{"$f":"IF(D648=\"\",0,IF(D648=D647,COUNTIF(D$9:D647,D648)+1,1))","v":0},0,0]
["641","-1900",{"$f":"IF(G$2034=1,0,B649&\"-\"&AE649)","v":"-1900-0"},null,null,null,null,null,null,null,{"$f":"IF(G$2034=1,0,IF(OR(J649=\"\",ISERROR($O$2034)),\"\",VLOOKUP(J649,$L$2019:$N$2027,2,FALSE)))","v":""},null,null,null,null,null,null,null,null,{"$f":"IF(G$2034=1,\"\",IF(S649=\"\",\"\",VLOOKUP(S649,Tabelle!$I$5:$M$7,5,FALSE)))","v":""},{"$f":"IF(G$2034=1,\"\",IF(S649=\"\",\"\",VLOOKUP(S649,Tabelle!$I$5:$N$7,6,FALSE)))","v":""},null,null,null,null,null,null,null,null,null,{"$f":"IF(D649=\"\",0,IF(D649=D648,COUNTIF(D$9:D648,D649)+1,1))","v":0},0,0]
["642",{"$f":"IF(AG650=$AG$2013,0,IF(G$2034=1,0,D650&\"-\"&YEAR(E650)))","v":"-1900"},"-1900-0",null,null,null,null,null,null,null,"",null,null,null,null,null,null,null,null,{"$f":"IF(G$2034=1,\"\",IF(S650=\"\",\"\",VLOOKUP(S650,Tabelle!$I$5:$M$7,5,FALSE)))","v":""},{"$f":"IF(G$2034=1,\"\",IF(S650=\"\",\"\",VLOOKUP(S650,Tabelle!$I$5:$N$7,6,FALSE)))","v":""},null,null,null,null,null,null,null,null,null,{"$f":"IF(D650=\"\",0,IF(D650=D649,COUNTIF(D$9:D649,D650)+1,1))","v":0},{"$f":"IF(G$2034=1,0,IF(AE650=28,1,0))","v":0},{"$f":"IF(E650>0,IF(OR(MONTH(E650)<$G$2026,MONTH(E650)>$G$2027),AG$2013,0),0)","v":0}]
["643","-1900","-1900-0",null,null,null,null,null,null,null,"",null,null,null,null,null,null,null,null,{"$f":"IF(G$2034=1,\"\",IF(S651=\"\",\"\",VLOOKUP(S651,Tabelle!$I$5:$M$7,5,FALSE)))","v":""},{"$f":"IF(G$2034=1,\"\",IF(S651=\"\",\"\",VLOOKUP(S651,Tabelle!$I$5:$N$7,6,FALSE)))","v":""},null,null,null,null,null,null,null,null,null,{"$f":"IF(D651=\"\",0,IF(D651=D650,COUNTIF(D$9:D650,D651)+1,1))","v":0},0,0]
["644","-1900","-1900-0",null,null,null,null,null,null,null,"",null,null,null,null,null,null,null,null,{"$f":"IF(G$2034=1,\"\",IF(S652=\"\",\"\",VLOOKUP(S652,Tabelle!$I$5:$M$7,5,FALSE)))","v":""},{"$f":"IF(G$2034=1,\"\",IF(S652=\"\",\"\",VLOOKUP(S652,Tabelle!$I$5:$N$7,6,FALSE)))","v":""},null,null,null,null,null,null,null,null,null,{"$f":"IF(D652=\"\",0,IF(D652=D651,COUNTIF(D$9:D651,D652)+1,1))","v":0},0,0]
["645","-1900","-1900-0",null,null,null,null,null,null,null,"",null,null,null,null,null,null,null,null,{"$f":"IF(G$2034=1,\"\",IF(S653=\"\",\"\",VLOOKUP(S653,Tabelle!$I$5:$M$7,5,FALSE)))","v":""},{"$f":"IF(G$2034=1,\"\",IF(S653=\"\",\"\",VLOOKUP(S653,Tabelle!$I$5:$N$7,6,FALSE)))","v":""},null,null,null,null,null,null,null,null,null,{"$f":"IF(D653=\"\",0,IF(D653=D652,COUNTIF(D$9:D652,D653)+1,1))","v":0},0,0]
["646","-1900","-1900-0",null,null,null,null,null,null,null,"",null,null,null,null,null,null,null,null,{"$f":"IF(G$2034=1,\"\",IF(S654=\"\",\"\",VLOOKUP(S654,Tabelle!$I$5:$M$7,5,FALSE)))","v":""},{"$f":"IF(G$2034=1,\"\",IF(S654=\"\",\"\",VLOOKUP(S654,Tabelle!$I$5:$N$7,6,FALSE)))","v":""},null,null,null,null,null,null,null,null,null,{"$f":"IF(D654=\"\",0,IF(D654=D653,COUNTIF(D$9:D653,D654)+1,1))","v":0},0,0]
["647","-1900","-1900-0",null,null,null,null,null,null,null,"",null,null,null,null,null,null,null,null,{"$f":"IF(G$2034=1,\"\",IF(S655=\"\",\"\",VLOOKUP(S655,Tabelle!$I$5:$M$7,5,FALSE)))","v":""},{"$f":"IF(G$2034=1,\"\",IF(S655=\"\",\"\",VLOOKUP(S655,Tabelle!$I$5:$N$7,6,FALSE)))","v":""},null,null,null,null,null,null,null,null,null,{"$f":"IF(D655=\"\",0,IF(D655=D654,COUNTIF(D$9:D654,D655)+1,1))","v":0},0,0]
["648","-1900","-1900-0",null,null,null,null,null,null,null,"",null,null,null,null,null,null,null,null,{"$f":"IF(G$2034=1,\"\",IF(S656=\"\",\"\",VLOOKUP(S656,Tabelle!$I$5:$M$7,5,FALSE)))","v":""},{"$f":"IF(G$2034=1,\"\",IF(S656=\"\",\"\",VLOOKUP(S656,Tabelle!$I$5:$N$7,6,FALSE)))","v":""},null,null,null,null,null,null,null,null,null,{"$f":"IF(D656=\"\",0,IF(D656=D655,COUNTIF(D$9:D655,D656)+1,1))","v":0},0,0]
["649","-1900","-1900-0",null,null,null,null,null,null,null,"",null,null,null,null,null,null,null,null,{"$f":"IF(G$2034=1,\"\",IF(S657=\"\",\"\",VLOOKUP(S657,Tabelle!$I$5:$M$7,5,FALSE)))","v":""},{"$f":"IF(G$2034=1,\"\",IF(S657=\"\",\"\",VLOOKUP(S657,Tabelle!$I$5:$N$7,6,FALSE)))","v":""},null,null,null,null,null,null,null,null,null,{"$f":"IF(D657=\"\",0,IF(D657=D656,COUNTIF(D$9:D656,D657)+1,1))","v":0},0,0]
["650","-1900","-1900-0",null,null,null,null,null,null,null,"",null,null,null,null,null,null,null,null,{"$f":"IF(G$2034=1,\"\",IF(S658=\"\",\"\",VLOOKUP(S658,Tabelle!$I$5:$M$7,5,FALSE)))","v":""},{"$f":"IF(G$2034=1,\"\",IF(S658=\"\",\"\",VLOOKUP(S658,Tabelle!$I$5:$N$7,6,FALSE)))","v":""},null,null,null,null,null,null,null,null,null,{"$f":"IF(D658=\"\",0,IF(D658=D657,COUNTIF(D$9:D657,D658)+1,1))","v":0},0,0]
["651","-1900","-1900-0",null,null,null,null,null,null,null,"",null,null,null,null,null,null,null,null,{"$f":"IF(G$2034=1,\"\",IF(S659=\"\",\"\",VLOOKUP(S659,Tabelle!$I$5:$M$7,5,FALSE)))","v":""},{"$f":"IF(G$2034=1,\"\",IF(S659=\"\",\"\",VLOOKUP(S659,Tabelle!$I$5:$N$7,6,FALSE)))","v":""},null,null,null,null,null,null,null,null,null,{"$f":"IF(D659=\"\",0,IF(D659=D658,COUNTIF(D$9:D658,D659)+1,1))","v":0},0,0]
["652","-1900","-1900-0",null,null,null,null,null,null,null,"",null,null,null,null,null,null,null,null,{"$f":"IF(G$2034=1,\"\",IF(S660=\"\",\"\",VLOOKUP(S660,Tabelle!$I$5:$M$7,5,FALSE)))","v":""},{"$f":"IF(G$2034=1,\"\",IF(S660=\"\",\"\",VLOOKUP(S660,Tabelle!$I$5:$N$7,6,FALSE)))","v":""},null,null,null,null,null,null,null,null,null,{"$f":"IF(D660=\"\",0,IF(D660=D659,COUNTIF(D$9:D659,D660)+1,1))","v":0},0,0]
["653","-1900","-1900-0",null,null,null,null,null,null,null,"",null,null,null,null,null,null,null,null,{"$f":"IF(G$2034=1,\"\",IF(S661=\"\",\"\",VLOOKUP(S661,Tabelle!$I$5:$M$7,5,FALSE)))","v":""},{"$f":"IF(G$2034=1,\"\",IF(S661=\"\",\"\",VLOOKUP(S661,Tabelle!$I$5:$N$7,6,FALSE)))","v":""},null,null,null,null,null,null,null,null,null,{"$f":"IF(D661=\"\",0,IF(D661=D660,COUNTIF(D$9:D660,D661)+1,1))","v":0},0,0]
["654","-1900","-1900-0",null,null,null,null,null,null,null,"",null,null,null,null,null,null,null,null,{"$f":"IF(G$2034=1,\"\",IF(S662=\"\",\"\",VLOOKUP(S662,Tabelle!$I$5:$M$7,5,FALSE)))","v":""},{"$f":"IF(G$2034=1,\"\",IF(S662=\"\",\"\",VLOOKUP(S662,Tabelle!$I$5:$N$7,6,FALSE)))","v":""},null,null,null,null,null,null,null,null,null,{"$f":"IF(D662=\"\",0,IF(D662=D661,COUNTIF(D$9:D661,D662)+1,1))","v":0},0,0]
["655","-1900","-1900-0",null,null,null,null,null,null,null,"",null,null,null,null,null,null,null,null,{"$f":"IF(G$2034=1,\"\",IF(S663=\"\",\"\",VLOOKUP(S663,Tabelle!$I$5:$M$7,5,FALSE)))","v":""},{"$f":"IF(G$2034=1,\"\",IF(S663=\"\",\"\",VLOOKUP(S663,Tabelle!$I$5:$N$7,6,FALSE)))","v":""},null,null,null,null,null,null,null,null,null,{"$f":"IF(D663=\"\",0,IF(D663=D662,COUNTIF(D$9:D662,D663)+1,1))","v":0},0,0]
["656","-1900","-1900-0",null,null,null,null,null,null,null,"",null,null,null,null,null,null,null,null,{"$f":"IF(G$2034=1,\"\",IF(S664=\"\",\"\",VLOOKUP(S664,Tabelle!$I$5:$M$7,5,FALSE)))","v":""},{"$f":"IF(G$2034=1,\"\",IF(S664=\"\",\"\",VLOOKUP(S664,Tabelle!$I$5:$N$7,6,FALSE)))","v":""},null,null,null,null,null,null,null,null,null,{"$f":"IF(D664=\"\",0,IF(D664=D663,COUNTIF(D$9:D663,D664)+1,1))","v":0},0,0]
["657","-1900","-1900-0",null,null,null,null,null,null,null,"",null,null,null,null,null,null,null,null,{"$f":"IF(G$2034=1,\"\",IF(S665=\"\",\"\",VLOOKUP(S665,Tabelle!$I$5:$M$7,5,FALSE)))","v":""},{"$f":"IF(G$2034=1,\"\",IF(S665=\"\",\"\",VLOOKUP(S665,Tabelle!$I$5:$N$7,6,FALSE)))","v":""},null,null,null,null,null,null,null,null,null,{"$f":"IF(D665=\"\",0,IF(D665=D664,COUNTIF(D$9:D664,D665)+1,1))","v":0},0,0]
["658","-1900","-1900-0",null,null,null,null,null,null,null,"",null,null,null,null,null,null,null,null,{"$f":"IF(G$2034=1,\"\",IF(S666=\"\",\"\",VLOOKUP(S666,Tabelle!$I$5:$M$7,5,FALSE)))","v":""},{"$f":"IF(G$2034=1,\"\",IF(S666=\"\",\"\",VLOOKUP(S666,Tabelle!$I$5:$N$7,6,FALSE)))","v":""},null,null,null,null,null,null,null,null,null,{"$f":"IF(D666=\"\",0,IF(D666=D665,COUNTIF(D$9:D665,D666)+1,1))","v":0},0,0]
["659","-1900","-1900-0",null,null,null,null,null,null,null,"",null,null,null,null,null,null,null,null,{"$f":"IF(G$2034=1,\"\",IF(S667=\"\",\"\",VLOOKUP(S667,Tabelle!$I$5:$M$7,5,FALSE)))","v":""},{"$f":"IF(G$2034=1,\"\",IF(S667=\"\",\"\",VLOOKUP(S667,Tabelle!$I$5:$N$7,6,FALSE)))","v":""},null,null,null,null,null,null,null,null,null,{"$f":"IF(D667=\"\",0,IF(D667=D666,COUNTIF(D$9:D666,D667)+1,1))","v":0},0,0]
["660","-1900","-1900-0",null,null,null,null,null,null,null,"",null,null,null,null,null,null,null,null,{"$f":"IF(G$2034=1,\"\",IF(S668=\"\",\"\",VLOOKUP(S668,Tabelle!$I$5:$M$7,5,FALSE)))","v":""},{"$f":"IF(G$2034=1,\"\",IF(S668=\"\",\"\",VLOOKUP(S668,Tabelle!$I$5:$N$7,6,FALSE)))","v":""},null,null,null,null,null,null,null,null,null,{"$f":"IF(D668=\"\",0,IF(D668=D667,COUNTIF(D$9:D667,D668)+1,1))","v":0},0,0]
["661","-1900","-1900-0",null,null,null,null,null,null,null,"",null,null,null,null,null,null,null,null,{"$f":"IF(G$2034=1,\"\",IF(S669=\"\",\"\",VLOOKUP(S669,Tabelle!$I$5:$M$7,5,FALSE)))","v":""},{"$f":"IF(G$2034=1,\"\",IF(S669=\"\",\"\",VLOOKUP(S669,Tabelle!$I$5:$N$7,6,FALSE)))","v":""},null,null,null,null,null,null,null,null,null,{"$f":"IF(D669=\"\",0,IF(D669=D668,COUNTIF(D$9:D668,D669)+1,1))","v":0},0,0]
["662","-1900","-1900-0",null,null,null,null,null,null,null,"",null,null,null,null,null,null,null,null,{"$f":"IF(G$2034=1,\"\",IF(S670=\"\",\"\",VLOOKUP(S670,Tabelle!$I$5:$M$7,5,FALSE)))","v":""},{"$f":"IF(G$2034=1,\"\",IF(S670=\"\",\"\",VLOOKUP(S670,Tabelle!$I$5:$N$7,6,FALSE)))","v":""},null,null,null,null,null,null,null,null,null,{"$f":"IF(D670=\"\",0,IF(D670=D669,COUNTIF(D$9:D669,D670)+1,1))","v":0},0,0]
["663","-1900","-1900-0",null,null,null,null,null,null,null,"",null,null,null,null,null,null,null,null,{"$f":"IF(G$2034=1,\"\",IF(S671=\"\",\"\",VLOOKUP(S671,Tabelle!$I$5:$M$7,5,FALSE)))","v":""},{"$f":"IF(G$2034=1,\"\",IF(S671=\"\",\"\",VLOOKUP(S671,Tabelle!$I$5:$N$7,6,FALSE)))","v":""},null,null,null,null,null,null,null,null,null,{"$f":"IF(D671=\"\",0,IF(D671=D670,COUNTIF(D$9:D670,D671)+1,1))","v":0},0,0]
["664","-1900","-1900-0",null,null,null,null,null,null,null,"",null,null,null,null,null,null,null,null,{"$f":"IF(G$2034=1,\"\",IF(S672=\"\",\"\",VLOOKUP(S672,Tabelle!$I$5:$M$7,5,FALSE)))","v":""},{"$f":"IF(G$2034=1,\"\",IF(S672=\"\",\"\",VLOOKUP(S672,Tabelle!$I$5:$N$7,6,FALSE)))","v":""},null,null,null,null,null,null,null,null,null,{"$f":"IF(D672=\"\",0,IF(D672=D671,COUNTIF(D$9:D671,D672)+1,1))","v":0},0,0]
["665","-1900","-1900-0",null,null,null,null,null,null,null,"",null,null,null,null,null,null,null,null,{"$f":"IF(G$2034=1,\"\",IF(S673=\"\",\"\",VLOOKUP(S673,Tabelle!$I$5:$M$7,5,FALSE)))","v":""},{"$f":"IF(G$2034=1,\"\",IF(S673=\"\",\"\",VLOOKUP(S673,Tabelle!$I$5:$N$7,6,FALSE)))","v":""},null,null,null,null,null,null,null,null,null,{"$f":"IF(D673=\"\",0,IF(D673=D672,COUNTIF(D$9:D672,D673)+1,1))","v":0},0,0]
["666","-1900","-1900-0",null,null,null,null,null,null,null,"",null,null,null,null,null,null,null,null,{"$f":"IF(G$2034=1,\"\",IF(S674=\"\",\"\",VLOOKUP(S674,Tabelle!$I$5:$M$7,5,FALSE)))","v":""},{"$f":"IF(G$2034=1,\"\",IF(S674=\"\",\"\",VLOOKUP(S674,Tabelle!$I$5:$N$7,6,FALSE)))","v":""},null,null,null,null,null,null,null,null,null,{"$f":"IF(D674=\"\",0,IF(D674=D673,COUNTIF(D$9:D673,D674)+1,1))","v":0},0,0]
["667","-1900","-1900-0",null,null,null,null,null,null,null,"",null,null,null,null,null,null,null,null,{"$f":"IF(G$2034=1,\"\",IF(S675=\"\",\"\",VLOOKUP(S675,Tabelle!$I$5:$M$7,5,FALSE)))","v":""},{"$f":"IF(G$2034=1,\"\",IF(S675=\"\",\"\",VLOOKUP(S675,Tabelle!$I$5:$N$7,6,FALSE)))","v":""},null,null,null,null,null,null,null,null,null,{"$f":"IF(D675=\"\",0,IF(D675=D674,COUNTIF(D$9:D674,D675)+1,1))","v":0},0,0]
["668","-1900","-1900-0",null,null,null,null,null,null,null,"",null,null,null,null,null,null,null,null,{"$f":"IF(G$2034=1,\"\",IF(S676=\"\",\"\",VLOOKUP(S676,Tabelle!$I$5:$M$7,5,FALSE)))","v":""},{"$f":"IF(G$2034=1,\"\",IF(S676=\"\",\"\",VLOOKUP(S676,Tabelle!$I$5:$N$7,6,FALSE)))","v":""},null,null,null,null,null,null,null,null,null,{"$f":"IF(D676=\"\",0,IF(D676=D675,COUNTIF(D$9:D675,D676)+1,1))","v":0},0,0]
["669","-1900","-1900-0",null,null,null,null,null,null,null,"",null,null,null,null,null,null,null,null,{"$f":"IF(G$2034=1,\"\",IF(S677=\"\",\"\",VLOOKUP(S677,Tabelle!$I$5:$M$7,5,FALSE)))","v":""},{"$f":"IF(G$2034=1,\"\",IF(S677=\"\",\"\",VLOOKUP(S677,Tabelle!$I$5:$N$7,6,FALSE)))","v":""},null,null,null,null,null,null,null,null,null,{"$f":"IF(D677=\"\",0,IF(D677=D676,COUNTIF(D$9:D676,D677)+1,1))","v":0},0,0]
["670","-1900","-1900-0",null,null,null,null,null,null,null,"",null,null,null,null,null,null,null,null,{"$f":"IF(G$2034=1,\"\",IF(S678=\"\",\"\",VLOOKUP(S678,Tabelle!$I$5:$M$7,5,FALSE)))","v":""},{"$f":"IF(G$2034=1,\"\",IF(S678=\"\",\"\",VLOOKUP(S678,Tabelle!$I$5:$N$7,6,FALSE)))","v":""},null,null,null,null,null,null,null,null,null,{"$f":"IF(D678=\"\",0,IF(D678=D677,COUNTIF(D$9:D677,D678)+1,1))","v":0},0,0]
["671","-1900","-1900-0",null,null,null,null,null,null,null,"",null,null,null,null,null,null,null,null,{"$f":"IF(G$2034=1,\"\",IF(S679=\"\",\"\",VLOOKUP(S679,Tabelle!$I$5:$M$7,5,FALSE)))","v":""},{"$f":"IF(G$2034=1,\"\",IF(S679=\"\",\"\",VLOOKUP(S679,Tabelle!$I$5:$N$7,6,FALSE)))","v":""},null,null,null,null,null,null,null,null,null,{"$f":"IF(D679=\"\",0,IF(D679=D678,COUNTIF(D$9:D678,D679)+1,1))","v":0},0,0]
["672","-1900","-1900-0",null,null,null,null,null,null,null,"",null,null,null,null,null,null,null,null,{"$f":"IF(G$2034=1,\"\",IF(S680=\"\",\"\",VLOOKUP(S680,Tabelle!$I$5:$M$7,5,FALSE)))","v":""},{"$f":"IF(G$2034=1,\"\",IF(S680=\"\",\"\",VLOOKUP(S680,Tabelle!$I$5:$N$7,6,FALSE)))","v":""},null,null,null,null,null,null,null,null,null,{"$f":"IF(D680=\"\",0,IF(D680=D679,COUNTIF(D$9:D679,D680)+1,1))","v":0},0,0]
["673","-1900","-1900-0",null,null,null,null,null,null,null,"",null,null,null,null,null,null,null,null,{"$f":"IF(G$2034=1,\"\",IF(S681=\"\",\"\",VLOOKUP(S681,Tabelle!$I$5:$M$7,5,FALSE)))","v":""},{"$f":"IF(G$2034=1,\"\",IF(S681=\"\",\"\",VLOOKUP(S681,Tabelle!$I$5:$N$7,6,FALSE)))","v":""},null,null,null,null,null,null,null,null,null,{"$f":"IF(D681=\"\",0,IF(D681=D680,COUNTIF(D$9:D680,D681)+1,1))","v":0},0,0]
["674","-1900","-1900-0",null,null,null,null,null,null,null,"",null,null,null,null,null,null,null,null,{"$f":"IF(G$2034=1,\"\",IF(S682=\"\",\"\",VLOOKUP(S682,Tabelle!$I$5:$M$7,5,FALSE)))","v":""},{"$f":"IF(G$2034=1,\"\",IF(S682=\"\",\"\",VLOOKUP(S682,Tabelle!$I$5:$N$7,6,FALSE)))","v":""},null,null,null,null,null,null,null,null,null,{"$f":"IF(D682=\"\",0,IF(D682=D681,COUNTIF(D$9:D681,D682)+1,1))","v":0},0,0]
["675","-1900","-1900-0",null,null,null,null,null,null,null,"",null,null,null,null,null,null,null,null,{"$f":"IF(G$2034=1,\"\",IF(S683=\"\",\"\",VLOOKUP(S683,Tabelle!$I$5:$M$7,5,FALSE)))","v":""},{"$f":"IF(G$2034=1,\"\",IF(S683=\"\",\"\",VLOOKUP(S683,Tabelle!$I$5:$N$7,6,FALSE)))","v":""},null,null,null,null,null,null,null,null,null,{"$f":"IF(D683=\"\",0,IF(D683=D682,COUNTIF(D$9:D682,D683)+1,1))","v":0},0,0]
["676","-1900","-1900-0",null,null,null,null,null,null,null,"",null,null,null,null,null,null,null,null,{"$f":"IF(G$2034=1,\"\",IF(S684=\"\",\"\",VLOOKUP(S684,Tabelle!$I$5:$M$7,5,FALSE)))","v":""},{"$f":"IF(G$2034=1,\"\",IF(S684=\"\",\"\",VLOOKUP(S684,Tabelle!$I$5:$N$7,6,FALSE)))","v":""},null,null,null,null,null,null,null,null,null,{"$f":"IF(D684=\"\",0,IF(D684=D683,COUNTIF(D$9:D683,D684)+1,1))","v":0},0,0]
["677","-1900","-1900-0",null,null,null,null,null,null,null,"",null,null,null,null,null,null,null,null,{"$f":"IF(G$2034=1,\"\",IF(S685=\"\",\"\",VLOOKUP(S685,Tabelle!$I$5:$M$7,5,FALSE)))","v":""},{"$f":"IF(G$2034=1,\"\",IF(S685=\"\",\"\",VLOOKUP(S685,Tabelle!$I$5:$N$7,6,FALSE)))","v":""},null,null,null,null,null,null,null,null,null,{"$f":"IF(D685=\"\",0,IF(D685=D684,COUNTIF(D$9:D684,D685)+1,1))","v":0},0,0]
["678","-1900","-1900-0",null,null,null,null,null,null,null,"",null,null,null,null,null,null,null,null,{"$f":"IF(G$2034=1,\"\",IF(S686=\"\",\"\",VLOOKUP(S686,Tabelle!$I$5:$M$7,5,FALSE)))","v":""},{"$f":"IF(G$2034=1,\"\",IF(S686=\"\",\"\",VLOOKUP(S686,Tabelle!$I$5:$N$7,6,FALSE)))","v":""},null,null,null,null,null,null,null,null,null,{"$f":"IF(D686=\"\",0,IF(D686=D685,COUNTIF(D$9:D685,D686)+1,1))","v":0},0,0]
["679","-1900","-1900-0",null,null,null,null,null,null,null,"",null,null,null,null,null,null,null,null,{"$f":"IF(G$2034=1,\"\",IF(S687=\"\",\"\",VLOOKUP(S687,Tabelle!$I$5:$M$7,5,FALSE)))","v":""},{"$f":"IF(G$2034=1,\"\",IF(S687=\"\",\"\",VLOOKUP(S687,Tabelle!$I$5:$N$7,6,FALSE)))","v":""},null,null,null,null,null,null,null,null,null,{"$f":"IF(D687=\"\",0,IF(D687=D686,COUNTIF(D$9:D686,D687)+1,1))","v":0},0,0]
["680","-1900","-1900-0",null,null,null,null,null,null,null,"",null,null,null,null,null,null,null,null,{"$f":"IF(G$2034=1,\"\",IF(S688=\"\",\"\",VLOOKUP(S688,Tabelle!$I$5:$M$7,5,FALSE)))","v":""},{"$f":"IF(G$2034=1,\"\",IF(S688=\"\",\"\",VLOOKUP(S688,Tabelle!$I$5:$N$7,6,FALSE)))","v":""},null,null,null,null,null,null,null,null,null,{"$f":"IF(D688=\"\",0,IF(D688=D687,COUNTIF(D$9:D687,D688)+1,1))","v":0},0,0]
["681","-1900","-1900-0",null,null,null,null,null,null,null,"",null,null,null,null,null,null,null,null,{"$f":"IF(G$2034=1,\"\",IF(S689=\"\",\"\",VLOOKUP(S689,Tabelle!$I$5:$M$7,5,FALSE)))","v":""},{"$f":"IF(G$2034=1,\"\",IF(S689=\"\",\"\",VLOOKUP(S689,Tabelle!$I$5:$N$7,6,FALSE)))","v":""},null,null,null,null,null,null,null,null,null,{"$f":"IF(D689=\"\",0,IF(D689=D688,COUNTIF(D$9:D688,D689)+1,1))","v":0},0,0]
["682","-1900","-1900-0",null,null,null,null,null,null,null,"",null,null,null,null,null,null,null,null,{"$f":"IF(G$2034=1,\"\",IF(S690=\"\",\"\",VLOOKUP(S690,Tabelle!$I$5:$M$7,5,FALSE)))","v":""},{"$f":"IF(G$2034=1,\"\",IF(S690=\"\",\"\",VLOOKUP(S690,Tabelle!$I$5:$N$7,6,FALSE)))","v":""},null,null,null,null,null,null,null,null,null,{"$f":"IF(D690=\"\",0,IF(D690=D689,COUNTIF(D$9:D689,D690)+1,1))","v":0},0,0]
["683","-1900","-1900-0",null,null,null,null,null,null,null,"",null,null,null,null,null,null,null,null,{"$f":"IF(G$2034=1,\"\",IF(S691=\"\",\"\",VLOOKUP(S691,Tabelle!$I$5:$M$7,5,FALSE)))","v":""},{"$f":"IF(G$2034=1,\"\",IF(S691=\"\",\"\",VLOOKUP(S691,Tabelle!$I$5:$N$7,6,FALSE)))","v":""},null,null,null,null,null,null,null,null,null,{"$f":"IF(D691=\"\",0,IF(D691=D690,COUNTIF(D$9:D690,D691)+1,1))","v":0},0,0]
["684","-1900","-1900-0",null,null,null,null,null,null,null,"",null,null,null,null,null,null,null,null,{"$f":"IF(G$2034=1,\"\",IF(S692=\"\",\"\",VLOOKUP(S692,Tabelle!$I$5:$M$7,5,FALSE)))","v":""},{"$f":"IF(G$2034=1,\"\",IF(S692=\"\",\"\",VLOOKUP(S692,Tabelle!$I$5:$N$7,6,FALSE)))","v":""},null,null,null,null,null,null,null,null,null,{"$f":"IF(D692=\"\",0,IF(D692=D691,COUNTIF(D$9:D691,D692)+1,1))","v":0},0,0]
["685","-1900","-1900-0",null,null,null,null,null,null,null,"",null,null,null,null,null,null,null,null,{"$f":"IF(G$2034=1,\"\",IF(S693=\"\",\"\",VLOOKUP(S693,Tabelle!$I$5:$M$7,5,FALSE)))","v":""},{"$f":"IF(G$2034=1,\"\",IF(S693=\"\",\"\",VLOOKUP(S693,Tabelle!$I$5:$N$7,6,FALSE)))","v":""},null,null,null,null,null,null,null,null,null,{"$f":"IF(D693=\"\",0,IF(D693=D692,COUNTIF(D$9:D692,D693)+1,1))","v":0},0,0]
["686","-1900","-1900-0",null,null,null,null,null,null,null,"",null,null,null,null,null,null,null,null,{"$f":"IF(G$2034=1,\"\",IF(S694=\"\",\"\",VLOOKUP(S694,Tabelle!$I$5:$M$7,5,FALSE)))","v":""},{"$f":"IF(G$2034=1,\"\",IF(S694=\"\",\"\",VLOOKUP(S694,Tabelle!$I$5:$N$7,6,FALSE)))","v":""},null,null,null,null,null,null,null,null,null,{"$f":"IF(D694=\"\",0,IF(D694=D693,COUNTIF(D$9:D693,D694)+1,1))","v":0},0,0]
["687","-1900","-1900-0",null,null,null,null,null,null,null,"",null,null,null,null,null,null,null,null,{"$f":"IF(G$2034=1,\"\",IF(S695=\"\",\"\",VLOOKUP(S695,Tabelle!$I$5:$M$7,5,FALSE)))","v":""},{"$f":"IF(G$2034=1,\"\",IF(S695=\"\",\"\",VLOOKUP(S695,Tabelle!$I$5:$N$7,6,FALSE)))","v":""},null,null,null,null,null,null,null,null,null,{"$f":"IF(D695=\"\",0,IF(D695=D694,COUNTIF(D$9:D694,D695)+1,1))","v":0},0,0]
["688","-1900","-1900-0",null,null,null,null,null,null,null,"",null,null,null,null,null,null,null,null,{"$f":"IF(G$2034=1,\"\",IF(S696=\"\",\"\",VLOOKUP(S696,Tabelle!$I$5:$M$7,5,FALSE)))","v":""},{"$f":"IF(G$2034=1,\"\",IF(S696=\"\",\"\",VLOOKUP(S696,Tabelle!$I$5:$N$7,6,FALSE)))","v":""},null,null,null,null,null,null,null,null,null,{"$f":"IF(D696=\"\",0,IF(D696=D695,COUNTIF(D$9:D695,D696)+1,1))","v":0},0,0]
["689","-1900","-1900-0",null,null,null,null,null,null,null,"",null,null,null,null,null,null,null,null,{"$f":"IF(G$2034=1,\"\",IF(S697=\"\",\"\",VLOOKUP(S697,Tabelle!$I$5:$M$7,5,FALSE)))","v":""},{"$f":"IF(G$2034=1,\"\",IF(S697=\"\",\"\",VLOOKUP(S697,Tabelle!$I$5:$N$7,6,FALSE)))","v":""},null,null,null,null,null,null,null,null,null,{"$f":"IF(D697=\"\",0,IF(D697=D696,COUNTIF(D$9:D696,D697)+1,1))","v":0},0,0]
["690","-1900","-1900-0",null,null,null,null,null,null,null,"",null,null,null,null,null,null,null,null,{"$f":"IF(G$2034=1,\"\",IF(S698=\"\",\"\",VLOOKUP(S698,Tabelle!$I$5:$M$7,5,FALSE)))","v":""},{"$f":"IF(G$2034=1,\"\",IF(S698=\"\",\"\",VLOOKUP(S698,Tabelle!$I$5:$N$7,6,FALSE)))","v":""},null,null,null,null,null,null,null,null,null,{"$f":"IF(D698=\"\",0,IF(D698=D697,COUNTIF(D$9:D697,D698)+1,1))","v":0},0,0]
["691","-1900","-1900-0",null,null,null,null,null,null,null,"",null,null,null,null,null,null,null,null,{"$f":"IF(G$2034=1,\"\",IF(S699=\"\",\"\",VLOOKUP(S699,Tabelle!$I$5:$M$7,5,FALSE)))","v":""},{"$f":"IF(G$2034=1,\"\",IF(S699=\"\",\"\",VLOOKUP(S699,Tabelle!$I$5:$N$7,6,FALSE)))","v":""},null,null,null,null,null,null,null,null,null,{"$f":"IF(D699=\"\",0,IF(D699=D698,COUNTIF(D$9:D698,D699)+1,1))","v":0},0,0]
["692","-1900","-1900-0",null,null,null,null,null,null,null,"",null,null,null,null,null,null,null,null,{"$f":"IF(G$2034=1,\"\",IF(S700=\"\",\"\",VLOOKUP(S700,Tabelle!$I$5:$M$7,5,FALSE)))","v":""},{"$f":"IF(G$2034=1,\"\",IF(S700=\"\",\"\",VLOOKUP(S700,Tabelle!$I$5:$N$7,6,FALSE)))","v":""},null,null,null,null,null,null,null,null,null,{"$f":"IF(D700=\"\",0,IF(D700=D699,COUNTIF(D$9:D699,D700)+1,1))","v":0},0,0]
["693","-1900","-1900-0",null,null,null,null,null,null,null,"",null,null,null,null,null,null,null,null,{"$f":"IF(G$2034=1,\"\",IF(S701=\"\",\"\",VLOOKUP(S701,Tabelle!$I$5:$M$7,5,FALSE)))","v":""},{"$f":"IF(G$2034=1,\"\",IF(S701=\"\",\"\",VLOOKUP(S701,Tabelle!$I$5:$N$7,6,FALSE)))","v":""},null,null,null,null,null,null,null,null,null,{"$f":"IF(D701=\"\",0,IF(D701=D700,COUNTIF(D$9:D700,D701)+1,1))","v":0},0,0]
["694","-1900","-1900-0",null,null,null,null,null,null,null,"",null,null,null,null,null,null,null,null,{"$f":"IF(G$2034=1,\"\",IF(S702=\"\",\"\",VLOOKUP(S702,Tabelle!$I$5:$M$7,5,FALSE)))","v":""},{"$f":"IF(G$2034=1,\"\",IF(S702=\"\",\"\",VLOOKUP(S702,Tabelle!$I$5:$N$7,6,FALSE)))","v":""},null,null,null,null,null,null,null,null,null,{"$f":"IF(D702=\"\",0,IF(D702=D701,COUNTIF(D$9:D701,D702)+1,1))","v":0},0,0]
["695","-1900","-1900-0",null,null,null,null,null,null,null,"",null,null,null,null,null,null,null,null,{"$f":"IF(G$2034=1,\"\",IF(S703=\"\",\"\",VLOOKUP(S703,Tabelle!$I$5:$M$7,5,FALSE)))","v":""},{"$f":"IF(G$2034=1,\"\",IF(S703=\"\",\"\",VLOOKUP(S703,Tabelle!$I$5:$N$7,6,FALSE)))","v":""},null,null,null,null,null,null,null,null,null,{"$f":"IF(D703=\"\",0,IF(D703=D702,COUNTIF(D$9:D702,D703)+1,1))","v":0},0,0]
["696","-1900","-1900-0",null,null,null,null,null,null,null,"",null,null,null,null,null,null,null,null,{"$f":"IF(G$2034=1,\"\",IF(S704=\"\",\"\",VLOOKUP(S704,Tabelle!$I$5:$M$7,5,FALSE)))","v":""},{"$f":"IF(G$2034=1,\"\",IF(S704=\"\",\"\",VLOOKUP(S704,Tabelle!$I$5:$N$7,6,FALSE)))","v":""},null,null,null,null,null,null,null,null,null,{"$f":"IF(D704=\"\",0,IF(D704=D703,COUNTIF(D$9:D703,D704)+1,1))","v":0},0,0]
["697","-1900","-1900-0",null,null,null,null,null,null,null,"",null,null,null,null,null,null,null,null,{"$f":"IF(G$2034=1,\"\",IF(S705=\"\",\"\",VLOOKUP(S705,Tabelle!$I$5:$M$7,5,FALSE)))","v":""},{"$f":"IF(G$2034=1,\"\",IF(S705=\"\",\"\",VLOOKUP(S705,Tabelle!$I$5:$N$7,6,FALSE)))","v":""},null,null,null,null,null,null,null,null,null,{"$f":"IF(D705=\"\",0,IF(D705=D704,COUNTIF(D$9:D704,D705)+1,1))","v":0},0,0]
["698","-1900","-1900-0",null,null,null,null,null,null,null,"",null,null,null,null,null,null,null,null,{"$f":"IF(G$2034=1,\"\",IF(S706=\"\",\"\",VLOOKUP(S706,Tabelle!$I$5:$M$7,5,FALSE)))","v":""},{"$f":"IF(G$2034=1,\"\",IF(S706=\"\",\"\",VLOOKUP(S706,Tabelle!$I$5:$N$7,6,FALSE)))","v":""},null,null,null,null,null,null,null,null,null,{"$f":"IF(D706=\"\",0,IF(D706=D705,COUNTIF(D$9:D705,D706)+1,1))","v":0},0,0]
["699","-1900","-1900-0",null,null,null,null,null,null,null,"",null,null,null,null,null,null,null,null,{"$f":"IF(G$2034=1,\"\",IF(S707=\"\",\"\",VLOOKUP(S707,Tabelle!$I$5:$M$7,5,FALSE)))","v":""},{"$f":"IF(G$2034=1,\"\",IF(S707=\"\",\"\",VLOOKUP(S707,Tabelle!$I$5:$N$7,6,FALSE)))","v":""},null,null,null,null,null,null,null,null,null,{"$f":"IF(D707=\"\",0,IF(D707=D706,COUNTIF(D$9:D706,D707)+1,1))","v":0},0,0]
["700","-1900","-1900-0",null,null,null,null,null,null,null,"",null,null,null,null,null,null,null,null,{"$f":"IF(G$2034=1,\"\",IF(S708=\"\",\"\",VLOOKUP(S708,Tabelle!$I$5:$M$7,5,FALSE)))","v":""},{"$f":"IF(G$2034=1,\"\",IF(S708=\"\",\"\",VLOOKUP(S708,Tabelle!$I$5:$N$7,6,FALSE)))","v":""},null,null,null,null,null,null,null,null,null,{"$f":"IF(D708=\"\",0,IF(D708=D707,COUNTIF(D$9:D707,D708)+1,1))","v":0},0,0]
["701","-1900","-1900-0",null,null,null,null,null,null,null,"",null,null,null,null,null,null,null,null,{"$f":"IF(G$2034=1,\"\",IF(S709=\"\",\"\",VLOOKUP(S709,Tabelle!$I$5:$M$7,5,FALSE)))","v":""},{"$f":"IF(G$2034=1,\"\",IF(S709=\"\",\"\",VLOOKUP(S709,Tabelle!$I$5:$N$7,6,FALSE)))","v":""},null,null,null,null,null,null,null,null,null,{"$f":"IF(D709=\"\",0,IF(D709=D708,COUNTIF(D$9:D708,D709)+1,1))","v":0},0,0]
["702","-1900","-1900-0",null,null,null,null,null,null,null,"",null,null,null,null,null,null,null,null,{"$f":"IF(G$2034=1,\"\",IF(S710=\"\",\"\",VLOOKUP(S710,Tabelle!$I$5:$M$7,5,FALSE)))","v":""},{"$f":"IF(G$2034=1,\"\",IF(S710=\"\",\"\",VLOOKUP(S710,Tabelle!$I$5:$N$7,6,FALSE)))","v":""},null,null,null,null,null,null,null,null,null,{"$f":"IF(D710=\"\",0,IF(D710=D709,COUNTIF(D$9:D709,D710)+1,1))","v":0},0,0]
["703","-1900","-1900-0",null,null,null,null,null,null,null,"",null,null,null,null,null,null,null,null,{"$f":"IF(G$2034=1,\"\",IF(S711=\"\",\"\",VLOOKUP(S711,Tabelle!$I$5:$M$7,5,FALSE)))","v":""},{"$f":"IF(G$2034=1,\"\",IF(S711=\"\",\"\",VLOOKUP(S711,Tabelle!$I$5:$N$7,6,FALSE)))","v":""},null,null,null,null,null,null,null,null,null,{"$f":"IF(D711=\"\",0,IF(D711=D710,COUNTIF(D$9:D710,D711)+1,1))","v":0},0,0]
["704","-1900","-1900-0",null,null,null,null,null,null,null,"",null,null,null,null,null,null,null,null,{"$f":"IF(G$2034=1,\"\",IF(S712=\"\",\"\",VLOOKUP(S712,Tabelle!$I$5:$M$7,5,FALSE)))","v":""},{"$f":"IF(G$2034=1,\"\",IF(S712=\"\",\"\",VLOOKUP(S712,Tabelle!$I$5:$N$7,6,FALSE)))","v":""},null,null,null,null,null,null,null,null,null,{"$f":"IF(D712=\"\",0,IF(D712=D711,COUNTIF(D$9:D711,D712)+1,1))","v":0},0,0]
["705","-1900",{"$f":"IF(G$2034=1,0,B713&\"-\"&AE713)","v":"-1900-0"},null,null,null,null,null,null,null,{"$f":"IF(G$2034=1,0,IF(OR(J713=\"\",ISERROR($O$2034)),\"\",VLOOKUP(J713,$L$2019:$N$2027,2,FALSE)))","v":""},null,null,null,null,null,null,null,null,{"$f":"IF(G$2034=1,\"\",IF(S713=\"\",\"\",VLOOKUP(S713,Tabelle!$I$5:$M$7,5,FALSE)))","v":""},{"$f":"IF(G$2034=1,\"\",IF(S713=\"\",\"\",VLOOKUP(S713,Tabelle!$I$5:$N$7,6,FALSE)))","v":""},null,null,null,null,null,null,null,null,null,{"$f":"IF(D713=\"\",0,IF(D713=D712,COUNTIF(D$9:D712,D713)+1,1))","v":0},0,0]
["706",{"$f":"IF(AG714=$AG$2013,0,IF(G$2034=1,0,D714&\"-\"&YEAR(E714)))","v":"-1900"},"-1900-0",null,null,null,null,null,null,null,"",null,null,null,null,null,null,null,null,{"$f":"IF(G$2034=1,\"\",IF(S714=\"\",\"\",VLOOKUP(S714,Tabelle!$I$5:$M$7,5,FALSE)))","v":""},{"$f":"IF(G$2034=1,\"\",IF(S714=\"\",\"\",VLOOKUP(S714,Tabelle!$I$5:$N$7,6,FALSE)))","v":""},null,null,null,null,null,null,null,null,null,{"$f":"IF(D714=\"\",0,IF(D714=D713,COUNTIF(D$9:D713,D714)+1,1))","v":0},{"$f":"IF(G$2034=1,0,IF(AE714=28,1,0))","v":0},{"$f":"IF(E714>0,IF(OR(MONTH(E714)<$G$2026,MONTH(E714)>$G$2027),AG$2013,0),0)","v":0}]
["707","-1900","-1900-0",null,null,null,null,null,null,null,"",null,null,null,null,null,null,null,null,{"$f":"IF(G$2034=1,\"\",IF(S715=\"\",\"\",VLOOKUP(S715,Tabelle!$I$5:$M$7,5,FALSE)))","v":""},{"$f":"IF(G$2034=1,\"\",IF(S715=\"\",\"\",VLOOKUP(S715,Tabelle!$I$5:$N$7,6,FALSE)))","v":""},null,null,null,null,null,null,null,null,null,{"$f":"IF(D715=\"\",0,IF(D715=D714,COUNTIF(D$9:D714,D715)+1,1))","v":0},0,0]
["708","-1900","-1900-0",null,null,null,null,null,null,null,"",null,null,null,null,null,null,null,null,{"$f":"IF(G$2034=1,\"\",IF(S716=\"\",\"\",VLOOKUP(S716,Tabelle!$I$5:$M$7,5,FALSE)))","v":""},{"$f":"IF(G$2034=1,\"\",IF(S716=\"\",\"\",VLOOKUP(S716,Tabelle!$I$5:$N$7,6,FALSE)))","v":""},null,null,null,null,null,null,null,null,null,{"$f":"IF(D716=\"\",0,IF(D716=D715,COUNTIF(D$9:D715,D716)+1,1))","v":0},0,0]
["709","-1900","-1900-0",null,null,null,null,null,null,null,"",null,null,null,null,null,null,null,null,{"$f":"IF(G$2034=1,\"\",IF(S717=\"\",\"\",VLOOKUP(S717,Tabelle!$I$5:$M$7,5,FALSE)))","v":""},{"$f":"IF(G$2034=1,\"\",IF(S717=\"\",\"\",VLOOKUP(S717,Tabelle!$I$5:$N$7,6,FALSE)))","v":""},null,null,null,null,null,null,null,null,null,{"$f":"IF(D717=\"\",0,IF(D717=D716,COUNTIF(D$9:D716,D717)+1,1))","v":0},0,0]
["710","-1900","-1900-0",null,null,null,null,null,null,null,"",null,null,null,null,null,null,null,null,{"$f":"IF(G$2034=1,\"\",IF(S718=\"\",\"\",VLOOKUP(S718,Tabelle!$I$5:$M$7,5,FALSE)))","v":""},{"$f":"IF(G$2034=1,\"\",IF(S718=\"\",\"\",VLOOKUP(S718,Tabelle!$I$5:$N$7,6,FALSE)))","v":""},null,null,null,null,null,null,null,null,null,{"$f":"IF(D718=\"\",0,IF(D718=D717,COUNTIF(D$9:D717,D718)+1,1))","v":0},0,0]
["711","-1900","-1900-0",null,null,null,null,null,null,null,"",null,null,null,null,null,null,null,null,{"$f":"IF(G$2034=1,\"\",IF(S719=\"\",\"\",VLOOKUP(S719,Tabelle!$I$5:$M$7,5,FALSE)))","v":""},{"$f":"IF(G$2034=1,\"\",IF(S719=\"\",\"\",VLOOKUP(S719,Tabelle!$I$5:$N$7,6,FALSE)))","v":""},null,null,null,null,null,null,null,null,null,{"$f":"IF(D719=\"\",0,IF(D719=D718,COUNTIF(D$9:D718,D719)+1,1))","v":0},0,0]
["712","-1900","-1900-0",null,null,null,null,null,null,null,"",null,null,null,null,null,null,null,null,{"$f":"IF(G$2034=1,\"\",IF(S720=\"\",\"\",VLOOKUP(S720,Tabelle!$I$5:$M$7,5,FALSE)))","v":""},{"$f":"IF(G$2034=1,\"\",IF(S720=\"\",\"\",VLOOKUP(S720,Tabelle!$I$5:$N$7,6,FALSE)))","v":""},null,null,null,null,null,null,null,null,null,{"$f":"IF(D720=\"\",0,IF(D720=D719,COUNTIF(D$9:D719,D720)+1,1))","v":0},0,0]
["713","-1900","-1900-0",null,null,null,null,null,null,null,"",null,null,null,null,null,null,null,null,{"$f":"IF(G$2034=1,\"\",IF(S721=\"\",\"\",VLOOKUP(S721,Tabelle!$I$5:$M$7,5,FALSE)))","v":""},{"$f":"IF(G$2034=1,\"\",IF(S721=\"\",\"\",VLOOKUP(S721,Tabelle!$I$5:$N$7,6,FALSE)))","v":""},null,null,null,null,null,null,null,null,null,{"$f":"IF(D721=\"\",0,IF(D721=D720,COUNTIF(D$9:D720,D721)+1,1))","v":0},0,0]
["714","-1900","-1900-0",null,null,null,null,null,null,null,"",null,null,null,null,null,null,null,null,{"$f":"IF(G$2034=1,\"\",IF(S722=\"\",\"\",VLOOKUP(S722,Tabelle!$I$5:$M$7,5,FALSE)))","v":""},{"$f":"IF(G$2034=1,\"\",IF(S722=\"\",\"\",VLOOKUP(S722,Tabelle!$I$5:$N$7,6,FALSE)))","v":""},null,null,null,null,null,null,null,null,null,{"$f":"IF(D722=\"\",0,IF(D722=D721,COUNTIF(D$9:D721,D722)+1,1))","v":0},0,0]
["715","-1900","-1900-0",null,null,null,null,null,null,null,"",null,null,null,null,null,null,null,null,{"$f":"IF(G$2034=1,\"\",IF(S723=\"\",\"\",VLOOKUP(S723,Tabelle!$I$5:$M$7,5,FALSE)))","v":""},{"$f":"IF(G$2034=1,\"\",IF(S723=\"\",\"\",VLOOKUP(S723,Tabelle!$I$5:$N$7,6,FALSE)))","v":""},null,null,null,null,null,null,null,null,null,{"$f":"IF(D723=\"\",0,IF(D723=D722,COUNTIF(D$9:D722,D723)+1,1))","v":0},0,0]
["716","-1900","-1900-0",null,null,null,null,null,null,null,"",null,null,null,null,null,null,null,null,{"$f":"IF(G$2034=1,\"\",IF(S724=\"\",\"\",VLOOKUP(S724,Tabelle!$I$5:$M$7,5,FALSE)))","v":""},{"$f":"IF(G$2034=1,\"\",IF(S724=\"\",\"\",VLOOKUP(S724,Tabelle!$I$5:$N$7,6,FALSE)))","v":""},null,null,null,null,null,null,null,null,null,{"$f":"IF(D724=\"\",0,IF(D724=D723,COUNTIF(D$9:D723,D724)+1,1))","v":0},0,0]
["717","-1900","-1900-0",null,null,null,null,null,null,null,"",null,null,null,null,null,null,null,null,{"$f":"IF(G$2034=1,\"\",IF(S725=\"\",\"\",VLOOKUP(S725,Tabelle!$I$5:$M$7,5,FALSE)))","v":""},{"$f":"IF(G$2034=1,\"\",IF(S725=\"\",\"\",VLOOKUP(S725,Tabelle!$I$5:$N$7,6,FALSE)))","v":""},null,null,null,null,null,null,null,null,null,{"$f":"IF(D725=\"\",0,IF(D725=D724,COUNTIF(D$9:D724,D725)+1,1))","v":0},0,0]
["718","-1900","-1900-0",null,null,null,null,null,null,null,"",null,null,null,null,null,null,null,null,{"$f":"IF(G$2034=1,\"\",IF(S726=\"\",\"\",VLOOKUP(S726,Tabelle!$I$5:$M$7,5,FALSE)))","v":""},{"$f":"IF(G$2034=1,\"\",IF(S726=\"\",\"\",VLOOKUP(S726,Tabelle!$I$5:$N$7,6,FALSE)))","v":""},null,null,null,null,null,null,null,null,null,{"$f":"IF(D726=\"\",0,IF(D726=D725,COUNTIF(D$9:D725,D726)+1,1))","v":0},0,0]
["719","-1900","-1900-0",null,null,null,null,null,null,null,"",null,null,null,null,null,null,null,null,{"$f":"IF(G$2034=1,\"\",IF(S727=\"\",\"\",VLOOKUP(S727,Tabelle!$I$5:$M$7,5,FALSE)))","v":""},{"$f":"IF(G$2034=1,\"\",IF(S727=\"\",\"\",VLOOKUP(S727,Tabelle!$I$5:$N$7,6,FALSE)))","v":""},null,null,null,null,null,null,null,null,null,{"$f":"IF(D727=\"\",0,IF(D727=D726,COUNTIF(D$9:D726,D727)+1,1))","v":0},0,0]
["720","-1900","-1900-0",null,null,null,null,null,null,null,"",null,null,null,null,null,null,null,null,{"$f":"IF(G$2034=1,\"\",IF(S728=\"\",\"\",VLOOKUP(S728,Tabelle!$I$5:$M$7,5,FALSE)))","v":""},{"$f":"IF(G$2034=1,\"\",IF(S728=\"\",\"\",VLOOKUP(S728,Tabelle!$I$5:$N$7,6,FALSE)))","v":""},null,null,null,null,null,null,null,null,null,{"$f":"IF(D728=\"\",0,IF(D728=D727,COUNTIF(D$9:D727,D728)+1,1))","v":0},0,0]
["721","-1900","-1900-0",null,null,null,null,null,null,null,"",null,null,null,null,null,null,null,null,{"$f":"IF(G$2034=1,\"\",IF(S729=\"\",\"\",VLOOKUP(S729,Tabelle!$I$5:$M$7,5,FALSE)))","v":""},{"$f":"IF(G$2034=1,\"\",IF(S729=\"\",\"\",VLOOKUP(S729,Tabelle!$I$5:$N$7,6,FALSE)))","v":""},null,null,null,null,null,null,null,null,null,{"$f":"IF(D729=\"\",0,IF(D729=D728,COUNTIF(D$9:D728,D729)+1,1))","v":0},0,0]
["722","-1900","-1900-0",null,null,null,null,null,null,null,"",null,null,null,null,null,null,null,null,{"$f":"IF(G$2034=1,\"\",IF(S730=\"\",\"\",VLOOKUP(S730,Tabelle!$I$5:$M$7,5,FALSE)))","v":""},{"$f":"IF(G$2034=1,\"\",IF(S730=\"\",\"\",VLOOKUP(S730,Tabelle!$I$5:$N$7,6,FALSE)))","v":""},null,null,null,null,null,null,null,null,null,{"$f":"IF(D730=\"\",0,IF(D730=D729,COUNTIF(D$9:D729,D730)+1,1))","v":0},0,0]
["723","-1900","-1900-0",null,null,null,null,null,null,null,"",null,null,null,null,null,null,null,null,{"$f":"IF(G$2034=1,\"\",IF(S731=\"\",\"\",VLOOKUP(S731,Tabelle!$I$5:$M$7,5,FALSE)))","v":""},{"$f":"IF(G$2034=1,\"\",IF(S731=\"\",\"\",VLOOKUP(S731,Tabelle!$I$5:$N$7,6,FALSE)))","v":""},null,null,null,null,null,null,null,null,null,{"$f":"IF(D731=\"\",0,IF(D731=D730,COUNTIF(D$9:D730,D731)+1,1))","v":0},0,0]
["724","-1900","-1900-0",null,null,null,null,null,null,null,"",null,null,null,null,null,null,null,null,{"$f":"IF(G$2034=1,\"\",IF(S732=\"\",\"\",VLOOKUP(S732,Tabelle!$I$5:$M$7,5,FALSE)))","v":""},{"$f":"IF(G$2034=1,\"\",IF(S732=\"\",\"\",VLOOKUP(S732,Tabelle!$I$5:$N$7,6,FALSE)))","v":""},null,null,null,null,null,null,null,null,null,{"$f":"IF(D732=\"\",0,IF(D732=D731,COUNTIF(D$9:D731,D732)+1,1))","v":0},0,0]
["725","-1900","-1900-0",null,null,null,null,null,null,null,"",null,null,null,null,null,null,null,null,{"$f":"IF(G$2034=1,\"\",IF(S733=\"\",\"\",VLOOKUP(S733,Tabelle!$I$5:$M$7,5,FALSE)))","v":""},{"$f":"IF(G$2034=1,\"\",IF(S733=\"\",\"\",VLOOKUP(S733,Tabelle!$I$5:$N$7,6,FALSE)))","v":""},null,null,null,null,null,null,null,null,null,{"$f":"IF(D733=\"\",0,IF(D733=D732,COUNTIF(D$9:D732,D733)+1,1))","v":0},0,0]
["726","-1900","-1900-0",null,null,null,null,null,null,null,"",null,null,null,null,null,null,null,null,{"$f":"IF(G$2034=1,\"\",IF(S734=\"\",\"\",VLOOKUP(S734,Tabelle!$I$5:$M$7,5,FALSE)))","v":""},{"$f":"IF(G$2034=1,\"\",IF(S734=\"\",\"\",VLOOKUP(S734,Tabelle!$I$5:$N$7,6,FALSE)))","v":""},null,null,null,null,null,null,null,null,null,{"$f":"IF(D734=\"\",0,IF(D734=D733,COUNTIF(D$9:D733,D734)+1,1))","v":0},0,0]
["727","-1900","-1900-0",null,null,null,null,null,null,null,"",null,null,null,null,null,null,null,null,{"$f":"IF(G$2034=1,\"\",IF(S735=\"\",\"\",VLOOKUP(S735,Tabelle!$I$5:$M$7,5,FALSE)))","v":""},{"$f":"IF(G$2034=1,\"\",IF(S735=\"\",\"\",VLOOKUP(S735,Tabelle!$I$5:$N$7,6,FALSE)))","v":""},null,null,null,null,null,null,null,null,null,{"$f":"IF(D735=\"\",0,IF(D735=D734,COUNTIF(D$9:D734,D735)+1,1))","v":0},0,0]
["728","-1900","-1900-0",null,null,null,null,null,null,null,"",null,null,null,null,null,null,null,null,{"$f":"IF(G$2034=1,\"\",IF(S736=\"\",\"\",VLOOKUP(S736,Tabelle!$I$5:$M$7,5,FALSE)))","v":""},{"$f":"IF(G$2034=1,\"\",IF(S736=\"\",\"\",VLOOKUP(S736,Tabelle!$I$5:$N$7,6,FALSE)))","v":""},null,null,null,null,null,null,null,null,null,{"$f":"IF(D736=\"\",0,IF(D736=D735,COUNTIF(D$9:D735,D736)+1,1))","v":0},0,0]
["729","-1900","-1900-0",null,null,null,null,null,null,null,"",null,null,null,null,null,null,null,null,{"$f":"IF(G$2034=1,\"\",IF(S737=\"\",\"\",VLOOKUP(S737,Tabelle!$I$5:$M$7,5,FALSE)))","v":""},{"$f":"IF(G$2034=1,\"\",IF(S737=\"\",\"\",VLOOKUP(S737,Tabelle!$I$5:$N$7,6,FALSE)))","v":""},null,null,null,null,null,null,null,null,null,{"$f":"IF(D737=\"\",0,IF(D737=D736,COUNTIF(D$9:D736,D737)+1,1))","v":0},0,0]
["730","-1900","-1900-0",null,null,null,null,null,null,null,"",null,null,null,null,null,null,null,null,{"$f":"IF(G$2034=1,\"\",IF(S738=\"\",\"\",VLOOKUP(S738,Tabelle!$I$5:$M$7,5,FALSE)))","v":""},{"$f":"IF(G$2034=1,\"\",IF(S738=\"\",\"\",VLOOKUP(S738,Tabelle!$I$5:$N$7,6,FALSE)))","v":""},null,null,null,null,null,null,null,null,null,{"$f":"IF(D738=\"\",0,IF(D738=D737,COUNTIF(D$9:D737,D738)+1,1))","v":0},0,0]
["731","-1900","-1900-0",null,null,null,null,null,null,null,"",null,null,null,null,null,null,null,null,{"$f":"IF(G$2034=1,\"\",IF(S739=\"\",\"\",VLOOKUP(S739,Tabelle!$I$5:$M$7,5,FALSE)))","v":""},{"$f":"IF(G$2034=1,\"\",IF(S739=\"\",\"\",VLOOKUP(S739,Tabelle!$I$5:$N$7,6,FALSE)))","v":""},null,null,null,null,null,null,null,null,null,{"$f":"IF(D739=\"\",0,IF(D739=D738,COUNTIF(D$9:D738,D739)+1,1))","v":0},0,0]
["732","-1900","-1900-0",null,null,null,null,null,null,null,"",null,null,null,null,null,null,null,null,{"$f":"IF(G$2034=1,\"\",IF(S740=\"\",\"\",VLOOKUP(S740,Tabelle!$I$5:$M$7,5,FALSE)))","v":""},{"$f":"IF(G$2034=1,\"\",IF(S740=\"\",\"\",VLOOKUP(S740,Tabelle!$I$5:$N$7,6,FALSE)))","v":""},null,null,null,null,null,null,null,null,null,{"$f":"IF(D740=\"\",0,IF(D740=D739,COUNTIF(D$9:D739,D740)+1,1))","v":0},0,0]
["733","-1900","-1900-0",null,null,null,null,null,null,null,"",null,null,null,null,null,null,null,null,{"$f":"IF(G$2034=1,\"\",IF(S741=\"\",\"\",VLOOKUP(S741,Tabelle!$I$5:$M$7,5,FALSE)))","v":""},{"$f":"IF(G$2034=1,\"\",IF(S741=\"\",\"\",VLOOKUP(S741,Tabelle!$I$5:$N$7,6,FALSE)))","v":""},null,null,null,null,null,null,null,null,null,{"$f":"IF(D741=\"\",0,IF(D741=D740,COUNTIF(D$9:D740,D741)+1,1))","v":0},0,0]
["734","-1900","-1900-0",null,null,null,null,null,null,null,"",null,null,null,null,null,null,null,null,{"$f":"IF(G$2034=1,\"\",IF(S742=\"\",\"\",VLOOKUP(S742,Tabelle!$I$5:$M$7,5,FALSE)))","v":""},{"$f":"IF(G$2034=1,\"\",IF(S742=\"\",\"\",VLOOKUP(S742,Tabelle!$I$5:$N$7,6,FALSE)))","v":""},null,null,null,null,null,null,null,null,null,{"$f":"IF(D742=\"\",0,IF(D742=D741,COUNTIF(D$9:D741,D742)+1,1))","v":0},0,0]
["735","-1900","-1900-0",null,null,null,null,null,null,null,"",null,null,null,null,null,null,null,null,{"$f":"IF(G$2034=1,\"\",IF(S743=\"\",\"\",VLOOKUP(S743,Tabelle!$I$5:$M$7,5,FALSE)))","v":""},{"$f":"IF(G$2034=1,\"\",IF(S743=\"\",\"\",VLOOKUP(S743,Tabelle!$I$5:$N$7,6,FALSE)))","v":""},null,null,null,null,null,null,null,null,null,{"$f":"IF(D743=\"\",0,IF(D743=D742,COUNTIF(D$9:D742,D743)+1,1))","v":0},0,0]
["736","-1900","-1900-0",null,null,null,null,null,null,null,"",null,null,null,null,null,null,null,null,{"$f":"IF(G$2034=1,\"\",IF(S744=\"\",\"\",VLOOKUP(S744,Tabelle!$I$5:$M$7,5,FALSE)))","v":""},{"$f":"IF(G$2034=1,\"\",IF(S744=\"\",\"\",VLOOKUP(S744,Tabelle!$I$5:$N$7,6,FALSE)))","v":""},null,null,null,null,null,null,null,null,null,{"$f":"IF(D744=\"\",0,IF(D744=D743,COUNTIF(D$9:D743,D744)+1,1))","v":0},0,0]
["737","-1900","-1900-0",null,null,null,null,null,null,null,"",null,null,null,null,null,null,null,null,{"$f":"IF(G$2034=1,\"\",IF(S745=\"\",\"\",VLOOKUP(S745,Tabelle!$I$5:$M$7,5,FALSE)))","v":""},{"$f":"IF(G$2034=1,\"\",IF(S745=\"\",\"\",VLOOKUP(S745,Tabelle!$I$5:$N$7,6,FALSE)))","v":""},null,null,null,null,null,null,null,null,null,{"$f":"IF(D745=\"\",0,IF(D745=D744,COUNTIF(D$9:D744,D745)+1,1))","v":0},0,0]
["738","-1900","-1900-0",null,null,null,null,null,null,null,"",null,null,null,null,null,null,null,null,{"$f":"IF(G$2034=1,\"\",IF(S746=\"\",\"\",VLOOKUP(S746,Tabelle!$I$5:$M$7,5,FALSE)))","v":""},{"$f":"IF(G$2034=1,\"\",IF(S746=\"\",\"\",VLOOKUP(S746,Tabelle!$I$5:$N$7,6,FALSE)))","v":""},null,null,null,null,null,null,null,null,null,{"$f":"IF(D746=\"\",0,IF(D746=D745,COUNTIF(D$9:D745,D746)+1,1))","v":0},0,0]
["739","-1900","-1900-0",null,null,null,null,null,null,null,"",null,null,null,null,null,null,null,null,{"$f":"IF(G$2034=1,\"\",IF(S747=\"\",\"\",VLOOKUP(S747,Tabelle!$I$5:$M$7,5,FALSE)))","v":""},{"$f":"IF(G$2034=1,\"\",IF(S747=\"\",\"\",VLOOKUP(S747,Tabelle!$I$5:$N$7,6,FALSE)))","v":""},null,null,null,null,null,null,null,null,null,{"$f":"IF(D747=\"\",0,IF(D747=D746,COUNTIF(D$9:D746,D747)+1,1))","v":0},0,0]
["740","-1900","-1900-0",null,null,null,null,null,null,null,"",null,null,null,null,null,null,null,null,{"$f":"IF(G$2034=1,\"\",IF(S748=\"\",\"\",VLOOKUP(S748,Tabelle!$I$5:$M$7,5,FALSE)))","v":""},{"$f":"IF(G$2034=1,\"\",IF(S748=\"\",\"\",VLOOKUP(S748,Tabelle!$I$5:$N$7,6,FALSE)))","v":""},null,null,null,null,null,null,null,null,null,{"$f":"IF(D748=\"\",0,IF(D748=D747,COUNTIF(D$9:D747,D748)+1,1))","v":0},0,0]
["741","-1900","-1900-0",null,null,null,null,null,null,null,"",null,null,null,null,null,null,null,null,{"$f":"IF(G$2034=1,\"\",IF(S749=\"\",\"\",VLOOKUP(S749,Tabelle!$I$5:$M$7,5,FALSE)))","v":""},{"$f":"IF(G$2034=1,\"\",IF(S749=\"\",\"\",VLOOKUP(S749,Tabelle!$I$5:$N$7,6,FALSE)))","v":""},null,null,null,null,null,null,null,null,null,{"$f":"IF(D749=\"\",0,IF(D749=D748,COUNTIF(D$9:D748,D749)+1,1))","v":0},0,0]
["742","-1900","-1900-0",null,null,null,null,null,null,null,"",null,null,null,null,null,null,null,null,{"$f":"IF(G$2034=1,\"\",IF(S750=\"\",\"\",VLOOKUP(S750,Tabelle!$I$5:$M$7,5,FALSE)))","v":""},{"$f":"IF(G$2034=1,\"\",IF(S750=\"\",\"\",VLOOKUP(S750,Tabelle!$I$5:$N$7,6,FALSE)))","v":""},null,null,null,null,null,null,null,null,null,{"$f":"IF(D750=\"\",0,IF(D750=D749,COUNTIF(D$9:D749,D750)+1,1))","v":0},0,0]
["743","-1900","-1900-0",null,null,null,null,null,null,null,"",null,null,null,null,null,null,null,null,{"$f":"IF(G$2034=1,\"\",IF(S751=\"\",\"\",VLOOKUP(S751,Tabelle!$I$5:$M$7,5,FALSE)))","v":""},{"$f":"IF(G$2034=1,\"\",IF(S751=\"\",\"\",VLOOKUP(S751,Tabelle!$I$5:$N$7,6,FALSE)))","v":""},null,null,null,null,null,null,null,null,null,{"$f":"IF(D751=\"\",0,IF(D751=D750,COUNTIF(D$9:D750,D751)+1,1))","v":0},0,0]
["744","-1900","-1900-0",null,null,null,null,null,null,null,"",null,null,null,null,null,null,null,null,{"$f":"IF(G$2034=1,\"\",IF(S752=\"\",\"\",VLOOKUP(S752,Tabelle!$I$5:$M$7,5,FALSE)))","v":""},{"$f":"IF(G$2034=1,\"\",IF(S752=\"\",\"\",VLOOKUP(S752,Tabelle!$I$5:$N$7,6,FALSE)))","v":""},null,null,null,null,null,null,null,null,null,{"$f":"IF(D752=\"\",0,IF(D752=D751,COUNTIF(D$9:D751,D752)+1,1))","v":0},0,0]
["745","-1900","-1900-0",null,null,null,null,null,null,null,"",null,null,null,null,null,null,null,null,{"$f":"IF(G$2034=1,\"\",IF(S753=\"\",\"\",VLOOKUP(S753,Tabelle!$I$5:$M$7,5,FALSE)))","v":""},{"$f":"IF(G$2034=1,\"\",IF(S753=\"\",\"\",VLOOKUP(S753,Tabelle!$I$5:$N$7,6,FALSE)))","v":""},null,null,null,null,null,null,null,null,null,{"$f":"IF(D753=\"\",0,IF(D753=D752,COUNTIF(D$9:D752,D753)+1,1))","v":0},0,0]
["746","-1900","-1900-0",null,null,null,null,null,null,null,"",null,null,null,null,null,null,null,null,{"$f":"IF(G$2034=1,\"\",IF(S754=\"\",\"\",VLOOKUP(S754,Tabelle!$I$5:$M$7,5,FALSE)))","v":""},{"$f":"IF(G$2034=1,\"\",IF(S754=\"\",\"\",VLOOKUP(S754,Tabelle!$I$5:$N$7,6,FALSE)))","v":""},null,null,null,null,null,null,null,null,null,{"$f":"IF(D754=\"\",0,IF(D754=D753,COUNTIF(D$9:D753,D754)+1,1))","v":0},0,0]
["747","-1900","-1900-0",null,null,null,null,null,null,null,"",null,null,null,null,null,null,null,null,{"$f":"IF(G$2034=1,\"\",IF(S755=\"\",\"\",VLOOKUP(S755,Tabelle!$I$5:$M$7,5,FALSE)))","v":""},{"$f":"IF(G$2034=1,\"\",IF(S755=\"\",\"\",VLOOKUP(S755,Tabelle!$I$5:$N$7,6,FALSE)))","v":""},null,null,null,null,null,null,null,null,null,{"$f":"IF(D755=\"\",0,IF(D755=D754,COUNTIF(D$9:D754,D755)+1,1))","v":0},0,0]
["748","-1900","-1900-0",null,null,null,null,null,null,null,"",null,null,null,null,null,null,null,null,{"$f":"IF(G$2034=1,\"\",IF(S756=\"\",\"\",VLOOKUP(S756,Tabelle!$I$5:$M$7,5,FALSE)))","v":""},{"$f":"IF(G$2034=1,\"\",IF(S756=\"\",\"\",VLOOKUP(S756,Tabelle!$I$5:$N$7,6,FALSE)))","v":""},null,null,null,null,null,null,null,null,null,{"$f":"IF(D756=\"\",0,IF(D756=D755,COUNTIF(D$9:D755,D756)+1,1))","v":0},0,0]
["749","-1900","-1900-0",null,null,null,null,null,null,null,"",null,null,null,null,null,null,null,null,{"$f":"IF(G$2034=1,\"\",IF(S757=\"\",\"\",VLOOKUP(S757,Tabelle!$I$5:$M$7,5,FALSE)))","v":""},{"$f":"IF(G$2034=1,\"\",IF(S757=\"\",\"\",VLOOKUP(S757,Tabelle!$I$5:$N$7,6,FALSE)))","v":""},null,null,null,null,null,null,null,null,null,{"$f":"IF(D757=\"\",0,IF(D757=D756,COUNTIF(D$9:D756,D757)+1,1))","v":0},0,0]
["750","-1900","-1900-0",null,null,null,null,null,null,null,"",null,null,null,null,null,null,null,null,{"$f":"IF(G$2034=1,\"\",IF(S758=\"\",\"\",VLOOKUP(S758,Tabelle!$I$5:$M$7,5,FALSE)))","v":""},{"$f":"IF(G$2034=1,\"\",IF(S758=\"\",\"\",VLOOKUP(S758,Tabelle!$I$5:$N$7,6,FALSE)))","v":""},null,null,null,null,null,null,null,null,null,{"$f":"IF(D758=\"\",0,IF(D758=D757,COUNTIF(D$9:D757,D758)+1,1))","v":0},0,0]
["751","-1900","-1900-0",null,null,null,null,null,null,null,"",null,null,null,null,null,null,null,null,{"$f":"IF(G$2034=1,\"\",IF(S759=\"\",\"\",VLOOKUP(S759,Tabelle!$I$5:$M$7,5,FALSE)))","v":""},{"$f":"IF(G$2034=1,\"\",IF(S759=\"\",\"\",VLOOKUP(S759,Tabelle!$I$5:$N$7,6,FALSE)))","v":""},null,null,null,null,null,null,null,null,null,{"$f":"IF(D759=\"\",0,IF(D759=D758,COUNTIF(D$9:D758,D759)+1,1))","v":0},0,0]
["752","-1900","-1900-0",null,null,null,null,null,null,null,"",null,null,null,null,null,null,null,null,{"$f":"IF(G$2034=1,\"\",IF(S760=\"\",\"\",VLOOKUP(S760,Tabelle!$I$5:$M$7,5,FALSE)))","v":""},{"$f":"IF(G$2034=1,\"\",IF(S760=\"\",\"\",VLOOKUP(S760,Tabelle!$I$5:$N$7,6,FALSE)))","v":""},null,null,null,null,null,null,null,null,null,{"$f":"IF(D760=\"\",0,IF(D760=D759,COUNTIF(D$9:D759,D760)+1,1))","v":0},0,0]
["753","-1900","-1900-0",null,null,null,null,null,null,null,"",null,null,null,null,null,null,null,null,{"$f":"IF(G$2034=1,\"\",IF(S761=\"\",\"\",VLOOKUP(S761,Tabelle!$I$5:$M$7,5,FALSE)))","v":""},{"$f":"IF(G$2034=1,\"\",IF(S761=\"\",\"\",VLOOKUP(S761,Tabelle!$I$5:$N$7,6,FALSE)))","v":""},null,null,null,null,null,null,null,null,null,{"$f":"IF(D761=\"\",0,IF(D761=D760,COUNTIF(D$9:D760,D761)+1,1))","v":0},0,0]
["754","-1900","-1900-0",null,null,null,null,null,null,null,"",null,null,null,null,null,null,null,null,{"$f":"IF(G$2034=1,\"\",IF(S762=\"\",\"\",VLOOKUP(S762,Tabelle!$I$5:$M$7,5,FALSE)))","v":""},{"$f":"IF(G$2034=1,\"\",IF(S762=\"\",\"\",VLOOKUP(S762,Tabelle!$I$5:$N$7,6,FALSE)))","v":""},null,null,null,null,null,null,null,null,null,{"$f":"IF(D762=\"\",0,IF(D762=D761,COUNTIF(D$9:D761,D762)+1,1))","v":0},0,0]
["755","-1900","-1900-0",null,null,null,null,null,null,null,"",null,null,null,null,null,null,null,null,{"$f":"IF(G$2034=1,\"\",IF(S763=\"\",\"\",VLOOKUP(S763,Tabelle!$I$5:$M$7,5,FALSE)))","v":""},{"$f":"IF(G$2034=1,\"\",IF(S763=\"\",\"\",VLOOKUP(S763,Tabelle!$I$5:$N$7,6,FALSE)))","v":""},null,null,null,null,null,null,null,null,null,{"$f":"IF(D763=\"\",0,IF(D763=D762,COUNTIF(D$9:D762,D763)+1,1))","v":0},0,0]
["756","-1900","-1900-0",null,null,null,null,null,null,null,"",null,null,null,null,null,null,null,null,{"$f":"IF(G$2034=1,\"\",IF(S764=\"\",\"\",VLOOKUP(S764,Tabelle!$I$5:$M$7,5,FALSE)))","v":""},{"$f":"IF(G$2034=1,\"\",IF(S764=\"\",\"\",VLOOKUP(S764,Tabelle!$I$5:$N$7,6,FALSE)))","v":""},null,null,null,null,null,null,null,null,null,{"$f":"IF(D764=\"\",0,IF(D764=D763,COUNTIF(D$9:D763,D764)+1,1))","v":0},0,0]
["757","-1900","-1900-0",null,null,null,null,null,null,null,"",null,null,null,null,null,null,null,null,{"$f":"IF(G$2034=1,\"\",IF(S765=\"\",\"\",VLOOKUP(S765,Tabelle!$I$5:$M$7,5,FALSE)))","v":""},{"$f":"IF(G$2034=1,\"\",IF(S765=\"\",\"\",VLOOKUP(S765,Tabelle!$I$5:$N$7,6,FALSE)))","v":""},null,null,null,null,null,null,null,null,null,{"$f":"IF(D765=\"\",0,IF(D765=D764,COUNTIF(D$9:D764,D765)+1,1))","v":0},0,0]
["758","-1900","-1900-0",null,null,null,null,null,null,null,"",null,null,null,null,null,null,null,null,{"$f":"IF(G$2034=1,\"\",IF(S766=\"\",\"\",VLOOKUP(S766,Tabelle!$I$5:$M$7,5,FALSE)))","v":""},{"$f":"IF(G$2034=1,\"\",IF(S766=\"\",\"\",VLOOKUP(S766,Tabelle!$I$5:$N$7,6,FALSE)))","v":""},null,null,null,null,null,null,null,null,null,{"$f":"IF(D766=\"\",0,IF(D766=D765,COUNTIF(D$9:D765,D766)+1,1))","v":0},0,0]
["759","-1900","-1900-0",null,null,null,null,null,null,null,"",null,null,null,null,null,null,null,null,{"$f":"IF(G$2034=1,\"\",IF(S767=\"\",\"\",VLOOKUP(S767,Tabelle!$I$5:$M$7,5,FALSE)))","v":""},{"$f":"IF(G$2034=1,\"\",IF(S767=\"\",\"\",VLOOKUP(S767,Tabelle!$I$5:$N$7,6,FALSE)))","v":""},null,null,null,null,null,null,null,null,null,{"$f":"IF(D767=\"\",0,IF(D767=D766,COUNTIF(D$9:D766,D767)+1,1))","v":0},0,0]
["760","-1900","-1900-0",null,null,null,null,null,null,null,"",null,null,null,null,null,null,null,null,{"$f":"IF(G$2034=1,\"\",IF(S768=\"\",\"\",VLOOKUP(S768,Tabelle!$I$5:$M$7,5,FALSE)))","v":""},{"$f":"IF(G$2034=1,\"\",IF(S768=\"\",\"\",VLOOKUP(S768,Tabelle!$I$5:$N$7,6,FALSE)))","v":""},null,null,null,null,null,null,null,null,null,{"$f":"IF(D768=\"\",0,IF(D768=D767,COUNTIF(D$9:D767,D768)+1,1))","v":0},0,0]
["761","-1900","-1900-0",null,null,null,null,null,null,null,"",null,null,null,null,null,null,null,null,{"$f":"IF(G$2034=1,\"\",IF(S769=\"\",\"\",VLOOKUP(S769,Tabelle!$I$5:$M$7,5,FALSE)))","v":""},{"$f":"IF(G$2034=1,\"\",IF(S769=\"\",\"\",VLOOKUP(S769,Tabelle!$I$5:$N$7,6,FALSE)))","v":""},null,null,null,null,null,null,null,null,null,{"$f":"IF(D769=\"\",0,IF(D769=D768,COUNTIF(D$9:D768,D769)+1,1))","v":0},0,0]
["762","-1900","-1900-0",null,null,null,null,null,null,null,"",null,null,null,null,null,null,null,null,{"$f":"IF(G$2034=1,\"\",IF(S770=\"\",\"\",VLOOKUP(S770,Tabelle!$I$5:$M$7,5,FALSE)))","v":""},{"$f":"IF(G$2034=1,\"\",IF(S770=\"\",\"\",VLOOKUP(S770,Tabelle!$I$5:$N$7,6,FALSE)))","v":""},null,null,null,null,null,null,null,null,null,{"$f":"IF(D770=\"\",0,IF(D770=D769,COUNTIF(D$9:D769,D770)+1,1))","v":0},0,0]
["763","-1900","-1900-0",null,null,null,null,null,null,null,"",null,null,null,null,null,null,null,null,{"$f":"IF(G$2034=1,\"\",IF(S771=\"\",\"\",VLOOKUP(S771,Tabelle!$I$5:$M$7,5,FALSE)))","v":""},{"$f":"IF(G$2034=1,\"\",IF(S771=\"\",\"\",VLOOKUP(S771,Tabelle!$I$5:$N$7,6,FALSE)))","v":""},null,null,null,null,null,null,null,null,null,{"$f":"IF(D771=\"\",0,IF(D771=D770,COUNTIF(D$9:D770,D771)+1,1))","v":0},0,0]
["764","-1900","-1900-0",null,null,null,null,null,null,null,"",null,null,null,null,null,null,null,null,{"$f":"IF(G$2034=1,\"\",IF(S772=\"\",\"\",VLOOKUP(S772,Tabelle!$I$5:$M$7,5,FALSE)))","v":""},{"$f":"IF(G$2034=1,\"\",IF(S772=\"\",\"\",VLOOKUP(S772,Tabelle!$I$5:$N$7,6,FALSE)))","v":""},null,null,null,null,null,null,null,null,null,{"$f":"IF(D772=\"\",0,IF(D772=D771,COUNTIF(D$9:D771,D772)+1,1))","v":0},0,0]
["765","-1900","-1900-0",null,null,null,null,null,null,null,"",null,null,null,null,null,null,null,null,{"$f":"IF(G$2034=1,\"\",IF(S773=\"\",\"\",VLOOKUP(S773,Tabelle!$I$5:$M$7,5,FALSE)))","v":""},{"$f":"IF(G$2034=1,\"\",IF(S773=\"\",\"\",VLOOKUP(S773,Tabelle!$I$5:$N$7,6,FALSE)))","v":""},null,null,null,null,null,null,null,null,null,{"$f":"IF(D773=\"\",0,IF(D773=D772,COUNTIF(D$9:D772,D773)+1,1))","v":0},0,0]
["766","-1900","-1900-0",null,null,null,null,null,null,null,"",null,null,null,null,null,null,null,null,{"$f":"IF(G$2034=1,\"\",IF(S774=\"\",\"\",VLOOKUP(S774,Tabelle!$I$5:$M$7,5,FALSE)))","v":""},{"$f":"IF(G$2034=1,\"\",IF(S774=\"\",\"\",VLOOKUP(S774,Tabelle!$I$5:$N$7,6,FALSE)))","v":""},null,null,null,null,null,null,null,null,null,{"$f":"IF(D774=\"\",0,IF(D774=D773,COUNTIF(D$9:D773,D774)+1,1))","v":0},0,0]
["767","-1900","-1900-0",null,null,null,null,null,null,null,"",null,null,null,null,null,null,null,null,{"$f":"IF(G$2034=1,\"\",IF(S775=\"\",\"\",VLOOKUP(S775,Tabelle!$I$5:$M$7,5,FALSE)))","v":""},{"$f":"IF(G$2034=1,\"\",IF(S775=\"\",\"\",VLOOKUP(S775,Tabelle!$I$5:$N$7,6,FALSE)))","v":""},null,null,null,null,null,null,null,null,null,{"$f":"IF(D775=\"\",0,IF(D775=D774,COUNTIF(D$9:D774,D775)+1,1))","v":0},0,0]
["768","-1900","-1900-0",null,null,null,null,null,null,null,"",null,null,null,null,null,null,null,null,{"$f":"IF(G$2034=1,\"\",IF(S776=\"\",\"\",VLOOKUP(S776,Tabelle!$I$5:$M$7,5,FALSE)))","v":""},{"$f":"IF(G$2034=1,\"\",IF(S776=\"\",\"\",VLOOKUP(S776,Tabelle!$I$5:$N$7,6,FALSE)))","v":""},null,null,null,null,null,null,null,null,null,{"$f":"IF(D776=\"\",0,IF(D776=D775,COUNTIF(D$9:D775,D776)+1,1))","v":0},0,0]
["769","-1900",{"$f":"IF(G$2034=1,0,B777&\"-\"&AE777)","v":"-1900-0"},null,null,null,null,null,null,null,{"$f":"IF(G$2034=1,0,IF(OR(J777=\"\",ISERROR($O$2034)),\"\",VLOOKUP(J777,$L$2019:$N$2027,2,FALSE)))","v":""},null,null,null,null,null,null,null,null,{"$f":"IF(G$2034=1,\"\",IF(S777=\"\",\"\",VLOOKUP(S777,Tabelle!$I$5:$M$7,5,FALSE)))","v":""},{"$f":"IF(G$2034=1,\"\",IF(S777=\"\",\"\",VLOOKUP(S777,Tabelle!$I$5:$N$7,6,FALSE)))","v":""},null,null,null,null,null,null,null,null,null,{"$f":"IF(D777=\"\",0,IF(D777=D776,COUNTIF(D$9:D776,D777)+1,1))","v":0},0,0]
["770",{"$f":"IF(AG778=$AG$2013,0,IF(G$2034=1,0,D778&\"-\"&YEAR(E778)))","v":"-1900"},"-1900-0",null,null,null,null,null,null,null,"",null,null,null,null,null,null,null,null,{"$f":"IF(G$2034=1,\"\",IF(S778=\"\",\"\",VLOOKUP(S778,Tabelle!$I$5:$M$7,5,FALSE)))","v":""},{"$f":"IF(G$2034=1,\"\",IF(S778=\"\",\"\",VLOOKUP(S778,Tabelle!$I$5:$N$7,6,FALSE)))","v":""},null,null,null,null,null,null,null,null,null,{"$f":"IF(D778=\"\",0,IF(D778=D777,COUNTIF(D$9:D777,D778)+1,1))","v":0},{"$f":"IF(G$2034=1,0,IF(AE778=28,1,0))","v":0},{"$f":"IF(E778>0,IF(OR(MONTH(E778)<$G$2026,MONTH(E778)>$G$2027),AG$2013,0),0)","v":0}]
["771","-1900","-1900-0",null,null,null,null,null,null,null,"",null,null,null,null,null,null,null,null,{"$f":"IF(G$2034=1,\"\",IF(S779=\"\",\"\",VLOOKUP(S779,Tabelle!$I$5:$M$7,5,FALSE)))","v":""},{"$f":"IF(G$2034=1,\"\",IF(S779=\"\",\"\",VLOOKUP(S779,Tabelle!$I$5:$N$7,6,FALSE)))","v":""},null,null,null,null,null,null,null,null,null,{"$f":"IF(D779=\"\",0,IF(D779=D778,COUNTIF(D$9:D778,D779)+1,1))","v":0},0,0]
["772","-1900","-1900-0",null,null,null,null,null,null,null,"",null,null,null,null,null,null,null,null,{"$f":"IF(G$2034=1,\"\",IF(S780=\"\",\"\",VLOOKUP(S780,Tabelle!$I$5:$M$7,5,FALSE)))","v":""},{"$f":"IF(G$2034=1,\"\",IF(S780=\"\",\"\",VLOOKUP(S780,Tabelle!$I$5:$N$7,6,FALSE)))","v":""},null,null,null,null,null,null,null,null,null,{"$f":"IF(D780=\"\",0,IF(D780=D779,COUNTIF(D$9:D779,D780)+1,1))","v":0},0,0]
["773","-1900","-1900-0",null,null,null,null,null,null,null,"",null,null,null,null,null,null,null,null,{"$f":"IF(G$2034=1,\"\",IF(S781=\"\",\"\",VLOOKUP(S781,Tabelle!$I$5:$M$7,5,FALSE)))","v":""},{"$f":"IF(G$2034=1,\"\",IF(S781=\"\",\"\",VLOOKUP(S781,Tabelle!$I$5:$N$7,6,FALSE)))","v":""},null,null,null,null,null,null,null,null,null,{"$f":"IF(D781=\"\",0,IF(D781=D780,COUNTIF(D$9:D780,D781)+1,1))","v":0},0,0]
["774","-1900","-1900-0",null,null,null,null,null,null,null,"",null,null,null,null,null,null,null,null,{"$f":"IF(G$2034=1,\"\",IF(S782=\"\",\"\",VLOOKUP(S782,Tabelle!$I$5:$M$7,5,FALSE)))","v":""},{"$f":"IF(G$2034=1,\"\",IF(S782=\"\",\"\",VLOOKUP(S782,Tabelle!$I$5:$N$7,6,FALSE)))","v":""},null,null,null,null,null,null,null,null,null,{"$f":"IF(D782=\"\",0,IF(D782=D781,COUNTIF(D$9:D781,D782)+1,1))","v":0},0,0]
["775","-1900","-1900-0",null,null,null,null,null,null,null,"",null,null,null,null,null,null,null,null,{"$f":"IF(G$2034=1,\"\",IF(S783=\"\",\"\",VLOOKUP(S783,Tabelle!$I$5:$M$7,5,FALSE)))","v":""},{"$f":"IF(G$2034=1,\"\",IF(S783=\"\",\"\",VLOOKUP(S783,Tabelle!$I$5:$N$7,6,FALSE)))","v":""},null,null,null,null,null,null,null,null,null,{"$f":"IF(D783=\"\",0,IF(D783=D782,COUNTIF(D$9:D782,D783)+1,1))","v":0},0,0]
["776","-1900","-1900-0",null,null,null,null,null,null,null,"",null,null,null,null,null,null,null,null,{"$f":"IF(G$2034=1,\"\",IF(S784=\"\",\"\",VLOOKUP(S784,Tabelle!$I$5:$M$7,5,FALSE)))","v":""},{"$f":"IF(G$2034=1,\"\",IF(S784=\"\",\"\",VLOOKUP(S784,Tabelle!$I$5:$N$7,6,FALSE)))","v":""},null,null,null,null,null,null,null,null,null,{"$f":"IF(D784=\"\",0,IF(D784=D783,COUNTIF(D$9:D783,D784)+1,1))","v":0},0,0]
["777","-1900","-1900-0",null,null,null,null,null,null,null,"",null,null,null,null,null,null,null,null,{"$f":"IF(G$2034=1,\"\",IF(S785=\"\",\"\",VLOOKUP(S785,Tabelle!$I$5:$M$7,5,FALSE)))","v":""},{"$f":"IF(G$2034=1,\"\",IF(S785=\"\",\"\",VLOOKUP(S785,Tabelle!$I$5:$N$7,6,FALSE)))","v":""},null,null,null,null,null,null,null,null,null,{"$f":"IF(D785=\"\",0,IF(D785=D784,COUNTIF(D$9:D784,D785)+1,1))","v":0},0,0]
["778","-1900","-1900-0",null,null,null,null,null,null,null,"",null,null,null,null,null,null,null,null,{"$f":"IF(G$2034=1,\"\",IF(S786=\"\",\"\",VLOOKUP(S786,Tabelle!$I$5:$M$7,5,FALSE)))","v":""},{"$f":"IF(G$2034=1,\"\",IF(S786=\"\",\"\",VLOOKUP(S786,Tabelle!$I$5:$N$7,6,FALSE)))","v":""},null,null,null,null,null,null,null,null,null,{"$f":"IF(D786=\"\",0,IF(D786=D785,COUNTIF(D$9:D785,D786)+1,1))","v":0},0,0]
["779","-1900","-1900-0",null,null,null,null,null,null,null,"",null,null,null,null,null,null,null,null,{"$f":"IF(G$2034=1,\"\",IF(S787=\"\",\"\",VLOOKUP(S787,Tabelle!$I$5:$M$7,5,FALSE)))","v":""},{"$f":"IF(G$2034=1,\"\",IF(S787=\"\",\"\",VLOOKUP(S787,Tabelle!$I$5:$N$7,6,FALSE)))","v":""},null,null,null,null,null,null,null,null,null,{"$f":"IF(D787=\"\",0,IF(D787=D786,COUNTIF(D$9:D786,D787)+1,1))","v":0},0,0]
["780","-1900","-1900-0",null,null,null,null,null,null,null,"",null,null,null,null,null,null,null,null,{"$f":"IF(G$2034=1,\"\",IF(S788=\"\",\"\",VLOOKUP(S788,Tabelle!$I$5:$M$7,5,FALSE)))","v":""},{"$f":"IF(G$2034=1,\"\",IF(S788=\"\",\"\",VLOOKUP(S788,Tabelle!$I$5:$N$7,6,FALSE)))","v":""},null,null,null,null,null,null,null,null,null,{"$f":"IF(D788=\"\",0,IF(D788=D787,COUNTIF(D$9:D787,D788)+1,1))","v":0},0,0]
["781","-1900","-1900-0",null,null,null,null,null,null,null,"",null,null,null,null,null,null,null,null,{"$f":"IF(G$2034=1,\"\",IF(S789=\"\",\"\",VLOOKUP(S789,Tabelle!$I$5:$M$7,5,FALSE)))","v":""},{"$f":"IF(G$2034=1,\"\",IF(S789=\"\",\"\",VLOOKUP(S789,Tabelle!$I$5:$N$7,6,FALSE)))","v":""},null,null,null,null,null,null,null,null,null,{"$f":"IF(D789=\"\",0,IF(D789=D788,COUNTIF(D$9:D788,D789)+1,1))","v":0},0,0]
["782","-1900","-1900-0",null,null,null,null,null,null,null,"",null,null,null,null,null,null,null,null,{"$f":"IF(G$2034=1,\"\",IF(S790=\"\",\"\",VLOOKUP(S790,Tabelle!$I$5:$M$7,5,FALSE)))","v":""},{"$f":"IF(G$2034=1,\"\",IF(S790=\"\",\"\",VLOOKUP(S790,Tabelle!$I$5:$N$7,6,FALSE)))","v":""},null,null,null,null,null,null,null,null,null,{"$f":"IF(D790=\"\",0,IF(D790=D789,COUNTIF(D$9:D789,D790)+1,1))","v":0},0,0]
["783","-1900","-1900-0",null,null,null,null,null,null,null,"",null,null,null,null,null,null,null,null,{"$f":"IF(G$2034=1,\"\",IF(S791=\"\",\"\",VLOOKUP(S791,Tabelle!$I$5:$M$7,5,FALSE)))","v":""},{"$f":"IF(G$2034=1,\"\",IF(S791=\"\",\"\",VLOOKUP(S791,Tabelle!$I$5:$N$7,6,FALSE)))","v":""},null,null,null,null,null,null,null,null,null,{"$f":"IF(D791=\"\",0,IF(D791=D790,COUNTIF(D$9:D790,D791)+1,1))","v":0},0,0]
["784","-1900","-1900-0",null,null,null,null,null,null,null,"",null,null,null,null,null,null,null,null,{"$f":"IF(G$2034=1,\"\",IF(S792=\"\",\"\",VLOOKUP(S792,Tabelle!$I$5:$M$7,5,FALSE)))","v":""},{"$f":"IF(G$2034=1,\"\",IF(S792=\"\",\"\",VLOOKUP(S792,Tabelle!$I$5:$N$7,6,FALSE)))","v":""},null,null,null,null,null,null,null,null,null,{"$f":"IF(D792=\"\",0,IF(D792=D791,COUNTIF(D$9:D791,D792)+1,1))","v":0},0,0]
["785","-1900","-1900-0",null,null,null,null,null,null,null,"",null,null,null,null,null,null,null,null,{"$f":"IF(G$2034=1,\"\",IF(S793=\"\",\"\",VLOOKUP(S793,Tabelle!$I$5:$M$7,5,FALSE)))","v":""},{"$f":"IF(G$2034=1,\"\",IF(S793=\"\",\"\",VLOOKUP(S793,Tabelle!$I$5:$N$7,6,FALSE)))","v":""},null,null,null,null,null,null,null,null,null,{"$f":"IF(D793=\"\",0,IF(D793=D792,COUNTIF(D$9:D792,D793)+1,1))","v":0},0,0]
["786","-1900","-1900-0",null,null,null,null,null,null,null,"",null,null,null,null,null,null,null,null,{"$f":"IF(G$2034=1,\"\",IF(S794=\"\",\"\",VLOOKUP(S794,Tabelle!$I$5:$M$7,5,FALSE)))","v":""},{"$f":"IF(G$2034=1,\"\",IF(S794=\"\",\"\",VLOOKUP(S794,Tabelle!$I$5:$N$7,6,FALSE)))","v":""},null,null,null,null,null,null,null,null,null,{"$f":"IF(D794=\"\",0,IF(D794=D793,COUNTIF(D$9:D793,D794)+1,1))","v":0},0,0]
["787","-1900","-1900-0",null,null,null,null,null,null,null,"",null,null,null,null,null,null,null,null,{"$f":"IF(G$2034=1,\"\",IF(S795=\"\",\"\",VLOOKUP(S795,Tabelle!$I$5:$M$7,5,FALSE)))","v":""},{"$f":"IF(G$2034=1,\"\",IF(S795=\"\",\"\",VLOOKUP(S795,Tabelle!$I$5:$N$7,6,FALSE)))","v":""},null,null,null,null,null,null,null,null,null,{"$f":"IF(D795=\"\",0,IF(D795=D794,COUNTIF(D$9:D794,D795)+1,1))","v":0},0,0]
["788","-1900","-1900-0",null,null,null,null,null,null,null,"",null,null,null,null,null,null,null,null,{"$f":"IF(G$2034=1,\"\",IF(S796=\"\",\"\",VLOOKUP(S796,Tabelle!$I$5:$M$7,5,FALSE)))","v":""},{"$f":"IF(G$2034=1,\"\",IF(S796=\"\",\"\",VLOOKUP(S796,Tabelle!$I$5:$N$7,6,FALSE)))","v":""},null,null,null,null,null,null,null,null,null,{"$f":"IF(D796=\"\",0,IF(D796=D795,COUNTIF(D$9:D795,D796)+1,1))","v":0},0,0]
["789","-1900","-1900-0",null,null,null,null,null,null,null,"",null,null,null,null,null,null,null,null,{"$f":"IF(G$2034=1,\"\",IF(S797=\"\",\"\",VLOOKUP(S797,Tabelle!$I$5:$M$7,5,FALSE)))","v":""},{"$f":"IF(G$2034=1,\"\",IF(S797=\"\",\"\",VLOOKUP(S797,Tabelle!$I$5:$N$7,6,FALSE)))","v":""},null,null,null,null,null,null,null,null,null,{"$f":"IF(D797=\"\",0,IF(D797=D796,COUNTIF(D$9:D796,D797)+1,1))","v":0},0,0]
["790","-1900","-1900-0",null,null,null,null,null,null,null,"",null,null,null,null,null,null,null,null,{"$f":"IF(G$2034=1,\"\",IF(S798=\"\",\"\",VLOOKUP(S798,Tabelle!$I$5:$M$7,5,FALSE)))","v":""},{"$f":"IF(G$2034=1,\"\",IF(S798=\"\",\"\",VLOOKUP(S798,Tabelle!$I$5:$N$7,6,FALSE)))","v":""},null,null,null,null,null,null,null,null,null,{"$f":"IF(D798=\"\",0,IF(D798=D797,COUNTIF(D$9:D797,D798)+1,1))","v":0},0,0]
["791","-1900","-1900-0",null,null,null,null,null,null,null,"",null,null,null,null,null,null,null,null,{"$f":"IF(G$2034=1,\"\",IF(S799=\"\",\"\",VLOOKUP(S799,Tabelle!$I$5:$M$7,5,FALSE)))","v":""},{"$f":"IF(G$2034=1,\"\",IF(S799=\"\",\"\",VLOOKUP(S799,Tabelle!$I$5:$N$7,6,FALSE)))","v":""},null,null,null,null,null,null,null,null,null,{"$f":"IF(D799=\"\",0,IF(D799=D798,COUNTIF(D$9:D798,D799)+1,1))","v":0},0,0]
["792","-1900","-1900-0",null,null,null,null,null,null,null,"",null,null,null,null,null,null,null,null,{"$f":"IF(G$2034=1,\"\",IF(S800=\"\",\"\",VLOOKUP(S800,Tabelle!$I$5:$M$7,5,FALSE)))","v":""},{"$f":"IF(G$2034=1,\"\",IF(S800=\"\",\"\",VLOOKUP(S800,Tabelle!$I$5:$N$7,6,FALSE)))","v":""},null,null,null,null,null,null,null,null,null,{"$f":"IF(D800=\"\",0,IF(D800=D799,COUNTIF(D$9:D799,D800)+1,1))","v":0},0,0]
["793","-1900","-1900-0",null,null,null,null,null,null,null,"",null,null,null,null,null,null,null,null,{"$f":"IF(G$2034=1,\"\",IF(S801=\"\",\"\",VLOOKUP(S801,Tabelle!$I$5:$M$7,5,FALSE)))","v":""},{"$f":"IF(G$2034=1,\"\",IF(S801=\"\",\"\",VLOOKUP(S801,Tabelle!$I$5:$N$7,6,FALSE)))","v":""},null,null,null,null,null,null,null,null,null,{"$f":"IF(D801=\"\",0,IF(D801=D800,COUNTIF(D$9:D800,D801)+1,1))","v":0},0,0]
["794","-1900","-1900-0",null,null,null,null,null,null,null,"",null,null,null,null,null,null,null,null,{"$f":"IF(G$2034=1,\"\",IF(S802=\"\",\"\",VLOOKUP(S802,Tabelle!$I$5:$M$7,5,FALSE)))","v":""},{"$f":"IF(G$2034=1,\"\",IF(S802=\"\",\"\",VLOOKUP(S802,Tabelle!$I$5:$N$7,6,FALSE)))","v":""},null,null,null,null,null,null,null,null,null,{"$f":"IF(D802=\"\",0,IF(D802=D801,COUNTIF(D$9:D801,D802)+1,1))","v":0},0,0]
["795","-1900","-1900-0",null,null,null,null,null,null,null,"",null,null,null,null,null,null,null,null,{"$f":"IF(G$2034=1,\"\",IF(S803=\"\",\"\",VLOOKUP(S803,Tabelle!$I$5:$M$7,5,FALSE)))","v":""},{"$f":"IF(G$2034=1,\"\",IF(S803=\"\",\"\",VLOOKUP(S803,Tabelle!$I$5:$N$7,6,FALSE)))","v":""},null,null,null,null,null,null,null,null,null,{"$f":"IF(D803=\"\",0,IF(D803=D802,COUNTIF(D$9:D802,D803)+1,1))","v":0},0,0]
["796","-1900","-1900-0",null,null,null,null,null,null,null,"",null,null,null,null,null,null,null,null,{"$f":"IF(G$2034=1,\"\",IF(S804=\"\",\"\",VLOOKUP(S804,Tabelle!$I$5:$M$7,5,FALSE)))","v":""},{"$f":"IF(G$2034=1,\"\",IF(S804=\"\",\"\",VLOOKUP(S804,Tabelle!$I$5:$N$7,6,FALSE)))","v":""},null,null,null,null,null,null,null,null,null,{"$f":"IF(D804=\"\",0,IF(D804=D803,COUNTIF(D$9:D803,D804)+1,1))","v":0},0,0]
["797","-1900","-1900-0",null,null,null,null,null,null,null,"",null,null,null,null,null,null,null,null,{"$f":"IF(G$2034=1,\"\",IF(S805=\"\",\"\",VLOOKUP(S805,Tabelle!$I$5:$M$7,5,FALSE)))","v":""},{"$f":"IF(G$2034=1,\"\",IF(S805=\"\",\"\",VLOOKUP(S805,Tabelle!$I$5:$N$7,6,FALSE)))","v":""},null,null,null,null,null,null,null,null,null,{"$f":"IF(D805=\"\",0,IF(D805=D804,COUNTIF(D$9:D804,D805)+1,1))","v":0},0,0]
["798","-1900","-1900-0",null,null,null,null,null,null,null,"",null,null,null,null,null,null,null,null,{"$f":"IF(G$2034=1,\"\",IF(S806=\"\",\"\",VLOOKUP(S806,Tabelle!$I$5:$M$7,5,FALSE)))","v":""},{"$f":"IF(G$2034=1,\"\",IF(S806=\"\",\"\",VLOOKUP(S806,Tabelle!$I$5:$N$7,6,FALSE)))","v":""},null,null,null,null,null,null,null,null,null,{"$f":"IF(D806=\"\",0,IF(D806=D805,COUNTIF(D$9:D805,D806)+1,1))","v":0},0,0]
["799","-1900","-1900-0",null,null,null,null,null,null,null,"",null,null,null,null,null,null,null,null,{"$f":"IF(G$2034=1,\"\",IF(S807=\"\",\"\",VLOOKUP(S807,Tabelle!$I$5:$M$7,5,FALSE)))","v":""},{"$f":"IF(G$2034=1,\"\",IF(S807=\"\",\"\",VLOOKUP(S807,Tabelle!$I$5:$N$7,6,FALSE)))","v":""},null,null,null,null,null,null,null,null,null,{"$f":"IF(D807=\"\",0,IF(D807=D806,COUNTIF(D$9:D806,D807)+1,1))","v":0},0,0]
["800","-1900","-1900-0",null,null,null,null,null,null,null,"",null,null,null,null,null,null,null,null,{"$f":"IF(G$2034=1,\"\",IF(S808=\"\",\"\",VLOOKUP(S808,Tabelle!$I$5:$M$7,5,FALSE)))","v":""},{"$f":"IF(G$2034=1,\"\",IF(S808=\"\",\"\",VLOOKUP(S808,Tabelle!$I$5:$N$7,6,FALSE)))","v":""},null,null,null,null,null,null,null,null,null,{"$f":"IF(D808=\"\",0,IF(D808=D807,COUNTIF(D$9:D807,D808)+1,1))","v":0},0,0]
["801","-1900","-1900-0",null,null,null,null,null,null,null,"",null,null,null,null,null,null,null,null,{"$f":"IF(G$2034=1,\"\",IF(S809=\"\",\"\",VLOOKUP(S809,Tabelle!$I$5:$M$7,5,FALSE)))","v":""},{"$f":"IF(G$2034=1,\"\",IF(S809=\"\",\"\",VLOOKUP(S809,Tabelle!$I$5:$N$7,6,FALSE)))","v":""},null,null,null,null,null,null,null,null,null,{"$f":"IF(D809=\"\",0,IF(D809=D808,COUNTIF(D$9:D808,D809)+1,1))","v":0},0,0]
["802","-1900","-1900-0",null,null,null,null,null,null,null,"",null,null,null,null,null,null,null,null,{"$f":"IF(G$2034=1,\"\",IF(S810=\"\",\"\",VLOOKUP(S810,Tabelle!$I$5:$M$7,5,FALSE)))","v":""},{"$f":"IF(G$2034=1,\"\",IF(S810=\"\",\"\",VLOOKUP(S810,Tabelle!$I$5:$N$7,6,FALSE)))","v":""},null,null,null,null,null,null,null,null,null,{"$f":"IF(D810=\"\",0,IF(D810=D809,COUNTIF(D$9:D809,D810)+1,1))","v":0},0,0]
["803","-1900","-1900-0",null,null,null,null,null,null,null,"",null,null,null,null,null,null,null,null,{"$f":"IF(G$2034=1,\"\",IF(S811=\"\",\"\",VLOOKUP(S811,Tabelle!$I$5:$M$7,5,FALSE)))","v":""},{"$f":"IF(G$2034=1,\"\",IF(S811=\"\",\"\",VLOOKUP(S811,Tabelle!$I$5:$N$7,6,FALSE)))","v":""},null,null,null,null,null,null,null,null,null,{"$f":"IF(D811=\"\",0,IF(D811=D810,COUNTIF(D$9:D810,D811)+1,1))","v":0},0,0]
["804","-1900","-1900-0",null,null,null,null,null,null,null,"",null,null,null,null,null,null,null,null,{"$f":"IF(G$2034=1,\"\",IF(S812=\"\",\"\",VLOOKUP(S812,Tabelle!$I$5:$M$7,5,FALSE)))","v":""},{"$f":"IF(G$2034=1,\"\",IF(S812=\"\",\"\",VLOOKUP(S812,Tabelle!$I$5:$N$7,6,FALSE)))","v":""},null,null,null,null,null,null,null,null,null,{"$f":"IF(D812=\"\",0,IF(D812=D811,COUNTIF(D$9:D811,D812)+1,1))","v":0},0,0]
["805","-1900","-1900-0",null,null,null,null,null,null,null,"",null,null,null,null,null,null,null,null,{"$f":"IF(G$2034=1,\"\",IF(S813=\"\",\"\",VLOOKUP(S813,Tabelle!$I$5:$M$7,5,FALSE)))","v":""},{"$f":"IF(G$2034=1,\"\",IF(S813=\"\",\"\",VLOOKUP(S813,Tabelle!$I$5:$N$7,6,FALSE)))","v":""},null,null,null,null,null,null,null,null,null,{"$f":"IF(D813=\"\",0,IF(D813=D812,COUNTIF(D$9:D812,D813)+1,1))","v":0},0,0]
["806","-1900","-1900-0",null,null,null,null,null,null,null,"",null,null,null,null,null,null,null,null,{"$f":"IF(G$2034=1,\"\",IF(S814=\"\",\"\",VLOOKUP(S814,Tabelle!$I$5:$M$7,5,FALSE)))","v":""},{"$f":"IF(G$2034=1,\"\",IF(S814=\"\",\"\",VLOOKUP(S814,Tabelle!$I$5:$N$7,6,FALSE)))","v":""},null,null,null,null,null,null,null,null,null,{"$f":"IF(D814=\"\",0,IF(D814=D813,COUNTIF(D$9:D813,D814)+1,1))","v":0},0,0]
["807","-1900","-1900-0",null,null,null,null,null,null,null,"",null,null,null,null,null,null,null,null,{"$f":"IF(G$2034=1,\"\",IF(S815=\"\",\"\",VLOOKUP(S815,Tabelle!$I$5:$M$7,5,FALSE)))","v":""},{"$f":"IF(G$2034=1,\"\",IF(S815=\"\",\"\",VLOOKUP(S815,Tabelle!$I$5:$N$7,6,FALSE)))","v":""},null,null,null,null,null,null,null,null,null,{"$f":"IF(D815=\"\",0,IF(D815=D814,COUNTIF(D$9:D814,D815)+1,1))","v":0},0,0]
["808","-1900","-1900-0",null,null,null,null,null,null,null,"",null,null,null,null,null,null,null,null,{"$f":"IF(G$2034=1,\"\",IF(S816=\"\",\"\",VLOOKUP(S816,Tabelle!$I$5:$M$7,5,FALSE)))","v":""},{"$f":"IF(G$2034=1,\"\",IF(S816=\"\",\"\",VLOOKUP(S816,Tabelle!$I$5:$N$7,6,FALSE)))","v":""},null,null,null,null,null,null,null,null,null,{"$f":"IF(D816=\"\",0,IF(D816=D815,COUNTIF(D$9:D815,D816)+1,1))","v":0},0,0]
["809","-1900","-1900-0",null,null,null,null,null,null,null,"",null,null,null,null,null,null,null,null,{"$f":"IF(G$2034=1,\"\",IF(S817=\"\",\"\",VLOOKUP(S817,Tabelle!$I$5:$M$7,5,FALSE)))","v":""},{"$f":"IF(G$2034=1,\"\",IF(S817=\"\",\"\",VLOOKUP(S817,Tabelle!$I$5:$N$7,6,FALSE)))","v":""},null,null,null,null,null,null,null,null,null,{"$f":"IF(D817=\"\",0,IF(D817=D816,COUNTIF(D$9:D816,D817)+1,1))","v":0},0,0]
["810","-1900","-1900-0",null,null,null,null,null,null,null,"",null,null,null,null,null,null,null,null,{"$f":"IF(G$2034=1,\"\",IF(S818=\"\",\"\",VLOOKUP(S818,Tabelle!$I$5:$M$7,5,FALSE)))","v":""},{"$f":"IF(G$2034=1,\"\",IF(S818=\"\",\"\",VLOOKUP(S818,Tabelle!$I$5:$N$7,6,FALSE)))","v":""},null,null,null,null,null,null,null,null,null,{"$f":"IF(D818=\"\",0,IF(D818=D817,COUNTIF(D$9:D817,D818)+1,1))","v":0},0,0]
["811","-1900","-1900-0",null,null,null,null,null,null,null,"",null,null,null,null,null,null,null,null,{"$f":"IF(G$2034=1,\"\",IF(S819=\"\",\"\",VLOOKUP(S819,Tabelle!$I$5:$M$7,5,FALSE)))","v":""},{"$f":"IF(G$2034=1,\"\",IF(S819=\"\",\"\",VLOOKUP(S819,Tabelle!$I$5:$N$7,6,FALSE)))","v":""},null,null,null,null,null,null,null,null,null,{"$f":"IF(D819=\"\",0,IF(D819=D818,COUNTIF(D$9:D818,D819)+1,1))","v":0},0,0]
["812","-1900","-1900-0",null,null,null,null,null,null,null,"",null,null,null,null,null,null,null,null,{"$f":"IF(G$2034=1,\"\",IF(S820=\"\",\"\",VLOOKUP(S820,Tabelle!$I$5:$M$7,5,FALSE)))","v":""},{"$f":"IF(G$2034=1,\"\",IF(S820=\"\",\"\",VLOOKUP(S820,Tabelle!$I$5:$N$7,6,FALSE)))","v":""},null,null,null,null,null,null,null,null,null,{"$f":"IF(D820=\"\",0,IF(D820=D819,COUNTIF(D$9:D819,D820)+1,1))","v":0},0,0]
["813","-1900","-1900-0",null,null,null,null,null,null,null,"",null,null,null,null,null,null,null,null,{"$f":"IF(G$2034=1,\"\",IF(S821=\"\",\"\",VLOOKUP(S821,Tabelle!$I$5:$M$7,5,FALSE)))","v":""},{"$f":"IF(G$2034=1,\"\",IF(S821=\"\",\"\",VLOOKUP(S821,Tabelle!$I$5:$N$7,6,FALSE)))","v":""},null,null,null,null,null,null,null,null,null,{"$f":"IF(D821=\"\",0,IF(D821=D820,COUNTIF(D$9:D820,D821)+1,1))","v":0},0,0]
["814","-1900","-1900-0",null,null,null,null,null,null,null,"",null,null,null,null,null,null,null,null,{"$f":"IF(G$2034=1,\"\",IF(S822=\"\",\"\",VLOOKUP(S822,Tabelle!$I$5:$M$7,5,FALSE)))","v":""},{"$f":"IF(G$2034=1,\"\",IF(S822=\"\",\"\",VLOOKUP(S822,Tabelle!$I$5:$N$7,6,FALSE)))","v":""},null,null,null,null,null,null,null,null,null,{"$f":"IF(D822=\"\",0,IF(D822=D821,COUNTIF(D$9:D821,D822)+1,1))","v":0},0,0]
["815","-1900","-1900-0",null,null,null,null,null,null,null,"",null,null,null,null,null,null,null,null,{"$f":"IF(G$2034=1,\"\",IF(S823=\"\",\"\",VLOOKUP(S823,Tabelle!$I$5:$M$7,5,FALSE)))","v":""},{"$f":"IF(G$2034=1,\"\",IF(S823=\"\",\"\",VLOOKUP(S823,Tabelle!$I$5:$N$7,6,FALSE)))","v":""},null,null,null,null,null,null,null,null,null,{"$f":"IF(D823=\"\",0,IF(D823=D822,COUNTIF(D$9:D822,D823)+1,1))","v":0},0,0]
["816","-1900","-1900-0",null,null,null,null,null,null,null,"",null,null,null,null,null,null,null,null,{"$f":"IF(G$2034=1,\"\",IF(S824=\"\",\"\",VLOOKUP(S824,Tabelle!$I$5:$M$7,5,FALSE)))","v":""},{"$f":"IF(G$2034=1,\"\",IF(S824=\"\",\"\",VLOOKUP(S824,Tabelle!$I$5:$N$7,6,FALSE)))","v":""},null,null,null,null,null,null,null,null,null,{"$f":"IF(D824=\"\",0,IF(D824=D823,COUNTIF(D$9:D823,D824)+1,1))","v":0},0,0]
["817","-1900","-1900-0",null,null,null,null,null,null,null,"",null,null,null,null,null,null,null,null,{"$f":"IF(G$2034=1,\"\",IF(S825=\"\",\"\",VLOOKUP(S825,Tabelle!$I$5:$M$7,5,FALSE)))","v":""},{"$f":"IF(G$2034=1,\"\",IF(S825=\"\",\"\",VLOOKUP(S825,Tabelle!$I$5:$N$7,6,FALSE)))","v":""},null,null,null,null,null,null,null,null,null,{"$f":"IF(D825=\"\",0,IF(D825=D824,COUNTIF(D$9:D824,D825)+1,1))","v":0},0,0]
["818","-1900","-1900-0",null,null,null,null,null,null,null,"",null,null,null,null,null,null,null,null,{"$f":"IF(G$2034=1,\"\",IF(S826=\"\",\"\",VLOOKUP(S826,Tabelle!$I$5:$M$7,5,FALSE)))","v":""},{"$f":"IF(G$2034=1,\"\",IF(S826=\"\",\"\",VLOOKUP(S826,Tabelle!$I$5:$N$7,6,FALSE)))","v":""},null,null,null,null,null,null,null,null,null,{"$f":"IF(D826=\"\",0,IF(D826=D825,COUNTIF(D$9:D825,D826)+1,1))","v":0},0,0]
["819","-1900","-1900-0",null,null,null,null,null,null,null,"",null,null,null,null,null,null,null,null,{"$f":"IF(G$2034=1,\"\",IF(S827=\"\",\"\",VLOOKUP(S827,Tabelle!$I$5:$M$7,5,FALSE)))","v":""},{"$f":"IF(G$2034=1,\"\",IF(S827=\"\",\"\",VLOOKUP(S827,Tabelle!$I$5:$N$7,6,FALSE)))","v":""},null,null,null,null,null,null,null,null,null,{"$f":"IF(D827=\"\",0,IF(D827=D826,COUNTIF(D$9:D826,D827)+1,1))","v":0},0,0]
["820","-1900","-1900-0",null,null,null,null,null,null,null,"",null,null,null,null,null,null,null,null,{"$f":"IF(G$2034=1,\"\",IF(S828=\"\",\"\",VLOOKUP(S828,Tabelle!$I$5:$M$7,5,FALSE)))","v":""},{"$f":"IF(G$2034=1,\"\",IF(S828=\"\",\"\",VLOOKUP(S828,Tabelle!$I$5:$N$7,6,FALSE)))","v":""},null,null,null,null,null,null,null,null,null,{"$f":"IF(D828=\"\",0,IF(D828=D827,COUNTIF(D$9:D827,D828)+1,1))","v":0},0,0]
["821","-1900","-1900-0",null,null,null,null,null,null,null,"",null,null,null,null,null,null,null,null,{"$f":"IF(G$2034=1,\"\",IF(S829=\"\",\"\",VLOOKUP(S829,Tabelle!$I$5:$M$7,5,FALSE)))","v":""},{"$f":"IF(G$2034=1,\"\",IF(S829=\"\",\"\",VLOOKUP(S829,Tabelle!$I$5:$N$7,6,FALSE)))","v":""},null,null,null,null,null,null,null,null,null,{"$f":"IF(D829=\"\",0,IF(D829=D828,COUNTIF(D$9:D828,D829)+1,1))","v":0},0,0]
["822","-1900","-1900-0",null,null,null,null,null,null,null,"",null,null,null,null,null,null,null,null,{"$f":"IF(G$2034=1,\"\",IF(S830=\"\",\"\",VLOOKUP(S830,Tabelle!$I$5:$M$7,5,FALSE)))","v":""},{"$f":"IF(G$2034=1,\"\",IF(S830=\"\",\"\",VLOOKUP(S830,Tabelle!$I$5:$N$7,6,FALSE)))","v":""},null,null,null,null,null,null,null,null,null,{"$f":"IF(D830=\"\",0,IF(D830=D829,COUNTIF(D$9:D829,D830)+1,1))","v":0},0,0]
["823","-1900","-1900-0",null,null,null,null,null,null,null,"",null,null,null,null,null,null,null,null,{"$f":"IF(G$2034=1,\"\",IF(S831=\"\",\"\",VLOOKUP(S831,Tabelle!$I$5:$M$7,5,FALSE)))","v":""},{"$f":"IF(G$2034=1,\"\",IF(S831=\"\",\"\",VLOOKUP(S831,Tabelle!$I$5:$N$7,6,FALSE)))","v":""},null,null,null,null,null,null,null,null,null,{"$f":"IF(D831=\"\",0,IF(D831=D830,COUNTIF(D$9:D830,D831)+1,1))","v":0},0,0]
["824","-1900","-1900-0",null,null,null,null,null,null,null,"",null,null,null,null,null,null,null,null,{"$f":"IF(G$2034=1,\"\",IF(S832=\"\",\"\",VLOOKUP(S832,Tabelle!$I$5:$M$7,5,FALSE)))","v":""},{"$f":"IF(G$2034=1,\"\",IF(S832=\"\",\"\",VLOOKUP(S832,Tabelle!$I$5:$N$7,6,FALSE)))","v":""},null,null,null,null,null,null,null,null,null,{"$f":"IF(D832=\"\",0,IF(D832=D831,COUNTIF(D$9:D831,D832)+1,1))","v":0},0,0]
["825","-1900","-1900-0",null,null,null,null,null,null,null,"",null,null,null,null,null,null,null,null,{"$f":"IF(G$2034=1,\"\",IF(S833=\"\",\"\",VLOOKUP(S833,Tabelle!$I$5:$M$7,5,FALSE)))","v":""},{"$f":"IF(G$2034=1,\"\",IF(S833=\"\",\"\",VLOOKUP(S833,Tabelle!$I$5:$N$7,6,FALSE)))","v":""},null,null,null,null,null,null,null,null,null,{"$f":"IF(D833=\"\",0,IF(D833=D832,COUNTIF(D$9:D832,D833)+1,1))","v":0},0,0]
["826","-1900","-1900-0",null,null,null,null,null,null,null,"",null,null,null,null,null,null,null,null,{"$f":"IF(G$2034=1,\"\",IF(S834=\"\",\"\",VLOOKUP(S834,Tabelle!$I$5:$M$7,5,FALSE)))","v":""},{"$f":"IF(G$2034=1,\"\",IF(S834=\"\",\"\",VLOOKUP(S834,Tabelle!$I$5:$N$7,6,FALSE)))","v":""},null,null,null,null,null,null,null,null,null,{"$f":"IF(D834=\"\",0,IF(D834=D833,COUNTIF(D$9:D833,D834)+1,1))","v":0},0,0]
["827","-1900","-1900-0",null,null,null,null,null,null,null,"",null,null,null,null,null,null,null,null,{"$f":"IF(G$2034=1,\"\",IF(S835=\"\",\"\",VLOOKUP(S835,Tabelle!$I$5:$M$7,5,FALSE)))","v":""},{"$f":"IF(G$2034=1,\"\",IF(S835=\"\",\"\",VLOOKUP(S835,Tabelle!$I$5:$N$7,6,FALSE)))","v":""},null,null,null,null,null,null,null,null,null,{"$f":"IF(D835=\"\",0,IF(D835=D834,COUNTIF(D$9:D834,D835)+1,1))","v":0},0,0]
["828","-1900","-1900-0",null,null,null,null,null,null,null,"",null,null,null,null,null,null,null,null,{"$f":"IF(G$2034=1,\"\",IF(S836=\"\",\"\",VLOOKUP(S836,Tabelle!$I$5:$M$7,5,FALSE)))","v":""},{"$f":"IF(G$2034=1,\"\",IF(S836=\"\",\"\",VLOOKUP(S836,Tabelle!$I$5:$N$7,6,FALSE)))","v":""},null,null,null,null,null,null,null,null,null,{"$f":"IF(D836=\"\",0,IF(D836=D835,COUNTIF(D$9:D835,D836)+1,1))","v":0},0,0]
["829","-1900","-1900-0",null,null,null,null,null,null,null,"",null,null,null,null,null,null,null,null,{"$f":"IF(G$2034=1,\"\",IF(S837=\"\",\"\",VLOOKUP(S837,Tabelle!$I$5:$M$7,5,FALSE)))","v":""},{"$f":"IF(G$2034=1,\"\",IF(S837=\"\",\"\",VLOOKUP(S837,Tabelle!$I$5:$N$7,6,FALSE)))","v":""},null,null,null,null,null,null,null,null,null,{"$f":"IF(D837=\"\",0,IF(D837=D836,COUNTIF(D$9:D836,D837)+1,1))","v":0},0,0]
["830","-1900","-1900-0",null,null,null,null,null,null,null,"",null,null,null,null,null,null,null,null,{"$f":"IF(G$2034=1,\"\",IF(S838=\"\",\"\",VLOOKUP(S838,Tabelle!$I$5:$M$7,5,FALSE)))","v":""},{"$f":"IF(G$2034=1,\"\",IF(S838=\"\",\"\",VLOOKUP(S838,Tabelle!$I$5:$N$7,6,FALSE)))","v":""},null,null,null,null,null,null,null,null,null,{"$f":"IF(D838=\"\",0,IF(D838=D837,COUNTIF(D$9:D837,D838)+1,1))","v":0},0,0]
["831","-1900","-1900-0",null,null,null,null,null,null,null,"",null,null,null,null,null,null,null,null,{"$f":"IF(G$2034=1,\"\",IF(S839=\"\",\"\",VLOOKUP(S839,Tabelle!$I$5:$M$7,5,FALSE)))","v":""},{"$f":"IF(G$2034=1,\"\",IF(S839=\"\",\"\",VLOOKUP(S839,Tabelle!$I$5:$N$7,6,FALSE)))","v":""},null,null,null,null,null,null,null,null,null,{"$f":"IF(D839=\"\",0,IF(D839=D838,COUNTIF(D$9:D838,D839)+1,1))","v":0},0,0]
["832","-1900","-1900-0",null,null,null,null,null,null,null,"",null,null,null,null,null,null,null,null,{"$f":"IF(G$2034=1,\"\",IF(S840=\"\",\"\",VLOOKUP(S840,Tabelle!$I$5:$M$7,5,FALSE)))","v":""},{"$f":"IF(G$2034=1,\"\",IF(S840=\"\",\"\",VLOOKUP(S840,Tabelle!$I$5:$N$7,6,FALSE)))","v":""},null,null,null,null,null,null,null,null,null,{"$f":"IF(D840=\"\",0,IF(D840=D839,COUNTIF(D$9:D839,D840)+1,1))","v":0},0,0]
["833","-1900",{"$f":"IF(G$2034=1,0,B841&\"-\"&AE841)","v":"-1900-0"},null,null,null,null,null,null,null,{"$f":"IF(G$2034=1,0,IF(OR(J841=\"\",ISERROR($O$2034)),\"\",VLOOKUP(J841,$L$2019:$N$2027,2,FALSE)))","v":""},null,null,null,null,null,null,null,null,{"$f":"IF(G$2034=1,\"\",IF(S841=\"\",\"\",VLOOKUP(S841,Tabelle!$I$5:$M$7,5,FALSE)))","v":""},{"$f":"IF(G$2034=1,\"\",IF(S841=\"\",\"\",VLOOKUP(S841,Tabelle!$I$5:$N$7,6,FALSE)))","v":""},null,null,null,null,null,null,null,null,null,{"$f":"IF(D841=\"\",0,IF(D841=D840,COUNTIF(D$9:D840,D841)+1,1))","v":0},0,0]
["834",{"$f":"IF(AG842=$AG$2013,0,IF(G$2034=1,0,D842&\"-\"&YEAR(E842)))","v":"-1900"},"-1900-0",null,null,null,null,null,null,null,"",null,null,null,null,null,null,null,null,{"$f":"IF(G$2034=1,\"\",IF(S842=\"\",\"\",VLOOKUP(S842,Tabelle!$I$5:$M$7,5,FALSE)))","v":""},{"$f":"IF(G$2034=1,\"\",IF(S842=\"\",\"\",VLOOKUP(S842,Tabelle!$I$5:$N$7,6,FALSE)))","v":""},null,null,null,null,null,null,null,null,null,{"$f":"IF(D842=\"\",0,IF(D842=D841,COUNTIF(D$9:D841,D842)+1,1))","v":0},{"$f":"IF(G$2034=1,0,IF(AE842=28,1,0))","v":0},{"$f":"IF(E842>0,IF(OR(MONTH(E842)<$G$2026,MONTH(E842)>$G$2027),AG$2013,0),0)","v":0}]
["835","-1900","-1900-0",null,null,null,null,null,null,null,"",null,null,null,null,null,null,null,null,{"$f":"IF(G$2034=1,\"\",IF(S843=\"\",\"\",VLOOKUP(S843,Tabelle!$I$5:$M$7,5,FALSE)))","v":""},{"$f":"IF(G$2034=1,\"\",IF(S843=\"\",\"\",VLOOKUP(S843,Tabelle!$I$5:$N$7,6,FALSE)))","v":""},null,null,null,null,null,null,null,null,null,{"$f":"IF(D843=\"\",0,IF(D843=D842,COUNTIF(D$9:D842,D843)+1,1))","v":0},0,0]
["836","-1900","-1900-0",null,null,null,null,null,null,null,"",null,null,null,null,null,null,null,null,{"$f":"IF(G$2034=1,\"\",IF(S844=\"\",\"\",VLOOKUP(S844,Tabelle!$I$5:$M$7,5,FALSE)))","v":""},{"$f":"IF(G$2034=1,\"\",IF(S844=\"\",\"\",VLOOKUP(S844,Tabelle!$I$5:$N$7,6,FALSE)))","v":""},null,null,null,null,null,null,null,null,null,{"$f":"IF(D844=\"\",0,IF(D844=D843,COUNTIF(D$9:D843,D844)+1,1))","v":0},0,0]
["837","-1900","-1900-0",null,null,null,null,null,null,null,"",null,null,null,null,null,null,null,null,{"$f":"IF(G$2034=1,\"\",IF(S845=\"\",\"\",VLOOKUP(S845,Tabelle!$I$5:$M$7,5,FALSE)))","v":""},{"$f":"IF(G$2034=1,\"\",IF(S845=\"\",\"\",VLOOKUP(S845,Tabelle!$I$5:$N$7,6,FALSE)))","v":""},null,null,null,null,null,null,null,null,null,{"$f":"IF(D845=\"\",0,IF(D845=D844,COUNTIF(D$9:D844,D845)+1,1))","v":0},0,0]
["838","-1900","-1900-0",null,null,null,null,null,null,null,"",null,null,null,null,null,null,null,null,{"$f":"IF(G$2034=1,\"\",IF(S846=\"\",\"\",VLOOKUP(S846,Tabelle!$I$5:$M$7,5,FALSE)))","v":""},{"$f":"IF(G$2034=1,\"\",IF(S846=\"\",\"\",VLOOKUP(S846,Tabelle!$I$5:$N$7,6,FALSE)))","v":""},null,null,null,null,null,null,null,null,null,{"$f":"IF(D846=\"\",0,IF(D846=D845,COUNTIF(D$9:D845,D846)+1,1))","v":0},0,0]
["839","-1900","-1900-0",null,null,null,null,null,null,null,"",null,null,null,null,null,null,null,null,{"$f":"IF(G$2034=1,\"\",IF(S847=\"\",\"\",VLOOKUP(S847,Tabelle!$I$5:$M$7,5,FALSE)))","v":""},{"$f":"IF(G$2034=1,\"\",IF(S847=\"\",\"\",VLOOKUP(S847,Tabelle!$I$5:$N$7,6,FALSE)))","v":""},null,null,null,null,null,null,null,null,null,{"$f":"IF(D847=\"\",0,IF(D847=D846,COUNTIF(D$9:D846,D847)+1,1))","v":0},0,0]
["840","-1900","-1900-0",null,null,null,null,null,null,null,"",null,null,null,null,null,null,null,null,{"$f":"IF(G$2034=1,\"\",IF(S848=\"\",\"\",VLOOKUP(S848,Tabelle!$I$5:$M$7,5,FALSE)))","v":""},{"$f":"IF(G$2034=1,\"\",IF(S848=\"\",\"\",VLOOKUP(S848,Tabelle!$I$5:$N$7,6,FALSE)))","v":""},null,null,null,null,null,null,null,null,null,{"$f":"IF(D848=\"\",0,IF(D848=D847,COUNTIF(D$9:D847,D848)+1,1))","v":0},0,0]
["841","-1900","-1900-0",null,null,null,null,null,null,null,"",null,null,null,null,null,null,null,null,{"$f":"IF(G$2034=1,\"\",IF(S849=\"\",\"\",VLOOKUP(S849,Tabelle!$I$5:$M$7,5,FALSE)))","v":""},{"$f":"IF(G$2034=1,\"\",IF(S849=\"\",\"\",VLOOKUP(S849,Tabelle!$I$5:$N$7,6,FALSE)))","v":""},null,null,null,null,null,null,null,null,null,{"$f":"IF(D849=\"\",0,IF(D849=D848,COUNTIF(D$9:D848,D849)+1,1))","v":0},0,0]
["842","-1900","-1900-0",null,null,null,null,null,null,null,"",null,null,null,null,null,null,null,null,{"$f":"IF(G$2034=1,\"\",IF(S850=\"\",\"\",VLOOKUP(S850,Tabelle!$I$5:$M$7,5,FALSE)))","v":""},{"$f":"IF(G$2034=1,\"\",IF(S850=\"\",\"\",VLOOKUP(S850,Tabelle!$I$5:$N$7,6,FALSE)))","v":""},null,null,null,null,null,null,null,null,null,{"$f":"IF(D850=\"\",0,IF(D850=D849,COUNTIF(D$9:D849,D850)+1,1))","v":0},0,0]
["843","-1900","-1900-0",null,null,null,null,null,null,null,"",null,null,null,null,null,null,null,null,{"$f":"IF(G$2034=1,\"\",IF(S851=\"\",\"\",VLOOKUP(S851,Tabelle!$I$5:$M$7,5,FALSE)))","v":""},{"$f":"IF(G$2034=1,\"\",IF(S851=\"\",\"\",VLOOKUP(S851,Tabelle!$I$5:$N$7,6,FALSE)))","v":""},null,null,null,null,null,null,null,null,null,{"$f":"IF(D851=\"\",0,IF(D851=D850,COUNTIF(D$9:D850,D851)+1,1))","v":0},0,0]
["844","-1900","-1900-0",null,null,null,null,null,null,null,"",null,null,null,null,null,null,null,null,{"$f":"IF(G$2034=1,\"\",IF(S852=\"\",\"\",VLOOKUP(S852,Tabelle!$I$5:$M$7,5,FALSE)))","v":""},{"$f":"IF(G$2034=1,\"\",IF(S852=\"\",\"\",VLOOKUP(S852,Tabelle!$I$5:$N$7,6,FALSE)))","v":""},null,null,null,null,null,null,null,null,null,{"$f":"IF(D852=\"\",0,IF(D852=D851,COUNTIF(D$9:D851,D852)+1,1))","v":0},0,0]
["845","-1900","-1900-0",null,null,null,null,null,null,null,"",null,null,null,null,null,null,null,null,{"$f":"IF(G$2034=1,\"\",IF(S853=\"\",\"\",VLOOKUP(S853,Tabelle!$I$5:$M$7,5,FALSE)))","v":""},{"$f":"IF(G$2034=1,\"\",IF(S853=\"\",\"\",VLOOKUP(S853,Tabelle!$I$5:$N$7,6,FALSE)))","v":""},null,null,null,null,null,null,null,null,null,{"$f":"IF(D853=\"\",0,IF(D853=D852,COUNTIF(D$9:D852,D853)+1,1))","v":0},0,0]
["846","-1900","-1900-0",null,null,null,null,null,null,null,"",null,null,null,null,null,null,null,null,{"$f":"IF(G$2034=1,\"\",IF(S854=\"\",\"\",VLOOKUP(S854,Tabelle!$I$5:$M$7,5,FALSE)))","v":""},{"$f":"IF(G$2034=1,\"\",IF(S854=\"\",\"\",VLOOKUP(S854,Tabelle!$I$5:$N$7,6,FALSE)))","v":""},null,null,null,null,null,null,null,null,null,{"$f":"IF(D854=\"\",0,IF(D854=D853,COUNTIF(D$9:D853,D854)+1,1))","v":0},0,0]
["847","-1900","-1900-0",null,null,null,null,null,null,null,"",null,null,null,null,null,null,null,null,{"$f":"IF(G$2034=1,\"\",IF(S855=\"\",\"\",VLOOKUP(S855,Tabelle!$I$5:$M$7,5,FALSE)))","v":""},{"$f":"IF(G$2034=1,\"\",IF(S855=\"\",\"\",VLOOKUP(S855,Tabelle!$I$5:$N$7,6,FALSE)))","v":""},null,null,null,null,null,null,null,null,null,{"$f":"IF(D855=\"\",0,IF(D855=D854,COUNTIF(D$9:D854,D855)+1,1))","v":0},0,0]
["848","-1900","-1900-0",null,null,null,null,null,null,null,"",null,null,null,null,null,null,null,null,{"$f":"IF(G$2034=1,\"\",IF(S856=\"\",\"\",VLOOKUP(S856,Tabelle!$I$5:$M$7,5,FALSE)))","v":""},{"$f":"IF(G$2034=1,\"\",IF(S856=\"\",\"\",VLOOKUP(S856,Tabelle!$I$5:$N$7,6,FALSE)))","v":""},null,null,null,null,null,null,null,null,null,{"$f":"IF(D856=\"\",0,IF(D856=D855,COUNTIF(D$9:D855,D856)+1,1))","v":0},0,0]
["849","-1900","-1900-0",null,null,null,null,null,null,null,"",null,null,null,null,null,null,null,null,{"$f":"IF(G$2034=1,\"\",IF(S857=\"\",\"\",VLOOKUP(S857,Tabelle!$I$5:$M$7,5,FALSE)))","v":""},{"$f":"IF(G$2034=1,\"\",IF(S857=\"\",\"\",VLOOKUP(S857,Tabelle!$I$5:$N$7,6,FALSE)))","v":""},null,null,null,null,null,null,null,null,null,{"$f":"IF(D857=\"\",0,IF(D857=D856,COUNTIF(D$9:D856,D857)+1,1))","v":0},0,0]
["850","-1900","-1900-0",null,null,null,null,null,null,null,"",null,null,null,null,null,null,null,null,{"$f":"IF(G$2034=1,\"\",IF(S858=\"\",\"\",VLOOKUP(S858,Tabelle!$I$5:$M$7,5,FALSE)))","v":""},{"$f":"IF(G$2034=1,\"\",IF(S858=\"\",\"\",VLOOKUP(S858,Tabelle!$I$5:$N$7,6,FALSE)))","v":""},null,null,null,null,null,null,null,null,null,{"$f":"IF(D858=\"\",0,IF(D858=D857,COUNTIF(D$9:D857,D858)+1,1))","v":0},0,0]
["851","-1900","-1900-0",null,null,null,null,null,null,null,"",null,null,null,null,null,null,null,null,{"$f":"IF(G$2034=1,\"\",IF(S859=\"\",\"\",VLOOKUP(S859,Tabelle!$I$5:$M$7,5,FALSE)))","v":""},{"$f":"IF(G$2034=1,\"\",IF(S859=\"\",\"\",VLOOKUP(S859,Tabelle!$I$5:$N$7,6,FALSE)))","v":""},null,null,null,null,null,null,null,null,null,{"$f":"IF(D859=\"\",0,IF(D859=D858,COUNTIF(D$9:D858,D859)+1,1))","v":0},0,0]
["852","-1900","-1900-0",null,null,null,null,null,null,null,"",null,null,null,null,null,null,null,null,{"$f":"IF(G$2034=1,\"\",IF(S860=\"\",\"\",VLOOKUP(S860,Tabelle!$I$5:$M$7,5,FALSE)))","v":""},{"$f":"IF(G$2034=1,\"\",IF(S860=\"\",\"\",VLOOKUP(S860,Tabelle!$I$5:$N$7,6,FALSE)))","v":""},null,null,null,null,null,null,null,null,null,{"$f":"IF(D860=\"\",0,IF(D860=D859,COUNTIF(D$9:D859,D860)+1,1))","v":0},0,0]
["853","-1900","-1900-0",null,null,null,null,null,null,null,"",null,null,null,null,null,null,null,null,{"$f":"IF(G$2034=1,\"\",IF(S861=\"\",\"\",VLOOKUP(S861,Tabelle!$I$5:$M$7,5,FALSE)))","v":""},{"$f":"IF(G$2034=1,\"\",IF(S861=\"\",\"\",VLOOKUP(S861,Tabelle!$I$5:$N$7,6,FALSE)))","v":""},null,null,null,null,null,null,null,null,null,{"$f":"IF(D861=\"\",0,IF(D861=D860,COUNTIF(D$9:D860,D861)+1,1))","v":0},0,0]
["854","-1900","-1900-0",null,null,null,null,null,null,null,"",null,null,null,null,null,null,null,null,{"$f":"IF(G$2034=1,\"\",IF(S862=\"\",\"\",VLOOKUP(S862,Tabelle!$I$5:$M$7,5,FALSE)))","v":""},{"$f":"IF(G$2034=1,\"\",IF(S862=\"\",\"\",VLOOKUP(S862,Tabelle!$I$5:$N$7,6,FALSE)))","v":""},null,null,null,null,null,null,null,null,null,{"$f":"IF(D862=\"\",0,IF(D862=D861,COUNTIF(D$9:D861,D862)+1,1))","v":0},0,0]
["855","-1900","-1900-0",null,null,null,null,null,null,null,"",null,null,null,null,null,null,null,null,{"$f":"IF(G$2034=1,\"\",IF(S863=\"\",\"\",VLOOKUP(S863,Tabelle!$I$5:$M$7,5,FALSE)))","v":""},{"$f":"IF(G$2034=1,\"\",IF(S863=\"\",\"\",VLOOKUP(S863,Tabelle!$I$5:$N$7,6,FALSE)))","v":""},null,null,null,null,null,null,null,null,null,{"$f":"IF(D863=\"\",0,IF(D863=D862,COUNTIF(D$9:D862,D863)+1,1))","v":0},0,0]
["856","-1900","-1900-0",null,null,null,null,null,null,null,"",null,null,null,null,null,null,null,null,{"$f":"IF(G$2034=1,\"\",IF(S864=\"\",\"\",VLOOKUP(S864,Tabelle!$I$5:$M$7,5,FALSE)))","v":""},{"$f":"IF(G$2034=1,\"\",IF(S864=\"\",\"\",VLOOKUP(S864,Tabelle!$I$5:$N$7,6,FALSE)))","v":""},null,null,null,null,null,null,null,null,null,{"$f":"IF(D864=\"\",0,IF(D864=D863,COUNTIF(D$9:D863,D864)+1,1))","v":0},0,0]
["857","-1900","-1900-0",null,null,null,null,null,null,null,"",null,null,null,null,null,null,null,null,{"$f":"IF(G$2034=1,\"\",IF(S865=\"\",\"\",VLOOKUP(S865,Tabelle!$I$5:$M$7,5,FALSE)))","v":""},{"$f":"IF(G$2034=1,\"\",IF(S865=\"\",\"\",VLOOKUP(S865,Tabelle!$I$5:$N$7,6,FALSE)))","v":""},null,null,null,null,null,null,null,null,null,{"$f":"IF(D865=\"\",0,IF(D865=D864,COUNTIF(D$9:D864,D865)+1,1))","v":0},0,0]
["858","-1900","-1900-0",null,null,null,null,null,null,null,"",null,null,null,null,null,null,null,null,{"$f":"IF(G$2034=1,\"\",IF(S866=\"\",\"\",VLOOKUP(S866,Tabelle!$I$5:$M$7,5,FALSE)))","v":""},{"$f":"IF(G$2034=1,\"\",IF(S866=\"\",\"\",VLOOKUP(S866,Tabelle!$I$5:$N$7,6,FALSE)))","v":""},null,null,null,null,null,null,null,null,null,{"$f":"IF(D866=\"\",0,IF(D866=D865,COUNTIF(D$9:D865,D866)+1,1))","v":0},0,0]
["859","-1900","-1900-0",null,null,null,null,null,null,null,"",null,null,null,null,null,null,null,null,{"$f":"IF(G$2034=1,\"\",IF(S867=\"\",\"\",VLOOKUP(S867,Tabelle!$I$5:$M$7,5,FALSE)))","v":""},{"$f":"IF(G$2034=1,\"\",IF(S867=\"\",\"\",VLOOKUP(S867,Tabelle!$I$5:$N$7,6,FALSE)))","v":""},null,null,null,null,null,null,null,null,null,{"$f":"IF(D867=\"\",0,IF(D867=D866,COUNTIF(D$9:D866,D867)+1,1))","v":0},0,0]
["860","-1900","-1900-0",null,null,null,null,null,null,null,"",null,null,null,null,null,null,null,null,{"$f":"IF(G$2034=1,\"\",IF(S868=\"\",\"\",VLOOKUP(S868,Tabelle!$I$5:$M$7,5,FALSE)))","v":""},{"$f":"IF(G$2034=1,\"\",IF(S868=\"\",\"\",VLOOKUP(S868,Tabelle!$I$5:$N$7,6,FALSE)))","v":""},null,null,null,null,null,null,null,null,null,{"$f":"IF(D868=\"\",0,IF(D868=D867,COUNTIF(D$9:D867,D868)+1,1))","v":0},0,0]
["861","-1900","-1900-0",null,null,null,null,null,null,null,"",null,null,null,null,null,null,null,null,{"$f":"IF(G$2034=1,\"\",IF(S869=\"\",\"\",VLOOKUP(S869,Tabelle!$I$5:$M$7,5,FALSE)))","v":""},{"$f":"IF(G$2034=1,\"\",IF(S869=\"\",\"\",VLOOKUP(S869,Tabelle!$I$5:$N$7,6,FALSE)))","v":""},null,null,null,null,null,null,null,null,null,{"$f":"IF(D869=\"\",0,IF(D869=D868,COUNTIF(D$9:D868,D869)+1,1))","v":0},0,0]
["862","-1900","-1900-0",null,null,null,null,null,null,null,"",null,null,null,null,null,null,null,null,{"$f":"IF(G$2034=1,\"\",IF(S870=\"\",\"\",VLOOKUP(S870,Tabelle!$I$5:$M$7,5,FALSE)))","v":""},{"$f":"IF(G$2034=1,\"\",IF(S870=\"\",\"\",VLOOKUP(S870,Tabelle!$I$5:$N$7,6,FALSE)))","v":""},null,null,null,null,null,null,null,null,null,{"$f":"IF(D870=\"\",0,IF(D870=D869,COUNTIF(D$9:D869,D870)+1,1))","v":0},0,0]
["863","-1900","-1900-0",null,null,null,null,null,null,null,"",null,null,null,null,null,null,null,null,{"$f":"IF(G$2034=1,\"\",IF(S871=\"\",\"\",VLOOKUP(S871,Tabelle!$I$5:$M$7,5,FALSE)))","v":""},{"$f":"IF(G$2034=1,\"\",IF(S871=\"\",\"\",VLOOKUP(S871,Tabelle!$I$5:$N$7,6,FALSE)))","v":""},null,null,null,null,null,null,null,null,null,{"$f":"IF(D871=\"\",0,IF(D871=D870,COUNTIF(D$9:D870,D871)+1,1))","v":0},0,0]
["864","-1900","-1900-0",null,null,null,null,null,null,null,"",null,null,null,null,null,null,null,null,{"$f":"IF(G$2034=1,\"\",IF(S872=\"\",\"\",VLOOKUP(S872,Tabelle!$I$5:$M$7,5,FALSE)))","v":""},{"$f":"IF(G$2034=1,\"\",IF(S872=\"\",\"\",VLOOKUP(S872,Tabelle!$I$5:$N$7,6,FALSE)))","v":""},null,null,null,null,null,null,null,null,null,{"$f":"IF(D872=\"\",0,IF(D872=D871,COUNTIF(D$9:D871,D872)+1,1))","v":0},0,0]
["865","-1900","-1900-0",null,null,null,null,null,null,null,"",null,null,null,null,null,null,null,null,{"$f":"IF(G$2034=1,\"\",IF(S873=\"\",\"\",VLOOKUP(S873,Tabelle!$I$5:$M$7,5,FALSE)))","v":""},{"$f":"IF(G$2034=1,\"\",IF(S873=\"\",\"\",VLOOKUP(S873,Tabelle!$I$5:$N$7,6,FALSE)))","v":""},null,null,null,null,null,null,null,null,null,{"$f":"IF(D873=\"\",0,IF(D873=D872,COUNTIF(D$9:D872,D873)+1,1))","v":0},0,0]
["866","-1900","-1900-0",null,null,null,null,null,null,null,"",null,null,null,null,null,null,null,null,{"$f":"IF(G$2034=1,\"\",IF(S874=\"\",\"\",VLOOKUP(S874,Tabelle!$I$5:$M$7,5,FALSE)))","v":""},{"$f":"IF(G$2034=1,\"\",IF(S874=\"\",\"\",VLOOKUP(S874,Tabelle!$I$5:$N$7,6,FALSE)))","v":""},null,null,null,null,null,null,null,null,null,{"$f":"IF(D874=\"\",0,IF(D874=D873,COUNTIF(D$9:D873,D874)+1,1))","v":0},0,0]
["867","-1900","-1900-0",null,null,null,null,null,null,null,"",null,null,null,null,null,null,null,null,{"$f":"IF(G$2034=1,\"\",IF(S875=\"\",\"\",VLOOKUP(S875,Tabelle!$I$5:$M$7,5,FALSE)))","v":""},{"$f":"IF(G$2034=1,\"\",IF(S875=\"\",\"\",VLOOKUP(S875,Tabelle!$I$5:$N$7,6,FALSE)))","v":""},null,null,null,null,null,null,null,null,null,{"$f":"IF(D875=\"\",0,IF(D875=D874,COUNTIF(D$9:D874,D875)+1,1))","v":0},0,0]
["868","-1900","-1900-0",null,null,null,null,null,null,null,"",null,null,null,null,null,null,null,null,{"$f":"IF(G$2034=1,\"\",IF(S876=\"\",\"\",VLOOKUP(S876,Tabelle!$I$5:$M$7,5,FALSE)))","v":""},{"$f":"IF(G$2034=1,\"\",IF(S876=\"\",\"\",VLOOKUP(S876,Tabelle!$I$5:$N$7,6,FALSE)))","v":""},null,null,null,null,null,null,null,null,null,{"$f":"IF(D876=\"\",0,IF(D876=D875,COUNTIF(D$9:D875,D876)+1,1))","v":0},0,0]
["869","-1900","-1900-0",null,null,null,null,null,null,null,"",null,null,null,null,null,null,null,null,{"$f":"IF(G$2034=1,\"\",IF(S877=\"\",\"\",VLOOKUP(S877,Tabelle!$I$5:$M$7,5,FALSE)))","v":""},{"$f":"IF(G$2034=1,\"\",IF(S877=\"\",\"\",VLOOKUP(S877,Tabelle!$I$5:$N$7,6,FALSE)))","v":""},null,null,null,null,null,null,null,null,null,{"$f":"IF(D877=\"\",0,IF(D877=D876,COUNTIF(D$9:D876,D877)+1,1))","v":0},0,0]
["870","-1900","-1900-0",null,null,null,null,null,null,null,"",null,null,null,null,null,null,null,null,{"$f":"IF(G$2034=1,\"\",IF(S878=\"\",\"\",VLOOKUP(S878,Tabelle!$I$5:$M$7,5,FALSE)))","v":""},{"$f":"IF(G$2034=1,\"\",IF(S878=\"\",\"\",VLOOKUP(S878,Tabelle!$I$5:$N$7,6,FALSE)))","v":""},null,null,null,null,null,null,null,null,null,{"$f":"IF(D878=\"\",0,IF(D878=D877,COUNTIF(D$9:D877,D878)+1,1))","v":0},0,0]
["871","-1900","-1900-0",null,null,null,null,null,null,null,"",null,null,null,null,null,null,null,null,{"$f":"IF(G$2034=1,\"\",IF(S879=\"\",\"\",VLOOKUP(S879,Tabelle!$I$5:$M$7,5,FALSE)))","v":""},{"$f":"IF(G$2034=1,\"\",IF(S879=\"\",\"\",VLOOKUP(S879,Tabelle!$I$5:$N$7,6,FALSE)))","v":""},null,null,null,null,null,null,null,null,null,{"$f":"IF(D879=\"\",0,IF(D879=D878,COUNTIF(D$9:D878,D879)+1,1))","v":0},0,0]
["872","-1900","-1900-0",null,null,null,null,null,null,null,"",null,null,null,null,null,null,null,null,{"$f":"IF(G$2034=1,\"\",IF(S880=\"\",\"\",VLOOKUP(S880,Tabelle!$I$5:$M$7,5,FALSE)))","v":""},{"$f":"IF(G$2034=1,\"\",IF(S880=\"\",\"\",VLOOKUP(S880,Tabelle!$I$5:$N$7,6,FALSE)))","v":""},null,null,null,null,null,null,null,null,null,{"$f":"IF(D880=\"\",0,IF(D880=D879,COUNTIF(D$9:D879,D880)+1,1))","v":0},0,0]
["873","-1900","-1900-0",null,null,null,null,null,null,null,"",null,null,null,null,null,null,null,null,{"$f":"IF(G$2034=1,\"\",IF(S881=\"\",\"\",VLOOKUP(S881,Tabelle!$I$5:$M$7,5,FALSE)))","v":""},{"$f":"IF(G$2034=1,\"\",IF(S881=\"\",\"\",VLOOKUP(S881,Tabelle!$I$5:$N$7,6,FALSE)))","v":""},null,null,null,null,null,null,null,null,null,{"$f":"IF(D881=\"\",0,IF(D881=D880,COUNTIF(D$9:D880,D881)+1,1))","v":0},0,0]
["874","-1900","-1900-0",null,null,null,null,null,null,null,"",null,null,null,null,null,null,null,null,{"$f":"IF(G$2034=1,\"\",IF(S882=\"\",\"\",VLOOKUP(S882,Tabelle!$I$5:$M$7,5,FALSE)))","v":""},{"$f":"IF(G$2034=1,\"\",IF(S882=\"\",\"\",VLOOKUP(S882,Tabelle!$I$5:$N$7,6,FALSE)))","v":""},null,null,null,null,null,null,null,null,null,{"$f":"IF(D882=\"\",0,IF(D882=D881,COUNTIF(D$9:D881,D882)+1,1))","v":0},0,0]
["875","-1900","-1900-0",null,null,null,null,null,null,null,"",null,null,null,null,null,null,null,null,{"$f":"IF(G$2034=1,\"\",IF(S883=\"\",\"\",VLOOKUP(S883,Tabelle!$I$5:$M$7,5,FALSE)))","v":""},{"$f":"IF(G$2034=1,\"\",IF(S883=\"\",\"\",VLOOKUP(S883,Tabelle!$I$5:$N$7,6,FALSE)))","v":""},null,null,null,null,null,null,null,null,null,{"$f":"IF(D883=\"\",0,IF(D883=D882,COUNTIF(D$9:D882,D883)+1,1))","v":0},0,0]
["876","-1900","-1900-0",null,null,null,null,null,null,null,"",null,null,null,null,null,null,null,null,{"$f":"IF(G$2034=1,\"\",IF(S884=\"\",\"\",VLOOKUP(S884,Tabelle!$I$5:$M$7,5,FALSE)))","v":""},{"$f":"IF(G$2034=1,\"\",IF(S884=\"\",\"\",VLOOKUP(S884,Tabelle!$I$5:$N$7,6,FALSE)))","v":""},null,null,null,null,null,null,null,null,null,{"$f":"IF(D884=\"\",0,IF(D884=D883,COUNTIF(D$9:D883,D884)+1,1))","v":0},0,0]
["877","-1900","-1900-0",null,null,null,null,null,null,null,"",null,null,null,null,null,null,null,null,{"$f":"IF(G$2034=1,\"\",IF(S885=\"\",\"\",VLOOKUP(S885,Tabelle!$I$5:$M$7,5,FALSE)))","v":""},{"$f":"IF(G$2034=1,\"\",IF(S885=\"\",\"\",VLOOKUP(S885,Tabelle!$I$5:$N$7,6,FALSE)))","v":""},null,null,null,null,null,null,null,null,null,{"$f":"IF(D885=\"\",0,IF(D885=D884,COUNTIF(D$9:D884,D885)+1,1))","v":0},0,0]
["878","-1900","-1900-0",null,null,null,null,null,null,null,"",null,null,null,null,null,null,null,null,{"$f":"IF(G$2034=1,\"\",IF(S886=\"\",\"\",VLOOKUP(S886,Tabelle!$I$5:$M$7,5,FALSE)))","v":""},{"$f":"IF(G$2034=1,\"\",IF(S886=\"\",\"\",VLOOKUP(S886,Tabelle!$I$5:$N$7,6,FALSE)))","v":""},null,null,null,null,null,null,null,null,null,{"$f":"IF(D886=\"\",0,IF(D886=D885,COUNTIF(D$9:D885,D886)+1,1))","v":0},0,0]
["879","-1900","-1900-0",null,null,null,null,null,null,null,"",null,null,null,null,null,null,null,null,{"$f":"IF(G$2034=1,\"\",IF(S887=\"\",\"\",VLOOKUP(S887,Tabelle!$I$5:$M$7,5,FALSE)))","v":""},{"$f":"IF(G$2034=1,\"\",IF(S887=\"\",\"\",VLOOKUP(S887,Tabelle!$I$5:$N$7,6,FALSE)))","v":""},null,null,null,null,null,null,null,null,null,{"$f":"IF(D887=\"\",0,IF(D887=D886,COUNTIF(D$9:D886,D887)+1,1))","v":0},0,0]
["880","-1900","-1900-0",null,null,null,null,null,null,null,"",null,null,null,null,null,null,null,null,{"$f":"IF(G$2034=1,\"\",IF(S888=\"\",\"\",VLOOKUP(S888,Tabelle!$I$5:$M$7,5,FALSE)))","v":""},{"$f":"IF(G$2034=1,\"\",IF(S888=\"\",\"\",VLOOKUP(S888,Tabelle!$I$5:$N$7,6,FALSE)))","v":""},null,null,null,null,null,null,null,null,null,{"$f":"IF(D888=\"\",0,IF(D888=D887,COUNTIF(D$9:D887,D888)+1,1))","v":0},0,0]
["881","-1900","-1900-0",null,null,null,null,null,null,null,"",null,null,null,null,null,null,null,null,{"$f":"IF(G$2034=1,\"\",IF(S889=\"\",\"\",VLOOKUP(S889,Tabelle!$I$5:$M$7,5,FALSE)))","v":""},{"$f":"IF(G$2034=1,\"\",IF(S889=\"\",\"\",VLOOKUP(S889,Tabelle!$I$5:$N$7,6,FALSE)))","v":""},null,null,null,null,null,null,null,null,null,{"$f":"IF(D889=\"\",0,IF(D889=D888,COUNTIF(D$9:D888,D889)+1,1))","v":0},0,0]
["882","-1900","-1900-0",null,null,null,null,null,null,null,"",null,null,null,null,null,null,null,null,{"$f":"IF(G$2034=1,\"\",IF(S890=\"\",\"\",VLOOKUP(S890,Tabelle!$I$5:$M$7,5,FALSE)))","v":""},{"$f":"IF(G$2034=1,\"\",IF(S890=\"\",\"\",VLOOKUP(S890,Tabelle!$I$5:$N$7,6,FALSE)))","v":""},null,null,null,null,null,null,null,null,null,{"$f":"IF(D890=\"\",0,IF(D890=D889,COUNTIF(D$9:D889,D890)+1,1))","v":0},0,0]
["883","-1900","-1900-0",null,null,null,null,null,null,null,"",null,null,null,null,null,null,null,null,{"$f":"IF(G$2034=1,\"\",IF(S891=\"\",\"\",VLOOKUP(S891,Tabelle!$I$5:$M$7,5,FALSE)))","v":""},{"$f":"IF(G$2034=1,\"\",IF(S891=\"\",\"\",VLOOKUP(S891,Tabelle!$I$5:$N$7,6,FALSE)))","v":""},null,null,null,null,null,null,null,null,null,{"$f":"IF(D891=\"\",0,IF(D891=D890,COUNTIF(D$9:D890,D891)+1,1))","v":0},0,0]
["884","-1900","-1900-0",null,null,null,null,null,null,null,"",null,null,null,null,null,null,null,null,{"$f":"IF(G$2034=1,\"\",IF(S892=\"\",\"\",VLOOKUP(S892,Tabelle!$I$5:$M$7,5,FALSE)))","v":""},{"$f":"IF(G$2034=1,\"\",IF(S892=\"\",\"\",VLOOKUP(S892,Tabelle!$I$5:$N$7,6,FALSE)))","v":""},null,null,null,null,null,null,null,null,null,{"$f":"IF(D892=\"\",0,IF(D892=D891,COUNTIF(D$9:D891,D892)+1,1))","v":0},0,0]
["885","-1900","-1900-0",null,null,null,null,null,null,null,"",null,null,null,null,null,null,null,null,{"$f":"IF(G$2034=1,\"\",IF(S893=\"\",\"\",VLOOKUP(S893,Tabelle!$I$5:$M$7,5,FALSE)))","v":""},{"$f":"IF(G$2034=1,\"\",IF(S893=\"\",\"\",VLOOKUP(S893,Tabelle!$I$5:$N$7,6,FALSE)))","v":""},null,null,null,null,null,null,null,null,null,{"$f":"IF(D893=\"\",0,IF(D893=D892,COUNTIF(D$9:D892,D893)+1,1))","v":0},0,0]
["886","-1900","-1900-0",null,null,null,null,null,null,null,"",null,null,null,null,null,null,null,null,{"$f":"IF(G$2034=1,\"\",IF(S894=\"\",\"\",VLOOKUP(S894,Tabelle!$I$5:$M$7,5,FALSE)))","v":""},{"$f":"IF(G$2034=1,\"\",IF(S894=\"\",\"\",VLOOKUP(S894,Tabelle!$I$5:$N$7,6,FALSE)))","v":""},null,null,null,null,null,null,null,null,null,{"$f":"IF(D894=\"\",0,IF(D894=D893,COUNTIF(D$9:D893,D894)+1,1))","v":0},0,0]
["887","-1900","-1900-0",null,null,null,null,null,null,null,"",null,null,null,null,null,null,null,null,{"$f":"IF(G$2034=1,\"\",IF(S895=\"\",\"\",VLOOKUP(S895,Tabelle!$I$5:$M$7,5,FALSE)))","v":""},{"$f":"IF(G$2034=1,\"\",IF(S895=\"\",\"\",VLOOKUP(S895,Tabelle!$I$5:$N$7,6,FALSE)))","v":""},null,null,null,null,null,null,null,null,null,{"$f":"IF(D895=\"\",0,IF(D895=D894,COUNTIF(D$9:D894,D895)+1,1))","v":0},0,0]
["888","-1900","-1900-0",null,null,null,null,null,null,null,"",null,null,null,null,null,null,null,null,{"$f":"IF(G$2034=1,\"\",IF(S896=\"\",\"\",VLOOKUP(S896,Tabelle!$I$5:$M$7,5,FALSE)))","v":""},{"$f":"IF(G$2034=1,\"\",IF(S896=\"\",\"\",VLOOKUP(S896,Tabelle!$I$5:$N$7,6,FALSE)))","v":""},null,null,null,null,null,null,null,null,null,{"$f":"IF(D896=\"\",0,IF(D896=D895,COUNTIF(D$9:D895,D896)+1,1))","v":0},0,0]
["889","-1900","-1900-0",null,null,null,null,null,null,null,"",null,null,null,null,null,null,null,null,{"$f":"IF(G$2034=1,\"\",IF(S897=\"\",\"\",VLOOKUP(S897,Tabelle!$I$5:$M$7,5,FALSE)))","v":""},{"$f":"IF(G$2034=1,\"\",IF(S897=\"\",\"\",VLOOKUP(S897,Tabelle!$I$5:$N$7,6,FALSE)))","v":""},null,null,null,null,null,null,null,null,null,{"$f":"IF(D897=\"\",0,IF(D897=D896,COUNTIF(D$9:D896,D897)+1,1))","v":0},0,0]
["890","-1900","-1900-0",null,null,null,null,null,null,null,"",null,null,null,null,null,null,null,null,{"$f":"IF(G$2034=1,\"\",IF(S898=\"\",\"\",VLOOKUP(S898,Tabelle!$I$5:$M$7,5,FALSE)))","v":""},{"$f":"IF(G$2034=1,\"\",IF(S898=\"\",\"\",VLOOKUP(S898,Tabelle!$I$5:$N$7,6,FALSE)))","v":""},null,null,null,null,null,null,null,null,null,{"$f":"IF(D898=\"\",0,IF(D898=D897,COUNTIF(D$9:D897,D898)+1,1))","v":0},0,0]
["891","-1900","-1900-0",null,null,null,null,null,null,null,"",null,null,null,null,null,null,null,null,{"$f":"IF(G$2034=1,\"\",IF(S899=\"\",\"\",VLOOKUP(S899,Tabelle!$I$5:$M$7,5,FALSE)))","v":""},{"$f":"IF(G$2034=1,\"\",IF(S899=\"\",\"\",VLOOKUP(S899,Tabelle!$I$5:$N$7,6,FALSE)))","v":""},null,null,null,null,null,null,null,null,null,{"$f":"IF(D899=\"\",0,IF(D899=D898,COUNTIF(D$9:D898,D899)+1,1))","v":0},0,0]
["892","-1900","-1900-0",null,null,null,null,null,null,null,"",null,null,null,null,null,null,null,null,{"$f":"IF(G$2034=1,\"\",IF(S900=\"\",\"\",VLOOKUP(S900,Tabelle!$I$5:$M$7,5,FALSE)))","v":""},{"$f":"IF(G$2034=1,\"\",IF(S900=\"\",\"\",VLOOKUP(S900,Tabelle!$I$5:$N$7,6,FALSE)))","v":""},null,null,null,null,null,null,null,null,null,{"$f":"IF(D900=\"\",0,IF(D900=D899,COUNTIF(D$9:D899,D900)+1,1))","v":0},0,0]
["893","-1900","-1900-0",null,null,null,null,null,null,null,"",null,null,null,null,null,null,null,null,{"$f":"IF(G$2034=1,\"\",IF(S901=\"\",\"\",VLOOKUP(S901,Tabelle!$I$5:$M$7,5,FALSE)))","v":""},{"$f":"IF(G$2034=1,\"\",IF(S901=\"\",\"\",VLOOKUP(S901,Tabelle!$I$5:$N$7,6,FALSE)))","v":""},null,null,null,null,null,null,null,null,null,{"$f":"IF(D901=\"\",0,IF(D901=D900,COUNTIF(D$9:D900,D901)+1,1))","v":0},0,0]
["894","-1900","-1900-0",null,null,null,null,null,null,null,"",null,null,null,null,null,null,null,null,{"$f":"IF(G$2034=1,\"\",IF(S902=\"\",\"\",VLOOKUP(S902,Tabelle!$I$5:$M$7,5,FALSE)))","v":""},{"$f":"IF(G$2034=1,\"\",IF(S902=\"\",\"\",VLOOKUP(S902,Tabelle!$I$5:$N$7,6,FALSE)))","v":""},null,null,null,null,null,null,null,null,null,{"$f":"IF(D902=\"\",0,IF(D902=D901,COUNTIF(D$9:D901,D902)+1,1))","v":0},0,0]
["895","-1900","-1900-0",null,null,null,null,null,null,null,"",null,null,null,null,null,null,null,null,{"$f":"IF(G$2034=1,\"\",IF(S903=\"\",\"\",VLOOKUP(S903,Tabelle!$I$5:$M$7,5,FALSE)))","v":""},{"$f":"IF(G$2034=1,\"\",IF(S903=\"\",\"\",VLOOKUP(S903,Tabelle!$I$5:$N$7,6,FALSE)))","v":""},null,null,null,null,null,null,null,null,null,{"$f":"IF(D903=\"\",0,IF(D903=D902,COUNTIF(D$9:D902,D903)+1,1))","v":0},0,0]
["896","-1900","-1900-0",null,null,null,null,null,null,null,"",null,null,null,null,null,null,null,null,{"$f":"IF(G$2034=1,\"\",IF(S904=\"\",\"\",VLOOKUP(S904,Tabelle!$I$5:$M$7,5,FALSE)))","v":""},{"$f":"IF(G$2034=1,\"\",IF(S904=\"\",\"\",VLOOKUP(S904,Tabelle!$I$5:$N$7,6,FALSE)))","v":""},null,null,null,null,null,null,null,null,null,{"$f":"IF(D904=\"\",0,IF(D904=D903,COUNTIF(D$9:D903,D904)+1,1))","v":0},0,0]
["897","-1900",{"$f":"IF(G$2034=1,0,B905&\"-\"&AE905)","v":"-1900-0"},null,null,null,null,null,null,null,{"$f":"IF(G$2034=1,0,IF(OR(J905=\"\",ISERROR($O$2034)),\"\",VLOOKUP(J905,$L$2019:$N$2027,2,FALSE)))","v":""},null,null,null,null,null,null,null,null,{"$f":"IF(G$2034=1,\"\",IF(S905=\"\",\"\",VLOOKUP(S905,Tabelle!$I$5:$M$7,5,FALSE)))","v":""},{"$f":"IF(G$2034=1,\"\",IF(S905=\"\",\"\",VLOOKUP(S905,Tabelle!$I$5:$N$7,6,FALSE)))","v":""},null,null,null,null,null,null,null,null,null,{"$f":"IF(D905=\"\",0,IF(D905=D904,COUNTIF(D$9:D904,D905)+1,1))","v":0},0,0]
["898",{"$f":"IF(AG906=$AG$2013,0,IF(G$2034=1,0,D906&\"-\"&YEAR(E906)))","v":"-1900"},"-1900-0",null,null,null,null,null,null,null,"",null,null,null,null,null,null,null,null,{"$f":"IF(G$2034=1,\"\",IF(S906=\"\",\"\",VLOOKUP(S906,Tabelle!$I$5:$M$7,5,FALSE)))","v":""},{"$f":"IF(G$2034=1,\"\",IF(S906=\"\",\"\",VLOOKUP(S906,Tabelle!$I$5:$N$7,6,FALSE)))","v":""},null,null,null,null,null,null,null,null,null,{"$f":"IF(D906=\"\",0,IF(D906=D905,COUNTIF(D$9:D905,D906)+1,1))","v":0},{"$f":"IF(G$2034=1,0,IF(AE906=28,1,0))","v":0},{"$f":"IF(E906>0,IF(OR(MONTH(E906)<$G$2026,MONTH(E906)>$G$2027),AG$2013,0),0)","v":0}]
["899","-1900","-1900-0",null,null,null,null,null,null,null,"",null,null,null,null,null,null,null,null,{"$f":"IF(G$2034=1,\"\",IF(S907=\"\",\"\",VLOOKUP(S907,Tabelle!$I$5:$M$7,5,FALSE)))","v":""},{"$f":"IF(G$2034=1,\"\",IF(S907=\"\",\"\",VLOOKUP(S907,Tabelle!$I$5:$N$7,6,FALSE)))","v":""},null,null,null,null,null,null,null,null,null,{"$f":"IF(D907=\"\",0,IF(D907=D906,COUNTIF(D$9:D906,D907)+1,1))","v":0},0,0]
["900","-1900","-1900-0",null,null,null,null,null,null,null,"",null,null,null,null,null,null,null,null,{"$f":"IF(G$2034=1,\"\",IF(S908=\"\",\"\",VLOOKUP(S908,Tabelle!$I$5:$M$7,5,FALSE)))","v":""},{"$f":"IF(G$2034=1,\"\",IF(S908=\"\",\"\",VLOOKUP(S908,Tabelle!$I$5:$N$7,6,FALSE)))","v":""},null,null,null,null,null,null,null,null,null,{"$f":"IF(D908=\"\",0,IF(D908=D907,COUNTIF(D$9:D907,D908)+1,1))","v":0},0,0]
["901","-1900","-1900-0",null,null,null,null,null,null,null,"",null,null,null,null,null,null,null,null,{"$f":"IF(G$2034=1,\"\",IF(S909=\"\",\"\",VLOOKUP(S909,Tabelle!$I$5:$M$7,5,FALSE)))","v":""},{"$f":"IF(G$2034=1,\"\",IF(S909=\"\",\"\",VLOOKUP(S909,Tabelle!$I$5:$N$7,6,FALSE)))","v":""},null,null,null,null,null,null,null,null,null,{"$f":"IF(D909=\"\",0,IF(D909=D908,COUNTIF(D$9:D908,D909)+1,1))","v":0},0,0]
["902","-1900","-1900-0",null,null,null,null,null,null,null,"",null,null,null,null,null,null,null,null,{"$f":"IF(G$2034=1,\"\",IF(S910=\"\",\"\",VLOOKUP(S910,Tabelle!$I$5:$M$7,5,FALSE)))","v":""},{"$f":"IF(G$2034=1,\"\",IF(S910=\"\",\"\",VLOOKUP(S910,Tabelle!$I$5:$N$7,6,FALSE)))","v":""},null,null,null,null,null,null,null,null,null,{"$f":"IF(D910=\"\",0,IF(D910=D909,COUNTIF(D$9:D909,D910)+1,1))","v":0},0,0]
["903","-1900","-1900-0",null,null,null,null,null,null,null,"",null,null,null,null,null,null,null,null,{"$f":"IF(G$2034=1,\"\",IF(S911=\"\",\"\",VLOOKUP(S911,Tabelle!$I$5:$M$7,5,FALSE)))","v":""},{"$f":"IF(G$2034=1,\"\",IF(S911=\"\",\"\",VLOOKUP(S911,Tabelle!$I$5:$N$7,6,FALSE)))","v":""},null,null,null,null,null,null,null,null,null,{"$f":"IF(D911=\"\",0,IF(D911=D910,COUNTIF(D$9:D910,D911)+1,1))","v":0},0,0]
["904","-1900","-1900-0",null,null,null,null,null,null,null,"",null,null,null,null,null,null,null,null,{"$f":"IF(G$2034=1,\"\",IF(S912=\"\",\"\",VLOOKUP(S912,Tabelle!$I$5:$M$7,5,FALSE)))","v":""},{"$f":"IF(G$2034=1,\"\",IF(S912=\"\",\"\",VLOOKUP(S912,Tabelle!$I$5:$N$7,6,FALSE)))","v":""},null,null,null,null,null,null,null,null,null,{"$f":"IF(D912=\"\",0,IF(D912=D911,COUNTIF(D$9:D911,D912)+1,1))","v":0},0,0]
["905","-1900","-1900-0",null,null,null,null,null,null,null,"",null,null,null,null,null,null,null,null,{"$f":"IF(G$2034=1,\"\",IF(S913=\"\",\"\",VLOOKUP(S913,Tabelle!$I$5:$M$7,5,FALSE)))","v":""},{"$f":"IF(G$2034=1,\"\",IF(S913=\"\",\"\",VLOOKUP(S913,Tabelle!$I$5:$N$7,6,FALSE)))","v":""},null,null,null,null,null,null,null,null,null,{"$f":"IF(D913=\"\",0,IF(D913=D912,COUNTIF(D$9:D912,D913)+1,1))","v":0},0,0]
["906","-1900","-1900-0",null,null,null,null,null,null,null,"",null,null,null,null,null,null,null,null,{"$f":"IF(G$2034=1,\"\",IF(S914=\"\",\"\",VLOOKUP(S914,Tabelle!$I$5:$M$7,5,FALSE)))","v":""},{"$f":"IF(G$2034=1,\"\",IF(S914=\"\",\"\",VLOOKUP(S914,Tabelle!$I$5:$N$7,6,FALSE)))","v":""},null,null,null,null,null,null,null,null,null,{"$f":"IF(D914=\"\",0,IF(D914=D913,COUNTIF(D$9:D913,D914)+1,1))","v":0},0,0]
["907","-1900","-1900-0",null,null,null,null,null,null,null,"",null,null,null,null,null,null,null,null,{"$f":"IF(G$2034=1,\"\",IF(S915=\"\",\"\",VLOOKUP(S915,Tabelle!$I$5:$M$7,5,FALSE)))","v":""},{"$f":"IF(G$2034=1,\"\",IF(S915=\"\",\"\",VLOOKUP(S915,Tabelle!$I$5:$N$7,6,FALSE)))","v":""},null,null,null,null,null,null,null,null,null,{"$f":"IF(D915=\"\",0,IF(D915=D914,COUNTIF(D$9:D914,D915)+1,1))","v":0},0,0]
["908","-1900","-1900-0",null,null,null,null,null,null,null,"",null,null,null,null,null,null,null,null,{"$f":"IF(G$2034=1,\"\",IF(S916=\"\",\"\",VLOOKUP(S916,Tabelle!$I$5:$M$7,5,FALSE)))","v":""},{"$f":"IF(G$2034=1,\"\",IF(S916=\"\",\"\",VLOOKUP(S916,Tabelle!$I$5:$N$7,6,FALSE)))","v":""},null,null,null,null,null,null,null,null,null,{"$f":"IF(D916=\"\",0,IF(D916=D915,COUNTIF(D$9:D915,D916)+1,1))","v":0},0,0]
["909","-1900","-1900-0",null,null,null,null,null,null,null,"",null,null,null,null,null,null,null,null,{"$f":"IF(G$2034=1,\"\",IF(S917=\"\",\"\",VLOOKUP(S917,Tabelle!$I$5:$M$7,5,FALSE)))","v":""},{"$f":"IF(G$2034=1,\"\",IF(S917=\"\",\"\",VLOOKUP(S917,Tabelle!$I$5:$N$7,6,FALSE)))","v":""},null,null,null,null,null,null,null,null,null,{"$f":"IF(D917=\"\",0,IF(D917=D916,COUNTIF(D$9:D916,D917)+1,1))","v":0},0,0]
["910","-1900","-1900-0",null,null,null,null,null,null,null,"",null,null,null,null,null,null,null,null,{"$f":"IF(G$2034=1,\"\",IF(S918=\"\",\"\",VLOOKUP(S918,Tabelle!$I$5:$M$7,5,FALSE)))","v":""},{"$f":"IF(G$2034=1,\"\",IF(S918=\"\",\"\",VLOOKUP(S918,Tabelle!$I$5:$N$7,6,FALSE)))","v":""},null,null,null,null,null,null,null,null,null,{"$f":"IF(D918=\"\",0,IF(D918=D917,COUNTIF(D$9:D917,D918)+1,1))","v":0},0,0]
["911","-1900","-1900-0",null,null,null,null,null,null,null,"",null,null,null,null,null,null,null,null,{"$f":"IF(G$2034=1,\"\",IF(S919=\"\",\"\",VLOOKUP(S919,Tabelle!$I$5:$M$7,5,FALSE)))","v":""},{"$f":"IF(G$2034=1,\"\",IF(S919=\"\",\"\",VLOOKUP(S919,Tabelle!$I$5:$N$7,6,FALSE)))","v":""},null,null,null,null,null,null,null,null,null,{"$f":"IF(D919=\"\",0,IF(D919=D918,COUNTIF(D$9:D918,D919)+1,1))","v":0},0,0]
["912","-1900","-1900-0",null,null,null,null,null,null,null,"",null,null,null,null,null,null,null,null,{"$f":"IF(G$2034=1,\"\",IF(S920=\"\",\"\",VLOOKUP(S920,Tabelle!$I$5:$M$7,5,FALSE)))","v":""},{"$f":"IF(G$2034=1,\"\",IF(S920=\"\",\"\",VLOOKUP(S920,Tabelle!$I$5:$N$7,6,FALSE)))","v":""},null,null,null,null,null,null,null,null,null,{"$f":"IF(D920=\"\",0,IF(D920=D919,COUNTIF(D$9:D919,D920)+1,1))","v":0},0,0]
["913","-1900","-1900-0",null,null,null,null,null,null,null,"",null,null,null,null,null,null,null,null,{"$f":"IF(G$2034=1,\"\",IF(S921=\"\",\"\",VLOOKUP(S921,Tabelle!$I$5:$M$7,5,FALSE)))","v":""},{"$f":"IF(G$2034=1,\"\",IF(S921=\"\",\"\",VLOOKUP(S921,Tabelle!$I$5:$N$7,6,FALSE)))","v":""},null,null,null,null,null,null,null,null,null,{"$f":"IF(D921=\"\",0,IF(D921=D920,COUNTIF(D$9:D920,D921)+1,1))","v":0},0,0]
["914","-1900","-1900-0",null,null,null,null,null,null,null,"",null,null,null,null,null,null,null,null,{"$f":"IF(G$2034=1,\"\",IF(S922=\"\",\"\",VLOOKUP(S922,Tabelle!$I$5:$M$7,5,FALSE)))","v":""},{"$f":"IF(G$2034=1,\"\",IF(S922=\"\",\"\",VLOOKUP(S922,Tabelle!$I$5:$N$7,6,FALSE)))","v":""},null,null,null,null,null,null,null,null,null,{"$f":"IF(D922=\"\",0,IF(D922=D921,COUNTIF(D$9:D921,D922)+1,1))","v":0},0,0]
["915","-1900","-1900-0",null,null,null,null,null,null,null,"",null,null,null,null,null,null,null,null,{"$f":"IF(G$2034=1,\"\",IF(S923=\"\",\"\",VLOOKUP(S923,Tabelle!$I$5:$M$7,5,FALSE)))","v":""},{"$f":"IF(G$2034=1,\"\",IF(S923=\"\",\"\",VLOOKUP(S923,Tabelle!$I$5:$N$7,6,FALSE)))","v":""},null,null,null,null,null,null,null,null,null,{"$f":"IF(D923=\"\",0,IF(D923=D922,COUNTIF(D$9:D922,D923)+1,1))","v":0},0,0]
["916","-1900","-1900-0",null,null,null,null,null,null,null,"",null,null,null,null,null,null,null,null,{"$f":"IF(G$2034=1,\"\",IF(S924=\"\",\"\",VLOOKUP(S924,Tabelle!$I$5:$M$7,5,FALSE)))","v":""},{"$f":"IF(G$2034=1,\"\",IF(S924=\"\",\"\",VLOOKUP(S924,Tabelle!$I$5:$N$7,6,FALSE)))","v":""},null,null,null,null,null,null,null,null,null,{"$f":"IF(D924=\"\",0,IF(D924=D923,COUNTIF(D$9:D923,D924)+1,1))","v":0},0,0]
["917","-1900","-1900-0",null,null,null,null,null,null,null,"",null,null,null,null,null,null,null,null,{"$f":"IF(G$2034=1,\"\",IF(S925=\"\",\"\",VLOOKUP(S925,Tabelle!$I$5:$M$7,5,FALSE)))","v":""},{"$f":"IF(G$2034=1,\"\",IF(S925=\"\",\"\",VLOOKUP(S925,Tabelle!$I$5:$N$7,6,FALSE)))","v":""},null,null,null,null,null,null,null,null,null,{"$f":"IF(D925=\"\",0,IF(D925=D924,COUNTIF(D$9:D924,D925)+1,1))","v":0},0,0]
["918","-1900","-1900-0",null,null,null,null,null,null,null,"",null,null,null,null,null,null,null,null,{"$f":"IF(G$2034=1,\"\",IF(S926=\"\",\"\",VLOOKUP(S926,Tabelle!$I$5:$M$7,5,FALSE)))","v":""},{"$f":"IF(G$2034=1,\"\",IF(S926=\"\",\"\",VLOOKUP(S926,Tabelle!$I$5:$N$7,6,FALSE)))","v":""},null,null,null,null,null,null,null,null,null,{"$f":"IF(D926=\"\",0,IF(D926=D925,COUNTIF(D$9:D925,D926)+1,1))","v":0},0,0]
["919","-1900","-1900-0",null,null,null,null,null,null,null,"",null,null,null,null,null,null,null,null,{"$f":"IF(G$2034=1,\"\",IF(S927=\"\",\"\",VLOOKUP(S927,Tabelle!$I$5:$M$7,5,FALSE)))","v":""},{"$f":"IF(G$2034=1,\"\",IF(S927=\"\",\"\",VLOOKUP(S927,Tabelle!$I$5:$N$7,6,FALSE)))","v":""},null,null,null,null,null,null,null,null,null,{"$f":"IF(D927=\"\",0,IF(D927=D926,COUNTIF(D$9:D926,D927)+1,1))","v":0},0,0]
["920","-1900","-1900-0",null,null,null,null,null,null,null,"",null,null,null,null,null,null,null,null,{"$f":"IF(G$2034=1,\"\",IF(S928=\"\",\"\",VLOOKUP(S928,Tabelle!$I$5:$M$7,5,FALSE)))","v":""},{"$f":"IF(G$2034=1,\"\",IF(S928=\"\",\"\",VLOOKUP(S928,Tabelle!$I$5:$N$7,6,FALSE)))","v":""},null,null,null,null,null,null,null,null,null,{"$f":"IF(D928=\"\",0,IF(D928=D927,COUNTIF(D$9:D927,D928)+1,1))","v":0},0,0]
["921","-1900","-1900-0",null,null,null,null,null,null,null,"",null,null,null,null,null,null,null,null,{"$f":"IF(G$2034=1,\"\",IF(S929=\"\",\"\",VLOOKUP(S929,Tabelle!$I$5:$M$7,5,FALSE)))","v":""},{"$f":"IF(G$2034=1,\"\",IF(S929=\"\",\"\",VLOOKUP(S929,Tabelle!$I$5:$N$7,6,FALSE)))","v":""},null,null,null,null,null,null,null,null,null,{"$f":"IF(D929=\"\",0,IF(D929=D928,COUNTIF(D$9:D928,D929)+1,1))","v":0},0,0]
["922","-1900","-1900-0",null,null,null,null,null,null,null,"",null,null,null,null,null,null,null,null,{"$f":"IF(G$2034=1,\"\",IF(S930=\"\",\"\",VLOOKUP(S930,Tabelle!$I$5:$M$7,5,FALSE)))","v":""},{"$f":"IF(G$2034=1,\"\",IF(S930=\"\",\"\",VLOOKUP(S930,Tabelle!$I$5:$N$7,6,FALSE)))","v":""},null,null,null,null,null,null,null,null,null,{"$f":"IF(D930=\"\",0,IF(D930=D929,COUNTIF(D$9:D929,D930)+1,1))","v":0},0,0]
["923","-1900","-1900-0",null,null,null,null,null,null,null,"",null,null,null,null,null,null,null,null,{"$f":"IF(G$2034=1,\"\",IF(S931=\"\",\"\",VLOOKUP(S931,Tabelle!$I$5:$M$7,5,FALSE)))","v":""},{"$f":"IF(G$2034=1,\"\",IF(S931=\"\",\"\",VLOOKUP(S931,Tabelle!$I$5:$N$7,6,FALSE)))","v":""},null,null,null,null,null,null,null,null,null,{"$f":"IF(D931=\"\",0,IF(D931=D930,COUNTIF(D$9:D930,D931)+1,1))","v":0},0,0]
["924","-1900","-1900-0",null,null,null,null,null,null,null,"",null,null,null,null,null,null,null,null,{"$f":"IF(G$2034=1,\"\",IF(S932=\"\",\"\",VLOOKUP(S932,Tabelle!$I$5:$M$7,5,FALSE)))","v":""},{"$f":"IF(G$2034=1,\"\",IF(S932=\"\",\"\",VLOOKUP(S932,Tabelle!$I$5:$N$7,6,FALSE)))","v":""},null,null,null,null,null,null,null,null,null,{"$f":"IF(D932=\"\",0,IF(D932=D931,COUNTIF(D$9:D931,D932)+1,1))","v":0},0,0]
["925","-1900","-1900-0",null,null,null,null,null,null,null,"",null,null,null,null,null,null,null,null,{"$f":"IF(G$2034=1,\"\",IF(S933=\"\",\"\",VLOOKUP(S933,Tabelle!$I$5:$M$7,5,FALSE)))","v":""},{"$f":"IF(G$2034=1,\"\",IF(S933=\"\",\"\",VLOOKUP(S933,Tabelle!$I$5:$N$7,6,FALSE)))","v":""},null,null,null,null,null,null,null,null,null,{"$f":"IF(D933=\"\",0,IF(D933=D932,COUNTIF(D$9:D932,D933)+1,1))","v":0},0,0]
["926","-1900","-1900-0",null,null,null,null,null,null,null,"",null,null,null,null,null,null,null,null,{"$f":"IF(G$2034=1,\"\",IF(S934=\"\",\"\",VLOOKUP(S934,Tabelle!$I$5:$M$7,5,FALSE)))","v":""},{"$f":"IF(G$2034=1,\"\",IF(S934=\"\",\"\",VLOOKUP(S934,Tabelle!$I$5:$N$7,6,FALSE)))","v":""},null,null,null,null,null,null,null,null,null,{"$f":"IF(D934=\"\",0,IF(D934=D933,COUNTIF(D$9:D933,D934)+1,1))","v":0},0,0]
["927","-1900","-1900-0",null,null,null,null,null,null,null,"",null,null,null,null,null,null,null,null,{"$f":"IF(G$2034=1,\"\",IF(S935=\"\",\"\",VLOOKUP(S935,Tabelle!$I$5:$M$7,5,FALSE)))","v":""},{"$f":"IF(G$2034=1,\"\",IF(S935=\"\",\"\",VLOOKUP(S935,Tabelle!$I$5:$N$7,6,FALSE)))","v":""},null,null,null,null,null,null,null,null,null,{"$f":"IF(D935=\"\",0,IF(D935=D934,COUNTIF(D$9:D934,D935)+1,1))","v":0},0,0]
["928","-1900","-1900-0",null,null,null,null,null,null,null,"",null,null,null,null,null,null,null,null,{"$f":"IF(G$2034=1,\"\",IF(S936=\"\",\"\",VLOOKUP(S936,Tabelle!$I$5:$M$7,5,FALSE)))","v":""},{"$f":"IF(G$2034=1,\"\",IF(S936=\"\",\"\",VLOOKUP(S936,Tabelle!$I$5:$N$7,6,FALSE)))","v":""},null,null,null,null,null,null,null,null,null,{"$f":"IF(D936=\"\",0,IF(D936=D935,COUNTIF(D$9:D935,D936)+1,1))","v":0},0,0]
["929","-1900","-1900-0",null,null,null,null,null,null,null,"",null,null,null,null,null,null,null,null,{"$f":"IF(G$2034=1,\"\",IF(S937=\"\",\"\",VLOOKUP(S937,Tabelle!$I$5:$M$7,5,FALSE)))","v":""},{"$f":"IF(G$2034=1,\"\",IF(S937=\"\",\"\",VLOOKUP(S937,Tabelle!$I$5:$N$7,6,FALSE)))","v":""},null,null,null,null,null,null,null,null,null,{"$f":"IF(D937=\"\",0,IF(D937=D936,COUNTIF(D$9:D936,D937)+1,1))","v":0},0,0]
["930","-1900","-1900-0",null,null,null,null,null,null,null,"",null,null,null,null,null,null,null,null,{"$f":"IF(G$2034=1,\"\",IF(S938=\"\",\"\",VLOOKUP(S938,Tabelle!$I$5:$M$7,5,FALSE)))","v":""},{"$f":"IF(G$2034=1,\"\",IF(S938=\"\",\"\",VLOOKUP(S938,Tabelle!$I$5:$N$7,6,FALSE)))","v":""},null,null,null,null,null,null,null,null,null,{"$f":"IF(D938=\"\",0,IF(D938=D937,COUNTIF(D$9:D937,D938)+1,1))","v":0},0,0]
["931","-1900","-1900-0",null,null,null,null,null,null,null,"",null,null,null,null,null,null,null,null,{"$f":"IF(G$2034=1,\"\",IF(S939=\"\",\"\",VLOOKUP(S939,Tabelle!$I$5:$M$7,5,FALSE)))","v":""},{"$f":"IF(G$2034=1,\"\",IF(S939=\"\",\"\",VLOOKUP(S939,Tabelle!$I$5:$N$7,6,FALSE)))","v":""},null,null,null,null,null,null,null,null,null,{"$f":"IF(D939=\"\",0,IF(D939=D938,COUNTIF(D$9:D938,D939)+1,1))","v":0},0,0]
["932","-1900","-1900-0",null,null,null,null,null,null,null,"",null,null,null,null,null,null,null,null,{"$f":"IF(G$2034=1,\"\",IF(S940=\"\",\"\",VLOOKUP(S940,Tabelle!$I$5:$M$7,5,FALSE)))","v":""},{"$f":"IF(G$2034=1,\"\",IF(S940=\"\",\"\",VLOOKUP(S940,Tabelle!$I$5:$N$7,6,FALSE)))","v":""},null,null,null,null,null,null,null,null,null,{"$f":"IF(D940=\"\",0,IF(D940=D939,COUNTIF(D$9:D939,D940)+1,1))","v":0},0,0]
["933","-1900","-1900-0",null,null,null,null,null,null,null,"",null,null,null,null,null,null,null,null,{"$f":"IF(G$2034=1,\"\",IF(S941=\"\",\"\",VLOOKUP(S941,Tabelle!$I$5:$M$7,5,FALSE)))","v":""},{"$f":"IF(G$2034=1,\"\",IF(S941=\"\",\"\",VLOOKUP(S941,Tabelle!$I$5:$N$7,6,FALSE)))","v":""},null,null,null,null,null,null,null,null,null,{"$f":"IF(D941=\"\",0,IF(D941=D940,COUNTIF(D$9:D940,D941)+1,1))","v":0},0,0]
["934","-1900","-1900-0",null,null,null,null,null,null,null,"",null,null,null,null,null,null,null,null,{"$f":"IF(G$2034=1,\"\",IF(S942=\"\",\"\",VLOOKUP(S942,Tabelle!$I$5:$M$7,5,FALSE)))","v":""},{"$f":"IF(G$2034=1,\"\",IF(S942=\"\",\"\",VLOOKUP(S942,Tabelle!$I$5:$N$7,6,FALSE)))","v":""},null,null,null,null,null,null,null,null,null,{"$f":"IF(D942=\"\",0,IF(D942=D941,COUNTIF(D$9:D941,D942)+1,1))","v":0},0,0]
["935","-1900","-1900-0",null,null,null,null,null,null,null,"",null,null,null,null,null,null,null,null,{"$f":"IF(G$2034=1,\"\",IF(S943=\"\",\"\",VLOOKUP(S943,Tabelle!$I$5:$M$7,5,FALSE)))","v":""},{"$f":"IF(G$2034=1,\"\",IF(S943=\"\",\"\",VLOOKUP(S943,Tabelle!$I$5:$N$7,6,FALSE)))","v":""},null,null,null,null,null,null,null,null,null,{"$f":"IF(D943=\"\",0,IF(D943=D942,COUNTIF(D$9:D942,D943)+1,1))","v":0},0,0]
["936","-1900","-1900-0",null,null,null,null,null,null,null,"",null,null,null,null,null,null,null,null,{"$f":"IF(G$2034=1,\"\",IF(S944=\"\",\"\",VLOOKUP(S944,Tabelle!$I$5:$M$7,5,FALSE)))","v":""},{"$f":"IF(G$2034=1,\"\",IF(S944=\"\",\"\",VLOOKUP(S944,Tabelle!$I$5:$N$7,6,FALSE)))","v":""},null,null,null,null,null,null,null,null,null,{"$f":"IF(D944=\"\",0,IF(D944=D943,COUNTIF(D$9:D943,D944)+1,1))","v":0},0,0]
["937","-1900","-1900-0",null,null,null,null,null,null,null,"",null,null,null,null,null,null,null,null,{"$f":"IF(G$2034=1,\"\",IF(S945=\"\",\"\",VLOOKUP(S945,Tabelle!$I$5:$M$7,5,FALSE)))","v":""},{"$f":"IF(G$2034=1,\"\",IF(S945=\"\",\"\",VLOOKUP(S945,Tabelle!$I$5:$N$7,6,FALSE)))","v":""},null,null,null,null,null,null,null,null,null,{"$f":"IF(D945=\"\",0,IF(D945=D944,COUNTIF(D$9:D944,D945)+1,1))","v":0},0,0]
["938","-1900","-1900-0",null,null,null,null,null,null,null,"",null,null,null,null,null,null,null,null,{"$f":"IF(G$2034=1,\"\",IF(S946=\"\",\"\",VLOOKUP(S946,Tabelle!$I$5:$M$7,5,FALSE)))","v":""},{"$f":"IF(G$2034=1,\"\",IF(S946=\"\",\"\",VLOOKUP(S946,Tabelle!$I$5:$N$7,6,FALSE)))","v":""},null,null,null,null,null,null,null,null,null,{"$f":"IF(D946=\"\",0,IF(D946=D945,COUNTIF(D$9:D945,D946)+1,1))","v":0},0,0]
["939","-1900","-1900-0",null,null,null,null,null,null,null,"",null,null,null,null,null,null,null,null,{"$f":"IF(G$2034=1,\"\",IF(S947=\"\",\"\",VLOOKUP(S947,Tabelle!$I$5:$M$7,5,FALSE)))","v":""},{"$f":"IF(G$2034=1,\"\",IF(S947=\"\",\"\",VLOOKUP(S947,Tabelle!$I$5:$N$7,6,FALSE)))","v":""},null,null,null,null,null,null,null,null,null,{"$f":"IF(D947=\"\",0,IF(D947=D946,COUNTIF(D$9:D946,D947)+1,1))","v":0},0,0]
["940","-1900","-1900-0",null,null,null,null,null,null,null,"",null,null,null,null,null,null,null,null,{"$f":"IF(G$2034=1,\"\",IF(S948=\"\",\"\",VLOOKUP(S948,Tabelle!$I$5:$M$7,5,FALSE)))","v":""},{"$f":"IF(G$2034=1,\"\",IF(S948=\"\",\"\",VLOOKUP(S948,Tabelle!$I$5:$N$7,6,FALSE)))","v":""},null,null,null,null,null,null,null,null,null,{"$f":"IF(D948=\"\",0,IF(D948=D947,COUNTIF(D$9:D947,D948)+1,1))","v":0},0,0]
["941","-1900","-1900-0",null,null,null,null,null,null,null,"",null,null,null,null,null,null,null,null,{"$f":"IF(G$2034=1,\"\",IF(S949=\"\",\"\",VLOOKUP(S949,Tabelle!$I$5:$M$7,5,FALSE)))","v":""},{"$f":"IF(G$2034=1,\"\",IF(S949=\"\",\"\",VLOOKUP(S949,Tabelle!$I$5:$N$7,6,FALSE)))","v":""},null,null,null,null,null,null,null,null,null,{"$f":"IF(D949=\"\",0,IF(D949=D948,COUNTIF(D$9:D948,D949)+1,1))","v":0},0,0]
["942","-1900","-1900-0",null,null,null,null,null,null,null,"",null,null,null,null,null,null,null,null,{"$f":"IF(G$2034=1,\"\",IF(S950=\"\",\"\",VLOOKUP(S950,Tabelle!$I$5:$M$7,5,FALSE)))","v":""},{"$f":"IF(G$2034=1,\"\",IF(S950=\"\",\"\",VLOOKUP(S950,Tabelle!$I$5:$N$7,6,FALSE)))","v":""},null,null,null,null,null,null,null,null,null,{"$f":"IF(D950=\"\",0,IF(D950=D949,COUNTIF(D$9:D949,D950)+1,1))","v":0},0,0]
["943","-1900","-1900-0",null,null,null,null,null,null,null,"",null,null,null,null,null,null,null,null,{"$f":"IF(G$2034=1,\"\",IF(S951=\"\",\"\",VLOOKUP(S951,Tabelle!$I$5:$M$7,5,FALSE)))","v":""},{"$f":"IF(G$2034=1,\"\",IF(S951=\"\",\"\",VLOOKUP(S951,Tabelle!$I$5:$N$7,6,FALSE)))","v":""},null,null,null,null,null,null,null,null,null,{"$f":"IF(D951=\"\",0,IF(D951=D950,COUNTIF(D$9:D950,D951)+1,1))","v":0},0,0]
["944","-1900","-1900-0",null,null,null,null,null,null,null,"",null,null,null,null,null,null,null,null,{"$f":"IF(G$2034=1,\"\",IF(S952=\"\",\"\",VLOOKUP(S952,Tabelle!$I$5:$M$7,5,FALSE)))","v":""},{"$f":"IF(G$2034=1,\"\",IF(S952=\"\",\"\",VLOOKUP(S952,Tabelle!$I$5:$N$7,6,FALSE)))","v":""},null,null,null,null,null,null,null,null,null,{"$f":"IF(D952=\"\",0,IF(D952=D951,COUNTIF(D$9:D951,D952)+1,1))","v":0},0,0]
["945","-1900","-1900-0",null,null,null,null,null,null,null,"",null,null,null,null,null,null,null,null,{"$f":"IF(G$2034=1,\"\",IF(S953=\"\",\"\",VLOOKUP(S953,Tabelle!$I$5:$M$7,5,FALSE)))","v":""},{"$f":"IF(G$2034=1,\"\",IF(S953=\"\",\"\",VLOOKUP(S953,Tabelle!$I$5:$N$7,6,FALSE)))","v":""},null,null,null,null,null,null,null,null,null,{"$f":"IF(D953=\"\",0,IF(D953=D952,COUNTIF(D$9:D952,D953)+1,1))","v":0},0,0]
["946","-1900","-1900-0",null,null,null,null,null,null,null,"",null,null,null,null,null,null,null,null,{"$f":"IF(G$2034=1,\"\",IF(S954=\"\",\"\",VLOOKUP(S954,Tabelle!$I$5:$M$7,5,FALSE)))","v":""},{"$f":"IF(G$2034=1,\"\",IF(S954=\"\",\"\",VLOOKUP(S954,Tabelle!$I$5:$N$7,6,FALSE)))","v":""},null,null,null,null,null,null,null,null,null,{"$f":"IF(D954=\"\",0,IF(D954=D953,COUNTIF(D$9:D953,D954)+1,1))","v":0},0,0]
["947","-1900","-1900-0",null,null,null,null,null,null,null,"",null,null,null,null,null,null,null,null,{"$f":"IF(G$2034=1,\"\",IF(S955=\"\",\"\",VLOOKUP(S955,Tabelle!$I$5:$M$7,5,FALSE)))","v":""},{"$f":"IF(G$2034=1,\"\",IF(S955=\"\",\"\",VLOOKUP(S955,Tabelle!$I$5:$N$7,6,FALSE)))","v":""},null,null,null,null,null,null,null,null,null,{"$f":"IF(D955=\"\",0,IF(D955=D954,COUNTIF(D$9:D954,D955)+1,1))","v":0},0,0]
["948","-1900","-1900-0",null,null,null,null,null,null,null,"",null,null,null,null,null,null,null,null,{"$f":"IF(G$2034=1,\"\",IF(S956=\"\",\"\",VLOOKUP(S956,Tabelle!$I$5:$M$7,5,FALSE)))","v":""},{"$f":"IF(G$2034=1,\"\",IF(S956=\"\",\"\",VLOOKUP(S956,Tabelle!$I$5:$N$7,6,FALSE)))","v":""},null,null,null,null,null,null,null,null,null,{"$f":"IF(D956=\"\",0,IF(D956=D955,COUNTIF(D$9:D955,D956)+1,1))","v":0},0,0]
["949","-1900","-1900-0",null,null,null,null,null,null,null,"",null,null,null,null,null,null,null,null,{"$f":"IF(G$2034=1,\"\",IF(S957=\"\",\"\",VLOOKUP(S957,Tabelle!$I$5:$M$7,5,FALSE)))","v":""},{"$f":"IF(G$2034=1,\"\",IF(S957=\"\",\"\",VLOOKUP(S957,Tabelle!$I$5:$N$7,6,FALSE)))","v":""},null,null,null,null,null,null,null,null,null,{"$f":"IF(D957=\"\",0,IF(D957=D956,COUNTIF(D$9:D956,D957)+1,1))","v":0},0,0]
["950","-1900","-1900-0",null,null,null,null,null,null,null,"",null,null,null,null,null,null,null,null,{"$f":"IF(G$2034=1,\"\",IF(S958=\"\",\"\",VLOOKUP(S958,Tabelle!$I$5:$M$7,5,FALSE)))","v":""},{"$f":"IF(G$2034=1,\"\",IF(S958=\"\",\"\",VLOOKUP(S958,Tabelle!$I$5:$N$7,6,FALSE)))","v":""},null,null,null,null,null,null,null,null,null,{"$f":"IF(D958=\"\",0,IF(D958=D957,COUNTIF(D$9:D957,D958)+1,1))","v":0},0,0]
["951","-1900","-1900-0",null,null,null,null,null,null,null,"",null,null,null,null,null,null,null,null,{"$f":"IF(G$2034=1,\"\",IF(S959=\"\",\"\",VLOOKUP(S959,Tabelle!$I$5:$M$7,5,FALSE)))","v":""},{"$f":"IF(G$2034=1,\"\",IF(S959=\"\",\"\",VLOOKUP(S959,Tabelle!$I$5:$N$7,6,FALSE)))","v":""},null,null,null,null,null,null,null,null,null,{"$f":"IF(D959=\"\",0,IF(D959=D958,COUNTIF(D$9:D958,D959)+1,1))","v":0},0,0]
["952","-1900","-1900-0",null,null,null,null,null,null,null,"",null,null,null,null,null,null,null,null,{"$f":"IF(G$2034=1,\"\",IF(S960=\"\",\"\",VLOOKUP(S960,Tabelle!$I$5:$M$7,5,FALSE)))","v":""},{"$f":"IF(G$2034=1,\"\",IF(S960=\"\",\"\",VLOOKUP(S960,Tabelle!$I$5:$N$7,6,FALSE)))","v":""},null,null,null,null,null,null,null,null,null,{"$f":"IF(D960=\"\",0,IF(D960=D959,COUNTIF(D$9:D959,D960)+1,1))","v":0},0,0]
["953","-1900","-1900-0",null,null,null,null,null,null,null,"",null,null,null,null,null,null,null,null,{"$f":"IF(G$2034=1,\"\",IF(S961=\"\",\"\",VLOOKUP(S961,Tabelle!$I$5:$M$7,5,FALSE)))","v":""},{"$f":"IF(G$2034=1,\"\",IF(S961=\"\",\"\",VLOOKUP(S961,Tabelle!$I$5:$N$7,6,FALSE)))","v":""},null,null,null,null,null,null,null,null,null,{"$f":"IF(D961=\"\",0,IF(D961=D960,COUNTIF(D$9:D960,D961)+1,1))","v":0},0,0]
["954","-1900","-1900-0",null,null,null,null,null,null,null,"",null,null,null,null,null,null,null,null,{"$f":"IF(G$2034=1,\"\",IF(S962=\"\",\"\",VLOOKUP(S962,Tabelle!$I$5:$M$7,5,FALSE)))","v":""},{"$f":"IF(G$2034=1,\"\",IF(S962=\"\",\"\",VLOOKUP(S962,Tabelle!$I$5:$N$7,6,FALSE)))","v":""},null,null,null,null,null,null,null,null,null,{"$f":"IF(D962=\"\",0,IF(D962=D961,COUNTIF(D$9:D961,D962)+1,1))","v":0},0,0]
["955","-1900","-1900-0",null,null,null,null,null,null,null,"",null,null,null,null,null,null,null,null,{"$f":"IF(G$2034=1,\"\",IF(S963=\"\",\"\",VLOOKUP(S963,Tabelle!$I$5:$M$7,5,FALSE)))","v":""},{"$f":"IF(G$2034=1,\"\",IF(S963=\"\",\"\",VLOOKUP(S963,Tabelle!$I$5:$N$7,6,FALSE)))","v":""},null,null,null,null,null,null,null,null,null,{"$f":"IF(D963=\"\",0,IF(D963=D962,COUNTIF(D$9:D962,D963)+1,1))","v":0},0,0]
["956","-1900","-1900-0",null,null,null,null,null,null,null,"",null,null,null,null,null,null,null,null,{"$f":"IF(G$2034=1,\"\",IF(S964=\"\",\"\",VLOOKUP(S964,Tabelle!$I$5:$M$7,5,FALSE)))","v":""},{"$f":"IF(G$2034=1,\"\",IF(S964=\"\",\"\",VLOOKUP(S964,Tabelle!$I$5:$N$7,6,FALSE)))","v":""},null,null,null,null,null,null,null,null,null,{"$f":"IF(D964=\"\",0,IF(D964=D963,COUNTIF(D$9:D963,D964)+1,1))","v":0},0,0]
["957","-1900","-1900-0",null,null,null,null,null,null,null,"",null,null,null,null,null,null,null,null,{"$f":"IF(G$2034=1,\"\",IF(S965=\"\",\"\",VLOOKUP(S965,Tabelle!$I$5:$M$7,5,FALSE)))","v":""},{"$f":"IF(G$2034=1,\"\",IF(S965=\"\",\"\",VLOOKUP(S965,Tabelle!$I$5:$N$7,6,FALSE)))","v":""},null,null,null,null,null,null,null,null,null,{"$f":"IF(D965=\"\",0,IF(D965=D964,COUNTIF(D$9:D964,D965)+1,1))","v":0},0,0]
["958","-1900","-1900-0",null,null,null,null,null,null,null,"",null,null,null,null,null,null,null,null,{"$f":"IF(G$2034=1,\"\",IF(S966=\"\",\"\",VLOOKUP(S966,Tabelle!$I$5:$M$7,5,FALSE)))","v":""},{"$f":"IF(G$2034=1,\"\",IF(S966=\"\",\"\",VLOOKUP(S966,Tabelle!$I$5:$N$7,6,FALSE)))","v":""},null,null,null,null,null,null,null,null,null,{"$f":"IF(D966=\"\",0,IF(D966=D965,COUNTIF(D$9:D965,D966)+1,1))","v":0},0,0]
["959","-1900","-1900-0",null,null,null,null,null,null,null,"",null,null,null,null,null,null,null,null,{"$f":"IF(G$2034=1,\"\",IF(S967=\"\",\"\",VLOOKUP(S967,Tabelle!$I$5:$M$7,5,FALSE)))","v":""},{"$f":"IF(G$2034=1,\"\",IF(S967=\"\",\"\",VLOOKUP(S967,Tabelle!$I$5:$N$7,6,FALSE)))","v":""},null,null,null,null,null,null,null,null,null,{"$f":"IF(D967=\"\",0,IF(D967=D966,COUNTIF(D$9:D966,D967)+1,1))","v":0},0,0]
["960","-1900","-1900-0",null,null,null,null,null,null,null,"",null,null,null,null,null,null,null,null,{"$f":"IF(G$2034=1,\"\",IF(S968=\"\",\"\",VLOOKUP(S968,Tabelle!$I$5:$M$7,5,FALSE)))","v":""},{"$f":"IF(G$2034=1,\"\",IF(S968=\"\",\"\",VLOOKUP(S968,Tabelle!$I$5:$N$7,6,FALSE)))","v":""},null,null,null,null,null,null,null,null,null,{"$f":"IF(D968=\"\",0,IF(D968=D967,COUNTIF(D$9:D967,D968)+1,1))","v":0},0,0]
["961","-1900",{"$f":"IF(G$2034=1,0,B969&\"-\"&AE969)","v":"-1900-0"},null,null,null,null,null,null,null,{"$f":"IF(G$2034=1,0,IF(OR(J969=\"\",ISERROR($O$2034)),\"\",VLOOKUP(J969,$L$2019:$N$2027,2,FALSE)))","v":""},null,null,null,null,null,null,null,null,{"$f":"IF(G$2034=1,\"\",IF(S969=\"\",\"\",VLOOKUP(S969,Tabelle!$I$5:$M$7,5,FALSE)))","v":""},{"$f":"IF(G$2034=1,\"\",IF(S969=\"\",\"\",VLOOKUP(S969,Tabelle!$I$5:$N$7,6,FALSE)))","v":""},null,null,null,null,null,null,null,null,null,{"$f":"IF(D969=\"\",0,IF(D969=D968,COUNTIF(D$9:D968,D969)+1,1))","v":0},0,0]
["962",{"$f":"IF(AG970=$AG$2013,0,IF(G$2034=1,0,D970&\"-\"&YEAR(E970)))","v":"-1900"},"-1900-0",null,null,null,null,null,null,null,"",null,null,null,null,null,null,null,null,{"$f":"IF(G$2034=1,\"\",IF(S970=\"\",\"\",VLOOKUP(S970,Tabelle!$I$5:$M$7,5,FALSE)))","v":""},{"$f":"IF(G$2034=1,\"\",IF(S970=\"\",\"\",VLOOKUP(S970,Tabelle!$I$5:$N$7,6,FALSE)))","v":""},null,null,null,null,null,null,null,null,null,{"$f":"IF(D970=\"\",0,IF(D970=D969,COUNTIF(D$9:D969,D970)+1,1))","v":0},{"$f":"IF(G$2034=1,0,IF(AE970=28,1,0))","v":0},{"$f":"IF(E970>0,IF(OR(MONTH(E970)<$G$2026,MONTH(E970)>$G$2027),AG$2013,0),0)","v":0}]
["963","-1900","-1900-0",null,null,null,null,null,null,null,"",null,null,null,null,null,null,null,null,{"$f":"IF(G$2034=1,\"\",IF(S971=\"\",\"\",VLOOKUP(S971,Tabelle!$I$5:$M$7,5,FALSE)))","v":""},{"$f":"IF(G$2034=1,\"\",IF(S971=\"\",\"\",VLOOKUP(S971,Tabelle!$I$5:$N$7,6,FALSE)))","v":""},null,null,null,null,null,null,null,null,null,{"$f":"IF(D971=\"\",0,IF(D971=D970,COUNTIF(D$9:D970,D971)+1,1))","v":0},0,0]
["964","-1900","-1900-0",null,null,null,null,null,null,null,"",null,null,null,null,null,null,null,null,{"$f":"IF(G$2034=1,\"\",IF(S972=\"\",\"\",VLOOKUP(S972,Tabelle!$I$5:$M$7,5,FALSE)))","v":""},{"$f":"IF(G$2034=1,\"\",IF(S972=\"\",\"\",VLOOKUP(S972,Tabelle!$I$5:$N$7,6,FALSE)))","v":""},null,null,null,null,null,null,null,null,null,{"$f":"IF(D972=\"\",0,IF(D972=D971,COUNTIF(D$9:D971,D972)+1,1))","v":0},0,0]
["965","-1900","-1900-0",null,null,null,null,null,null,null,"",null,null,null,null,null,null,null,null,{"$f":"IF(G$2034=1,\"\",IF(S973=\"\",\"\",VLOOKUP(S973,Tabelle!$I$5:$M$7,5,FALSE)))","v":""},{"$f":"IF(G$2034=1,\"\",IF(S973=\"\",\"\",VLOOKUP(S973,Tabelle!$I$5:$N$7,6,FALSE)))","v":""},null,null,null,null,null,null,null,null,null,{"$f":"IF(D973=\"\",0,IF(D973=D972,COUNTIF(D$9:D972,D973)+1,1))","v":0},0,0]
["966","-1900","-1900-0",null,null,null,null,null,null,null,"",null,null,null,null,null,null,null,null,{"$f":"IF(G$2034=1,\"\",IF(S974=\"\",\"\",VLOOKUP(S974,Tabelle!$I$5:$M$7,5,FALSE)))","v":""},{"$f":"IF(G$2034=1,\"\",IF(S974=\"\",\"\",VLOOKUP(S974,Tabelle!$I$5:$N$7,6,FALSE)))","v":""},null,null,null,null,null,null,null,null,null,{"$f":"IF(D974=\"\",0,IF(D974=D973,COUNTIF(D$9:D973,D974)+1,1))","v":0},0,0]
["967","-1900","-1900-0",null,null,null,null,null,null,null,"",null,null,null,null,null,null,null,null,{"$f":"IF(G$2034=1,\"\",IF(S975=\"\",\"\",VLOOKUP(S975,Tabelle!$I$5:$M$7,5,FALSE)))","v":""},{"$f":"IF(G$2034=1,\"\",IF(S975=\"\",\"\",VLOOKUP(S975,Tabelle!$I$5:$N$7,6,FALSE)))","v":""},null,null,null,null,null,null,null,null,null,{"$f":"IF(D975=\"\",0,IF(D975=D974,COUNTIF(D$9:D974,D975)+1,1))","v":0},0,0]
["968","-1900","-1900-0",null,null,null,null,null,null,null,"",null,null,null,null,null,null,null,null,{"$f":"IF(G$2034=1,\"\",IF(S976=\"\",\"\",VLOOKUP(S976,Tabelle!$I$5:$M$7,5,FALSE)))","v":""},{"$f":"IF(G$2034=1,\"\",IF(S976=\"\",\"\",VLOOKUP(S976,Tabelle!$I$5:$N$7,6,FALSE)))","v":""},null,null,null,null,null,null,null,null,null,{"$f":"IF(D976=\"\",0,IF(D976=D975,COUNTIF(D$9:D975,D976)+1,1))","v":0},0,0]
["969","-1900","-1900-0",null,null,null,null,null,null,null,"",null,null,null,null,null,null,null,null,{"$f":"IF(G$2034=1,\"\",IF(S977=\"\",\"\",VLOOKUP(S977,Tabelle!$I$5:$M$7,5,FALSE)))","v":""},{"$f":"IF(G$2034=1,\"\",IF(S977=\"\",\"\",VLOOKUP(S977,Tabelle!$I$5:$N$7,6,FALSE)))","v":""},null,null,null,null,null,null,null,null,null,{"$f":"IF(D977=\"\",0,IF(D977=D976,COUNTIF(D$9:D976,D977)+1,1))","v":0},0,0]
["970","-1900","-1900-0",null,null,null,null,null,null,null,"",null,null,null,null,null,null,null,null,{"$f":"IF(G$2034=1,\"\",IF(S978=\"\",\"\",VLOOKUP(S978,Tabelle!$I$5:$M$7,5,FALSE)))","v":""},{"$f":"IF(G$2034=1,\"\",IF(S978=\"\",\"\",VLOOKUP(S978,Tabelle!$I$5:$N$7,6,FALSE)))","v":""},null,null,null,null,null,null,null,null,null,{"$f":"IF(D978=\"\",0,IF(D978=D977,COUNTIF(D$9:D977,D978)+1,1))","v":0},0,0]
["971","-1900","-1900-0",null,null,null,null,null,null,null,"",null,null,null,null,null,null,null,null,{"$f":"IF(G$2034=1,\"\",IF(S979=\"\",\"\",VLOOKUP(S979,Tabelle!$I$5:$M$7,5,FALSE)))","v":""},{"$f":"IF(G$2034=1,\"\",IF(S979=\"\",\"\",VLOOKUP(S979,Tabelle!$I$5:$N$7,6,FALSE)))","v":""},null,null,null,null,null,null,null,null,null,{"$f":"IF(D979=\"\",0,IF(D979=D978,COUNTIF(D$9:D978,D979)+1,1))","v":0},0,0]
["972","-1900","-1900-0",null,null,null,null,null,null,null,"",null,null,null,null,null,null,null,null,{"$f":"IF(G$2034=1,\"\",IF(S980=\"\",\"\",VLOOKUP(S980,Tabelle!$I$5:$M$7,5,FALSE)))","v":""},{"$f":"IF(G$2034=1,\"\",IF(S980=\"\",\"\",VLOOKUP(S980,Tabelle!$I$5:$N$7,6,FALSE)))","v":""},null,null,null,null,null,null,null,null,null,{"$f":"IF(D980=\"\",0,IF(D980=D979,COUNTIF(D$9:D979,D980)+1,1))","v":0},0,0]
["973","-1900","-1900-0",null,null,null,null,null,null,null,"",null,null,null,null,null,null,null,null,{"$f":"IF(G$2034=1,\"\",IF(S981=\"\",\"\",VLOOKUP(S981,Tabelle!$I$5:$M$7,5,FALSE)))","v":""},{"$f":"IF(G$2034=1,\"\",IF(S981=\"\",\"\",VLOOKUP(S981,Tabelle!$I$5:$N$7,6,FALSE)))","v":""},null,null,null,null,null,null,null,null,null,{"$f":"IF(D981=\"\",0,IF(D981=D980,COUNTIF(D$9:D980,D981)+1,1))","v":0},0,0]
["974","-1900","-1900-0",null,null,null,null,null,null,null,"",null,null,null,null,null,null,null,null,{"$f":"IF(G$2034=1,\"\",IF(S982=\"\",\"\",VLOOKUP(S982,Tabelle!$I$5:$M$7,5,FALSE)))","v":""},{"$f":"IF(G$2034=1,\"\",IF(S982=\"\",\"\",VLOOKUP(S982,Tabelle!$I$5:$N$7,6,FALSE)))","v":""},null,null,null,null,null,null,null,null,null,{"$f":"IF(D982=\"\",0,IF(D982=D981,COUNTIF(D$9:D981,D982)+1,1))","v":0},0,0]
["975","-1900","-1900-0",null,null,null,null,null,null,null,"",null,null,null,null,null,null,null,null,{"$f":"IF(G$2034=1,\"\",IF(S983=\"\",\"\",VLOOKUP(S983,Tabelle!$I$5:$M$7,5,FALSE)))","v":""},{"$f":"IF(G$2034=1,\"\",IF(S983=\"\",\"\",VLOOKUP(S983,Tabelle!$I$5:$N$7,6,FALSE)))","v":""},null,null,null,null,null,null,null,null,null,{"$f":"IF(D983=\"\",0,IF(D983=D982,COUNTIF(D$9:D982,D983)+1,1))","v":0},0,0]
["976","-1900","-1900-0",null,null,null,null,null,null,null,"",null,null,null,null,null,null,null,null,{"$f":"IF(G$2034=1,\"\",IF(S984=\"\",\"\",VLOOKUP(S984,Tabelle!$I$5:$M$7,5,FALSE)))","v":""},{"$f":"IF(G$2034=1,\"\",IF(S984=\"\",\"\",VLOOKUP(S984,Tabelle!$I$5:$N$7,6,FALSE)))","v":""},null,null,null,null,null,null,null,null,null,{"$f":"IF(D984=\"\",0,IF(D984=D983,COUNTIF(D$9:D983,D984)+1,1))","v":0},0,0]
["977","-1900","-1900-0",null,null,null,null,null,null,null,"",null,null,null,null,null,null,null,null,{"$f":"IF(G$2034=1,\"\",IF(S985=\"\",\"\",VLOOKUP(S985,Tabelle!$I$5:$M$7,5,FALSE)))","v":""},{"$f":"IF(G$2034=1,\"\",IF(S985=\"\",\"\",VLOOKUP(S985,Tabelle!$I$5:$N$7,6,FALSE)))","v":""},null,null,null,null,null,null,null,null,null,{"$f":"IF(D985=\"\",0,IF(D985=D984,COUNTIF(D$9:D984,D985)+1,1))","v":0},0,0]
["978","-1900","-1900-0",null,null,null,null,null,null,null,"",null,null,null,null,null,null,null,null,{"$f":"IF(G$2034=1,\"\",IF(S986=\"\",\"\",VLOOKUP(S986,Tabelle!$I$5:$M$7,5,FALSE)))","v":""},{"$f":"IF(G$2034=1,\"\",IF(S986=\"\",\"\",VLOOKUP(S986,Tabelle!$I$5:$N$7,6,FALSE)))","v":""},null,null,null,null,null,null,null,null,null,{"$f":"IF(D986=\"\",0,IF(D986=D985,COUNTIF(D$9:D985,D986)+1,1))","v":0},0,0]
["979","-1900","-1900-0",null,null,null,null,null,null,null,"",null,null,null,null,null,null,null,null,{"$f":"IF(G$2034=1,\"\",IF(S987=\"\",\"\",VLOOKUP(S987,Tabelle!$I$5:$M$7,5,FALSE)))","v":""},{"$f":"IF(G$2034=1,\"\",IF(S987=\"\",\"\",VLOOKUP(S987,Tabelle!$I$5:$N$7,6,FALSE)))","v":""},null,null,null,null,null,null,null,null,null,{"$f":"IF(D987=\"\",0,IF(D987=D986,COUNTIF(D$9:D986,D987)+1,1))","v":0},0,0]
["980","-1900","-1900-0",null,null,null,null,null,null,null,"",null,null,null,null,null,null,null,null,{"$f":"IF(G$2034=1,\"\",IF(S988=\"\",\"\",VLOOKUP(S988,Tabelle!$I$5:$M$7,5,FALSE)))","v":""},{"$f":"IF(G$2034=1,\"\",IF(S988=\"\",\"\",VLOOKUP(S988,Tabelle!$I$5:$N$7,6,FALSE)))","v":""},null,null,null,null,null,null,null,null,null,{"$f":"IF(D988=\"\",0,IF(D988=D987,COUNTIF(D$9:D987,D988)+1,1))","v":0},0,0]
["981","-1900","-1900-0",null,null,null,null,null,null,null,"",null,null,null,null,null,null,null,null,{"$f":"IF(G$2034=1,\"\",IF(S989=\"\",\"\",VLOOKUP(S989,Tabelle!$I$5:$M$7,5,FALSE)))","v":""},{"$f":"IF(G$2034=1,\"\",IF(S989=\"\",\"\",VLOOKUP(S989,Tabelle!$I$5:$N$7,6,FALSE)))","v":""},null,null,null,null,null,null,null,null,null,{"$f":"IF(D989=\"\",0,IF(D989=D988,COUNTIF(D$9:D988,D989)+1,1))","v":0},0,0]
["982","-1900","-1900-0",null,null,null,null,null,null,null,"",null,null,null,null,null,null,null,null,{"$f":"IF(G$2034=1,\"\",IF(S990=\"\",\"\",VLOOKUP(S990,Tabelle!$I$5:$M$7,5,FALSE)))","v":""},{"$f":"IF(G$2034=1,\"\",IF(S990=\"\",\"\",VLOOKUP(S990,Tabelle!$I$5:$N$7,6,FALSE)))","v":""},null,null,null,null,null,null,null,null,null,{"$f":"IF(D990=\"\",0,IF(D990=D989,COUNTIF(D$9:D989,D990)+1,1))","v":0},0,0]
["983","-1900","-1900-0",null,null,null,null,null,null,null,"",null,null,null,null,null,null,null,null,{"$f":"IF(G$2034=1,\"\",IF(S991=\"\",\"\",VLOOKUP(S991,Tabelle!$I$5:$M$7,5,FALSE)))","v":""},{"$f":"IF(G$2034=1,\"\",IF(S991=\"\",\"\",VLOOKUP(S991,Tabelle!$I$5:$N$7,6,FALSE)))","v":""},null,null,null,null,null,null,null,null,null,{"$f":"IF(D991=\"\",0,IF(D991=D990,COUNTIF(D$9:D990,D991)+1,1))","v":0},0,0]
["984","-1900","-1900-0",null,null,null,null,null,null,null,"",null,null,null,null,null,null,null,null,{"$f":"IF(G$2034=1,\"\",IF(S992=\"\",\"\",VLOOKUP(S992,Tabelle!$I$5:$M$7,5,FALSE)))","v":""},{"$f":"IF(G$2034=1,\"\",IF(S992=\"\",\"\",VLOOKUP(S992,Tabelle!$I$5:$N$7,6,FALSE)))","v":""},null,null,null,null,null,null,null,null,null,{"$f":"IF(D992=\"\",0,IF(D992=D991,COUNTIF(D$9:D991,D992)+1,1))","v":0},0,0]
["985","-1900","-1900-0",null,null,null,null,null,null,null,"",null,null,null,null,null,null,null,null,{"$f":"IF(G$2034=1,\"\",IF(S993=\"\",\"\",VLOOKUP(S993,Tabelle!$I$5:$M$7,5,FALSE)))","v":""},{"$f":"IF(G$2034=1,\"\",IF(S993=\"\",\"\",VLOOKUP(S993,Tabelle!$I$5:$N$7,6,FALSE)))","v":""},null,null,null,null,null,null,null,null,null,{"$f":"IF(D993=\"\",0,IF(D993=D992,COUNTIF(D$9:D992,D993)+1,1))","v":0},0,0]
["986","-1900","-1900-0",null,null,null,null,null,null,null,"",null,null,null,null,null,null,null,null,{"$f":"IF(G$2034=1,\"\",IF(S994=\"\",\"\",VLOOKUP(S994,Tabelle!$I$5:$M$7,5,FALSE)))","v":""},{"$f":"IF(G$2034=1,\"\",IF(S994=\"\",\"\",VLOOKUP(S994,Tabelle!$I$5:$N$7,6,FALSE)))","v":""},null,null,null,null,null,null,null,null,null,{"$f":"IF(D994=\"\",0,IF(D994=D993,COUNTIF(D$9:D993,D994)+1,1))","v":0},0,0]
["987","-1900","-1900-0",null,null,null,null,null,null,null,"",null,null,null,null,null,null,null,null,{"$f":"IF(G$2034=1,\"\",IF(S995=\"\",\"\",VLOOKUP(S995,Tabelle!$I$5:$M$7,5,FALSE)))","v":""},{"$f":"IF(G$2034=1,\"\",IF(S995=\"\",\"\",VLOOKUP(S995,Tabelle!$I$5:$N$7,6,FALSE)))","v":""},null,null,null,null,null,null,null,null,null,{"$f":"IF(D995=\"\",0,IF(D995=D994,COUNTIF(D$9:D994,D995)+1,1))","v":0},0,0]
["988","-1900","-1900-0",null,null,null,null,null,null,null,"",null,null,null,null,null,null,null,null,{"$f":"IF(G$2034=1,\"\",IF(S996=\"\",\"\",VLOOKUP(S996,Tabelle!$I$5:$M$7,5,FALSE)))","v":""},{"$f":"IF(G$2034=1,\"\",IF(S996=\"\",\"\",VLOOKUP(S996,Tabelle!$I$5:$N$7,6,FALSE)))","v":""},null,null,null,null,null,null,null,null,null,{"$f":"IF(D996=\"\",0,IF(D996=D995,COUNTIF(D$9:D995,D996)+1,1))","v":0},0,0]
["989","-1900","-1900-0",null,null,null,null,null,null,null,"",null,null,null,null,null,null,null,null,{"$f":"IF(G$2034=1,\"\",IF(S997=\"\",\"\",VLOOKUP(S997,Tabelle!$I$5:$M$7,5,FALSE)))","v":""},{"$f":"IF(G$2034=1,\"\",IF(S997=\"\",\"\",VLOOKUP(S997,Tabelle!$I$5:$N$7,6,FALSE)))","v":""},null,null,null,null,null,null,null,null,null,{"$f":"IF(D997=\"\",0,IF(D997=D996,COUNTIF(D$9:D996,D997)+1,1))","v":0},0,0]
["990","-1900","-1900-0",null,null,null,null,null,null,null,"",null,null,null,null,null,null,null,null,{"$f":"IF(G$2034=1,\"\",IF(S998=\"\",\"\",VLOOKUP(S998,Tabelle!$I$5:$M$7,5,FALSE)))","v":""},{"$f":"IF(G$2034=1,\"\",IF(S998=\"\",\"\",VLOOKUP(S998,Tabelle!$I$5:$N$7,6,FALSE)))","v":""},null,null,null,null,null,null,null,null,null,{"$f":"IF(D998=\"\",0,IF(D998=D997,COUNTIF(D$9:D997,D998)+1,1))","v":0},0,0]
["991","-1900","-1900-0",null,null,null,null,null,null,null,"",null,null,null,null,null,null,null,null,{"$f":"IF(G$2034=1,\"\",IF(S999=\"\",\"\",VLOOKUP(S999,Tabelle!$I$5:$M$7,5,FALSE)))","v":""},{"$f":"IF(G$2034=1,\"\",IF(S999=\"\",\"\",VLOOKUP(S999,Tabelle!$I$5:$N$7,6,FALSE)))","v":""},null,null,null,null,null,null,null,null,null,{"$f":"IF(D999=\"\",0,IF(D999=D998,COUNTIF(D$9:D998,D999)+1,1))","v":0},0,0]
["992","-1900","-1900-0",null,null,null,null,null,null,null,"",null,null,null,null,null,null,null,null,{"$f":"IF(G$2034=1,\"\",IF(S1000=\"\",\"\",VLOOKUP(S1000,Tabelle!$I$5:$M$7,5,FALSE)))","v":""},{"$f":"IF(G$2034=1,\"\",IF(S1000=\"\",\"\",VLOOKUP(S1000,Tabelle!$I$5:$N$7,6,FALSE)))","v":""},null,null,null,null,null,null,null,null,null,{"$f":"IF(D1000=\"\",0,IF(D1000=D999,COUNTIF(D$9:D999,D1000)+1,1))","v":0},0,0]
["993","-1900","-1900-0",null,null,null,null,null,null,null,"",null,null,null,null,null,null,null,null,{"$f":"IF(G$2034=1,\"\",IF(S1001=\"\",\"\",VLOOKUP(S1001,Tabelle!$I$5:$M$7,5,FALSE)))","v":""},{"$f":"IF(G$2034=1,\"\",IF(S1001=\"\",\"\",VLOOKUP(S1001,Tabelle!$I$5:$N$7,6,FALSE)))","v":""},null,null,null,null,null,null,null,null,null,{"$f":"IF(D1001=\"\",0,IF(D1001=D1000,COUNTIF(D$9:D1000,D1001)+1,1))","v":0},0,0]
["994","-1900","-1900-0",null,null,null,null,null,null,null,"",null,null,null,null,null,null,null,null,{"$f":"IF(G$2034=1,\"\",IF(S1002=\"\",\"\",VLOOKUP(S1002,Tabelle!$I$5:$M$7,5,FALSE)))","v":""},{"$f":"IF(G$2034=1,\"\",IF(S1002=\"\",\"\",VLOOKUP(S1002,Tabelle!$I$5:$N$7,6,FALSE)))","v":""},null,null,null,null,null,null,null,null,null,{"$f":"IF(D1002=\"\",0,IF(D1002=D1001,COUNTIF(D$9:D1001,D1002)+1,1))","v":0},0,0]
["995","-1900","-1900-0",null,null,null,null,null,null,null,"",null,null,null,null,null,null,null,null,{"$f":"IF(G$2034=1,\"\",IF(S1003=\"\",\"\",VLOOKUP(S1003,Tabelle!$I$5:$M$7,5,FALSE)))","v":""},{"$f":"IF(G$2034=1,\"\",IF(S1003=\"\",\"\",VLOOKUP(S1003,Tabelle!$I$5:$N$7,6,FALSE)))","v":""},null,null,null,null,null,null,null,null,null,{"$f":"IF(D1003=\"\",0,IF(D1003=D1002,COUNTIF(D$9:D1002,D1003)+1,1))","v":0},0,0]
["996","-1900","-1900-0",null,null,null,null,null,null,null,"",null,null,null,null,null,null,null,null,{"$f":"IF(G$2034=1,\"\",IF(S1004=\"\",\"\",VLOOKUP(S1004,Tabelle!$I$5:$M$7,5,FALSE)))","v":""},{"$f":"IF(G$2034=1,\"\",IF(S1004=\"\",\"\",VLOOKUP(S1004,Tabelle!$I$5:$N$7,6,FALSE)))","v":""},null,null,null,null,null,null,null,null,null,{"$f":"IF(D1004=\"\",0,IF(D1004=D1003,COUNTIF(D$9:D1003,D1004)+1,1))","v":0},0,0]
["997","-1900","-1900-0",null,null,null,null,null,null,null,"",null,null,null,null,null,null,null,null,{"$f":"IF(G$2034=1,\"\",IF(S1005=\"\",\"\",VLOOKUP(S1005,Tabelle!$I$5:$M$7,5,FALSE)))","v":""},{"$f":"IF(G$2034=1,\"\",IF(S1005=\"\",\"\",VLOOKUP(S1005,Tabelle!$I$5:$N$7,6,FALSE)))","v":""},null,null,null,null,null,null,null,null,null,{"$f":"IF(D1005=\"\",0,IF(D1005=D1004,COUNTIF(D$9:D1004,D1005)+1,1))","v":0},0,0]
["998","-1900","-1900-0",null,null,null,null,null,null,null,"",null,null,null,null,null,null,null,null,{"$f":"IF(G$2034=1,\"\",IF(S1006=\"\",\"\",VLOOKUP(S1006,Tabelle!$I$5:$M$7,5,FALSE)))","v":""},{"$f":"IF(G$2034=1,\"\",IF(S1006=\"\",\"\",VLOOKUP(S1006,Tabelle!$I$5:$N$7,6,FALSE)))","v":""},null,null,null,null,null,null,null,null,null,{"$f":"IF(D1006=\"\",0,IF(D1006=D1005,COUNTIF(D$9:D1005,D1006)+1,1))","v":0},0,0]
["999","-1900","-1900-0",null,null,null,null,null,null,null,"",null,null,null,null,null,null,null,null,{"$f":"IF(G$2034=1,\"\",IF(S1007=\"\",\"\",VLOOKUP(S1007,Tabelle!$I$5:$M$7,5,FALSE)))","v":""},{"$f":"IF(G$2034=1,\"\",IF(S1007=\"\",\"\",VLOOKUP(S1007,Tabelle!$I$5:$N$7,6,FALSE)))","v":""},null,null,null,null,null,null,null,null,null,{"$f":"IF(D1007=\"\",0,IF(D1007=D1006,COUNTIF(D$9:D1006,D1007)+1,1))","v":0},0,0]
["1000 di 2000","-1900","-1900-0",null,null,null,null,null,null,null,"",null,null,null,null,null,null,null,null,{"$f":"IF(G$2034=1,\"\",IF(S1008=\"\",\"\",VLOOKUP(S1008,Tabelle!$I$5:$M$7,5,FALSE)))","v":""},{"$f":"IF(G$2034=1,\"\",IF(S1008=\"\",\"\",VLOOKUP(S1008,Tabelle!$I$5:$N$7,6,FALSE)))","v":""},null,null,null,null,null,null,null,null,null,{"$f":"IF(D1008=\"\",0,IF(D1008=D1007,COUNTIF(D$9:D1007,D1008)+1,1))","v":0},0,0]
["1001","-1900","-1900-0",null,null,null,null,null,null,null,"",null,null,null,null,null,null,null,null,{"$f":"IF(G$2034=1,\"\",IF(S1009=\"\",\"\",VLOOKUP(S1009,Tabelle!$I$5:$M$7,5,FALSE)))","v":""},{"$f":"IF(G$2034=1,\"\",IF(S1009=\"\",\"\",VLOOKUP(S1009,Tabelle!$I$5:$N$7,6,FALSE)))","v":""},null,null,null,null,null,null,null,null,null,{"$f":"IF(D1009=\"\",0,IF(D1009=D1008,COUNTIF(D$9:D1008,D1009)+1,1))","v":0},0,0]
["1002","-1900","-1900-0",null,null,null,null,null,null,null,"",null,null,null,null,null,null,null,null,{"$f":"IF(G$2034=1,\"\",IF(S1010=\"\",\"\",VLOOKUP(S1010,Tabelle!$I$5:$M$7,5,FALSE)))","v":""},{"$f":"IF(G$2034=1,\"\",IF(S1010=\"\",\"\",VLOOKUP(S1010,Tabelle!$I$5:$N$7,6,FALSE)))","v":""},null,null,null,null,null,null,null,null,null,{"$f":"IF(D1010=\"\",0,IF(D1010=D1009,COUNTIF(D$9:D1009,D1010)+1,1))","v":0},0,0]
["1003","-1900","-1900-0",null,null,null,null,null,null,null,"",null,null,null,null,null,null,null,null,{"$f":"IF(G$2034=1,\"\",IF(S1011=\"\",\"\",VLOOKUP(S1011,Tabelle!$I$5:$M$7,5,FALSE)))","v":""},{"$f":"IF(G$2034=1,\"\",IF(S1011=\"\",\"\",VLOOKUP(S1011,Tabelle!$I$5:$N$7,6,FALSE)))","v":""},null,null,null,null,null,null,null,null,null,{"$f":"IF(D1011=\"\",0,IF(D1011=D1010,COUNTIF(D$9:D1010,D1011)+1,1))","v":0},0,0]
["1004","-1900","-1900-0",null,null,null,null,null,null,null,"",null,null,null,null,null,null,null,null,{"$f":"IF(G$2034=1,\"\",IF(S1012=\"\",\"\",VLOOKUP(S1012,Tabelle!$I$5:$M$7,5,FALSE)))","v":""},{"$f":"IF(G$2034=1,\"\",IF(S1012=\"\",\"\",VLOOKUP(S1012,Tabelle!$I$5:$N$7,6,FALSE)))","v":""},null,null,null,null,null,null,null,null,null,{"$f":"IF(D1012=\"\",0,IF(D1012=D1011,COUNTIF(D$9:D1011,D1012)+1,1))","v":0},0,0]
["1005","-1900","-1900-0",null,null,null,null,null,null,null,"",null,null,null,null,null,null,null,null,{"$f":"IF(G$2034=1,\"\",IF(S1013=\"\",\"\",VLOOKUP(S1013,Tabelle!$I$5:$M$7,5,FALSE)))","v":""},{"$f":"IF(G$2034=1,\"\",IF(S1013=\"\",\"\",VLOOKUP(S1013,Tabelle!$I$5:$N$7,6,FALSE)))","v":""},null,null,null,null,null,null,null,null,null,{"$f":"IF(D1013=\"\",0,IF(D1013=D1012,COUNTIF(D$9:D1012,D1013)+1,1))","v":0},0,0]
["1006","-1900","-1900-0",null,null,null,null,null,null,null,"",null,null,null,null,null,null,null,null,{"$f":"IF(G$2034=1,\"\",IF(S1014=\"\",\"\",VLOOKUP(S1014,Tabelle!$I$5:$M$7,5,FALSE)))","v":""},{"$f":"IF(G$2034=1,\"\",IF(S1014=\"\",\"\",VLOOKUP(S1014,Tabelle!$I$5:$N$7,6,FALSE)))","v":""},null,null,null,null,null,null,null,null,null,{"$f":"IF(D1014=\"\",0,IF(D1014=D1013,COUNTIF(D$9:D1013,D1014)+1,1))","v":0},0,0]
["1007","-1900","-1900-0",null,null,null,null,null,null,null,"",null,null,null,null,null,null,null,null,{"$f":"IF(G$2034=1,\"\",IF(S1015=\"\",\"\",VLOOKUP(S1015,Tabelle!$I$5:$M$7,5,FALSE)))","v":""},{"$f":"IF(G$2034=1,\"\",IF(S1015=\"\",\"\",VLOOKUP(S1015,Tabelle!$I$5:$N$7,6,FALSE)))","v":""},null,null,null,null,null,null,null,null,null,{"$f":"IF(D1015=\"\",0,IF(D1015=D1014,COUNTIF(D$9:D1014,D1015)+1,1))","v":0},0,0]
["1008","-1900","-1900-0",null,null,null,null,null,null,null,"",null,null,null,null,null,null,null,null,{"$f":"IF(G$2034=1,\"\",IF(S1016=\"\",\"\",VLOOKUP(S1016,Tabelle!$I$5:$M$7,5,FALSE)))","v":""},{"$f":"IF(G$2034=1,\"\",IF(S1016=\"\",\"\",VLOOKUP(S1016,Tabelle!$I$5:$N$7,6,FALSE)))","v":""},null,null,null,null,null,null,null,null,null,{"$f":"IF(D1016=\"\",0,IF(D1016=D1015,COUNTIF(D$9:D1015,D1016)+1,1))","v":0},0,0]
["1009","-1900","-1900-0",null,null,null,null,null,null,null,"",null,null,null,null,null,null,null,null,{"$f":"IF(G$2034=1,\"\",IF(S1017=\"\",\"\",VLOOKUP(S1017,Tabelle!$I$5:$M$7,5,FALSE)))","v":""},{"$f":"IF(G$2034=1,\"\",IF(S1017=\"\",\"\",VLOOKUP(S1017,Tabelle!$I$5:$N$7,6,FALSE)))","v":""},null,null,null,null,null,null,null,null,null,{"$f":"IF(D1017=\"\",0,IF(D1017=D1016,COUNTIF(D$9:D1016,D1017)+1,1))","v":0},0,0]
["1010","-1900","-1900-0",null,null,null,null,null,null,null,"",null,null,null,null,null,null,null,null,{"$f":"IF(G$2034=1,\"\",IF(S1018=\"\",\"\",VLOOKUP(S1018,Tabelle!$I$5:$M$7,5,FALSE)))","v":""},{"$f":"IF(G$2034=1,\"\",IF(S1018=\"\",\"\",VLOOKUP(S1018,Tabelle!$I$5:$N$7,6,FALSE)))","v":""},null,null,null,null,null,null,null,null,null,{"$f":"IF(D1018=\"\",0,IF(D1018=D1017,COUNTIF(D$9:D1017,D1018)+1,1))","v":0},0,0]
["1011","-1900","-1900-0",null,null,null,null,null,null,null,"",null,null,null,null,null,null,null,null,{"$f":"IF(G$2034=1,\"\",IF(S1019=\"\",\"\",VLOOKUP(S1019,Tabelle!$I$5:$M$7,5,FALSE)))","v":""},{"$f":"IF(G$2034=1,\"\",IF(S1019=\"\",\"\",VLOOKUP(S1019,Tabelle!$I$5:$N$7,6,FALSE)))","v":""},null,null,null,null,null,null,null,null,null,{"$f":"IF(D1019=\"\",0,IF(D1019=D1018,COUNTIF(D$9:D1018,D1019)+1,1))","v":0},0,0]
["1012","-1900","-1900-0",null,null,null,null,null,null,null,"",null,null,null,null,null,null,null,null,{"$f":"IF(G$2034=1,\"\",IF(S1020=\"\",\"\",VLOOKUP(S1020,Tabelle!$I$5:$M$7,5,FALSE)))","v":""},{"$f":"IF(G$2034=1,\"\",IF(S1020=\"\",\"\",VLOOKUP(S1020,Tabelle!$I$5:$N$7,6,FALSE)))","v":""},null,null,null,null,null,null,null,null,null,{"$f":"IF(D1020=\"\",0,IF(D1020=D1019,COUNTIF(D$9:D1019,D1020)+1,1))","v":0},0,0]
["1013","-1900","-1900-0",null,null,null,null,null,null,null,"",null,null,null,null,null,null,null,null,{"$f":"IF(G$2034=1,\"\",IF(S1021=\"\",\"\",VLOOKUP(S1021,Tabelle!$I$5:$M$7,5,FALSE)))","v":""},{"$f":"IF(G$2034=1,\"\",IF(S1021=\"\",\"\",VLOOKUP(S1021,Tabelle!$I$5:$N$7,6,FALSE)))","v":""},null,null,null,null,null,null,null,null,null,{"$f":"IF(D1021=\"\",0,IF(D1021=D1020,COUNTIF(D$9:D1020,D1021)+1,1))","v":0},0,0]
["1014","-1900","-1900-0",null,null,null,null,null,null,null,"",null,null,null,null,null,null,null,null,{"$f":"IF(G$2034=1,\"\",IF(S1022=\"\",\"\",VLOOKUP(S1022,Tabelle!$I$5:$M$7,5,FALSE)))","v":""},{"$f":"IF(G$2034=1,\"\",IF(S1022=\"\",\"\",VLOOKUP(S1022,Tabelle!$I$5:$N$7,6,FALSE)))","v":""},null,null,null,null,null,null,null,null,null,{"$f":"IF(D1022=\"\",0,IF(D1022=D1021,COUNTIF(D$9:D1021,D1022)+1,1))","v":0},0,0]
["1015","-1900","-1900-0",null,null,null,null,null,null,null,"",null,null,null,null,null,null,null,null,{"$f":"IF(G$2034=1,\"\",IF(S1023=\"\",\"\",VLOOKUP(S1023,Tabelle!$I$5:$M$7,5,FALSE)))","v":""},{"$f":"IF(G$2034=1,\"\",IF(S1023=\"\",\"\",VLOOKUP(S1023,Tabelle!$I$5:$N$7,6,FALSE)))","v":""},null,null,null,null,null,null,null,null,null,{"$f":"IF(D1023=\"\",0,IF(D1023=D1022,COUNTIF(D$9:D1022,D1023)+1,1))","v":0},0,0]
["1016","-1900","-1900-0",null,null,null,null,null,null,null,"",null,null,null,null,null,null,null,null,{"$f":"IF(G$2034=1,\"\",IF(S1024=\"\",\"\",VLOOKUP(S1024,Tabelle!$I$5:$M$7,5,FALSE)))","v":""},{"$f":"IF(G$2034=1,\"\",IF(S1024=\"\",\"\",VLOOKUP(S1024,Tabelle!$I$5:$N$7,6,FALSE)))","v":""},null,null,null,null,null,null,null,null,null,{"$f":"IF(D1024=\"\",0,IF(D1024=D1023,COUNTIF(D$9:D1023,D1024)+1,1))","v":0},0,0]
["1017","-1900","-1900-0",null,null,null,null,null,null,null,"",null,null,null,null,null,null,null,null,{"$f":"IF(G$2034=1,\"\",IF(S1025=\"\",\"\",VLOOKUP(S1025,Tabelle!$I$5:$M$7,5,FALSE)))","v":""},{"$f":"IF(G$2034=1,\"\",IF(S1025=\"\",\"\",VLOOKUP(S1025,Tabelle!$I$5:$N$7,6,FALSE)))","v":""},null,null,null,null,null,null,null,null,null,{"$f":"IF(D1025=\"\",0,IF(D1025=D1024,COUNTIF(D$9:D1024,D1025)+1,1))","v":0},0,0]
["1018","-1900","-1900-0",null,null,null,null,null,null,null,"",null,null,null,null,null,null,null,null,{"$f":"IF(G$2034=1,\"\",IF(S1026=\"\",\"\",VLOOKUP(S1026,Tabelle!$I$5:$M$7,5,FALSE)))","v":""},{"$f":"IF(G$2034=1,\"\",IF(S1026=\"\",\"\",VLOOKUP(S1026,Tabelle!$I$5:$N$7,6,FALSE)))","v":""},null,null,null,null,null,null,null,null,null,{"$f":"IF(D1026=\"\",0,IF(D1026=D1025,COUNTIF(D$9:D1025,D1026)+1,1))","v":0},0,0]
["1019","-1900","-1900-0",null,null,null,null,null,null,null,"",null,null,null,null,null,null,null,null,{"$f":"IF(G$2034=1,\"\",IF(S1027=\"\",\"\",VLOOKUP(S1027,Tabelle!$I$5:$M$7,5,FALSE)))","v":""},{"$f":"IF(G$2034=1,\"\",IF(S1027=\"\",\"\",VLOOKUP(S1027,Tabelle!$I$5:$N$7,6,FALSE)))","v":""},null,null,null,null,null,null,null,null,null,{"$f":"IF(D1027=\"\",0,IF(D1027=D1026,COUNTIF(D$9:D1026,D1027)+1,1))","v":0},0,0]
["1020","-1900","-1900-0",null,null,null,null,null,null,null,"",null,null,null,null,null,null,null,null,{"$f":"IF(G$2034=1,\"\",IF(S1028=\"\",\"\",VLOOKUP(S1028,Tabelle!$I$5:$M$7,5,FALSE)))","v":""},{"$f":"IF(G$2034=1,\"\",IF(S1028=\"\",\"\",VLOOKUP(S1028,Tabelle!$I$5:$N$7,6,FALSE)))","v":""},null,null,null,null,null,null,null,null,null,{"$f":"IF(D1028=\"\",0,IF(D1028=D1027,COUNTIF(D$9:D1027,D1028)+1,1))","v":0},0,0]
["1021","-1900","-1900-0",null,null,null,null,null,null,null,"",null,null,null,null,null,null,null,null,{"$f":"IF(G$2034=1,\"\",IF(S1029=\"\",\"\",VLOOKUP(S1029,Tabelle!$I$5:$M$7,5,FALSE)))","v":""},{"$f":"IF(G$2034=1,\"\",IF(S1029=\"\",\"\",VLOOKUP(S1029,Tabelle!$I$5:$N$7,6,FALSE)))","v":""},null,null,null,null,null,null,null,null,null,{"$f":"IF(D1029=\"\",0,IF(D1029=D1028,COUNTIF(D$9:D1028,D1029)+1,1))","v":0},0,0]
["1022","-1900","-1900-0",null,null,null,null,null,null,null,"",null,null,null,null,null,null,null,null,{"$f":"IF(G$2034=1,\"\",IF(S1030=\"\",\"\",VLOOKUP(S1030,Tabelle!$I$5:$M$7,5,FALSE)))","v":""},{"$f":"IF(G$2034=1,\"\",IF(S1030=\"\",\"\",VLOOKUP(S1030,Tabelle!$I$5:$N$7,6,FALSE)))","v":""},null,null,null,null,null,null,null,null,null,{"$f":"IF(D1030=\"\",0,IF(D1030=D1029,COUNTIF(D$9:D1029,D1030)+1,1))","v":0},0,0]
["1023","-1900","-1900-0",null,null,null,null,null,null,null,"",null,null,null,null,null,null,null,null,{"$f":"IF(G$2034=1,\"\",IF(S1031=\"\",\"\",VLOOKUP(S1031,Tabelle!$I$5:$M$7,5,FALSE)))","v":""},{"$f":"IF(G$2034=1,\"\",IF(S1031=\"\",\"\",VLOOKUP(S1031,Tabelle!$I$5:$N$7,6,FALSE)))","v":""},null,null,null,null,null,null,null,null,null,{"$f":"IF(D1031=\"\",0,IF(D1031=D1030,COUNTIF(D$9:D1030,D1031)+1,1))","v":0},0,0]
["1024","-1900","-1900-0",null,null,null,null,null,null,null,"",null,null,null,null,null,null,null,null,{"$f":"IF(G$2034=1,\"\",IF(S1032=\"\",\"\",VLOOKUP(S1032,Tabelle!$I$5:$M$7,5,FALSE)))","v":""},{"$f":"IF(G$2034=1,\"\",IF(S1032=\"\",\"\",VLOOKUP(S1032,Tabelle!$I$5:$N$7,6,FALSE)))","v":""},null,null,null,null,null,null,null,null,null,{"$f":"IF(D1032=\"\",0,IF(D1032=D1031,COUNTIF(D$9:D1031,D1032)+1,1))","v":0},0,0]
["1025","-1900",{"$f":"IF(G$2034=1,0,B1033&\"-\"&AE1033)","v":"-1900-0"},null,null,null,null,null,null,null,{"$f":"IF(G$2034=1,0,IF(OR(J1033=\"\",ISERROR($O$2034)),\"\",VLOOKUP(J1033,$L$2019:$N$2027,2,FALSE)))","v":""},null,null,null,null,null,null,null,null,{"$f":"IF(G$2034=1,\"\",IF(S1033=\"\",\"\",VLOOKUP(S1033,Tabelle!$I$5:$M$7,5,FALSE)))","v":""},{"$f":"IF(G$2034=1,\"\",IF(S1033=\"\",\"\",VLOOKUP(S1033,Tabelle!$I$5:$N$7,6,FALSE)))","v":""},null,null,null,null,null,null,null,null,null,{"$f":"IF(D1033=\"\",0,IF(D1033=D1032,COUNTIF(D$9:D1032,D1033)+1,1))","v":0},0,0]
["1026",{"$f":"IF(AG1034=$AG$2013,0,IF(G$2034=1,0,D1034&\"-\"&YEAR(E1034)))","v":"-1900"},"-1900-0",null,null,null,null,null,null,null,"",null,null,null,null,null,null,null,null,{"$f":"IF(G$2034=1,\"\",IF(S1034=\"\",\"\",VLOOKUP(S1034,Tabelle!$I$5:$M$7,5,FALSE)))","v":""},{"$f":"IF(G$2034=1,\"\",IF(S1034=\"\",\"\",VLOOKUP(S1034,Tabelle!$I$5:$N$7,6,FALSE)))","v":""},null,null,null,null,null,null,null,null,null,{"$f":"IF(D1034=\"\",0,IF(D1034=D1033,COUNTIF(D$9:D1033,D1034)+1,1))","v":0},{"$f":"IF(G$2034=1,0,IF(AE1034=28,1,0))","v":0},{"$f":"IF(E1034>0,IF(OR(MONTH(E1034)<$G$2026,MONTH(E1034)>$G$2027),AG$2013,0),0)","v":0}]
["1027","-1900","-1900-0",null,null,null,null,null,null,null,"",null,null,null,null,null,null,null,null,{"$f":"IF(G$2034=1,\"\",IF(S1035=\"\",\"\",VLOOKUP(S1035,Tabelle!$I$5:$M$7,5,FALSE)))","v":""},{"$f":"IF(G$2034=1,\"\",IF(S1035=\"\",\"\",VLOOKUP(S1035,Tabelle!$I$5:$N$7,6,FALSE)))","v":""},null,null,null,null,null,null,null,null,null,{"$f":"IF(D1035=\"\",0,IF(D1035=D1034,COUNTIF(D$9:D1034,D1035)+1,1))","v":0},0,0]
["1028","-1900","-1900-0",null,null,null,null,null,null,null,"",null,null,null,null,null,null,null,null,{"$f":"IF(G$2034=1,\"\",IF(S1036=\"\",\"\",VLOOKUP(S1036,Tabelle!$I$5:$M$7,5,FALSE)))","v":""},{"$f":"IF(G$2034=1,\"\",IF(S1036=\"\",\"\",VLOOKUP(S1036,Tabelle!$I$5:$N$7,6,FALSE)))","v":""},null,null,null,null,null,null,null,null,null,{"$f":"IF(D1036=\"\",0,IF(D1036=D1035,COUNTIF(D$9:D1035,D1036)+1,1))","v":0},0,0]
["1029","-1900","-1900-0",null,null,null,null,null,null,null,"",null,null,null,null,null,null,null,null,{"$f":"IF(G$2034=1,\"\",IF(S1037=\"\",\"\",VLOOKUP(S1037,Tabelle!$I$5:$M$7,5,FALSE)))","v":""},{"$f":"IF(G$2034=1,\"\",IF(S1037=\"\",\"\",VLOOKUP(S1037,Tabelle!$I$5:$N$7,6,FALSE)))","v":""},null,null,null,null,null,null,null,null,null,{"$f":"IF(D1037=\"\",0,IF(D1037=D1036,COUNTIF(D$9:D1036,D1037)+1,1))","v":0},0,0]
["1030","-1900","-1900-0",null,null,null,null,null,null,null,"",null,null,null,null,null,null,null,null,{"$f":"IF(G$2034=1,\"\",IF(S1038=\"\",\"\",VLOOKUP(S1038,Tabelle!$I$5:$M$7,5,FALSE)))","v":""},{"$f":"IF(G$2034=1,\"\",IF(S1038=\"\",\"\",VLOOKUP(S1038,Tabelle!$I$5:$N$7,6,FALSE)))","v":""},null,null,null,null,null,null,null,null,null,{"$f":"IF(D1038=\"\",0,IF(D1038=D1037,COUNTIF(D$9:D1037,D1038)+1,1))","v":0},0,0]
["1031","-1900","-1900-0",null,null,null,null,null,null,null,"",null,null,null,null,null,null,null,null,{"$f":"IF(G$2034=1,\"\",IF(S1039=\"\",\"\",VLOOKUP(S1039,Tabelle!$I$5:$M$7,5,FALSE)))","v":""},{"$f":"IF(G$2034=1,\"\",IF(S1039=\"\",\"\",VLOOKUP(S1039,Tabelle!$I$5:$N$7,6,FALSE)))","v":""},null,null,null,null,null,null,null,null,null,{"$f":"IF(D1039=\"\",0,IF(D1039=D1038,COUNTIF(D$9:D1038,D1039)+1,1))","v":0},0,0]
["1032","-1900","-1900-0",null,null,null,null,null,null,null,"",null,null,null,null,null,null,null,null,{"$f":"IF(G$2034=1,\"\",IF(S1040=\"\",\"\",VLOOKUP(S1040,Tabelle!$I$5:$M$7,5,FALSE)))","v":""},{"$f":"IF(G$2034=1,\"\",IF(S1040=\"\",\"\",VLOOKUP(S1040,Tabelle!$I$5:$N$7,6,FALSE)))","v":""},null,null,null,null,null,null,null,null,null,{"$f":"IF(D1040=\"\",0,IF(D1040=D1039,COUNTIF(D$9:D1039,D1040)+1,1))","v":0},0,0]
["1033","-1900","-1900-0",null,null,null,null,null,null,null,"",null,null,null,null,null,null,null,null,{"$f":"IF(G$2034=1,\"\",IF(S1041=\"\",\"\",VLOOKUP(S1041,Tabelle!$I$5:$M$7,5,FALSE)))","v":""},{"$f":"IF(G$2034=1,\"\",IF(S1041=\"\",\"\",VLOOKUP(S1041,Tabelle!$I$5:$N$7,6,FALSE)))","v":""},null,null,null,null,null,null,null,null,null,{"$f":"IF(D1041=\"\",0,IF(D1041=D1040,COUNTIF(D$9:D1040,D1041)+1,1))","v":0},0,0]
["1034","-1900","-1900-0",null,null,null,null,null,null,null,"",null,null,null,null,null,null,null,null,{"$f":"IF(G$2034=1,\"\",IF(S1042=\"\",\"\",VLOOKUP(S1042,Tabelle!$I$5:$M$7,5,FALSE)))","v":""},{"$f":"IF(G$2034=1,\"\",IF(S1042=\"\",\"\",VLOOKUP(S1042,Tabelle!$I$5:$N$7,6,FALSE)))","v":""},null,null,null,null,null,null,null,null,null,{"$f":"IF(D1042=\"\",0,IF(D1042=D1041,COUNTIF(D$9:D1041,D1042)+1,1))","v":0},0,0]
["1035","-1900","-1900-0",null,null,null,null,null,null,null,"",null,null,null,null,null,null,null,null,{"$f":"IF(G$2034=1,\"\",IF(S1043=\"\",\"\",VLOOKUP(S1043,Tabelle!$I$5:$M$7,5,FALSE)))","v":""},{"$f":"IF(G$2034=1,\"\",IF(S1043=\"\",\"\",VLOOKUP(S1043,Tabelle!$I$5:$N$7,6,FALSE)))","v":""},null,null,null,null,null,null,null,null,null,{"$f":"IF(D1043=\"\",0,IF(D1043=D1042,COUNTIF(D$9:D1042,D1043)+1,1))","v":0},0,0]
["1036","-1900","-1900-0",null,null,null,null,null,null,null,"",null,null,null,null,null,null,null,null,{"$f":"IF(G$2034=1,\"\",IF(S1044=\"\",\"\",VLOOKUP(S1044,Tabelle!$I$5:$M$7,5,FALSE)))","v":""},{"$f":"IF(G$2034=1,\"\",IF(S1044=\"\",\"\",VLOOKUP(S1044,Tabelle!$I$5:$N$7,6,FALSE)))","v":""},null,null,null,null,null,null,null,null,null,{"$f":"IF(D1044=\"\",0,IF(D1044=D1043,COUNTIF(D$9:D1043,D1044)+1,1))","v":0},0,0]
["1037","-1900","-1900-0",null,null,null,null,null,null,null,"",null,null,null,null,null,null,null,null,{"$f":"IF(G$2034=1,\"\",IF(S1045=\"\",\"\",VLOOKUP(S1045,Tabelle!$I$5:$M$7,5,FALSE)))","v":""},{"$f":"IF(G$2034=1,\"\",IF(S1045=\"\",\"\",VLOOKUP(S1045,Tabelle!$I$5:$N$7,6,FALSE)))","v":""},null,null,null,null,null,null,null,null,null,{"$f":"IF(D1045=\"\",0,IF(D1045=D1044,COUNTIF(D$9:D1044,D1045)+1,1))","v":0},0,0]
["1038","-1900","-1900-0",null,null,null,null,null,null,null,"",null,null,null,null,null,null,null,null,{"$f":"IF(G$2034=1,\"\",IF(S1046=\"\",\"\",VLOOKUP(S1046,Tabelle!$I$5:$M$7,5,FALSE)))","v":""},{"$f":"IF(G$2034=1,\"\",IF(S1046=\"\",\"\",VLOOKUP(S1046,Tabelle!$I$5:$N$7,6,FALSE)))","v":""},null,null,null,null,null,null,null,null,null,{"$f":"IF(D1046=\"\",0,IF(D1046=D1045,COUNTIF(D$9:D1045,D1046)+1,1))","v":0},0,0]
["1039","-1900","-1900-0",null,null,null,null,null,null,null,"",null,null,null,null,null,null,null,null,{"$f":"IF(G$2034=1,\"\",IF(S1047=\"\",\"\",VLOOKUP(S1047,Tabelle!$I$5:$M$7,5,FALSE)))","v":""},{"$f":"IF(G$2034=1,\"\",IF(S1047=\"\",\"\",VLOOKUP(S1047,Tabelle!$I$5:$N$7,6,FALSE)))","v":""},null,null,null,null,null,null,null,null,null,{"$f":"IF(D1047=\"\",0,IF(D1047=D1046,COUNTIF(D$9:D1046,D1047)+1,1))","v":0},0,0]
["1040","-1900","-1900-0",null,null,null,null,null,null,null,"",null,null,null,null,null,null,null,null,{"$f":"IF(G$2034=1,\"\",IF(S1048=\"\",\"\",VLOOKUP(S1048,Tabelle!$I$5:$M$7,5,FALSE)))","v":""},{"$f":"IF(G$2034=1,\"\",IF(S1048=\"\",\"\",VLOOKUP(S1048,Tabelle!$I$5:$N$7,6,FALSE)))","v":""},null,null,null,null,null,null,null,null,null,{"$f":"IF(D1048=\"\",0,IF(D1048=D1047,COUNTIF(D$9:D1047,D1048)+1,1))","v":0},0,0]
["1041","-1900","-1900-0",null,null,null,null,null,null,null,"",null,null,null,null,null,null,null,null,{"$f":"IF(G$2034=1,\"\",IF(S1049=\"\",\"\",VLOOKUP(S1049,Tabelle!$I$5:$M$7,5,FALSE)))","v":""},{"$f":"IF(G$2034=1,\"\",IF(S1049=\"\",\"\",VLOOKUP(S1049,Tabelle!$I$5:$N$7,6,FALSE)))","v":""},null,null,null,null,null,null,null,null,null,{"$f":"IF(D1049=\"\",0,IF(D1049=D1048,COUNTIF(D$9:D1048,D1049)+1,1))","v":0},0,0]
["1042","-1900","-1900-0",null,null,null,null,null,null,null,"",null,null,null,null,null,null,null,null,{"$f":"IF(G$2034=1,\"\",IF(S1050=\"\",\"\",VLOOKUP(S1050,Tabelle!$I$5:$M$7,5,FALSE)))","v":""},{"$f":"IF(G$2034=1,\"\",IF(S1050=\"\",\"\",VLOOKUP(S1050,Tabelle!$I$5:$N$7,6,FALSE)))","v":""},null,null,null,null,null,null,null,null,null,{"$f":"IF(D1050=\"\",0,IF(D1050=D1049,COUNTIF(D$9:D1049,D1050)+1,1))","v":0},0,0]
["1043","-1900","-1900-0",null,null,null,null,null,null,null,"",null,null,null,null,null,null,null,null,{"$f":"IF(G$2034=1,\"\",IF(S1051=\"\",\"\",VLOOKUP(S1051,Tabelle!$I$5:$M$7,5,FALSE)))","v":""},{"$f":"IF(G$2034=1,\"\",IF(S1051=\"\",\"\",VLOOKUP(S1051,Tabelle!$I$5:$N$7,6,FALSE)))","v":""},null,null,null,null,null,null,null,null,null,{"$f":"IF(D1051=\"\",0,IF(D1051=D1050,COUNTIF(D$9:D1050,D1051)+1,1))","v":0},0,0]
["1044","-1900","-1900-0",null,null,null,null,null,null,null,"",null,null,null,null,null,null,null,null,{"$f":"IF(G$2034=1,\"\",IF(S1052=\"\",\"\",VLOOKUP(S1052,Tabelle!$I$5:$M$7,5,FALSE)))","v":""},{"$f":"IF(G$2034=1,\"\",IF(S1052=\"\",\"\",VLOOKUP(S1052,Tabelle!$I$5:$N$7,6,FALSE)))","v":""},null,null,null,null,null,null,null,null,null,{"$f":"IF(D1052=\"\",0,IF(D1052=D1051,COUNTIF(D$9:D1051,D1052)+1,1))","v":0},0,0]
["1045","-1900","-1900-0",null,null,null,null,null,null,null,"",null,null,null,null,null,null,null,null,{"$f":"IF(G$2034=1,\"\",IF(S1053=\"\",\"\",VLOOKUP(S1053,Tabelle!$I$5:$M$7,5,FALSE)))","v":""},{"$f":"IF(G$2034=1,\"\",IF(S1053=\"\",\"\",VLOOKUP(S1053,Tabelle!$I$5:$N$7,6,FALSE)))","v":""},null,null,null,null,null,null,null,null,null,{"$f":"IF(D1053=\"\",0,IF(D1053=D1052,COUNTIF(D$9:D1052,D1053)+1,1))","v":0},0,0]
["1046","-1900","-1900-0",null,null,null,null,null,null,null,"",null,null,null,null,null,null,null,null,{"$f":"IF(G$2034=1,\"\",IF(S1054=\"\",\"\",VLOOKUP(S1054,Tabelle!$I$5:$M$7,5,FALSE)))","v":""},{"$f":"IF(G$2034=1,\"\",IF(S1054=\"\",\"\",VLOOKUP(S1054,Tabelle!$I$5:$N$7,6,FALSE)))","v":""},null,null,null,null,null,null,null,null,null,{"$f":"IF(D1054=\"\",0,IF(D1054=D1053,COUNTIF(D$9:D1053,D1054)+1,1))","v":0},0,0]
["1047","-1900","-1900-0",null,null,null,null,null,null,null,"",null,null,null,null,null,null,null,null,{"$f":"IF(G$2034=1,\"\",IF(S1055=\"\",\"\",VLOOKUP(S1055,Tabelle!$I$5:$M$7,5,FALSE)))","v":""},{"$f":"IF(G$2034=1,\"\",IF(S1055=\"\",\"\",VLOOKUP(S1055,Tabelle!$I$5:$N$7,6,FALSE)))","v":""},null,null,null,null,null,null,null,null,null,{"$f":"IF(D1055=\"\",0,IF(D1055=D1054,COUNTIF(D$9:D1054,D1055)+1,1))","v":0},0,0]
["1048","-1900","-1900-0",null,null,null,null,null,null,null,"",null,null,null,null,null,null,null,null,{"$f":"IF(G$2034=1,\"\",IF(S1056=\"\",\"\",VLOOKUP(S1056,Tabelle!$I$5:$M$7,5,FALSE)))","v":""},{"$f":"IF(G$2034=1,\"\",IF(S1056=\"\",\"\",VLOOKUP(S1056,Tabelle!$I$5:$N$7,6,FALSE)))","v":""},null,null,null,null,null,null,null,null,null,{"$f":"IF(D1056=\"\",0,IF(D1056=D1055,COUNTIF(D$9:D1055,D1056)+1,1))","v":0},0,0]
["1049","-1900","-1900-0",null,null,null,null,null,null,null,"",null,null,null,null,null,null,null,null,{"$f":"IF(G$2034=1,\"\",IF(S1057=\"\",\"\",VLOOKUP(S1057,Tabelle!$I$5:$M$7,5,FALSE)))","v":""},{"$f":"IF(G$2034=1,\"\",IF(S1057=\"\",\"\",VLOOKUP(S1057,Tabelle!$I$5:$N$7,6,FALSE)))","v":""},null,null,null,null,null,null,null,null,null,{"$f":"IF(D1057=\"\",0,IF(D1057=D1056,COUNTIF(D$9:D1056,D1057)+1,1))","v":0},0,0]
["1050","-1900","-1900-0",null,null,null,null,null,null,null,"",null,null,null,null,null,null,null,null,{"$f":"IF(G$2034=1,\"\",IF(S1058=\"\",\"\",VLOOKUP(S1058,Tabelle!$I$5:$M$7,5,FALSE)))","v":""},{"$f":"IF(G$2034=1,\"\",IF(S1058=\"\",\"\",VLOOKUP(S1058,Tabelle!$I$5:$N$7,6,FALSE)))","v":""},null,null,null,null,null,null,null,null,null,{"$f":"IF(D1058=\"\",0,IF(D1058=D1057,COUNTIF(D$9:D1057,D1058)+1,1))","v":0},0,0]
["1051","-1900","-1900-0",null,null,null,null,null,null,null,"",null,null,null,null,null,null,null,null,{"$f":"IF(G$2034=1,\"\",IF(S1059=\"\",\"\",VLOOKUP(S1059,Tabelle!$I$5:$M$7,5,FALSE)))","v":""},{"$f":"IF(G$2034=1,\"\",IF(S1059=\"\",\"\",VLOOKUP(S1059,Tabelle!$I$5:$N$7,6,FALSE)))","v":""},null,null,null,null,null,null,null,null,null,{"$f":"IF(D1059=\"\",0,IF(D1059=D1058,COUNTIF(D$9:D1058,D1059)+1,1))","v":0},0,0]
["1052","-1900","-1900-0",null,null,null,null,null,null,null,"",null,null,null,null,null,null,null,null,{"$f":"IF(G$2034=1,\"\",IF(S1060=\"\",\"\",VLOOKUP(S1060,Tabelle!$I$5:$M$7,5,FALSE)))","v":""},{"$f":"IF(G$2034=1,\"\",IF(S1060=\"\",\"\",VLOOKUP(S1060,Tabelle!$I$5:$N$7,6,FALSE)))","v":""},null,null,null,null,null,null,null,null,null,{"$f":"IF(D1060=\"\",0,IF(D1060=D1059,COUNTIF(D$9:D1059,D1060)+1,1))","v":0},0,0]
["1053","-1900","-1900-0",null,null,null,null,null,null,null,"",null,null,null,null,null,null,null,null,{"$f":"IF(G$2034=1,\"\",IF(S1061=\"\",\"\",VLOOKUP(S1061,Tabelle!$I$5:$M$7,5,FALSE)))","v":""},{"$f":"IF(G$2034=1,\"\",IF(S1061=\"\",\"\",VLOOKUP(S1061,Tabelle!$I$5:$N$7,6,FALSE)))","v":""},null,null,null,null,null,null,null,null,null,{"$f":"IF(D1061=\"\",0,IF(D1061=D1060,COUNTIF(D$9:D1060,D1061)+1,1))","v":0},0,0]
["1054","-1900","-1900-0",null,null,null,null,null,null,null,"",null,null,null,null,null,null,null,null,{"$f":"IF(G$2034=1,\"\",IF(S1062=\"\",\"\",VLOOKUP(S1062,Tabelle!$I$5:$M$7,5,FALSE)))","v":""},{"$f":"IF(G$2034=1,\"\",IF(S1062=\"\",\"\",VLOOKUP(S1062,Tabelle!$I$5:$N$7,6,FALSE)))","v":""},null,null,null,null,null,null,null,null,null,{"$f":"IF(D1062=\"\",0,IF(D1062=D1061,COUNTIF(D$9:D1061,D1062)+1,1))","v":0},0,0]
["1055","-1900","-1900-0",null,null,null,null,null,null,null,"",null,null,null,null,null,null,null,null,{"$f":"IF(G$2034=1,\"\",IF(S1063=\"\",\"\",VLOOKUP(S1063,Tabelle!$I$5:$M$7,5,FALSE)))","v":""},{"$f":"IF(G$2034=1,\"\",IF(S1063=\"\",\"\",VLOOKUP(S1063,Tabelle!$I$5:$N$7,6,FALSE)))","v":""},null,null,null,null,null,null,null,null,null,{"$f":"IF(D1063=\"\",0,IF(D1063=D1062,COUNTIF(D$9:D1062,D1063)+1,1))","v":0},0,0]
["1056","-1900","-1900-0",null,null,null,null,null,null,null,"",null,null,null,null,null,null,null,null,{"$f":"IF(G$2034=1,\"\",IF(S1064=\"\",\"\",VLOOKUP(S1064,Tabelle!$I$5:$M$7,5,FALSE)))","v":""},{"$f":"IF(G$2034=1,\"\",IF(S1064=\"\",\"\",VLOOKUP(S1064,Tabelle!$I$5:$N$7,6,FALSE)))","v":""},null,null,null,null,null,null,null,null,null,{"$f":"IF(D1064=\"\",0,IF(D1064=D1063,COUNTIF(D$9:D1063,D1064)+1,1))","v":0},0,0]
["1057","-1900","-1900-0",null,null,null,null,null,null,null,"",null,null,null,null,null,null,null,null,{"$f":"IF(G$2034=1,\"\",IF(S1065=\"\",\"\",VLOOKUP(S1065,Tabelle!$I$5:$M$7,5,FALSE)))","v":""},{"$f":"IF(G$2034=1,\"\",IF(S1065=\"\",\"\",VLOOKUP(S1065,Tabelle!$I$5:$N$7,6,FALSE)))","v":""},null,null,null,null,null,null,null,null,null,{"$f":"IF(D1065=\"\",0,IF(D1065=D1064,COUNTIF(D$9:D1064,D1065)+1,1))","v":0},0,0]
["1058","-1900","-1900-0",null,null,null,null,null,null,null,"",null,null,null,null,null,null,null,null,{"$f":"IF(G$2034=1,\"\",IF(S1066=\"\",\"\",VLOOKUP(S1066,Tabelle!$I$5:$M$7,5,FALSE)))","v":""},{"$f":"IF(G$2034=1,\"\",IF(S1066=\"\",\"\",VLOOKUP(S1066,Tabelle!$I$5:$N$7,6,FALSE)))","v":""},null,null,null,null,null,null,null,null,null,{"$f":"IF(D1066=\"\",0,IF(D1066=D1065,COUNTIF(D$9:D1065,D1066)+1,1))","v":0},0,0]
["1059","-1900","-1900-0",null,null,null,null,null,null,null,"",null,null,null,null,null,null,null,null,{"$f":"IF(G$2034=1,\"\",IF(S1067=\"\",\"\",VLOOKUP(S1067,Tabelle!$I$5:$M$7,5,FALSE)))","v":""},{"$f":"IF(G$2034=1,\"\",IF(S1067=\"\",\"\",VLOOKUP(S1067,Tabelle!$I$5:$N$7,6,FALSE)))","v":""},null,null,null,null,null,null,null,null,null,{"$f":"IF(D1067=\"\",0,IF(D1067=D1066,COUNTIF(D$9:D1066,D1067)+1,1))","v":0},0,0]
["1060","-1900","-1900-0",null,null,null,null,null,null,null,"",null,null,null,null,null,null,null,null,{"$f":"IF(G$2034=1,\"\",IF(S1068=\"\",\"\",VLOOKUP(S1068,Tabelle!$I$5:$M$7,5,FALSE)))","v":""},{"$f":"IF(G$2034=1,\"\",IF(S1068=\"\",\"\",VLOOKUP(S1068,Tabelle!$I$5:$N$7,6,FALSE)))","v":""},null,null,null,null,null,null,null,null,null,{"$f":"IF(D1068=\"\",0,IF(D1068=D1067,COUNTIF(D$9:D1067,D1068)+1,1))","v":0},0,0]
["1061","-1900","-1900-0",null,null,null,null,null,null,null,"",null,null,null,null,null,null,null,null,{"$f":"IF(G$2034=1,\"\",IF(S1069=\"\",\"\",VLOOKUP(S1069,Tabelle!$I$5:$M$7,5,FALSE)))","v":""},{"$f":"IF(G$2034=1,\"\",IF(S1069=\"\",\"\",VLOOKUP(S1069,Tabelle!$I$5:$N$7,6,FALSE)))","v":""},null,null,null,null,null,null,null,null,null,{"$f":"IF(D1069=\"\",0,IF(D1069=D1068,COUNTIF(D$9:D1068,D1069)+1,1))","v":0},0,0]
["1062","-1900","-1900-0",null,null,null,null,null,null,null,"",null,null,null,null,null,null,null,null,{"$f":"IF(G$2034=1,\"\",IF(S1070=\"\",\"\",VLOOKUP(S1070,Tabelle!$I$5:$M$7,5,FALSE)))","v":""},{"$f":"IF(G$2034=1,\"\",IF(S1070=\"\",\"\",VLOOKUP(S1070,Tabelle!$I$5:$N$7,6,FALSE)))","v":""},null,null,null,null,null,null,null,null,null,{"$f":"IF(D1070=\"\",0,IF(D1070=D1069,COUNTIF(D$9:D1069,D1070)+1,1))","v":0},0,0]
["1063","-1900","-1900-0",null,null,null,null,null,null,null,"",null,null,null,null,null,null,null,null,{"$f":"IF(G$2034=1,\"\",IF(S1071=\"\",\"\",VLOOKUP(S1071,Tabelle!$I$5:$M$7,5,FALSE)))","v":""},{"$f":"IF(G$2034=1,\"\",IF(S1071=\"\",\"\",VLOOKUP(S1071,Tabelle!$I$5:$N$7,6,FALSE)))","v":""},null,null,null,null,null,null,null,null,null,{"$f":"IF(D1071=\"\",0,IF(D1071=D1070,COUNTIF(D$9:D1070,D1071)+1,1))","v":0},0,0]
["1064","-1900","-1900-0",null,null,null,null,null,null,null,"",null,null,null,null,null,null,null,null,{"$f":"IF(G$2034=1,\"\",IF(S1072=\"\",\"\",VLOOKUP(S1072,Tabelle!$I$5:$M$7,5,FALSE)))","v":""},{"$f":"IF(G$2034=1,\"\",IF(S1072=\"\",\"\",VLOOKUP(S1072,Tabelle!$I$5:$N$7,6,FALSE)))","v":""},null,null,null,null,null,null,null,null,null,{"$f":"IF(D1072=\"\",0,IF(D1072=D1071,COUNTIF(D$9:D1071,D1072)+1,1))","v":0},0,0]
["1065","-1900","-1900-0",null,null,null,null,null,null,null,"",null,null,null,null,null,null,null,null,{"$f":"IF(G$2034=1,\"\",IF(S1073=\"\",\"\",VLOOKUP(S1073,Tabelle!$I$5:$M$7,5,FALSE)))","v":""},{"$f":"IF(G$2034=1,\"\",IF(S1073=\"\",\"\",VLOOKUP(S1073,Tabelle!$I$5:$N$7,6,FALSE)))","v":""},null,null,null,null,null,null,null,null,null,{"$f":"IF(D1073=\"\",0,IF(D1073=D1072,COUNTIF(D$9:D1072,D1073)+1,1))","v":0},0,0]
["1066","-1900","-1900-0",null,null,null,null,null,null,null,"",null,null,null,null,null,null,null,null,{"$f":"IF(G$2034=1,\"\",IF(S1074=\"\",\"\",VLOOKUP(S1074,Tabelle!$I$5:$M$7,5,FALSE)))","v":""},{"$f":"IF(G$2034=1,\"\",IF(S1074=\"\",\"\",VLOOKUP(S1074,Tabelle!$I$5:$N$7,6,FALSE)))","v":""},null,null,null,null,null,null,null,null,null,{"$f":"IF(D1074=\"\",0,IF(D1074=D1073,COUNTIF(D$9:D1073,D1074)+1,1))","v":0},0,0]
["1067","-1900","-1900-0",null,null,null,null,null,null,null,"",null,null,null,null,null,null,null,null,{"$f":"IF(G$2034=1,\"\",IF(S1075=\"\",\"\",VLOOKUP(S1075,Tabelle!$I$5:$M$7,5,FALSE)))","v":""},{"$f":"IF(G$2034=1,\"\",IF(S1075=\"\",\"\",VLOOKUP(S1075,Tabelle!$I$5:$N$7,6,FALSE)))","v":""},null,null,null,null,null,null,null,null,null,{"$f":"IF(D1075=\"\",0,IF(D1075=D1074,COUNTIF(D$9:D1074,D1075)+1,1))","v":0},0,0]
["1068","-1900","-1900-0",null,null,null,null,null,null,null,"",null,null,null,null,null,null,null,null,{"$f":"IF(G$2034=1,\"\",IF(S1076=\"\",\"\",VLOOKUP(S1076,Tabelle!$I$5:$M$7,5,FALSE)))","v":""},{"$f":"IF(G$2034=1,\"\",IF(S1076=\"\",\"\",VLOOKUP(S1076,Tabelle!$I$5:$N$7,6,FALSE)))","v":""},null,null,null,null,null,null,null,null,null,{"$f":"IF(D1076=\"\",0,IF(D1076=D1075,COUNTIF(D$9:D1075,D1076)+1,1))","v":0},0,0]
["1069","-1900","-1900-0",null,null,null,null,null,null,null,"",null,null,null,null,null,null,null,null,{"$f":"IF(G$2034=1,\"\",IF(S1077=\"\",\"\",VLOOKUP(S1077,Tabelle!$I$5:$M$7,5,FALSE)))","v":""},{"$f":"IF(G$2034=1,\"\",IF(S1077=\"\",\"\",VLOOKUP(S1077,Tabelle!$I$5:$N$7,6,FALSE)))","v":""},null,null,null,null,null,null,null,null,null,{"$f":"IF(D1077=\"\",0,IF(D1077=D1076,COUNTIF(D$9:D1076,D1077)+1,1))","v":0},0,0]
["1070","-1900","-1900-0",null,null,null,null,null,null,null,"",null,null,null,null,null,null,null,null,{"$f":"IF(G$2034=1,\"\",IF(S1078=\"\",\"\",VLOOKUP(S1078,Tabelle!$I$5:$M$7,5,FALSE)))","v":""},{"$f":"IF(G$2034=1,\"\",IF(S1078=\"\",\"\",VLOOKUP(S1078,Tabelle!$I$5:$N$7,6,FALSE)))","v":""},null,null,null,null,null,null,null,null,null,{"$f":"IF(D1078=\"\",0,IF(D1078=D1077,COUNTIF(D$9:D1077,D1078)+1,1))","v":0},0,0]
["1071","-1900","-1900-0",null,null,null,null,null,null,null,"",null,null,null,null,null,null,null,null,{"$f":"IF(G$2034=1,\"\",IF(S1079=\"\",\"\",VLOOKUP(S1079,Tabelle!$I$5:$M$7,5,FALSE)))","v":""},{"$f":"IF(G$2034=1,\"\",IF(S1079=\"\",\"\",VLOOKUP(S1079,Tabelle!$I$5:$N$7,6,FALSE)))","v":""},null,null,null,null,null,null,null,null,null,{"$f":"IF(D1079=\"\",0,IF(D1079=D1078,COUNTIF(D$9:D1078,D1079)+1,1))","v":0},0,0]
["1072","-1900","-1900-0",null,null,null,null,null,null,null,"",null,null,null,null,null,null,null,null,{"$f":"IF(G$2034=1,\"\",IF(S1080=\"\",\"\",VLOOKUP(S1080,Tabelle!$I$5:$M$7,5,FALSE)))","v":""},{"$f":"IF(G$2034=1,\"\",IF(S1080=\"\",\"\",VLOOKUP(S1080,Tabelle!$I$5:$N$7,6,FALSE)))","v":""},null,null,null,null,null,null,null,null,null,{"$f":"IF(D1080=\"\",0,IF(D1080=D1079,COUNTIF(D$9:D1079,D1080)+1,1))","v":0},0,0]
["1073","-1900","-1900-0",null,null,null,null,null,null,null,"",null,null,null,null,null,null,null,null,{"$f":"IF(G$2034=1,\"\",IF(S1081=\"\",\"\",VLOOKUP(S1081,Tabelle!$I$5:$M$7,5,FALSE)))","v":""},{"$f":"IF(G$2034=1,\"\",IF(S1081=\"\",\"\",VLOOKUP(S1081,Tabelle!$I$5:$N$7,6,FALSE)))","v":""},null,null,null,null,null,null,null,null,null,{"$f":"IF(D1081=\"\",0,IF(D1081=D1080,COUNTIF(D$9:D1080,D1081)+1,1))","v":0},0,0]
["1074","-1900","-1900-0",null,null,null,null,null,null,null,"",null,null,null,null,null,null,null,null,{"$f":"IF(G$2034=1,\"\",IF(S1082=\"\",\"\",VLOOKUP(S1082,Tabelle!$I$5:$M$7,5,FALSE)))","v":""},{"$f":"IF(G$2034=1,\"\",IF(S1082=\"\",\"\",VLOOKUP(S1082,Tabelle!$I$5:$N$7,6,FALSE)))","v":""},null,null,null,null,null,null,null,null,null,{"$f":"IF(D1082=\"\",0,IF(D1082=D1081,COUNTIF(D$9:D1081,D1082)+1,1))","v":0},0,0]
["1075","-1900","-1900-0",null,null,null,null,null,null,null,"",null,null,null,null,null,null,null,null,{"$f":"IF(G$2034=1,\"\",IF(S1083=\"\",\"\",VLOOKUP(S1083,Tabelle!$I$5:$M$7,5,FALSE)))","v":""},{"$f":"IF(G$2034=1,\"\",IF(S1083=\"\",\"\",VLOOKUP(S1083,Tabelle!$I$5:$N$7,6,FALSE)))","v":""},null,null,null,null,null,null,null,null,null,{"$f":"IF(D1083=\"\",0,IF(D1083=D1082,COUNTIF(D$9:D1082,D1083)+1,1))","v":0},0,0]
["1076","-1900","-1900-0",null,null,null,null,null,null,null,"",null,null,null,null,null,null,null,null,{"$f":"IF(G$2034=1,\"\",IF(S1084=\"\",\"\",VLOOKUP(S1084,Tabelle!$I$5:$M$7,5,FALSE)))","v":""},{"$f":"IF(G$2034=1,\"\",IF(S1084=\"\",\"\",VLOOKUP(S1084,Tabelle!$I$5:$N$7,6,FALSE)))","v":""},null,null,null,null,null,null,null,null,null,{"$f":"IF(D1084=\"\",0,IF(D1084=D1083,COUNTIF(D$9:D1083,D1084)+1,1))","v":0},0,0]
["1077","-1900","-1900-0",null,null,null,null,null,null,null,"",null,null,null,null,null,null,null,null,{"$f":"IF(G$2034=1,\"\",IF(S1085=\"\",\"\",VLOOKUP(S1085,Tabelle!$I$5:$M$7,5,FALSE)))","v":""},{"$f":"IF(G$2034=1,\"\",IF(S1085=\"\",\"\",VLOOKUP(S1085,Tabelle!$I$5:$N$7,6,FALSE)))","v":""},null,null,null,null,null,null,null,null,null,{"$f":"IF(D1085=\"\",0,IF(D1085=D1084,COUNTIF(D$9:D1084,D1085)+1,1))","v":0},0,0]
["1078","-1900","-1900-0",null,null,null,null,null,null,null,"",null,null,null,null,null,null,null,null,{"$f":"IF(G$2034=1,\"\",IF(S1086=\"\",\"\",VLOOKUP(S1086,Tabelle!$I$5:$M$7,5,FALSE)))","v":""},{"$f":"IF(G$2034=1,\"\",IF(S1086=\"\",\"\",VLOOKUP(S1086,Tabelle!$I$5:$N$7,6,FALSE)))","v":""},null,null,null,null,null,null,null,null,null,{"$f":"IF(D1086=\"\",0,IF(D1086=D1085,COUNTIF(D$9:D1085,D1086)+1,1))","v":0},0,0]
["1079","-1900","-1900-0",null,null,null,null,null,null,null,"",null,null,null,null,null,null,null,null,{"$f":"IF(G$2034=1,\"\",IF(S1087=\"\",\"\",VLOOKUP(S1087,Tabelle!$I$5:$M$7,5,FALSE)))","v":""},{"$f":"IF(G$2034=1,\"\",IF(S1087=\"\",\"\",VLOOKUP(S1087,Tabelle!$I$5:$N$7,6,FALSE)))","v":""},null,null,null,null,null,null,null,null,null,{"$f":"IF(D1087=\"\",0,IF(D1087=D1086,COUNTIF(D$9:D1086,D1087)+1,1))","v":0},0,0]
["1080","-1900","-1900-0",null,null,null,null,null,null,null,"",null,null,null,null,null,null,null,null,{"$f":"IF(G$2034=1,\"\",IF(S1088=\"\",\"\",VLOOKUP(S1088,Tabelle!$I$5:$M$7,5,FALSE)))","v":""},{"$f":"IF(G$2034=1,\"\",IF(S1088=\"\",\"\",VLOOKUP(S1088,Tabelle!$I$5:$N$7,6,FALSE)))","v":""},null,null,null,null,null,null,null,null,null,{"$f":"IF(D1088=\"\",0,IF(D1088=D1087,COUNTIF(D$9:D1087,D1088)+1,1))","v":0},0,0]
["1081","-1900","-1900-0",null,null,null,null,null,null,null,"",null,null,null,null,null,null,null,null,{"$f":"IF(G$2034=1,\"\",IF(S1089=\"\",\"\",VLOOKUP(S1089,Tabelle!$I$5:$M$7,5,FALSE)))","v":""},{"$f":"IF(G$2034=1,\"\",IF(S1089=\"\",\"\",VLOOKUP(S1089,Tabelle!$I$5:$N$7,6,FALSE)))","v":""},null,null,null,null,null,null,null,null,null,{"$f":"IF(D1089=\"\",0,IF(D1089=D1088,COUNTIF(D$9:D1088,D1089)+1,1))","v":0},0,0]
["1082","-1900","-1900-0",null,null,null,null,null,null,null,"",null,null,null,null,null,null,null,null,{"$f":"IF(G$2034=1,\"\",IF(S1090=\"\",\"\",VLOOKUP(S1090,Tabelle!$I$5:$M$7,5,FALSE)))","v":""},{"$f":"IF(G$2034=1,\"\",IF(S1090=\"\",\"\",VLOOKUP(S1090,Tabelle!$I$5:$N$7,6,FALSE)))","v":""},null,null,null,null,null,null,null,null,null,{"$f":"IF(D1090=\"\",0,IF(D1090=D1089,COUNTIF(D$9:D1089,D1090)+1,1))","v":0},0,0]
["1083","-1900","-1900-0",null,null,null,null,null,null,null,"",null,null,null,null,null,null,null,null,{"$f":"IF(G$2034=1,\"\",IF(S1091=\"\",\"\",VLOOKUP(S1091,Tabelle!$I$5:$M$7,5,FALSE)))","v":""},{"$f":"IF(G$2034=1,\"\",IF(S1091=\"\",\"\",VLOOKUP(S1091,Tabelle!$I$5:$N$7,6,FALSE)))","v":""},null,null,null,null,null,null,null,null,null,{"$f":"IF(D1091=\"\",0,IF(D1091=D1090,COUNTIF(D$9:D1090,D1091)+1,1))","v":0},0,0]
["1084","-1900","-1900-0",null,null,null,null,null,null,null,"",null,null,null,null,null,null,null,null,{"$f":"IF(G$2034=1,\"\",IF(S1092=\"\",\"\",VLOOKUP(S1092,Tabelle!$I$5:$M$7,5,FALSE)))","v":""},{"$f":"IF(G$2034=1,\"\",IF(S1092=\"\",\"\",VLOOKUP(S1092,Tabelle!$I$5:$N$7,6,FALSE)))","v":""},null,null,null,null,null,null,null,null,null,{"$f":"IF(D1092=\"\",0,IF(D1092=D1091,COUNTIF(D$9:D1091,D1092)+1,1))","v":0},0,0]
["1085","-1900","-1900-0",null,null,null,null,null,null,null,"",null,null,null,null,null,null,null,null,{"$f":"IF(G$2034=1,\"\",IF(S1093=\"\",\"\",VLOOKUP(S1093,Tabelle!$I$5:$M$7,5,FALSE)))","v":""},{"$f":"IF(G$2034=1,\"\",IF(S1093=\"\",\"\",VLOOKUP(S1093,Tabelle!$I$5:$N$7,6,FALSE)))","v":""},null,null,null,null,null,null,null,null,null,{"$f":"IF(D1093=\"\",0,IF(D1093=D1092,COUNTIF(D$9:D1092,D1093)+1,1))","v":0},0,0]
["1086","-1900","-1900-0",null,null,null,null,null,null,null,"",null,null,null,null,null,null,null,null,{"$f":"IF(G$2034=1,\"\",IF(S1094=\"\",\"\",VLOOKUP(S1094,Tabelle!$I$5:$M$7,5,FALSE)))","v":""},{"$f":"IF(G$2034=1,\"\",IF(S1094=\"\",\"\",VLOOKUP(S1094,Tabelle!$I$5:$N$7,6,FALSE)))","v":""},null,null,null,null,null,null,null,null,null,{"$f":"IF(D1094=\"\",0,IF(D1094=D1093,COUNTIF(D$9:D1093,D1094)+1,1))","v":0},0,0]
["1087","-1900","-1900-0",null,null,null,null,null,null,null,"",null,null,null,null,null,null,null,null,{"$f":"IF(G$2034=1,\"\",IF(S1095=\"\",\"\",VLOOKUP(S1095,Tabelle!$I$5:$M$7,5,FALSE)))","v":""},{"$f":"IF(G$2034=1,\"\",IF(S1095=\"\",\"\",VLOOKUP(S1095,Tabelle!$I$5:$N$7,6,FALSE)))","v":""},null,null,null,null,null,null,null,null,null,{"$f":"IF(D1095=\"\",0,IF(D1095=D1094,COUNTIF(D$9:D1094,D1095)+1,1))","v":0},0,0]
["1088","-1900","-1900-0",null,null,null,null,null,null,null,"",null,null,null,null,null,null,null,null,{"$f":"IF(G$2034=1,\"\",IF(S1096=\"\",\"\",VLOOKUP(S1096,Tabelle!$I$5:$M$7,5,FALSE)))","v":""},{"$f":"IF(G$2034=1,\"\",IF(S1096=\"\",\"\",VLOOKUP(S1096,Tabelle!$I$5:$N$7,6,FALSE)))","v":""},null,null,null,null,null,null,null,null,null,{"$f":"IF(D1096=\"\",0,IF(D1096=D1095,COUNTIF(D$9:D1095,D1096)+1,1))","v":0},0,0]
["1089","-1900",{"$f":"IF(G$2034=1,0,B1097&\"-\"&AE1097)","v":"-1900-0"},null,null,null,null,null,null,null,{"$f":"IF(G$2034=1,0,IF(OR(J1097=\"\",ISERROR($O$2034)),\"\",VLOOKUP(J1097,$L$2019:$N$2027,2,FALSE)))","v":""},null,null,null,null,null,null,null,null,{"$f":"IF(G$2034=1,\"\",IF(S1097=\"\",\"\",VLOOKUP(S1097,Tabelle!$I$5:$M$7,5,FALSE)))","v":""},{"$f":"IF(G$2034=1,\"\",IF(S1097=\"\",\"\",VLOOKUP(S1097,Tabelle!$I$5:$N$7,6,FALSE)))","v":""},null,null,null,null,null,null,null,null,null,{"$f":"IF(D1097=\"\",0,IF(D1097=D1096,COUNTIF(D$9:D1096,D1097)+1,1))","v":0},0,0]
["1090",{"$f":"IF(AG1098=$AG$2013,0,IF(G$2034=1,0,D1098&\"-\"&YEAR(E1098)))","v":"-1900"},"-1900-0",null,null,null,null,null,null,null,"",null,null,null,null,null,null,null,null,{"$f":"IF(G$2034=1,\"\",IF(S1098=\"\",\"\",VLOOKUP(S1098,Tabelle!$I$5:$M$7,5,FALSE)))","v":""},{"$f":"IF(G$2034=1,\"\",IF(S1098=\"\",\"\",VLOOKUP(S1098,Tabelle!$I$5:$N$7,6,FALSE)))","v":""},null,null,null,null,null,null,null,null,null,{"$f":"IF(D1098=\"\",0,IF(D1098=D1097,COUNTIF(D$9:D1097,D1098)+1,1))","v":0},{"$f":"IF(G$2034=1,0,IF(AE1098=28,1,0))","v":0},{"$f":"IF(E1098>0,IF(OR(MONTH(E1098)<$G$2026,MONTH(E1098)>$G$2027),AG$2013,0),0)","v":0}]
["1091","-1900","-1900-0",null,null,null,null,null,null,null,"",null,null,null,null,null,null,null,null,{"$f":"IF(G$2034=1,\"\",IF(S1099=\"\",\"\",VLOOKUP(S1099,Tabelle!$I$5:$M$7,5,FALSE)))","v":""},{"$f":"IF(G$2034=1,\"\",IF(S1099=\"\",\"\",VLOOKUP(S1099,Tabelle!$I$5:$N$7,6,FALSE)))","v":""},null,null,null,null,null,null,null,null,null,{"$f":"IF(D1099=\"\",0,IF(D1099=D1098,COUNTIF(D$9:D1098,D1099)+1,1))","v":0},0,0]
["1092","-1900","-1900-0",null,null,null,null,null,null,null,"",null,null,null,null,null,null,null,null,{"$f":"IF(G$2034=1,\"\",IF(S1100=\"\",\"\",VLOOKUP(S1100,Tabelle!$I$5:$M$7,5,FALSE)))","v":""},{"$f":"IF(G$2034=1,\"\",IF(S1100=\"\",\"\",VLOOKUP(S1100,Tabelle!$I$5:$N$7,6,FALSE)))","v":""},null,null,null,null,null,null,null,null,null,{"$f":"IF(D1100=\"\",0,IF(D1100=D1099,COUNTIF(D$9:D1099,D1100)+1,1))","v":0},0,0]
["1093","-1900","-1900-0",null,null,null,null,null,null,null,"",null,null,null,null,null,null,null,null,{"$f":"IF(G$2034=1,\"\",IF(S1101=\"\",\"\",VLOOKUP(S1101,Tabelle!$I$5:$M$7,5,FALSE)))","v":""},{"$f":"IF(G$2034=1,\"\",IF(S1101=\"\",\"\",VLOOKUP(S1101,Tabelle!$I$5:$N$7,6,FALSE)))","v":""},null,null,null,null,null,null,null,null,null,{"$f":"IF(D1101=\"\",0,IF(D1101=D1100,COUNTIF(D$9:D1100,D1101)+1,1))","v":0},0,0]
["1094","-1900","-1900-0",null,null,null,null,null,null,null,"",null,null,null,null,null,null,null,null,{"$f":"IF(G$2034=1,\"\",IF(S1102=\"\",\"\",VLOOKUP(S1102,Tabelle!$I$5:$M$7,5,FALSE)))","v":""},{"$f":"IF(G$2034=1,\"\",IF(S1102=\"\",\"\",VLOOKUP(S1102,Tabelle!$I$5:$N$7,6,FALSE)))","v":""},null,null,null,null,null,null,null,null,null,{"$f":"IF(D1102=\"\",0,IF(D1102=D1101,COUNTIF(D$9:D1101,D1102)+1,1))","v":0},0,0]
["1095","-1900","-1900-0",null,null,null,null,null,null,null,"",null,null,null,null,null,null,null,null,{"$f":"IF(G$2034=1,\"\",IF(S1103=\"\",\"\",VLOOKUP(S1103,Tabelle!$I$5:$M$7,5,FALSE)))","v":""},{"$f":"IF(G$2034=1,\"\",IF(S1103=\"\",\"\",VLOOKUP(S1103,Tabelle!$I$5:$N$7,6,FALSE)))","v":""},null,null,null,null,null,null,null,null,null,{"$f":"IF(D1103=\"\",0,IF(D1103=D1102,COUNTIF(D$9:D1102,D1103)+1,1))","v":0},0,0]
["1096","-1900","-1900-0",null,null,null,null,null,null,null,"",null,null,null,null,null,null,null,null,{"$f":"IF(G$2034=1,\"\",IF(S1104=\"\",\"\",VLOOKUP(S1104,Tabelle!$I$5:$M$7,5,FALSE)))","v":""},{"$f":"IF(G$2034=1,\"\",IF(S1104=\"\",\"\",VLOOKUP(S1104,Tabelle!$I$5:$N$7,6,FALSE)))","v":""},null,null,null,null,null,null,null,null,null,{"$f":"IF(D1104=\"\",0,IF(D1104=D1103,COUNTIF(D$9:D1103,D1104)+1,1))","v":0},0,0]
["1097","-1900","-1900-0",null,null,null,null,null,null,null,"",null,null,null,null,null,null,null,null,{"$f":"IF(G$2034=1,\"\",IF(S1105=\"\",\"\",VLOOKUP(S1105,Tabelle!$I$5:$M$7,5,FALSE)))","v":""},{"$f":"IF(G$2034=1,\"\",IF(S1105=\"\",\"\",VLOOKUP(S1105,Tabelle!$I$5:$N$7,6,FALSE)))","v":""},null,null,null,null,null,null,null,null,null,{"$f":"IF(D1105=\"\",0,IF(D1105=D1104,COUNTIF(D$9:D1104,D1105)+1,1))","v":0},0,0]
["1098","-1900","-1900-0",null,null,null,null,null,null,null,"",null,null,null,null,null,null,null,null,{"$f":"IF(G$2034=1,\"\",IF(S1106=\"\",\"\",VLOOKUP(S1106,Tabelle!$I$5:$M$7,5,FALSE)))","v":""},{"$f":"IF(G$2034=1,\"\",IF(S1106=\"\",\"\",VLOOKUP(S1106,Tabelle!$I$5:$N$7,6,FALSE)))","v":""},null,null,null,null,null,null,null,null,null,{"$f":"IF(D1106=\"\",0,IF(D1106=D1105,COUNTIF(D$9:D1105,D1106)+1,1))","v":0},0,0]
["1099","-1900","-1900-0",null,null,null,null,null,null,null,"",null,null,null,null,null,null,null,null,{"$f":"IF(G$2034=1,\"\",IF(S1107=\"\",\"\",VLOOKUP(S1107,Tabelle!$I$5:$M$7,5,FALSE)))","v":""},{"$f":"IF(G$2034=1,\"\",IF(S1107=\"\",\"\",VLOOKUP(S1107,Tabelle!$I$5:$N$7,6,FALSE)))","v":""},null,null,null,null,null,null,null,null,null,{"$f":"IF(D1107=\"\",0,IF(D1107=D1106,COUNTIF(D$9:D1106,D1107)+1,1))","v":0},0,0]
["1100","-1900","-1900-0",null,null,null,null,null,null,null,"",null,null,null,null,null,null,null,null,{"$f":"IF(G$2034=1,\"\",IF(S1108=\"\",\"\",VLOOKUP(S1108,Tabelle!$I$5:$M$7,5,FALSE)))","v":""},{"$f":"IF(G$2034=1,\"\",IF(S1108=\"\",\"\",VLOOKUP(S1108,Tabelle!$I$5:$N$7,6,FALSE)))","v":""},null,null,null,null,null,null,null,null,null,{"$f":"IF(D1108=\"\",0,IF(D1108=D1107,COUNTIF(D$9:D1107,D1108)+1,1))","v":0},0,0]
["1101","-1900","-1900-0",null,null,null,null,null,null,null,"",null,null,null,null,null,null,null,null,{"$f":"IF(G$2034=1,\"\",IF(S1109=\"\",\"\",VLOOKUP(S1109,Tabelle!$I$5:$M$7,5,FALSE)))","v":""},{"$f":"IF(G$2034=1,\"\",IF(S1109=\"\",\"\",VLOOKUP(S1109,Tabelle!$I$5:$N$7,6,FALSE)))","v":""},null,null,null,null,null,null,null,null,null,{"$f":"IF(D1109=\"\",0,IF(D1109=D1108,COUNTIF(D$9:D1108,D1109)+1,1))","v":0},0,0]
["1102","-1900","-1900-0",null,null,null,null,null,null,null,"",null,null,null,null,null,null,null,null,{"$f":"IF(G$2034=1,\"\",IF(S1110=\"\",\"\",VLOOKUP(S1110,Tabelle!$I$5:$M$7,5,FALSE)))","v":""},{"$f":"IF(G$2034=1,\"\",IF(S1110=\"\",\"\",VLOOKUP(S1110,Tabelle!$I$5:$N$7,6,FALSE)))","v":""},null,null,null,null,null,null,null,null,null,{"$f":"IF(D1110=\"\",0,IF(D1110=D1109,COUNTIF(D$9:D1109,D1110)+1,1))","v":0},0,0]
["1103","-1900","-1900-0",null,null,null,null,null,null,null,"",null,null,null,null,null,null,null,null,{"$f":"IF(G$2034=1,\"\",IF(S1111=\"\",\"\",VLOOKUP(S1111,Tabelle!$I$5:$M$7,5,FALSE)))","v":""},{"$f":"IF(G$2034=1,\"\",IF(S1111=\"\",\"\",VLOOKUP(S1111,Tabelle!$I$5:$N$7,6,FALSE)))","v":""},null,null,null,null,null,null,null,null,null,{"$f":"IF(D1111=\"\",0,IF(D1111=D1110,COUNTIF(D$9:D1110,D1111)+1,1))","v":0},0,0]
["1104","-1900","-1900-0",null,null,null,null,null,null,null,"",null,null,null,null,null,null,null,null,{"$f":"IF(G$2034=1,\"\",IF(S1112=\"\",\"\",VLOOKUP(S1112,Tabelle!$I$5:$M$7,5,FALSE)))","v":""},{"$f":"IF(G$2034=1,\"\",IF(S1112=\"\",\"\",VLOOKUP(S1112,Tabelle!$I$5:$N$7,6,FALSE)))","v":""},null,null,null,null,null,null,null,null,null,{"$f":"IF(D1112=\"\",0,IF(D1112=D1111,COUNTIF(D$9:D1111,D1112)+1,1))","v":0},0,0]
["1105","-1900","-1900-0",null,null,null,null,null,null,null,"",null,null,null,null,null,null,null,null,{"$f":"IF(G$2034=1,\"\",IF(S1113=\"\",\"\",VLOOKUP(S1113,Tabelle!$I$5:$M$7,5,FALSE)))","v":""},{"$f":"IF(G$2034=1,\"\",IF(S1113=\"\",\"\",VLOOKUP(S1113,Tabelle!$I$5:$N$7,6,FALSE)))","v":""},null,null,null,null,null,null,null,null,null,{"$f":"IF(D1113=\"\",0,IF(D1113=D1112,COUNTIF(D$9:D1112,D1113)+1,1))","v":0},0,0]
["1106","-1900","-1900-0",null,null,null,null,null,null,null,"",null,null,null,null,null,null,null,null,{"$f":"IF(G$2034=1,\"\",IF(S1114=\"\",\"\",VLOOKUP(S1114,Tabelle!$I$5:$M$7,5,FALSE)))","v":""},{"$f":"IF(G$2034=1,\"\",IF(S1114=\"\",\"\",VLOOKUP(S1114,Tabelle!$I$5:$N$7,6,FALSE)))","v":""},null,null,null,null,null,null,null,null,null,{"$f":"IF(D1114=\"\",0,IF(D1114=D1113,COUNTIF(D$9:D1113,D1114)+1,1))","v":0},0,0]
["1107","-1900","-1900-0",null,null,null,null,null,null,null,"",null,null,null,null,null,null,null,null,{"$f":"IF(G$2034=1,\"\",IF(S1115=\"\",\"\",VLOOKUP(S1115,Tabelle!$I$5:$M$7,5,FALSE)))","v":""},{"$f":"IF(G$2034=1,\"\",IF(S1115=\"\",\"\",VLOOKUP(S1115,Tabelle!$I$5:$N$7,6,FALSE)))","v":""},null,null,null,null,null,null,null,null,null,{"$f":"IF(D1115=\"\",0,IF(D1115=D1114,COUNTIF(D$9:D1114,D1115)+1,1))","v":0},0,0]
["1108","-1900","-1900-0",null,null,null,null,null,null,null,"",null,null,null,null,null,null,null,null,{"$f":"IF(G$2034=1,\"\",IF(S1116=\"\",\"\",VLOOKUP(S1116,Tabelle!$I$5:$M$7,5,FALSE)))","v":""},{"$f":"IF(G$2034=1,\"\",IF(S1116=\"\",\"\",VLOOKUP(S1116,Tabelle!$I$5:$N$7,6,FALSE)))","v":""},null,null,null,null,null,null,null,null,null,{"$f":"IF(D1116=\"\",0,IF(D1116=D1115,COUNTIF(D$9:D1115,D1116)+1,1))","v":0},0,0]
["1109","-1900","-1900-0",null,null,null,null,null,null,null,"",null,null,null,null,null,null,null,null,{"$f":"IF(G$2034=1,\"\",IF(S1117=\"\",\"\",VLOOKUP(S1117,Tabelle!$I$5:$M$7,5,FALSE)))","v":""},{"$f":"IF(G$2034=1,\"\",IF(S1117=\"\",\"\",VLOOKUP(S1117,Tabelle!$I$5:$N$7,6,FALSE)))","v":""},null,null,null,null,null,null,null,null,null,{"$f":"IF(D1117=\"\",0,IF(D1117=D1116,COUNTIF(D$9:D1116,D1117)+1,1))","v":0},0,0]
["1110","-1900","-1900-0",null,null,null,null,null,null,null,"",null,null,null,null,null,null,null,null,{"$f":"IF(G$2034=1,\"\",IF(S1118=\"\",\"\",VLOOKUP(S1118,Tabelle!$I$5:$M$7,5,FALSE)))","v":""},{"$f":"IF(G$2034=1,\"\",IF(S1118=\"\",\"\",VLOOKUP(S1118,Tabelle!$I$5:$N$7,6,FALSE)))","v":""},null,null,null,null,null,null,null,null,null,{"$f":"IF(D1118=\"\",0,IF(D1118=D1117,COUNTIF(D$9:D1117,D1118)+1,1))","v":0},0,0]
["1111","-1900","-1900-0",null,null,null,null,null,null,null,"",null,null,null,null,null,null,null,null,{"$f":"IF(G$2034=1,\"\",IF(S1119=\"\",\"\",VLOOKUP(S1119,Tabelle!$I$5:$M$7,5,FALSE)))","v":""},{"$f":"IF(G$2034=1,\"\",IF(S1119=\"\",\"\",VLOOKUP(S1119,Tabelle!$I$5:$N$7,6,FALSE)))","v":""},null,null,null,null,null,null,null,null,null,{"$f":"IF(D1119=\"\",0,IF(D1119=D1118,COUNTIF(D$9:D1118,D1119)+1,1))","v":0},0,0]
["1112","-1900","-1900-0",null,null,null,null,null,null,null,"",null,null,null,null,null,null,null,null,{"$f":"IF(G$2034=1,\"\",IF(S1120=\"\",\"\",VLOOKUP(S1120,Tabelle!$I$5:$M$7,5,FALSE)))","v":""},{"$f":"IF(G$2034=1,\"\",IF(S1120=\"\",\"\",VLOOKUP(S1120,Tabelle!$I$5:$N$7,6,FALSE)))","v":""},null,null,null,null,null,null,null,null,null,{"$f":"IF(D1120=\"\",0,IF(D1120=D1119,COUNTIF(D$9:D1119,D1120)+1,1))","v":0},0,0]
["1113","-1900","-1900-0",null,null,null,null,null,null,null,"",null,null,null,null,null,null,null,null,{"$f":"IF(G$2034=1,\"\",IF(S1121=\"\",\"\",VLOOKUP(S1121,Tabelle!$I$5:$M$7,5,FALSE)))","v":""},{"$f":"IF(G$2034=1,\"\",IF(S1121=\"\",\"\",VLOOKUP(S1121,Tabelle!$I$5:$N$7,6,FALSE)))","v":""},null,null,null,null,null,null,null,null,null,{"$f":"IF(D1121=\"\",0,IF(D1121=D1120,COUNTIF(D$9:D1120,D1121)+1,1))","v":0},0,0]
["1114","-1900","-1900-0",null,null,null,null,null,null,null,"",null,null,null,null,null,null,null,null,{"$f":"IF(G$2034=1,\"\",IF(S1122=\"\",\"\",VLOOKUP(S1122,Tabelle!$I$5:$M$7,5,FALSE)))","v":""},{"$f":"IF(G$2034=1,\"\",IF(S1122=\"\",\"\",VLOOKUP(S1122,Tabelle!$I$5:$N$7,6,FALSE)))","v":""},null,null,null,null,null,null,null,null,null,{"$f":"IF(D1122=\"\",0,IF(D1122=D1121,COUNTIF(D$9:D1121,D1122)+1,1))","v":0},0,0]
["1115","-1900","-1900-0",null,null,null,null,null,null,null,"",null,null,null,null,null,null,null,null,{"$f":"IF(G$2034=1,\"\",IF(S1123=\"\",\"\",VLOOKUP(S1123,Tabelle!$I$5:$M$7,5,FALSE)))","v":""},{"$f":"IF(G$2034=1,\"\",IF(S1123=\"\",\"\",VLOOKUP(S1123,Tabelle!$I$5:$N$7,6,FALSE)))","v":""},null,null,null,null,null,null,null,null,null,{"$f":"IF(D1123=\"\",0,IF(D1123=D1122,COUNTIF(D$9:D1122,D1123)+1,1))","v":0},0,0]
["1116","-1900","-1900-0",null,null,null,null,null,null,null,"",null,null,null,null,null,null,null,null,{"$f":"IF(G$2034=1,\"\",IF(S1124=\"\",\"\",VLOOKUP(S1124,Tabelle!$I$5:$M$7,5,FALSE)))","v":""},{"$f":"IF(G$2034=1,\"\",IF(S1124=\"\",\"\",VLOOKUP(S1124,Tabelle!$I$5:$N$7,6,FALSE)))","v":""},null,null,null,null,null,null,null,null,null,{"$f":"IF(D1124=\"\",0,IF(D1124=D1123,COUNTIF(D$9:D1123,D1124)+1,1))","v":0},0,0]
["1117","-1900","-1900-0",null,null,null,null,null,null,null,"",null,null,null,null,null,null,null,null,{"$f":"IF(G$2034=1,\"\",IF(S1125=\"\",\"\",VLOOKUP(S1125,Tabelle!$I$5:$M$7,5,FALSE)))","v":""},{"$f":"IF(G$2034=1,\"\",IF(S1125=\"\",\"\",VLOOKUP(S1125,Tabelle!$I$5:$N$7,6,FALSE)))","v":""},null,null,null,null,null,null,null,null,null,{"$f":"IF(D1125=\"\",0,IF(D1125=D1124,COUNTIF(D$9:D1124,D1125)+1,1))","v":0},0,0]
["1118","-1900","-1900-0",null,null,null,null,null,null,null,"",null,null,null,null,null,null,null,null,{"$f":"IF(G$2034=1,\"\",IF(S1126=\"\",\"\",VLOOKUP(S1126,Tabelle!$I$5:$M$7,5,FALSE)))","v":""},{"$f":"IF(G$2034=1,\"\",IF(S1126=\"\",\"\",VLOOKUP(S1126,Tabelle!$I$5:$N$7,6,FALSE)))","v":""},null,null,null,null,null,null,null,null,null,{"$f":"IF(D1126=\"\",0,IF(D1126=D1125,COUNTIF(D$9:D1125,D1126)+1,1))","v":0},0,0]
["1119","-1900","-1900-0",null,null,null,null,null,null,null,"",null,null,null,null,null,null,null,null,{"$f":"IF(G$2034=1,\"\",IF(S1127=\"\",\"\",VLOOKUP(S1127,Tabelle!$I$5:$M$7,5,FALSE)))","v":""},{"$f":"IF(G$2034=1,\"\",IF(S1127=\"\",\"\",VLOOKUP(S1127,Tabelle!$I$5:$N$7,6,FALSE)))","v":""},null,null,null,null,null,null,null,null,null,{"$f":"IF(D1127=\"\",0,IF(D1127=D1126,COUNTIF(D$9:D1126,D1127)+1,1))","v":0},0,0]
["1120","-1900","-1900-0",null,null,null,null,null,null,null,"",null,null,null,null,null,null,null,null,{"$f":"IF(G$2034=1,\"\",IF(S1128=\"\",\"\",VLOOKUP(S1128,Tabelle!$I$5:$M$7,5,FALSE)))","v":""},{"$f":"IF(G$2034=1,\"\",IF(S1128=\"\",\"\",VLOOKUP(S1128,Tabelle!$I$5:$N$7,6,FALSE)))","v":""},null,null,null,null,null,null,null,null,null,{"$f":"IF(D1128=\"\",0,IF(D1128=D1127,COUNTIF(D$9:D1127,D1128)+1,1))","v":0},0,0]
["1121","-1900","-1900-0",null,null,null,null,null,null,null,"",null,null,null,null,null,null,null,null,{"$f":"IF(G$2034=1,\"\",IF(S1129=\"\",\"\",VLOOKUP(S1129,Tabelle!$I$5:$M$7,5,FALSE)))","v":""},{"$f":"IF(G$2034=1,\"\",IF(S1129=\"\",\"\",VLOOKUP(S1129,Tabelle!$I$5:$N$7,6,FALSE)))","v":""},null,null,null,null,null,null,null,null,null,{"$f":"IF(D1129=\"\",0,IF(D1129=D1128,COUNTIF(D$9:D1128,D1129)+1,1))","v":0},0,0]
["1122","-1900","-1900-0",null,null,null,null,null,null,null,"",null,null,null,null,null,null,null,null,{"$f":"IF(G$2034=1,\"\",IF(S1130=\"\",\"\",VLOOKUP(S1130,Tabelle!$I$5:$M$7,5,FALSE)))","v":""},{"$f":"IF(G$2034=1,\"\",IF(S1130=\"\",\"\",VLOOKUP(S1130,Tabelle!$I$5:$N$7,6,FALSE)))","v":""},null,null,null,null,null,null,null,null,null,{"$f":"IF(D1130=\"\",0,IF(D1130=D1129,COUNTIF(D$9:D1129,D1130)+1,1))","v":0},0,0]
["1123","-1900","-1900-0",null,null,null,null,null,null,null,"",null,null,null,null,null,null,null,null,{"$f":"IF(G$2034=1,\"\",IF(S1131=\"\",\"\",VLOOKUP(S1131,Tabelle!$I$5:$M$7,5,FALSE)))","v":""},{"$f":"IF(G$2034=1,\"\",IF(S1131=\"\",\"\",VLOOKUP(S1131,Tabelle!$I$5:$N$7,6,FALSE)))","v":""},null,null,null,null,null,null,null,null,null,{"$f":"IF(D1131=\"\",0,IF(D1131=D1130,COUNTIF(D$9:D1130,D1131)+1,1))","v":0},0,0]
["1124","-1900","-1900-0",null,null,null,null,null,null,null,"",null,null,null,null,null,null,null,null,{"$f":"IF(G$2034=1,\"\",IF(S1132=\"\",\"\",VLOOKUP(S1132,Tabelle!$I$5:$M$7,5,FALSE)))","v":""},{"$f":"IF(G$2034=1,\"\",IF(S1132=\"\",\"\",VLOOKUP(S1132,Tabelle!$I$5:$N$7,6,FALSE)))","v":""},null,null,null,null,null,null,null,null,null,{"$f":"IF(D1132=\"\",0,IF(D1132=D1131,COUNTIF(D$9:D1131,D1132)+1,1))","v":0},0,0]
["1125","-1900","-1900-0",null,null,null,null,null,null,null,"",null,null,null,null,null,null,null,null,{"$f":"IF(G$2034=1,\"\",IF(S1133=\"\",\"\",VLOOKUP(S1133,Tabelle!$I$5:$M$7,5,FALSE)))","v":""},{"$f":"IF(G$2034=1,\"\",IF(S1133=\"\",\"\",VLOOKUP(S1133,Tabelle!$I$5:$N$7,6,FALSE)))","v":""},null,null,null,null,null,null,null,null,null,{"$f":"IF(D1133=\"\",0,IF(D1133=D1132,COUNTIF(D$9:D1132,D1133)+1,1))","v":0},0,0]
["1126","-1900","-1900-0",null,null,null,null,null,null,null,"",null,null,null,null,null,null,null,null,{"$f":"IF(G$2034=1,\"\",IF(S1134=\"\",\"\",VLOOKUP(S1134,Tabelle!$I$5:$M$7,5,FALSE)))","v":""},{"$f":"IF(G$2034=1,\"\",IF(S1134=\"\",\"\",VLOOKUP(S1134,Tabelle!$I$5:$N$7,6,FALSE)))","v":""},null,null,null,null,null,null,null,null,null,{"$f":"IF(D1134=\"\",0,IF(D1134=D1133,COUNTIF(D$9:D1133,D1134)+1,1))","v":0},0,0]
["1127","-1900","-1900-0",null,null,null,null,null,null,null,"",null,null,null,null,null,null,null,null,{"$f":"IF(G$2034=1,\"\",IF(S1135=\"\",\"\",VLOOKUP(S1135,Tabelle!$I$5:$M$7,5,FALSE)))","v":""},{"$f":"IF(G$2034=1,\"\",IF(S1135=\"\",\"\",VLOOKUP(S1135,Tabelle!$I$5:$N$7,6,FALSE)))","v":""},null,null,null,null,null,null,null,null,null,{"$f":"IF(D1135=\"\",0,IF(D1135=D1134,COUNTIF(D$9:D1134,D1135)+1,1))","v":0},0,0]
["1128","-1900","-1900-0",null,null,null,null,null,null,null,"",null,null,null,null,null,null,null,null,{"$f":"IF(G$2034=1,\"\",IF(S1136=\"\",\"\",VLOOKUP(S1136,Tabelle!$I$5:$M$7,5,FALSE)))","v":""},{"$f":"IF(G$2034=1,\"\",IF(S1136=\"\",\"\",VLOOKUP(S1136,Tabelle!$I$5:$N$7,6,FALSE)))","v":""},null,null,null,null,null,null,null,null,null,{"$f":"IF(D1136=\"\",0,IF(D1136=D1135,COUNTIF(D$9:D1135,D1136)+1,1))","v":0},0,0]
["1129","-1900","-1900-0",null,null,null,null,null,null,null,"",null,null,null,null,null,null,null,null,{"$f":"IF(G$2034=1,\"\",IF(S1137=\"\",\"\",VLOOKUP(S1137,Tabelle!$I$5:$M$7,5,FALSE)))","v":""},{"$f":"IF(G$2034=1,\"\",IF(S1137=\"\",\"\",VLOOKUP(S1137,Tabelle!$I$5:$N$7,6,FALSE)))","v":""},null,null,null,null,null,null,null,null,null,{"$f":"IF(D1137=\"\",0,IF(D1137=D1136,COUNTIF(D$9:D1136,D1137)+1,1))","v":0},0,0]
["1130","-1900","-1900-0",null,null,null,null,null,null,null,"",null,null,null,null,null,null,null,null,{"$f":"IF(G$2034=1,\"\",IF(S1138=\"\",\"\",VLOOKUP(S1138,Tabelle!$I$5:$M$7,5,FALSE)))","v":""},{"$f":"IF(G$2034=1,\"\",IF(S1138=\"\",\"\",VLOOKUP(S1138,Tabelle!$I$5:$N$7,6,FALSE)))","v":""},null,null,null,null,null,null,null,null,null,{"$f":"IF(D1138=\"\",0,IF(D1138=D1137,COUNTIF(D$9:D1137,D1138)+1,1))","v":0},0,0]
["1131","-1900","-1900-0",null,null,null,null,null,null,null,"",null,null,null,null,null,null,null,null,{"$f":"IF(G$2034=1,\"\",IF(S1139=\"\",\"\",VLOOKUP(S1139,Tabelle!$I$5:$M$7,5,FALSE)))","v":""},{"$f":"IF(G$2034=1,\"\",IF(S1139=\"\",\"\",VLOOKUP(S1139,Tabelle!$I$5:$N$7,6,FALSE)))","v":""},null,null,null,null,null,null,null,null,null,{"$f":"IF(D1139=\"\",0,IF(D1139=D1138,COUNTIF(D$9:D1138,D1139)+1,1))","v":0},0,0]
["1132","-1900","-1900-0",null,null,null,null,null,null,null,"",null,null,null,null,null,null,null,null,{"$f":"IF(G$2034=1,\"\",IF(S1140=\"\",\"\",VLOOKUP(S1140,Tabelle!$I$5:$M$7,5,FALSE)))","v":""},{"$f":"IF(G$2034=1,\"\",IF(S1140=\"\",\"\",VLOOKUP(S1140,Tabelle!$I$5:$N$7,6,FALSE)))","v":""},null,null,null,null,null,null,null,null,null,{"$f":"IF(D1140=\"\",0,IF(D1140=D1139,COUNTIF(D$9:D1139,D1140)+1,1))","v":0},0,0]
["1133","-1900","-1900-0",null,null,null,null,null,null,null,"",null,null,null,null,null,null,null,null,{"$f":"IF(G$2034=1,\"\",IF(S1141=\"\",\"\",VLOOKUP(S1141,Tabelle!$I$5:$M$7,5,FALSE)))","v":""},{"$f":"IF(G$2034=1,\"\",IF(S1141=\"\",\"\",VLOOKUP(S1141,Tabelle!$I$5:$N$7,6,FALSE)))","v":""},null,null,null,null,null,null,null,null,null,{"$f":"IF(D1141=\"\",0,IF(D1141=D1140,COUNTIF(D$9:D1140,D1141)+1,1))","v":0},0,0]
["1134","-1900","-1900-0",null,null,null,null,null,null,null,"",null,null,null,null,null,null,null,null,{"$f":"IF(G$2034=1,\"\",IF(S1142=\"\",\"\",VLOOKUP(S1142,Tabelle!$I$5:$M$7,5,FALSE)))","v":""},{"$f":"IF(G$2034=1,\"\",IF(S1142=\"\",\"\",VLOOKUP(S1142,Tabelle!$I$5:$N$7,6,FALSE)))","v":""},null,null,null,null,null,null,null,null,null,{"$f":"IF(D1142=\"\",0,IF(D1142=D1141,COUNTIF(D$9:D1141,D1142)+1,1))","v":0},0,0]
["1135","-1900","-1900-0",null,null,null,null,null,null,null,"",null,null,null,null,null,null,null,null,{"$f":"IF(G$2034=1,\"\",IF(S1143=\"\",\"\",VLOOKUP(S1143,Tabelle!$I$5:$M$7,5,FALSE)))","v":""},{"$f":"IF(G$2034=1,\"\",IF(S1143=\"\",\"\",VLOOKUP(S1143,Tabelle!$I$5:$N$7,6,FALSE)))","v":""},null,null,null,null,null,null,null,null,null,{"$f":"IF(D1143=\"\",0,IF(D1143=D1142,COUNTIF(D$9:D1142,D1143)+1,1))","v":0},0,0]
["1136","-1900","-1900-0",null,null,null,null,null,null,null,"",null,null,null,null,null,null,null,null,{"$f":"IF(G$2034=1,\"\",IF(S1144=\"\",\"\",VLOOKUP(S1144,Tabelle!$I$5:$M$7,5,FALSE)))","v":""},{"$f":"IF(G$2034=1,\"\",IF(S1144=\"\",\"\",VLOOKUP(S1144,Tabelle!$I$5:$N$7,6,FALSE)))","v":""},null,null,null,null,null,null,null,null,null,{"$f":"IF(D1144=\"\",0,IF(D1144=D1143,COUNTIF(D$9:D1143,D1144)+1,1))","v":0},0,0]
["1137","-1900","-1900-0",null,null,null,null,null,null,null,"",null,null,null,null,null,null,null,null,{"$f":"IF(G$2034=1,\"\",IF(S1145=\"\",\"\",VLOOKUP(S1145,Tabelle!$I$5:$M$7,5,FALSE)))","v":""},{"$f":"IF(G$2034=1,\"\",IF(S1145=\"\",\"\",VLOOKUP(S1145,Tabelle!$I$5:$N$7,6,FALSE)))","v":""},null,null,null,null,null,null,null,null,null,{"$f":"IF(D1145=\"\",0,IF(D1145=D1144,COUNTIF(D$9:D1144,D1145)+1,1))","v":0},0,0]
["1138","-1900","-1900-0",null,null,null,null,null,null,null,"",null,null,null,null,null,null,null,null,{"$f":"IF(G$2034=1,\"\",IF(S1146=\"\",\"\",VLOOKUP(S1146,Tabelle!$I$5:$M$7,5,FALSE)))","v":""},{"$f":"IF(G$2034=1,\"\",IF(S1146=\"\",\"\",VLOOKUP(S1146,Tabelle!$I$5:$N$7,6,FALSE)))","v":""},null,null,null,null,null,null,null,null,null,{"$f":"IF(D1146=\"\",0,IF(D1146=D1145,COUNTIF(D$9:D1145,D1146)+1,1))","v":0},0,0]
["1139","-1900","-1900-0",null,null,null,null,null,null,null,"",null,null,null,null,null,null,null,null,{"$f":"IF(G$2034=1,\"\",IF(S1147=\"\",\"\",VLOOKUP(S1147,Tabelle!$I$5:$M$7,5,FALSE)))","v":""},{"$f":"IF(G$2034=1,\"\",IF(S1147=\"\",\"\",VLOOKUP(S1147,Tabelle!$I$5:$N$7,6,FALSE)))","v":""},null,null,null,null,null,null,null,null,null,{"$f":"IF(D1147=\"\",0,IF(D1147=D1146,COUNTIF(D$9:D1146,D1147)+1,1))","v":0},0,0]
["1140","-1900","-1900-0",null,null,null,null,null,null,null,"",null,null,null,null,null,null,null,null,{"$f":"IF(G$2034=1,\"\",IF(S1148=\"\",\"\",VLOOKUP(S1148,Tabelle!$I$5:$M$7,5,FALSE)))","v":""},{"$f":"IF(G$2034=1,\"\",IF(S1148=\"\",\"\",VLOOKUP(S1148,Tabelle!$I$5:$N$7,6,FALSE)))","v":""},null,null,null,null,null,null,null,null,null,{"$f":"IF(D1148=\"\",0,IF(D1148=D1147,COUNTIF(D$9:D1147,D1148)+1,1))","v":0},0,0]
["1141","-1900","-1900-0",null,null,null,null,null,null,null,"",null,null,null,null,null,null,null,null,{"$f":"IF(G$2034=1,\"\",IF(S1149=\"\",\"\",VLOOKUP(S1149,Tabelle!$I$5:$M$7,5,FALSE)))","v":""},{"$f":"IF(G$2034=1,\"\",IF(S1149=\"\",\"\",VLOOKUP(S1149,Tabelle!$I$5:$N$7,6,FALSE)))","v":""},null,null,null,null,null,null,null,null,null,{"$f":"IF(D1149=\"\",0,IF(D1149=D1148,COUNTIF(D$9:D1148,D1149)+1,1))","v":0},0,0]
["1142","-1900","-1900-0",null,null,null,null,null,null,null,"",null,null,null,null,null,null,null,null,{"$f":"IF(G$2034=1,\"\",IF(S1150=\"\",\"\",VLOOKUP(S1150,Tabelle!$I$5:$M$7,5,FALSE)))","v":""},{"$f":"IF(G$2034=1,\"\",IF(S1150=\"\",\"\",VLOOKUP(S1150,Tabelle!$I$5:$N$7,6,FALSE)))","v":""},null,null,null,null,null,null,null,null,null,{"$f":"IF(D1150=\"\",0,IF(D1150=D1149,COUNTIF(D$9:D1149,D1150)+1,1))","v":0},0,0]
["1143","-1900","-1900-0",null,null,null,null,null,null,null,"",null,null,null,null,null,null,null,null,{"$f":"IF(G$2034=1,\"\",IF(S1151=\"\",\"\",VLOOKUP(S1151,Tabelle!$I$5:$M$7,5,FALSE)))","v":""},{"$f":"IF(G$2034=1,\"\",IF(S1151=\"\",\"\",VLOOKUP(S1151,Tabelle!$I$5:$N$7,6,FALSE)))","v":""},null,null,null,null,null,null,null,null,null,{"$f":"IF(D1151=\"\",0,IF(D1151=D1150,COUNTIF(D$9:D1150,D1151)+1,1))","v":0},0,0]
["1144","-1900","-1900-0",null,null,null,null,null,null,null,"",null,null,null,null,null,null,null,null,{"$f":"IF(G$2034=1,\"\",IF(S1152=\"\",\"\",VLOOKUP(S1152,Tabelle!$I$5:$M$7,5,FALSE)))","v":""},{"$f":"IF(G$2034=1,\"\",IF(S1152=\"\",\"\",VLOOKUP(S1152,Tabelle!$I$5:$N$7,6,FALSE)))","v":""},null,null,null,null,null,null,null,null,null,{"$f":"IF(D1152=\"\",0,IF(D1152=D1151,COUNTIF(D$9:D1151,D1152)+1,1))","v":0},0,0]
["1145","-1900","-1900-0",null,null,null,null,null,null,null,"",null,null,null,null,null,null,null,null,{"$f":"IF(G$2034=1,\"\",IF(S1153=\"\",\"\",VLOOKUP(S1153,Tabelle!$I$5:$M$7,5,FALSE)))","v":""},{"$f":"IF(G$2034=1,\"\",IF(S1153=\"\",\"\",VLOOKUP(S1153,Tabelle!$I$5:$N$7,6,FALSE)))","v":""},null,null,null,null,null,null,null,null,null,{"$f":"IF(D1153=\"\",0,IF(D1153=D1152,COUNTIF(D$9:D1152,D1153)+1,1))","v":0},0,0]
["1146","-1900","-1900-0",null,null,null,null,null,null,null,"",null,null,null,null,null,null,null,null,{"$f":"IF(G$2034=1,\"\",IF(S1154=\"\",\"\",VLOOKUP(S1154,Tabelle!$I$5:$M$7,5,FALSE)))","v":""},{"$f":"IF(G$2034=1,\"\",IF(S1154=\"\",\"\",VLOOKUP(S1154,Tabelle!$I$5:$N$7,6,FALSE)))","v":""},null,null,null,null,null,null,null,null,null,{"$f":"IF(D1154=\"\",0,IF(D1154=D1153,COUNTIF(D$9:D1153,D1154)+1,1))","v":0},0,0]
["1147","-1900","-1900-0",null,null,null,null,null,null,null,"",null,null,null,null,null,null,null,null,{"$f":"IF(G$2034=1,\"\",IF(S1155=\"\",\"\",VLOOKUP(S1155,Tabelle!$I$5:$M$7,5,FALSE)))","v":""},{"$f":"IF(G$2034=1,\"\",IF(S1155=\"\",\"\",VLOOKUP(S1155,Tabelle!$I$5:$N$7,6,FALSE)))","v":""},null,null,null,null,null,null,null,null,null,{"$f":"IF(D1155=\"\",0,IF(D1155=D1154,COUNTIF(D$9:D1154,D1155)+1,1))","v":0},0,0]
["1148","-1900","-1900-0",null,null,null,null,null,null,null,"",null,null,null,null,null,null,null,null,{"$f":"IF(G$2034=1,\"\",IF(S1156=\"\",\"\",VLOOKUP(S1156,Tabelle!$I$5:$M$7,5,FALSE)))","v":""},{"$f":"IF(G$2034=1,\"\",IF(S1156=\"\",\"\",VLOOKUP(S1156,Tabelle!$I$5:$N$7,6,FALSE)))","v":""},null,null,null,null,null,null,null,null,null,{"$f":"IF(D1156=\"\",0,IF(D1156=D1155,COUNTIF(D$9:D1155,D1156)+1,1))","v":0},0,0]
["1149","-1900","-1900-0",null,null,null,null,null,null,null,"",null,null,null,null,null,null,null,null,{"$f":"IF(G$2034=1,\"\",IF(S1157=\"\",\"\",VLOOKUP(S1157,Tabelle!$I$5:$M$7,5,FALSE)))","v":""},{"$f":"IF(G$2034=1,\"\",IF(S1157=\"\",\"\",VLOOKUP(S1157,Tabelle!$I$5:$N$7,6,FALSE)))","v":""},null,null,null,null,null,null,null,null,null,{"$f":"IF(D1157=\"\",0,IF(D1157=D1156,COUNTIF(D$9:D1156,D1157)+1,1))","v":0},0,0]
["1150","-1900","-1900-0",null,null,null,null,null,null,null,"",null,null,null,null,null,null,null,null,{"$f":"IF(G$2034=1,\"\",IF(S1158=\"\",\"\",VLOOKUP(S1158,Tabelle!$I$5:$M$7,5,FALSE)))","v":""},{"$f":"IF(G$2034=1,\"\",IF(S1158=\"\",\"\",VLOOKUP(S1158,Tabelle!$I$5:$N$7,6,FALSE)))","v":""},null,null,null,null,null,null,null,null,null,{"$f":"IF(D1158=\"\",0,IF(D1158=D1157,COUNTIF(D$9:D1157,D1158)+1,1))","v":0},0,0]
["1151","-1900","-1900-0",null,null,null,null,null,null,null,"",null,null,null,null,null,null,null,null,{"$f":"IF(G$2034=1,\"\",IF(S1159=\"\",\"\",VLOOKUP(S1159,Tabelle!$I$5:$M$7,5,FALSE)))","v":""},{"$f":"IF(G$2034=1,\"\",IF(S1159=\"\",\"\",VLOOKUP(S1159,Tabelle!$I$5:$N$7,6,FALSE)))","v":""},null,null,null,null,null,null,null,null,null,{"$f":"IF(D1159=\"\",0,IF(D1159=D1158,COUNTIF(D$9:D1158,D1159)+1,1))","v":0},0,0]
["1152","-1900","-1900-0",null,null,null,null,null,null,null,"",null,null,null,null,null,null,null,null,{"$f":"IF(G$2034=1,\"\",IF(S1160=\"\",\"\",VLOOKUP(S1160,Tabelle!$I$5:$M$7,5,FALSE)))","v":""},{"$f":"IF(G$2034=1,\"\",IF(S1160=\"\",\"\",VLOOKUP(S1160,Tabelle!$I$5:$N$7,6,FALSE)))","v":""},null,null,null,null,null,null,null,null,null,{"$f":"IF(D1160=\"\",0,IF(D1160=D1159,COUNTIF(D$9:D1159,D1160)+1,1))","v":0},0,0]
["1153","-1900",{"$f":"IF(G$2034=1,0,B1161&\"-\"&AE1161)","v":"-1900-0"},null,null,null,null,null,null,null,{"$f":"IF(G$2034=1,0,IF(OR(J1161=\"\",ISERROR($O$2034)),\"\",VLOOKUP(J1161,$L$2019:$N$2027,2,FALSE)))","v":""},null,null,null,null,null,null,null,null,{"$f":"IF(G$2034=1,\"\",IF(S1161=\"\",\"\",VLOOKUP(S1161,Tabelle!$I$5:$M$7,5,FALSE)))","v":""},{"$f":"IF(G$2034=1,\"\",IF(S1161=\"\",\"\",VLOOKUP(S1161,Tabelle!$I$5:$N$7,6,FALSE)))","v":""},null,null,null,null,null,null,null,null,null,{"$f":"IF(D1161=\"\",0,IF(D1161=D1160,COUNTIF(D$9:D1160,D1161)+1,1))","v":0},0,0]
["1154",{"$f":"IF(AG1162=$AG$2013,0,IF(G$2034=1,0,D1162&\"-\"&YEAR(E1162)))","v":"-1900"},"-1900-0",null,null,null,null,null,null,null,"",null,null,null,null,null,null,null,null,{"$f":"IF(G$2034=1,\"\",IF(S1162=\"\",\"\",VLOOKUP(S1162,Tabelle!$I$5:$M$7,5,FALSE)))","v":""},{"$f":"IF(G$2034=1,\"\",IF(S1162=\"\",\"\",VLOOKUP(S1162,Tabelle!$I$5:$N$7,6,FALSE)))","v":""},null,null,null,null,null,null,null,null,null,{"$f":"IF(D1162=\"\",0,IF(D1162=D1161,COUNTIF(D$9:D1161,D1162)+1,1))","v":0},{"$f":"IF(G$2034=1,0,IF(AE1162=28,1,0))","v":0},{"$f":"IF(E1162>0,IF(OR(MONTH(E1162)<$G$2026,MONTH(E1162)>$G$2027),AG$2013,0),0)","v":0}]
["1155","-1900","-1900-0",null,null,null,null,null,null,null,"",null,null,null,null,null,null,null,null,{"$f":"IF(G$2034=1,\"\",IF(S1163=\"\",\"\",VLOOKUP(S1163,Tabelle!$I$5:$M$7,5,FALSE)))","v":""},{"$f":"IF(G$2034=1,\"\",IF(S1163=\"\",\"\",VLOOKUP(S1163,Tabelle!$I$5:$N$7,6,FALSE)))","v":""},null,null,null,null,null,null,null,null,null,{"$f":"IF(D1163=\"\",0,IF(D1163=D1162,COUNTIF(D$9:D1162,D1163)+1,1))","v":0},0,0]
["1156","-1900","-1900-0",null,null,null,null,null,null,null,"",null,null,null,null,null,null,null,null,{"$f":"IF(G$2034=1,\"\",IF(S1164=\"\",\"\",VLOOKUP(S1164,Tabelle!$I$5:$M$7,5,FALSE)))","v":""},{"$f":"IF(G$2034=1,\"\",IF(S1164=\"\",\"\",VLOOKUP(S1164,Tabelle!$I$5:$N$7,6,FALSE)))","v":""},null,null,null,null,null,null,null,null,null,{"$f":"IF(D1164=\"\",0,IF(D1164=D1163,COUNTIF(D$9:D1163,D1164)+1,1))","v":0},0,0]
["1157","-1900","-1900-0",null,null,null,null,null,null,null,"",null,null,null,null,null,null,null,null,{"$f":"IF(G$2034=1,\"\",IF(S1165=\"\",\"\",VLOOKUP(S1165,Tabelle!$I$5:$M$7,5,FALSE)))","v":""},{"$f":"IF(G$2034=1,\"\",IF(S1165=\"\",\"\",VLOOKUP(S1165,Tabelle!$I$5:$N$7,6,FALSE)))","v":""},null,null,null,null,null,null,null,null,null,{"$f":"IF(D1165=\"\",0,IF(D1165=D1164,COUNTIF(D$9:D1164,D1165)+1,1))","v":0},0,0]
["1158","-1900","-1900-0",null,null,null,null,null,null,null,"",null,null,null,null,null,null,null,null,{"$f":"IF(G$2034=1,\"\",IF(S1166=\"\",\"\",VLOOKUP(S1166,Tabelle!$I$5:$M$7,5,FALSE)))","v":""},{"$f":"IF(G$2034=1,\"\",IF(S1166=\"\",\"\",VLOOKUP(S1166,Tabelle!$I$5:$N$7,6,FALSE)))","v":""},null,null,null,null,null,null,null,null,null,{"$f":"IF(D1166=\"\",0,IF(D1166=D1165,COUNTIF(D$9:D1165,D1166)+1,1))","v":0},0,0]
["1159","-1900","-1900-0",null,null,null,null,null,null,null,"",null,null,null,null,null,null,null,null,{"$f":"IF(G$2034=1,\"\",IF(S1167=\"\",\"\",VLOOKUP(S1167,Tabelle!$I$5:$M$7,5,FALSE)))","v":""},{"$f":"IF(G$2034=1,\"\",IF(S1167=\"\",\"\",VLOOKUP(S1167,Tabelle!$I$5:$N$7,6,FALSE)))","v":""},null,null,null,null,null,null,null,null,null,{"$f":"IF(D1167=\"\",0,IF(D1167=D1166,COUNTIF(D$9:D1166,D1167)+1,1))","v":0},0,0]
["1160","-1900","-1900-0",null,null,null,null,null,null,null,"",null,null,null,null,null,null,null,null,{"$f":"IF(G$2034=1,\"\",IF(S1168=\"\",\"\",VLOOKUP(S1168,Tabelle!$I$5:$M$7,5,FALSE)))","v":""},{"$f":"IF(G$2034=1,\"\",IF(S1168=\"\",\"\",VLOOKUP(S1168,Tabelle!$I$5:$N$7,6,FALSE)))","v":""},null,null,null,null,null,null,null,null,null,{"$f":"IF(D1168=\"\",0,IF(D1168=D1167,COUNTIF(D$9:D1167,D1168)+1,1))","v":0},0,0]
["1161","-1900","-1900-0",null,null,null,null,null,null,null,"",null,null,null,null,null,null,null,null,{"$f":"IF(G$2034=1,\"\",IF(S1169=\"\",\"\",VLOOKUP(S1169,Tabelle!$I$5:$M$7,5,FALSE)))","v":""},{"$f":"IF(G$2034=1,\"\",IF(S1169=\"\",\"\",VLOOKUP(S1169,Tabelle!$I$5:$N$7,6,FALSE)))","v":""},null,null,null,null,null,null,null,null,null,{"$f":"IF(D1169=\"\",0,IF(D1169=D1168,COUNTIF(D$9:D1168,D1169)+1,1))","v":0},0,0]
["1162","-1900","-1900-0",null,null,null,null,null,null,null,"",null,null,null,null,null,null,null,null,{"$f":"IF(G$2034=1,\"\",IF(S1170=\"\",\"\",VLOOKUP(S1170,Tabelle!$I$5:$M$7,5,FALSE)))","v":""},{"$f":"IF(G$2034=1,\"\",IF(S1170=\"\",\"\",VLOOKUP(S1170,Tabelle!$I$5:$N$7,6,FALSE)))","v":""},null,null,null,null,null,null,null,null,null,{"$f":"IF(D1170=\"\",0,IF(D1170=D1169,COUNTIF(D$9:D1169,D1170)+1,1))","v":0},0,0]
["1163","-1900","-1900-0",null,null,null,null,null,null,null,"",null,null,null,null,null,null,null,null,{"$f":"IF(G$2034=1,\"\",IF(S1171=\"\",\"\",VLOOKUP(S1171,Tabelle!$I$5:$M$7,5,FALSE)))","v":""},{"$f":"IF(G$2034=1,\"\",IF(S1171=\"\",\"\",VLOOKUP(S1171,Tabelle!$I$5:$N$7,6,FALSE)))","v":""},null,null,null,null,null,null,null,null,null,{"$f":"IF(D1171=\"\",0,IF(D1171=D1170,COUNTIF(D$9:D1170,D1171)+1,1))","v":0},0,0]
["1164","-1900","-1900-0",null,null,null,null,null,null,null,"",null,null,null,null,null,null,null,null,{"$f":"IF(G$2034=1,\"\",IF(S1172=\"\",\"\",VLOOKUP(S1172,Tabelle!$I$5:$M$7,5,FALSE)))","v":""},{"$f":"IF(G$2034=1,\"\",IF(S1172=\"\",\"\",VLOOKUP(S1172,Tabelle!$I$5:$N$7,6,FALSE)))","v":""},null,null,null,null,null,null,null,null,null,{"$f":"IF(D1172=\"\",0,IF(D1172=D1171,COUNTIF(D$9:D1171,D1172)+1,1))","v":0},0,0]
["1165","-1900","-1900-0",null,null,null,null,null,null,null,"",null,null,null,null,null,null,null,null,{"$f":"IF(G$2034=1,\"\",IF(S1173=\"\",\"\",VLOOKUP(S1173,Tabelle!$I$5:$M$7,5,FALSE)))","v":""},{"$f":"IF(G$2034=1,\"\",IF(S1173=\"\",\"\",VLOOKUP(S1173,Tabelle!$I$5:$N$7,6,FALSE)))","v":""},null,null,null,null,null,null,null,null,null,{"$f":"IF(D1173=\"\",0,IF(D1173=D1172,COUNTIF(D$9:D1172,D1173)+1,1))","v":0},0,0]
["1166","-1900","-1900-0",null,null,null,null,null,null,null,"",null,null,null,null,null,null,null,null,{"$f":"IF(G$2034=1,\"\",IF(S1174=\"\",\"\",VLOOKUP(S1174,Tabelle!$I$5:$M$7,5,FALSE)))","v":""},{"$f":"IF(G$2034=1,\"\",IF(S1174=\"\",\"\",VLOOKUP(S1174,Tabelle!$I$5:$N$7,6,FALSE)))","v":""},null,null,null,null,null,null,null,null,null,{"$f":"IF(D1174=\"\",0,IF(D1174=D1173,COUNTIF(D$9:D1173,D1174)+1,1))","v":0},0,0]
["1167","-1900","-1900-0",null,null,null,null,null,null,null,"",null,null,null,null,null,null,null,null,{"$f":"IF(G$2034=1,\"\",IF(S1175=\"\",\"\",VLOOKUP(S1175,Tabelle!$I$5:$M$7,5,FALSE)))","v":""},{"$f":"IF(G$2034=1,\"\",IF(S1175=\"\",\"\",VLOOKUP(S1175,Tabelle!$I$5:$N$7,6,FALSE)))","v":""},null,null,null,null,null,null,null,null,null,{"$f":"IF(D1175=\"\",0,IF(D1175=D1174,COUNTIF(D$9:D1174,D1175)+1,1))","v":0},0,0]
["1168","-1900","-1900-0",null,null,null,null,null,null,null,"",null,null,null,null,null,null,null,null,{"$f":"IF(G$2034=1,\"\",IF(S1176=\"\",\"\",VLOOKUP(S1176,Tabelle!$I$5:$M$7,5,FALSE)))","v":""},{"$f":"IF(G$2034=1,\"\",IF(S1176=\"\",\"\",VLOOKUP(S1176,Tabelle!$I$5:$N$7,6,FALSE)))","v":""},null,null,null,null,null,null,null,null,null,{"$f":"IF(D1176=\"\",0,IF(D1176=D1175,COUNTIF(D$9:D1175,D1176)+1,1))","v":0},0,0]
["1169","-1900","-1900-0",null,null,null,null,null,null,null,"",null,null,null,null,null,null,null,null,{"$f":"IF(G$2034=1,\"\",IF(S1177=\"\",\"\",VLOOKUP(S1177,Tabelle!$I$5:$M$7,5,FALSE)))","v":""},{"$f":"IF(G$2034=1,\"\",IF(S1177=\"\",\"\",VLOOKUP(S1177,Tabelle!$I$5:$N$7,6,FALSE)))","v":""},null,null,null,null,null,null,null,null,null,{"$f":"IF(D1177=\"\",0,IF(D1177=D1176,COUNTIF(D$9:D1176,D1177)+1,1))","v":0},0,0]
["1170","-1900","-1900-0",null,null,null,null,null,null,null,"",null,null,null,null,null,null,null,null,{"$f":"IF(G$2034=1,\"\",IF(S1178=\"\",\"\",VLOOKUP(S1178,Tabelle!$I$5:$M$7,5,FALSE)))","v":""},{"$f":"IF(G$2034=1,\"\",IF(S1178=\"\",\"\",VLOOKUP(S1178,Tabelle!$I$5:$N$7,6,FALSE)))","v":""},null,null,null,null,null,null,null,null,null,{"$f":"IF(D1178=\"\",0,IF(D1178=D1177,COUNTIF(D$9:D1177,D1178)+1,1))","v":0},0,0]
["1171","-1900","-1900-0",null,null,null,null,null,null,null,"",null,null,null,null,null,null,null,null,{"$f":"IF(G$2034=1,\"\",IF(S1179=\"\",\"\",VLOOKUP(S1179,Tabelle!$I$5:$M$7,5,FALSE)))","v":""},{"$f":"IF(G$2034=1,\"\",IF(S1179=\"\",\"\",VLOOKUP(S1179,Tabelle!$I$5:$N$7,6,FALSE)))","v":""},null,null,null,null,null,null,null,null,null,{"$f":"IF(D1179=\"\",0,IF(D1179=D1178,COUNTIF(D$9:D1178,D1179)+1,1))","v":0},0,0]
["1172","-1900","-1900-0",null,null,null,null,null,null,null,"",null,null,null,null,null,null,null,null,{"$f":"IF(G$2034=1,\"\",IF(S1180=\"\",\"\",VLOOKUP(S1180,Tabelle!$I$5:$M$7,5,FALSE)))","v":""},{"$f":"IF(G$2034=1,\"\",IF(S1180=\"\",\"\",VLOOKUP(S1180,Tabelle!$I$5:$N$7,6,FALSE)))","v":""},null,null,null,null,null,null,null,null,null,{"$f":"IF(D1180=\"\",0,IF(D1180=D1179,COUNTIF(D$9:D1179,D1180)+1,1))","v":0},0,0]
["1173","-1900","-1900-0",null,null,null,null,null,null,null,"",null,null,null,null,null,null,null,null,{"$f":"IF(G$2034=1,\"\",IF(S1181=\"\",\"\",VLOOKUP(S1181,Tabelle!$I$5:$M$7,5,FALSE)))","v":""},{"$f":"IF(G$2034=1,\"\",IF(S1181=\"\",\"\",VLOOKUP(S1181,Tabelle!$I$5:$N$7,6,FALSE)))","v":""},null,null,null,null,null,null,null,null,null,{"$f":"IF(D1181=\"\",0,IF(D1181=D1180,COUNTIF(D$9:D1180,D1181)+1,1))","v":0},0,0]
["1174","-1900","-1900-0",null,null,null,null,null,null,null,"",null,null,null,null,null,null,null,null,{"$f":"IF(G$2034=1,\"\",IF(S1182=\"\",\"\",VLOOKUP(S1182,Tabelle!$I$5:$M$7,5,FALSE)))","v":""},{"$f":"IF(G$2034=1,\"\",IF(S1182=\"\",\"\",VLOOKUP(S1182,Tabelle!$I$5:$N$7,6,FALSE)))","v":""},null,null,null,null,null,null,null,null,null,{"$f":"IF(D1182=\"\",0,IF(D1182=D1181,COUNTIF(D$9:D1181,D1182)+1,1))","v":0},0,0]
["1175","-1900","-1900-0",null,null,null,null,null,null,null,"",null,null,null,null,null,null,null,null,{"$f":"IF(G$2034=1,\"\",IF(S1183=\"\",\"\",VLOOKUP(S1183,Tabelle!$I$5:$M$7,5,FALSE)))","v":""},{"$f":"IF(G$2034=1,\"\",IF(S1183=\"\",\"\",VLOOKUP(S1183,Tabelle!$I$5:$N$7,6,FALSE)))","v":""},null,null,null,null,null,null,null,null,null,{"$f":"IF(D1183=\"\",0,IF(D1183=D1182,COUNTIF(D$9:D1182,D1183)+1,1))","v":0},0,0]
["1176","-1900","-1900-0",null,null,null,null,null,null,null,"",null,null,null,null,null,null,null,null,{"$f":"IF(G$2034=1,\"\",IF(S1184=\"\",\"\",VLOOKUP(S1184,Tabelle!$I$5:$M$7,5,FALSE)))","v":""},{"$f":"IF(G$2034=1,\"\",IF(S1184=\"\",\"\",VLOOKUP(S1184,Tabelle!$I$5:$N$7,6,FALSE)))","v":""},null,null,null,null,null,null,null,null,null,{"$f":"IF(D1184=\"\",0,IF(D1184=D1183,COUNTIF(D$9:D1183,D1184)+1,1))","v":0},0,0]
["1177","-1900","-1900-0",null,null,null,null,null,null,null,"",null,null,null,null,null,null,null,null,{"$f":"IF(G$2034=1,\"\",IF(S1185=\"\",\"\",VLOOKUP(S1185,Tabelle!$I$5:$M$7,5,FALSE)))","v":""},{"$f":"IF(G$2034=1,\"\",IF(S1185=\"\",\"\",VLOOKUP(S1185,Tabelle!$I$5:$N$7,6,FALSE)))","v":""},null,null,null,null,null,null,null,null,null,{"$f":"IF(D1185=\"\",0,IF(D1185=D1184,COUNTIF(D$9:D1184,D1185)+1,1))","v":0},0,0]
["1178","-1900","-1900-0",null,null,null,null,null,null,null,"",null,null,null,null,null,null,null,null,{"$f":"IF(G$2034=1,\"\",IF(S1186=\"\",\"\",VLOOKUP(S1186,Tabelle!$I$5:$M$7,5,FALSE)))","v":""},{"$f":"IF(G$2034=1,\"\",IF(S1186=\"\",\"\",VLOOKUP(S1186,Tabelle!$I$5:$N$7,6,FALSE)))","v":""},null,null,null,null,null,null,null,null,null,{"$f":"IF(D1186=\"\",0,IF(D1186=D1185,COUNTIF(D$9:D1185,D1186)+1,1))","v":0},0,0]
["1179","-1900","-1900-0",null,null,null,null,null,null,null,"",null,null,null,null,null,null,null,null,{"$f":"IF(G$2034=1,\"\",IF(S1187=\"\",\"\",VLOOKUP(S1187,Tabelle!$I$5:$M$7,5,FALSE)))","v":""},{"$f":"IF(G$2034=1,\"\",IF(S1187=\"\",\"\",VLOOKUP(S1187,Tabelle!$I$5:$N$7,6,FALSE)))","v":""},null,null,null,null,null,null,null,null,null,{"$f":"IF(D1187=\"\",0,IF(D1187=D1186,COUNTIF(D$9:D1186,D1187)+1,1))","v":0},0,0]
["1180","-1900","-1900-0",null,null,null,null,null,null,null,"",null,null,null,null,null,null,null,null,{"$f":"IF(G$2034=1,\"\",IF(S1188=\"\",\"\",VLOOKUP(S1188,Tabelle!$I$5:$M$7,5,FALSE)))","v":""},{"$f":"IF(G$2034=1,\"\",IF(S1188=\"\",\"\",VLOOKUP(S1188,Tabelle!$I$5:$N$7,6,FALSE)))","v":""},null,null,null,null,null,null,null,null,null,{"$f":"IF(D1188=\"\",0,IF(D1188=D1187,COUNTIF(D$9:D1187,D1188)+1,1))","v":0},0,0]
["1181","-1900","-1900-0",null,null,null,null,null,null,null,"",null,null,null,null,null,null,null,null,{"$f":"IF(G$2034=1,\"\",IF(S1189=\"\",\"\",VLOOKUP(S1189,Tabelle!$I$5:$M$7,5,FALSE)))","v":""},{"$f":"IF(G$2034=1,\"\",IF(S1189=\"\",\"\",VLOOKUP(S1189,Tabelle!$I$5:$N$7,6,FALSE)))","v":""},null,null,null,null,null,null,null,null,null,{"$f":"IF(D1189=\"\",0,IF(D1189=D1188,COUNTIF(D$9:D1188,D1189)+1,1))","v":0},0,0]
["1182","-1900","-1900-0",null,null,null,null,null,null,null,"",null,null,null,null,null,null,null,null,{"$f":"IF(G$2034=1,\"\",IF(S1190=\"\",\"\",VLOOKUP(S1190,Tabelle!$I$5:$M$7,5,FALSE)))","v":""},{"$f":"IF(G$2034=1,\"\",IF(S1190=\"\",\"\",VLOOKUP(S1190,Tabelle!$I$5:$N$7,6,FALSE)))","v":""},null,null,null,null,null,null,null,null,null,{"$f":"IF(D1190=\"\",0,IF(D1190=D1189,COUNTIF(D$9:D1189,D1190)+1,1))","v":0},0,0]
["1183","-1900","-1900-0",null,null,null,null,null,null,null,"",null,null,null,null,null,null,null,null,{"$f":"IF(G$2034=1,\"\",IF(S1191=\"\",\"\",VLOOKUP(S1191,Tabelle!$I$5:$M$7,5,FALSE)))","v":""},{"$f":"IF(G$2034=1,\"\",IF(S1191=\"\",\"\",VLOOKUP(S1191,Tabelle!$I$5:$N$7,6,FALSE)))","v":""},null,null,null,null,null,null,null,null,null,{"$f":"IF(D1191=\"\",0,IF(D1191=D1190,COUNTIF(D$9:D1190,D1191)+1,1))","v":0},0,0]
["1184","-1900","-1900-0",null,null,null,null,null,null,null,"",null,null,null,null,null,null,null,null,{"$f":"IF(G$2034=1,\"\",IF(S1192=\"\",\"\",VLOOKUP(S1192,Tabelle!$I$5:$M$7,5,FALSE)))","v":""},{"$f":"IF(G$2034=1,\"\",IF(S1192=\"\",\"\",VLOOKUP(S1192,Tabelle!$I$5:$N$7,6,FALSE)))","v":""},null,null,null,null,null,null,null,null,null,{"$f":"IF(D1192=\"\",0,IF(D1192=D1191,COUNTIF(D$9:D1191,D1192)+1,1))","v":0},0,0]
["1185","-1900","-1900-0",null,null,null,null,null,null,null,"",null,null,null,null,null,null,null,null,{"$f":"IF(G$2034=1,\"\",IF(S1193=\"\",\"\",VLOOKUP(S1193,Tabelle!$I$5:$M$7,5,FALSE)))","v":""},{"$f":"IF(G$2034=1,\"\",IF(S1193=\"\",\"\",VLOOKUP(S1193,Tabelle!$I$5:$N$7,6,FALSE)))","v":""},null,null,null,null,null,null,null,null,null,{"$f":"IF(D1193=\"\",0,IF(D1193=D1192,COUNTIF(D$9:D1192,D1193)+1,1))","v":0},0,0]
["1186","-1900","-1900-0",null,null,null,null,null,null,null,"",null,null,null,null,null,null,null,null,{"$f":"IF(G$2034=1,\"\",IF(S1194=\"\",\"\",VLOOKUP(S1194,Tabelle!$I$5:$M$7,5,FALSE)))","v":""},{"$f":"IF(G$2034=1,\"\",IF(S1194=\"\",\"\",VLOOKUP(S1194,Tabelle!$I$5:$N$7,6,FALSE)))","v":""},null,null,null,null,null,null,null,null,null,{"$f":"IF(D1194=\"\",0,IF(D1194=D1193,COUNTIF(D$9:D1193,D1194)+1,1))","v":0},0,0]
["1187","-1900","-1900-0",null,null,null,null,null,null,null,"",null,null,null,null,null,null,null,null,{"$f":"IF(G$2034=1,\"\",IF(S1195=\"\",\"\",VLOOKUP(S1195,Tabelle!$I$5:$M$7,5,FALSE)))","v":""},{"$f":"IF(G$2034=1,\"\",IF(S1195=\"\",\"\",VLOOKUP(S1195,Tabelle!$I$5:$N$7,6,FALSE)))","v":""},null,null,null,null,null,null,null,null,null,{"$f":"IF(D1195=\"\",0,IF(D1195=D1194,COUNTIF(D$9:D1194,D1195)+1,1))","v":0},0,0]
["1188","-1900","-1900-0",null,null,null,null,null,null,null,"",null,null,null,null,null,null,null,null,{"$f":"IF(G$2034=1,\"\",IF(S1196=\"\",\"\",VLOOKUP(S1196,Tabelle!$I$5:$M$7,5,FALSE)))","v":""},{"$f":"IF(G$2034=1,\"\",IF(S1196=\"\",\"\",VLOOKUP(S1196,Tabelle!$I$5:$N$7,6,FALSE)))","v":""},null,null,null,null,null,null,null,null,null,{"$f":"IF(D1196=\"\",0,IF(D1196=D1195,COUNTIF(D$9:D1195,D1196)+1,1))","v":0},0,0]
["1189","-1900","-1900-0",null,null,null,null,null,null,null,"",null,null,null,null,null,null,null,null,{"$f":"IF(G$2034=1,\"\",IF(S1197=\"\",\"\",VLOOKUP(S1197,Tabelle!$I$5:$M$7,5,FALSE)))","v":""},{"$f":"IF(G$2034=1,\"\",IF(S1197=\"\",\"\",VLOOKUP(S1197,Tabelle!$I$5:$N$7,6,FALSE)))","v":""},null,null,null,null,null,null,null,null,null,{"$f":"IF(D1197=\"\",0,IF(D1197=D1196,COUNTIF(D$9:D1196,D1197)+1,1))","v":0},0,0]
["1190","-1900","-1900-0",null,null,null,null,null,null,null,"",null,null,null,null,null,null,null,null,{"$f":"IF(G$2034=1,\"\",IF(S1198=\"\",\"\",VLOOKUP(S1198,Tabelle!$I$5:$M$7,5,FALSE)))","v":""},{"$f":"IF(G$2034=1,\"\",IF(S1198=\"\",\"\",VLOOKUP(S1198,Tabelle!$I$5:$N$7,6,FALSE)))","v":""},null,null,null,null,null,null,null,null,null,{"$f":"IF(D1198=\"\",0,IF(D1198=D1197,COUNTIF(D$9:D1197,D1198)+1,1))","v":0},0,0]
["1191","-1900","-1900-0",null,null,null,null,null,null,null,"",null,null,null,null,null,null,null,null,{"$f":"IF(G$2034=1,\"\",IF(S1199=\"\",\"\",VLOOKUP(S1199,Tabelle!$I$5:$M$7,5,FALSE)))","v":""},{"$f":"IF(G$2034=1,\"\",IF(S1199=\"\",\"\",VLOOKUP(S1199,Tabelle!$I$5:$N$7,6,FALSE)))","v":""},null,null,null,null,null,null,null,null,null,{"$f":"IF(D1199=\"\",0,IF(D1199=D1198,COUNTIF(D$9:D1198,D1199)+1,1))","v":0},0,0]
["1192","-1900","-1900-0",null,null,null,null,null,null,null,"",null,null,null,null,null,null,null,null,{"$f":"IF(G$2034=1,\"\",IF(S1200=\"\",\"\",VLOOKUP(S1200,Tabelle!$I$5:$M$7,5,FALSE)))","v":""},{"$f":"IF(G$2034=1,\"\",IF(S1200=\"\",\"\",VLOOKUP(S1200,Tabelle!$I$5:$N$7,6,FALSE)))","v":""},null,null,null,null,null,null,null,null,null,{"$f":"IF(D1200=\"\",0,IF(D1200=D1199,COUNTIF(D$9:D1199,D1200)+1,1))","v":0},0,0]
["1193","-1900","-1900-0",null,null,null,null,null,null,null,"",null,null,null,null,null,null,null,null,{"$f":"IF(G$2034=1,\"\",IF(S1201=\"\",\"\",VLOOKUP(S1201,Tabelle!$I$5:$M$7,5,FALSE)))","v":""},{"$f":"IF(G$2034=1,\"\",IF(S1201=\"\",\"\",VLOOKUP(S1201,Tabelle!$I$5:$N$7,6,FALSE)))","v":""},null,null,null,null,null,null,null,null,null,{"$f":"IF(D1201=\"\",0,IF(D1201=D1200,COUNTIF(D$9:D1200,D1201)+1,1))","v":0},0,0]
["1194","-1900","-1900-0",null,null,null,null,null,null,null,"",null,null,null,null,null,null,null,null,{"$f":"IF(G$2034=1,\"\",IF(S1202=\"\",\"\",VLOOKUP(S1202,Tabelle!$I$5:$M$7,5,FALSE)))","v":""},{"$f":"IF(G$2034=1,\"\",IF(S1202=\"\",\"\",VLOOKUP(S1202,Tabelle!$I$5:$N$7,6,FALSE)))","v":""},null,null,null,null,null,null,null,null,null,{"$f":"IF(D1202=\"\",0,IF(D1202=D1201,COUNTIF(D$9:D1201,D1202)+1,1))","v":0},0,0]
["1195","-1900","-1900-0",null,null,null,null,null,null,null,"",null,null,null,null,null,null,null,null,{"$f":"IF(G$2034=1,\"\",IF(S1203=\"\",\"\",VLOOKUP(S1203,Tabelle!$I$5:$M$7,5,FALSE)))","v":""},{"$f":"IF(G$2034=1,\"\",IF(S1203=\"\",\"\",VLOOKUP(S1203,Tabelle!$I$5:$N$7,6,FALSE)))","v":""},null,null,null,null,null,null,null,null,null,{"$f":"IF(D1203=\"\",0,IF(D1203=D1202,COUNTIF(D$9:D1202,D1203)+1,1))","v":0},0,0]
["1196","-1900","-1900-0",null,null,null,null,null,null,null,"",null,null,null,null,null,null,null,null,{"$f":"IF(G$2034=1,\"\",IF(S1204=\"\",\"\",VLOOKUP(S1204,Tabelle!$I$5:$M$7,5,FALSE)))","v":""},{"$f":"IF(G$2034=1,\"\",IF(S1204=\"\",\"\",VLOOKUP(S1204,Tabelle!$I$5:$N$7,6,FALSE)))","v":""},null,null,null,null,null,null,null,null,null,{"$f":"IF(D1204=\"\",0,IF(D1204=D1203,COUNTIF(D$9:D1203,D1204)+1,1))","v":0},0,0]
["1197","-1900","-1900-0",null,null,null,null,null,null,null,"",null,null,null,null,null,null,null,null,{"$f":"IF(G$2034=1,\"\",IF(S1205=\"\",\"\",VLOOKUP(S1205,Tabelle!$I$5:$M$7,5,FALSE)))","v":""},{"$f":"IF(G$2034=1,\"\",IF(S1205=\"\",\"\",VLOOKUP(S1205,Tabelle!$I$5:$N$7,6,FALSE)))","v":""},null,null,null,null,null,null,null,null,null,{"$f":"IF(D1205=\"\",0,IF(D1205=D1204,COUNTIF(D$9:D1204,D1205)+1,1))","v":0},0,0]
["1198","-1900","-1900-0",null,null,null,null,null,null,null,"",null,null,null,null,null,null,null,null,{"$f":"IF(G$2034=1,\"\",IF(S1206=\"\",\"\",VLOOKUP(S1206,Tabelle!$I$5:$M$7,5,FALSE)))","v":""},{"$f":"IF(G$2034=1,\"\",IF(S1206=\"\",\"\",VLOOKUP(S1206,Tabelle!$I$5:$N$7,6,FALSE)))","v":""},null,null,null,null,null,null,null,null,null,{"$f":"IF(D1206=\"\",0,IF(D1206=D1205,COUNTIF(D$9:D1205,D1206)+1,1))","v":0},0,0]
["1199","-1900","-1900-0",null,null,null,null,null,null,null,"",null,null,null,null,null,null,null,null,{"$f":"IF(G$2034=1,\"\",IF(S1207=\"\",\"\",VLOOKUP(S1207,Tabelle!$I$5:$M$7,5,FALSE)))","v":""},{"$f":"IF(G$2034=1,\"\",IF(S1207=\"\",\"\",VLOOKUP(S1207,Tabelle!$I$5:$N$7,6,FALSE)))","v":""},null,null,null,null,null,null,null,null,null,{"$f":"IF(D1207=\"\",0,IF(D1207=D1206,COUNTIF(D$9:D1206,D1207)+1,1))","v":0},0,0]
["1200","-1900","-1900-0",null,null,null,null,null,null,null,"",null,null,null,null,null,null,null,null,{"$f":"IF(G$2034=1,\"\",IF(S1208=\"\",\"\",VLOOKUP(S1208,Tabelle!$I$5:$M$7,5,FALSE)))","v":""},{"$f":"IF(G$2034=1,\"\",IF(S1208=\"\",\"\",VLOOKUP(S1208,Tabelle!$I$5:$N$7,6,FALSE)))","v":""},null,null,null,null,null,null,null,null,null,{"$f":"IF(D1208=\"\",0,IF(D1208=D1207,COUNTIF(D$9:D1207,D1208)+1,1))","v":0},0,0]
["1201","-1900","-1900-0",null,null,null,null,null,null,null,"",null,null,null,null,null,null,null,null,{"$f":"IF(G$2034=1,\"\",IF(S1209=\"\",\"\",VLOOKUP(S1209,Tabelle!$I$5:$M$7,5,FALSE)))","v":""},{"$f":"IF(G$2034=1,\"\",IF(S1209=\"\",\"\",VLOOKUP(S1209,Tabelle!$I$5:$N$7,6,FALSE)))","v":""},null,null,null,null,null,null,null,null,null,{"$f":"IF(D1209=\"\",0,IF(D1209=D1208,COUNTIF(D$9:D1208,D1209)+1,1))","v":0},0,0]
["1202","-1900","-1900-0",null,null,null,null,null,null,null,"",null,null,null,null,null,null,null,null,{"$f":"IF(G$2034=1,\"\",IF(S1210=\"\",\"\",VLOOKUP(S1210,Tabelle!$I$5:$M$7,5,FALSE)))","v":""},{"$f":"IF(G$2034=1,\"\",IF(S1210=\"\",\"\",VLOOKUP(S1210,Tabelle!$I$5:$N$7,6,FALSE)))","v":""},null,null,null,null,null,null,null,null,null,{"$f":"IF(D1210=\"\",0,IF(D1210=D1209,COUNTIF(D$9:D1209,D1210)+1,1))","v":0},0,0]
["1203","-1900","-1900-0",null,null,null,null,null,null,null,"",null,null,null,null,null,null,null,null,{"$f":"IF(G$2034=1,\"\",IF(S1211=\"\",\"\",VLOOKUP(S1211,Tabelle!$I$5:$M$7,5,FALSE)))","v":""},{"$f":"IF(G$2034=1,\"\",IF(S1211=\"\",\"\",VLOOKUP(S1211,Tabelle!$I$5:$N$7,6,FALSE)))","v":""},null,null,null,null,null,null,null,null,null,{"$f":"IF(D1211=\"\",0,IF(D1211=D1210,COUNTIF(D$9:D1210,D1211)+1,1))","v":0},0,0]
["1204","-1900","-1900-0",null,null,null,null,null,null,null,"",null,null,null,null,null,null,null,null,{"$f":"IF(G$2034=1,\"\",IF(S1212=\"\",\"\",VLOOKUP(S1212,Tabelle!$I$5:$M$7,5,FALSE)))","v":""},{"$f":"IF(G$2034=1,\"\",IF(S1212=\"\",\"\",VLOOKUP(S1212,Tabelle!$I$5:$N$7,6,FALSE)))","v":""},null,null,null,null,null,null,null,null,null,{"$f":"IF(D1212=\"\",0,IF(D1212=D1211,COUNTIF(D$9:D1211,D1212)+1,1))","v":0},0,0]
["1205","-1900","-1900-0",null,null,null,null,null,null,null,"",null,null,null,null,null,null,null,null,{"$f":"IF(G$2034=1,\"\",IF(S1213=\"\",\"\",VLOOKUP(S1213,Tabelle!$I$5:$M$7,5,FALSE)))","v":""},{"$f":"IF(G$2034=1,\"\",IF(S1213=\"\",\"\",VLOOKUP(S1213,Tabelle!$I$5:$N$7,6,FALSE)))","v":""},null,null,null,null,null,null,null,null,null,{"$f":"IF(D1213=\"\",0,IF(D1213=D1212,COUNTIF(D$9:D1212,D1213)+1,1))","v":0},0,0]
["1206","-1900","-1900-0",null,null,null,null,null,null,null,"",null,null,null,null,null,null,null,null,{"$f":"IF(G$2034=1,\"\",IF(S1214=\"\",\"\",VLOOKUP(S1214,Tabelle!$I$5:$M$7,5,FALSE)))","v":""},{"$f":"IF(G$2034=1,\"\",IF(S1214=\"\",\"\",VLOOKUP(S1214,Tabelle!$I$5:$N$7,6,FALSE)))","v":""},null,null,null,null,null,null,null,null,null,{"$f":"IF(D1214=\"\",0,IF(D1214=D1213,COUNTIF(D$9:D1213,D1214)+1,1))","v":0},0,0]
["1207","-1900","-1900-0",null,null,null,null,null,null,null,"",null,null,null,null,null,null,null,null,{"$f":"IF(G$2034=1,\"\",IF(S1215=\"\",\"\",VLOOKUP(S1215,Tabelle!$I$5:$M$7,5,FALSE)))","v":""},{"$f":"IF(G$2034=1,\"\",IF(S1215=\"\",\"\",VLOOKUP(S1215,Tabelle!$I$5:$N$7,6,FALSE)))","v":""},null,null,null,null,null,null,null,null,null,{"$f":"IF(D1215=\"\",0,IF(D1215=D1214,COUNTIF(D$9:D1214,D1215)+1,1))","v":0},0,0]
["1208","-1900","-1900-0",null,null,null,null,null,null,null,"",null,null,null,null,null,null,null,null,{"$f":"IF(G$2034=1,\"\",IF(S1216=\"\",\"\",VLOOKUP(S1216,Tabelle!$I$5:$M$7,5,FALSE)))","v":""},{"$f":"IF(G$2034=1,\"\",IF(S1216=\"\",\"\",VLOOKUP(S1216,Tabelle!$I$5:$N$7,6,FALSE)))","v":""},null,null,null,null,null,null,null,null,null,{"$f":"IF(D1216=\"\",0,IF(D1216=D1215,COUNTIF(D$9:D1215,D1216)+1,1))","v":0},0,0]
["1209","-1900","-1900-0",null,null,null,null,null,null,null,"",null,null,null,null,null,null,null,null,{"$f":"IF(G$2034=1,\"\",IF(S1217=\"\",\"\",VLOOKUP(S1217,Tabelle!$I$5:$M$7,5,FALSE)))","v":""},{"$f":"IF(G$2034=1,\"\",IF(S1217=\"\",\"\",VLOOKUP(S1217,Tabelle!$I$5:$N$7,6,FALSE)))","v":""},null,null,null,null,null,null,null,null,null,{"$f":"IF(D1217=\"\",0,IF(D1217=D1216,COUNTIF(D$9:D1216,D1217)+1,1))","v":0},0,0]
["1210","-1900","-1900-0",null,null,null,null,null,null,null,"",null,null,null,null,null,null,null,null,{"$f":"IF(G$2034=1,\"\",IF(S1218=\"\",\"\",VLOOKUP(S1218,Tabelle!$I$5:$M$7,5,FALSE)))","v":""},{"$f":"IF(G$2034=1,\"\",IF(S1218=\"\",\"\",VLOOKUP(S1218,Tabelle!$I$5:$N$7,6,FALSE)))","v":""},null,null,null,null,null,null,null,null,null,{"$f":"IF(D1218=\"\",0,IF(D1218=D1217,COUNTIF(D$9:D1217,D1218)+1,1))","v":0},0,0]
["1211","-1900","-1900-0",null,null,null,null,null,null,null,"",null,null,null,null,null,null,null,null,{"$f":"IF(G$2034=1,\"\",IF(S1219=\"\",\"\",VLOOKUP(S1219,Tabelle!$I$5:$M$7,5,FALSE)))","v":""},{"$f":"IF(G$2034=1,\"\",IF(S1219=\"\",\"\",VLOOKUP(S1219,Tabelle!$I$5:$N$7,6,FALSE)))","v":""},null,null,null,null,null,null,null,null,null,{"$f":"IF(D1219=\"\",0,IF(D1219=D1218,COUNTIF(D$9:D1218,D1219)+1,1))","v":0},0,0]
["1212","-1900","-1900-0",null,null,null,null,null,null,null,"",null,null,null,null,null,null,null,null,{"$f":"IF(G$2034=1,\"\",IF(S1220=\"\",\"\",VLOOKUP(S1220,Tabelle!$I$5:$M$7,5,FALSE)))","v":""},{"$f":"IF(G$2034=1,\"\",IF(S1220=\"\",\"\",VLOOKUP(S1220,Tabelle!$I$5:$N$7,6,FALSE)))","v":""},null,null,null,null,null,null,null,null,null,{"$f":"IF(D1220=\"\",0,IF(D1220=D1219,COUNTIF(D$9:D1219,D1220)+1,1))","v":0},0,0]
["1213","-1900","-1900-0",null,null,null,null,null,null,null,"",null,null,null,null,null,null,null,null,{"$f":"IF(G$2034=1,\"\",IF(S1221=\"\",\"\",VLOOKUP(S1221,Tabelle!$I$5:$M$7,5,FALSE)))","v":""},{"$f":"IF(G$2034=1,\"\",IF(S1221=\"\",\"\",VLOOKUP(S1221,Tabelle!$I$5:$N$7,6,FALSE)))","v":""},null,null,null,null,null,null,null,null,null,{"$f":"IF(D1221=\"\",0,IF(D1221=D1220,COUNTIF(D$9:D1220,D1221)+1,1))","v":0},0,0]
["1214","-1900","-1900-0",null,null,null,null,null,null,null,"",null,null,null,null,null,null,null,null,{"$f":"IF(G$2034=1,\"\",IF(S1222=\"\",\"\",VLOOKUP(S1222,Tabelle!$I$5:$M$7,5,FALSE)))","v":""},{"$f":"IF(G$2034=1,\"\",IF(S1222=\"\",\"\",VLOOKUP(S1222,Tabelle!$I$5:$N$7,6,FALSE)))","v":""},null,null,null,null,null,null,null,null,null,{"$f":"IF(D1222=\"\",0,IF(D1222=D1221,COUNTIF(D$9:D1221,D1222)+1,1))","v":0},0,0]
["1215","-1900","-1900-0",null,null,null,null,null,null,null,"",null,null,null,null,null,null,null,null,{"$f":"IF(G$2034=1,\"\",IF(S1223=\"\",\"\",VLOOKUP(S1223,Tabelle!$I$5:$M$7,5,FALSE)))","v":""},{"$f":"IF(G$2034=1,\"\",IF(S1223=\"\",\"\",VLOOKUP(S1223,Tabelle!$I$5:$N$7,6,FALSE)))","v":""},null,null,null,null,null,null,null,null,null,{"$f":"IF(D1223=\"\",0,IF(D1223=D1222,COUNTIF(D$9:D1222,D1223)+1,1))","v":0},0,0]
["1216","-1900","-1900-0",null,null,null,null,null,null,null,"",null,null,null,null,null,null,null,null,{"$f":"IF(G$2034=1,\"\",IF(S1224=\"\",\"\",VLOOKUP(S1224,Tabelle!$I$5:$M$7,5,FALSE)))","v":""},{"$f":"IF(G$2034=1,\"\",IF(S1224=\"\",\"\",VLOOKUP(S1224,Tabelle!$I$5:$N$7,6,FALSE)))","v":""},null,null,null,null,null,null,null,null,null,{"$f":"IF(D1224=\"\",0,IF(D1224=D1223,COUNTIF(D$9:D1223,D1224)+1,1))","v":0},0,0]
["1217","-1900",{"$f":"IF(G$2034=1,0,B1225&\"-\"&AE1225)","v":"-1900-0"},null,null,null,null,null,null,null,{"$f":"IF(G$2034=1,0,IF(OR(J1225=\"\",ISERROR($O$2034)),\"\",VLOOKUP(J1225,$L$2019:$N$2027,2,FALSE)))","v":""},null,null,null,null,null,null,null,null,{"$f":"IF(G$2034=1,\"\",IF(S1225=\"\",\"\",VLOOKUP(S1225,Tabelle!$I$5:$M$7,5,FALSE)))","v":""},{"$f":"IF(G$2034=1,\"\",IF(S1225=\"\",\"\",VLOOKUP(S1225,Tabelle!$I$5:$N$7,6,FALSE)))","v":""},null,null,null,null,null,null,null,null,null,{"$f":"IF(D1225=\"\",0,IF(D1225=D1224,COUNTIF(D$9:D1224,D1225)+1,1))","v":0},0,0]
["1218",{"$f":"IF(AG1226=$AG$2013,0,IF(G$2034=1,0,D1226&\"-\"&YEAR(E1226)))","v":"-1900"},"-1900-0",null,null,null,null,null,null,null,"",null,null,null,null,null,null,null,null,{"$f":"IF(G$2034=1,\"\",IF(S1226=\"\",\"\",VLOOKUP(S1226,Tabelle!$I$5:$M$7,5,FALSE)))","v":""},{"$f":"IF(G$2034=1,\"\",IF(S1226=\"\",\"\",VLOOKUP(S1226,Tabelle!$I$5:$N$7,6,FALSE)))","v":""},null,null,null,null,null,null,null,null,null,{"$f":"IF(D1226=\"\",0,IF(D1226=D1225,COUNTIF(D$9:D1225,D1226)+1,1))","v":0},{"$f":"IF(G$2034=1,0,IF(AE1226=28,1,0))","v":0},{"$f":"IF(E1226>0,IF(OR(MONTH(E1226)<$G$2026,MONTH(E1226)>$G$2027),AG$2013,0),0)","v":0}]
["1219","-1900","-1900-0",null,null,null,null,null,null,null,"",null,null,null,null,null,null,null,null,{"$f":"IF(G$2034=1,\"\",IF(S1227=\"\",\"\",VLOOKUP(S1227,Tabelle!$I$5:$M$7,5,FALSE)))","v":""},{"$f":"IF(G$2034=1,\"\",IF(S1227=\"\",\"\",VLOOKUP(S1227,Tabelle!$I$5:$N$7,6,FALSE)))","v":""},null,null,null,null,null,null,null,null,null,{"$f":"IF(D1227=\"\",0,IF(D1227=D1226,COUNTIF(D$9:D1226,D1227)+1,1))","v":0},0,0]
["1220","-1900","-1900-0",null,null,null,null,null,null,null,"",null,null,null,null,null,null,null,null,{"$f":"IF(G$2034=1,\"\",IF(S1228=\"\",\"\",VLOOKUP(S1228,Tabelle!$I$5:$M$7,5,FALSE)))","v":""},{"$f":"IF(G$2034=1,\"\",IF(S1228=\"\",\"\",VLOOKUP(S1228,Tabelle!$I$5:$N$7,6,FALSE)))","v":""},null,null,null,null,null,null,null,null,null,{"$f":"IF(D1228=\"\",0,IF(D1228=D1227,COUNTIF(D$9:D1227,D1228)+1,1))","v":0},0,0]
["1221","-1900","-1900-0",null,null,null,null,null,null,null,"",null,null,null,null,null,null,null,null,{"$f":"IF(G$2034=1,\"\",IF(S1229=\"\",\"\",VLOOKUP(S1229,Tabelle!$I$5:$M$7,5,FALSE)))","v":""},{"$f":"IF(G$2034=1,\"\",IF(S1229=\"\",\"\",VLOOKUP(S1229,Tabelle!$I$5:$N$7,6,FALSE)))","v":""},null,null,null,null,null,null,null,null,null,{"$f":"IF(D1229=\"\",0,IF(D1229=D1228,COUNTIF(D$9:D1228,D1229)+1,1))","v":0},0,0]
["1222","-1900","-1900-0",null,null,null,null,null,null,null,"",null,null,null,null,null,null,null,null,{"$f":"IF(G$2034=1,\"\",IF(S1230=\"\",\"\",VLOOKUP(S1230,Tabelle!$I$5:$M$7,5,FALSE)))","v":""},{"$f":"IF(G$2034=1,\"\",IF(S1230=\"\",\"\",VLOOKUP(S1230,Tabelle!$I$5:$N$7,6,FALSE)))","v":""},null,null,null,null,null,null,null,null,null,{"$f":"IF(D1230=\"\",0,IF(D1230=D1229,COUNTIF(D$9:D1229,D1230)+1,1))","v":0},0,0]
["1223","-1900","-1900-0",null,null,null,null,null,null,null,"",null,null,null,null,null,null,null,null,{"$f":"IF(G$2034=1,\"\",IF(S1231=\"\",\"\",VLOOKUP(S1231,Tabelle!$I$5:$M$7,5,FALSE)))","v":""},{"$f":"IF(G$2034=1,\"\",IF(S1231=\"\",\"\",VLOOKUP(S1231,Tabelle!$I$5:$N$7,6,FALSE)))","v":""},null,null,null,null,null,null,null,null,null,{"$f":"IF(D1231=\"\",0,IF(D1231=D1230,COUNTIF(D$9:D1230,D1231)+1,1))","v":0},0,0]
["1224","-1900","-1900-0",null,null,null,null,null,null,null,"",null,null,null,null,null,null,null,null,{"$f":"IF(G$2034=1,\"\",IF(S1232=\"\",\"\",VLOOKUP(S1232,Tabelle!$I$5:$M$7,5,FALSE)))","v":""},{"$f":"IF(G$2034=1,\"\",IF(S1232=\"\",\"\",VLOOKUP(S1232,Tabelle!$I$5:$N$7,6,FALSE)))","v":""},null,null,null,null,null,null,null,null,null,{"$f":"IF(D1232=\"\",0,IF(D1232=D1231,COUNTIF(D$9:D1231,D1232)+1,1))","v":0},0,0]
["1225","-1900","-1900-0",null,null,null,null,null,null,null,"",null,null,null,null,null,null,null,null,{"$f":"IF(G$2034=1,\"\",IF(S1233=\"\",\"\",VLOOKUP(S1233,Tabelle!$I$5:$M$7,5,FALSE)))","v":""},{"$f":"IF(G$2034=1,\"\",IF(S1233=\"\",\"\",VLOOKUP(S1233,Tabelle!$I$5:$N$7,6,FALSE)))","v":""},null,null,null,null,null,null,null,null,null,{"$f":"IF(D1233=\"\",0,IF(D1233=D1232,COUNTIF(D$9:D1232,D1233)+1,1))","v":0},0,0]
["1226","-1900","-1900-0",null,null,null,null,null,null,null,"",null,null,null,null,null,null,null,null,{"$f":"IF(G$2034=1,\"\",IF(S1234=\"\",\"\",VLOOKUP(S1234,Tabelle!$I$5:$M$7,5,FALSE)))","v":""},{"$f":"IF(G$2034=1,\"\",IF(S1234=\"\",\"\",VLOOKUP(S1234,Tabelle!$I$5:$N$7,6,FALSE)))","v":""},null,null,null,null,null,null,null,null,null,{"$f":"IF(D1234=\"\",0,IF(D1234=D1233,COUNTIF(D$9:D1233,D1234)+1,1))","v":0},0,0]
["1227","-1900","-1900-0",null,null,null,null,null,null,null,"",null,null,null,null,null,null,null,null,{"$f":"IF(G$2034=1,\"\",IF(S1235=\"\",\"\",VLOOKUP(S1235,Tabelle!$I$5:$M$7,5,FALSE)))","v":""},{"$f":"IF(G$2034=1,\"\",IF(S1235=\"\",\"\",VLOOKUP(S1235,Tabelle!$I$5:$N$7,6,FALSE)))","v":""},null,null,null,null,null,null,null,null,null,{"$f":"IF(D1235=\"\",0,IF(D1235=D1234,COUNTIF(D$9:D1234,D1235)+1,1))","v":0},0,0]
["1228","-1900","-1900-0",null,null,null,null,null,null,null,"",null,null,null,null,null,null,null,null,{"$f":"IF(G$2034=1,\"\",IF(S1236=\"\",\"\",VLOOKUP(S1236,Tabelle!$I$5:$M$7,5,FALSE)))","v":""},{"$f":"IF(G$2034=1,\"\",IF(S1236=\"\",\"\",VLOOKUP(S1236,Tabelle!$I$5:$N$7,6,FALSE)))","v":""},null,null,null,null,null,null,null,null,null,{"$f":"IF(D1236=\"\",0,IF(D1236=D1235,COUNTIF(D$9:D1235,D1236)+1,1))","v":0},0,0]
["1229","-1900","-1900-0",null,null,null,null,null,null,null,"",null,null,null,null,null,null,null,null,{"$f":"IF(G$2034=1,\"\",IF(S1237=\"\",\"\",VLOOKUP(S1237,Tabelle!$I$5:$M$7,5,FALSE)))","v":""},{"$f":"IF(G$2034=1,\"\",IF(S1237=\"\",\"\",VLOOKUP(S1237,Tabelle!$I$5:$N$7,6,FALSE)))","v":""},null,null,null,null,null,null,null,null,null,{"$f":"IF(D1237=\"\",0,IF(D1237=D1236,COUNTIF(D$9:D1236,D1237)+1,1))","v":0},0,0]
["1230","-1900","-1900-0",null,null,null,null,null,null,null,"",null,null,null,null,null,null,null,null,{"$f":"IF(G$2034=1,\"\",IF(S1238=\"\",\"\",VLOOKUP(S1238,Tabelle!$I$5:$M$7,5,FALSE)))","v":""},{"$f":"IF(G$2034=1,\"\",IF(S1238=\"\",\"\",VLOOKUP(S1238,Tabelle!$I$5:$N$7,6,FALSE)))","v":""},null,null,null,null,null,null,null,null,null,{"$f":"IF(D1238=\"\",0,IF(D1238=D1237,COUNTIF(D$9:D1237,D1238)+1,1))","v":0},0,0]
["1231","-1900","-1900-0",null,null,null,null,null,null,null,"",null,null,null,null,null,null,null,null,{"$f":"IF(G$2034=1,\"\",IF(S1239=\"\",\"\",VLOOKUP(S1239,Tabelle!$I$5:$M$7,5,FALSE)))","v":""},{"$f":"IF(G$2034=1,\"\",IF(S1239=\"\",\"\",VLOOKUP(S1239,Tabelle!$I$5:$N$7,6,FALSE)))","v":""},null,null,null,null,null,null,null,null,null,{"$f":"IF(D1239=\"\",0,IF(D1239=D1238,COUNTIF(D$9:D1238,D1239)+1,1))","v":0},0,0]
["1232","-1900","-1900-0",null,null,null,null,null,null,null,"",null,null,null,null,null,null,null,null,{"$f":"IF(G$2034=1,\"\",IF(S1240=\"\",\"\",VLOOKUP(S1240,Tabelle!$I$5:$M$7,5,FALSE)))","v":""},{"$f":"IF(G$2034=1,\"\",IF(S1240=\"\",\"\",VLOOKUP(S1240,Tabelle!$I$5:$N$7,6,FALSE)))","v":""},null,null,null,null,null,null,null,null,null,{"$f":"IF(D1240=\"\",0,IF(D1240=D1239,COUNTIF(D$9:D1239,D1240)+1,1))","v":0},0,0]
["1233","-1900","-1900-0",null,null,null,null,null,null,null,"",null,null,null,null,null,null,null,null,{"$f":"IF(G$2034=1,\"\",IF(S1241=\"\",\"\",VLOOKUP(S1241,Tabelle!$I$5:$M$7,5,FALSE)))","v":""},{"$f":"IF(G$2034=1,\"\",IF(S1241=\"\",\"\",VLOOKUP(S1241,Tabelle!$I$5:$N$7,6,FALSE)))","v":""},null,null,null,null,null,null,null,null,null,{"$f":"IF(D1241=\"\",0,IF(D1241=D1240,COUNTIF(D$9:D1240,D1241)+1,1))","v":0},0,0]
["1234","-1900","-1900-0",null,null,null,null,null,null,null,"",null,null,null,null,null,null,null,null,{"$f":"IF(G$2034=1,\"\",IF(S1242=\"\",\"\",VLOOKUP(S1242,Tabelle!$I$5:$M$7,5,FALSE)))","v":""},{"$f":"IF(G$2034=1,\"\",IF(S1242=\"\",\"\",VLOOKUP(S1242,Tabelle!$I$5:$N$7,6,FALSE)))","v":""},null,null,null,null,null,null,null,null,null,{"$f":"IF(D1242=\"\",0,IF(D1242=D1241,COUNTIF(D$9:D1241,D1242)+1,1))","v":0},0,0]
["1235","-1900","-1900-0",null,null,null,null,null,null,null,"",null,null,null,null,null,null,null,null,{"$f":"IF(G$2034=1,\"\",IF(S1243=\"\",\"\",VLOOKUP(S1243,Tabelle!$I$5:$M$7,5,FALSE)))","v":""},{"$f":"IF(G$2034=1,\"\",IF(S1243=\"\",\"\",VLOOKUP(S1243,Tabelle!$I$5:$N$7,6,FALSE)))","v":""},null,null,null,null,null,null,null,null,null,{"$f":"IF(D1243=\"\",0,IF(D1243=D1242,COUNTIF(D$9:D1242,D1243)+1,1))","v":0},0,0]
["1236","-1900","-1900-0",null,null,null,null,null,null,null,"",null,null,null,null,null,null,null,null,{"$f":"IF(G$2034=1,\"\",IF(S1244=\"\",\"\",VLOOKUP(S1244,Tabelle!$I$5:$M$7,5,FALSE)))","v":""},{"$f":"IF(G$2034=1,\"\",IF(S1244=\"\",\"\",VLOOKUP(S1244,Tabelle!$I$5:$N$7,6,FALSE)))","v":""},null,null,null,null,null,null,null,null,null,{"$f":"IF(D1244=\"\",0,IF(D1244=D1243,COUNTIF(D$9:D1243,D1244)+1,1))","v":0},0,0]
["1237","-1900","-1900-0",null,null,null,null,null,null,null,"",null,null,null,null,null,null,null,null,{"$f":"IF(G$2034=1,\"\",IF(S1245=\"\",\"\",VLOOKUP(S1245,Tabelle!$I$5:$M$7,5,FALSE)))","v":""},{"$f":"IF(G$2034=1,\"\",IF(S1245=\"\",\"\",VLOOKUP(S1245,Tabelle!$I$5:$N$7,6,FALSE)))","v":""},null,null,null,null,null,null,null,null,null,{"$f":"IF(D1245=\"\",0,IF(D1245=D1244,COUNTIF(D$9:D1244,D1245)+1,1))","v":0},0,0]
["1238","-1900","-1900-0",null,null,null,null,null,null,null,"",null,null,null,null,null,null,null,null,{"$f":"IF(G$2034=1,\"\",IF(S1246=\"\",\"\",VLOOKUP(S1246,Tabelle!$I$5:$M$7,5,FALSE)))","v":""},{"$f":"IF(G$2034=1,\"\",IF(S1246=\"\",\"\",VLOOKUP(S1246,Tabelle!$I$5:$N$7,6,FALSE)))","v":""},null,null,null,null,null,null,null,null,null,{"$f":"IF(D1246=\"\",0,IF(D1246=D1245,COUNTIF(D$9:D1245,D1246)+1,1))","v":0},0,0]
["1239","-1900","-1900-0",null,null,null,null,null,null,null,"",null,null,null,null,null,null,null,null,{"$f":"IF(G$2034=1,\"\",IF(S1247=\"\",\"\",VLOOKUP(S1247,Tabelle!$I$5:$M$7,5,FALSE)))","v":""},{"$f":"IF(G$2034=1,\"\",IF(S1247=\"\",\"\",VLOOKUP(S1247,Tabelle!$I$5:$N$7,6,FALSE)))","v":""},null,null,null,null,null,null,null,null,null,{"$f":"IF(D1247=\"\",0,IF(D1247=D1246,COUNTIF(D$9:D1246,D1247)+1,1))","v":0},0,0]
["1240","-1900","-1900-0",null,null,null,null,null,null,null,"",null,null,null,null,null,null,null,null,{"$f":"IF(G$2034=1,\"\",IF(S1248=\"\",\"\",VLOOKUP(S1248,Tabelle!$I$5:$M$7,5,FALSE)))","v":""},{"$f":"IF(G$2034=1,\"\",IF(S1248=\"\",\"\",VLOOKUP(S1248,Tabelle!$I$5:$N$7,6,FALSE)))","v":""},null,null,null,null,null,null,null,null,null,{"$f":"IF(D1248=\"\",0,IF(D1248=D1247,COUNTIF(D$9:D1247,D1248)+1,1))","v":0},0,0]
["1241","-1900","-1900-0",null,null,null,null,null,null,null,"",null,null,null,null,null,null,null,null,{"$f":"IF(G$2034=1,\"\",IF(S1249=\"\",\"\",VLOOKUP(S1249,Tabelle!$I$5:$M$7,5,FALSE)))","v":""},{"$f":"IF(G$2034=1,\"\",IF(S1249=\"\",\"\",VLOOKUP(S1249,Tabelle!$I$5:$N$7,6,FALSE)))","v":""},null,null,null,null,null,null,null,null,null,{"$f":"IF(D1249=\"\",0,IF(D1249=D1248,COUNTIF(D$9:D1248,D1249)+1,1))","v":0},0,0]
["1242","-1900","-1900-0",null,null,null,null,null,null,null,"",null,null,null,null,null,null,null,null,{"$f":"IF(G$2034=1,\"\",IF(S1250=\"\",\"\",VLOOKUP(S1250,Tabelle!$I$5:$M$7,5,FALSE)))","v":""},{"$f":"IF(G$2034=1,\"\",IF(S1250=\"\",\"\",VLOOKUP(S1250,Tabelle!$I$5:$N$7,6,FALSE)))","v":""},null,null,null,null,null,null,null,null,null,{"$f":"IF(D1250=\"\",0,IF(D1250=D1249,COUNTIF(D$9:D1249,D1250)+1,1))","v":0},0,0]
["1243","-1900","-1900-0",null,null,null,null,null,null,null,"",null,null,null,null,null,null,null,null,{"$f":"IF(G$2034=1,\"\",IF(S1251=\"\",\"\",VLOOKUP(S1251,Tabelle!$I$5:$M$7,5,FALSE)))","v":""},{"$f":"IF(G$2034=1,\"\",IF(S1251=\"\",\"\",VLOOKUP(S1251,Tabelle!$I$5:$N$7,6,FALSE)))","v":""},null,null,null,null,null,null,null,null,null,{"$f":"IF(D1251=\"\",0,IF(D1251=D1250,COUNTIF(D$9:D1250,D1251)+1,1))","v":0},0,0]
["1244","-1900","-1900-0",null,null,null,null,null,null,null,"",null,null,null,null,null,null,null,null,{"$f":"IF(G$2034=1,\"\",IF(S1252=\"\",\"\",VLOOKUP(S1252,Tabelle!$I$5:$M$7,5,FALSE)))","v":""},{"$f":"IF(G$2034=1,\"\",IF(S1252=\"\",\"\",VLOOKUP(S1252,Tabelle!$I$5:$N$7,6,FALSE)))","v":""},null,null,null,null,null,null,null,null,null,{"$f":"IF(D1252=\"\",0,IF(D1252=D1251,COUNTIF(D$9:D1251,D1252)+1,1))","v":0},0,0]
["1245","-1900","-1900-0",null,null,null,null,null,null,null,"",null,null,null,null,null,null,null,null,{"$f":"IF(G$2034=1,\"\",IF(S1253=\"\",\"\",VLOOKUP(S1253,Tabelle!$I$5:$M$7,5,FALSE)))","v":""},{"$f":"IF(G$2034=1,\"\",IF(S1253=\"\",\"\",VLOOKUP(S1253,Tabelle!$I$5:$N$7,6,FALSE)))","v":""},null,null,null,null,null,null,null,null,null,{"$f":"IF(D1253=\"\",0,IF(D1253=D1252,COUNTIF(D$9:D1252,D1253)+1,1))","v":0},0,0]
["1246","-1900","-1900-0",null,null,null,null,null,null,null,"",null,null,null,null,null,null,null,null,{"$f":"IF(G$2034=1,\"\",IF(S1254=\"\",\"\",VLOOKUP(S1254,Tabelle!$I$5:$M$7,5,FALSE)))","v":""},{"$f":"IF(G$2034=1,\"\",IF(S1254=\"\",\"\",VLOOKUP(S1254,Tabelle!$I$5:$N$7,6,FALSE)))","v":""},null,null,null,null,null,null,null,null,null,{"$f":"IF(D1254=\"\",0,IF(D1254=D1253,COUNTIF(D$9:D1253,D1254)+1,1))","v":0},0,0]
["1247","-1900","-1900-0",null,null,null,null,null,null,null,"",null,null,null,null,null,null,null,null,{"$f":"IF(G$2034=1,\"\",IF(S1255=\"\",\"\",VLOOKUP(S1255,Tabelle!$I$5:$M$7,5,FALSE)))","v":""},{"$f":"IF(G$2034=1,\"\",IF(S1255=\"\",\"\",VLOOKUP(S1255,Tabelle!$I$5:$N$7,6,FALSE)))","v":""},null,null,null,null,null,null,null,null,null,{"$f":"IF(D1255=\"\",0,IF(D1255=D1254,COUNTIF(D$9:D1254,D1255)+1,1))","v":0},0,0]
["1248","-1900","-1900-0",null,null,null,null,null,null,null,"",null,null,null,null,null,null,null,null,{"$f":"IF(G$2034=1,\"\",IF(S1256=\"\",\"\",VLOOKUP(S1256,Tabelle!$I$5:$M$7,5,FALSE)))","v":""},{"$f":"IF(G$2034=1,\"\",IF(S1256=\"\",\"\",VLOOKUP(S1256,Tabelle!$I$5:$N$7,6,FALSE)))","v":""},null,null,null,null,null,null,null,null,null,{"$f":"IF(D1256=\"\",0,IF(D1256=D1255,COUNTIF(D$9:D1255,D1256)+1,1))","v":0},0,0]
["1249","-1900","-1900-0",null,null,null,null,null,null,null,"",null,null,null,null,null,null,null,null,{"$f":"IF(G$2034=1,\"\",IF(S1257=\"\",\"\",VLOOKUP(S1257,Tabelle!$I$5:$M$7,5,FALSE)))","v":""},{"$f":"IF(G$2034=1,\"\",IF(S1257=\"\",\"\",VLOOKUP(S1257,Tabelle!$I$5:$N$7,6,FALSE)))","v":""},null,null,null,null,null,null,null,null,null,{"$f":"IF(D1257=\"\",0,IF(D1257=D1256,COUNTIF(D$9:D1256,D1257)+1,1))","v":0},0,0]
["1250","-1900","-1900-0",null,null,null,null,null,null,null,"",null,null,null,null,null,null,null,null,{"$f":"IF(G$2034=1,\"\",IF(S1258=\"\",\"\",VLOOKUP(S1258,Tabelle!$I$5:$M$7,5,FALSE)))","v":""},{"$f":"IF(G$2034=1,\"\",IF(S1258=\"\",\"\",VLOOKUP(S1258,Tabelle!$I$5:$N$7,6,FALSE)))","v":""},null,null,null,null,null,null,null,null,null,{"$f":"IF(D1258=\"\",0,IF(D1258=D1257,COUNTIF(D$9:D1257,D1258)+1,1))","v":0},0,0]
["1251","-1900","-1900-0",null,null,null,null,null,null,null,"",null,null,null,null,null,null,null,null,{"$f":"IF(G$2034=1,\"\",IF(S1259=\"\",\"\",VLOOKUP(S1259,Tabelle!$I$5:$M$7,5,FALSE)))","v":""},{"$f":"IF(G$2034=1,\"\",IF(S1259=\"\",\"\",VLOOKUP(S1259,Tabelle!$I$5:$N$7,6,FALSE)))","v":""},null,null,null,null,null,null,null,null,null,{"$f":"IF(D1259=\"\",0,IF(D1259=D1258,COUNTIF(D$9:D1258,D1259)+1,1))","v":0},0,0]
["1252","-1900","-1900-0",null,null,null,null,null,null,null,"",null,null,null,null,null,null,null,null,{"$f":"IF(G$2034=1,\"\",IF(S1260=\"\",\"\",VLOOKUP(S1260,Tabelle!$I$5:$M$7,5,FALSE)))","v":""},{"$f":"IF(G$2034=1,\"\",IF(S1260=\"\",\"\",VLOOKUP(S1260,Tabelle!$I$5:$N$7,6,FALSE)))","v":""},null,null,null,null,null,null,null,null,null,{"$f":"IF(D1260=\"\",0,IF(D1260=D1259,COUNTIF(D$9:D1259,D1260)+1,1))","v":0},0,0]
["1253","-1900","-1900-0",null,null,null,null,null,null,null,"",null,null,null,null,null,null,null,null,{"$f":"IF(G$2034=1,\"\",IF(S1261=\"\",\"\",VLOOKUP(S1261,Tabelle!$I$5:$M$7,5,FALSE)))","v":""},{"$f":"IF(G$2034=1,\"\",IF(S1261=\"\",\"\",VLOOKUP(S1261,Tabelle!$I$5:$N$7,6,FALSE)))","v":""},null,null,null,null,null,null,null,null,null,{"$f":"IF(D1261=\"\",0,IF(D1261=D1260,COUNTIF(D$9:D1260,D1261)+1,1))","v":0},0,0]
["1254","-1900","-1900-0",null,null,null,null,null,null,null,"",null,null,null,null,null,null,null,null,{"$f":"IF(G$2034=1,\"\",IF(S1262=\"\",\"\",VLOOKUP(S1262,Tabelle!$I$5:$M$7,5,FALSE)))","v":""},{"$f":"IF(G$2034=1,\"\",IF(S1262=\"\",\"\",VLOOKUP(S1262,Tabelle!$I$5:$N$7,6,FALSE)))","v":""},null,null,null,null,null,null,null,null,null,{"$f":"IF(D1262=\"\",0,IF(D1262=D1261,COUNTIF(D$9:D1261,D1262)+1,1))","v":0},0,0]
["1255","-1900","-1900-0",null,null,null,null,null,null,null,"",null,null,null,null,null,null,null,null,{"$f":"IF(G$2034=1,\"\",IF(S1263=\"\",\"\",VLOOKUP(S1263,Tabelle!$I$5:$M$7,5,FALSE)))","v":""},{"$f":"IF(G$2034=1,\"\",IF(S1263=\"\",\"\",VLOOKUP(S1263,Tabelle!$I$5:$N$7,6,FALSE)))","v":""},null,null,null,null,null,null,null,null,null,{"$f":"IF(D1263=\"\",0,IF(D1263=D1262,COUNTIF(D$9:D1262,D1263)+1,1))","v":0},0,0]
["1256","-1900","-1900-0",null,null,null,null,null,null,null,"",null,null,null,null,null,null,null,null,{"$f":"IF(G$2034=1,\"\",IF(S1264=\"\",\"\",VLOOKUP(S1264,Tabelle!$I$5:$M$7,5,FALSE)))","v":""},{"$f":"IF(G$2034=1,\"\",IF(S1264=\"\",\"\",VLOOKUP(S1264,Tabelle!$I$5:$N$7,6,FALSE)))","v":""},null,null,null,null,null,null,null,null,null,{"$f":"IF(D1264=\"\",0,IF(D1264=D1263,COUNTIF(D$9:D1263,D1264)+1,1))","v":0},0,0]
["1257","-1900","-1900-0",null,null,null,null,null,null,null,"",null,null,null,null,null,null,null,null,{"$f":"IF(G$2034=1,\"\",IF(S1265=\"\",\"\",VLOOKUP(S1265,Tabelle!$I$5:$M$7,5,FALSE)))","v":""},{"$f":"IF(G$2034=1,\"\",IF(S1265=\"\",\"\",VLOOKUP(S1265,Tabelle!$I$5:$N$7,6,FALSE)))","v":""},null,null,null,null,null,null,null,null,null,{"$f":"IF(D1265=\"\",0,IF(D1265=D1264,COUNTIF(D$9:D1264,D1265)+1,1))","v":0},0,0]
["1258","-1900","-1900-0",null,null,null,null,null,null,null,"",null,null,null,null,null,null,null,null,{"$f":"IF(G$2034=1,\"\",IF(S1266=\"\",\"\",VLOOKUP(S1266,Tabelle!$I$5:$M$7,5,FALSE)))","v":""},{"$f":"IF(G$2034=1,\"\",IF(S1266=\"\",\"\",VLOOKUP(S1266,Tabelle!$I$5:$N$7,6,FALSE)))","v":""},null,null,null,null,null,null,null,null,null,{"$f":"IF(D1266=\"\",0,IF(D1266=D1265,COUNTIF(D$9:D1265,D1266)+1,1))","v":0},0,0]
["1259","-1900","-1900-0",null,null,null,null,null,null,null,"",null,null,null,null,null,null,null,null,{"$f":"IF(G$2034=1,\"\",IF(S1267=\"\",\"\",VLOOKUP(S1267,Tabelle!$I$5:$M$7,5,FALSE)))","v":""},{"$f":"IF(G$2034=1,\"\",IF(S1267=\"\",\"\",VLOOKUP(S1267,Tabelle!$I$5:$N$7,6,FALSE)))","v":""},null,null,null,null,null,null,null,null,null,{"$f":"IF(D1267=\"\",0,IF(D1267=D1266,COUNTIF(D$9:D1266,D1267)+1,1))","v":0},0,0]
["1260","-1900","-1900-0",null,null,null,null,null,null,null,"",null,null,null,null,null,null,null,null,{"$f":"IF(G$2034=1,\"\",IF(S1268=\"\",\"\",VLOOKUP(S1268,Tabelle!$I$5:$M$7,5,FALSE)))","v":""},{"$f":"IF(G$2034=1,\"\",IF(S1268=\"\",\"\",VLOOKUP(S1268,Tabelle!$I$5:$N$7,6,FALSE)))","v":""},null,null,null,null,null,null,null,null,null,{"$f":"IF(D1268=\"\",0,IF(D1268=D1267,COUNTIF(D$9:D1267,D1268)+1,1))","v":0},0,0]
["1261","-1900","-1900-0",null,null,null,null,null,null,null,"",null,null,null,null,null,null,null,null,{"$f":"IF(G$2034=1,\"\",IF(S1269=\"\",\"\",VLOOKUP(S1269,Tabelle!$I$5:$M$7,5,FALSE)))","v":""},{"$f":"IF(G$2034=1,\"\",IF(S1269=\"\",\"\",VLOOKUP(S1269,Tabelle!$I$5:$N$7,6,FALSE)))","v":""},null,null,null,null,null,null,null,null,null,{"$f":"IF(D1269=\"\",0,IF(D1269=D1268,COUNTIF(D$9:D1268,D1269)+1,1))","v":0},0,0]
["1262","-1900","-1900-0",null,null,null,null,null,null,null,"",null,null,null,null,null,null,null,null,{"$f":"IF(G$2034=1,\"\",IF(S1270=\"\",\"\",VLOOKUP(S1270,Tabelle!$I$5:$M$7,5,FALSE)))","v":""},{"$f":"IF(G$2034=1,\"\",IF(S1270=\"\",\"\",VLOOKUP(S1270,Tabelle!$I$5:$N$7,6,FALSE)))","v":""},null,null,null,null,null,null,null,null,null,{"$f":"IF(D1270=\"\",0,IF(D1270=D1269,COUNTIF(D$9:D1269,D1270)+1,1))","v":0},0,0]
["1263","-1900","-1900-0",null,null,null,null,null,null,null,"",null,null,null,null,null,null,null,null,{"$f":"IF(G$2034=1,\"\",IF(S1271=\"\",\"\",VLOOKUP(S1271,Tabelle!$I$5:$M$7,5,FALSE)))","v":""},{"$f":"IF(G$2034=1,\"\",IF(S1271=\"\",\"\",VLOOKUP(S1271,Tabelle!$I$5:$N$7,6,FALSE)))","v":""},null,null,null,null,null,null,null,null,null,{"$f":"IF(D1271=\"\",0,IF(D1271=D1270,COUNTIF(D$9:D1270,D1271)+1,1))","v":0},0,0]
["1264","-1900","-1900-0",null,null,null,null,null,null,null,"",null,null,null,null,null,null,null,null,{"$f":"IF(G$2034=1,\"\",IF(S1272=\"\",\"\",VLOOKUP(S1272,Tabelle!$I$5:$M$7,5,FALSE)))","v":""},{"$f":"IF(G$2034=1,\"\",IF(S1272=\"\",\"\",VLOOKUP(S1272,Tabelle!$I$5:$N$7,6,FALSE)))","v":""},null,null,null,null,null,null,null,null,null,{"$f":"IF(D1272=\"\",0,IF(D1272=D1271,COUNTIF(D$9:D1271,D1272)+1,1))","v":0},0,0]
["1265","-1900","-1900-0",null,null,null,null,null,null,null,"",null,null,null,null,null,null,null,null,{"$f":"IF(G$2034=1,\"\",IF(S1273=\"\",\"\",VLOOKUP(S1273,Tabelle!$I$5:$M$7,5,FALSE)))","v":""},{"$f":"IF(G$2034=1,\"\",IF(S1273=\"\",\"\",VLOOKUP(S1273,Tabelle!$I$5:$N$7,6,FALSE)))","v":""},null,null,null,null,null,null,null,null,null,{"$f":"IF(D1273=\"\",0,IF(D1273=D1272,COUNTIF(D$9:D1272,D1273)+1,1))","v":0},0,0]
["1266","-1900","-1900-0",null,null,null,null,null,null,null,"",null,null,null,null,null,null,null,null,{"$f":"IF(G$2034=1,\"\",IF(S1274=\"\",\"\",VLOOKUP(S1274,Tabelle!$I$5:$M$7,5,FALSE)))","v":""},{"$f":"IF(G$2034=1,\"\",IF(S1274=\"\",\"\",VLOOKUP(S1274,Tabelle!$I$5:$N$7,6,FALSE)))","v":""},null,null,null,null,null,null,null,null,null,{"$f":"IF(D1274=\"\",0,IF(D1274=D1273,COUNTIF(D$9:D1273,D1274)+1,1))","v":0},0,0]
["1267","-1900","-1900-0",null,null,null,null,null,null,null,"",null,null,null,null,null,null,null,null,{"$f":"IF(G$2034=1,\"\",IF(S1275=\"\",\"\",VLOOKUP(S1275,Tabelle!$I$5:$M$7,5,FALSE)))","v":""},{"$f":"IF(G$2034=1,\"\",IF(S1275=\"\",\"\",VLOOKUP(S1275,Tabelle!$I$5:$N$7,6,FALSE)))","v":""},null,null,null,null,null,null,null,null,null,{"$f":"IF(D1275=\"\",0,IF(D1275=D1274,COUNTIF(D$9:D1274,D1275)+1,1))","v":0},0,0]
["1268","-1900","-1900-0",null,null,null,null,null,null,null,"",null,null,null,null,null,null,null,null,{"$f":"IF(G$2034=1,\"\",IF(S1276=\"\",\"\",VLOOKUP(S1276,Tabelle!$I$5:$M$7,5,FALSE)))","v":""},{"$f":"IF(G$2034=1,\"\",IF(S1276=\"\",\"\",VLOOKUP(S1276,Tabelle!$I$5:$N$7,6,FALSE)))","v":""},null,null,null,null,null,null,null,null,null,{"$f":"IF(D1276=\"\",0,IF(D1276=D1275,COUNTIF(D$9:D1275,D1276)+1,1))","v":0},0,0]
["1269","-1900","-1900-0",null,null,null,null,null,null,null,"",null,null,null,null,null,null,null,null,{"$f":"IF(G$2034=1,\"\",IF(S1277=\"\",\"\",VLOOKUP(S1277,Tabelle!$I$5:$M$7,5,FALSE)))","v":""},{"$f":"IF(G$2034=1,\"\",IF(S1277=\"\",\"\",VLOOKUP(S1277,Tabelle!$I$5:$N$7,6,FALSE)))","v":""},null,null,null,null,null,null,null,null,null,{"$f":"IF(D1277=\"\",0,IF(D1277=D1276,COUNTIF(D$9:D1276,D1277)+1,1))","v":0},0,0]
["1270","-1900","-1900-0",null,null,null,null,null,null,null,"",null,null,null,null,null,null,null,null,{"$f":"IF(G$2034=1,\"\",IF(S1278=\"\",\"\",VLOOKUP(S1278,Tabelle!$I$5:$M$7,5,FALSE)))","v":""},{"$f":"IF(G$2034=1,\"\",IF(S1278=\"\",\"\",VLOOKUP(S1278,Tabelle!$I$5:$N$7,6,FALSE)))","v":""},null,null,null,null,null,null,null,null,null,{"$f":"IF(D1278=\"\",0,IF(D1278=D1277,COUNTIF(D$9:D1277,D1278)+1,1))","v":0},0,0]
["1271","-1900","-1900-0",null,null,null,null,null,null,null,"",null,null,null,null,null,null,null,null,{"$f":"IF(G$2034=1,\"\",IF(S1279=\"\",\"\",VLOOKUP(S1279,Tabelle!$I$5:$M$7,5,FALSE)))","v":""},{"$f":"IF(G$2034=1,\"\",IF(S1279=\"\",\"\",VLOOKUP(S1279,Tabelle!$I$5:$N$7,6,FALSE)))","v":""},null,null,null,null,null,null,null,null,null,{"$f":"IF(D1279=\"\",0,IF(D1279=D1278,COUNTIF(D$9:D1278,D1279)+1,1))","v":0},0,0]
["1272","-1900","-1900-0",null,null,null,null,null,null,null,"",null,null,null,null,null,null,null,null,{"$f":"IF(G$2034=1,\"\",IF(S1280=\"\",\"\",VLOOKUP(S1280,Tabelle!$I$5:$M$7,5,FALSE)))","v":""},{"$f":"IF(G$2034=1,\"\",IF(S1280=\"\",\"\",VLOOKUP(S1280,Tabelle!$I$5:$N$7,6,FALSE)))","v":""},null,null,null,null,null,null,null,null,null,{"$f":"IF(D1280=\"\",0,IF(D1280=D1279,COUNTIF(D$9:D1279,D1280)+1,1))","v":0},0,0]
["1273","-1900","-1900-0",null,null,null,null,null,null,null,"",null,null,null,null,null,null,null,null,{"$f":"IF(G$2034=1,\"\",IF(S1281=\"\",\"\",VLOOKUP(S1281,Tabelle!$I$5:$M$7,5,FALSE)))","v":""},{"$f":"IF(G$2034=1,\"\",IF(S1281=\"\",\"\",VLOOKUP(S1281,Tabelle!$I$5:$N$7,6,FALSE)))","v":""},null,null,null,null,null,null,null,null,null,{"$f":"IF(D1281=\"\",0,IF(D1281=D1280,COUNTIF(D$9:D1280,D1281)+1,1))","v":0},0,0]
["1274","-1900","-1900-0",null,null,null,null,null,null,null,"",null,null,null,null,null,null,null,null,{"$f":"IF(G$2034=1,\"\",IF(S1282=\"\",\"\",VLOOKUP(S1282,Tabelle!$I$5:$M$7,5,FALSE)))","v":""},{"$f":"IF(G$2034=1,\"\",IF(S1282=\"\",\"\",VLOOKUP(S1282,Tabelle!$I$5:$N$7,6,FALSE)))","v":""},null,null,null,null,null,null,null,null,null,{"$f":"IF(D1282=\"\",0,IF(D1282=D1281,COUNTIF(D$9:D1281,D1282)+1,1))","v":0},0,0]
["1275","-1900","-1900-0",null,null,null,null,null,null,null,"",null,null,null,null,null,null,null,null,{"$f":"IF(G$2034=1,\"\",IF(S1283=\"\",\"\",VLOOKUP(S1283,Tabelle!$I$5:$M$7,5,FALSE)))","v":""},{"$f":"IF(G$2034=1,\"\",IF(S1283=\"\",\"\",VLOOKUP(S1283,Tabelle!$I$5:$N$7,6,FALSE)))","v":""},null,null,null,null,null,null,null,null,null,{"$f":"IF(D1283=\"\",0,IF(D1283=D1282,COUNTIF(D$9:D1282,D1283)+1,1))","v":0},0,0]
["1276","-1900","-1900-0",null,null,null,null,null,null,null,"",null,null,null,null,null,null,null,null,{"$f":"IF(G$2034=1,\"\",IF(S1284=\"\",\"\",VLOOKUP(S1284,Tabelle!$I$5:$M$7,5,FALSE)))","v":""},{"$f":"IF(G$2034=1,\"\",IF(S1284=\"\",\"\",VLOOKUP(S1284,Tabelle!$I$5:$N$7,6,FALSE)))","v":""},null,null,null,null,null,null,null,null,null,{"$f":"IF(D1284=\"\",0,IF(D1284=D1283,COUNTIF(D$9:D1283,D1284)+1,1))","v":0},0,0]
["1277","-1900","-1900-0",null,null,null,null,null,null,null,"",null,null,null,null,null,null,null,null,{"$f":"IF(G$2034=1,\"\",IF(S1285=\"\",\"\",VLOOKUP(S1285,Tabelle!$I$5:$M$7,5,FALSE)))","v":""},{"$f":"IF(G$2034=1,\"\",IF(S1285=\"\",\"\",VLOOKUP(S1285,Tabelle!$I$5:$N$7,6,FALSE)))","v":""},null,null,null,null,null,null,null,null,null,{"$f":"IF(D1285=\"\",0,IF(D1285=D1284,COUNTIF(D$9:D1284,D1285)+1,1))","v":0},0,0]
["1278","-1900","-1900-0",null,null,null,null,null,null,null,"",null,null,null,null,null,null,null,null,{"$f":"IF(G$2034=1,\"\",IF(S1286=\"\",\"\",VLOOKUP(S1286,Tabelle!$I$5:$M$7,5,FALSE)))","v":""},{"$f":"IF(G$2034=1,\"\",IF(S1286=\"\",\"\",VLOOKUP(S1286,Tabelle!$I$5:$N$7,6,FALSE)))","v":""},null,null,null,null,null,null,null,null,null,{"$f":"IF(D1286=\"\",0,IF(D1286=D1285,COUNTIF(D$9:D1285,D1286)+1,1))","v":0},0,0]
["1279","-1900","-1900-0",null,null,null,null,null,null,null,"",null,null,null,null,null,null,null,null,{"$f":"IF(G$2034=1,\"\",IF(S1287=\"\",\"\",VLOOKUP(S1287,Tabelle!$I$5:$M$7,5,FALSE)))","v":""},{"$f":"IF(G$2034=1,\"\",IF(S1287=\"\",\"\",VLOOKUP(S1287,Tabelle!$I$5:$N$7,6,FALSE)))","v":""},null,null,null,null,null,null,null,null,null,{"$f":"IF(D1287=\"\",0,IF(D1287=D1286,COUNTIF(D$9:D1286,D1287)+1,1))","v":0},0,0]
["1280","-1900","-1900-0",null,null,null,null,null,null,null,"",null,null,null,null,null,null,null,null,{"$f":"IF(G$2034=1,\"\",IF(S1288=\"\",\"\",VLOOKUP(S1288,Tabelle!$I$5:$M$7,5,FALSE)))","v":""},{"$f":"IF(G$2034=1,\"\",IF(S1288=\"\",\"\",VLOOKUP(S1288,Tabelle!$I$5:$N$7,6,FALSE)))","v":""},null,null,null,null,null,null,null,null,null,{"$f":"IF(D1288=\"\",0,IF(D1288=D1287,COUNTIF(D$9:D1287,D1288)+1,1))","v":0},0,0]
["1281","-1900",{"$f":"IF(G$2034=1,0,B1289&\"-\"&AE1289)","v":"-1900-0"},null,null,null,null,null,null,null,{"$f":"IF(G$2034=1,0,IF(OR(J1289=\"\",ISERROR($O$2034)),\"\",VLOOKUP(J1289,$L$2019:$N$2027,2,FALSE)))","v":""},null,null,null,null,null,null,null,null,{"$f":"IF(G$2034=1,\"\",IF(S1289=\"\",\"\",VLOOKUP(S1289,Tabelle!$I$5:$M$7,5,FALSE)))","v":""},{"$f":"IF(G$2034=1,\"\",IF(S1289=\"\",\"\",VLOOKUP(S1289,Tabelle!$I$5:$N$7,6,FALSE)))","v":""},null,null,null,null,null,null,null,null,null,{"$f":"IF(D1289=\"\",0,IF(D1289=D1288,COUNTIF(D$9:D1288,D1289)+1,1))","v":0},0,0]
["1282",{"$f":"IF(AG1290=$AG$2013,0,IF(G$2034=1,0,D1290&\"-\"&YEAR(E1290)))","v":"-1900"},"-1900-0",null,null,null,null,null,null,null,"",null,null,null,null,null,null,null,null,{"$f":"IF(G$2034=1,\"\",IF(S1290=\"\",\"\",VLOOKUP(S1290,Tabelle!$I$5:$M$7,5,FALSE)))","v":""},{"$f":"IF(G$2034=1,\"\",IF(S1290=\"\",\"\",VLOOKUP(S1290,Tabelle!$I$5:$N$7,6,FALSE)))","v":""},null,null,null,null,null,null,null,null,null,{"$f":"IF(D1290=\"\",0,IF(D1290=D1289,COUNTIF(D$9:D1289,D1290)+1,1))","v":0},{"$f":"IF(G$2034=1,0,IF(AE1290=28,1,0))","v":0},{"$f":"IF(E1290>0,IF(OR(MONTH(E1290)<$G$2026,MONTH(E1290)>$G$2027),AG$2013,0),0)","v":0}]
["1283","-1900","-1900-0",null,null,null,null,null,null,null,"",null,null,null,null,null,null,null,null,{"$f":"IF(G$2034=1,\"\",IF(S1291=\"\",\"\",VLOOKUP(S1291,Tabelle!$I$5:$M$7,5,FALSE)))","v":""},{"$f":"IF(G$2034=1,\"\",IF(S1291=\"\",\"\",VLOOKUP(S1291,Tabelle!$I$5:$N$7,6,FALSE)))","v":""},null,null,null,null,null,null,null,null,null,{"$f":"IF(D1291=\"\",0,IF(D1291=D1290,COUNTIF(D$9:D1290,D1291)+1,1))","v":0},0,0]
["1284","-1900","-1900-0",null,null,null,null,null,null,null,"",null,null,null,null,null,null,null,null,{"$f":"IF(G$2034=1,\"\",IF(S1292=\"\",\"\",VLOOKUP(S1292,Tabelle!$I$5:$M$7,5,FALSE)))","v":""},{"$f":"IF(G$2034=1,\"\",IF(S1292=\"\",\"\",VLOOKUP(S1292,Tabelle!$I$5:$N$7,6,FALSE)))","v":""},null,null,null,null,null,null,null,null,null,{"$f":"IF(D1292=\"\",0,IF(D1292=D1291,COUNTIF(D$9:D1291,D1292)+1,1))","v":0},0,0]
["1285","-1900","-1900-0",null,null,null,null,null,null,null,"",null,null,null,null,null,null,null,null,{"$f":"IF(G$2034=1,\"\",IF(S1293=\"\",\"\",VLOOKUP(S1293,Tabelle!$I$5:$M$7,5,FALSE)))","v":""},{"$f":"IF(G$2034=1,\"\",IF(S1293=\"\",\"\",VLOOKUP(S1293,Tabelle!$I$5:$N$7,6,FALSE)))","v":""},null,null,null,null,null,null,null,null,null,{"$f":"IF(D1293=\"\",0,IF(D1293=D1292,COUNTIF(D$9:D1292,D1293)+1,1))","v":0},0,0]
["1286","-1900","-1900-0",null,null,null,null,null,null,null,"",null,null,null,null,null,null,null,null,{"$f":"IF(G$2034=1,\"\",IF(S1294=\"\",\"\",VLOOKUP(S1294,Tabelle!$I$5:$M$7,5,FALSE)))","v":""},{"$f":"IF(G$2034=1,\"\",IF(S1294=\"\",\"\",VLOOKUP(S1294,Tabelle!$I$5:$N$7,6,FALSE)))","v":""},null,null,null,null,null,null,null,null,null,{"$f":"IF(D1294=\"\",0,IF(D1294=D1293,COUNTIF(D$9:D1293,D1294)+1,1))","v":0},0,0]
["1287","-1900","-1900-0",null,null,null,null,null,null,null,"",null,null,null,null,null,null,null,null,{"$f":"IF(G$2034=1,\"\",IF(S1295=\"\",\"\",VLOOKUP(S1295,Tabelle!$I$5:$M$7,5,FALSE)))","v":""},{"$f":"IF(G$2034=1,\"\",IF(S1295=\"\",\"\",VLOOKUP(S1295,Tabelle!$I$5:$N$7,6,FALSE)))","v":""},null,null,null,null,null,null,null,null,null,{"$f":"IF(D1295=\"\",0,IF(D1295=D1294,COUNTIF(D$9:D1294,D1295)+1,1))","v":0},0,0]
["1288","-1900","-1900-0",null,null,null,null,null,null,null,"",null,null,null,null,null,null,null,null,{"$f":"IF(G$2034=1,\"\",IF(S1296=\"\",\"\",VLOOKUP(S1296,Tabelle!$I$5:$M$7,5,FALSE)))","v":""},{"$f":"IF(G$2034=1,\"\",IF(S1296=\"\",\"\",VLOOKUP(S1296,Tabelle!$I$5:$N$7,6,FALSE)))","v":""},null,null,null,null,null,null,null,null,null,{"$f":"IF(D1296=\"\",0,IF(D1296=D1295,COUNTIF(D$9:D1295,D1296)+1,1))","v":0},0,0]
["1289","-1900","-1900-0",null,null,null,null,null,null,null,"",null,null,null,null,null,null,null,null,{"$f":"IF(G$2034=1,\"\",IF(S1297=\"\",\"\",VLOOKUP(S1297,Tabelle!$I$5:$M$7,5,FALSE)))","v":""},{"$f":"IF(G$2034=1,\"\",IF(S1297=\"\",\"\",VLOOKUP(S1297,Tabelle!$I$5:$N$7,6,FALSE)))","v":""},null,null,null,null,null,null,null,null,null,{"$f":"IF(D1297=\"\",0,IF(D1297=D1296,COUNTIF(D$9:D1296,D1297)+1,1))","v":0},0,0]
["1290","-1900","-1900-0",null,null,null,null,null,null,null,"",null,null,null,null,null,null,null,null,{"$f":"IF(G$2034=1,\"\",IF(S1298=\"\",\"\",VLOOKUP(S1298,Tabelle!$I$5:$M$7,5,FALSE)))","v":""},{"$f":"IF(G$2034=1,\"\",IF(S1298=\"\",\"\",VLOOKUP(S1298,Tabelle!$I$5:$N$7,6,FALSE)))","v":""},null,null,null,null,null,null,null,null,null,{"$f":"IF(D1298=\"\",0,IF(D1298=D1297,COUNTIF(D$9:D1297,D1298)+1,1))","v":0},0,0]
["1291","-1900","-1900-0",null,null,null,null,null,null,null,"",null,null,null,null,null,null,null,null,{"$f":"IF(G$2034=1,\"\",IF(S1299=\"\",\"\",VLOOKUP(S1299,Tabelle!$I$5:$M$7,5,FALSE)))","v":""},{"$f":"IF(G$2034=1,\"\",IF(S1299=\"\",\"\",VLOOKUP(S1299,Tabelle!$I$5:$N$7,6,FALSE)))","v":""},null,null,null,null,null,null,null,null,null,{"$f":"IF(D1299=\"\",0,IF(D1299=D1298,COUNTIF(D$9:D1298,D1299)+1,1))","v":0},0,0]
["1292","-1900","-1900-0",null,null,null,null,null,null,null,"",null,null,null,null,null,null,null,null,{"$f":"IF(G$2034=1,\"\",IF(S1300=\"\",\"\",VLOOKUP(S1300,Tabelle!$I$5:$M$7,5,FALSE)))","v":""},{"$f":"IF(G$2034=1,\"\",IF(S1300=\"\",\"\",VLOOKUP(S1300,Tabelle!$I$5:$N$7,6,FALSE)))","v":""},null,null,null,null,null,null,null,null,null,{"$f":"IF(D1300=\"\",0,IF(D1300=D1299,COUNTIF(D$9:D1299,D1300)+1,1))","v":0},0,0]
["1293","-1900","-1900-0",null,null,null,null,null,null,null,"",null,null,null,null,null,null,null,null,{"$f":"IF(G$2034=1,\"\",IF(S1301=\"\",\"\",VLOOKUP(S1301,Tabelle!$I$5:$M$7,5,FALSE)))","v":""},{"$f":"IF(G$2034=1,\"\",IF(S1301=\"\",\"\",VLOOKUP(S1301,Tabelle!$I$5:$N$7,6,FALSE)))","v":""},null,null,null,null,null,null,null,null,null,{"$f":"IF(D1301=\"\",0,IF(D1301=D1300,COUNTIF(D$9:D1300,D1301)+1,1))","v":0},0,0]
["1294","-1900","-1900-0",null,null,null,null,null,null,null,"",null,null,null,null,null,null,null,null,{"$f":"IF(G$2034=1,\"\",IF(S1302=\"\",\"\",VLOOKUP(S1302,Tabelle!$I$5:$M$7,5,FALSE)))","v":""},{"$f":"IF(G$2034=1,\"\",IF(S1302=\"\",\"\",VLOOKUP(S1302,Tabelle!$I$5:$N$7,6,FALSE)))","v":""},null,null,null,null,null,null,null,null,null,{"$f":"IF(D1302=\"\",0,IF(D1302=D1301,COUNTIF(D$9:D1301,D1302)+1,1))","v":0},0,0]
["1295","-1900","-1900-0",null,null,null,null,null,null,null,"",null,null,null,null,null,null,null,null,{"$f":"IF(G$2034=1,\"\",IF(S1303=\"\",\"\",VLOOKUP(S1303,Tabelle!$I$5:$M$7,5,FALSE)))","v":""},{"$f":"IF(G$2034=1,\"\",IF(S1303=\"\",\"\",VLOOKUP(S1303,Tabelle!$I$5:$N$7,6,FALSE)))","v":""},null,null,null,null,null,null,null,null,null,{"$f":"IF(D1303=\"\",0,IF(D1303=D1302,COUNTIF(D$9:D1302,D1303)+1,1))","v":0},0,0]
["1296","-1900","-1900-0",null,null,null,null,null,null,null,"",null,null,null,null,null,null,null,null,{"$f":"IF(G$2034=1,\"\",IF(S1304=\"\",\"\",VLOOKUP(S1304,Tabelle!$I$5:$M$7,5,FALSE)))","v":""},{"$f":"IF(G$2034=1,\"\",IF(S1304=\"\",\"\",VLOOKUP(S1304,Tabelle!$I$5:$N$7,6,FALSE)))","v":""},null,null,null,null,null,null,null,null,null,{"$f":"IF(D1304=\"\",0,IF(D1304=D1303,COUNTIF(D$9:D1303,D1304)+1,1))","v":0},0,0]
["1297","-1900","-1900-0",null,null,null,null,null,null,null,"",null,null,null,null,null,null,null,null,{"$f":"IF(G$2034=1,\"\",IF(S1305=\"\",\"\",VLOOKUP(S1305,Tabelle!$I$5:$M$7,5,FALSE)))","v":""},{"$f":"IF(G$2034=1,\"\",IF(S1305=\"\",\"\",VLOOKUP(S1305,Tabelle!$I$5:$N$7,6,FALSE)))","v":""},null,null,null,null,null,null,null,null,null,{"$f":"IF(D1305=\"\",0,IF(D1305=D1304,COUNTIF(D$9:D1304,D1305)+1,1))","v":0},0,0]
["1298","-1900","-1900-0",null,null,null,null,null,null,null,"",null,null,null,null,null,null,null,null,{"$f":"IF(G$2034=1,\"\",IF(S1306=\"\",\"\",VLOOKUP(S1306,Tabelle!$I$5:$M$7,5,FALSE)))","v":""},{"$f":"IF(G$2034=1,\"\",IF(S1306=\"\",\"\",VLOOKUP(S1306,Tabelle!$I$5:$N$7,6,FALSE)))","v":""},null,null,null,null,null,null,null,null,null,{"$f":"IF(D1306=\"\",0,IF(D1306=D1305,COUNTIF(D$9:D1305,D1306)+1,1))","v":0},0,0]
["1299","-1900","-1900-0",null,null,null,null,null,null,null,"",null,null,null,null,null,null,null,null,{"$f":"IF(G$2034=1,\"\",IF(S1307=\"\",\"\",VLOOKUP(S1307,Tabelle!$I$5:$M$7,5,FALSE)))","v":""},{"$f":"IF(G$2034=1,\"\",IF(S1307=\"\",\"\",VLOOKUP(S1307,Tabelle!$I$5:$N$7,6,FALSE)))","v":""},null,null,null,null,null,null,null,null,null,{"$f":"IF(D1307=\"\",0,IF(D1307=D1306,COUNTIF(D$9:D1306,D1307)+1,1))","v":0},0,0]
["1300","-1900","-1900-0",null,null,null,null,null,null,null,"",null,null,null,null,null,null,null,null,{"$f":"IF(G$2034=1,\"\",IF(S1308=\"\",\"\",VLOOKUP(S1308,Tabelle!$I$5:$M$7,5,FALSE)))","v":""},{"$f":"IF(G$2034=1,\"\",IF(S1308=\"\",\"\",VLOOKUP(S1308,Tabelle!$I$5:$N$7,6,FALSE)))","v":""},null,null,null,null,null,null,null,null,null,{"$f":"IF(D1308=\"\",0,IF(D1308=D1307,COUNTIF(D$9:D1307,D1308)+1,1))","v":0},0,0]
["1301","-1900","-1900-0",null,null,null,null,null,null,null,"",null,null,null,null,null,null,null,null,{"$f":"IF(G$2034=1,\"\",IF(S1309=\"\",\"\",VLOOKUP(S1309,Tabelle!$I$5:$M$7,5,FALSE)))","v":""},{"$f":"IF(G$2034=1,\"\",IF(S1309=\"\",\"\",VLOOKUP(S1309,Tabelle!$I$5:$N$7,6,FALSE)))","v":""},null,null,null,null,null,null,null,null,null,{"$f":"IF(D1309=\"\",0,IF(D1309=D1308,COUNTIF(D$9:D1308,D1309)+1,1))","v":0},0,0]
["1302","-1900","-1900-0",null,null,null,null,null,null,null,"",null,null,null,null,null,null,null,null,{"$f":"IF(G$2034=1,\"\",IF(S1310=\"\",\"\",VLOOKUP(S1310,Tabelle!$I$5:$M$7,5,FALSE)))","v":""},{"$f":"IF(G$2034=1,\"\",IF(S1310=\"\",\"\",VLOOKUP(S1310,Tabelle!$I$5:$N$7,6,FALSE)))","v":""},null,null,null,null,null,null,null,null,null,{"$f":"IF(D1310=\"\",0,IF(D1310=D1309,COUNTIF(D$9:D1309,D1310)+1,1))","v":0},0,0]
["1303","-1900","-1900-0",null,null,null,null,null,null,null,"",null,null,null,null,null,null,null,null,{"$f":"IF(G$2034=1,\"\",IF(S1311=\"\",\"\",VLOOKUP(S1311,Tabelle!$I$5:$M$7,5,FALSE)))","v":""},{"$f":"IF(G$2034=1,\"\",IF(S1311=\"\",\"\",VLOOKUP(S1311,Tabelle!$I$5:$N$7,6,FALSE)))","v":""},null,null,null,null,null,null,null,null,null,{"$f":"IF(D1311=\"\",0,IF(D1311=D1310,COUNTIF(D$9:D1310,D1311)+1,1))","v":0},0,0]
["1304","-1900","-1900-0",null,null,null,null,null,null,null,"",null,null,null,null,null,null,null,null,{"$f":"IF(G$2034=1,\"\",IF(S1312=\"\",\"\",VLOOKUP(S1312,Tabelle!$I$5:$M$7,5,FALSE)))","v":""},{"$f":"IF(G$2034=1,\"\",IF(S1312=\"\",\"\",VLOOKUP(S1312,Tabelle!$I$5:$N$7,6,FALSE)))","v":""},null,null,null,null,null,null,null,null,null,{"$f":"IF(D1312=\"\",0,IF(D1312=D1311,COUNTIF(D$9:D1311,D1312)+1,1))","v":0},0,0]
["1305","-1900","-1900-0",null,null,null,null,null,null,null,"",null,null,null,null,null,null,null,null,{"$f":"IF(G$2034=1,\"\",IF(S1313=\"\",\"\",VLOOKUP(S1313,Tabelle!$I$5:$M$7,5,FALSE)))","v":""},{"$f":"IF(G$2034=1,\"\",IF(S1313=\"\",\"\",VLOOKUP(S1313,Tabelle!$I$5:$N$7,6,FALSE)))","v":""},null,null,null,null,null,null,null,null,null,{"$f":"IF(D1313=\"\",0,IF(D1313=D1312,COUNTIF(D$9:D1312,D1313)+1,1))","v":0},0,0]
["1306","-1900","-1900-0",null,null,null,null,null,null,null,"",null,null,null,null,null,null,null,null,{"$f":"IF(G$2034=1,\"\",IF(S1314=\"\",\"\",VLOOKUP(S1314,Tabelle!$I$5:$M$7,5,FALSE)))","v":""},{"$f":"IF(G$2034=1,\"\",IF(S1314=\"\",\"\",VLOOKUP(S1314,Tabelle!$I$5:$N$7,6,FALSE)))","v":""},null,null,null,null,null,null,null,null,null,{"$f":"IF(D1314=\"\",0,IF(D1314=D1313,COUNTIF(D$9:D1313,D1314)+1,1))","v":0},0,0]
["1307","-1900","-1900-0",null,null,null,null,null,null,null,"",null,null,null,null,null,null,null,null,{"$f":"IF(G$2034=1,\"\",IF(S1315=\"\",\"\",VLOOKUP(S1315,Tabelle!$I$5:$M$7,5,FALSE)))","v":""},{"$f":"IF(G$2034=1,\"\",IF(S1315=\"\",\"\",VLOOKUP(S1315,Tabelle!$I$5:$N$7,6,FALSE)))","v":""},null,null,null,null,null,null,null,null,null,{"$f":"IF(D1315=\"\",0,IF(D1315=D1314,COUNTIF(D$9:D1314,D1315)+1,1))","v":0},0,0]
["1308","-1900","-1900-0",null,null,null,null,null,null,null,"",null,null,null,null,null,null,null,null,{"$f":"IF(G$2034=1,\"\",IF(S1316=\"\",\"\",VLOOKUP(S1316,Tabelle!$I$5:$M$7,5,FALSE)))","v":""},{"$f":"IF(G$2034=1,\"\",IF(S1316=\"\",\"\",VLOOKUP(S1316,Tabelle!$I$5:$N$7,6,FALSE)))","v":""},null,null,null,null,null,null,null,null,null,{"$f":"IF(D1316=\"\",0,IF(D1316=D1315,COUNTIF(D$9:D1315,D1316)+1,1))","v":0},0,0]
["1309","-1900","-1900-0",null,null,null,null,null,null,null,"",null,null,null,null,null,null,null,null,{"$f":"IF(G$2034=1,\"\",IF(S1317=\"\",\"\",VLOOKUP(S1317,Tabelle!$I$5:$M$7,5,FALSE)))","v":""},{"$f":"IF(G$2034=1,\"\",IF(S1317=\"\",\"\",VLOOKUP(S1317,Tabelle!$I$5:$N$7,6,FALSE)))","v":""},null,null,null,null,null,null,null,null,null,{"$f":"IF(D1317=\"\",0,IF(D1317=D1316,COUNTIF(D$9:D1316,D1317)+1,1))","v":0},0,0]
["1310","-1900","-1900-0",null,null,null,null,null,null,null,"",null,null,null,null,null,null,null,null,{"$f":"IF(G$2034=1,\"\",IF(S1318=\"\",\"\",VLOOKUP(S1318,Tabelle!$I$5:$M$7,5,FALSE)))","v":""},{"$f":"IF(G$2034=1,\"\",IF(S1318=\"\",\"\",VLOOKUP(S1318,Tabelle!$I$5:$N$7,6,FALSE)))","v":""},null,null,null,null,null,null,null,null,null,{"$f":"IF(D1318=\"\",0,IF(D1318=D1317,COUNTIF(D$9:D1317,D1318)+1,1))","v":0},0,0]
["1311","-1900","-1900-0",null,null,null,null,null,null,null,"",null,null,null,null,null,null,null,null,{"$f":"IF(G$2034=1,\"\",IF(S1319=\"\",\"\",VLOOKUP(S1319,Tabelle!$I$5:$M$7,5,FALSE)))","v":""},{"$f":"IF(G$2034=1,\"\",IF(S1319=\"\",\"\",VLOOKUP(S1319,Tabelle!$I$5:$N$7,6,FALSE)))","v":""},null,null,null,null,null,null,null,null,null,{"$f":"IF(D1319=\"\",0,IF(D1319=D1318,COUNTIF(D$9:D1318,D1319)+1,1))","v":0},0,0]
["1312","-1900","-1900-0",null,null,null,null,null,null,null,"",null,null,null,null,null,null,null,null,{"$f":"IF(G$2034=1,\"\",IF(S1320=\"\",\"\",VLOOKUP(S1320,Tabelle!$I$5:$M$7,5,FALSE)))","v":""},{"$f":"IF(G$2034=1,\"\",IF(S1320=\"\",\"\",VLOOKUP(S1320,Tabelle!$I$5:$N$7,6,FALSE)))","v":""},null,null,null,null,null,null,null,null,null,{"$f":"IF(D1320=\"\",0,IF(D1320=D1319,COUNTIF(D$9:D1319,D1320)+1,1))","v":0},0,0]
["1313","-1900","-1900-0",null,null,null,null,null,null,null,"",null,null,null,null,null,null,null,null,{"$f":"IF(G$2034=1,\"\",IF(S1321=\"\",\"\",VLOOKUP(S1321,Tabelle!$I$5:$M$7,5,FALSE)))","v":""},{"$f":"IF(G$2034=1,\"\",IF(S1321=\"\",\"\",VLOOKUP(S1321,Tabelle!$I$5:$N$7,6,FALSE)))","v":""},null,null,null,null,null,null,null,null,null,{"$f":"IF(D1321=\"\",0,IF(D1321=D1320,COUNTIF(D$9:D1320,D1321)+1,1))","v":0},0,0]
["1314","-1900","-1900-0",null,null,null,null,null,null,null,"",null,null,null,null,null,null,null,null,{"$f":"IF(G$2034=1,\"\",IF(S1322=\"\",\"\",VLOOKUP(S1322,Tabelle!$I$5:$M$7,5,FALSE)))","v":""},{"$f":"IF(G$2034=1,\"\",IF(S1322=\"\",\"\",VLOOKUP(S1322,Tabelle!$I$5:$N$7,6,FALSE)))","v":""},null,null,null,null,null,null,null,null,null,{"$f":"IF(D1322=\"\",0,IF(D1322=D1321,COUNTIF(D$9:D1321,D1322)+1,1))","v":0},0,0]
["1315","-1900","-1900-0",null,null,null,null,null,null,null,"",null,null,null,null,null,null,null,null,{"$f":"IF(G$2034=1,\"\",IF(S1323=\"\",\"\",VLOOKUP(S1323,Tabelle!$I$5:$M$7,5,FALSE)))","v":""},{"$f":"IF(G$2034=1,\"\",IF(S1323=\"\",\"\",VLOOKUP(S1323,Tabelle!$I$5:$N$7,6,FALSE)))","v":""},null,null,null,null,null,null,null,null,null,{"$f":"IF(D1323=\"\",0,IF(D1323=D1322,COUNTIF(D$9:D1322,D1323)+1,1))","v":0},0,0]
["1316","-1900","-1900-0",null,null,null,null,null,null,null,"",null,null,null,null,null,null,null,null,{"$f":"IF(G$2034=1,\"\",IF(S1324=\"\",\"\",VLOOKUP(S1324,Tabelle!$I$5:$M$7,5,FALSE)))","v":""},{"$f":"IF(G$2034=1,\"\",IF(S1324=\"\",\"\",VLOOKUP(S1324,Tabelle!$I$5:$N$7,6,FALSE)))","v":""},null,null,null,null,null,null,null,null,null,{"$f":"IF(D1324=\"\",0,IF(D1324=D1323,COUNTIF(D$9:D1323,D1324)+1,1))","v":0},0,0]
["1317","-1900","-1900-0",null,null,null,null,null,null,null,"",null,null,null,null,null,null,null,null,{"$f":"IF(G$2034=1,\"\",IF(S1325=\"\",\"\",VLOOKUP(S1325,Tabelle!$I$5:$M$7,5,FALSE)))","v":""},{"$f":"IF(G$2034=1,\"\",IF(S1325=\"\",\"\",VLOOKUP(S1325,Tabelle!$I$5:$N$7,6,FALSE)))","v":""},null,null,null,null,null,null,null,null,null,{"$f":"IF(D1325=\"\",0,IF(D1325=D1324,COUNTIF(D$9:D1324,D1325)+1,1))","v":0},0,0]
["1318","-1900","-1900-0",null,null,null,null,null,null,null,"",null,null,null,null,null,null,null,null,{"$f":"IF(G$2034=1,\"\",IF(S1326=\"\",\"\",VLOOKUP(S1326,Tabelle!$I$5:$M$7,5,FALSE)))","v":""},{"$f":"IF(G$2034=1,\"\",IF(S1326=\"\",\"\",VLOOKUP(S1326,Tabelle!$I$5:$N$7,6,FALSE)))","v":""},null,null,null,null,null,null,null,null,null,{"$f":"IF(D1326=\"\",0,IF(D1326=D1325,COUNTIF(D$9:D1325,D1326)+1,1))","v":0},0,0]
["1319","-1900","-1900-0",null,null,null,null,null,null,null,"",null,null,null,null,null,null,null,null,{"$f":"IF(G$2034=1,\"\",IF(S1327=\"\",\"\",VLOOKUP(S1327,Tabelle!$I$5:$M$7,5,FALSE)))","v":""},{"$f":"IF(G$2034=1,\"\",IF(S1327=\"\",\"\",VLOOKUP(S1327,Tabelle!$I$5:$N$7,6,FALSE)))","v":""},null,null,null,null,null,null,null,null,null,{"$f":"IF(D1327=\"\",0,IF(D1327=D1326,COUNTIF(D$9:D1326,D1327)+1,1))","v":0},0,0]
["1320","-1900","-1900-0",null,null,null,null,null,null,null,"",null,null,null,null,null,null,null,null,{"$f":"IF(G$2034=1,\"\",IF(S1328=\"\",\"\",VLOOKUP(S1328,Tabelle!$I$5:$M$7,5,FALSE)))","v":""},{"$f":"IF(G$2034=1,\"\",IF(S1328=\"\",\"\",VLOOKUP(S1328,Tabelle!$I$5:$N$7,6,FALSE)))","v":""},null,null,null,null,null,null,null,null,null,{"$f":"IF(D1328=\"\",0,IF(D1328=D1327,COUNTIF(D$9:D1327,D1328)+1,1))","v":0},0,0]
["1321","-1900","-1900-0",null,null,null,null,null,null,null,"",null,null,null,null,null,null,null,null,{"$f":"IF(G$2034=1,\"\",IF(S1329=\"\",\"\",VLOOKUP(S1329,Tabelle!$I$5:$M$7,5,FALSE)))","v":""},{"$f":"IF(G$2034=1,\"\",IF(S1329=\"\",\"\",VLOOKUP(S1329,Tabelle!$I$5:$N$7,6,FALSE)))","v":""},null,null,null,null,null,null,null,null,null,{"$f":"IF(D1329=\"\",0,IF(D1329=D1328,COUNTIF(D$9:D1328,D1329)+1,1))","v":0},0,0]
["1322","-1900","-1900-0",null,null,null,null,null,null,null,"",null,null,null,null,null,null,null,null,{"$f":"IF(G$2034=1,\"\",IF(S1330=\"\",\"\",VLOOKUP(S1330,Tabelle!$I$5:$M$7,5,FALSE)))","v":""},{"$f":"IF(G$2034=1,\"\",IF(S1330=\"\",\"\",VLOOKUP(S1330,Tabelle!$I$5:$N$7,6,FALSE)))","v":""},null,null,null,null,null,null,null,null,null,{"$f":"IF(D1330=\"\",0,IF(D1330=D1329,COUNTIF(D$9:D1329,D1330)+1,1))","v":0},0,0]
["1323","-1900","-1900-0",null,null,null,null,null,null,null,"",null,null,null,null,null,null,null,null,{"$f":"IF(G$2034=1,\"\",IF(S1331=\"\",\"\",VLOOKUP(S1331,Tabelle!$I$5:$M$7,5,FALSE)))","v":""},{"$f":"IF(G$2034=1,\"\",IF(S1331=\"\",\"\",VLOOKUP(S1331,Tabelle!$I$5:$N$7,6,FALSE)))","v":""},null,null,null,null,null,null,null,null,null,{"$f":"IF(D1331=\"\",0,IF(D1331=D1330,COUNTIF(D$9:D1330,D1331)+1,1))","v":0},0,0]
["1324","-1900","-1900-0",null,null,null,null,null,null,null,"",null,null,null,null,null,null,null,null,{"$f":"IF(G$2034=1,\"\",IF(S1332=\"\",\"\",VLOOKUP(S1332,Tabelle!$I$5:$M$7,5,FALSE)))","v":""},{"$f":"IF(G$2034=1,\"\",IF(S1332=\"\",\"\",VLOOKUP(S1332,Tabelle!$I$5:$N$7,6,FALSE)))","v":""},null,null,null,null,null,null,null,null,null,{"$f":"IF(D1332=\"\",0,IF(D1332=D1331,COUNTIF(D$9:D1331,D1332)+1,1))","v":0},0,0]
["1325","-1900","-1900-0",null,null,null,null,null,null,null,"",null,null,null,null,null,null,null,null,{"$f":"IF(G$2034=1,\"\",IF(S1333=\"\",\"\",VLOOKUP(S1333,Tabelle!$I$5:$M$7,5,FALSE)))","v":""},{"$f":"IF(G$2034=1,\"\",IF(S1333=\"\",\"\",VLOOKUP(S1333,Tabelle!$I$5:$N$7,6,FALSE)))","v":""},null,null,null,null,null,null,null,null,null,{"$f":"IF(D1333=\"\",0,IF(D1333=D1332,COUNTIF(D$9:D1332,D1333)+1,1))","v":0},0,0]
["1326","-1900","-1900-0",null,null,null,null,null,null,null,"",null,null,null,null,null,null,null,null,{"$f":"IF(G$2034=1,\"\",IF(S1334=\"\",\"\",VLOOKUP(S1334,Tabelle!$I$5:$M$7,5,FALSE)))","v":""},{"$f":"IF(G$2034=1,\"\",IF(S1334=\"\",\"\",VLOOKUP(S1334,Tabelle!$I$5:$N$7,6,FALSE)))","v":""},null,null,null,null,null,null,null,null,null,{"$f":"IF(D1334=\"\",0,IF(D1334=D1333,COUNTIF(D$9:D1333,D1334)+1,1))","v":0},0,0]
["1327","-1900","-1900-0",null,null,null,null,null,null,null,"",null,null,null,null,null,null,null,null,{"$f":"IF(G$2034=1,\"\",IF(S1335=\"\",\"\",VLOOKUP(S1335,Tabelle!$I$5:$M$7,5,FALSE)))","v":""},{"$f":"IF(G$2034=1,\"\",IF(S1335=\"\",\"\",VLOOKUP(S1335,Tabelle!$I$5:$N$7,6,FALSE)))","v":""},null,null,null,null,null,null,null,null,null,{"$f":"IF(D1335=\"\",0,IF(D1335=D1334,COUNTIF(D$9:D1334,D1335)+1,1))","v":0},0,0]
["1328","-1900","-1900-0",null,null,null,null,null,null,null,"",null,null,null,null,null,null,null,null,{"$f":"IF(G$2034=1,\"\",IF(S1336=\"\",\"\",VLOOKUP(S1336,Tabelle!$I$5:$M$7,5,FALSE)))","v":""},{"$f":"IF(G$2034=1,\"\",IF(S1336=\"\",\"\",VLOOKUP(S1336,Tabelle!$I$5:$N$7,6,FALSE)))","v":""},null,null,null,null,null,null,null,null,null,{"$f":"IF(D1336=\"\",0,IF(D1336=D1335,COUNTIF(D$9:D1335,D1336)+1,1))","v":0},0,0]
["1329","-1900","-1900-0",null,null,null,null,null,null,null,"",null,null,null,null,null,null,null,null,{"$f":"IF(G$2034=1,\"\",IF(S1337=\"\",\"\",VLOOKUP(S1337,Tabelle!$I$5:$M$7,5,FALSE)))","v":""},{"$f":"IF(G$2034=1,\"\",IF(S1337=\"\",\"\",VLOOKUP(S1337,Tabelle!$I$5:$N$7,6,FALSE)))","v":""},null,null,null,null,null,null,null,null,null,{"$f":"IF(D1337=\"\",0,IF(D1337=D1336,COUNTIF(D$9:D1336,D1337)+1,1))","v":0},0,0]
["1330","-1900","-1900-0",null,null,null,null,null,null,null,"",null,null,null,null,null,null,null,null,{"$f":"IF(G$2034=1,\"\",IF(S1338=\"\",\"\",VLOOKUP(S1338,Tabelle!$I$5:$M$7,5,FALSE)))","v":""},{"$f":"IF(G$2034=1,\"\",IF(S1338=\"\",\"\",VLOOKUP(S1338,Tabelle!$I$5:$N$7,6,FALSE)))","v":""},null,null,null,null,null,null,null,null,null,{"$f":"IF(D1338=\"\",0,IF(D1338=D1337,COUNTIF(D$9:D1337,D1338)+1,1))","v":0},0,0]
["1331","-1900","-1900-0",null,null,null,null,null,null,null,"",null,null,null,null,null,null,null,null,{"$f":"IF(G$2034=1,\"\",IF(S1339=\"\",\"\",VLOOKUP(S1339,Tabelle!$I$5:$M$7,5,FALSE)))","v":""},{"$f":"IF(G$2034=1,\"\",IF(S1339=\"\",\"\",VLOOKUP(S1339,Tabelle!$I$5:$N$7,6,FALSE)))","v":""},null,null,null,null,null,null,null,null,null,{"$f":"IF(D1339=\"\",0,IF(D1339=D1338,COUNTIF(D$9:D1338,D1339)+1,1))","v":0},0,0]
["1332","-1900","-1900-0",null,null,null,null,null,null,null,"",null,null,null,null,null,null,null,null,{"$f":"IF(G$2034=1,\"\",IF(S1340=\"\",\"\",VLOOKUP(S1340,Tabelle!$I$5:$M$7,5,FALSE)))","v":""},{"$f":"IF(G$2034=1,\"\",IF(S1340=\"\",\"\",VLOOKUP(S1340,Tabelle!$I$5:$N$7,6,FALSE)))","v":""},null,null,null,null,null,null,null,null,null,{"$f":"IF(D1340=\"\",0,IF(D1340=D1339,COUNTIF(D$9:D1339,D1340)+1,1))","v":0},0,0]
["1333","-1900","-1900-0",null,null,null,null,null,null,null,"",null,null,null,null,null,null,null,null,{"$f":"IF(G$2034=1,\"\",IF(S1341=\"\",\"\",VLOOKUP(S1341,Tabelle!$I$5:$M$7,5,FALSE)))","v":""},{"$f":"IF(G$2034=1,\"\",IF(S1341=\"\",\"\",VLOOKUP(S1341,Tabelle!$I$5:$N$7,6,FALSE)))","v":""},null,null,null,null,null,null,null,null,null,{"$f":"IF(D1341=\"\",0,IF(D1341=D1340,COUNTIF(D$9:D1340,D1341)+1,1))","v":0},0,0]
["1334","-1900","-1900-0",null,null,null,null,null,null,null,"",null,null,null,null,null,null,null,null,{"$f":"IF(G$2034=1,\"\",IF(S1342=\"\",\"\",VLOOKUP(S1342,Tabelle!$I$5:$M$7,5,FALSE)))","v":""},{"$f":"IF(G$2034=1,\"\",IF(S1342=\"\",\"\",VLOOKUP(S1342,Tabelle!$I$5:$N$7,6,FALSE)))","v":""},null,null,null,null,null,null,null,null,null,{"$f":"IF(D1342=\"\",0,IF(D1342=D1341,COUNTIF(D$9:D1341,D1342)+1,1))","v":0},0,0]
["1335","-1900","-1900-0",null,null,null,null,null,null,null,"",null,null,null,null,null,null,null,null,{"$f":"IF(G$2034=1,\"\",IF(S1343=\"\",\"\",VLOOKUP(S1343,Tabelle!$I$5:$M$7,5,FALSE)))","v":""},{"$f":"IF(G$2034=1,\"\",IF(S1343=\"\",\"\",VLOOKUP(S1343,Tabelle!$I$5:$N$7,6,FALSE)))","v":""},null,null,null,null,null,null,null,null,null,{"$f":"IF(D1343=\"\",0,IF(D1343=D1342,COUNTIF(D$9:D1342,D1343)+1,1))","v":0},0,0]
["1336","-1900","-1900-0",null,null,null,null,null,null,null,"",null,null,null,null,null,null,null,null,{"$f":"IF(G$2034=1,\"\",IF(S1344=\"\",\"\",VLOOKUP(S1344,Tabelle!$I$5:$M$7,5,FALSE)))","v":""},{"$f":"IF(G$2034=1,\"\",IF(S1344=\"\",\"\",VLOOKUP(S1344,Tabelle!$I$5:$N$7,6,FALSE)))","v":""},null,null,null,null,null,null,null,null,null,{"$f":"IF(D1344=\"\",0,IF(D1344=D1343,COUNTIF(D$9:D1343,D1344)+1,1))","v":0},0,0]
["1337","-1900","-1900-0",null,null,null,null,null,null,null,"",null,null,null,null,null,null,null,null,{"$f":"IF(G$2034=1,\"\",IF(S1345=\"\",\"\",VLOOKUP(S1345,Tabelle!$I$5:$M$7,5,FALSE)))","v":""},{"$f":"IF(G$2034=1,\"\",IF(S1345=\"\",\"\",VLOOKUP(S1345,Tabelle!$I$5:$N$7,6,FALSE)))","v":""},null,null,null,null,null,null,null,null,null,{"$f":"IF(D1345=\"\",0,IF(D1345=D1344,COUNTIF(D$9:D1344,D1345)+1,1))","v":0},0,0]
["1338","-1900","-1900-0",null,null,null,null,null,null,null,"",null,null,null,null,null,null,null,null,{"$f":"IF(G$2034=1,\"\",IF(S1346=\"\",\"\",VLOOKUP(S1346,Tabelle!$I$5:$M$7,5,FALSE)))","v":""},{"$f":"IF(G$2034=1,\"\",IF(S1346=\"\",\"\",VLOOKUP(S1346,Tabelle!$I$5:$N$7,6,FALSE)))","v":""},null,null,null,null,null,null,null,null,null,{"$f":"IF(D1346=\"\",0,IF(D1346=D1345,COUNTIF(D$9:D1345,D1346)+1,1))","v":0},0,0]
["1339","-1900","-1900-0",null,null,null,null,null,null,null,"",null,null,null,null,null,null,null,null,{"$f":"IF(G$2034=1,\"\",IF(S1347=\"\",\"\",VLOOKUP(S1347,Tabelle!$I$5:$M$7,5,FALSE)))","v":""},{"$f":"IF(G$2034=1,\"\",IF(S1347=\"\",\"\",VLOOKUP(S1347,Tabelle!$I$5:$N$7,6,FALSE)))","v":""},null,null,null,null,null,null,null,null,null,{"$f":"IF(D1347=\"\",0,IF(D1347=D1346,COUNTIF(D$9:D1346,D1347)+1,1))","v":0},0,0]
["1340","-1900","-1900-0",null,null,null,null,null,null,null,"",null,null,null,null,null,null,null,null,{"$f":"IF(G$2034=1,\"\",IF(S1348=\"\",\"\",VLOOKUP(S1348,Tabelle!$I$5:$M$7,5,FALSE)))","v":""},{"$f":"IF(G$2034=1,\"\",IF(S1348=\"\",\"\",VLOOKUP(S1348,Tabelle!$I$5:$N$7,6,FALSE)))","v":""},null,null,null,null,null,null,null,null,null,{"$f":"IF(D1348=\"\",0,IF(D1348=D1347,COUNTIF(D$9:D1347,D1348)+1,1))","v":0},0,0]
["1341","-1900","-1900-0",null,null,null,null,null,null,null,"",null,null,null,null,null,null,null,null,{"$f":"IF(G$2034=1,\"\",IF(S1349=\"\",\"\",VLOOKUP(S1349,Tabelle!$I$5:$M$7,5,FALSE)))","v":""},{"$f":"IF(G$2034=1,\"\",IF(S1349=\"\",\"\",VLOOKUP(S1349,Tabelle!$I$5:$N$7,6,FALSE)))","v":""},null,null,null,null,null,null,null,null,null,{"$f":"IF(D1349=\"\",0,IF(D1349=D1348,COUNTIF(D$9:D1348,D1349)+1,1))","v":0},0,0]
["1342","-1900","-1900-0",null,null,null,null,null,null,null,"",null,null,null,null,null,null,null,null,{"$f":"IF(G$2034=1,\"\",IF(S1350=\"\",\"\",VLOOKUP(S1350,Tabelle!$I$5:$M$7,5,FALSE)))","v":""},{"$f":"IF(G$2034=1,\"\",IF(S1350=\"\",\"\",VLOOKUP(S1350,Tabelle!$I$5:$N$7,6,FALSE)))","v":""},null,null,null,null,null,null,null,null,null,{"$f":"IF(D1350=\"\",0,IF(D1350=D1349,COUNTIF(D$9:D1349,D1350)+1,1))","v":0},0,0]
["1343","-1900","-1900-0",null,null,null,null,null,null,null,"",null,null,null,null,null,null,null,null,{"$f":"IF(G$2034=1,\"\",IF(S1351=\"\",\"\",VLOOKUP(S1351,Tabelle!$I$5:$M$7,5,FALSE)))","v":""},{"$f":"IF(G$2034=1,\"\",IF(S1351=\"\",\"\",VLOOKUP(S1351,Tabelle!$I$5:$N$7,6,FALSE)))","v":""},null,null,null,null,null,null,null,null,null,{"$f":"IF(D1351=\"\",0,IF(D1351=D1350,COUNTIF(D$9:D1350,D1351)+1,1))","v":0},0,0]
["1344","-1900","-1900-0",null,null,null,null,null,null,null,"",null,null,null,null,null,null,null,null,{"$f":"IF(G$2034=1,\"\",IF(S1352=\"\",\"\",VLOOKUP(S1352,Tabelle!$I$5:$M$7,5,FALSE)))","v":""},{"$f":"IF(G$2034=1,\"\",IF(S1352=\"\",\"\",VLOOKUP(S1352,Tabelle!$I$5:$N$7,6,FALSE)))","v":""},null,null,null,null,null,null,null,null,null,{"$f":"IF(D1352=\"\",0,IF(D1352=D1351,COUNTIF(D$9:D1351,D1352)+1,1))","v":0},0,0]
["1345","-1900",{"$f":"IF(G$2034=1,0,B1353&\"-\"&AE1353)","v":"-1900-0"},null,null,null,null,null,null,null,{"$f":"IF(G$2034=1,0,IF(OR(J1353=\"\",ISERROR($O$2034)),\"\",VLOOKUP(J1353,$L$2019:$N$2027,2,FALSE)))","v":""},null,null,null,null,null,null,null,null,{"$f":"IF(G$2034=1,\"\",IF(S1353=\"\",\"\",VLOOKUP(S1353,Tabelle!$I$5:$M$7,5,FALSE)))","v":""},{"$f":"IF(G$2034=1,\"\",IF(S1353=\"\",\"\",VLOOKUP(S1353,Tabelle!$I$5:$N$7,6,FALSE)))","v":""},null,null,null,null,null,null,null,null,null,{"$f":"IF(D1353=\"\",0,IF(D1353=D1352,COUNTIF(D$9:D1352,D1353)+1,1))","v":0},0,0]
["1346",{"$f":"IF(AG1354=$AG$2013,0,IF(G$2034=1,0,D1354&\"-\"&YEAR(E1354)))","v":"-1900"},"-1900-0",null,null,null,null,null,null,null,"",null,null,null,null,null,null,null,null,{"$f":"IF(G$2034=1,\"\",IF(S1354=\"\",\"\",VLOOKUP(S1354,Tabelle!$I$5:$M$7,5,FALSE)))","v":""},{"$f":"IF(G$2034=1,\"\",IF(S1354=\"\",\"\",VLOOKUP(S1354,Tabelle!$I$5:$N$7,6,FALSE)))","v":""},null,null,null,null,null,null,null,null,null,{"$f":"IF(D1354=\"\",0,IF(D1354=D1353,COUNTIF(D$9:D1353,D1354)+1,1))","v":0},{"$f":"IF(G$2034=1,0,IF(AE1354=28,1,0))","v":0},{"$f":"IF(E1354>0,IF(OR(MONTH(E1354)<$G$2026,MONTH(E1354)>$G$2027),AG$2013,0),0)","v":0}]
["1347","-1900","-1900-0",null,null,null,null,null,null,null,"",null,null,null,null,null,null,null,null,{"$f":"IF(G$2034=1,\"\",IF(S1355=\"\",\"\",VLOOKUP(S1355,Tabelle!$I$5:$M$7,5,FALSE)))","v":""},{"$f":"IF(G$2034=1,\"\",IF(S1355=\"\",\"\",VLOOKUP(S1355,Tabelle!$I$5:$N$7,6,FALSE)))","v":""},null,null,null,null,null,null,null,null,null,{"$f":"IF(D1355=\"\",0,IF(D1355=D1354,COUNTIF(D$9:D1354,D1355)+1,1))","v":0},0,0]
["1348","-1900","-1900-0",null,null,null,null,null,null,null,"",null,null,null,null,null,null,null,null,{"$f":"IF(G$2034=1,\"\",IF(S1356=\"\",\"\",VLOOKUP(S1356,Tabelle!$I$5:$M$7,5,FALSE)))","v":""},{"$f":"IF(G$2034=1,\"\",IF(S1356=\"\",\"\",VLOOKUP(S1356,Tabelle!$I$5:$N$7,6,FALSE)))","v":""},null,null,null,null,null,null,null,null,null,{"$f":"IF(D1356=\"\",0,IF(D1356=D1355,COUNTIF(D$9:D1355,D1356)+1,1))","v":0},0,0]
["1349","-1900","-1900-0",null,null,null,null,null,null,null,"",null,null,null,null,null,null,null,null,{"$f":"IF(G$2034=1,\"\",IF(S1357=\"\",\"\",VLOOKUP(S1357,Tabelle!$I$5:$M$7,5,FALSE)))","v":""},{"$f":"IF(G$2034=1,\"\",IF(S1357=\"\",\"\",VLOOKUP(S1357,Tabelle!$I$5:$N$7,6,FALSE)))","v":""},null,null,null,null,null,null,null,null,null,{"$f":"IF(D1357=\"\",0,IF(D1357=D1356,COUNTIF(D$9:D1356,D1357)+1,1))","v":0},0,0]
["1350","-1900","-1900-0",null,null,null,null,null,null,null,"",null,null,null,null,null,null,null,null,{"$f":"IF(G$2034=1,\"\",IF(S1358=\"\",\"\",VLOOKUP(S1358,Tabelle!$I$5:$M$7,5,FALSE)))","v":""},{"$f":"IF(G$2034=1,\"\",IF(S1358=\"\",\"\",VLOOKUP(S1358,Tabelle!$I$5:$N$7,6,FALSE)))","v":""},null,null,null,null,null,null,null,null,null,{"$f":"IF(D1358=\"\",0,IF(D1358=D1357,COUNTIF(D$9:D1357,D1358)+1,1))","v":0},0,0]
["1351","-1900","-1900-0",null,null,null,null,null,null,null,"",null,null,null,null,null,null,null,null,{"$f":"IF(G$2034=1,\"\",IF(S1359=\"\",\"\",VLOOKUP(S1359,Tabelle!$I$5:$M$7,5,FALSE)))","v":""},{"$f":"IF(G$2034=1,\"\",IF(S1359=\"\",\"\",VLOOKUP(S1359,Tabelle!$I$5:$N$7,6,FALSE)))","v":""},null,null,null,null,null,null,null,null,null,{"$f":"IF(D1359=\"\",0,IF(D1359=D1358,COUNTIF(D$9:D1358,D1359)+1,1))","v":0},0,0]
["1352","-1900","-1900-0",null,null,null,null,null,null,null,"",null,null,null,null,null,null,null,null,{"$f":"IF(G$2034=1,\"\",IF(S1360=\"\",\"\",VLOOKUP(S1360,Tabelle!$I$5:$M$7,5,FALSE)))","v":""},{"$f":"IF(G$2034=1,\"\",IF(S1360=\"\",\"\",VLOOKUP(S1360,Tabelle!$I$5:$N$7,6,FALSE)))","v":""},null,null,null,null,null,null,null,null,null,{"$f":"IF(D1360=\"\",0,IF(D1360=D1359,COUNTIF(D$9:D1359,D1360)+1,1))","v":0},0,0]
["1353","-1900","-1900-0",null,null,null,null,null,null,null,"",null,null,null,null,null,null,null,null,{"$f":"IF(G$2034=1,\"\",IF(S1361=\"\",\"\",VLOOKUP(S1361,Tabelle!$I$5:$M$7,5,FALSE)))","v":""},{"$f":"IF(G$2034=1,\"\",IF(S1361=\"\",\"\",VLOOKUP(S1361,Tabelle!$I$5:$N$7,6,FALSE)))","v":""},null,null,null,null,null,null,null,null,null,{"$f":"IF(D1361=\"\",0,IF(D1361=D1360,COUNTIF(D$9:D1360,D1361)+1,1))","v":0},0,0]
["1354","-1900","-1900-0",null,null,null,null,null,null,null,"",null,null,null,null,null,null,null,null,{"$f":"IF(G$2034=1,\"\",IF(S1362=\"\",\"\",VLOOKUP(S1362,Tabelle!$I$5:$M$7,5,FALSE)))","v":""},{"$f":"IF(G$2034=1,\"\",IF(S1362=\"\",\"\",VLOOKUP(S1362,Tabelle!$I$5:$N$7,6,FALSE)))","v":""},null,null,null,null,null,null,null,null,null,{"$f":"IF(D1362=\"\",0,IF(D1362=D1361,COUNTIF(D$9:D1361,D1362)+1,1))","v":0},0,0]
["1355","-1900","-1900-0",null,null,null,null,null,null,null,"",null,null,null,null,null,null,null,null,{"$f":"IF(G$2034=1,\"\",IF(S1363=\"\",\"\",VLOOKUP(S1363,Tabelle!$I$5:$M$7,5,FALSE)))","v":""},{"$f":"IF(G$2034=1,\"\",IF(S1363=\"\",\"\",VLOOKUP(S1363,Tabelle!$I$5:$N$7,6,FALSE)))","v":""},null,null,null,null,null,null,null,null,null,{"$f":"IF(D1363=\"\",0,IF(D1363=D1362,COUNTIF(D$9:D1362,D1363)+1,1))","v":0},0,0]
["1356","-1900","-1900-0",null,null,null,null,null,null,null,"",null,null,null,null,null,null,null,null,{"$f":"IF(G$2034=1,\"\",IF(S1364=\"\",\"\",VLOOKUP(S1364,Tabelle!$I$5:$M$7,5,FALSE)))","v":""},{"$f":"IF(G$2034=1,\"\",IF(S1364=\"\",\"\",VLOOKUP(S1364,Tabelle!$I$5:$N$7,6,FALSE)))","v":""},null,null,null,null,null,null,null,null,null,{"$f":"IF(D1364=\"\",0,IF(D1364=D1363,COUNTIF(D$9:D1363,D1364)+1,1))","v":0},0,0]
["1357","-1900","-1900-0",null,null,null,null,null,null,null,"",null,null,null,null,null,null,null,null,{"$f":"IF(G$2034=1,\"\",IF(S1365=\"\",\"\",VLOOKUP(S1365,Tabelle!$I$5:$M$7,5,FALSE)))","v":""},{"$f":"IF(G$2034=1,\"\",IF(S1365=\"\",\"\",VLOOKUP(S1365,Tabelle!$I$5:$N$7,6,FALSE)))","v":""},null,null,null,null,null,null,null,null,null,{"$f":"IF(D1365=\"\",0,IF(D1365=D1364,COUNTIF(D$9:D1364,D1365)+1,1))","v":0},0,0]
["1358","-1900","-1900-0",null,null,null,null,null,null,null,"",null,null,null,null,null,null,null,null,{"$f":"IF(G$2034=1,\"\",IF(S1366=\"\",\"\",VLOOKUP(S1366,Tabelle!$I$5:$M$7,5,FALSE)))","v":""},{"$f":"IF(G$2034=1,\"\",IF(S1366=\"\",\"\",VLOOKUP(S1366,Tabelle!$I$5:$N$7,6,FALSE)))","v":""},null,null,null,null,null,null,null,null,null,{"$f":"IF(D1366=\"\",0,IF(D1366=D1365,COUNTIF(D$9:D1365,D1366)+1,1))","v":0},0,0]
["1359","-1900","-1900-0",null,null,null,null,null,null,null,"",null,null,null,null,null,null,null,null,{"$f":"IF(G$2034=1,\"\",IF(S1367=\"\",\"\",VLOOKUP(S1367,Tabelle!$I$5:$M$7,5,FALSE)))","v":""},{"$f":"IF(G$2034=1,\"\",IF(S1367=\"\",\"\",VLOOKUP(S1367,Tabelle!$I$5:$N$7,6,FALSE)))","v":""},null,null,null,null,null,null,null,null,null,{"$f":"IF(D1367=\"\",0,IF(D1367=D1366,COUNTIF(D$9:D1366,D1367)+1,1))","v":0},0,0]
["1360","-1900","-1900-0",null,null,null,null,null,null,null,"",null,null,null,null,null,null,null,null,{"$f":"IF(G$2034=1,\"\",IF(S1368=\"\",\"\",VLOOKUP(S1368,Tabelle!$I$5:$M$7,5,FALSE)))","v":""},{"$f":"IF(G$2034=1,\"\",IF(S1368=\"\",\"\",VLOOKUP(S1368,Tabelle!$I$5:$N$7,6,FALSE)))","v":""},null,null,null,null,null,null,null,null,null,{"$f":"IF(D1368=\"\",0,IF(D1368=D1367,COUNTIF(D$9:D1367,D1368)+1,1))","v":0},0,0]
["1361","-1900","-1900-0",null,null,null,null,null,null,null,"",null,null,null,null,null,null,null,null,{"$f":"IF(G$2034=1,\"\",IF(S1369=\"\",\"\",VLOOKUP(S1369,Tabelle!$I$5:$M$7,5,FALSE)))","v":""},{"$f":"IF(G$2034=1,\"\",IF(S1369=\"\",\"\",VLOOKUP(S1369,Tabelle!$I$5:$N$7,6,FALSE)))","v":""},null,null,null,null,null,null,null,null,null,{"$f":"IF(D1369=\"\",0,IF(D1369=D1368,COUNTIF(D$9:D1368,D1369)+1,1))","v":0},0,0]
["1362","-1900","-1900-0",null,null,null,null,null,null,null,"",null,null,null,null,null,null,null,null,{"$f":"IF(G$2034=1,\"\",IF(S1370=\"\",\"\",VLOOKUP(S1370,Tabelle!$I$5:$M$7,5,FALSE)))","v":""},{"$f":"IF(G$2034=1,\"\",IF(S1370=\"\",\"\",VLOOKUP(S1370,Tabelle!$I$5:$N$7,6,FALSE)))","v":""},null,null,null,null,null,null,null,null,null,{"$f":"IF(D1370=\"\",0,IF(D1370=D1369,COUNTIF(D$9:D1369,D1370)+1,1))","v":0},0,0]
["1363","-1900","-1900-0",null,null,null,null,null,null,null,"",null,null,null,null,null,null,null,null,{"$f":"IF(G$2034=1,\"\",IF(S1371=\"\",\"\",VLOOKUP(S1371,Tabelle!$I$5:$M$7,5,FALSE)))","v":""},{"$f":"IF(G$2034=1,\"\",IF(S1371=\"\",\"\",VLOOKUP(S1371,Tabelle!$I$5:$N$7,6,FALSE)))","v":""},null,null,null,null,null,null,null,null,null,{"$f":"IF(D1371=\"\",0,IF(D1371=D1370,COUNTIF(D$9:D1370,D1371)+1,1))","v":0},0,0]
["1364","-1900","-1900-0",null,null,null,null,null,null,null,"",null,null,null,null,null,null,null,null,{"$f":"IF(G$2034=1,\"\",IF(S1372=\"\",\"\",VLOOKUP(S1372,Tabelle!$I$5:$M$7,5,FALSE)))","v":""},{"$f":"IF(G$2034=1,\"\",IF(S1372=\"\",\"\",VLOOKUP(S1372,Tabelle!$I$5:$N$7,6,FALSE)))","v":""},null,null,null,null,null,null,null,null,null,{"$f":"IF(D1372=\"\",0,IF(D1372=D1371,COUNTIF(D$9:D1371,D1372)+1,1))","v":0},0,0]
["1365","-1900","-1900-0",null,null,null,null,null,null,null,"",null,null,null,null,null,null,null,null,{"$f":"IF(G$2034=1,\"\",IF(S1373=\"\",\"\",VLOOKUP(S1373,Tabelle!$I$5:$M$7,5,FALSE)))","v":""},{"$f":"IF(G$2034=1,\"\",IF(S1373=\"\",\"\",VLOOKUP(S1373,Tabelle!$I$5:$N$7,6,FALSE)))","v":""},null,null,null,null,null,null,null,null,null,{"$f":"IF(D1373=\"\",0,IF(D1373=D1372,COUNTIF(D$9:D1372,D1373)+1,1))","v":0},0,0]
["1366","-1900","-1900-0",null,null,null,null,null,null,null,"",null,null,null,null,null,null,null,null,{"$f":"IF(G$2034=1,\"\",IF(S1374=\"\",\"\",VLOOKUP(S1374,Tabelle!$I$5:$M$7,5,FALSE)))","v":""},{"$f":"IF(G$2034=1,\"\",IF(S1374=\"\",\"\",VLOOKUP(S1374,Tabelle!$I$5:$N$7,6,FALSE)))","v":""},null,null,null,null,null,null,null,null,null,{"$f":"IF(D1374=\"\",0,IF(D1374=D1373,COUNTIF(D$9:D1373,D1374)+1,1))","v":0},0,0]
["1367","-1900","-1900-0",null,null,null,null,null,null,null,"",null,null,null,null,null,null,null,null,{"$f":"IF(G$2034=1,\"\",IF(S1375=\"\",\"\",VLOOKUP(S1375,Tabelle!$I$5:$M$7,5,FALSE)))","v":""},{"$f":"IF(G$2034=1,\"\",IF(S1375=\"\",\"\",VLOOKUP(S1375,Tabelle!$I$5:$N$7,6,FALSE)))","v":""},null,null,null,null,null,null,null,null,null,{"$f":"IF(D1375=\"\",0,IF(D1375=D1374,COUNTIF(D$9:D1374,D1375)+1,1))","v":0},0,0]
["1368","-1900","-1900-0",null,null,null,null,null,null,null,"",null,null,null,null,null,null,null,null,{"$f":"IF(G$2034=1,\"\",IF(S1376=\"\",\"\",VLOOKUP(S1376,Tabelle!$I$5:$M$7,5,FALSE)))","v":""},{"$f":"IF(G$2034=1,\"\",IF(S1376=\"\",\"\",VLOOKUP(S1376,Tabelle!$I$5:$N$7,6,FALSE)))","v":""},null,null,null,null,null,null,null,null,null,{"$f":"IF(D1376=\"\",0,IF(D1376=D1375,COUNTIF(D$9:D1375,D1376)+1,1))","v":0},0,0]
["1369","-1900","-1900-0",null,null,null,null,null,null,null,"",null,null,null,null,null,null,null,null,{"$f":"IF(G$2034=1,\"\",IF(S1377=\"\",\"\",VLOOKUP(S1377,Tabelle!$I$5:$M$7,5,FALSE)))","v":""},{"$f":"IF(G$2034=1,\"\",IF(S1377=\"\",\"\",VLOOKUP(S1377,Tabelle!$I$5:$N$7,6,FALSE)))","v":""},null,null,null,null,null,null,null,null,null,{"$f":"IF(D1377=\"\",0,IF(D1377=D1376,COUNTIF(D$9:D1376,D1377)+1,1))","v":0},0,0]
["1370","-1900","-1900-0",null,null,null,null,null,null,null,"",null,null,null,null,null,null,null,null,{"$f":"IF(G$2034=1,\"\",IF(S1378=\"\",\"\",VLOOKUP(S1378,Tabelle!$I$5:$M$7,5,FALSE)))","v":""},{"$f":"IF(G$2034=1,\"\",IF(S1378=\"\",\"\",VLOOKUP(S1378,Tabelle!$I$5:$N$7,6,FALSE)))","v":""},null,null,null,null,null,null,null,null,null,{"$f":"IF(D1378=\"\",0,IF(D1378=D1377,COUNTIF(D$9:D1377,D1378)+1,1))","v":0},0,0]
["1371","-1900","-1900-0",null,null,null,null,null,null,null,"",null,null,null,null,null,null,null,null,{"$f":"IF(G$2034=1,\"\",IF(S1379=\"\",\"\",VLOOKUP(S1379,Tabelle!$I$5:$M$7,5,FALSE)))","v":""},{"$f":"IF(G$2034=1,\"\",IF(S1379=\"\",\"\",VLOOKUP(S1379,Tabelle!$I$5:$N$7,6,FALSE)))","v":""},null,null,null,null,null,null,null,null,null,{"$f":"IF(D1379=\"\",0,IF(D1379=D1378,COUNTIF(D$9:D1378,D1379)+1,1))","v":0},0,0]
["1372","-1900","-1900-0",null,null,null,null,null,null,null,"",null,null,null,null,null,null,null,null,{"$f":"IF(G$2034=1,\"\",IF(S1380=\"\",\"\",VLOOKUP(S1380,Tabelle!$I$5:$M$7,5,FALSE)))","v":""},{"$f":"IF(G$2034=1,\"\",IF(S1380=\"\",\"\",VLOOKUP(S1380,Tabelle!$I$5:$N$7,6,FALSE)))","v":""},null,null,null,null,null,null,null,null,null,{"$f":"IF(D1380=\"\",0,IF(D1380=D1379,COUNTIF(D$9:D1379,D1380)+1,1))","v":0},0,0]
["1373","-1900","-1900-0",null,null,null,null,null,null,null,"",null,null,null,null,null,null,null,null,{"$f":"IF(G$2034=1,\"\",IF(S1381=\"\",\"\",VLOOKUP(S1381,Tabelle!$I$5:$M$7,5,FALSE)))","v":""},{"$f":"IF(G$2034=1,\"\",IF(S1381=\"\",\"\",VLOOKUP(S1381,Tabelle!$I$5:$N$7,6,FALSE)))","v":""},null,null,null,null,null,null,null,null,null,{"$f":"IF(D1381=\"\",0,IF(D1381=D1380,COUNTIF(D$9:D1380,D1381)+1,1))","v":0},0,0]
["1374","-1900","-1900-0",null,null,null,null,null,null,null,"",null,null,null,null,null,null,null,null,{"$f":"IF(G$2034=1,\"\",IF(S1382=\"\",\"\",VLOOKUP(S1382,Tabelle!$I$5:$M$7,5,FALSE)))","v":""},{"$f":"IF(G$2034=1,\"\",IF(S1382=\"\",\"\",VLOOKUP(S1382,Tabelle!$I$5:$N$7,6,FALSE)))","v":""},null,null,null,null,null,null,null,null,null,{"$f":"IF(D1382=\"\",0,IF(D1382=D1381,COUNTIF(D$9:D1381,D1382)+1,1))","v":0},0,0]
["1375","-1900","-1900-0",null,null,null,null,null,null,null,"",null,null,null,null,null,null,null,null,{"$f":"IF(G$2034=1,\"\",IF(S1383=\"\",\"\",VLOOKUP(S1383,Tabelle!$I$5:$M$7,5,FALSE)))","v":""},{"$f":"IF(G$2034=1,\"\",IF(S1383=\"\",\"\",VLOOKUP(S1383,Tabelle!$I$5:$N$7,6,FALSE)))","v":""},null,null,null,null,null,null,null,null,null,{"$f":"IF(D1383=\"\",0,IF(D1383=D1382,COUNTIF(D$9:D1382,D1383)+1,1))","v":0},0,0]
["1376","-1900","-1900-0",null,null,null,null,null,null,null,"",null,null,null,null,null,null,null,null,{"$f":"IF(G$2034=1,\"\",IF(S1384=\"\",\"\",VLOOKUP(S1384,Tabelle!$I$5:$M$7,5,FALSE)))","v":""},{"$f":"IF(G$2034=1,\"\",IF(S1384=\"\",\"\",VLOOKUP(S1384,Tabelle!$I$5:$N$7,6,FALSE)))","v":""},null,null,null,null,null,null,null,null,null,{"$f":"IF(D1384=\"\",0,IF(D1384=D1383,COUNTIF(D$9:D1383,D1384)+1,1))","v":0},0,0]
["1377","-1900","-1900-0",null,null,null,null,null,null,null,"",null,null,null,null,null,null,null,null,{"$f":"IF(G$2034=1,\"\",IF(S1385=\"\",\"\",VLOOKUP(S1385,Tabelle!$I$5:$M$7,5,FALSE)))","v":""},{"$f":"IF(G$2034=1,\"\",IF(S1385=\"\",\"\",VLOOKUP(S1385,Tabelle!$I$5:$N$7,6,FALSE)))","v":""},null,null,null,null,null,null,null,null,null,{"$f":"IF(D1385=\"\",0,IF(D1385=D1384,COUNTIF(D$9:D1384,D1385)+1,1))","v":0},0,0]
["1378","-1900","-1900-0",null,null,null,null,null,null,null,"",null,null,null,null,null,null,null,null,{"$f":"IF(G$2034=1,\"\",IF(S1386=\"\",\"\",VLOOKUP(S1386,Tabelle!$I$5:$M$7,5,FALSE)))","v":""},{"$f":"IF(G$2034=1,\"\",IF(S1386=\"\",\"\",VLOOKUP(S1386,Tabelle!$I$5:$N$7,6,FALSE)))","v":""},null,null,null,null,null,null,null,null,null,{"$f":"IF(D1386=\"\",0,IF(D1386=D1385,COUNTIF(D$9:D1385,D1386)+1,1))","v":0},0,0]
["1379","-1900","-1900-0",null,null,null,null,null,null,null,"",null,null,null,null,null,null,null,null,{"$f":"IF(G$2034=1,\"\",IF(S1387=\"\",\"\",VLOOKUP(S1387,Tabelle!$I$5:$M$7,5,FALSE)))","v":""},{"$f":"IF(G$2034=1,\"\",IF(S1387=\"\",\"\",VLOOKUP(S1387,Tabelle!$I$5:$N$7,6,FALSE)))","v":""},null,null,null,null,null,null,null,null,null,{"$f":"IF(D1387=\"\",0,IF(D1387=D1386,COUNTIF(D$9:D1386,D1387)+1,1))","v":0},0,0]
["1380","-1900","-1900-0",null,null,null,null,null,null,null,"",null,null,null,null,null,null,null,null,{"$f":"IF(G$2034=1,\"\",IF(S1388=\"\",\"\",VLOOKUP(S1388,Tabelle!$I$5:$M$7,5,FALSE)))","v":""},{"$f":"IF(G$2034=1,\"\",IF(S1388=\"\",\"\",VLOOKUP(S1388,Tabelle!$I$5:$N$7,6,FALSE)))","v":""},null,null,null,null,null,null,null,null,null,{"$f":"IF(D1388=\"\",0,IF(D1388=D1387,COUNTIF(D$9:D1387,D1388)+1,1))","v":0},0,0]
["1381","-1900","-1900-0",null,null,null,null,null,null,null,"",null,null,null,null,null,null,null,null,{"$f":"IF(G$2034=1,\"\",IF(S1389=\"\",\"\",VLOOKUP(S1389,Tabelle!$I$5:$M$7,5,FALSE)))","v":""},{"$f":"IF(G$2034=1,\"\",IF(S1389=\"\",\"\",VLOOKUP(S1389,Tabelle!$I$5:$N$7,6,FALSE)))","v":""},null,null,null,null,null,null,null,null,null,{"$f":"IF(D1389=\"\",0,IF(D1389=D1388,COUNTIF(D$9:D1388,D1389)+1,1))","v":0},0,0]
["1382","-1900","-1900-0",null,null,null,null,null,null,null,"",null,null,null,null,null,null,null,null,{"$f":"IF(G$2034=1,\"\",IF(S1390=\"\",\"\",VLOOKUP(S1390,Tabelle!$I$5:$M$7,5,FALSE)))","v":""},{"$f":"IF(G$2034=1,\"\",IF(S1390=\"\",\"\",VLOOKUP(S1390,Tabelle!$I$5:$N$7,6,FALSE)))","v":""},null,null,null,null,null,null,null,null,null,{"$f":"IF(D1390=\"\",0,IF(D1390=D1389,COUNTIF(D$9:D1389,D1390)+1,1))","v":0},0,0]
["1383","-1900","-1900-0",null,null,null,null,null,null,null,"",null,null,null,null,null,null,null,null,{"$f":"IF(G$2034=1,\"\",IF(S1391=\"\",\"\",VLOOKUP(S1391,Tabelle!$I$5:$M$7,5,FALSE)))","v":""},{"$f":"IF(G$2034=1,\"\",IF(S1391=\"\",\"\",VLOOKUP(S1391,Tabelle!$I$5:$N$7,6,FALSE)))","v":""},null,null,null,null,null,null,null,null,null,{"$f":"IF(D1391=\"\",0,IF(D1391=D1390,COUNTIF(D$9:D1390,D1391)+1,1))","v":0},0,0]
["1384","-1900","-1900-0",null,null,null,null,null,null,null,"",null,null,null,null,null,null,null,null,{"$f":"IF(G$2034=1,\"\",IF(S1392=\"\",\"\",VLOOKUP(S1392,Tabelle!$I$5:$M$7,5,FALSE)))","v":""},{"$f":"IF(G$2034=1,\"\",IF(S1392=\"\",\"\",VLOOKUP(S1392,Tabelle!$I$5:$N$7,6,FALSE)))","v":""},null,null,null,null,null,null,null,null,null,{"$f":"IF(D1392=\"\",0,IF(D1392=D1391,COUNTIF(D$9:D1391,D1392)+1,1))","v":0},0,0]
["1385","-1900","-1900-0",null,null,null,null,null,null,null,"",null,null,null,null,null,null,null,null,{"$f":"IF(G$2034=1,\"\",IF(S1393=\"\",\"\",VLOOKUP(S1393,Tabelle!$I$5:$M$7,5,FALSE)))","v":""},{"$f":"IF(G$2034=1,\"\",IF(S1393=\"\",\"\",VLOOKUP(S1393,Tabelle!$I$5:$N$7,6,FALSE)))","v":""},null,null,null,null,null,null,null,null,null,{"$f":"IF(D1393=\"\",0,IF(D1393=D1392,COUNTIF(D$9:D1392,D1393)+1,1))","v":0},0,0]
["1386","-1900","-1900-0",null,null,null,null,null,null,null,"",null,null,null,null,null,null,null,null,{"$f":"IF(G$2034=1,\"\",IF(S1394=\"\",\"\",VLOOKUP(S1394,Tabelle!$I$5:$M$7,5,FALSE)))","v":""},{"$f":"IF(G$2034=1,\"\",IF(S1394=\"\",\"\",VLOOKUP(S1394,Tabelle!$I$5:$N$7,6,FALSE)))","v":""},null,null,null,null,null,null,null,null,null,{"$f":"IF(D1394=\"\",0,IF(D1394=D1393,COUNTIF(D$9:D1393,D1394)+1,1))","v":0},0,0]
["1387","-1900","-1900-0",null,null,null,null,null,null,null,"",null,null,null,null,null,null,null,null,{"$f":"IF(G$2034=1,\"\",IF(S1395=\"\",\"\",VLOOKUP(S1395,Tabelle!$I$5:$M$7,5,FALSE)))","v":""},{"$f":"IF(G$2034=1,\"\",IF(S1395=\"\",\"\",VLOOKUP(S1395,Tabelle!$I$5:$N$7,6,FALSE)))","v":""},null,null,null,null,null,null,null,null,null,{"$f":"IF(D1395=\"\",0,IF(D1395=D1394,COUNTIF(D$9:D1394,D1395)+1,1))","v":0},0,0]
["1388","-1900","-1900-0",null,null,null,null,null,null,null,"",null,null,null,null,null,null,null,null,{"$f":"IF(G$2034=1,\"\",IF(S1396=\"\",\"\",VLOOKUP(S1396,Tabelle!$I$5:$M$7,5,FALSE)))","v":""},{"$f":"IF(G$2034=1,\"\",IF(S1396=\"\",\"\",VLOOKUP(S1396,Tabelle!$I$5:$N$7,6,FALSE)))","v":""},null,null,null,null,null,null,null,null,null,{"$f":"IF(D1396=\"\",0,IF(D1396=D1395,COUNTIF(D$9:D1395,D1396)+1,1))","v":0},0,0]
["1389","-1900","-1900-0",null,null,null,null,null,null,null,"",null,null,null,null,null,null,null,null,{"$f":"IF(G$2034=1,\"\",IF(S1397=\"\",\"\",VLOOKUP(S1397,Tabelle!$I$5:$M$7,5,FALSE)))","v":""},{"$f":"IF(G$2034=1,\"\",IF(S1397=\"\",\"\",VLOOKUP(S1397,Tabelle!$I$5:$N$7,6,FALSE)))","v":""},null,null,null,null,null,null,null,null,null,{"$f":"IF(D1397=\"\",0,IF(D1397=D1396,COUNTIF(D$9:D1396,D1397)+1,1))","v":0},0,0]
["1390","-1900","-1900-0",null,null,null,null,null,null,null,"",null,null,null,null,null,null,null,null,{"$f":"IF(G$2034=1,\"\",IF(S1398=\"\",\"\",VLOOKUP(S1398,Tabelle!$I$5:$M$7,5,FALSE)))","v":""},{"$f":"IF(G$2034=1,\"\",IF(S1398=\"\",\"\",VLOOKUP(S1398,Tabelle!$I$5:$N$7,6,FALSE)))","v":""},null,null,null,null,null,null,null,null,null,{"$f":"IF(D1398=\"\",0,IF(D1398=D1397,COUNTIF(D$9:D1397,D1398)+1,1))","v":0},0,0]
["1391","-1900","-1900-0",null,null,null,null,null,null,null,"",null,null,null,null,null,null,null,null,{"$f":"IF(G$2034=1,\"\",IF(S1399=\"\",\"\",VLOOKUP(S1399,Tabelle!$I$5:$M$7,5,FALSE)))","v":""},{"$f":"IF(G$2034=1,\"\",IF(S1399=\"\",\"\",VLOOKUP(S1399,Tabelle!$I$5:$N$7,6,FALSE)))","v":""},null,null,null,null,null,null,null,null,null,{"$f":"IF(D1399=\"\",0,IF(D1399=D1398,COUNTIF(D$9:D1398,D1399)+1,1))","v":0},0,0]
["1392","-1900","-1900-0",null,null,null,null,null,null,null,"",null,null,null,null,null,null,null,null,{"$f":"IF(G$2034=1,\"\",IF(S1400=\"\",\"\",VLOOKUP(S1400,Tabelle!$I$5:$M$7,5,FALSE)))","v":""},{"$f":"IF(G$2034=1,\"\",IF(S1400=\"\",\"\",VLOOKUP(S1400,Tabelle!$I$5:$N$7,6,FALSE)))","v":""},null,null,null,null,null,null,null,null,null,{"$f":"IF(D1400=\"\",0,IF(D1400=D1399,COUNTIF(D$9:D1399,D1400)+1,1))","v":0},0,0]
["1393","-1900","-1900-0",null,null,null,null,null,null,null,"",null,null,null,null,null,null,null,null,{"$f":"IF(G$2034=1,\"\",IF(S1401=\"\",\"\",VLOOKUP(S1401,Tabelle!$I$5:$M$7,5,FALSE)))","v":""},{"$f":"IF(G$2034=1,\"\",IF(S1401=\"\",\"\",VLOOKUP(S1401,Tabelle!$I$5:$N$7,6,FALSE)))","v":""},null,null,null,null,null,null,null,null,null,{"$f":"IF(D1401=\"\",0,IF(D1401=D1400,COUNTIF(D$9:D1400,D1401)+1,1))","v":0},0,0]
["1394","-1900","-1900-0",null,null,null,null,null,null,null,"",null,null,null,null,null,null,null,null,{"$f":"IF(G$2034=1,\"\",IF(S1402=\"\",\"\",VLOOKUP(S1402,Tabelle!$I$5:$M$7,5,FALSE)))","v":""},{"$f":"IF(G$2034=1,\"\",IF(S1402=\"\",\"\",VLOOKUP(S1402,Tabelle!$I$5:$N$7,6,FALSE)))","v":""},null,null,null,null,null,null,null,null,null,{"$f":"IF(D1402=\"\",0,IF(D1402=D1401,COUNTIF(D$9:D1401,D1402)+1,1))","v":0},0,0]
["1395","-1900","-1900-0",null,null,null,null,null,null,null,"",null,null,null,null,null,null,null,null,{"$f":"IF(G$2034=1,\"\",IF(S1403=\"\",\"\",VLOOKUP(S1403,Tabelle!$I$5:$M$7,5,FALSE)))","v":""},{"$f":"IF(G$2034=1,\"\",IF(S1403=\"\",\"\",VLOOKUP(S1403,Tabelle!$I$5:$N$7,6,FALSE)))","v":""},null,null,null,null,null,null,null,null,null,{"$f":"IF(D1403=\"\",0,IF(D1403=D1402,COUNTIF(D$9:D1402,D1403)+1,1))","v":0},0,0]
["1396","-1900","-1900-0",null,null,null,null,null,null,null,"",null,null,null,null,null,null,null,null,{"$f":"IF(G$2034=1,\"\",IF(S1404=\"\",\"\",VLOOKUP(S1404,Tabelle!$I$5:$M$7,5,FALSE)))","v":""},{"$f":"IF(G$2034=1,\"\",IF(S1404=\"\",\"\",VLOOKUP(S1404,Tabelle!$I$5:$N$7,6,FALSE)))","v":""},null,null,null,null,null,null,null,null,null,{"$f":"IF(D1404=\"\",0,IF(D1404=D1403,COUNTIF(D$9:D1403,D1404)+1,1))","v":0},0,0]
["1397","-1900","-1900-0",null,null,null,null,null,null,null,"",null,null,null,null,null,null,null,null,{"$f":"IF(G$2034=1,\"\",IF(S1405=\"\",\"\",VLOOKUP(S1405,Tabelle!$I$5:$M$7,5,FALSE)))","v":""},{"$f":"IF(G$2034=1,\"\",IF(S1405=\"\",\"\",VLOOKUP(S1405,Tabelle!$I$5:$N$7,6,FALSE)))","v":""},null,null,null,null,null,null,null,null,null,{"$f":"IF(D1405=\"\",0,IF(D1405=D1404,COUNTIF(D$9:D1404,D1405)+1,1))","v":0},0,0]
["1398","-1900","-1900-0",null,null,null,null,null,null,null,"",null,null,null,null,null,null,null,null,{"$f":"IF(G$2034=1,\"\",IF(S1406=\"\",\"\",VLOOKUP(S1406,Tabelle!$I$5:$M$7,5,FALSE)))","v":""},{"$f":"IF(G$2034=1,\"\",IF(S1406=\"\",\"\",VLOOKUP(S1406,Tabelle!$I$5:$N$7,6,FALSE)))","v":""},null,null,null,null,null,null,null,null,null,{"$f":"IF(D1406=\"\",0,IF(D1406=D1405,COUNTIF(D$9:D1405,D1406)+1,1))","v":0},0,0]
["1399","-1900","-1900-0",null,null,null,null,null,null,null,"",null,null,null,null,null,null,null,null,{"$f":"IF(G$2034=1,\"\",IF(S1407=\"\",\"\",VLOOKUP(S1407,Tabelle!$I$5:$M$7,5,FALSE)))","v":""},{"$f":"IF(G$2034=1,\"\",IF(S1407=\"\",\"\",VLOOKUP(S1407,Tabelle!$I$5:$N$7,6,FALSE)))","v":""},null,null,null,null,null,null,null,null,null,{"$f":"IF(D1407=\"\",0,IF(D1407=D1406,COUNTIF(D$9:D1406,D1407)+1,1))","v":0},0,0]
["1400","-1900","-1900-0",null,null,null,null,null,null,null,"",null,null,null,null,null,null,null,null,{"$f":"IF(G$2034=1,\"\",IF(S1408=\"\",\"\",VLOOKUP(S1408,Tabelle!$I$5:$M$7,5,FALSE)))","v":""},{"$f":"IF(G$2034=1,\"\",IF(S1408=\"\",\"\",VLOOKUP(S1408,Tabelle!$I$5:$N$7,6,FALSE)))","v":""},null,null,null,null,null,null,null,null,null,{"$f":"IF(D1408=\"\",0,IF(D1408=D1407,COUNTIF(D$9:D1407,D1408)+1,1))","v":0},0,0]
["1401","-1900","-1900-0",null,null,null,null,null,null,null,"",null,null,null,null,null,null,null,null,{"$f":"IF(G$2034=1,\"\",IF(S1409=\"\",\"\",VLOOKUP(S1409,Tabelle!$I$5:$M$7,5,FALSE)))","v":""},{"$f":"IF(G$2034=1,\"\",IF(S1409=\"\",\"\",VLOOKUP(S1409,Tabelle!$I$5:$N$7,6,FALSE)))","v":""},null,null,null,null,null,null,null,null,null,{"$f":"IF(D1409=\"\",0,IF(D1409=D1408,COUNTIF(D$9:D1408,D1409)+1,1))","v":0},0,0]
["1402","-1900","-1900-0",null,null,null,null,null,null,null,"",null,null,null,null,null,null,null,null,{"$f":"IF(G$2034=1,\"\",IF(S1410=\"\",\"\",VLOOKUP(S1410,Tabelle!$I$5:$M$7,5,FALSE)))","v":""},{"$f":"IF(G$2034=1,\"\",IF(S1410=\"\",\"\",VLOOKUP(S1410,Tabelle!$I$5:$N$7,6,FALSE)))","v":""},null,null,null,null,null,null,null,null,null,{"$f":"IF(D1410=\"\",0,IF(D1410=D1409,COUNTIF(D$9:D1409,D1410)+1,1))","v":0},0,0]
["1403","-1900","-1900-0",null,null,null,null,null,null,null,"",null,null,null,null,null,null,null,null,{"$f":"IF(G$2034=1,\"\",IF(S1411=\"\",\"\",VLOOKUP(S1411,Tabelle!$I$5:$M$7,5,FALSE)))","v":""},{"$f":"IF(G$2034=1,\"\",IF(S1411=\"\",\"\",VLOOKUP(S1411,Tabelle!$I$5:$N$7,6,FALSE)))","v":""},null,null,null,null,null,null,null,null,null,{"$f":"IF(D1411=\"\",0,IF(D1411=D1410,COUNTIF(D$9:D1410,D1411)+1,1))","v":0},0,0]
["1404","-1900","-1900-0",null,null,null,null,null,null,null,"",null,null,null,null,null,null,null,null,{"$f":"IF(G$2034=1,\"\",IF(S1412=\"\",\"\",VLOOKUP(S1412,Tabelle!$I$5:$M$7,5,FALSE)))","v":""},{"$f":"IF(G$2034=1,\"\",IF(S1412=\"\",\"\",VLOOKUP(S1412,Tabelle!$I$5:$N$7,6,FALSE)))","v":""},null,null,null,null,null,null,null,null,null,{"$f":"IF(D1412=\"\",0,IF(D1412=D1411,COUNTIF(D$9:D1411,D1412)+1,1))","v":0},0,0]
["1405","-1900","-1900-0",null,null,null,null,null,null,null,"",null,null,null,null,null,null,null,null,{"$f":"IF(G$2034=1,\"\",IF(S1413=\"\",\"\",VLOOKUP(S1413,Tabelle!$I$5:$M$7,5,FALSE)))","v":""},{"$f":"IF(G$2034=1,\"\",IF(S1413=\"\",\"\",VLOOKUP(S1413,Tabelle!$I$5:$N$7,6,FALSE)))","v":""},null,null,null,null,null,null,null,null,null,{"$f":"IF(D1413=\"\",0,IF(D1413=D1412,COUNTIF(D$9:D1412,D1413)+1,1))","v":0},0,0]
["1406","-1900","-1900-0",null,null,null,null,null,null,null,"",null,null,null,null,null,null,null,null,{"$f":"IF(G$2034=1,\"\",IF(S1414=\"\",\"\",VLOOKUP(S1414,Tabelle!$I$5:$M$7,5,FALSE)))","v":""},{"$f":"IF(G$2034=1,\"\",IF(S1414=\"\",\"\",VLOOKUP(S1414,Tabelle!$I$5:$N$7,6,FALSE)))","v":""},null,null,null,null,null,null,null,null,null,{"$f":"IF(D1414=\"\",0,IF(D1414=D1413,COUNTIF(D$9:D1413,D1414)+1,1))","v":0},0,0]
["1407","-1900","-1900-0",null,null,null,null,null,null,null,"",null,null,null,null,null,null,null,null,{"$f":"IF(G$2034=1,\"\",IF(S1415=\"\",\"\",VLOOKUP(S1415,Tabelle!$I$5:$M$7,5,FALSE)))","v":""},{"$f":"IF(G$2034=1,\"\",IF(S1415=\"\",\"\",VLOOKUP(S1415,Tabelle!$I$5:$N$7,6,FALSE)))","v":""},null,null,null,null,null,null,null,null,null,{"$f":"IF(D1415=\"\",0,IF(D1415=D1414,COUNTIF(D$9:D1414,D1415)+1,1))","v":0},0,0]
["1408","-1900","-1900-0",null,null,null,null,null,null,null,"",null,null,null,null,null,null,null,null,{"$f":"IF(G$2034=1,\"\",IF(S1416=\"\",\"\",VLOOKUP(S1416,Tabelle!$I$5:$M$7,5,FALSE)))","v":""},{"$f":"IF(G$2034=1,\"\",IF(S1416=\"\",\"\",VLOOKUP(S1416,Tabelle!$I$5:$N$7,6,FALSE)))","v":""},null,null,null,null,null,null,null,null,null,{"$f":"IF(D1416=\"\",0,IF(D1416=D1415,COUNTIF(D$9:D1415,D1416)+1,1))","v":0},0,0]
["1409","-1900",{"$f":"IF(G$2034=1,0,B1417&\"-\"&AE1417)","v":"-1900-0"},null,null,null,null,null,null,null,{"$f":"IF(G$2034=1,0,IF(OR(J1417=\"\",ISERROR($O$2034)),\"\",VLOOKUP(J1417,$L$2019:$N$2027,2,FALSE)))","v":""},null,null,null,null,null,null,null,null,{"$f":"IF(G$2034=1,\"\",IF(S1417=\"\",\"\",VLOOKUP(S1417,Tabelle!$I$5:$M$7,5,FALSE)))","v":""},{"$f":"IF(G$2034=1,\"\",IF(S1417=\"\",\"\",VLOOKUP(S1417,Tabelle!$I$5:$N$7,6,FALSE)))","v":""},null,null,null,null,null,null,null,null,null,{"$f":"IF(D1417=\"\",0,IF(D1417=D1416,COUNTIF(D$9:D1416,D1417)+1,1))","v":0},0,0]
["1410",{"$f":"IF(AG1418=$AG$2013,0,IF(G$2034=1,0,D1418&\"-\"&YEAR(E1418)))","v":"-1900"},"-1900-0",null,null,null,null,null,null,null,"",null,null,null,null,null,null,null,null,{"$f":"IF(G$2034=1,\"\",IF(S1418=\"\",\"\",VLOOKUP(S1418,Tabelle!$I$5:$M$7,5,FALSE)))","v":""},{"$f":"IF(G$2034=1,\"\",IF(S1418=\"\",\"\",VLOOKUP(S1418,Tabelle!$I$5:$N$7,6,FALSE)))","v":""},null,null,null,null,null,null,null,null,null,{"$f":"IF(D1418=\"\",0,IF(D1418=D1417,COUNTIF(D$9:D1417,D1418)+1,1))","v":0},{"$f":"IF(G$2034=1,0,IF(AE1418=28,1,0))","v":0},{"$f":"IF(E1418>0,IF(OR(MONTH(E1418)<$G$2026,MONTH(E1418)>$G$2027),AG$2013,0),0)","v":0}]
["1411","-1900","-1900-0",null,null,null,null,null,null,null,"",null,null,null,null,null,null,null,null,{"$f":"IF(G$2034=1,\"\",IF(S1419=\"\",\"\",VLOOKUP(S1419,Tabelle!$I$5:$M$7,5,FALSE)))","v":""},{"$f":"IF(G$2034=1,\"\",IF(S1419=\"\",\"\",VLOOKUP(S1419,Tabelle!$I$5:$N$7,6,FALSE)))","v":""},null,null,null,null,null,null,null,null,null,{"$f":"IF(D1419=\"\",0,IF(D1419=D1418,COUNTIF(D$9:D1418,D1419)+1,1))","v":0},0,0]
["1412","-1900","-1900-0",null,null,null,null,null,null,null,"",null,null,null,null,null,null,null,null,{"$f":"IF(G$2034=1,\"\",IF(S1420=\"\",\"\",VLOOKUP(S1420,Tabelle!$I$5:$M$7,5,FALSE)))","v":""},{"$f":"IF(G$2034=1,\"\",IF(S1420=\"\",\"\",VLOOKUP(S1420,Tabelle!$I$5:$N$7,6,FALSE)))","v":""},null,null,null,null,null,null,null,null,null,{"$f":"IF(D1420=\"\",0,IF(D1420=D1419,COUNTIF(D$9:D1419,D1420)+1,1))","v":0},0,0]
["1413","-1900","-1900-0",null,null,null,null,null,null,null,"",null,null,null,null,null,null,null,null,{"$f":"IF(G$2034=1,\"\",IF(S1421=\"\",\"\",VLOOKUP(S1421,Tabelle!$I$5:$M$7,5,FALSE)))","v":""},{"$f":"IF(G$2034=1,\"\",IF(S1421=\"\",\"\",VLOOKUP(S1421,Tabelle!$I$5:$N$7,6,FALSE)))","v":""},null,null,null,null,null,null,null,null,null,{"$f":"IF(D1421=\"\",0,IF(D1421=D1420,COUNTIF(D$9:D1420,D1421)+1,1))","v":0},0,0]
["1414","-1900","-1900-0",null,null,null,null,null,null,null,"",null,null,null,null,null,null,null,null,{"$f":"IF(G$2034=1,\"\",IF(S1422=\"\",\"\",VLOOKUP(S1422,Tabelle!$I$5:$M$7,5,FALSE)))","v":""},{"$f":"IF(G$2034=1,\"\",IF(S1422=\"\",\"\",VLOOKUP(S1422,Tabelle!$I$5:$N$7,6,FALSE)))","v":""},null,null,null,null,null,null,null,null,null,{"$f":"IF(D1422=\"\",0,IF(D1422=D1421,COUNTIF(D$9:D1421,D1422)+1,1))","v":0},0,0]
["1415","-1900","-1900-0",null,null,null,null,null,null,null,"",null,null,null,null,null,null,null,null,{"$f":"IF(G$2034=1,\"\",IF(S1423=\"\",\"\",VLOOKUP(S1423,Tabelle!$I$5:$M$7,5,FALSE)))","v":""},{"$f":"IF(G$2034=1,\"\",IF(S1423=\"\",\"\",VLOOKUP(S1423,Tabelle!$I$5:$N$7,6,FALSE)))","v":""},null,null,null,null,null,null,null,null,null,{"$f":"IF(D1423=\"\",0,IF(D1423=D1422,COUNTIF(D$9:D1422,D1423)+1,1))","v":0},0,0]
["1416","-1900","-1900-0",null,null,null,null,null,null,null,"",null,null,null,null,null,null,null,null,{"$f":"IF(G$2034=1,\"\",IF(S1424=\"\",\"\",VLOOKUP(S1424,Tabelle!$I$5:$M$7,5,FALSE)))","v":""},{"$f":"IF(G$2034=1,\"\",IF(S1424=\"\",\"\",VLOOKUP(S1424,Tabelle!$I$5:$N$7,6,FALSE)))","v":""},null,null,null,null,null,null,null,null,null,{"$f":"IF(D1424=\"\",0,IF(D1424=D1423,COUNTIF(D$9:D1423,D1424)+1,1))","v":0},0,0]
["1417","-1900","-1900-0",null,null,null,null,null,null,null,"",null,null,null,null,null,null,null,null,{"$f":"IF(G$2034=1,\"\",IF(S1425=\"\",\"\",VLOOKUP(S1425,Tabelle!$I$5:$M$7,5,FALSE)))","v":""},{"$f":"IF(G$2034=1,\"\",IF(S1425=\"\",\"\",VLOOKUP(S1425,Tabelle!$I$5:$N$7,6,FALSE)))","v":""},null,null,null,null,null,null,null,null,null,{"$f":"IF(D1425=\"\",0,IF(D1425=D1424,COUNTIF(D$9:D1424,D1425)+1,1))","v":0},0,0]
["1418","-1900","-1900-0",null,null,null,null,null,null,null,"",null,null,null,null,null,null,null,null,{"$f":"IF(G$2034=1,\"\",IF(S1426=\"\",\"\",VLOOKUP(S1426,Tabelle!$I$5:$M$7,5,FALSE)))","v":""},{"$f":"IF(G$2034=1,\"\",IF(S1426=\"\",\"\",VLOOKUP(S1426,Tabelle!$I$5:$N$7,6,FALSE)))","v":""},null,null,null,null,null,null,null,null,null,{"$f":"IF(D1426=\"\",0,IF(D1426=D1425,COUNTIF(D$9:D1425,D1426)+1,1))","v":0},0,0]
["1419","-1900","-1900-0",null,null,null,null,null,null,null,"",null,null,null,null,null,null,null,null,{"$f":"IF(G$2034=1,\"\",IF(S1427=\"\",\"\",VLOOKUP(S1427,Tabelle!$I$5:$M$7,5,FALSE)))","v":""},{"$f":"IF(G$2034=1,\"\",IF(S1427=\"\",\"\",VLOOKUP(S1427,Tabelle!$I$5:$N$7,6,FALSE)))","v":""},null,null,null,null,null,null,null,null,null,{"$f":"IF(D1427=\"\",0,IF(D1427=D1426,COUNTIF(D$9:D1426,D1427)+1,1))","v":0},0,0]
["1420","-1900","-1900-0",null,null,null,null,null,null,null,"",null,null,null,null,null,null,null,null,{"$f":"IF(G$2034=1,\"\",IF(S1428=\"\",\"\",VLOOKUP(S1428,Tabelle!$I$5:$M$7,5,FALSE)))","v":""},{"$f":"IF(G$2034=1,\"\",IF(S1428=\"\",\"\",VLOOKUP(S1428,Tabelle!$I$5:$N$7,6,FALSE)))","v":""},null,null,null,null,null,null,null,null,null,{"$f":"IF(D1428=\"\",0,IF(D1428=D1427,COUNTIF(D$9:D1427,D1428)+1,1))","v":0},0,0]
["1421","-1900","-1900-0",null,null,null,null,null,null,null,"",null,null,null,null,null,null,null,null,{"$f":"IF(G$2034=1,\"\",IF(S1429=\"\",\"\",VLOOKUP(S1429,Tabelle!$I$5:$M$7,5,FALSE)))","v":""},{"$f":"IF(G$2034=1,\"\",IF(S1429=\"\",\"\",VLOOKUP(S1429,Tabelle!$I$5:$N$7,6,FALSE)))","v":""},null,null,null,null,null,null,null,null,null,{"$f":"IF(D1429=\"\",0,IF(D1429=D1428,COUNTIF(D$9:D1428,D1429)+1,1))","v":0},0,0]
["1422","-1900","-1900-0",null,null,null,null,null,null,null,"",null,null,null,null,null,null,null,null,{"$f":"IF(G$2034=1,\"\",IF(S1430=\"\",\"\",VLOOKUP(S1430,Tabelle!$I$5:$M$7,5,FALSE)))","v":""},{"$f":"IF(G$2034=1,\"\",IF(S1430=\"\",\"\",VLOOKUP(S1430,Tabelle!$I$5:$N$7,6,FALSE)))","v":""},null,null,null,null,null,null,null,null,null,{"$f":"IF(D1430=\"\",0,IF(D1430=D1429,COUNTIF(D$9:D1429,D1430)+1,1))","v":0},0,0]
["1423","-1900","-1900-0",null,null,null,null,null,null,null,"",null,null,null,null,null,null,null,null,{"$f":"IF(G$2034=1,\"\",IF(S1431=\"\",\"\",VLOOKUP(S1431,Tabelle!$I$5:$M$7,5,FALSE)))","v":""},{"$f":"IF(G$2034=1,\"\",IF(S1431=\"\",\"\",VLOOKUP(S1431,Tabelle!$I$5:$N$7,6,FALSE)))","v":""},null,null,null,null,null,null,null,null,null,{"$f":"IF(D1431=\"\",0,IF(D1431=D1430,COUNTIF(D$9:D1430,D1431)+1,1))","v":0},0,0]
["1424","-1900","-1900-0",null,null,null,null,null,null,null,"",null,null,null,null,null,null,null,null,{"$f":"IF(G$2034=1,\"\",IF(S1432=\"\",\"\",VLOOKUP(S1432,Tabelle!$I$5:$M$7,5,FALSE)))","v":""},{"$f":"IF(G$2034=1,\"\",IF(S1432=\"\",\"\",VLOOKUP(S1432,Tabelle!$I$5:$N$7,6,FALSE)))","v":""},null,null,null,null,null,null,null,null,null,{"$f":"IF(D1432=\"\",0,IF(D1432=D1431,COUNTIF(D$9:D1431,D1432)+1,1))","v":0},0,0]
["1425","-1900","-1900-0",null,null,null,null,null,null,null,"",null,null,null,null,null,null,null,null,{"$f":"IF(G$2034=1,\"\",IF(S1433=\"\",\"\",VLOOKUP(S1433,Tabelle!$I$5:$M$7,5,FALSE)))","v":""},{"$f":"IF(G$2034=1,\"\",IF(S1433=\"\",\"\",VLOOKUP(S1433,Tabelle!$I$5:$N$7,6,FALSE)))","v":""},null,null,null,null,null,null,null,null,null,{"$f":"IF(D1433=\"\",0,IF(D1433=D1432,COUNTIF(D$9:D1432,D1433)+1,1))","v":0},0,0]
["1426","-1900","-1900-0",null,null,null,null,null,null,null,"",null,null,null,null,null,null,null,null,{"$f":"IF(G$2034=1,\"\",IF(S1434=\"\",\"\",VLOOKUP(S1434,Tabelle!$I$5:$M$7,5,FALSE)))","v":""},{"$f":"IF(G$2034=1,\"\",IF(S1434=\"\",\"\",VLOOKUP(S1434,Tabelle!$I$5:$N$7,6,FALSE)))","v":""},null,null,null,null,null,null,null,null,null,{"$f":"IF(D1434=\"\",0,IF(D1434=D1433,COUNTIF(D$9:D1433,D1434)+1,1))","v":0},0,0]
["1427","-1900","-1900-0",null,null,null,null,null,null,null,"",null,null,null,null,null,null,null,null,{"$f":"IF(G$2034=1,\"\",IF(S1435=\"\",\"\",VLOOKUP(S1435,Tabelle!$I$5:$M$7,5,FALSE)))","v":""},{"$f":"IF(G$2034=1,\"\",IF(S1435=\"\",\"\",VLOOKUP(S1435,Tabelle!$I$5:$N$7,6,FALSE)))","v":""},null,null,null,null,null,null,null,null,null,{"$f":"IF(D1435=\"\",0,IF(D1435=D1434,COUNTIF(D$9:D1434,D1435)+1,1))","v":0},0,0]
["1428","-1900","-1900-0",null,null,null,null,null,null,null,"",null,null,null,null,null,null,null,null,{"$f":"IF(G$2034=1,\"\",IF(S1436=\"\",\"\",VLOOKUP(S1436,Tabelle!$I$5:$M$7,5,FALSE)))","v":""},{"$f":"IF(G$2034=1,\"\",IF(S1436=\"\",\"\",VLOOKUP(S1436,Tabelle!$I$5:$N$7,6,FALSE)))","v":""},null,null,null,null,null,null,null,null,null,{"$f":"IF(D1436=\"\",0,IF(D1436=D1435,COUNTIF(D$9:D1435,D1436)+1,1))","v":0},0,0]
["1429","-1900","-1900-0",null,null,null,null,null,null,null,"",null,null,null,null,null,null,null,null,{"$f":"IF(G$2034=1,\"\",IF(S1437=\"\",\"\",VLOOKUP(S1437,Tabelle!$I$5:$M$7,5,FALSE)))","v":""},{"$f":"IF(G$2034=1,\"\",IF(S1437=\"\",\"\",VLOOKUP(S1437,Tabelle!$I$5:$N$7,6,FALSE)))","v":""},null,null,null,null,null,null,null,null,null,{"$f":"IF(D1437=\"\",0,IF(D1437=D1436,COUNTIF(D$9:D1436,D1437)+1,1))","v":0},0,0]
["1430","-1900","-1900-0",null,null,null,null,null,null,null,"",null,null,null,null,null,null,null,null,{"$f":"IF(G$2034=1,\"\",IF(S1438=\"\",\"\",VLOOKUP(S1438,Tabelle!$I$5:$M$7,5,FALSE)))","v":""},{"$f":"IF(G$2034=1,\"\",IF(S1438=\"\",\"\",VLOOKUP(S1438,Tabelle!$I$5:$N$7,6,FALSE)))","v":""},null,null,null,null,null,null,null,null,null,{"$f":"IF(D1438=\"\",0,IF(D1438=D1437,COUNTIF(D$9:D1437,D1438)+1,1))","v":0},0,0]
["1431","-1900","-1900-0",null,null,null,null,null,null,null,"",null,null,null,null,null,null,null,null,{"$f":"IF(G$2034=1,\"\",IF(S1439=\"\",\"\",VLOOKUP(S1439,Tabelle!$I$5:$M$7,5,FALSE)))","v":""},{"$f":"IF(G$2034=1,\"\",IF(S1439=\"\",\"\",VLOOKUP(S1439,Tabelle!$I$5:$N$7,6,FALSE)))","v":""},null,null,null,null,null,null,null,null,null,{"$f":"IF(D1439=\"\",0,IF(D1439=D1438,COUNTIF(D$9:D1438,D1439)+1,1))","v":0},0,0]
["1432","-1900","-1900-0",null,null,null,null,null,null,null,"",null,null,null,null,null,null,null,null,{"$f":"IF(G$2034=1,\"\",IF(S1440=\"\",\"\",VLOOKUP(S1440,Tabelle!$I$5:$M$7,5,FALSE)))","v":""},{"$f":"IF(G$2034=1,\"\",IF(S1440=\"\",\"\",VLOOKUP(S1440,Tabelle!$I$5:$N$7,6,FALSE)))","v":""},null,null,null,null,null,null,null,null,null,{"$f":"IF(D1440=\"\",0,IF(D1440=D1439,COUNTIF(D$9:D1439,D1440)+1,1))","v":0},0,0]
["1433","-1900","-1900-0",null,null,null,null,null,null,null,"",null,null,null,null,null,null,null,null,{"$f":"IF(G$2034=1,\"\",IF(S1441=\"\",\"\",VLOOKUP(S1441,Tabelle!$I$5:$M$7,5,FALSE)))","v":""},{"$f":"IF(G$2034=1,\"\",IF(S1441=\"\",\"\",VLOOKUP(S1441,Tabelle!$I$5:$N$7,6,FALSE)))","v":""},null,null,null,null,null,null,null,null,null,{"$f":"IF(D1441=\"\",0,IF(D1441=D1440,COUNTIF(D$9:D1440,D1441)+1,1))","v":0},0,0]
["1434","-1900","-1900-0",null,null,null,null,null,null,null,"",null,null,null,null,null,null,null,null,{"$f":"IF(G$2034=1,\"\",IF(S1442=\"\",\"\",VLOOKUP(S1442,Tabelle!$I$5:$M$7,5,FALSE)))","v":""},{"$f":"IF(G$2034=1,\"\",IF(S1442=\"\",\"\",VLOOKUP(S1442,Tabelle!$I$5:$N$7,6,FALSE)))","v":""},null,null,null,null,null,null,null,null,null,{"$f":"IF(D1442=\"\",0,IF(D1442=D1441,COUNTIF(D$9:D1441,D1442)+1,1))","v":0},0,0]
["1435","-1900","-1900-0",null,null,null,null,null,null,null,"",null,null,null,null,null,null,null,null,{"$f":"IF(G$2034=1,\"\",IF(S1443=\"\",\"\",VLOOKUP(S1443,Tabelle!$I$5:$M$7,5,FALSE)))","v":""},{"$f":"IF(G$2034=1,\"\",IF(S1443=\"\",\"\",VLOOKUP(S1443,Tabelle!$I$5:$N$7,6,FALSE)))","v":""},null,null,null,null,null,null,null,null,null,{"$f":"IF(D1443=\"\",0,IF(D1443=D1442,COUNTIF(D$9:D1442,D1443)+1,1))","v":0},0,0]
["1436","-1900","-1900-0",null,null,null,null,null,null,null,"",null,null,null,null,null,null,null,null,{"$f":"IF(G$2034=1,\"\",IF(S1444=\"\",\"\",VLOOKUP(S1444,Tabelle!$I$5:$M$7,5,FALSE)))","v":""},{"$f":"IF(G$2034=1,\"\",IF(S1444=\"\",\"\",VLOOKUP(S1444,Tabelle!$I$5:$N$7,6,FALSE)))","v":""},null,null,null,null,null,null,null,null,null,{"$f":"IF(D1444=\"\",0,IF(D1444=D1443,COUNTIF(D$9:D1443,D1444)+1,1))","v":0},0,0]
["1437","-1900","-1900-0",null,null,null,null,null,null,null,"",null,null,null,null,null,null,null,null,{"$f":"IF(G$2034=1,\"\",IF(S1445=\"\",\"\",VLOOKUP(S1445,Tabelle!$I$5:$M$7,5,FALSE)))","v":""},{"$f":"IF(G$2034=1,\"\",IF(S1445=\"\",\"\",VLOOKUP(S1445,Tabelle!$I$5:$N$7,6,FALSE)))","v":""},null,null,null,null,null,null,null,null,null,{"$f":"IF(D1445=\"\",0,IF(D1445=D1444,COUNTIF(D$9:D1444,D1445)+1,1))","v":0},0,0]
["1438","-1900","-1900-0",null,null,null,null,null,null,null,"",null,null,null,null,null,null,null,null,{"$f":"IF(G$2034=1,\"\",IF(S1446=\"\",\"\",VLOOKUP(S1446,Tabelle!$I$5:$M$7,5,FALSE)))","v":""},{"$f":"IF(G$2034=1,\"\",IF(S1446=\"\",\"\",VLOOKUP(S1446,Tabelle!$I$5:$N$7,6,FALSE)))","v":""},null,null,null,null,null,null,null,null,null,{"$f":"IF(D1446=\"\",0,IF(D1446=D1445,COUNTIF(D$9:D1445,D1446)+1,1))","v":0},0,0]
["1439","-1900","-1900-0",null,null,null,null,null,null,null,"",null,null,null,null,null,null,null,null,{"$f":"IF(G$2034=1,\"\",IF(S1447=\"\",\"\",VLOOKUP(S1447,Tabelle!$I$5:$M$7,5,FALSE)))","v":""},{"$f":"IF(G$2034=1,\"\",IF(S1447=\"\",\"\",VLOOKUP(S1447,Tabelle!$I$5:$N$7,6,FALSE)))","v":""},null,null,null,null,null,null,null,null,null,{"$f":"IF(D1447=\"\",0,IF(D1447=D1446,COUNTIF(D$9:D1446,D1447)+1,1))","v":0},0,0]
["1440","-1900","-1900-0",null,null,null,null,null,null,null,"",null,null,null,null,null,null,null,null,{"$f":"IF(G$2034=1,\"\",IF(S1448=\"\",\"\",VLOOKUP(S1448,Tabelle!$I$5:$M$7,5,FALSE)))","v":""},{"$f":"IF(G$2034=1,\"\",IF(S1448=\"\",\"\",VLOOKUP(S1448,Tabelle!$I$5:$N$7,6,FALSE)))","v":""},null,null,null,null,null,null,null,null,null,{"$f":"IF(D1448=\"\",0,IF(D1448=D1447,COUNTIF(D$9:D1447,D1448)+1,1))","v":0},0,0]
["1441","-1900","-1900-0",null,null,null,null,null,null,null,"",null,null,null,null,null,null,null,null,{"$f":"IF(G$2034=1,\"\",IF(S1449=\"\",\"\",VLOOKUP(S1449,Tabelle!$I$5:$M$7,5,FALSE)))","v":""},{"$f":"IF(G$2034=1,\"\",IF(S1449=\"\",\"\",VLOOKUP(S1449,Tabelle!$I$5:$N$7,6,FALSE)))","v":""},null,null,null,null,null,null,null,null,null,{"$f":"IF(D1449=\"\",0,IF(D1449=D1448,COUNTIF(D$9:D1448,D1449)+1,1))","v":0},0,0]
["1442","-1900","-1900-0",null,null,null,null,null,null,null,"",null,null,null,null,null,null,null,null,{"$f":"IF(G$2034=1,\"\",IF(S1450=\"\",\"\",VLOOKUP(S1450,Tabelle!$I$5:$M$7,5,FALSE)))","v":""},{"$f":"IF(G$2034=1,\"\",IF(S1450=\"\",\"\",VLOOKUP(S1450,Tabelle!$I$5:$N$7,6,FALSE)))","v":""},null,null,null,null,null,null,null,null,null,{"$f":"IF(D1450=\"\",0,IF(D1450=D1449,COUNTIF(D$9:D1449,D1450)+1,1))","v":0},0,0]
["1443","-1900","-1900-0",null,null,null,null,null,null,null,"",null,null,null,null,null,null,null,null,{"$f":"IF(G$2034=1,\"\",IF(S1451=\"\",\"\",VLOOKUP(S1451,Tabelle!$I$5:$M$7,5,FALSE)))","v":""},{"$f":"IF(G$2034=1,\"\",IF(S1451=\"\",\"\",VLOOKUP(S1451,Tabelle!$I$5:$N$7,6,FALSE)))","v":""},null,null,null,null,null,null,null,null,null,{"$f":"IF(D1451=\"\",0,IF(D1451=D1450,COUNTIF(D$9:D1450,D1451)+1,1))","v":0},0,0]
["1444","-1900","-1900-0",null,null,null,null,null,null,null,"",null,null,null,null,null,null,null,null,{"$f":"IF(G$2034=1,\"\",IF(S1452=\"\",\"\",VLOOKUP(S1452,Tabelle!$I$5:$M$7,5,FALSE)))","v":""},{"$f":"IF(G$2034=1,\"\",IF(S1452=\"\",\"\",VLOOKUP(S1452,Tabelle!$I$5:$N$7,6,FALSE)))","v":""},null,null,null,null,null,null,null,null,null,{"$f":"IF(D1452=\"\",0,IF(D1452=D1451,COUNTIF(D$9:D1451,D1452)+1,1))","v":0},0,0]
["1445","-1900","-1900-0",null,null,null,null,null,null,null,"",null,null,null,null,null,null,null,null,{"$f":"IF(G$2034=1,\"\",IF(S1453=\"\",\"\",VLOOKUP(S1453,Tabelle!$I$5:$M$7,5,FALSE)))","v":""},{"$f":"IF(G$2034=1,\"\",IF(S1453=\"\",\"\",VLOOKUP(S1453,Tabelle!$I$5:$N$7,6,FALSE)))","v":""},null,null,null,null,null,null,null,null,null,{"$f":"IF(D1453=\"\",0,IF(D1453=D1452,COUNTIF(D$9:D1452,D1453)+1,1))","v":0},0,0]
["1446","-1900","-1900-0",null,null,null,null,null,null,null,"",null,null,null,null,null,null,null,null,{"$f":"IF(G$2034=1,\"\",IF(S1454=\"\",\"\",VLOOKUP(S1454,Tabelle!$I$5:$M$7,5,FALSE)))","v":""},{"$f":"IF(G$2034=1,\"\",IF(S1454=\"\",\"\",VLOOKUP(S1454,Tabelle!$I$5:$N$7,6,FALSE)))","v":""},null,null,null,null,null,null,null,null,null,{"$f":"IF(D1454=\"\",0,IF(D1454=D1453,COUNTIF(D$9:D1453,D1454)+1,1))","v":0},0,0]
["1447","-1900","-1900-0",null,null,null,null,null,null,null,"",null,null,null,null,null,null,null,null,{"$f":"IF(G$2034=1,\"\",IF(S1455=\"\",\"\",VLOOKUP(S1455,Tabelle!$I$5:$M$7,5,FALSE)))","v":""},{"$f":"IF(G$2034=1,\"\",IF(S1455=\"\",\"\",VLOOKUP(S1455,Tabelle!$I$5:$N$7,6,FALSE)))","v":""},null,null,null,null,null,null,null,null,null,{"$f":"IF(D1455=\"\",0,IF(D1455=D1454,COUNTIF(D$9:D1454,D1455)+1,1))","v":0},0,0]
["1448","-1900","-1900-0",null,null,null,null,null,null,null,"",null,null,null,null,null,null,null,null,{"$f":"IF(G$2034=1,\"\",IF(S1456=\"\",\"\",VLOOKUP(S1456,Tabelle!$I$5:$M$7,5,FALSE)))","v":""},{"$f":"IF(G$2034=1,\"\",IF(S1456=\"\",\"\",VLOOKUP(S1456,Tabelle!$I$5:$N$7,6,FALSE)))","v":""},null,null,null,null,null,null,null,null,null,{"$f":"IF(D1456=\"\",0,IF(D1456=D1455,COUNTIF(D$9:D1455,D1456)+1,1))","v":0},0,0]
["1449","-1900","-1900-0",null,null,null,null,null,null,null,"",null,null,null,null,null,null,null,null,{"$f":"IF(G$2034=1,\"\",IF(S1457=\"\",\"\",VLOOKUP(S1457,Tabelle!$I$5:$M$7,5,FALSE)))","v":""},{"$f":"IF(G$2034=1,\"\",IF(S1457=\"\",\"\",VLOOKUP(S1457,Tabelle!$I$5:$N$7,6,FALSE)))","v":""},null,null,null,null,null,null,null,null,null,{"$f":"IF(D1457=\"\",0,IF(D1457=D1456,COUNTIF(D$9:D1456,D1457)+1,1))","v":0},0,0]
["1450","-1900","-1900-0",null,null,null,null,null,null,null,"",null,null,null,null,null,null,null,null,{"$f":"IF(G$2034=1,\"\",IF(S1458=\"\",\"\",VLOOKUP(S1458,Tabelle!$I$5:$M$7,5,FALSE)))","v":""},{"$f":"IF(G$2034=1,\"\",IF(S1458=\"\",\"\",VLOOKUP(S1458,Tabelle!$I$5:$N$7,6,FALSE)))","v":""},null,null,null,null,null,null,null,null,null,{"$f":"IF(D1458=\"\",0,IF(D1458=D1457,COUNTIF(D$9:D1457,D1458)+1,1))","v":0},0,0]
["1451","-1900","-1900-0",null,null,null,null,null,null,null,"",null,null,null,null,null,null,null,null,{"$f":"IF(G$2034=1,\"\",IF(S1459=\"\",\"\",VLOOKUP(S1459,Tabelle!$I$5:$M$7,5,FALSE)))","v":""},{"$f":"IF(G$2034=1,\"\",IF(S1459=\"\",\"\",VLOOKUP(S1459,Tabelle!$I$5:$N$7,6,FALSE)))","v":""},null,null,null,null,null,null,null,null,null,{"$f":"IF(D1459=\"\",0,IF(D1459=D1458,COUNTIF(D$9:D1458,D1459)+1,1))","v":0},0,0]
["1452","-1900","-1900-0",null,null,null,null,null,null,null,"",null,null,null,null,null,null,null,null,{"$f":"IF(G$2034=1,\"\",IF(S1460=\"\",\"\",VLOOKUP(S1460,Tabelle!$I$5:$M$7,5,FALSE)))","v":""},{"$f":"IF(G$2034=1,\"\",IF(S1460=\"\",\"\",VLOOKUP(S1460,Tabelle!$I$5:$N$7,6,FALSE)))","v":""},null,null,null,null,null,null,null,null,null,{"$f":"IF(D1460=\"\",0,IF(D1460=D1459,COUNTIF(D$9:D1459,D1460)+1,1))","v":0},0,0]
["1453","-1900","-1900-0",null,null,null,null,null,null,null,"",null,null,null,null,null,null,null,null,{"$f":"IF(G$2034=1,\"\",IF(S1461=\"\",\"\",VLOOKUP(S1461,Tabelle!$I$5:$M$7,5,FALSE)))","v":""},{"$f":"IF(G$2034=1,\"\",IF(S1461=\"\",\"\",VLOOKUP(S1461,Tabelle!$I$5:$N$7,6,FALSE)))","v":""},null,null,null,null,null,null,null,null,null,{"$f":"IF(D1461=\"\",0,IF(D1461=D1460,COUNTIF(D$9:D1460,D1461)+1,1))","v":0},0,0]
["1454","-1900","-1900-0",null,null,null,null,null,null,null,"",null,null,null,null,null,null,null,null,{"$f":"IF(G$2034=1,\"\",IF(S1462=\"\",\"\",VLOOKUP(S1462,Tabelle!$I$5:$M$7,5,FALSE)))","v":""},{"$f":"IF(G$2034=1,\"\",IF(S1462=\"\",\"\",VLOOKUP(S1462,Tabelle!$I$5:$N$7,6,FALSE)))","v":""},null,null,null,null,null,null,null,null,null,{"$f":"IF(D1462=\"\",0,IF(D1462=D1461,COUNTIF(D$9:D1461,D1462)+1,1))","v":0},0,0]
["1455","-1900","-1900-0",null,null,null,null,null,null,null,"",null,null,null,null,null,null,null,null,{"$f":"IF(G$2034=1,\"\",IF(S1463=\"\",\"\",VLOOKUP(S1463,Tabelle!$I$5:$M$7,5,FALSE)))","v":""},{"$f":"IF(G$2034=1,\"\",IF(S1463=\"\",\"\",VLOOKUP(S1463,Tabelle!$I$5:$N$7,6,FALSE)))","v":""},null,null,null,null,null,null,null,null,null,{"$f":"IF(D1463=\"\",0,IF(D1463=D1462,COUNTIF(D$9:D1462,D1463)+1,1))","v":0},0,0]
["1456","-1900","-1900-0",null,null,null,null,null,null,null,"",null,null,null,null,null,null,null,null,{"$f":"IF(G$2034=1,\"\",IF(S1464=\"\",\"\",VLOOKUP(S1464,Tabelle!$I$5:$M$7,5,FALSE)))","v":""},{"$f":"IF(G$2034=1,\"\",IF(S1464=\"\",\"\",VLOOKUP(S1464,Tabelle!$I$5:$N$7,6,FALSE)))","v":""},null,null,null,null,null,null,null,null,null,{"$f":"IF(D1464=\"\",0,IF(D1464=D1463,COUNTIF(D$9:D1463,D1464)+1,1))","v":0},0,0]
["1457","-1900","-1900-0",null,null,null,null,null,null,null,"",null,null,null,null,null,null,null,null,{"$f":"IF(G$2034=1,\"\",IF(S1465=\"\",\"\",VLOOKUP(S1465,Tabelle!$I$5:$M$7,5,FALSE)))","v":""},{"$f":"IF(G$2034=1,\"\",IF(S1465=\"\",\"\",VLOOKUP(S1465,Tabelle!$I$5:$N$7,6,FALSE)))","v":""},null,null,null,null,null,null,null,null,null,{"$f":"IF(D1465=\"\",0,IF(D1465=D1464,COUNTIF(D$9:D1464,D1465)+1,1))","v":0},0,0]
["1458","-1900","-1900-0",null,null,null,null,null,null,null,"",null,null,null,null,null,null,null,null,{"$f":"IF(G$2034=1,\"\",IF(S1466=\"\",\"\",VLOOKUP(S1466,Tabelle!$I$5:$M$7,5,FALSE)))","v":""},{"$f":"IF(G$2034=1,\"\",IF(S1466=\"\",\"\",VLOOKUP(S1466,Tabelle!$I$5:$N$7,6,FALSE)))","v":""},null,null,null,null,null,null,null,null,null,{"$f":"IF(D1466=\"\",0,IF(D1466=D1465,COUNTIF(D$9:D1465,D1466)+1,1))","v":0},0,0]
["1459","-1900","-1900-0",null,null,null,null,null,null,null,"",null,null,null,null,null,null,null,null,{"$f":"IF(G$2034=1,\"\",IF(S1467=\"\",\"\",VLOOKUP(S1467,Tabelle!$I$5:$M$7,5,FALSE)))","v":""},{"$f":"IF(G$2034=1,\"\",IF(S1467=\"\",\"\",VLOOKUP(S1467,Tabelle!$I$5:$N$7,6,FALSE)))","v":""},null,null,null,null,null,null,null,null,null,{"$f":"IF(D1467=\"\",0,IF(D1467=D1466,COUNTIF(D$9:D1466,D1467)+1,1))","v":0},0,0]
["1460","-1900","-1900-0",null,null,null,null,null,null,null,"",null,null,null,null,null,null,null,null,{"$f":"IF(G$2034=1,\"\",IF(S1468=\"\",\"\",VLOOKUP(S1468,Tabelle!$I$5:$M$7,5,FALSE)))","v":""},{"$f":"IF(G$2034=1,\"\",IF(S1468=\"\",\"\",VLOOKUP(S1468,Tabelle!$I$5:$N$7,6,FALSE)))","v":""},null,null,null,null,null,null,null,null,null,{"$f":"IF(D1468=\"\",0,IF(D1468=D1467,COUNTIF(D$9:D1467,D1468)+1,1))","v":0},0,0]
["1461","-1900","-1900-0",null,null,null,null,null,null,null,"",null,null,null,null,null,null,null,null,{"$f":"IF(G$2034=1,\"\",IF(S1469=\"\",\"\",VLOOKUP(S1469,Tabelle!$I$5:$M$7,5,FALSE)))","v":""},{"$f":"IF(G$2034=1,\"\",IF(S1469=\"\",\"\",VLOOKUP(S1469,Tabelle!$I$5:$N$7,6,FALSE)))","v":""},null,null,null,null,null,null,null,null,null,{"$f":"IF(D1469=\"\",0,IF(D1469=D1468,COUNTIF(D$9:D1468,D1469)+1,1))","v":0},0,0]
["1462","-1900","-1900-0",null,null,null,null,null,null,null,"",null,null,null,null,null,null,null,null,{"$f":"IF(G$2034=1,\"\",IF(S1470=\"\",\"\",VLOOKUP(S1470,Tabelle!$I$5:$M$7,5,FALSE)))","v":""},{"$f":"IF(G$2034=1,\"\",IF(S1470=\"\",\"\",VLOOKUP(S1470,Tabelle!$I$5:$N$7,6,FALSE)))","v":""},null,null,null,null,null,null,null,null,null,{"$f":"IF(D1470=\"\",0,IF(D1470=D1469,COUNTIF(D$9:D1469,D1470)+1,1))","v":0},0,0]
["1463","-1900","-1900-0",null,null,null,null,null,null,null,"",null,null,null,null,null,null,null,null,{"$f":"IF(G$2034=1,\"\",IF(S1471=\"\",\"\",VLOOKUP(S1471,Tabelle!$I$5:$M$7,5,FALSE)))","v":""},{"$f":"IF(G$2034=1,\"\",IF(S1471=\"\",\"\",VLOOKUP(S1471,Tabelle!$I$5:$N$7,6,FALSE)))","v":""},null,null,null,null,null,null,null,null,null,{"$f":"IF(D1471=\"\",0,IF(D1471=D1470,COUNTIF(D$9:D1470,D1471)+1,1))","v":0},0,0]
["1464","-1900","-1900-0",null,null,null,null,null,null,null,"",null,null,null,null,null,null,null,null,{"$f":"IF(G$2034=1,\"\",IF(S1472=\"\",\"\",VLOOKUP(S1472,Tabelle!$I$5:$M$7,5,FALSE)))","v":""},{"$f":"IF(G$2034=1,\"\",IF(S1472=\"\",\"\",VLOOKUP(S1472,Tabelle!$I$5:$N$7,6,FALSE)))","v":""},null,null,null,null,null,null,null,null,null,{"$f":"IF(D1472=\"\",0,IF(D1472=D1471,COUNTIF(D$9:D1471,D1472)+1,1))","v":0},0,0]
["1465","-1900","-1900-0",null,null,null,null,null,null,null,"",null,null,null,null,null,null,null,null,{"$f":"IF(G$2034=1,\"\",IF(S1473=\"\",\"\",VLOOKUP(S1473,Tabelle!$I$5:$M$7,5,FALSE)))","v":""},{"$f":"IF(G$2034=1,\"\",IF(S1473=\"\",\"\",VLOOKUP(S1473,Tabelle!$I$5:$N$7,6,FALSE)))","v":""},null,null,null,null,null,null,null,null,null,{"$f":"IF(D1473=\"\",0,IF(D1473=D1472,COUNTIF(D$9:D1472,D1473)+1,1))","v":0},0,0]
["1466","-1900","-1900-0",null,null,null,null,null,null,null,"",null,null,null,null,null,null,null,null,{"$f":"IF(G$2034=1,\"\",IF(S1474=\"\",\"\",VLOOKUP(S1474,Tabelle!$I$5:$M$7,5,FALSE)))","v":""},{"$f":"IF(G$2034=1,\"\",IF(S1474=\"\",\"\",VLOOKUP(S1474,Tabelle!$I$5:$N$7,6,FALSE)))","v":""},null,null,null,null,null,null,null,null,null,{"$f":"IF(D1474=\"\",0,IF(D1474=D1473,COUNTIF(D$9:D1473,D1474)+1,1))","v":0},0,0]
["1467","-1900","-1900-0",null,null,null,null,null,null,null,"",null,null,null,null,null,null,null,null,{"$f":"IF(G$2034=1,\"\",IF(S1475=\"\",\"\",VLOOKUP(S1475,Tabelle!$I$5:$M$7,5,FALSE)))","v":""},{"$f":"IF(G$2034=1,\"\",IF(S1475=\"\",\"\",VLOOKUP(S1475,Tabelle!$I$5:$N$7,6,FALSE)))","v":""},null,null,null,null,null,null,null,null,null,{"$f":"IF(D1475=\"\",0,IF(D1475=D1474,COUNTIF(D$9:D1474,D1475)+1,1))","v":0},0,0]
["1468","-1900","-1900-0",null,null,null,null,null,null,null,"",null,null,null,null,null,null,null,null,{"$f":"IF(G$2034=1,\"\",IF(S1476=\"\",\"\",VLOOKUP(S1476,Tabelle!$I$5:$M$7,5,FALSE)))","v":""},{"$f":"IF(G$2034=1,\"\",IF(S1476=\"\",\"\",VLOOKUP(S1476,Tabelle!$I$5:$N$7,6,FALSE)))","v":""},null,null,null,null,null,null,null,null,null,{"$f":"IF(D1476=\"\",0,IF(D1476=D1475,COUNTIF(D$9:D1475,D1476)+1,1))","v":0},0,0]
["1469","-1900","-1900-0",null,null,null,null,null,null,null,"",null,null,null,null,null,null,null,null,{"$f":"IF(G$2034=1,\"\",IF(S1477=\"\",\"\",VLOOKUP(S1477,Tabelle!$I$5:$M$7,5,FALSE)))","v":""},{"$f":"IF(G$2034=1,\"\",IF(S1477=\"\",\"\",VLOOKUP(S1477,Tabelle!$I$5:$N$7,6,FALSE)))","v":""},null,null,null,null,null,null,null,null,null,{"$f":"IF(D1477=\"\",0,IF(D1477=D1476,COUNTIF(D$9:D1476,D1477)+1,1))","v":0},0,0]
["1470","-1900","-1900-0",null,null,null,null,null,null,null,"",null,null,null,null,null,null,null,null,{"$f":"IF(G$2034=1,\"\",IF(S1478=\"\",\"\",VLOOKUP(S1478,Tabelle!$I$5:$M$7,5,FALSE)))","v":""},{"$f":"IF(G$2034=1,\"\",IF(S1478=\"\",\"\",VLOOKUP(S1478,Tabelle!$I$5:$N$7,6,FALSE)))","v":""},null,null,null,null,null,null,null,null,null,{"$f":"IF(D1478=\"\",0,IF(D1478=D1477,COUNTIF(D$9:D1477,D1478)+1,1))","v":0},0,0]
["1471","-1900","-1900-0",null,null,null,null,null,null,null,"",null,null,null,null,null,null,null,null,{"$f":"IF(G$2034=1,\"\",IF(S1479=\"\",\"\",VLOOKUP(S1479,Tabelle!$I$5:$M$7,5,FALSE)))","v":""},{"$f":"IF(G$2034=1,\"\",IF(S1479=\"\",\"\",VLOOKUP(S1479,Tabelle!$I$5:$N$7,6,FALSE)))","v":""},null,null,null,null,null,null,null,null,null,{"$f":"IF(D1479=\"\",0,IF(D1479=D1478,COUNTIF(D$9:D1478,D1479)+1,1))","v":0},0,0]
["1472","-1900","-1900-0",null,null,null,null,null,null,null,"",null,null,null,null,null,null,null,null,{"$f":"IF(G$2034=1,\"\",IF(S1480=\"\",\"\",VLOOKUP(S1480,Tabelle!$I$5:$M$7,5,FALSE)))","v":""},{"$f":"IF(G$2034=1,\"\",IF(S1480=\"\",\"\",VLOOKUP(S1480,Tabelle!$I$5:$N$7,6,FALSE)))","v":""},null,null,null,null,null,null,null,null,null,{"$f":"IF(D1480=\"\",0,IF(D1480=D1479,COUNTIF(D$9:D1479,D1480)+1,1))","v":0},0,0]
["1473","-1900",{"$f":"IF(G$2034=1,0,B1481&\"-\"&AE1481)","v":"-1900-0"},null,null,null,null,null,null,null,{"$f":"IF(G$2034=1,0,IF(OR(J1481=\"\",ISERROR($O$2034)),\"\",VLOOKUP(J1481,$L$2019:$N$2027,2,FALSE)))","v":""},null,null,null,null,null,null,null,null,{"$f":"IF(G$2034=1,\"\",IF(S1481=\"\",\"\",VLOOKUP(S1481,Tabelle!$I$5:$M$7,5,FALSE)))","v":""},{"$f":"IF(G$2034=1,\"\",IF(S1481=\"\",\"\",VLOOKUP(S1481,Tabelle!$I$5:$N$7,6,FALSE)))","v":""},null,null,null,null,null,null,null,null,null,{"$f":"IF(D1481=\"\",0,IF(D1481=D1480,COUNTIF(D$9:D1480,D1481)+1,1))","v":0},0,0]
["1474",{"$f":"IF(AG1482=$AG$2013,0,IF(G$2034=1,0,D1482&\"-\"&YEAR(E1482)))","v":"-1900"},"-1900-0",null,null,null,null,null,null,null,"",null,null,null,null,null,null,null,null,{"$f":"IF(G$2034=1,\"\",IF(S1482=\"\",\"\",VLOOKUP(S1482,Tabelle!$I$5:$M$7,5,FALSE)))","v":""},{"$f":"IF(G$2034=1,\"\",IF(S1482=\"\",\"\",VLOOKUP(S1482,Tabelle!$I$5:$N$7,6,FALSE)))","v":""},null,null,null,null,null,null,null,null,null,{"$f":"IF(D1482=\"\",0,IF(D1482=D1481,COUNTIF(D$9:D1481,D1482)+1,1))","v":0},{"$f":"IF(G$2034=1,0,IF(AE1482=28,1,0))","v":0},{"$f":"IF(E1482>0,IF(OR(MONTH(E1482)<$G$2026,MONTH(E1482)>$G$2027),AG$2013,0),0)","v":0}]
["1475","-1900","-1900-0",null,null,null,null,null,null,null,"",null,null,null,null,null,null,null,null,{"$f":"IF(G$2034=1,\"\",IF(S1483=\"\",\"\",VLOOKUP(S1483,Tabelle!$I$5:$M$7,5,FALSE)))","v":""},{"$f":"IF(G$2034=1,\"\",IF(S1483=\"\",\"\",VLOOKUP(S1483,Tabelle!$I$5:$N$7,6,FALSE)))","v":""},null,null,null,null,null,null,null,null,null,{"$f":"IF(D1483=\"\",0,IF(D1483=D1482,COUNTIF(D$9:D1482,D1483)+1,1))","v":0},0,0]
["1476","-1900","-1900-0",null,null,null,null,null,null,null,"",null,null,null,null,null,null,null,null,{"$f":"IF(G$2034=1,\"\",IF(S1484=\"\",\"\",VLOOKUP(S1484,Tabelle!$I$5:$M$7,5,FALSE)))","v":""},{"$f":"IF(G$2034=1,\"\",IF(S1484=\"\",\"\",VLOOKUP(S1484,Tabelle!$I$5:$N$7,6,FALSE)))","v":""},null,null,null,null,null,null,null,null,null,{"$f":"IF(D1484=\"\",0,IF(D1484=D1483,COUNTIF(D$9:D1483,D1484)+1,1))","v":0},0,0]
["1477","-1900","-1900-0",null,null,null,null,null,null,null,"",null,null,null,null,null,null,null,null,{"$f":"IF(G$2034=1,\"\",IF(S1485=\"\",\"\",VLOOKUP(S1485,Tabelle!$I$5:$M$7,5,FALSE)))","v":""},{"$f":"IF(G$2034=1,\"\",IF(S1485=\"\",\"\",VLOOKUP(S1485,Tabelle!$I$5:$N$7,6,FALSE)))","v":""},null,null,null,null,null,null,null,null,null,{"$f":"IF(D1485=\"\",0,IF(D1485=D1484,COUNTIF(D$9:D1484,D1485)+1,1))","v":0},0,0]
["1478","-1900","-1900-0",null,null,null,null,null,null,null,"",null,null,null,null,null,null,null,null,{"$f":"IF(G$2034=1,\"\",IF(S1486=\"\",\"\",VLOOKUP(S1486,Tabelle!$I$5:$M$7,5,FALSE)))","v":""},{"$f":"IF(G$2034=1,\"\",IF(S1486=\"\",\"\",VLOOKUP(S1486,Tabelle!$I$5:$N$7,6,FALSE)))","v":""},null,null,null,null,null,null,null,null,null,{"$f":"IF(D1486=\"\",0,IF(D1486=D1485,COUNTIF(D$9:D1485,D1486)+1,1))","v":0},0,0]
["1479","-1900","-1900-0",null,null,null,null,null,null,null,"",null,null,null,null,null,null,null,null,{"$f":"IF(G$2034=1,\"\",IF(S1487=\"\",\"\",VLOOKUP(S1487,Tabelle!$I$5:$M$7,5,FALSE)))","v":""},{"$f":"IF(G$2034=1,\"\",IF(S1487=\"\",\"\",VLOOKUP(S1487,Tabelle!$I$5:$N$7,6,FALSE)))","v":""},null,null,null,null,null,null,null,null,null,{"$f":"IF(D1487=\"\",0,IF(D1487=D1486,COUNTIF(D$9:D1486,D1487)+1,1))","v":0},0,0]
["1480","-1900","-1900-0",null,null,null,null,null,null,null,"",null,null,null,null,null,null,null,null,{"$f":"IF(G$2034=1,\"\",IF(S1488=\"\",\"\",VLOOKUP(S1488,Tabelle!$I$5:$M$7,5,FALSE)))","v":""},{"$f":"IF(G$2034=1,\"\",IF(S1488=\"\",\"\",VLOOKUP(S1488,Tabelle!$I$5:$N$7,6,FALSE)))","v":""},null,null,null,null,null,null,null,null,null,{"$f":"IF(D1488=\"\",0,IF(D1488=D1487,COUNTIF(D$9:D1487,D1488)+1,1))","v":0},0,0]
["1481","-1900","-1900-0",null,null,null,null,null,null,null,"",null,null,null,null,null,null,null,null,{"$f":"IF(G$2034=1,\"\",IF(S1489=\"\",\"\",VLOOKUP(S1489,Tabelle!$I$5:$M$7,5,FALSE)))","v":""},{"$f":"IF(G$2034=1,\"\",IF(S1489=\"\",\"\",VLOOKUP(S1489,Tabelle!$I$5:$N$7,6,FALSE)))","v":""},null,null,null,null,null,null,null,null,null,{"$f":"IF(D1489=\"\",0,IF(D1489=D1488,COUNTIF(D$9:D1488,D1489)+1,1))","v":0},0,0]
["1482","-1900","-1900-0",null,null,null,null,null,null,null,"",null,null,null,null,null,null,null,null,{"$f":"IF(G$2034=1,\"\",IF(S1490=\"\",\"\",VLOOKUP(S1490,Tabelle!$I$5:$M$7,5,FALSE)))","v":""},{"$f":"IF(G$2034=1,\"\",IF(S1490=\"\",\"\",VLOOKUP(S1490,Tabelle!$I$5:$N$7,6,FALSE)))","v":""},null,null,null,null,null,null,null,null,null,{"$f":"IF(D1490=\"\",0,IF(D1490=D1489,COUNTIF(D$9:D1489,D1490)+1,1))","v":0},0,0]
["1483","-1900","-1900-0",null,null,null,null,null,null,null,"",null,null,null,null,null,null,null,null,{"$f":"IF(G$2034=1,\"\",IF(S1491=\"\",\"\",VLOOKUP(S1491,Tabelle!$I$5:$M$7,5,FALSE)))","v":""},{"$f":"IF(G$2034=1,\"\",IF(S1491=\"\",\"\",VLOOKUP(S1491,Tabelle!$I$5:$N$7,6,FALSE)))","v":""},null,null,null,null,null,null,null,null,null,{"$f":"IF(D1491=\"\",0,IF(D1491=D1490,COUNTIF(D$9:D1490,D1491)+1,1))","v":0},0,0]
["1484","-1900","-1900-0",null,null,null,null,null,null,null,"",null,null,null,null,null,null,null,null,{"$f":"IF(G$2034=1,\"\",IF(S1492=\"\",\"\",VLOOKUP(S1492,Tabelle!$I$5:$M$7,5,FALSE)))","v":""},{"$f":"IF(G$2034=1,\"\",IF(S1492=\"\",\"\",VLOOKUP(S1492,Tabelle!$I$5:$N$7,6,FALSE)))","v":""},null,null,null,null,null,null,null,null,null,{"$f":"IF(D1492=\"\",0,IF(D1492=D1491,COUNTIF(D$9:D1491,D1492)+1,1))","v":0},0,0]
["1485","-1900","-1900-0",null,null,null,null,null,null,null,"",null,null,null,null,null,null,null,null,{"$f":"IF(G$2034=1,\"\",IF(S1493=\"\",\"\",VLOOKUP(S1493,Tabelle!$I$5:$M$7,5,FALSE)))","v":""},{"$f":"IF(G$2034=1,\"\",IF(S1493=\"\",\"\",VLOOKUP(S1493,Tabelle!$I$5:$N$7,6,FALSE)))","v":""},null,null,null,null,null,null,null,null,null,{"$f":"IF(D1493=\"\",0,IF(D1493=D1492,COUNTIF(D$9:D1492,D1493)+1,1))","v":0},0,0]
["1486","-1900","-1900-0",null,null,null,null,null,null,null,"",null,null,null,null,null,null,null,null,{"$f":"IF(G$2034=1,\"\",IF(S1494=\"\",\"\",VLOOKUP(S1494,Tabelle!$I$5:$M$7,5,FALSE)))","v":""},{"$f":"IF(G$2034=1,\"\",IF(S1494=\"\",\"\",VLOOKUP(S1494,Tabelle!$I$5:$N$7,6,FALSE)))","v":""},null,null,null,null,null,null,null,null,null,{"$f":"IF(D1494=\"\",0,IF(D1494=D1493,COUNTIF(D$9:D1493,D1494)+1,1))","v":0},0,0]
["1487","-1900","-1900-0",null,null,null,null,null,null,null,"",null,null,null,null,null,null,null,null,{"$f":"IF(G$2034=1,\"\",IF(S1495=\"\",\"\",VLOOKUP(S1495,Tabelle!$I$5:$M$7,5,FALSE)))","v":""},{"$f":"IF(G$2034=1,\"\",IF(S1495=\"\",\"\",VLOOKUP(S1495,Tabelle!$I$5:$N$7,6,FALSE)))","v":""},null,null,null,null,null,null,null,null,null,{"$f":"IF(D1495=\"\",0,IF(D1495=D1494,COUNTIF(D$9:D1494,D1495)+1,1))","v":0},0,0]
["1488","-1900","-1900-0",null,null,null,null,null,null,null,"",null,null,null,null,null,null,null,null,{"$f":"IF(G$2034=1,\"\",IF(S1496=\"\",\"\",VLOOKUP(S1496,Tabelle!$I$5:$M$7,5,FALSE)))","v":""},{"$f":"IF(G$2034=1,\"\",IF(S1496=\"\",\"\",VLOOKUP(S1496,Tabelle!$I$5:$N$7,6,FALSE)))","v":""},null,null,null,null,null,null,null,null,null,{"$f":"IF(D1496=\"\",0,IF(D1496=D1495,COUNTIF(D$9:D1495,D1496)+1,1))","v":0},0,0]
["1489","-1900","-1900-0",null,null,null,null,null,null,null,"",null,null,null,null,null,null,null,null,{"$f":"IF(G$2034=1,\"\",IF(S1497=\"\",\"\",VLOOKUP(S1497,Tabelle!$I$5:$M$7,5,FALSE)))","v":""},{"$f":"IF(G$2034=1,\"\",IF(S1497=\"\",\"\",VLOOKUP(S1497,Tabelle!$I$5:$N$7,6,FALSE)))","v":""},null,null,null,null,null,null,null,null,null,{"$f":"IF(D1497=\"\",0,IF(D1497=D1496,COUNTIF(D$9:D1496,D1497)+1,1))","v":0},0,0]
["1490","-1900","-1900-0",null,null,null,null,null,null,null,"",null,null,null,null,null,null,null,null,{"$f":"IF(G$2034=1,\"\",IF(S1498=\"\",\"\",VLOOKUP(S1498,Tabelle!$I$5:$M$7,5,FALSE)))","v":""},{"$f":"IF(G$2034=1,\"\",IF(S1498=\"\",\"\",VLOOKUP(S1498,Tabelle!$I$5:$N$7,6,FALSE)))","v":""},null,null,null,null,null,null,null,null,null,{"$f":"IF(D1498=\"\",0,IF(D1498=D1497,COUNTIF(D$9:D1497,D1498)+1,1))","v":0},0,0]
["1491","-1900","-1900-0",null,null,null,null,null,null,null,"",null,null,null,null,null,null,null,null,{"$f":"IF(G$2034=1,\"\",IF(S1499=\"\",\"\",VLOOKUP(S1499,Tabelle!$I$5:$M$7,5,FALSE)))","v":""},{"$f":"IF(G$2034=1,\"\",IF(S1499=\"\",\"\",VLOOKUP(S1499,Tabelle!$I$5:$N$7,6,FALSE)))","v":""},null,null,null,null,null,null,null,null,null,{"$f":"IF(D1499=\"\",0,IF(D1499=D1498,COUNTIF(D$9:D1498,D1499)+1,1))","v":0},0,0]
["1492","-1900","-1900-0",null,null,null,null,null,null,null,"",null,null,null,null,null,null,null,null,{"$f":"IF(G$2034=1,\"\",IF(S1500=\"\",\"\",VLOOKUP(S1500,Tabelle!$I$5:$M$7,5,FALSE)))","v":""},{"$f":"IF(G$2034=1,\"\",IF(S1500=\"\",\"\",VLOOKUP(S1500,Tabelle!$I$5:$N$7,6,FALSE)))","v":""},null,null,null,null,null,null,null,null,null,{"$f":"IF(D1500=\"\",0,IF(D1500=D1499,COUNTIF(D$9:D1499,D1500)+1,1))","v":0},0,0]
["1493","-1900","-1900-0",null,null,null,null,null,null,null,"",null,null,null,null,null,null,null,null,{"$f":"IF(G$2034=1,\"\",IF(S1501=\"\",\"\",VLOOKUP(S1501,Tabelle!$I$5:$M$7,5,FALSE)))","v":""},{"$f":"IF(G$2034=1,\"\",IF(S1501=\"\",\"\",VLOOKUP(S1501,Tabelle!$I$5:$N$7,6,FALSE)))","v":""},null,null,null,null,null,null,null,null,null,{"$f":"IF(D1501=\"\",0,IF(D1501=D1500,COUNTIF(D$9:D1500,D1501)+1,1))","v":0},0,0]
["1494","-1900","-1900-0",null,null,null,null,null,null,null,"",null,null,null,null,null,null,null,null,{"$f":"IF(G$2034=1,\"\",IF(S1502=\"\",\"\",VLOOKUP(S1502,Tabelle!$I$5:$M$7,5,FALSE)))","v":""},{"$f":"IF(G$2034=1,\"\",IF(S1502=\"\",\"\",VLOOKUP(S1502,Tabelle!$I$5:$N$7,6,FALSE)))","v":""},null,null,null,null,null,null,null,null,null,{"$f":"IF(D1502=\"\",0,IF(D1502=D1501,COUNTIF(D$9:D1501,D1502)+1,1))","v":0},0,0]
["1495","-1900","-1900-0",null,null,null,null,null,null,null,"",null,null,null,null,null,null,null,null,{"$f":"IF(G$2034=1,\"\",IF(S1503=\"\",\"\",VLOOKUP(S1503,Tabelle!$I$5:$M$7,5,FALSE)))","v":""},{"$f":"IF(G$2034=1,\"\",IF(S1503=\"\",\"\",VLOOKUP(S1503,Tabelle!$I$5:$N$7,6,FALSE)))","v":""},null,null,null,null,null,null,null,null,null,{"$f":"IF(D1503=\"\",0,IF(D1503=D1502,COUNTIF(D$9:D1502,D1503)+1,1))","v":0},0,0]
["1496","-1900","-1900-0",null,null,null,null,null,null,null,"",null,null,null,null,null,null,null,null,{"$f":"IF(G$2034=1,\"\",IF(S1504=\"\",\"\",VLOOKUP(S1504,Tabelle!$I$5:$M$7,5,FALSE)))","v":""},{"$f":"IF(G$2034=1,\"\",IF(S1504=\"\",\"\",VLOOKUP(S1504,Tabelle!$I$5:$N$7,6,FALSE)))","v":""},null,null,null,null,null,null,null,null,null,{"$f":"IF(D1504=\"\",0,IF(D1504=D1503,COUNTIF(D$9:D1503,D1504)+1,1))","v":0},0,0]
["1497","-1900","-1900-0",null,null,null,null,null,null,null,"",null,null,null,null,null,null,null,null,{"$f":"IF(G$2034=1,\"\",IF(S1505=\"\",\"\",VLOOKUP(S1505,Tabelle!$I$5:$M$7,5,FALSE)))","v":""},{"$f":"IF(G$2034=1,\"\",IF(S1505=\"\",\"\",VLOOKUP(S1505,Tabelle!$I$5:$N$7,6,FALSE)))","v":""},null,null,null,null,null,null,null,null,null,{"$f":"IF(D1505=\"\",0,IF(D1505=D1504,COUNTIF(D$9:D1504,D1505)+1,1))","v":0},0,0]
["1498","-1900","-1900-0",null,null,null,null,null,null,null,"",null,null,null,null,null,null,null,null,{"$f":"IF(G$2034=1,\"\",IF(S1506=\"\",\"\",VLOOKUP(S1506,Tabelle!$I$5:$M$7,5,FALSE)))","v":""},{"$f":"IF(G$2034=1,\"\",IF(S1506=\"\",\"\",VLOOKUP(S1506,Tabelle!$I$5:$N$7,6,FALSE)))","v":""},null,null,null,null,null,null,null,null,null,{"$f":"IF(D1506=\"\",0,IF(D1506=D1505,COUNTIF(D$9:D1505,D1506)+1,1))","v":0},0,0]
["1499","-1900","-1900-0",null,null,null,null,null,null,null,"",null,null,null,null,null,null,null,null,{"$f":"IF(G$2034=1,\"\",IF(S1507=\"\",\"\",VLOOKUP(S1507,Tabelle!$I$5:$M$7,5,FALSE)))","v":""},{"$f":"IF(G$2034=1,\"\",IF(S1507=\"\",\"\",VLOOKUP(S1507,Tabelle!$I$5:$N$7,6,FALSE)))","v":""},null,null,null,null,null,null,null,null,null,{"$f":"IF(D1507=\"\",0,IF(D1507=D1506,COUNTIF(D$9:D1506,D1507)+1,1))","v":0},0,0]
["1500 di 2000","-1900","-1900-0",null,null,null,null,null,null,null,"",null,null,null,null,null,null,null,null,{"$f":"IF(G$2034=1,\"\",IF(S1508=\"\",\"\",VLOOKUP(S1508,Tabelle!$I$5:$M$7,5,FALSE)))","v":""},{"$f":"IF(G$2034=1,\"\",IF(S1508=\"\",\"\",VLOOKUP(S1508,Tabelle!$I$5:$N$7,6,FALSE)))","v":""},null,null,null,null,null,null,null,null,null,{"$f":"IF(D1508=\"\",0,IF(D1508=D1507,COUNTIF(D$9:D1507,D1508)+1,1))","v":0},0,0]
["1501","-1900","-1900-0",null,null,null,null,null,null,null,"",null,null,null,null,null,null,null,null,{"$f":"IF(G$2034=1,\"\",IF(S1509=\"\",\"\",VLOOKUP(S1509,Tabelle!$I$5:$M$7,5,FALSE)))","v":""},{"$f":"IF(G$2034=1,\"\",IF(S1509=\"\",\"\",VLOOKUP(S1509,Tabelle!$I$5:$N$7,6,FALSE)))","v":""},null,null,null,null,null,null,null,null,null,{"$f":"IF(D1509=\"\",0,IF(D1509=D1508,COUNTIF(D$9:D1508,D1509)+1,1))","v":0},0,0]
["1502","-1900","-1900-0",null,null,null,null,null,null,null,"",null,null,null,null,null,null,null,null,{"$f":"IF(G$2034=1,\"\",IF(S1510=\"\",\"\",VLOOKUP(S1510,Tabelle!$I$5:$M$7,5,FALSE)))","v":""},{"$f":"IF(G$2034=1,\"\",IF(S1510=\"\",\"\",VLOOKUP(S1510,Tabelle!$I$5:$N$7,6,FALSE)))","v":""},null,null,null,null,null,null,null,null,null,{"$f":"IF(D1510=\"\",0,IF(D1510=D1509,COUNTIF(D$9:D1509,D1510)+1,1))","v":0},0,0]
["1503","-1900","-1900-0",null,null,null,null,null,null,null,"",null,null,null,null,null,null,null,null,{"$f":"IF(G$2034=1,\"\",IF(S1511=\"\",\"\",VLOOKUP(S1511,Tabelle!$I$5:$M$7,5,FALSE)))","v":""},{"$f":"IF(G$2034=1,\"\",IF(S1511=\"\",\"\",VLOOKUP(S1511,Tabelle!$I$5:$N$7,6,FALSE)))","v":""},null,null,null,null,null,null,null,null,null,{"$f":"IF(D1511=\"\",0,IF(D1511=D1510,COUNTIF(D$9:D1510,D1511)+1,1))","v":0},0,0]
["1504","-1900","-1900-0",null,null,null,null,null,null,null,"",null,null,null,null,null,null,null,null,{"$f":"IF(G$2034=1,\"\",IF(S1512=\"\",\"\",VLOOKUP(S1512,Tabelle!$I$5:$M$7,5,FALSE)))","v":""},{"$f":"IF(G$2034=1,\"\",IF(S1512=\"\",\"\",VLOOKUP(S1512,Tabelle!$I$5:$N$7,6,FALSE)))","v":""},null,null,null,null,null,null,null,null,null,{"$f":"IF(D1512=\"\",0,IF(D1512=D1511,COUNTIF(D$9:D1511,D1512)+1,1))","v":0},0,0]
["1505","-1900","-1900-0",null,null,null,null,null,null,null,"",null,null,null,null,null,null,null,null,{"$f":"IF(G$2034=1,\"\",IF(S1513=\"\",\"\",VLOOKUP(S1513,Tabelle!$I$5:$M$7,5,FALSE)))","v":""},{"$f":"IF(G$2034=1,\"\",IF(S1513=\"\",\"\",VLOOKUP(S1513,Tabelle!$I$5:$N$7,6,FALSE)))","v":""},null,null,null,null,null,null,null,null,null,{"$f":"IF(D1513=\"\",0,IF(D1513=D1512,COUNTIF(D$9:D1512,D1513)+1,1))","v":0},0,0]
["1506","-1900","-1900-0",null,null,null,null,null,null,null,"",null,null,null,null,null,null,null,null,{"$f":"IF(G$2034=1,\"\",IF(S1514=\"\",\"\",VLOOKUP(S1514,Tabelle!$I$5:$M$7,5,FALSE)))","v":""},{"$f":"IF(G$2034=1,\"\",IF(S1514=\"\",\"\",VLOOKUP(S1514,Tabelle!$I$5:$N$7,6,FALSE)))","v":""},null,null,null,null,null,null,null,null,null,{"$f":"IF(D1514=\"\",0,IF(D1514=D1513,COUNTIF(D$9:D1513,D1514)+1,1))","v":0},0,0]
["1507","-1900","-1900-0",null,null,null,null,null,null,null,"",null,null,null,null,null,null,null,null,{"$f":"IF(G$2034=1,\"\",IF(S1515=\"\",\"\",VLOOKUP(S1515,Tabelle!$I$5:$M$7,5,FALSE)))","v":""},{"$f":"IF(G$2034=1,\"\",IF(S1515=\"\",\"\",VLOOKUP(S1515,Tabelle!$I$5:$N$7,6,FALSE)))","v":""},null,null,null,null,null,null,null,null,null,{"$f":"IF(D1515=\"\",0,IF(D1515=D1514,COUNTIF(D$9:D1514,D1515)+1,1))","v":0},0,0]
["1508","-1900","-1900-0",null,null,null,null,null,null,null,"",null,null,null,null,null,null,null,null,{"$f":"IF(G$2034=1,\"\",IF(S1516=\"\",\"\",VLOOKUP(S1516,Tabelle!$I$5:$M$7,5,FALSE)))","v":""},{"$f":"IF(G$2034=1,\"\",IF(S1516=\"\",\"\",VLOOKUP(S1516,Tabelle!$I$5:$N$7,6,FALSE)))","v":""},null,null,null,null,null,null,null,null,null,{"$f":"IF(D1516=\"\",0,IF(D1516=D1515,COUNTIF(D$9:D1515,D1516)+1,1))","v":0},0,0]
["1509","-1900","-1900-0",null,null,null,null,null,null,null,"",null,null,null,null,null,null,null,null,{"$f":"IF(G$2034=1,\"\",IF(S1517=\"\",\"\",VLOOKUP(S1517,Tabelle!$I$5:$M$7,5,FALSE)))","v":""},{"$f":"IF(G$2034=1,\"\",IF(S1517=\"\",\"\",VLOOKUP(S1517,Tabelle!$I$5:$N$7,6,FALSE)))","v":""},null,null,null,null,null,null,null,null,null,{"$f":"IF(D1517=\"\",0,IF(D1517=D1516,COUNTIF(D$9:D1516,D1517)+1,1))","v":0},0,0]
["1510","-1900","-1900-0",null,null,null,null,null,null,null,"",null,null,null,null,null,null,null,null,{"$f":"IF(G$2034=1,\"\",IF(S1518=\"\",\"\",VLOOKUP(S1518,Tabelle!$I$5:$M$7,5,FALSE)))","v":""},{"$f":"IF(G$2034=1,\"\",IF(S1518=\"\",\"\",VLOOKUP(S1518,Tabelle!$I$5:$N$7,6,FALSE)))","v":""},null,null,null,null,null,null,null,null,null,{"$f":"IF(D1518=\"\",0,IF(D1518=D1517,COUNTIF(D$9:D1517,D1518)+1,1))","v":0},0,0]
["1511","-1900","-1900-0",null,null,null,null,null,null,null,"",null,null,null,null,null,null,null,null,{"$f":"IF(G$2034=1,\"\",IF(S1519=\"\",\"\",VLOOKUP(S1519,Tabelle!$I$5:$M$7,5,FALSE)))","v":""},{"$f":"IF(G$2034=1,\"\",IF(S1519=\"\",\"\",VLOOKUP(S1519,Tabelle!$I$5:$N$7,6,FALSE)))","v":""},null,null,null,null,null,null,null,null,null,{"$f":"IF(D1519=\"\",0,IF(D1519=D1518,COUNTIF(D$9:D1518,D1519)+1,1))","v":0},0,0]
["1512","-1900","-1900-0",null,null,null,null,null,null,null,"",null,null,null,null,null,null,null,null,{"$f":"IF(G$2034=1,\"\",IF(S1520=\"\",\"\",VLOOKUP(S1520,Tabelle!$I$5:$M$7,5,FALSE)))","v":""},{"$f":"IF(G$2034=1,\"\",IF(S1520=\"\",\"\",VLOOKUP(S1520,Tabelle!$I$5:$N$7,6,FALSE)))","v":""},null,null,null,null,null,null,null,null,null,{"$f":"IF(D1520=\"\",0,IF(D1520=D1519,COUNTIF(D$9:D1519,D1520)+1,1))","v":0},0,0]
["1513","-1900","-1900-0",null,null,null,null,null,null,null,"",null,null,null,null,null,null,null,null,{"$f":"IF(G$2034=1,\"\",IF(S1521=\"\",\"\",VLOOKUP(S1521,Tabelle!$I$5:$M$7,5,FALSE)))","v":""},{"$f":"IF(G$2034=1,\"\",IF(S1521=\"\",\"\",VLOOKUP(S1521,Tabelle!$I$5:$N$7,6,FALSE)))","v":""},null,null,null,null,null,null,null,null,null,{"$f":"IF(D1521=\"\",0,IF(D1521=D1520,COUNTIF(D$9:D1520,D1521)+1,1))","v":0},0,0]
["1514","-1900","-1900-0",null,null,null,null,null,null,null,"",null,null,null,null,null,null,null,null,{"$f":"IF(G$2034=1,\"\",IF(S1522=\"\",\"\",VLOOKUP(S1522,Tabelle!$I$5:$M$7,5,FALSE)))","v":""},{"$f":"IF(G$2034=1,\"\",IF(S1522=\"\",\"\",VLOOKUP(S1522,Tabelle!$I$5:$N$7,6,FALSE)))","v":""},null,null,null,null,null,null,null,null,null,{"$f":"IF(D1522=\"\",0,IF(D1522=D1521,COUNTIF(D$9:D1521,D1522)+1,1))","v":0},0,0]
["1515","-1900","-1900-0",null,null,null,null,null,null,null,"",null,null,null,null,null,null,null,null,{"$f":"IF(G$2034=1,\"\",IF(S1523=\"\",\"\",VLOOKUP(S1523,Tabelle!$I$5:$M$7,5,FALSE)))","v":""},{"$f":"IF(G$2034=1,\"\",IF(S1523=\"\",\"\",VLOOKUP(S1523,Tabelle!$I$5:$N$7,6,FALSE)))","v":""},null,null,null,null,null,null,null,null,null,{"$f":"IF(D1523=\"\",0,IF(D1523=D1522,COUNTIF(D$9:D1522,D1523)+1,1))","v":0},0,0]
["1516","-1900","-1900-0",null,null,null,null,null,null,null,"",null,null,null,null,null,null,null,null,{"$f":"IF(G$2034=1,\"\",IF(S1524=\"\",\"\",VLOOKUP(S1524,Tabelle!$I$5:$M$7,5,FALSE)))","v":""},{"$f":"IF(G$2034=1,\"\",IF(S1524=\"\",\"\",VLOOKUP(S1524,Tabelle!$I$5:$N$7,6,FALSE)))","v":""},null,null,null,null,null,null,null,null,null,{"$f":"IF(D1524=\"\",0,IF(D1524=D1523,COUNTIF(D$9:D1523,D1524)+1,1))","v":0},0,0]
["1517","-1900","-1900-0",null,null,null,null,null,null,null,"",null,null,null,null,null,null,null,null,{"$f":"IF(G$2034=1,\"\",IF(S1525=\"\",\"\",VLOOKUP(S1525,Tabelle!$I$5:$M$7,5,FALSE)))","v":""},{"$f":"IF(G$2034=1,\"\",IF(S1525=\"\",\"\",VLOOKUP(S1525,Tabelle!$I$5:$N$7,6,FALSE)))","v":""},null,null,null,null,null,null,null,null,null,{"$f":"IF(D1525=\"\",0,IF(D1525=D1524,COUNTIF(D$9:D1524,D1525)+1,1))","v":0},0,0]
["1518","-1900","-1900-0",null,null,null,null,null,null,null,"",null,null,null,null,null,null,null,null,{"$f":"IF(G$2034=1,\"\",IF(S1526=\"\",\"\",VLOOKUP(S1526,Tabelle!$I$5:$M$7,5,FALSE)))","v":""},{"$f":"IF(G$2034=1,\"\",IF(S1526=\"\",\"\",VLOOKUP(S1526,Tabelle!$I$5:$N$7,6,FALSE)))","v":""},null,null,null,null,null,null,null,null,null,{"$f":"IF(D1526=\"\",0,IF(D1526=D1525,COUNTIF(D$9:D1525,D1526)+1,1))","v":0},0,0]
["1519","-1900","-1900-0",null,null,null,null,null,null,null,"",null,null,null,null,null,null,null,null,{"$f":"IF(G$2034=1,\"\",IF(S1527=\"\",\"\",VLOOKUP(S1527,Tabelle!$I$5:$M$7,5,FALSE)))","v":""},{"$f":"IF(G$2034=1,\"\",IF(S1527=\"\",\"\",VLOOKUP(S1527,Tabelle!$I$5:$N$7,6,FALSE)))","v":""},null,null,null,null,null,null,null,null,null,{"$f":"IF(D1527=\"\",0,IF(D1527=D1526,COUNTIF(D$9:D1526,D1527)+1,1))","v":0},0,0]
["1520","-1900","-1900-0",null,null,null,null,null,null,null,"",null,null,null,null,null,null,null,null,{"$f":"IF(G$2034=1,\"\",IF(S1528=\"\",\"\",VLOOKUP(S1528,Tabelle!$I$5:$M$7,5,FALSE)))","v":""},{"$f":"IF(G$2034=1,\"\",IF(S1528=\"\",\"\",VLOOKUP(S1528,Tabelle!$I$5:$N$7,6,FALSE)))","v":""},null,null,null,null,null,null,null,null,null,{"$f":"IF(D1528=\"\",0,IF(D1528=D1527,COUNTIF(D$9:D1527,D1528)+1,1))","v":0},0,0]
["1521","-1900","-1900-0",null,null,null,null,null,null,null,"",null,null,null,null,null,null,null,null,{"$f":"IF(G$2034=1,\"\",IF(S1529=\"\",\"\",VLOOKUP(S1529,Tabelle!$I$5:$M$7,5,FALSE)))","v":""},{"$f":"IF(G$2034=1,\"\",IF(S1529=\"\",\"\",VLOOKUP(S1529,Tabelle!$I$5:$N$7,6,FALSE)))","v":""},null,null,null,null,null,null,null,null,null,{"$f":"IF(D1529=\"\",0,IF(D1529=D1528,COUNTIF(D$9:D1528,D1529)+1,1))","v":0},0,0]
["1522","-1900","-1900-0",null,null,null,null,null,null,null,"",null,null,null,null,null,null,null,null,{"$f":"IF(G$2034=1,\"\",IF(S1530=\"\",\"\",VLOOKUP(S1530,Tabelle!$I$5:$M$7,5,FALSE)))","v":""},{"$f":"IF(G$2034=1,\"\",IF(S1530=\"\",\"\",VLOOKUP(S1530,Tabelle!$I$5:$N$7,6,FALSE)))","v":""},null,null,null,null,null,null,null,null,null,{"$f":"IF(D1530=\"\",0,IF(D1530=D1529,COUNTIF(D$9:D1529,D1530)+1,1))","v":0},0,0]
["1523","-1900","-1900-0",null,null,null,null,null,null,null,"",null,null,null,null,null,null,null,null,{"$f":"IF(G$2034=1,\"\",IF(S1531=\"\",\"\",VLOOKUP(S1531,Tabelle!$I$5:$M$7,5,FALSE)))","v":""},{"$f":"IF(G$2034=1,\"\",IF(S1531=\"\",\"\",VLOOKUP(S1531,Tabelle!$I$5:$N$7,6,FALSE)))","v":""},null,null,null,null,null,null,null,null,null,{"$f":"IF(D1531=\"\",0,IF(D1531=D1530,COUNTIF(D$9:D1530,D1531)+1,1))","v":0},0,0]
["1524","-1900","-1900-0",null,null,null,null,null,null,null,"",null,null,null,null,null,null,null,null,{"$f":"IF(G$2034=1,\"\",IF(S1532=\"\",\"\",VLOOKUP(S1532,Tabelle!$I$5:$M$7,5,FALSE)))","v":""},{"$f":"IF(G$2034=1,\"\",IF(S1532=\"\",\"\",VLOOKUP(S1532,Tabelle!$I$5:$N$7,6,FALSE)))","v":""},null,null,null,null,null,null,null,null,null,{"$f":"IF(D1532=\"\",0,IF(D1532=D1531,COUNTIF(D$9:D1531,D1532)+1,1))","v":0},0,0]
["1525","-1900","-1900-0",null,null,null,null,null,null,null,"",null,null,null,null,null,null,null,null,{"$f":"IF(G$2034=1,\"\",IF(S1533=\"\",\"\",VLOOKUP(S1533,Tabelle!$I$5:$M$7,5,FALSE)))","v":""},{"$f":"IF(G$2034=1,\"\",IF(S1533=\"\",\"\",VLOOKUP(S1533,Tabelle!$I$5:$N$7,6,FALSE)))","v":""},null,null,null,null,null,null,null,null,null,{"$f":"IF(D1533=\"\",0,IF(D1533=D1532,COUNTIF(D$9:D1532,D1533)+1,1))","v":0},0,0]
["1526","-1900","-1900-0",null,null,null,null,null,null,null,"",null,null,null,null,null,null,null,null,{"$f":"IF(G$2034=1,\"\",IF(S1534=\"\",\"\",VLOOKUP(S1534,Tabelle!$I$5:$M$7,5,FALSE)))","v":""},{"$f":"IF(G$2034=1,\"\",IF(S1534=\"\",\"\",VLOOKUP(S1534,Tabelle!$I$5:$N$7,6,FALSE)))","v":""},null,null,null,null,null,null,null,null,null,{"$f":"IF(D1534=\"\",0,IF(D1534=D1533,COUNTIF(D$9:D1533,D1534)+1,1))","v":0},0,0]
["1527","-1900","-1900-0",null,null,null,null,null,null,null,"",null,null,null,null,null,null,null,null,{"$f":"IF(G$2034=1,\"\",IF(S1535=\"\",\"\",VLOOKUP(S1535,Tabelle!$I$5:$M$7,5,FALSE)))","v":""},{"$f":"IF(G$2034=1,\"\",IF(S1535=\"\",\"\",VLOOKUP(S1535,Tabelle!$I$5:$N$7,6,FALSE)))","v":""},null,null,null,null,null,null,null,null,null,{"$f":"IF(D1535=\"\",0,IF(D1535=D1534,COUNTIF(D$9:D1534,D1535)+1,1))","v":0},0,0]
["1528","-1900","-1900-0",null,null,null,null,null,null,null,"",null,null,null,null,null,null,null,null,{"$f":"IF(G$2034=1,\"\",IF(S1536=\"\",\"\",VLOOKUP(S1536,Tabelle!$I$5:$M$7,5,FALSE)))","v":""},{"$f":"IF(G$2034=1,\"\",IF(S1536=\"\",\"\",VLOOKUP(S1536,Tabelle!$I$5:$N$7,6,FALSE)))","v":""},null,null,null,null,null,null,null,null,null,{"$f":"IF(D1536=\"\",0,IF(D1536=D1535,COUNTIF(D$9:D1535,D1536)+1,1))","v":0},0,0]
["1529","-1900","-1900-0",null,null,null,null,null,null,null,"",null,null,null,null,null,null,null,null,{"$f":"IF(G$2034=1,\"\",IF(S1537=\"\",\"\",VLOOKUP(S1537,Tabelle!$I$5:$M$7,5,FALSE)))","v":""},{"$f":"IF(G$2034=1,\"\",IF(S1537=\"\",\"\",VLOOKUP(S1537,Tabelle!$I$5:$N$7,6,FALSE)))","v":""},null,null,null,null,null,null,null,null,null,{"$f":"IF(D1537=\"\",0,IF(D1537=D1536,COUNTIF(D$9:D1536,D1537)+1,1))","v":0},0,0]
["1530","-1900","-1900-0",null,null,null,null,null,null,null,"",null,null,null,null,null,null,null,null,{"$f":"IF(G$2034=1,\"\",IF(S1538=\"\",\"\",VLOOKUP(S1538,Tabelle!$I$5:$M$7,5,FALSE)))","v":""},{"$f":"IF(G$2034=1,\"\",IF(S1538=\"\",\"\",VLOOKUP(S1538,Tabelle!$I$5:$N$7,6,FALSE)))","v":""},null,null,null,null,null,null,null,null,null,{"$f":"IF(D1538=\"\",0,IF(D1538=D1537,COUNTIF(D$9:D1537,D1538)+1,1))","v":0},0,0]
["1531","-1900","-1900-0",null,null,null,null,null,null,null,"",null,null,null,null,null,null,null,null,{"$f":"IF(G$2034=1,\"\",IF(S1539=\"\",\"\",VLOOKUP(S1539,Tabelle!$I$5:$M$7,5,FALSE)))","v":""},{"$f":"IF(G$2034=1,\"\",IF(S1539=\"\",\"\",VLOOKUP(S1539,Tabelle!$I$5:$N$7,6,FALSE)))","v":""},null,null,null,null,null,null,null,null,null,{"$f":"IF(D1539=\"\",0,IF(D1539=D1538,COUNTIF(D$9:D1538,D1539)+1,1))","v":0},0,0]
["1532","-1900","-1900-0",null,null,null,null,null,null,null,"",null,null,null,null,null,null,null,null,{"$f":"IF(G$2034=1,\"\",IF(S1540=\"\",\"\",VLOOKUP(S1540,Tabelle!$I$5:$M$7,5,FALSE)))","v":""},{"$f":"IF(G$2034=1,\"\",IF(S1540=\"\",\"\",VLOOKUP(S1540,Tabelle!$I$5:$N$7,6,FALSE)))","v":""},null,null,null,null,null,null,null,null,null,{"$f":"IF(D1540=\"\",0,IF(D1540=D1539,COUNTIF(D$9:D1539,D1540)+1,1))","v":0},0,0]
["1533","-1900","-1900-0",null,null,null,null,null,null,null,"",null,null,null,null,null,null,null,null,{"$f":"IF(G$2034=1,\"\",IF(S1541=\"\",\"\",VLOOKUP(S1541,Tabelle!$I$5:$M$7,5,FALSE)))","v":""},{"$f":"IF(G$2034=1,\"\",IF(S1541=\"\",\"\",VLOOKUP(S1541,Tabelle!$I$5:$N$7,6,FALSE)))","v":""},null,null,null,null,null,null,null,null,null,{"$f":"IF(D1541=\"\",0,IF(D1541=D1540,COUNTIF(D$9:D1540,D1541)+1,1))","v":0},0,0]
["1534","-1900","-1900-0",null,null,null,null,null,null,null,"",null,null,null,null,null,null,null,null,{"$f":"IF(G$2034=1,\"\",IF(S1542=\"\",\"\",VLOOKUP(S1542,Tabelle!$I$5:$M$7,5,FALSE)))","v":""},{"$f":"IF(G$2034=1,\"\",IF(S1542=\"\",\"\",VLOOKUP(S1542,Tabelle!$I$5:$N$7,6,FALSE)))","v":""},null,null,null,null,null,null,null,null,null,{"$f":"IF(D1542=\"\",0,IF(D1542=D1541,COUNTIF(D$9:D1541,D1542)+1,1))","v":0},0,0]
["1535","-1900","-1900-0",null,null,null,null,null,null,null,"",null,null,null,null,null,null,null,null,{"$f":"IF(G$2034=1,\"\",IF(S1543=\"\",\"\",VLOOKUP(S1543,Tabelle!$I$5:$M$7,5,FALSE)))","v":""},{"$f":"IF(G$2034=1,\"\",IF(S1543=\"\",\"\",VLOOKUP(S1543,Tabelle!$I$5:$N$7,6,FALSE)))","v":""},null,null,null,null,null,null,null,null,null,{"$f":"IF(D1543=\"\",0,IF(D1543=D1542,COUNTIF(D$9:D1542,D1543)+1,1))","v":0},0,0]
["1536","-1900","-1900-0",null,null,null,null,null,null,null,"",null,null,null,null,null,null,null,null,{"$f":"IF(G$2034=1,\"\",IF(S1544=\"\",\"\",VLOOKUP(S1544,Tabelle!$I$5:$M$7,5,FALSE)))","v":""},{"$f":"IF(G$2034=1,\"\",IF(S1544=\"\",\"\",VLOOKUP(S1544,Tabelle!$I$5:$N$7,6,FALSE)))","v":""},null,null,null,null,null,null,null,null,null,{"$f":"IF(D1544=\"\",0,IF(D1544=D1543,COUNTIF(D$9:D1543,D1544)+1,1))","v":0},0,0]
["1537","-1900",{"$f":"IF(G$2034=1,0,B1545&\"-\"&AE1545)","v":"-1900-0"},null,null,null,null,null,null,null,{"$f":"IF(G$2034=1,0,IF(OR(J1545=\"\",ISERROR($O$2034)),\"\",VLOOKUP(J1545,$L$2019:$N$2027,2,FALSE)))","v":""},null,null,null,null,null,null,null,null,{"$f":"IF(G$2034=1,\"\",IF(S1545=\"\",\"\",VLOOKUP(S1545,Tabelle!$I$5:$M$7,5,FALSE)))","v":""},{"$f":"IF(G$2034=1,\"\",IF(S1545=\"\",\"\",VLOOKUP(S1545,Tabelle!$I$5:$N$7,6,FALSE)))","v":""},null,null,null,null,null,null,null,null,null,{"$f":"IF(D1545=\"\",0,IF(D1545=D1544,COUNTIF(D$9:D1544,D1545)+1,1))","v":0},0,0]
["1538",{"$f":"IF(AG1546=$AG$2013,0,IF(G$2034=1,0,D1546&\"-\"&YEAR(E1546)))","v":"-1900"},"-1900-0",null,null,null,null,null,null,null,"",null,null,null,null,null,null,null,null,{"$f":"IF(G$2034=1,\"\",IF(S1546=\"\",\"\",VLOOKUP(S1546,Tabelle!$I$5:$M$7,5,FALSE)))","v":""},{"$f":"IF(G$2034=1,\"\",IF(S1546=\"\",\"\",VLOOKUP(S1546,Tabelle!$I$5:$N$7,6,FALSE)))","v":""},null,null,null,null,null,null,null,null,null,{"$f":"IF(D1546=\"\",0,IF(D1546=D1545,COUNTIF(D$9:D1545,D1546)+1,1))","v":0},{"$f":"IF(G$2034=1,0,IF(AE1546=28,1,0))","v":0},{"$f":"IF(E1546>0,IF(OR(MONTH(E1546)<$G$2026,MONTH(E1546)>$G$2027),AG$2013,0),0)","v":0}]
["1539","-1900","-1900-0",null,null,null,null,null,null,null,"",null,null,null,null,null,null,null,null,{"$f":"IF(G$2034=1,\"\",IF(S1547=\"\",\"\",VLOOKUP(S1547,Tabelle!$I$5:$M$7,5,FALSE)))","v":""},{"$f":"IF(G$2034=1,\"\",IF(S1547=\"\",\"\",VLOOKUP(S1547,Tabelle!$I$5:$N$7,6,FALSE)))","v":""},null,null,null,null,null,null,null,null,null,{"$f":"IF(D1547=\"\",0,IF(D1547=D1546,COUNTIF(D$9:D1546,D1547)+1,1))","v":0},0,0]
["1540","-1900","-1900-0",null,null,null,null,null,null,null,"",null,null,null,null,null,null,null,null,{"$f":"IF(G$2034=1,\"\",IF(S1548=\"\",\"\",VLOOKUP(S1548,Tabelle!$I$5:$M$7,5,FALSE)))","v":""},{"$f":"IF(G$2034=1,\"\",IF(S1548=\"\",\"\",VLOOKUP(S1548,Tabelle!$I$5:$N$7,6,FALSE)))","v":""},null,null,null,null,null,null,null,null,null,{"$f":"IF(D1548=\"\",0,IF(D1548=D1547,COUNTIF(D$9:D1547,D1548)+1,1))","v":0},0,0]
["1541","-1900","-1900-0",null,null,null,null,null,null,null,"",null,null,null,null,null,null,null,null,{"$f":"IF(G$2034=1,\"\",IF(S1549=\"\",\"\",VLOOKUP(S1549,Tabelle!$I$5:$M$7,5,FALSE)))","v":""},{"$f":"IF(G$2034=1,\"\",IF(S1549=\"\",\"\",VLOOKUP(S1549,Tabelle!$I$5:$N$7,6,FALSE)))","v":""},null,null,null,null,null,null,null,null,null,{"$f":"IF(D1549=\"\",0,IF(D1549=D1548,COUNTIF(D$9:D1548,D1549)+1,1))","v":0},0,0]
["1542","-1900","-1900-0",null,null,null,null,null,null,null,"",null,null,null,null,null,null,null,null,{"$f":"IF(G$2034=1,\"\",IF(S1550=\"\",\"\",VLOOKUP(S1550,Tabelle!$I$5:$M$7,5,FALSE)))","v":""},{"$f":"IF(G$2034=1,\"\",IF(S1550=\"\",\"\",VLOOKUP(S1550,Tabelle!$I$5:$N$7,6,FALSE)))","v":""},null,null,null,null,null,null,null,null,null,{"$f":"IF(D1550=\"\",0,IF(D1550=D1549,COUNTIF(D$9:D1549,D1550)+1,1))","v":0},0,0]
["1543","-1900","-1900-0",null,null,null,null,null,null,null,"",null,null,null,null,null,null,null,null,{"$f":"IF(G$2034=1,\"\",IF(S1551=\"\",\"\",VLOOKUP(S1551,Tabelle!$I$5:$M$7,5,FALSE)))","v":""},{"$f":"IF(G$2034=1,\"\",IF(S1551=\"\",\"\",VLOOKUP(S1551,Tabelle!$I$5:$N$7,6,FALSE)))","v":""},null,null,null,null,null,null,null,null,null,{"$f":"IF(D1551=\"\",0,IF(D1551=D1550,COUNTIF(D$9:D1550,D1551)+1,1))","v":0},0,0]
["1544","-1900","-1900-0",null,null,null,null,null,null,null,"",null,null,null,null,null,null,null,null,{"$f":"IF(G$2034=1,\"\",IF(S1552=\"\",\"\",VLOOKUP(S1552,Tabelle!$I$5:$M$7,5,FALSE)))","v":""},{"$f":"IF(G$2034=1,\"\",IF(S1552=\"\",\"\",VLOOKUP(S1552,Tabelle!$I$5:$N$7,6,FALSE)))","v":""},null,null,null,null,null,null,null,null,null,{"$f":"IF(D1552=\"\",0,IF(D1552=D1551,COUNTIF(D$9:D1551,D1552)+1,1))","v":0},0,0]
["1545","-1900","-1900-0",null,null,null,null,null,null,null,"",null,null,null,null,null,null,null,null,{"$f":"IF(G$2034=1,\"\",IF(S1553=\"\",\"\",VLOOKUP(S1553,Tabelle!$I$5:$M$7,5,FALSE)))","v":""},{"$f":"IF(G$2034=1,\"\",IF(S1553=\"\",\"\",VLOOKUP(S1553,Tabelle!$I$5:$N$7,6,FALSE)))","v":""},null,null,null,null,null,null,null,null,null,{"$f":"IF(D1553=\"\",0,IF(D1553=D1552,COUNTIF(D$9:D1552,D1553)+1,1))","v":0},0,0]
["1546","-1900","-1900-0",null,null,null,null,null,null,null,"",null,null,null,null,null,null,null,null,{"$f":"IF(G$2034=1,\"\",IF(S1554=\"\",\"\",VLOOKUP(S1554,Tabelle!$I$5:$M$7,5,FALSE)))","v":""},{"$f":"IF(G$2034=1,\"\",IF(S1554=\"\",\"\",VLOOKUP(S1554,Tabelle!$I$5:$N$7,6,FALSE)))","v":""},null,null,null,null,null,null,null,null,null,{"$f":"IF(D1554=\"\",0,IF(D1554=D1553,COUNTIF(D$9:D1553,D1554)+1,1))","v":0},0,0]
["1547","-1900","-1900-0",null,null,null,null,null,null,null,"",null,null,null,null,null,null,null,null,{"$f":"IF(G$2034=1,\"\",IF(S1555=\"\",\"\",VLOOKUP(S1555,Tabelle!$I$5:$M$7,5,FALSE)))","v":""},{"$f":"IF(G$2034=1,\"\",IF(S1555=\"\",\"\",VLOOKUP(S1555,Tabelle!$I$5:$N$7,6,FALSE)))","v":""},null,null,null,null,null,null,null,null,null,{"$f":"IF(D1555=\"\",0,IF(D1555=D1554,COUNTIF(D$9:D1554,D1555)+1,1))","v":0},0,0]
["1548","-1900","-1900-0",null,null,null,null,null,null,null,"",null,null,null,null,null,null,null,null,{"$f":"IF(G$2034=1,\"\",IF(S1556=\"\",\"\",VLOOKUP(S1556,Tabelle!$I$5:$M$7,5,FALSE)))","v":""},{"$f":"IF(G$2034=1,\"\",IF(S1556=\"\",\"\",VLOOKUP(S1556,Tabelle!$I$5:$N$7,6,FALSE)))","v":""},null,null,null,null,null,null,null,null,null,{"$f":"IF(D1556=\"\",0,IF(D1556=D1555,COUNTIF(D$9:D1555,D1556)+1,1))","v":0},0,0]
["1549","-1900","-1900-0",null,null,null,null,null,null,null,"",null,null,null,null,null,null,null,null,{"$f":"IF(G$2034=1,\"\",IF(S1557=\"\",\"\",VLOOKUP(S1557,Tabelle!$I$5:$M$7,5,FALSE)))","v":""},{"$f":"IF(G$2034=1,\"\",IF(S1557=\"\",\"\",VLOOKUP(S1557,Tabelle!$I$5:$N$7,6,FALSE)))","v":""},null,null,null,null,null,null,null,null,null,{"$f":"IF(D1557=\"\",0,IF(D1557=D1556,COUNTIF(D$9:D1556,D1557)+1,1))","v":0},0,0]
["1550","-1900","-1900-0",null,null,null,null,null,null,null,"",null,null,null,null,null,null,null,null,{"$f":"IF(G$2034=1,\"\",IF(S1558=\"\",\"\",VLOOKUP(S1558,Tabelle!$I$5:$M$7,5,FALSE)))","v":""},{"$f":"IF(G$2034=1,\"\",IF(S1558=\"\",\"\",VLOOKUP(S1558,Tabelle!$I$5:$N$7,6,FALSE)))","v":""},null,null,null,null,null,null,null,null,null,{"$f":"IF(D1558=\"\",0,IF(D1558=D1557,COUNTIF(D$9:D1557,D1558)+1,1))","v":0},0,0]
["1551","-1900","-1900-0",null,null,null,null,null,null,null,"",null,null,null,null,null,null,null,null,{"$f":"IF(G$2034=1,\"\",IF(S1559=\"\",\"\",VLOOKUP(S1559,Tabelle!$I$5:$M$7,5,FALSE)))","v":""},{"$f":"IF(G$2034=1,\"\",IF(S1559=\"\",\"\",VLOOKUP(S1559,Tabelle!$I$5:$N$7,6,FALSE)))","v":""},null,null,null,null,null,null,null,null,null,{"$f":"IF(D1559=\"\",0,IF(D1559=D1558,COUNTIF(D$9:D1558,D1559)+1,1))","v":0},0,0]
["1552","-1900","-1900-0",null,null,null,null,null,null,null,"",null,null,null,null,null,null,null,null,{"$f":"IF(G$2034=1,\"\",IF(S1560=\"\",\"\",VLOOKUP(S1560,Tabelle!$I$5:$M$7,5,FALSE)))","v":""},{"$f":"IF(G$2034=1,\"\",IF(S1560=\"\",\"\",VLOOKUP(S1560,Tabelle!$I$5:$N$7,6,FALSE)))","v":""},null,null,null,null,null,null,null,null,null,{"$f":"IF(D1560=\"\",0,IF(D1560=D1559,COUNTIF(D$9:D1559,D1560)+1,1))","v":0},0,0]
["1553","-1900","-1900-0",null,null,null,null,null,null,null,"",null,null,null,null,null,null,null,null,{"$f":"IF(G$2034=1,\"\",IF(S1561=\"\",\"\",VLOOKUP(S1561,Tabelle!$I$5:$M$7,5,FALSE)))","v":""},{"$f":"IF(G$2034=1,\"\",IF(S1561=\"\",\"\",VLOOKUP(S1561,Tabelle!$I$5:$N$7,6,FALSE)))","v":""},null,null,null,null,null,null,null,null,null,{"$f":"IF(D1561=\"\",0,IF(D1561=D1560,COUNTIF(D$9:D1560,D1561)+1,1))","v":0},0,0]
["1554","-1900","-1900-0",null,null,null,null,null,null,null,"",null,null,null,null,null,null,null,null,{"$f":"IF(G$2034=1,\"\",IF(S1562=\"\",\"\",VLOOKUP(S1562,Tabelle!$I$5:$M$7,5,FALSE)))","v":""},{"$f":"IF(G$2034=1,\"\",IF(S1562=\"\",\"\",VLOOKUP(S1562,Tabelle!$I$5:$N$7,6,FALSE)))","v":""},null,null,null,null,null,null,null,null,null,{"$f":"IF(D1562=\"\",0,IF(D1562=D1561,COUNTIF(D$9:D1561,D1562)+1,1))","v":0},0,0]
["1555","-1900","-1900-0",null,null,null,null,null,null,null,"",null,null,null,null,null,null,null,null,{"$f":"IF(G$2034=1,\"\",IF(S1563=\"\",\"\",VLOOKUP(S1563,Tabelle!$I$5:$M$7,5,FALSE)))","v":""},{"$f":"IF(G$2034=1,\"\",IF(S1563=\"\",\"\",VLOOKUP(S1563,Tabelle!$I$5:$N$7,6,FALSE)))","v":""},null,null,null,null,null,null,null,null,null,{"$f":"IF(D1563=\"\",0,IF(D1563=D1562,COUNTIF(D$9:D1562,D1563)+1,1))","v":0},0,0]
["1556","-1900","-1900-0",null,null,null,null,null,null,null,"",null,null,null,null,null,null,null,null,{"$f":"IF(G$2034=1,\"\",IF(S1564=\"\",\"\",VLOOKUP(S1564,Tabelle!$I$5:$M$7,5,FALSE)))","v":""},{"$f":"IF(G$2034=1,\"\",IF(S1564=\"\",\"\",VLOOKUP(S1564,Tabelle!$I$5:$N$7,6,FALSE)))","v":""},null,null,null,null,null,null,null,null,null,{"$f":"IF(D1564=\"\",0,IF(D1564=D1563,COUNTIF(D$9:D1563,D1564)+1,1))","v":0},0,0]
["1557","-1900","-1900-0",null,null,null,null,null,null,null,"",null,null,null,null,null,null,null,null,{"$f":"IF(G$2034=1,\"\",IF(S1565=\"\",\"\",VLOOKUP(S1565,Tabelle!$I$5:$M$7,5,FALSE)))","v":""},{"$f":"IF(G$2034=1,\"\",IF(S1565=\"\",\"\",VLOOKUP(S1565,Tabelle!$I$5:$N$7,6,FALSE)))","v":""},null,null,null,null,null,null,null,null,null,{"$f":"IF(D1565=\"\",0,IF(D1565=D1564,COUNTIF(D$9:D1564,D1565)+1,1))","v":0},0,0]
["1558","-1900","-1900-0",null,null,null,null,null,null,null,"",null,null,null,null,null,null,null,null,{"$f":"IF(G$2034=1,\"\",IF(S1566=\"\",\"\",VLOOKUP(S1566,Tabelle!$I$5:$M$7,5,FALSE)))","v":""},{"$f":"IF(G$2034=1,\"\",IF(S1566=\"\",\"\",VLOOKUP(S1566,Tabelle!$I$5:$N$7,6,FALSE)))","v":""},null,null,null,null,null,null,null,null,null,{"$f":"IF(D1566=\"\",0,IF(D1566=D1565,COUNTIF(D$9:D1565,D1566)+1,1))","v":0},0,0]
["1559","-1900","-1900-0",null,null,null,null,null,null,null,"",null,null,null,null,null,null,null,null,{"$f":"IF(G$2034=1,\"\",IF(S1567=\"\",\"\",VLOOKUP(S1567,Tabelle!$I$5:$M$7,5,FALSE)))","v":""},{"$f":"IF(G$2034=1,\"\",IF(S1567=\"\",\"\",VLOOKUP(S1567,Tabelle!$I$5:$N$7,6,FALSE)))","v":""},null,null,null,null,null,null,null,null,null,{"$f":"IF(D1567=\"\",0,IF(D1567=D1566,COUNTIF(D$9:D1566,D1567)+1,1))","v":0},0,0]
["1560","-1900","-1900-0",null,null,null,null,null,null,null,"",null,null,null,null,null,null,null,null,{"$f":"IF(G$2034=1,\"\",IF(S1568=\"\",\"\",VLOOKUP(S1568,Tabelle!$I$5:$M$7,5,FALSE)))","v":""},{"$f":"IF(G$2034=1,\"\",IF(S1568=\"\",\"\",VLOOKUP(S1568,Tabelle!$I$5:$N$7,6,FALSE)))","v":""},null,null,null,null,null,null,null,null,null,{"$f":"IF(D1568=\"\",0,IF(D1568=D1567,COUNTIF(D$9:D1567,D1568)+1,1))","v":0},0,0]
["1561","-1900","-1900-0",null,null,null,null,null,null,null,"",null,null,null,null,null,null,null,null,{"$f":"IF(G$2034=1,\"\",IF(S1569=\"\",\"\",VLOOKUP(S1569,Tabelle!$I$5:$M$7,5,FALSE)))","v":""},{"$f":"IF(G$2034=1,\"\",IF(S1569=\"\",\"\",VLOOKUP(S1569,Tabelle!$I$5:$N$7,6,FALSE)))","v":""},null,null,null,null,null,null,null,null,null,{"$f":"IF(D1569=\"\",0,IF(D1569=D1568,COUNTIF(D$9:D1568,D1569)+1,1))","v":0},0,0]
["1562","-1900","-1900-0",null,null,null,null,null,null,null,"",null,null,null,null,null,null,null,null,{"$f":"IF(G$2034=1,\"\",IF(S1570=\"\",\"\",VLOOKUP(S1570,Tabelle!$I$5:$M$7,5,FALSE)))","v":""},{"$f":"IF(G$2034=1,\"\",IF(S1570=\"\",\"\",VLOOKUP(S1570,Tabelle!$I$5:$N$7,6,FALSE)))","v":""},null,null,null,null,null,null,null,null,null,{"$f":"IF(D1570=\"\",0,IF(D1570=D1569,COUNTIF(D$9:D1569,D1570)+1,1))","v":0},0,0]
["1563","-1900","-1900-0",null,null,null,null,null,null,null,"",null,null,null,null,null,null,null,null,{"$f":"IF(G$2034=1,\"\",IF(S1571=\"\",\"\",VLOOKUP(S1571,Tabelle!$I$5:$M$7,5,FALSE)))","v":""},{"$f":"IF(G$2034=1,\"\",IF(S1571=\"\",\"\",VLOOKUP(S1571,Tabelle!$I$5:$N$7,6,FALSE)))","v":""},null,null,null,null,null,null,null,null,null,{"$f":"IF(D1571=\"\",0,IF(D1571=D1570,COUNTIF(D$9:D1570,D1571)+1,1))","v":0},0,0]
["1564","-1900","-1900-0",null,null,null,null,null,null,null,"",null,null,null,null,null,null,null,null,{"$f":"IF(G$2034=1,\"\",IF(S1572=\"\",\"\",VLOOKUP(S1572,Tabelle!$I$5:$M$7,5,FALSE)))","v":""},{"$f":"IF(G$2034=1,\"\",IF(S1572=\"\",\"\",VLOOKUP(S1572,Tabelle!$I$5:$N$7,6,FALSE)))","v":""},null,null,null,null,null,null,null,null,null,{"$f":"IF(D1572=\"\",0,IF(D1572=D1571,COUNTIF(D$9:D1571,D1572)+1,1))","v":0},0,0]
["1565","-1900","-1900-0",null,null,null,null,null,null,null,"",null,null,null,null,null,null,null,null,{"$f":"IF(G$2034=1,\"\",IF(S1573=\"\",\"\",VLOOKUP(S1573,Tabelle!$I$5:$M$7,5,FALSE)))","v":""},{"$f":"IF(G$2034=1,\"\",IF(S1573=\"\",\"\",VLOOKUP(S1573,Tabelle!$I$5:$N$7,6,FALSE)))","v":""},null,null,null,null,null,null,null,null,null,{"$f":"IF(D1573=\"\",0,IF(D1573=D1572,COUNTIF(D$9:D1572,D1573)+1,1))","v":0},0,0]
["1566","-1900","-1900-0",null,null,null,null,null,null,null,"",null,null,null,null,null,null,null,null,{"$f":"IF(G$2034=1,\"\",IF(S1574=\"\",\"\",VLOOKUP(S1574,Tabelle!$I$5:$M$7,5,FALSE)))","v":""},{"$f":"IF(G$2034=1,\"\",IF(S1574=\"\",\"\",VLOOKUP(S1574,Tabelle!$I$5:$N$7,6,FALSE)))","v":""},null,null,null,null,null,null,null,null,null,{"$f":"IF(D1574=\"\",0,IF(D1574=D1573,COUNTIF(D$9:D1573,D1574)+1,1))","v":0},0,0]
["1567","-1900","-1900-0",null,null,null,null,null,null,null,"",null,null,null,null,null,null,null,null,{"$f":"IF(G$2034=1,\"\",IF(S1575=\"\",\"\",VLOOKUP(S1575,Tabelle!$I$5:$M$7,5,FALSE)))","v":""},{"$f":"IF(G$2034=1,\"\",IF(S1575=\"\",\"\",VLOOKUP(S1575,Tabelle!$I$5:$N$7,6,FALSE)))","v":""},null,null,null,null,null,null,null,null,null,{"$f":"IF(D1575=\"\",0,IF(D1575=D1574,COUNTIF(D$9:D1574,D1575)+1,1))","v":0},0,0]
["1568","-1900","-1900-0",null,null,null,null,null,null,null,"",null,null,null,null,null,null,null,null,{"$f":"IF(G$2034=1,\"\",IF(S1576=\"\",\"\",VLOOKUP(S1576,Tabelle!$I$5:$M$7,5,FALSE)))","v":""},{"$f":"IF(G$2034=1,\"\",IF(S1576=\"\",\"\",VLOOKUP(S1576,Tabelle!$I$5:$N$7,6,FALSE)))","v":""},null,null,null,null,null,null,null,null,null,{"$f":"IF(D1576=\"\",0,IF(D1576=D1575,COUNTIF(D$9:D1575,D1576)+1,1))","v":0},0,0]
["1569","-1900","-1900-0",null,null,null,null,null,null,null,"",null,null,null,null,null,null,null,null,{"$f":"IF(G$2034=1,\"\",IF(S1577=\"\",\"\",VLOOKUP(S1577,Tabelle!$I$5:$M$7,5,FALSE)))","v":""},{"$f":"IF(G$2034=1,\"\",IF(S1577=\"\",\"\",VLOOKUP(S1577,Tabelle!$I$5:$N$7,6,FALSE)))","v":""},null,null,null,null,null,null,null,null,null,{"$f":"IF(D1577=\"\",0,IF(D1577=D1576,COUNTIF(D$9:D1576,D1577)+1,1))","v":0},0,0]
["1570","-1900","-1900-0",null,null,null,null,null,null,null,"",null,null,null,null,null,null,null,null,{"$f":"IF(G$2034=1,\"\",IF(S1578=\"\",\"\",VLOOKUP(S1578,Tabelle!$I$5:$M$7,5,FALSE)))","v":""},{"$f":"IF(G$2034=1,\"\",IF(S1578=\"\",\"\",VLOOKUP(S1578,Tabelle!$I$5:$N$7,6,FALSE)))","v":""},null,null,null,null,null,null,null,null,null,{"$f":"IF(D1578=\"\",0,IF(D1578=D1577,COUNTIF(D$9:D1577,D1578)+1,1))","v":0},0,0]
["1571","-1900","-1900-0",null,null,null,null,null,null,null,"",null,null,null,null,null,null,null,null,{"$f":"IF(G$2034=1,\"\",IF(S1579=\"\",\"\",VLOOKUP(S1579,Tabelle!$I$5:$M$7,5,FALSE)))","v":""},{"$f":"IF(G$2034=1,\"\",IF(S1579=\"\",\"\",VLOOKUP(S1579,Tabelle!$I$5:$N$7,6,FALSE)))","v":""},null,null,null,null,null,null,null,null,null,{"$f":"IF(D1579=\"\",0,IF(D1579=D1578,COUNTIF(D$9:D1578,D1579)+1,1))","v":0},0,0]
["1572","-1900","-1900-0",null,null,null,null,null,null,null,"",null,null,null,null,null,null,null,null,{"$f":"IF(G$2034=1,\"\",IF(S1580=\"\",\"\",VLOOKUP(S1580,Tabelle!$I$5:$M$7,5,FALSE)))","v":""},{"$f":"IF(G$2034=1,\"\",IF(S1580=\"\",\"\",VLOOKUP(S1580,Tabelle!$I$5:$N$7,6,FALSE)))","v":""},null,null,null,null,null,null,null,null,null,{"$f":"IF(D1580=\"\",0,IF(D1580=D1579,COUNTIF(D$9:D1579,D1580)+1,1))","v":0},0,0]
["1573","-1900","-1900-0",null,null,null,null,null,null,null,"",null,null,null,null,null,null,null,null,{"$f":"IF(G$2034=1,\"\",IF(S1581=\"\",\"\",VLOOKUP(S1581,Tabelle!$I$5:$M$7,5,FALSE)))","v":""},{"$f":"IF(G$2034=1,\"\",IF(S1581=\"\",\"\",VLOOKUP(S1581,Tabelle!$I$5:$N$7,6,FALSE)))","v":""},null,null,null,null,null,null,null,null,null,{"$f":"IF(D1581=\"\",0,IF(D1581=D1580,COUNTIF(D$9:D1580,D1581)+1,1))","v":0},0,0]
["1574","-1900","-1900-0",null,null,null,null,null,null,null,"",null,null,null,null,null,null,null,null,{"$f":"IF(G$2034=1,\"\",IF(S1582=\"\",\"\",VLOOKUP(S1582,Tabelle!$I$5:$M$7,5,FALSE)))","v":""},{"$f":"IF(G$2034=1,\"\",IF(S1582=\"\",\"\",VLOOKUP(S1582,Tabelle!$I$5:$N$7,6,FALSE)))","v":""},null,null,null,null,null,null,null,null,null,{"$f":"IF(D1582=\"\",0,IF(D1582=D1581,COUNTIF(D$9:D1581,D1582)+1,1))","v":0},0,0]
["1575","-1900","-1900-0",null,null,null,null,null,null,null,"",null,null,null,null,null,null,null,null,{"$f":"IF(G$2034=1,\"\",IF(S1583=\"\",\"\",VLOOKUP(S1583,Tabelle!$I$5:$M$7,5,FALSE)))","v":""},{"$f":"IF(G$2034=1,\"\",IF(S1583=\"\",\"\",VLOOKUP(S1583,Tabelle!$I$5:$N$7,6,FALSE)))","v":""},null,null,null,null,null,null,null,null,null,{"$f":"IF(D1583=\"\",0,IF(D1583=D1582,COUNTIF(D$9:D1582,D1583)+1,1))","v":0},0,0]
["1576","-1900","-1900-0",null,null,null,null,null,null,null,"",null,null,null,null,null,null,null,null,{"$f":"IF(G$2034=1,\"\",IF(S1584=\"\",\"\",VLOOKUP(S1584,Tabelle!$I$5:$M$7,5,FALSE)))","v":""},{"$f":"IF(G$2034=1,\"\",IF(S1584=\"\",\"\",VLOOKUP(S1584,Tabelle!$I$5:$N$7,6,FALSE)))","v":""},null,null,null,null,null,null,null,null,null,{"$f":"IF(D1584=\"\",0,IF(D1584=D1583,COUNTIF(D$9:D1583,D1584)+1,1))","v":0},0,0]
["1577","-1900","-1900-0",null,null,null,null,null,null,null,"",null,null,null,null,null,null,null,null,{"$f":"IF(G$2034=1,\"\",IF(S1585=\"\",\"\",VLOOKUP(S1585,Tabelle!$I$5:$M$7,5,FALSE)))","v":""},{"$f":"IF(G$2034=1,\"\",IF(S1585=\"\",\"\",VLOOKUP(S1585,Tabelle!$I$5:$N$7,6,FALSE)))","v":""},null,null,null,null,null,null,null,null,null,{"$f":"IF(D1585=\"\",0,IF(D1585=D1584,COUNTIF(D$9:D1584,D1585)+1,1))","v":0},0,0]
["1578","-1900","-1900-0",null,null,null,null,null,null,null,"",null,null,null,null,null,null,null,null,{"$f":"IF(G$2034=1,\"\",IF(S1586=\"\",\"\",VLOOKUP(S1586,Tabelle!$I$5:$M$7,5,FALSE)))","v":""},{"$f":"IF(G$2034=1,\"\",IF(S1586=\"\",\"\",VLOOKUP(S1586,Tabelle!$I$5:$N$7,6,FALSE)))","v":""},null,null,null,null,null,null,null,null,null,{"$f":"IF(D1586=\"\",0,IF(D1586=D1585,COUNTIF(D$9:D1585,D1586)+1,1))","v":0},0,0]
["1579","-1900","-1900-0",null,null,null,null,null,null,null,"",null,null,null,null,null,null,null,null,{"$f":"IF(G$2034=1,\"\",IF(S1587=\"\",\"\",VLOOKUP(S1587,Tabelle!$I$5:$M$7,5,FALSE)))","v":""},{"$f":"IF(G$2034=1,\"\",IF(S1587=\"\",\"\",VLOOKUP(S1587,Tabelle!$I$5:$N$7,6,FALSE)))","v":""},null,null,null,null,null,null,null,null,null,{"$f":"IF(D1587=\"\",0,IF(D1587=D1586,COUNTIF(D$9:D1586,D1587)+1,1))","v":0},0,0]
["1580","-1900","-1900-0",null,null,null,null,null,null,null,"",null,null,null,null,null,null,null,null,{"$f":"IF(G$2034=1,\"\",IF(S1588=\"\",\"\",VLOOKUP(S1588,Tabelle!$I$5:$M$7,5,FALSE)))","v":""},{"$f":"IF(G$2034=1,\"\",IF(S1588=\"\",\"\",VLOOKUP(S1588,Tabelle!$I$5:$N$7,6,FALSE)))","v":""},null,null,null,null,null,null,null,null,null,{"$f":"IF(D1588=\"\",0,IF(D1588=D1587,COUNTIF(D$9:D1587,D1588)+1,1))","v":0},0,0]
["1581","-1900","-1900-0",null,null,null,null,null,null,null,"",null,null,null,null,null,null,null,null,{"$f":"IF(G$2034=1,\"\",IF(S1589=\"\",\"\",VLOOKUP(S1589,Tabelle!$I$5:$M$7,5,FALSE)))","v":""},{"$f":"IF(G$2034=1,\"\",IF(S1589=\"\",\"\",VLOOKUP(S1589,Tabelle!$I$5:$N$7,6,FALSE)))","v":""},null,null,null,null,null,null,null,null,null,{"$f":"IF(D1589=\"\",0,IF(D1589=D1588,COUNTIF(D$9:D1588,D1589)+1,1))","v":0},0,0]
["1582","-1900","-1900-0",null,null,null,null,null,null,null,"",null,null,null,null,null,null,null,null,{"$f":"IF(G$2034=1,\"\",IF(S1590=\"\",\"\",VLOOKUP(S1590,Tabelle!$I$5:$M$7,5,FALSE)))","v":""},{"$f":"IF(G$2034=1,\"\",IF(S1590=\"\",\"\",VLOOKUP(S1590,Tabelle!$I$5:$N$7,6,FALSE)))","v":""},null,null,null,null,null,null,null,null,null,{"$f":"IF(D1590=\"\",0,IF(D1590=D1589,COUNTIF(D$9:D1589,D1590)+1,1))","v":0},0,0]
["1583","-1900","-1900-0",null,null,null,null,null,null,null,"",null,null,null,null,null,null,null,null,{"$f":"IF(G$2034=1,\"\",IF(S1591=\"\",\"\",VLOOKUP(S1591,Tabelle!$I$5:$M$7,5,FALSE)))","v":""},{"$f":"IF(G$2034=1,\"\",IF(S1591=\"\",\"\",VLOOKUP(S1591,Tabelle!$I$5:$N$7,6,FALSE)))","v":""},null,null,null,null,null,null,null,null,null,{"$f":"IF(D1591=\"\",0,IF(D1591=D1590,COUNTIF(D$9:D1590,D1591)+1,1))","v":0},0,0]
["1584","-1900","-1900-0",null,null,null,null,null,null,null,"",null,null,null,null,null,null,null,null,{"$f":"IF(G$2034=1,\"\",IF(S1592=\"\",\"\",VLOOKUP(S1592,Tabelle!$I$5:$M$7,5,FALSE)))","v":""},{"$f":"IF(G$2034=1,\"\",IF(S1592=\"\",\"\",VLOOKUP(S1592,Tabelle!$I$5:$N$7,6,FALSE)))","v":""},null,null,null,null,null,null,null,null,null,{"$f":"IF(D1592=\"\",0,IF(D1592=D1591,COUNTIF(D$9:D1591,D1592)+1,1))","v":0},0,0]
["1585","-1900","-1900-0",null,null,null,null,null,null,null,"",null,null,null,null,null,null,null,null,{"$f":"IF(G$2034=1,\"\",IF(S1593=\"\",\"\",VLOOKUP(S1593,Tabelle!$I$5:$M$7,5,FALSE)))","v":""},{"$f":"IF(G$2034=1,\"\",IF(S1593=\"\",\"\",VLOOKUP(S1593,Tabelle!$I$5:$N$7,6,FALSE)))","v":""},null,null,null,null,null,null,null,null,null,{"$f":"IF(D1593=\"\",0,IF(D1593=D1592,COUNTIF(D$9:D1592,D1593)+1,1))","v":0},0,0]
["1586","-1900","-1900-0",null,null,null,null,null,null,null,"",null,null,null,null,null,null,null,null,{"$f":"IF(G$2034=1,\"\",IF(S1594=\"\",\"\",VLOOKUP(S1594,Tabelle!$I$5:$M$7,5,FALSE)))","v":""},{"$f":"IF(G$2034=1,\"\",IF(S1594=\"\",\"\",VLOOKUP(S1594,Tabelle!$I$5:$N$7,6,FALSE)))","v":""},null,null,null,null,null,null,null,null,null,{"$f":"IF(D1594=\"\",0,IF(D1594=D1593,COUNTIF(D$9:D1593,D1594)+1,1))","v":0},0,0]
["1587","-1900","-1900-0",null,null,null,null,null,null,null,"",null,null,null,null,null,null,null,null,{"$f":"IF(G$2034=1,\"\",IF(S1595=\"\",\"\",VLOOKUP(S1595,Tabelle!$I$5:$M$7,5,FALSE)))","v":""},{"$f":"IF(G$2034=1,\"\",IF(S1595=\"\",\"\",VLOOKUP(S1595,Tabelle!$I$5:$N$7,6,FALSE)))","v":""},null,null,null,null,null,null,null,null,null,{"$f":"IF(D1595=\"\",0,IF(D1595=D1594,COUNTIF(D$9:D1594,D1595)+1,1))","v":0},0,0]
["1588","-1900","-1900-0",null,null,null,null,null,null,null,"",null,null,null,null,null,null,null,null,{"$f":"IF(G$2034=1,\"\",IF(S1596=\"\",\"\",VLOOKUP(S1596,Tabelle!$I$5:$M$7,5,FALSE)))","v":""},{"$f":"IF(G$2034=1,\"\",IF(S1596=\"\",\"\",VLOOKUP(S1596,Tabelle!$I$5:$N$7,6,FALSE)))","v":""},null,null,null,null,null,null,null,null,null,{"$f":"IF(D1596=\"\",0,IF(D1596=D1595,COUNTIF(D$9:D1595,D1596)+1,1))","v":0},0,0]
["1589","-1900","-1900-0",null,null,null,null,null,null,null,"",null,null,null,null,null,null,null,null,{"$f":"IF(G$2034=1,\"\",IF(S1597=\"\",\"\",VLOOKUP(S1597,Tabelle!$I$5:$M$7,5,FALSE)))","v":""},{"$f":"IF(G$2034=1,\"\",IF(S1597=\"\",\"\",VLOOKUP(S1597,Tabelle!$I$5:$N$7,6,FALSE)))","v":""},null,null,null,null,null,null,null,null,null,{"$f":"IF(D1597=\"\",0,IF(D1597=D1596,COUNTIF(D$9:D1596,D1597)+1,1))","v":0},0,0]
["1590","-1900","-1900-0",null,null,null,null,null,null,null,"",null,null,null,null,null,null,null,null,{"$f":"IF(G$2034=1,\"\",IF(S1598=\"\",\"\",VLOOKUP(S1598,Tabelle!$I$5:$M$7,5,FALSE)))","v":""},{"$f":"IF(G$2034=1,\"\",IF(S1598=\"\",\"\",VLOOKUP(S1598,Tabelle!$I$5:$N$7,6,FALSE)))","v":""},null,null,null,null,null,null,null,null,null,{"$f":"IF(D1598=\"\",0,IF(D1598=D1597,COUNTIF(D$9:D1597,D1598)+1,1))","v":0},0,0]
["1591","-1900","-1900-0",null,null,null,null,null,null,null,"",null,null,null,null,null,null,null,null,{"$f":"IF(G$2034=1,\"\",IF(S1599=\"\",\"\",VLOOKUP(S1599,Tabelle!$I$5:$M$7,5,FALSE)))","v":""},{"$f":"IF(G$2034=1,\"\",IF(S1599=\"\",\"\",VLOOKUP(S1599,Tabelle!$I$5:$N$7,6,FALSE)))","v":""},null,null,null,null,null,null,null,null,null,{"$f":"IF(D1599=\"\",0,IF(D1599=D1598,COUNTIF(D$9:D1598,D1599)+1,1))","v":0},0,0]
["1592","-1900","-1900-0",null,null,null,null,null,null,null,"",null,null,null,null,null,null,null,null,{"$f":"IF(G$2034=1,\"\",IF(S1600=\"\",\"\",VLOOKUP(S1600,Tabelle!$I$5:$M$7,5,FALSE)))","v":""},{"$f":"IF(G$2034=1,\"\",IF(S1600=\"\",\"\",VLOOKUP(S1600,Tabelle!$I$5:$N$7,6,FALSE)))","v":""},null,null,null,null,null,null,null,null,null,{"$f":"IF(D1600=\"\",0,IF(D1600=D1599,COUNTIF(D$9:D1599,D1600)+1,1))","v":0},0,0]
["1593","-1900","-1900-0",null,null,null,null,null,null,null,"",null,null,null,null,null,null,null,null,{"$f":"IF(G$2034=1,\"\",IF(S1601=\"\",\"\",VLOOKUP(S1601,Tabelle!$I$5:$M$7,5,FALSE)))","v":""},{"$f":"IF(G$2034=1,\"\",IF(S1601=\"\",\"\",VLOOKUP(S1601,Tabelle!$I$5:$N$7,6,FALSE)))","v":""},null,null,null,null,null,null,null,null,null,{"$f":"IF(D1601=\"\",0,IF(D1601=D1600,COUNTIF(D$9:D1600,D1601)+1,1))","v":0},0,0]
["1594","-1900","-1900-0",null,null,null,null,null,null,null,"",null,null,null,null,null,null,null,null,{"$f":"IF(G$2034=1,\"\",IF(S1602=\"\",\"\",VLOOKUP(S1602,Tabelle!$I$5:$M$7,5,FALSE)))","v":""},{"$f":"IF(G$2034=1,\"\",IF(S1602=\"\",\"\",VLOOKUP(S1602,Tabelle!$I$5:$N$7,6,FALSE)))","v":""},null,null,null,null,null,null,null,null,null,{"$f":"IF(D1602=\"\",0,IF(D1602=D1601,COUNTIF(D$9:D1601,D1602)+1,1))","v":0},0,0]
["1595","-1900","-1900-0",null,null,null,null,null,null,null,"",null,null,null,null,null,null,null,null,{"$f":"IF(G$2034=1,\"\",IF(S1603=\"\",\"\",VLOOKUP(S1603,Tabelle!$I$5:$M$7,5,FALSE)))","v":""},{"$f":"IF(G$2034=1,\"\",IF(S1603=\"\",\"\",VLOOKUP(S1603,Tabelle!$I$5:$N$7,6,FALSE)))","v":""},null,null,null,null,null,null,null,null,null,{"$f":"IF(D1603=\"\",0,IF(D1603=D1602,COUNTIF(D$9:D1602,D1603)+1,1))","v":0},0,0]
["1596","-1900","-1900-0",null,null,null,null,null,null,null,"",null,null,null,null,null,null,null,null,{"$f":"IF(G$2034=1,\"\",IF(S1604=\"\",\"\",VLOOKUP(S1604,Tabelle!$I$5:$M$7,5,FALSE)))","v":""},{"$f":"IF(G$2034=1,\"\",IF(S1604=\"\",\"\",VLOOKUP(S1604,Tabelle!$I$5:$N$7,6,FALSE)))","v":""},null,null,null,null,null,null,null,null,null,{"$f":"IF(D1604=\"\",0,IF(D1604=D1603,COUNTIF(D$9:D1603,D1604)+1,1))","v":0},0,0]
["1597","-1900","-1900-0",null,null,null,null,null,null,null,"",null,null,null,null,null,null,null,null,{"$f":"IF(G$2034=1,\"\",IF(S1605=\"\",\"\",VLOOKUP(S1605,Tabelle!$I$5:$M$7,5,FALSE)))","v":""},{"$f":"IF(G$2034=1,\"\",IF(S1605=\"\",\"\",VLOOKUP(S1605,Tabelle!$I$5:$N$7,6,FALSE)))","v":""},null,null,null,null,null,null,null,null,null,{"$f":"IF(D1605=\"\",0,IF(D1605=D1604,COUNTIF(D$9:D1604,D1605)+1,1))","v":0},0,0]
["1598","-1900","-1900-0",null,null,null,null,null,null,null,"",null,null,null,null,null,null,null,null,{"$f":"IF(G$2034=1,\"\",IF(S1606=\"\",\"\",VLOOKUP(S1606,Tabelle!$I$5:$M$7,5,FALSE)))","v":""},{"$f":"IF(G$2034=1,\"\",IF(S1606=\"\",\"\",VLOOKUP(S1606,Tabelle!$I$5:$N$7,6,FALSE)))","v":""},null,null,null,null,null,null,null,null,null,{"$f":"IF(D1606=\"\",0,IF(D1606=D1605,COUNTIF(D$9:D1605,D1606)+1,1))","v":0},0,0]
["1599","-1900","-1900-0",null,null,null,null,null,null,null,"",null,null,null,null,null,null,null,null,{"$f":"IF(G$2034=1,\"\",IF(S1607=\"\",\"\",VLOOKUP(S1607,Tabelle!$I$5:$M$7,5,FALSE)))","v":""},{"$f":"IF(G$2034=1,\"\",IF(S1607=\"\",\"\",VLOOKUP(S1607,Tabelle!$I$5:$N$7,6,FALSE)))","v":""},null,null,null,null,null,null,null,null,null,{"$f":"IF(D1607=\"\",0,IF(D1607=D1606,COUNTIF(D$9:D1606,D1607)+1,1))","v":0},0,0]
["1600","-1900","-1900-0",null,null,null,null,null,null,null,"",null,null,null,null,null,null,null,null,{"$f":"IF(G$2034=1,\"\",IF(S1608=\"\",\"\",VLOOKUP(S1608,Tabelle!$I$5:$M$7,5,FALSE)))","v":""},{"$f":"IF(G$2034=1,\"\",IF(S1608=\"\",\"\",VLOOKUP(S1608,Tabelle!$I$5:$N$7,6,FALSE)))","v":""},null,null,null,null,null,null,null,null,null,{"$f":"IF(D1608=\"\",0,IF(D1608=D1607,COUNTIF(D$9:D1607,D1608)+1,1))","v":0},0,0]
["1601","-1900",{"$f":"IF(G$2034=1,0,B1609&\"-\"&AE1609)","v":"-1900-0"},null,null,null,null,null,null,null,{"$f":"IF(G$2034=1,0,IF(OR(J1609=\"\",ISERROR($O$2034)),\"\",VLOOKUP(J1609,$L$2019:$N$2027,2,FALSE)))","v":""},null,null,null,null,null,null,null,null,{"$f":"IF(G$2034=1,\"\",IF(S1609=\"\",\"\",VLOOKUP(S1609,Tabelle!$I$5:$M$7,5,FALSE)))","v":""},{"$f":"IF(G$2034=1,\"\",IF(S1609=\"\",\"\",VLOOKUP(S1609,Tabelle!$I$5:$N$7,6,FALSE)))","v":""},null,null,null,null,null,null,null,null,null,{"$f":"IF(D1609=\"\",0,IF(D1609=D1608,COUNTIF(D$9:D1608,D1609)+1,1))","v":0},0,0]
["1602",{"$f":"IF(AG1610=$AG$2013,0,IF(G$2034=1,0,D1610&\"-\"&YEAR(E1610)))","v":"-1900"},"-1900-0",null,null,null,null,null,null,null,"",null,null,null,null,null,null,null,null,{"$f":"IF(G$2034=1,\"\",IF(S1610=\"\",\"\",VLOOKUP(S1610,Tabelle!$I$5:$M$7,5,FALSE)))","v":""},{"$f":"IF(G$2034=1,\"\",IF(S1610=\"\",\"\",VLOOKUP(S1610,Tabelle!$I$5:$N$7,6,FALSE)))","v":""},null,null,null,null,null,null,null,null,null,{"$f":"IF(D1610=\"\",0,IF(D1610=D1609,COUNTIF(D$9:D1609,D1610)+1,1))","v":0},{"$f":"IF(G$2034=1,0,IF(AE1610=28,1,0))","v":0},{"$f":"IF(E1610>0,IF(OR(MONTH(E1610)<$G$2026,MONTH(E1610)>$G$2027),AG$2013,0),0)","v":0}]
["1603","-1900","-1900-0",null,null,null,null,null,null,null,"",null,null,null,null,null,null,null,null,{"$f":"IF(G$2034=1,\"\",IF(S1611=\"\",\"\",VLOOKUP(S1611,Tabelle!$I$5:$M$7,5,FALSE)))","v":""},{"$f":"IF(G$2034=1,\"\",IF(S1611=\"\",\"\",VLOOKUP(S1611,Tabelle!$I$5:$N$7,6,FALSE)))","v":""},null,null,null,null,null,null,null,null,null,{"$f":"IF(D1611=\"\",0,IF(D1611=D1610,COUNTIF(D$9:D1610,D1611)+1,1))","v":0},0,0]
["1604","-1900","-1900-0",null,null,null,null,null,null,null,"",null,null,null,null,null,null,null,null,{"$f":"IF(G$2034=1,\"\",IF(S1612=\"\",\"\",VLOOKUP(S1612,Tabelle!$I$5:$M$7,5,FALSE)))","v":""},{"$f":"IF(G$2034=1,\"\",IF(S1612=\"\",\"\",VLOOKUP(S1612,Tabelle!$I$5:$N$7,6,FALSE)))","v":""},null,null,null,null,null,null,null,null,null,{"$f":"IF(D1612=\"\",0,IF(D1612=D1611,COUNTIF(D$9:D1611,D1612)+1,1))","v":0},0,0]
["1605","-1900","-1900-0",null,null,null,null,null,null,null,"",null,null,null,null,null,null,null,null,{"$f":"IF(G$2034=1,\"\",IF(S1613=\"\",\"\",VLOOKUP(S1613,Tabelle!$I$5:$M$7,5,FALSE)))","v":""},{"$f":"IF(G$2034=1,\"\",IF(S1613=\"\",\"\",VLOOKUP(S1613,Tabelle!$I$5:$N$7,6,FALSE)))","v":""},null,null,null,null,null,null,null,null,null,{"$f":"IF(D1613=\"\",0,IF(D1613=D1612,COUNTIF(D$9:D1612,D1613)+1,1))","v":0},0,0]
["1606","-1900","-1900-0",null,null,null,null,null,null,null,"",null,null,null,null,null,null,null,null,{"$f":"IF(G$2034=1,\"\",IF(S1614=\"\",\"\",VLOOKUP(S1614,Tabelle!$I$5:$M$7,5,FALSE)))","v":""},{"$f":"IF(G$2034=1,\"\",IF(S1614=\"\",\"\",VLOOKUP(S1614,Tabelle!$I$5:$N$7,6,FALSE)))","v":""},null,null,null,null,null,null,null,null,null,{"$f":"IF(D1614=\"\",0,IF(D1614=D1613,COUNTIF(D$9:D1613,D1614)+1,1))","v":0},0,0]
["1607","-1900","-1900-0",null,null,null,null,null,null,null,"",null,null,null,null,null,null,null,null,{"$f":"IF(G$2034=1,\"\",IF(S1615=\"\",\"\",VLOOKUP(S1615,Tabelle!$I$5:$M$7,5,FALSE)))","v":""},{"$f":"IF(G$2034=1,\"\",IF(S1615=\"\",\"\",VLOOKUP(S1615,Tabelle!$I$5:$N$7,6,FALSE)))","v":""},null,null,null,null,null,null,null,null,null,{"$f":"IF(D1615=\"\",0,IF(D1615=D1614,COUNTIF(D$9:D1614,D1615)+1,1))","v":0},0,0]
["1608","-1900","-1900-0",null,null,null,null,null,null,null,"",null,null,null,null,null,null,null,null,{"$f":"IF(G$2034=1,\"\",IF(S1616=\"\",\"\",VLOOKUP(S1616,Tabelle!$I$5:$M$7,5,FALSE)))","v":""},{"$f":"IF(G$2034=1,\"\",IF(S1616=\"\",\"\",VLOOKUP(S1616,Tabelle!$I$5:$N$7,6,FALSE)))","v":""},null,null,null,null,null,null,null,null,null,{"$f":"IF(D1616=\"\",0,IF(D1616=D1615,COUNTIF(D$9:D1615,D1616)+1,1))","v":0},0,0]
["1609","-1900","-1900-0",null,null,null,null,null,null,null,"",null,null,null,null,null,null,null,null,{"$f":"IF(G$2034=1,\"\",IF(S1617=\"\",\"\",VLOOKUP(S1617,Tabelle!$I$5:$M$7,5,FALSE)))","v":""},{"$f":"IF(G$2034=1,\"\",IF(S1617=\"\",\"\",VLOOKUP(S1617,Tabelle!$I$5:$N$7,6,FALSE)))","v":""},null,null,null,null,null,null,null,null,null,{"$f":"IF(D1617=\"\",0,IF(D1617=D1616,COUNTIF(D$9:D1616,D1617)+1,1))","v":0},0,0]
["1610","-1900","-1900-0",null,null,null,null,null,null,null,"",null,null,null,null,null,null,null,null,{"$f":"IF(G$2034=1,\"\",IF(S1618=\"\",\"\",VLOOKUP(S1618,Tabelle!$I$5:$M$7,5,FALSE)))","v":""},{"$f":"IF(G$2034=1,\"\",IF(S1618=\"\",\"\",VLOOKUP(S1618,Tabelle!$I$5:$N$7,6,FALSE)))","v":""},null,null,null,null,null,null,null,null,null,{"$f":"IF(D1618=\"\",0,IF(D1618=D1617,COUNTIF(D$9:D1617,D1618)+1,1))","v":0},0,0]
["1611","-1900","-1900-0",null,null,null,null,null,null,null,"",null,null,null,null,null,null,null,null,{"$f":"IF(G$2034=1,\"\",IF(S1619=\"\",\"\",VLOOKUP(S1619,Tabelle!$I$5:$M$7,5,FALSE)))","v":""},{"$f":"IF(G$2034=1,\"\",IF(S1619=\"\",\"\",VLOOKUP(S1619,Tabelle!$I$5:$N$7,6,FALSE)))","v":""},null,null,null,null,null,null,null,null,null,{"$f":"IF(D1619=\"\",0,IF(D1619=D1618,COUNTIF(D$9:D1618,D1619)+1,1))","v":0},0,0]
["1612","-1900","-1900-0",null,null,null,null,null,null,null,"",null,null,null,null,null,null,null,null,{"$f":"IF(G$2034=1,\"\",IF(S1620=\"\",\"\",VLOOKUP(S1620,Tabelle!$I$5:$M$7,5,FALSE)))","v":""},{"$f":"IF(G$2034=1,\"\",IF(S1620=\"\",\"\",VLOOKUP(S1620,Tabelle!$I$5:$N$7,6,FALSE)))","v":""},null,null,null,null,null,null,null,null,null,{"$f":"IF(D1620=\"\",0,IF(D1620=D1619,COUNTIF(D$9:D1619,D1620)+1,1))","v":0},0,0]
["1613","-1900","-1900-0",null,null,null,null,null,null,null,"",null,null,null,null,null,null,null,null,{"$f":"IF(G$2034=1,\"\",IF(S1621=\"\",\"\",VLOOKUP(S1621,Tabelle!$I$5:$M$7,5,FALSE)))","v":""},{"$f":"IF(G$2034=1,\"\",IF(S1621=\"\",\"\",VLOOKUP(S1621,Tabelle!$I$5:$N$7,6,FALSE)))","v":""},null,null,null,null,null,null,null,null,null,{"$f":"IF(D1621=\"\",0,IF(D1621=D1620,COUNTIF(D$9:D1620,D1621)+1,1))","v":0},0,0]
["1614","-1900","-1900-0",null,null,null,null,null,null,null,"",null,null,null,null,null,null,null,null,{"$f":"IF(G$2034=1,\"\",IF(S1622=\"\",\"\",VLOOKUP(S1622,Tabelle!$I$5:$M$7,5,FALSE)))","v":""},{"$f":"IF(G$2034=1,\"\",IF(S1622=\"\",\"\",VLOOKUP(S1622,Tabelle!$I$5:$N$7,6,FALSE)))","v":""},null,null,null,null,null,null,null,null,null,{"$f":"IF(D1622=\"\",0,IF(D1622=D1621,COUNTIF(D$9:D1621,D1622)+1,1))","v":0},0,0]
["1615","-1900","-1900-0",null,null,null,null,null,null,null,"",null,null,null,null,null,null,null,null,{"$f":"IF(G$2034=1,\"\",IF(S1623=\"\",\"\",VLOOKUP(S1623,Tabelle!$I$5:$M$7,5,FALSE)))","v":""},{"$f":"IF(G$2034=1,\"\",IF(S1623=\"\",\"\",VLOOKUP(S1623,Tabelle!$I$5:$N$7,6,FALSE)))","v":""},null,null,null,null,null,null,null,null,null,{"$f":"IF(D1623=\"\",0,IF(D1623=D1622,COUNTIF(D$9:D1622,D1623)+1,1))","v":0},0,0]
["1616","-1900","-1900-0",null,null,null,null,null,null,null,"",null,null,null,null,null,null,null,null,{"$f":"IF(G$2034=1,\"\",IF(S1624=\"\",\"\",VLOOKUP(S1624,Tabelle!$I$5:$M$7,5,FALSE)))","v":""},{"$f":"IF(G$2034=1,\"\",IF(S1624=\"\",\"\",VLOOKUP(S1624,Tabelle!$I$5:$N$7,6,FALSE)))","v":""},null,null,null,null,null,null,null,null,null,{"$f":"IF(D1624=\"\",0,IF(D1624=D1623,COUNTIF(D$9:D1623,D1624)+1,1))","v":0},0,0]
["1617","-1900","-1900-0",null,null,null,null,null,null,null,"",null,null,null,null,null,null,null,null,{"$f":"IF(G$2034=1,\"\",IF(S1625=\"\",\"\",VLOOKUP(S1625,Tabelle!$I$5:$M$7,5,FALSE)))","v":""},{"$f":"IF(G$2034=1,\"\",IF(S1625=\"\",\"\",VLOOKUP(S1625,Tabelle!$I$5:$N$7,6,FALSE)))","v":""},null,null,null,null,null,null,null,null,null,{"$f":"IF(D1625=\"\",0,IF(D1625=D1624,COUNTIF(D$9:D1624,D1625)+1,1))","v":0},0,0]
["1618","-1900","-1900-0",null,null,null,null,null,null,null,"",null,null,null,null,null,null,null,null,{"$f":"IF(G$2034=1,\"\",IF(S1626=\"\",\"\",VLOOKUP(S1626,Tabelle!$I$5:$M$7,5,FALSE)))","v":""},{"$f":"IF(G$2034=1,\"\",IF(S1626=\"\",\"\",VLOOKUP(S1626,Tabelle!$I$5:$N$7,6,FALSE)))","v":""},null,null,null,null,null,null,null,null,null,{"$f":"IF(D1626=\"\",0,IF(D1626=D1625,COUNTIF(D$9:D1625,D1626)+1,1))","v":0},0,0]
["1619","-1900","-1900-0",null,null,null,null,null,null,null,"",null,null,null,null,null,null,null,null,{"$f":"IF(G$2034=1,\"\",IF(S1627=\"\",\"\",VLOOKUP(S1627,Tabelle!$I$5:$M$7,5,FALSE)))","v":""},{"$f":"IF(G$2034=1,\"\",IF(S1627=\"\",\"\",VLOOKUP(S1627,Tabelle!$I$5:$N$7,6,FALSE)))","v":""},null,null,null,null,null,null,null,null,null,{"$f":"IF(D1627=\"\",0,IF(D1627=D1626,COUNTIF(D$9:D1626,D1627)+1,1))","v":0},0,0]
["1620","-1900","-1900-0",null,null,null,null,null,null,null,"",null,null,null,null,null,null,null,null,{"$f":"IF(G$2034=1,\"\",IF(S1628=\"\",\"\",VLOOKUP(S1628,Tabelle!$I$5:$M$7,5,FALSE)))","v":""},{"$f":"IF(G$2034=1,\"\",IF(S1628=\"\",\"\",VLOOKUP(S1628,Tabelle!$I$5:$N$7,6,FALSE)))","v":""},null,null,null,null,null,null,null,null,null,{"$f":"IF(D1628=\"\",0,IF(D1628=D1627,COUNTIF(D$9:D1627,D1628)+1,1))","v":0},0,0]
["1621","-1900","-1900-0",null,null,null,null,null,null,null,"",null,null,null,null,null,null,null,null,{"$f":"IF(G$2034=1,\"\",IF(S1629=\"\",\"\",VLOOKUP(S1629,Tabelle!$I$5:$M$7,5,FALSE)))","v":""},{"$f":"IF(G$2034=1,\"\",IF(S1629=\"\",\"\",VLOOKUP(S1629,Tabelle!$I$5:$N$7,6,FALSE)))","v":""},null,null,null,null,null,null,null,null,null,{"$f":"IF(D1629=\"\",0,IF(D1629=D1628,COUNTIF(D$9:D1628,D1629)+1,1))","v":0},0,0]
["1622","-1900","-1900-0",null,null,null,null,null,null,null,"",null,null,null,null,null,null,null,null,{"$f":"IF(G$2034=1,\"\",IF(S1630=\"\",\"\",VLOOKUP(S1630,Tabelle!$I$5:$M$7,5,FALSE)))","v":""},{"$f":"IF(G$2034=1,\"\",IF(S1630=\"\",\"\",VLOOKUP(S1630,Tabelle!$I$5:$N$7,6,FALSE)))","v":""},null,null,null,null,null,null,null,null,null,{"$f":"IF(D1630=\"\",0,IF(D1630=D1629,COUNTIF(D$9:D1629,D1630)+1,1))","v":0},0,0]
["1623","-1900","-1900-0",null,null,null,null,null,null,null,"",null,null,null,null,null,null,null,null,{"$f":"IF(G$2034=1,\"\",IF(S1631=\"\",\"\",VLOOKUP(S1631,Tabelle!$I$5:$M$7,5,FALSE)))","v":""},{"$f":"IF(G$2034=1,\"\",IF(S1631=\"\",\"\",VLOOKUP(S1631,Tabelle!$I$5:$N$7,6,FALSE)))","v":""},null,null,null,null,null,null,null,null,null,{"$f":"IF(D1631=\"\",0,IF(D1631=D1630,COUNTIF(D$9:D1630,D1631)+1,1))","v":0},0,0]
["1624","-1900","-1900-0",null,null,null,null,null,null,null,"",null,null,null,null,null,null,null,null,{"$f":"IF(G$2034=1,\"\",IF(S1632=\"\",\"\",VLOOKUP(S1632,Tabelle!$I$5:$M$7,5,FALSE)))","v":""},{"$f":"IF(G$2034=1,\"\",IF(S1632=\"\",\"\",VLOOKUP(S1632,Tabelle!$I$5:$N$7,6,FALSE)))","v":""},null,null,null,null,null,null,null,null,null,{"$f":"IF(D1632=\"\",0,IF(D1632=D1631,COUNTIF(D$9:D1631,D1632)+1,1))","v":0},0,0]
["1625","-1900","-1900-0",null,null,null,null,null,null,null,"",null,null,null,null,null,null,null,null,{"$f":"IF(G$2034=1,\"\",IF(S1633=\"\",\"\",VLOOKUP(S1633,Tabelle!$I$5:$M$7,5,FALSE)))","v":""},{"$f":"IF(G$2034=1,\"\",IF(S1633=\"\",\"\",VLOOKUP(S1633,Tabelle!$I$5:$N$7,6,FALSE)))","v":""},null,null,null,null,null,null,null,null,null,{"$f":"IF(D1633=\"\",0,IF(D1633=D1632,COUNTIF(D$9:D1632,D1633)+1,1))","v":0},0,0]
["1626","-1900","-1900-0",null,null,null,null,null,null,null,"",null,null,null,null,null,null,null,null,{"$f":"IF(G$2034=1,\"\",IF(S1634=\"\",\"\",VLOOKUP(S1634,Tabelle!$I$5:$M$7,5,FALSE)))","v":""},{"$f":"IF(G$2034=1,\"\",IF(S1634=\"\",\"\",VLOOKUP(S1634,Tabelle!$I$5:$N$7,6,FALSE)))","v":""},null,null,null,null,null,null,null,null,null,{"$f":"IF(D1634=\"\",0,IF(D1634=D1633,COUNTIF(D$9:D1633,D1634)+1,1))","v":0},0,0]
["1627","-1900","-1900-0",null,null,null,null,null,null,null,"",null,null,null,null,null,null,null,null,{"$f":"IF(G$2034=1,\"\",IF(S1635=\"\",\"\",VLOOKUP(S1635,Tabelle!$I$5:$M$7,5,FALSE)))","v":""},{"$f":"IF(G$2034=1,\"\",IF(S1635=\"\",\"\",VLOOKUP(S1635,Tabelle!$I$5:$N$7,6,FALSE)))","v":""},null,null,null,null,null,null,null,null,null,{"$f":"IF(D1635=\"\",0,IF(D1635=D1634,COUNTIF(D$9:D1634,D1635)+1,1))","v":0},0,0]
["1628","-1900","-1900-0",null,null,null,null,null,null,null,"",null,null,null,null,null,null,null,null,{"$f":"IF(G$2034=1,\"\",IF(S1636=\"\",\"\",VLOOKUP(S1636,Tabelle!$I$5:$M$7,5,FALSE)))","v":""},{"$f":"IF(G$2034=1,\"\",IF(S1636=\"\",\"\",VLOOKUP(S1636,Tabelle!$I$5:$N$7,6,FALSE)))","v":""},null,null,null,null,null,null,null,null,null,{"$f":"IF(D1636=\"\",0,IF(D1636=D1635,COUNTIF(D$9:D1635,D1636)+1,1))","v":0},0,0]
["1629","-1900","-1900-0",null,null,null,null,null,null,null,"",null,null,null,null,null,null,null,null,{"$f":"IF(G$2034=1,\"\",IF(S1637=\"\",\"\",VLOOKUP(S1637,Tabelle!$I$5:$M$7,5,FALSE)))","v":""},{"$f":"IF(G$2034=1,\"\",IF(S1637=\"\",\"\",VLOOKUP(S1637,Tabelle!$I$5:$N$7,6,FALSE)))","v":""},null,null,null,null,null,null,null,null,null,{"$f":"IF(D1637=\"\",0,IF(D1637=D1636,COUNTIF(D$9:D1636,D1637)+1,1))","v":0},0,0]
["1630","-1900","-1900-0",null,null,null,null,null,null,null,"",null,null,null,null,null,null,null,null,{"$f":"IF(G$2034=1,\"\",IF(S1638=\"\",\"\",VLOOKUP(S1638,Tabelle!$I$5:$M$7,5,FALSE)))","v":""},{"$f":"IF(G$2034=1,\"\",IF(S1638=\"\",\"\",VLOOKUP(S1638,Tabelle!$I$5:$N$7,6,FALSE)))","v":""},null,null,null,null,null,null,null,null,null,{"$f":"IF(D1638=\"\",0,IF(D1638=D1637,COUNTIF(D$9:D1637,D1638)+1,1))","v":0},0,0]
["1631","-1900","-1900-0",null,null,null,null,null,null,null,"",null,null,null,null,null,null,null,null,{"$f":"IF(G$2034=1,\"\",IF(S1639=\"\",\"\",VLOOKUP(S1639,Tabelle!$I$5:$M$7,5,FALSE)))","v":""},{"$f":"IF(G$2034=1,\"\",IF(S1639=\"\",\"\",VLOOKUP(S1639,Tabelle!$I$5:$N$7,6,FALSE)))","v":""},null,null,null,null,null,null,null,null,null,{"$f":"IF(D1639=\"\",0,IF(D1639=D1638,COUNTIF(D$9:D1638,D1639)+1,1))","v":0},0,0]
["1632","-1900","-1900-0",null,null,null,null,null,null,null,"",null,null,null,null,null,null,null,null,{"$f":"IF(G$2034=1,\"\",IF(S1640=\"\",\"\",VLOOKUP(S1640,Tabelle!$I$5:$M$7,5,FALSE)))","v":""},{"$f":"IF(G$2034=1,\"\",IF(S1640=\"\",\"\",VLOOKUP(S1640,Tabelle!$I$5:$N$7,6,FALSE)))","v":""},null,null,null,null,null,null,null,null,null,{"$f":"IF(D1640=\"\",0,IF(D1640=D1639,COUNTIF(D$9:D1639,D1640)+1,1))","v":0},0,0]
["1633","-1900","-1900-0",null,null,null,null,null,null,null,"",null,null,null,null,null,null,null,null,{"$f":"IF(G$2034=1,\"\",IF(S1641=\"\",\"\",VLOOKUP(S1641,Tabelle!$I$5:$M$7,5,FALSE)))","v":""},{"$f":"IF(G$2034=1,\"\",IF(S1641=\"\",\"\",VLOOKUP(S1641,Tabelle!$I$5:$N$7,6,FALSE)))","v":""},null,null,null,null,null,null,null,null,null,{"$f":"IF(D1641=\"\",0,IF(D1641=D1640,COUNTIF(D$9:D1640,D1641)+1,1))","v":0},0,0]
["1634","-1900","-1900-0",null,null,null,null,null,null,null,"",null,null,null,null,null,null,null,null,{"$f":"IF(G$2034=1,\"\",IF(S1642=\"\",\"\",VLOOKUP(S1642,Tabelle!$I$5:$M$7,5,FALSE)))","v":""},{"$f":"IF(G$2034=1,\"\",IF(S1642=\"\",\"\",VLOOKUP(S1642,Tabelle!$I$5:$N$7,6,FALSE)))","v":""},null,null,null,null,null,null,null,null,null,{"$f":"IF(D1642=\"\",0,IF(D1642=D1641,COUNTIF(D$9:D1641,D1642)+1,1))","v":0},0,0]
["1635","-1900","-1900-0",null,null,null,null,null,null,null,"",null,null,null,null,null,null,null,null,{"$f":"IF(G$2034=1,\"\",IF(S1643=\"\",\"\",VLOOKUP(S1643,Tabelle!$I$5:$M$7,5,FALSE)))","v":""},{"$f":"IF(G$2034=1,\"\",IF(S1643=\"\",\"\",VLOOKUP(S1643,Tabelle!$I$5:$N$7,6,FALSE)))","v":""},null,null,null,null,null,null,null,null,null,{"$f":"IF(D1643=\"\",0,IF(D1643=D1642,COUNTIF(D$9:D1642,D1643)+1,1))","v":0},0,0]
["1636","-1900","-1900-0",null,null,null,null,null,null,null,"",null,null,null,null,null,null,null,null,{"$f":"IF(G$2034=1,\"\",IF(S1644=\"\",\"\",VLOOKUP(S1644,Tabelle!$I$5:$M$7,5,FALSE)))","v":""},{"$f":"IF(G$2034=1,\"\",IF(S1644=\"\",\"\",VLOOKUP(S1644,Tabelle!$I$5:$N$7,6,FALSE)))","v":""},null,null,null,null,null,null,null,null,null,{"$f":"IF(D1644=\"\",0,IF(D1644=D1643,COUNTIF(D$9:D1643,D1644)+1,1))","v":0},0,0]
["1637","-1900","-1900-0",null,null,null,null,null,null,null,"",null,null,null,null,null,null,null,null,{"$f":"IF(G$2034=1,\"\",IF(S1645=\"\",\"\",VLOOKUP(S1645,Tabelle!$I$5:$M$7,5,FALSE)))","v":""},{"$f":"IF(G$2034=1,\"\",IF(S1645=\"\",\"\",VLOOKUP(S1645,Tabelle!$I$5:$N$7,6,FALSE)))","v":""},null,null,null,null,null,null,null,null,null,{"$f":"IF(D1645=\"\",0,IF(D1645=D1644,COUNTIF(D$9:D1644,D1645)+1,1))","v":0},0,0]
["1638","-1900","-1900-0",null,null,null,null,null,null,null,"",null,null,null,null,null,null,null,null,{"$f":"IF(G$2034=1,\"\",IF(S1646=\"\",\"\",VLOOKUP(S1646,Tabelle!$I$5:$M$7,5,FALSE)))","v":""},{"$f":"IF(G$2034=1,\"\",IF(S1646=\"\",\"\",VLOOKUP(S1646,Tabelle!$I$5:$N$7,6,FALSE)))","v":""},null,null,null,null,null,null,null,null,null,{"$f":"IF(D1646=\"\",0,IF(D1646=D1645,COUNTIF(D$9:D1645,D1646)+1,1))","v":0},0,0]
["1639","-1900","-1900-0",null,null,null,null,null,null,null,"",null,null,null,null,null,null,null,null,{"$f":"IF(G$2034=1,\"\",IF(S1647=\"\",\"\",VLOOKUP(S1647,Tabelle!$I$5:$M$7,5,FALSE)))","v":""},{"$f":"IF(G$2034=1,\"\",IF(S1647=\"\",\"\",VLOOKUP(S1647,Tabelle!$I$5:$N$7,6,FALSE)))","v":""},null,null,null,null,null,null,null,null,null,{"$f":"IF(D1647=\"\",0,IF(D1647=D1646,COUNTIF(D$9:D1646,D1647)+1,1))","v":0},0,0]
["1640","-1900","-1900-0",null,null,null,null,null,null,null,"",null,null,null,null,null,null,null,null,{"$f":"IF(G$2034=1,\"\",IF(S1648=\"\",\"\",VLOOKUP(S1648,Tabelle!$I$5:$M$7,5,FALSE)))","v":""},{"$f":"IF(G$2034=1,\"\",IF(S1648=\"\",\"\",VLOOKUP(S1648,Tabelle!$I$5:$N$7,6,FALSE)))","v":""},null,null,null,null,null,null,null,null,null,{"$f":"IF(D1648=\"\",0,IF(D1648=D1647,COUNTIF(D$9:D1647,D1648)+1,1))","v":0},0,0]
["1641","-1900","-1900-0",null,null,null,null,null,null,null,"",null,null,null,null,null,null,null,null,{"$f":"IF(G$2034=1,\"\",IF(S1649=\"\",\"\",VLOOKUP(S1649,Tabelle!$I$5:$M$7,5,FALSE)))","v":""},{"$f":"IF(G$2034=1,\"\",IF(S1649=\"\",\"\",VLOOKUP(S1649,Tabelle!$I$5:$N$7,6,FALSE)))","v":""},null,null,null,null,null,null,null,null,null,{"$f":"IF(D1649=\"\",0,IF(D1649=D1648,COUNTIF(D$9:D1648,D1649)+1,1))","v":0},0,0]
["1642","-1900","-1900-0",null,null,null,null,null,null,null,"",null,null,null,null,null,null,null,null,{"$f":"IF(G$2034=1,\"\",IF(S1650=\"\",\"\",VLOOKUP(S1650,Tabelle!$I$5:$M$7,5,FALSE)))","v":""},{"$f":"IF(G$2034=1,\"\",IF(S1650=\"\",\"\",VLOOKUP(S1650,Tabelle!$I$5:$N$7,6,FALSE)))","v":""},null,null,null,null,null,null,null,null,null,{"$f":"IF(D1650=\"\",0,IF(D1650=D1649,COUNTIF(D$9:D1649,D1650)+1,1))","v":0},0,0]
["1643","-1900","-1900-0",null,null,null,null,null,null,null,"",null,null,null,null,null,null,null,null,{"$f":"IF(G$2034=1,\"\",IF(S1651=\"\",\"\",VLOOKUP(S1651,Tabelle!$I$5:$M$7,5,FALSE)))","v":""},{"$f":"IF(G$2034=1,\"\",IF(S1651=\"\",\"\",VLOOKUP(S1651,Tabelle!$I$5:$N$7,6,FALSE)))","v":""},null,null,null,null,null,null,null,null,null,{"$f":"IF(D1651=\"\",0,IF(D1651=D1650,COUNTIF(D$9:D1650,D1651)+1,1))","v":0},0,0]
["1644","-1900","-1900-0",null,null,null,null,null,null,null,"",null,null,null,null,null,null,null,null,{"$f":"IF(G$2034=1,\"\",IF(S1652=\"\",\"\",VLOOKUP(S1652,Tabelle!$I$5:$M$7,5,FALSE)))","v":""},{"$f":"IF(G$2034=1,\"\",IF(S1652=\"\",\"\",VLOOKUP(S1652,Tabelle!$I$5:$N$7,6,FALSE)))","v":""},null,null,null,null,null,null,null,null,null,{"$f":"IF(D1652=\"\",0,IF(D1652=D1651,COUNTIF(D$9:D1651,D1652)+1,1))","v":0},0,0]
["1645","-1900","-1900-0",null,null,null,null,null,null,null,"",null,null,null,null,null,null,null,null,{"$f":"IF(G$2034=1,\"\",IF(S1653=\"\",\"\",VLOOKUP(S1653,Tabelle!$I$5:$M$7,5,FALSE)))","v":""},{"$f":"IF(G$2034=1,\"\",IF(S1653=\"\",\"\",VLOOKUP(S1653,Tabelle!$I$5:$N$7,6,FALSE)))","v":""},null,null,null,null,null,null,null,null,null,{"$f":"IF(D1653=\"\",0,IF(D1653=D1652,COUNTIF(D$9:D1652,D1653)+1,1))","v":0},0,0]
["1646","-1900","-1900-0",null,null,null,null,null,null,null,"",null,null,null,null,null,null,null,null,{"$f":"IF(G$2034=1,\"\",IF(S1654=\"\",\"\",VLOOKUP(S1654,Tabelle!$I$5:$M$7,5,FALSE)))","v":""},{"$f":"IF(G$2034=1,\"\",IF(S1654=\"\",\"\",VLOOKUP(S1654,Tabelle!$I$5:$N$7,6,FALSE)))","v":""},null,null,null,null,null,null,null,null,null,{"$f":"IF(D1654=\"\",0,IF(D1654=D1653,COUNTIF(D$9:D1653,D1654)+1,1))","v":0},0,0]
["1647","-1900","-1900-0",null,null,null,null,null,null,null,"",null,null,null,null,null,null,null,null,{"$f":"IF(G$2034=1,\"\",IF(S1655=\"\",\"\",VLOOKUP(S1655,Tabelle!$I$5:$M$7,5,FALSE)))","v":""},{"$f":"IF(G$2034=1,\"\",IF(S1655=\"\",\"\",VLOOKUP(S1655,Tabelle!$I$5:$N$7,6,FALSE)))","v":""},null,null,null,null,null,null,null,null,null,{"$f":"IF(D1655=\"\",0,IF(D1655=D1654,COUNTIF(D$9:D1654,D1655)+1,1))","v":0},0,0]
["1648","-1900","-1900-0",null,null,null,null,null,null,null,"",null,null,null,null,null,null,null,null,{"$f":"IF(G$2034=1,\"\",IF(S1656=\"\",\"\",VLOOKUP(S1656,Tabelle!$I$5:$M$7,5,FALSE)))","v":""},{"$f":"IF(G$2034=1,\"\",IF(S1656=\"\",\"\",VLOOKUP(S1656,Tabelle!$I$5:$N$7,6,FALSE)))","v":""},null,null,null,null,null,null,null,null,null,{"$f":"IF(D1656=\"\",0,IF(D1656=D1655,COUNTIF(D$9:D1655,D1656)+1,1))","v":0},0,0]
["1649","-1900","-1900-0",null,null,null,null,null,null,null,"",null,null,null,null,null,null,null,null,{"$f":"IF(G$2034=1,\"\",IF(S1657=\"\",\"\",VLOOKUP(S1657,Tabelle!$I$5:$M$7,5,FALSE)))","v":""},{"$f":"IF(G$2034=1,\"\",IF(S1657=\"\",\"\",VLOOKUP(S1657,Tabelle!$I$5:$N$7,6,FALSE)))","v":""},null,null,null,null,null,null,null,null,null,{"$f":"IF(D1657=\"\",0,IF(D1657=D1656,COUNTIF(D$9:D1656,D1657)+1,1))","v":0},0,0]
["1650","-1900","-1900-0",null,null,null,null,null,null,null,"",null,null,null,null,null,null,null,null,{"$f":"IF(G$2034=1,\"\",IF(S1658=\"\",\"\",VLOOKUP(S1658,Tabelle!$I$5:$M$7,5,FALSE)))","v":""},{"$f":"IF(G$2034=1,\"\",IF(S1658=\"\",\"\",VLOOKUP(S1658,Tabelle!$I$5:$N$7,6,FALSE)))","v":""},null,null,null,null,null,null,null,null,null,{"$f":"IF(D1658=\"\",0,IF(D1658=D1657,COUNTIF(D$9:D1657,D1658)+1,1))","v":0},0,0]
["1651","-1900","-1900-0",null,null,null,null,null,null,null,"",null,null,null,null,null,null,null,null,{"$f":"IF(G$2034=1,\"\",IF(S1659=\"\",\"\",VLOOKUP(S1659,Tabelle!$I$5:$M$7,5,FALSE)))","v":""},{"$f":"IF(G$2034=1,\"\",IF(S1659=\"\",\"\",VLOOKUP(S1659,Tabelle!$I$5:$N$7,6,FALSE)))","v":""},null,null,null,null,null,null,null,null,null,{"$f":"IF(D1659=\"\",0,IF(D1659=D1658,COUNTIF(D$9:D1658,D1659)+1,1))","v":0},0,0]
["1652","-1900","-1900-0",null,null,null,null,null,null,null,"",null,null,null,null,null,null,null,null,{"$f":"IF(G$2034=1,\"\",IF(S1660=\"\",\"\",VLOOKUP(S1660,Tabelle!$I$5:$M$7,5,FALSE)))","v":""},{"$f":"IF(G$2034=1,\"\",IF(S1660=\"\",\"\",VLOOKUP(S1660,Tabelle!$I$5:$N$7,6,FALSE)))","v":""},null,null,null,null,null,null,null,null,null,{"$f":"IF(D1660=\"\",0,IF(D1660=D1659,COUNTIF(D$9:D1659,D1660)+1,1))","v":0},0,0]
["1653","-1900","-1900-0",null,null,null,null,null,null,null,"",null,null,null,null,null,null,null,null,{"$f":"IF(G$2034=1,\"\",IF(S1661=\"\",\"\",VLOOKUP(S1661,Tabelle!$I$5:$M$7,5,FALSE)))","v":""},{"$f":"IF(G$2034=1,\"\",IF(S1661=\"\",\"\",VLOOKUP(S1661,Tabelle!$I$5:$N$7,6,FALSE)))","v":""},null,null,null,null,null,null,null,null,null,{"$f":"IF(D1661=\"\",0,IF(D1661=D1660,COUNTIF(D$9:D1660,D1661)+1,1))","v":0},0,0]
["1654","-1900","-1900-0",null,null,null,null,null,null,null,"",null,null,null,null,null,null,null,null,{"$f":"IF(G$2034=1,\"\",IF(S1662=\"\",\"\",VLOOKUP(S1662,Tabelle!$I$5:$M$7,5,FALSE)))","v":""},{"$f":"IF(G$2034=1,\"\",IF(S1662=\"\",\"\",VLOOKUP(S1662,Tabelle!$I$5:$N$7,6,FALSE)))","v":""},null,null,null,null,null,null,null,null,null,{"$f":"IF(D1662=\"\",0,IF(D1662=D1661,COUNTIF(D$9:D1661,D1662)+1,1))","v":0},0,0]
["1655","-1900","-1900-0",null,null,null,null,null,null,null,"",null,null,null,null,null,null,null,null,{"$f":"IF(G$2034=1,\"\",IF(S1663=\"\",\"\",VLOOKUP(S1663,Tabelle!$I$5:$M$7,5,FALSE)))","v":""},{"$f":"IF(G$2034=1,\"\",IF(S1663=\"\",\"\",VLOOKUP(S1663,Tabelle!$I$5:$N$7,6,FALSE)))","v":""},null,null,null,null,null,null,null,null,null,{"$f":"IF(D1663=\"\",0,IF(D1663=D1662,COUNTIF(D$9:D1662,D1663)+1,1))","v":0},0,0]
["1656","-1900","-1900-0",null,null,null,null,null,null,null,"",null,null,null,null,null,null,null,null,{"$f":"IF(G$2034=1,\"\",IF(S1664=\"\",\"\",VLOOKUP(S1664,Tabelle!$I$5:$M$7,5,FALSE)))","v":""},{"$f":"IF(G$2034=1,\"\",IF(S1664=\"\",\"\",VLOOKUP(S1664,Tabelle!$I$5:$N$7,6,FALSE)))","v":""},null,null,null,null,null,null,null,null,null,{"$f":"IF(D1664=\"\",0,IF(D1664=D1663,COUNTIF(D$9:D1663,D1664)+1,1))","v":0},0,0]
["1657","-1900","-1900-0",null,null,null,null,null,null,null,"",null,null,null,null,null,null,null,null,{"$f":"IF(G$2034=1,\"\",IF(S1665=\"\",\"\",VLOOKUP(S1665,Tabelle!$I$5:$M$7,5,FALSE)))","v":""},{"$f":"IF(G$2034=1,\"\",IF(S1665=\"\",\"\",VLOOKUP(S1665,Tabelle!$I$5:$N$7,6,FALSE)))","v":""},null,null,null,null,null,null,null,null,null,{"$f":"IF(D1665=\"\",0,IF(D1665=D1664,COUNTIF(D$9:D1664,D1665)+1,1))","v":0},0,0]
["1658","-1900","-1900-0",null,null,null,null,null,null,null,"",null,null,null,null,null,null,null,null,{"$f":"IF(G$2034=1,\"\",IF(S1666=\"\",\"\",VLOOKUP(S1666,Tabelle!$I$5:$M$7,5,FALSE)))","v":""},{"$f":"IF(G$2034=1,\"\",IF(S1666=\"\",\"\",VLOOKUP(S1666,Tabelle!$I$5:$N$7,6,FALSE)))","v":""},null,null,null,null,null,null,null,null,null,{"$f":"IF(D1666=\"\",0,IF(D1666=D1665,COUNTIF(D$9:D1665,D1666)+1,1))","v":0},0,0]
["1659","-1900","-1900-0",null,null,null,null,null,null,null,"",null,null,null,null,null,null,null,null,{"$f":"IF(G$2034=1,\"\",IF(S1667=\"\",\"\",VLOOKUP(S1667,Tabelle!$I$5:$M$7,5,FALSE)))","v":""},{"$f":"IF(G$2034=1,\"\",IF(S1667=\"\",\"\",VLOOKUP(S1667,Tabelle!$I$5:$N$7,6,FALSE)))","v":""},null,null,null,null,null,null,null,null,null,{"$f":"IF(D1667=\"\",0,IF(D1667=D1666,COUNTIF(D$9:D1666,D1667)+1,1))","v":0},0,0]
["1660","-1900","-1900-0",null,null,null,null,null,null,null,"",null,null,null,null,null,null,null,null,{"$f":"IF(G$2034=1,\"\",IF(S1668=\"\",\"\",VLOOKUP(S1668,Tabelle!$I$5:$M$7,5,FALSE)))","v":""},{"$f":"IF(G$2034=1,\"\",IF(S1668=\"\",\"\",VLOOKUP(S1668,Tabelle!$I$5:$N$7,6,FALSE)))","v":""},null,null,null,null,null,null,null,null,null,{"$f":"IF(D1668=\"\",0,IF(D1668=D1667,COUNTIF(D$9:D1667,D1668)+1,1))","v":0},0,0]
["1661","-1900","-1900-0",null,null,null,null,null,null,null,"",null,null,null,null,null,null,null,null,{"$f":"IF(G$2034=1,\"\",IF(S1669=\"\",\"\",VLOOKUP(S1669,Tabelle!$I$5:$M$7,5,FALSE)))","v":""},{"$f":"IF(G$2034=1,\"\",IF(S1669=\"\",\"\",VLOOKUP(S1669,Tabelle!$I$5:$N$7,6,FALSE)))","v":""},null,null,null,null,null,null,null,null,null,{"$f":"IF(D1669=\"\",0,IF(D1669=D1668,COUNTIF(D$9:D1668,D1669)+1,1))","v":0},0,0]
["1662","-1900","-1900-0",null,null,null,null,null,null,null,"",null,null,null,null,null,null,null,null,{"$f":"IF(G$2034=1,\"\",IF(S1670=\"\",\"\",VLOOKUP(S1670,Tabelle!$I$5:$M$7,5,FALSE)))","v":""},{"$f":"IF(G$2034=1,\"\",IF(S1670=\"\",\"\",VLOOKUP(S1670,Tabelle!$I$5:$N$7,6,FALSE)))","v":""},null,null,null,null,null,null,null,null,null,{"$f":"IF(D1670=\"\",0,IF(D1670=D1669,COUNTIF(D$9:D1669,D1670)+1,1))","v":0},0,0]
["1663","-1900","-1900-0",null,null,null,null,null,null,null,"",null,null,null,null,null,null,null,null,{"$f":"IF(G$2034=1,\"\",IF(S1671=\"\",\"\",VLOOKUP(S1671,Tabelle!$I$5:$M$7,5,FALSE)))","v":""},{"$f":"IF(G$2034=1,\"\",IF(S1671=\"\",\"\",VLOOKUP(S1671,Tabelle!$I$5:$N$7,6,FALSE)))","v":""},null,null,null,null,null,null,null,null,null,{"$f":"IF(D1671=\"\",0,IF(D1671=D1670,COUNTIF(D$9:D1670,D1671)+1,1))","v":0},0,0]
["1664","-1900","-1900-0",null,null,null,null,null,null,null,"",null,null,null,null,null,null,null,null,{"$f":"IF(G$2034=1,\"\",IF(S1672=\"\",\"\",VLOOKUP(S1672,Tabelle!$I$5:$M$7,5,FALSE)))","v":""},{"$f":"IF(G$2034=1,\"\",IF(S1672=\"\",\"\",VLOOKUP(S1672,Tabelle!$I$5:$N$7,6,FALSE)))","v":""},null,null,null,null,null,null,null,null,null,{"$f":"IF(D1672=\"\",0,IF(D1672=D1671,COUNTIF(D$9:D1671,D1672)+1,1))","v":0},0,0]
["1665","-1900",{"$f":"IF(G$2034=1,0,B1673&\"-\"&AE1673)","v":"-1900-0"},null,null,null,null,null,null,null,{"$f":"IF(G$2034=1,0,IF(OR(J1673=\"\",ISERROR($O$2034)),\"\",VLOOKUP(J1673,$L$2019:$N$2027,2,FALSE)))","v":""},null,null,null,null,null,null,null,null,{"$f":"IF(G$2034=1,\"\",IF(S1673=\"\",\"\",VLOOKUP(S1673,Tabelle!$I$5:$M$7,5,FALSE)))","v":""},{"$f":"IF(G$2034=1,\"\",IF(S1673=\"\",\"\",VLOOKUP(S1673,Tabelle!$I$5:$N$7,6,FALSE)))","v":""},null,null,null,null,null,null,null,null,null,{"$f":"IF(D1673=\"\",0,IF(D1673=D1672,COUNTIF(D$9:D1672,D1673)+1,1))","v":0},0,0]
["1666",{"$f":"IF(AG1674=$AG$2013,0,IF(G$2034=1,0,D1674&\"-\"&YEAR(E1674)))","v":"-1900"},"-1900-0",null,null,null,null,null,null,null,"",null,null,null,null,null,null,null,null,{"$f":"IF(G$2034=1,\"\",IF(S1674=\"\",\"\",VLOOKUP(S1674,Tabelle!$I$5:$M$7,5,FALSE)))","v":""},{"$f":"IF(G$2034=1,\"\",IF(S1674=\"\",\"\",VLOOKUP(S1674,Tabelle!$I$5:$N$7,6,FALSE)))","v":""},null,null,null,null,null,null,null,null,null,{"$f":"IF(D1674=\"\",0,IF(D1674=D1673,COUNTIF(D$9:D1673,D1674)+1,1))","v":0},{"$f":"IF(G$2034=1,0,IF(AE1674=28,1,0))","v":0},{"$f":"IF(E1674>0,IF(OR(MONTH(E1674)<$G$2026,MONTH(E1674)>$G$2027),AG$2013,0),0)","v":0}]
["1667","-1900","-1900-0",null,null,null,null,null,null,null,"",null,null,null,null,null,null,null,null,{"$f":"IF(G$2034=1,\"\",IF(S1675=\"\",\"\",VLOOKUP(S1675,Tabelle!$I$5:$M$7,5,FALSE)))","v":""},{"$f":"IF(G$2034=1,\"\",IF(S1675=\"\",\"\",VLOOKUP(S1675,Tabelle!$I$5:$N$7,6,FALSE)))","v":""},null,null,null,null,null,null,null,null,null,{"$f":"IF(D1675=\"\",0,IF(D1675=D1674,COUNTIF(D$9:D1674,D1675)+1,1))","v":0},0,0]
["1668","-1900","-1900-0",null,null,null,null,null,null,null,"",null,null,null,null,null,null,null,null,{"$f":"IF(G$2034=1,\"\",IF(S1676=\"\",\"\",VLOOKUP(S1676,Tabelle!$I$5:$M$7,5,FALSE)))","v":""},{"$f":"IF(G$2034=1,\"\",IF(S1676=\"\",\"\",VLOOKUP(S1676,Tabelle!$I$5:$N$7,6,FALSE)))","v":""},null,null,null,null,null,null,null,null,null,{"$f":"IF(D1676=\"\",0,IF(D1676=D1675,COUNTIF(D$9:D1675,D1676)+1,1))","v":0},0,0]
["1669","-1900","-1900-0",null,null,null,null,null,null,null,"",null,null,null,null,null,null,null,null,{"$f":"IF(G$2034=1,\"\",IF(S1677=\"\",\"\",VLOOKUP(S1677,Tabelle!$I$5:$M$7,5,FALSE)))","v":""},{"$f":"IF(G$2034=1,\"\",IF(S1677=\"\",\"\",VLOOKUP(S1677,Tabelle!$I$5:$N$7,6,FALSE)))","v":""},null,null,null,null,null,null,null,null,null,{"$f":"IF(D1677=\"\",0,IF(D1677=D1676,COUNTIF(D$9:D1676,D1677)+1,1))","v":0},0,0]
["1670","-1900","-1900-0",null,null,null,null,null,null,null,"",null,null,null,null,null,null,null,null,{"$f":"IF(G$2034=1,\"\",IF(S1678=\"\",\"\",VLOOKUP(S1678,Tabelle!$I$5:$M$7,5,FALSE)))","v":""},{"$f":"IF(G$2034=1,\"\",IF(S1678=\"\",\"\",VLOOKUP(S1678,Tabelle!$I$5:$N$7,6,FALSE)))","v":""},null,null,null,null,null,null,null,null,null,{"$f":"IF(D1678=\"\",0,IF(D1678=D1677,COUNTIF(D$9:D1677,D1678)+1,1))","v":0},0,0]
["1671","-1900","-1900-0",null,null,null,null,null,null,null,"",null,null,null,null,null,null,null,null,{"$f":"IF(G$2034=1,\"\",IF(S1679=\"\",\"\",VLOOKUP(S1679,Tabelle!$I$5:$M$7,5,FALSE)))","v":""},{"$f":"IF(G$2034=1,\"\",IF(S1679=\"\",\"\",VLOOKUP(S1679,Tabelle!$I$5:$N$7,6,FALSE)))","v":""},null,null,null,null,null,null,null,null,null,{"$f":"IF(D1679=\"\",0,IF(D1679=D1678,COUNTIF(D$9:D1678,D1679)+1,1))","v":0},0,0]
["1672","-1900","-1900-0",null,null,null,null,null,null,null,"",null,null,null,null,null,null,null,null,{"$f":"IF(G$2034=1,\"\",IF(S1680=\"\",\"\",VLOOKUP(S1680,Tabelle!$I$5:$M$7,5,FALSE)))","v":""},{"$f":"IF(G$2034=1,\"\",IF(S1680=\"\",\"\",VLOOKUP(S1680,Tabelle!$I$5:$N$7,6,FALSE)))","v":""},null,null,null,null,null,null,null,null,null,{"$f":"IF(D1680=\"\",0,IF(D1680=D1679,COUNTIF(D$9:D1679,D1680)+1,1))","v":0},0,0]
["1673","-1900","-1900-0",null,null,null,null,null,null,null,"",null,null,null,null,null,null,null,null,{"$f":"IF(G$2034=1,\"\",IF(S1681=\"\",\"\",VLOOKUP(S1681,Tabelle!$I$5:$M$7,5,FALSE)))","v":""},{"$f":"IF(G$2034=1,\"\",IF(S1681=\"\",\"\",VLOOKUP(S1681,Tabelle!$I$5:$N$7,6,FALSE)))","v":""},null,null,null,null,null,null,null,null,null,{"$f":"IF(D1681=\"\",0,IF(D1681=D1680,COUNTIF(D$9:D1680,D1681)+1,1))","v":0},0,0]
["1674","-1900","-1900-0",null,null,null,null,null,null,null,"",null,null,null,null,null,null,null,null,{"$f":"IF(G$2034=1,\"\",IF(S1682=\"\",\"\",VLOOKUP(S1682,Tabelle!$I$5:$M$7,5,FALSE)))","v":""},{"$f":"IF(G$2034=1,\"\",IF(S1682=\"\",\"\",VLOOKUP(S1682,Tabelle!$I$5:$N$7,6,FALSE)))","v":""},null,null,null,null,null,null,null,null,null,{"$f":"IF(D1682=\"\",0,IF(D1682=D1681,COUNTIF(D$9:D1681,D1682)+1,1))","v":0},0,0]
["1675","-1900","-1900-0",null,null,null,null,null,null,null,"",null,null,null,null,null,null,null,null,{"$f":"IF(G$2034=1,\"\",IF(S1683=\"\",\"\",VLOOKUP(S1683,Tabelle!$I$5:$M$7,5,FALSE)))","v":""},{"$f":"IF(G$2034=1,\"\",IF(S1683=\"\",\"\",VLOOKUP(S1683,Tabelle!$I$5:$N$7,6,FALSE)))","v":""},null,null,null,null,null,null,null,null,null,{"$f":"IF(D1683=\"\",0,IF(D1683=D1682,COUNTIF(D$9:D1682,D1683)+1,1))","v":0},0,0]
["1676","-1900","-1900-0",null,null,null,null,null,null,null,"",null,null,null,null,null,null,null,null,{"$f":"IF(G$2034=1,\"\",IF(S1684=\"\",\"\",VLOOKUP(S1684,Tabelle!$I$5:$M$7,5,FALSE)))","v":""},{"$f":"IF(G$2034=1,\"\",IF(S1684=\"\",\"\",VLOOKUP(S1684,Tabelle!$I$5:$N$7,6,FALSE)))","v":""},null,null,null,null,null,null,null,null,null,{"$f":"IF(D1684=\"\",0,IF(D1684=D1683,COUNTIF(D$9:D1683,D1684)+1,1))","v":0},0,0]
["1677","-1900","-1900-0",null,null,null,null,null,null,null,"",null,null,null,null,null,null,null,null,{"$f":"IF(G$2034=1,\"\",IF(S1685=\"\",\"\",VLOOKUP(S1685,Tabelle!$I$5:$M$7,5,FALSE)))","v":""},{"$f":"IF(G$2034=1,\"\",IF(S1685=\"\",\"\",VLOOKUP(S1685,Tabelle!$I$5:$N$7,6,FALSE)))","v":""},null,null,null,null,null,null,null,null,null,{"$f":"IF(D1685=\"\",0,IF(D1685=D1684,COUNTIF(D$9:D1684,D1685)+1,1))","v":0},0,0]
["1678","-1900","-1900-0",null,null,null,null,null,null,null,"",null,null,null,null,null,null,null,null,{"$f":"IF(G$2034=1,\"\",IF(S1686=\"\",\"\",VLOOKUP(S1686,Tabelle!$I$5:$M$7,5,FALSE)))","v":""},{"$f":"IF(G$2034=1,\"\",IF(S1686=\"\",\"\",VLOOKUP(S1686,Tabelle!$I$5:$N$7,6,FALSE)))","v":""},null,null,null,null,null,null,null,null,null,{"$f":"IF(D1686=\"\",0,IF(D1686=D1685,COUNTIF(D$9:D1685,D1686)+1,1))","v":0},0,0]
["1679","-1900","-1900-0",null,null,null,null,null,null,null,"",null,null,null,null,null,null,null,null,{"$f":"IF(G$2034=1,\"\",IF(S1687=\"\",\"\",VLOOKUP(S1687,Tabelle!$I$5:$M$7,5,FALSE)))","v":""},{"$f":"IF(G$2034=1,\"\",IF(S1687=\"\",\"\",VLOOKUP(S1687,Tabelle!$I$5:$N$7,6,FALSE)))","v":""},null,null,null,null,null,null,null,null,null,{"$f":"IF(D1687=\"\",0,IF(D1687=D1686,COUNTIF(D$9:D1686,D1687)+1,1))","v":0},0,0]
["1680","-1900","-1900-0",null,null,null,null,null,null,null,"",null,null,null,null,null,null,null,null,{"$f":"IF(G$2034=1,\"\",IF(S1688=\"\",\"\",VLOOKUP(S1688,Tabelle!$I$5:$M$7,5,FALSE)))","v":""},{"$f":"IF(G$2034=1,\"\",IF(S1688=\"\",\"\",VLOOKUP(S1688,Tabelle!$I$5:$N$7,6,FALSE)))","v":""},null,null,null,null,null,null,null,null,null,{"$f":"IF(D1688=\"\",0,IF(D1688=D1687,COUNTIF(D$9:D1687,D1688)+1,1))","v":0},0,0]
["1681","-1900","-1900-0",null,null,null,null,null,null,null,"",null,null,null,null,null,null,null,null,{"$f":"IF(G$2034=1,\"\",IF(S1689=\"\",\"\",VLOOKUP(S1689,Tabelle!$I$5:$M$7,5,FALSE)))","v":""},{"$f":"IF(G$2034=1,\"\",IF(S1689=\"\",\"\",VLOOKUP(S1689,Tabelle!$I$5:$N$7,6,FALSE)))","v":""},null,null,null,null,null,null,null,null,null,{"$f":"IF(D1689=\"\",0,IF(D1689=D1688,COUNTIF(D$9:D1688,D1689)+1,1))","v":0},0,0]
["1682","-1900","-1900-0",null,null,null,null,null,null,null,"",null,null,null,null,null,null,null,null,{"$f":"IF(G$2034=1,\"\",IF(S1690=\"\",\"\",VLOOKUP(S1690,Tabelle!$I$5:$M$7,5,FALSE)))","v":""},{"$f":"IF(G$2034=1,\"\",IF(S1690=\"\",\"\",VLOOKUP(S1690,Tabelle!$I$5:$N$7,6,FALSE)))","v":""},null,null,null,null,null,null,null,null,null,{"$f":"IF(D1690=\"\",0,IF(D1690=D1689,COUNTIF(D$9:D1689,D1690)+1,1))","v":0},0,0]
["1683","-1900","-1900-0",null,null,null,null,null,null,null,"",null,null,null,null,null,null,null,null,{"$f":"IF(G$2034=1,\"\",IF(S1691=\"\",\"\",VLOOKUP(S1691,Tabelle!$I$5:$M$7,5,FALSE)))","v":""},{"$f":"IF(G$2034=1,\"\",IF(S1691=\"\",\"\",VLOOKUP(S1691,Tabelle!$I$5:$N$7,6,FALSE)))","v":""},null,null,null,null,null,null,null,null,null,{"$f":"IF(D1691=\"\",0,IF(D1691=D1690,COUNTIF(D$9:D1690,D1691)+1,1))","v":0},0,0]
["1684","-1900","-1900-0",null,null,null,null,null,null,null,"",null,null,null,null,null,null,null,null,{"$f":"IF(G$2034=1,\"\",IF(S1692=\"\",\"\",VLOOKUP(S1692,Tabelle!$I$5:$M$7,5,FALSE)))","v":""},{"$f":"IF(G$2034=1,\"\",IF(S1692=\"\",\"\",VLOOKUP(S1692,Tabelle!$I$5:$N$7,6,FALSE)))","v":""},null,null,null,null,null,null,null,null,null,{"$f":"IF(D1692=\"\",0,IF(D1692=D1691,COUNTIF(D$9:D1691,D1692)+1,1))","v":0},0,0]
["1685","-1900","-1900-0",null,null,null,null,null,null,null,"",null,null,null,null,null,null,null,null,{"$f":"IF(G$2034=1,\"\",IF(S1693=\"\",\"\",VLOOKUP(S1693,Tabelle!$I$5:$M$7,5,FALSE)))","v":""},{"$f":"IF(G$2034=1,\"\",IF(S1693=\"\",\"\",VLOOKUP(S1693,Tabelle!$I$5:$N$7,6,FALSE)))","v":""},null,null,null,null,null,null,null,null,null,{"$f":"IF(D1693=\"\",0,IF(D1693=D1692,COUNTIF(D$9:D1692,D1693)+1,1))","v":0},0,0]
["1686","-1900","-1900-0",null,null,null,null,null,null,null,"",null,null,null,null,null,null,null,null,{"$f":"IF(G$2034=1,\"\",IF(S1694=\"\",\"\",VLOOKUP(S1694,Tabelle!$I$5:$M$7,5,FALSE)))","v":""},{"$f":"IF(G$2034=1,\"\",IF(S1694=\"\",\"\",VLOOKUP(S1694,Tabelle!$I$5:$N$7,6,FALSE)))","v":""},null,null,null,null,null,null,null,null,null,{"$f":"IF(D1694=\"\",0,IF(D1694=D1693,COUNTIF(D$9:D1693,D1694)+1,1))","v":0},0,0]
["1687","-1900","-1900-0",null,null,null,null,null,null,null,"",null,null,null,null,null,null,null,null,{"$f":"IF(G$2034=1,\"\",IF(S1695=\"\",\"\",VLOOKUP(S1695,Tabelle!$I$5:$M$7,5,FALSE)))","v":""},{"$f":"IF(G$2034=1,\"\",IF(S1695=\"\",\"\",VLOOKUP(S1695,Tabelle!$I$5:$N$7,6,FALSE)))","v":""},null,null,null,null,null,null,null,null,null,{"$f":"IF(D1695=\"\",0,IF(D1695=D1694,COUNTIF(D$9:D1694,D1695)+1,1))","v":0},0,0]
["1688","-1900","-1900-0",null,null,null,null,null,null,null,"",null,null,null,null,null,null,null,null,{"$f":"IF(G$2034=1,\"\",IF(S1696=\"\",\"\",VLOOKUP(S1696,Tabelle!$I$5:$M$7,5,FALSE)))","v":""},{"$f":"IF(G$2034=1,\"\",IF(S1696=\"\",\"\",VLOOKUP(S1696,Tabelle!$I$5:$N$7,6,FALSE)))","v":""},null,null,null,null,null,null,null,null,null,{"$f":"IF(D1696=\"\",0,IF(D1696=D1695,COUNTIF(D$9:D1695,D1696)+1,1))","v":0},0,0]
["1689","-1900","-1900-0",null,null,null,null,null,null,null,"",null,null,null,null,null,null,null,null,{"$f":"IF(G$2034=1,\"\",IF(S1697=\"\",\"\",VLOOKUP(S1697,Tabelle!$I$5:$M$7,5,FALSE)))","v":""},{"$f":"IF(G$2034=1,\"\",IF(S1697=\"\",\"\",VLOOKUP(S1697,Tabelle!$I$5:$N$7,6,FALSE)))","v":""},null,null,null,null,null,null,null,null,null,{"$f":"IF(D1697=\"\",0,IF(D1697=D1696,COUNTIF(D$9:D1696,D1697)+1,1))","v":0},0,0]
["1690","-1900","-1900-0",null,null,null,null,null,null,null,"",null,null,null,null,null,null,null,null,{"$f":"IF(G$2034=1,\"\",IF(S1698=\"\",\"\",VLOOKUP(S1698,Tabelle!$I$5:$M$7,5,FALSE)))","v":""},{"$f":"IF(G$2034=1,\"\",IF(S1698=\"\",\"\",VLOOKUP(S1698,Tabelle!$I$5:$N$7,6,FALSE)))","v":""},null,null,null,null,null,null,null,null,null,{"$f":"IF(D1698=\"\",0,IF(D1698=D1697,COUNTIF(D$9:D1697,D1698)+1,1))","v":0},0,0]
["1691","-1900","-1900-0",null,null,null,null,null,null,null,"",null,null,null,null,null,null,null,null,{"$f":"IF(G$2034=1,\"\",IF(S1699=\"\",\"\",VLOOKUP(S1699,Tabelle!$I$5:$M$7,5,FALSE)))","v":""},{"$f":"IF(G$2034=1,\"\",IF(S1699=\"\",\"\",VLOOKUP(S1699,Tabelle!$I$5:$N$7,6,FALSE)))","v":""},null,null,null,null,null,null,null,null,null,{"$f":"IF(D1699=\"\",0,IF(D1699=D1698,COUNTIF(D$9:D1698,D1699)+1,1))","v":0},0,0]
["1692","-1900","-1900-0",null,null,null,null,null,null,null,"",null,null,null,null,null,null,null,null,{"$f":"IF(G$2034=1,\"\",IF(S1700=\"\",\"\",VLOOKUP(S1700,Tabelle!$I$5:$M$7,5,FALSE)))","v":""},{"$f":"IF(G$2034=1,\"\",IF(S1700=\"\",\"\",VLOOKUP(S1700,Tabelle!$I$5:$N$7,6,FALSE)))","v":""},null,null,null,null,null,null,null,null,null,{"$f":"IF(D1700=\"\",0,IF(D1700=D1699,COUNTIF(D$9:D1699,D1700)+1,1))","v":0},0,0]
["1693","-1900","-1900-0",null,null,null,null,null,null,null,"",null,null,null,null,null,null,null,null,{"$f":"IF(G$2034=1,\"\",IF(S1701=\"\",\"\",VLOOKUP(S1701,Tabelle!$I$5:$M$7,5,FALSE)))","v":""},{"$f":"IF(G$2034=1,\"\",IF(S1701=\"\",\"\",VLOOKUP(S1701,Tabelle!$I$5:$N$7,6,FALSE)))","v":""},null,null,null,null,null,null,null,null,null,{"$f":"IF(D1701=\"\",0,IF(D1701=D1700,COUNTIF(D$9:D1700,D1701)+1,1))","v":0},0,0]
["1694","-1900","-1900-0",null,null,null,null,null,null,null,"",null,null,null,null,null,null,null,null,{"$f":"IF(G$2034=1,\"\",IF(S1702=\"\",\"\",VLOOKUP(S1702,Tabelle!$I$5:$M$7,5,FALSE)))","v":""},{"$f":"IF(G$2034=1,\"\",IF(S1702=\"\",\"\",VLOOKUP(S1702,Tabelle!$I$5:$N$7,6,FALSE)))","v":""},null,null,null,null,null,null,null,null,null,{"$f":"IF(D1702=\"\",0,IF(D1702=D1701,COUNTIF(D$9:D1701,D1702)+1,1))","v":0},0,0]
["1695","-1900","-1900-0",null,null,null,null,null,null,null,"",null,null,null,null,null,null,null,null,{"$f":"IF(G$2034=1,\"\",IF(S1703=\"\",\"\",VLOOKUP(S1703,Tabelle!$I$5:$M$7,5,FALSE)))","v":""},{"$f":"IF(G$2034=1,\"\",IF(S1703=\"\",\"\",VLOOKUP(S1703,Tabelle!$I$5:$N$7,6,FALSE)))","v":""},null,null,null,null,null,null,null,null,null,{"$f":"IF(D1703=\"\",0,IF(D1703=D1702,COUNTIF(D$9:D1702,D1703)+1,1))","v":0},0,0]
["1696","-1900","-1900-0",null,null,null,null,null,null,null,"",null,null,null,null,null,null,null,null,{"$f":"IF(G$2034=1,\"\",IF(S1704=\"\",\"\",VLOOKUP(S1704,Tabelle!$I$5:$M$7,5,FALSE)))","v":""},{"$f":"IF(G$2034=1,\"\",IF(S1704=\"\",\"\",VLOOKUP(S1704,Tabelle!$I$5:$N$7,6,FALSE)))","v":""},null,null,null,null,null,null,null,null,null,{"$f":"IF(D1704=\"\",0,IF(D1704=D1703,COUNTIF(D$9:D1703,D1704)+1,1))","v":0},0,0]
["1697","-1900","-1900-0",null,null,null,null,null,null,null,"",null,null,null,null,null,null,null,null,{"$f":"IF(G$2034=1,\"\",IF(S1705=\"\",\"\",VLOOKUP(S1705,Tabelle!$I$5:$M$7,5,FALSE)))","v":""},{"$f":"IF(G$2034=1,\"\",IF(S1705=\"\",\"\",VLOOKUP(S1705,Tabelle!$I$5:$N$7,6,FALSE)))","v":""},null,null,null,null,null,null,null,null,null,{"$f":"IF(D1705=\"\",0,IF(D1705=D1704,COUNTIF(D$9:D1704,D1705)+1,1))","v":0},0,0]
["1698","-1900","-1900-0",null,null,null,null,null,null,null,"",null,null,null,null,null,null,null,null,{"$f":"IF(G$2034=1,\"\",IF(S1706=\"\",\"\",VLOOKUP(S1706,Tabelle!$I$5:$M$7,5,FALSE)))","v":""},{"$f":"IF(G$2034=1,\"\",IF(S1706=\"\",\"\",VLOOKUP(S1706,Tabelle!$I$5:$N$7,6,FALSE)))","v":""},null,null,null,null,null,null,null,null,null,{"$f":"IF(D1706=\"\",0,IF(D1706=D1705,COUNTIF(D$9:D1705,D1706)+1,1))","v":0},0,0]
["1699","-1900","-1900-0",null,null,null,null,null,null,null,"",null,null,null,null,null,null,null,null,{"$f":"IF(G$2034=1,\"\",IF(S1707=\"\",\"\",VLOOKUP(S1707,Tabelle!$I$5:$M$7,5,FALSE)))","v":""},{"$f":"IF(G$2034=1,\"\",IF(S1707=\"\",\"\",VLOOKUP(S1707,Tabelle!$I$5:$N$7,6,FALSE)))","v":""},null,null,null,null,null,null,null,null,null,{"$f":"IF(D1707=\"\",0,IF(D1707=D1706,COUNTIF(D$9:D1706,D1707)+1,1))","v":0},0,0]
["1700","-1900","-1900-0",null,null,null,null,null,null,null,"",null,null,null,null,null,null,null,null,{"$f":"IF(G$2034=1,\"\",IF(S1708=\"\",\"\",VLOOKUP(S1708,Tabelle!$I$5:$M$7,5,FALSE)))","v":""},{"$f":"IF(G$2034=1,\"\",IF(S1708=\"\",\"\",VLOOKUP(S1708,Tabelle!$I$5:$N$7,6,FALSE)))","v":""},null,null,null,null,null,null,null,null,null,{"$f":"IF(D1708=\"\",0,IF(D1708=D1707,COUNTIF(D$9:D1707,D1708)+1,1))","v":0},0,0]
["1701","-1900","-1900-0",null,null,null,null,null,null,null,"",null,null,null,null,null,null,null,null,{"$f":"IF(G$2034=1,\"\",IF(S1709=\"\",\"\",VLOOKUP(S1709,Tabelle!$I$5:$M$7,5,FALSE)))","v":""},{"$f":"IF(G$2034=1,\"\",IF(S1709=\"\",\"\",VLOOKUP(S1709,Tabelle!$I$5:$N$7,6,FALSE)))","v":""},null,null,null,null,null,null,null,null,null,{"$f":"IF(D1709=\"\",0,IF(D1709=D1708,COUNTIF(D$9:D1708,D1709)+1,1))","v":0},0,0]
["1702","-1900","-1900-0",null,null,null,null,null,null,null,"",null,null,null,null,null,null,null,null,{"$f":"IF(G$2034=1,\"\",IF(S1710=\"\",\"\",VLOOKUP(S1710,Tabelle!$I$5:$M$7,5,FALSE)))","v":""},{"$f":"IF(G$2034=1,\"\",IF(S1710=\"\",\"\",VLOOKUP(S1710,Tabelle!$I$5:$N$7,6,FALSE)))","v":""},null,null,null,null,null,null,null,null,null,{"$f":"IF(D1710=\"\",0,IF(D1710=D1709,COUNTIF(D$9:D1709,D1710)+1,1))","v":0},0,0]
["1703","-1900","-1900-0",null,null,null,null,null,null,null,"",null,null,null,null,null,null,null,null,{"$f":"IF(G$2034=1,\"\",IF(S1711=\"\",\"\",VLOOKUP(S1711,Tabelle!$I$5:$M$7,5,FALSE)))","v":""},{"$f":"IF(G$2034=1,\"\",IF(S1711=\"\",\"\",VLOOKUP(S1711,Tabelle!$I$5:$N$7,6,FALSE)))","v":""},null,null,null,null,null,null,null,null,null,{"$f":"IF(D1711=\"\",0,IF(D1711=D1710,COUNTIF(D$9:D1710,D1711)+1,1))","v":0},0,0]
["1704","-1900","-1900-0",null,null,null,null,null,null,null,"",null,null,null,null,null,null,null,null,{"$f":"IF(G$2034=1,\"\",IF(S1712=\"\",\"\",VLOOKUP(S1712,Tabelle!$I$5:$M$7,5,FALSE)))","v":""},{"$f":"IF(G$2034=1,\"\",IF(S1712=\"\",\"\",VLOOKUP(S1712,Tabelle!$I$5:$N$7,6,FALSE)))","v":""},null,null,null,null,null,null,null,null,null,{"$f":"IF(D1712=\"\",0,IF(D1712=D1711,COUNTIF(D$9:D1711,D1712)+1,1))","v":0},0,0]
["1705","-1900","-1900-0",null,null,null,null,null,null,null,"",null,null,null,null,null,null,null,null,{"$f":"IF(G$2034=1,\"\",IF(S1713=\"\",\"\",VLOOKUP(S1713,Tabelle!$I$5:$M$7,5,FALSE)))","v":""},{"$f":"IF(G$2034=1,\"\",IF(S1713=\"\",\"\",VLOOKUP(S1713,Tabelle!$I$5:$N$7,6,FALSE)))","v":""},null,null,null,null,null,null,null,null,null,{"$f":"IF(D1713=\"\",0,IF(D1713=D1712,COUNTIF(D$9:D1712,D1713)+1,1))","v":0},0,0]
["1706","-1900","-1900-0",null,null,null,null,null,null,null,"",null,null,null,null,null,null,null,null,{"$f":"IF(G$2034=1,\"\",IF(S1714=\"\",\"\",VLOOKUP(S1714,Tabelle!$I$5:$M$7,5,FALSE)))","v":""},{"$f":"IF(G$2034=1,\"\",IF(S1714=\"\",\"\",VLOOKUP(S1714,Tabelle!$I$5:$N$7,6,FALSE)))","v":""},null,null,null,null,null,null,null,null,null,{"$f":"IF(D1714=\"\",0,IF(D1714=D1713,COUNTIF(D$9:D1713,D1714)+1,1))","v":0},0,0]
["1707","-1900","-1900-0",null,null,null,null,null,null,null,"",null,null,null,null,null,null,null,null,{"$f":"IF(G$2034=1,\"\",IF(S1715=\"\",\"\",VLOOKUP(S1715,Tabelle!$I$5:$M$7,5,FALSE)))","v":""},{"$f":"IF(G$2034=1,\"\",IF(S1715=\"\",\"\",VLOOKUP(S1715,Tabelle!$I$5:$N$7,6,FALSE)))","v":""},null,null,null,null,null,null,null,null,null,{"$f":"IF(D1715=\"\",0,IF(D1715=D1714,COUNTIF(D$9:D1714,D1715)+1,1))","v":0},0,0]
["1708","-1900","-1900-0",null,null,null,null,null,null,null,"",null,null,null,null,null,null,null,null,{"$f":"IF(G$2034=1,\"\",IF(S1716=\"\",\"\",VLOOKUP(S1716,Tabelle!$I$5:$M$7,5,FALSE)))","v":""},{"$f":"IF(G$2034=1,\"\",IF(S1716=\"\",\"\",VLOOKUP(S1716,Tabelle!$I$5:$N$7,6,FALSE)))","v":""},null,null,null,null,null,null,null,null,null,{"$f":"IF(D1716=\"\",0,IF(D1716=D1715,COUNTIF(D$9:D1715,D1716)+1,1))","v":0},0,0]
["1709","-1900","-1900-0",null,null,null,null,null,null,null,"",null,null,null,null,null,null,null,null,{"$f":"IF(G$2034=1,\"\",IF(S1717=\"\",\"\",VLOOKUP(S1717,Tabelle!$I$5:$M$7,5,FALSE)))","v":""},{"$f":"IF(G$2034=1,\"\",IF(S1717=\"\",\"\",VLOOKUP(S1717,Tabelle!$I$5:$N$7,6,FALSE)))","v":""},null,null,null,null,null,null,null,null,null,{"$f":"IF(D1717=\"\",0,IF(D1717=D1716,COUNTIF(D$9:D1716,D1717)+1,1))","v":0},0,0]
["1710","-1900","-1900-0",null,null,null,null,null,null,null,"",null,null,null,null,null,null,null,null,{"$f":"IF(G$2034=1,\"\",IF(S1718=\"\",\"\",VLOOKUP(S1718,Tabelle!$I$5:$M$7,5,FALSE)))","v":""},{"$f":"IF(G$2034=1,\"\",IF(S1718=\"\",\"\",VLOOKUP(S1718,Tabelle!$I$5:$N$7,6,FALSE)))","v":""},null,null,null,null,null,null,null,null,null,{"$f":"IF(D1718=\"\",0,IF(D1718=D1717,COUNTIF(D$9:D1717,D1718)+1,1))","v":0},0,0]
["1711","-1900","-1900-0",null,null,null,null,null,null,null,"",null,null,null,null,null,null,null,null,{"$f":"IF(G$2034=1,\"\",IF(S1719=\"\",\"\",VLOOKUP(S1719,Tabelle!$I$5:$M$7,5,FALSE)))","v":""},{"$f":"IF(G$2034=1,\"\",IF(S1719=\"\",\"\",VLOOKUP(S1719,Tabelle!$I$5:$N$7,6,FALSE)))","v":""},null,null,null,null,null,null,null,null,null,{"$f":"IF(D1719=\"\",0,IF(D1719=D1718,COUNTIF(D$9:D1718,D1719)+1,1))","v":0},0,0]
["1712","-1900","-1900-0",null,null,null,null,null,null,null,"",null,null,null,null,null,null,null,null,{"$f":"IF(G$2034=1,\"\",IF(S1720=\"\",\"\",VLOOKUP(S1720,Tabelle!$I$5:$M$7,5,FALSE)))","v":""},{"$f":"IF(G$2034=1,\"\",IF(S1720=\"\",\"\",VLOOKUP(S1720,Tabelle!$I$5:$N$7,6,FALSE)))","v":""},null,null,null,null,null,null,null,null,null,{"$f":"IF(D1720=\"\",0,IF(D1720=D1719,COUNTIF(D$9:D1719,D1720)+1,1))","v":0},0,0]
["1713","-1900","-1900-0",null,null,null,null,null,null,null,"",null,null,null,null,null,null,null,null,{"$f":"IF(G$2034=1,\"\",IF(S1721=\"\",\"\",VLOOKUP(S1721,Tabelle!$I$5:$M$7,5,FALSE)))","v":""},{"$f":"IF(G$2034=1,\"\",IF(S1721=\"\",\"\",VLOOKUP(S1721,Tabelle!$I$5:$N$7,6,FALSE)))","v":""},null,null,null,null,null,null,null,null,null,{"$f":"IF(D1721=\"\",0,IF(D1721=D1720,COUNTIF(D$9:D1720,D1721)+1,1))","v":0},0,0]
["1714","-1900","-1900-0",null,null,null,null,null,null,null,"",null,null,null,null,null,null,null,null,{"$f":"IF(G$2034=1,\"\",IF(S1722=\"\",\"\",VLOOKUP(S1722,Tabelle!$I$5:$M$7,5,FALSE)))","v":""},{"$f":"IF(G$2034=1,\"\",IF(S1722=\"\",\"\",VLOOKUP(S1722,Tabelle!$I$5:$N$7,6,FALSE)))","v":""},null,null,null,null,null,null,null,null,null,{"$f":"IF(D1722=\"\",0,IF(D1722=D1721,COUNTIF(D$9:D1721,D1722)+1,1))","v":0},0,0]
["1715","-1900","-1900-0",null,null,null,null,null,null,null,"",null,null,null,null,null,null,null,null,{"$f":"IF(G$2034=1,\"\",IF(S1723=\"\",\"\",VLOOKUP(S1723,Tabelle!$I$5:$M$7,5,FALSE)))","v":""},{"$f":"IF(G$2034=1,\"\",IF(S1723=\"\",\"\",VLOOKUP(S1723,Tabelle!$I$5:$N$7,6,FALSE)))","v":""},null,null,null,null,null,null,null,null,null,{"$f":"IF(D1723=\"\",0,IF(D1723=D1722,COUNTIF(D$9:D1722,D1723)+1,1))","v":0},0,0]
["1716","-1900","-1900-0",null,null,null,null,null,null,null,"",null,null,null,null,null,null,null,null,{"$f":"IF(G$2034=1,\"\",IF(S1724=\"\",\"\",VLOOKUP(S1724,Tabelle!$I$5:$M$7,5,FALSE)))","v":""},{"$f":"IF(G$2034=1,\"\",IF(S1724=\"\",\"\",VLOOKUP(S1724,Tabelle!$I$5:$N$7,6,FALSE)))","v":""},null,null,null,null,null,null,null,null,null,{"$f":"IF(D1724=\"\",0,IF(D1724=D1723,COUNTIF(D$9:D1723,D1724)+1,1))","v":0},0,0]
["1717","-1900","-1900-0",null,null,null,null,null,null,null,"",null,null,null,null,null,null,null,null,{"$f":"IF(G$2034=1,\"\",IF(S1725=\"\",\"\",VLOOKUP(S1725,Tabelle!$I$5:$M$7,5,FALSE)))","v":""},{"$f":"IF(G$2034=1,\"\",IF(S1725=\"\",\"\",VLOOKUP(S1725,Tabelle!$I$5:$N$7,6,FALSE)))","v":""},null,null,null,null,null,null,null,null,null,{"$f":"IF(D1725=\"\",0,IF(D1725=D1724,COUNTIF(D$9:D1724,D1725)+1,1))","v":0},0,0]
["1718","-1900","-1900-0",null,null,null,null,null,null,null,"",null,null,null,null,null,null,null,null,{"$f":"IF(G$2034=1,\"\",IF(S1726=\"\",\"\",VLOOKUP(S1726,Tabelle!$I$5:$M$7,5,FALSE)))","v":""},{"$f":"IF(G$2034=1,\"\",IF(S1726=\"\",\"\",VLOOKUP(S1726,Tabelle!$I$5:$N$7,6,FALSE)))","v":""},null,null,null,null,null,null,null,null,null,{"$f":"IF(D1726=\"\",0,IF(D1726=D1725,COUNTIF(D$9:D1725,D1726)+1,1))","v":0},0,0]
["1719","-1900","-1900-0",null,null,null,null,null,null,null,"",null,null,null,null,null,null,null,null,{"$f":"IF(G$2034=1,\"\",IF(S1727=\"\",\"\",VLOOKUP(S1727,Tabelle!$I$5:$M$7,5,FALSE)))","v":""},{"$f":"IF(G$2034=1,\"\",IF(S1727=\"\",\"\",VLOOKUP(S1727,Tabelle!$I$5:$N$7,6,FALSE)))","v":""},null,null,null,null,null,null,null,null,null,{"$f":"IF(D1727=\"\",0,IF(D1727=D1726,COUNTIF(D$9:D1726,D1727)+1,1))","v":0},0,0]
["1720","-1900","-1900-0",null,null,null,null,null,null,null,"",null,null,null,null,null,null,null,null,{"$f":"IF(G$2034=1,\"\",IF(S1728=\"\",\"\",VLOOKUP(S1728,Tabelle!$I$5:$M$7,5,FALSE)))","v":""},{"$f":"IF(G$2034=1,\"\",IF(S1728=\"\",\"\",VLOOKUP(S1728,Tabelle!$I$5:$N$7,6,FALSE)))","v":""},null,null,null,null,null,null,null,null,null,{"$f":"IF(D1728=\"\",0,IF(D1728=D1727,COUNTIF(D$9:D1727,D1728)+1,1))","v":0},0,0]
["1721","-1900","-1900-0",null,null,null,null,null,null,null,"",null,null,null,null,null,null,null,null,{"$f":"IF(G$2034=1,\"\",IF(S1729=\"\",\"\",VLOOKUP(S1729,Tabelle!$I$5:$M$7,5,FALSE)))","v":""},{"$f":"IF(G$2034=1,\"\",IF(S1729=\"\",\"\",VLOOKUP(S1729,Tabelle!$I$5:$N$7,6,FALSE)))","v":""},null,null,null,null,null,null,null,null,null,{"$f":"IF(D1729=\"\",0,IF(D1729=D1728,COUNTIF(D$9:D1728,D1729)+1,1))","v":0},0,0]
["1722","-1900","-1900-0",null,null,null,null,null,null,null,"",null,null,null,null,null,null,null,null,{"$f":"IF(G$2034=1,\"\",IF(S1730=\"\",\"\",VLOOKUP(S1730,Tabelle!$I$5:$M$7,5,FALSE)))","v":""},{"$f":"IF(G$2034=1,\"\",IF(S1730=\"\",\"\",VLOOKUP(S1730,Tabelle!$I$5:$N$7,6,FALSE)))","v":""},null,null,null,null,null,null,null,null,null,{"$f":"IF(D1730=\"\",0,IF(D1730=D1729,COUNTIF(D$9:D1729,D1730)+1,1))","v":0},0,0]
["1723","-1900","-1900-0",null,null,null,null,null,null,null,"",null,null,null,null,null,null,null,null,{"$f":"IF(G$2034=1,\"\",IF(S1731=\"\",\"\",VLOOKUP(S1731,Tabelle!$I$5:$M$7,5,FALSE)))","v":""},{"$f":"IF(G$2034=1,\"\",IF(S1731=\"\",\"\",VLOOKUP(S1731,Tabelle!$I$5:$N$7,6,FALSE)))","v":""},null,null,null,null,null,null,null,null,null,{"$f":"IF(D1731=\"\",0,IF(D1731=D1730,COUNTIF(D$9:D1730,D1731)+1,1))","v":0},0,0]
["1724","-1900","-1900-0",null,null,null,null,null,null,null,"",null,null,null,null,null,null,null,null,{"$f":"IF(G$2034=1,\"\",IF(S1732=\"\",\"\",VLOOKUP(S1732,Tabelle!$I$5:$M$7,5,FALSE)))","v":""},{"$f":"IF(G$2034=1,\"\",IF(S1732=\"\",\"\",VLOOKUP(S1732,Tabelle!$I$5:$N$7,6,FALSE)))","v":""},null,null,null,null,null,null,null,null,null,{"$f":"IF(D1732=\"\",0,IF(D1732=D1731,COUNTIF(D$9:D1731,D1732)+1,1))","v":0},0,0]
["1725","-1900","-1900-0",null,null,null,null,null,null,null,"",null,null,null,null,null,null,null,null,{"$f":"IF(G$2034=1,\"\",IF(S1733=\"\",\"\",VLOOKUP(S1733,Tabelle!$I$5:$M$7,5,FALSE)))","v":""},{"$f":"IF(G$2034=1,\"\",IF(S1733=\"\",\"\",VLOOKUP(S1733,Tabelle!$I$5:$N$7,6,FALSE)))","v":""},null,null,null,null,null,null,null,null,null,{"$f":"IF(D1733=\"\",0,IF(D1733=D1732,COUNTIF(D$9:D1732,D1733)+1,1))","v":0},0,0]
["1726","-1900","-1900-0",null,null,null,null,null,null,null,"",null,null,null,null,null,null,null,null,{"$f":"IF(G$2034=1,\"\",IF(S1734=\"\",\"\",VLOOKUP(S1734,Tabelle!$I$5:$M$7,5,FALSE)))","v":""},{"$f":"IF(G$2034=1,\"\",IF(S1734=\"\",\"\",VLOOKUP(S1734,Tabelle!$I$5:$N$7,6,FALSE)))","v":""},null,null,null,null,null,null,null,null,null,{"$f":"IF(D1734=\"\",0,IF(D1734=D1733,COUNTIF(D$9:D1733,D1734)+1,1))","v":0},0,0]
["1727","-1900","-1900-0",null,null,null,null,null,null,null,"",null,null,null,null,null,null,null,null,{"$f":"IF(G$2034=1,\"\",IF(S1735=\"\",\"\",VLOOKUP(S1735,Tabelle!$I$5:$M$7,5,FALSE)))","v":""},{"$f":"IF(G$2034=1,\"\",IF(S1735=\"\",\"\",VLOOKUP(S1735,Tabelle!$I$5:$N$7,6,FALSE)))","v":""},null,null,null,null,null,null,null,null,null,{"$f":"IF(D1735=\"\",0,IF(D1735=D1734,COUNTIF(D$9:D1734,D1735)+1,1))","v":0},0,0]
["1728","-1900","-1900-0",null,null,null,null,null,null,null,"",null,null,null,null,null,null,null,null,{"$f":"IF(G$2034=1,\"\",IF(S1736=\"\",\"\",VLOOKUP(S1736,Tabelle!$I$5:$M$7,5,FALSE)))","v":""},{"$f":"IF(G$2034=1,\"\",IF(S1736=\"\",\"\",VLOOKUP(S1736,Tabelle!$I$5:$N$7,6,FALSE)))","v":""},null,null,null,null,null,null,null,null,null,{"$f":"IF(D1736=\"\",0,IF(D1736=D1735,COUNTIF(D$9:D1735,D1736)+1,1))","v":0},0,0]
["1729","-1900",{"$f":"IF(G$2034=1,0,B1737&\"-\"&AE1737)","v":"-1900-0"},null,null,null,null,null,null,null,{"$f":"IF(G$2034=1,0,IF(OR(J1737=\"\",ISERROR($O$2034)),\"\",VLOOKUP(J1737,$L$2019:$N$2027,2,FALSE)))","v":""},null,null,null,null,null,null,null,null,{"$f":"IF(G$2034=1,\"\",IF(S1737=\"\",\"\",VLOOKUP(S1737,Tabelle!$I$5:$M$7,5,FALSE)))","v":""},{"$f":"IF(G$2034=1,\"\",IF(S1737=\"\",\"\",VLOOKUP(S1737,Tabelle!$I$5:$N$7,6,FALSE)))","v":""},null,null,null,null,null,null,null,null,null,{"$f":"IF(D1737=\"\",0,IF(D1737=D1736,COUNTIF(D$9:D1736,D1737)+1,1))","v":0},0,0]
["1730",{"$f":"IF(AG1738=$AG$2013,0,IF(G$2034=1,0,D1738&\"-\"&YEAR(E1738)))","v":"-1900"},"-1900-0",null,null,null,null,null,null,null,"",null,null,null,null,null,null,null,null,{"$f":"IF(G$2034=1,\"\",IF(S1738=\"\",\"\",VLOOKUP(S1738,Tabelle!$I$5:$M$7,5,FALSE)))","v":""},{"$f":"IF(G$2034=1,\"\",IF(S1738=\"\",\"\",VLOOKUP(S1738,Tabelle!$I$5:$N$7,6,FALSE)))","v":""},null,null,null,null,null,null,null,null,null,{"$f":"IF(D1738=\"\",0,IF(D1738=D1737,COUNTIF(D$9:D1737,D1738)+1,1))","v":0},{"$f":"IF(G$2034=1,0,IF(AE1738=28,1,0))","v":0},{"$f":"IF(E1738>0,IF(OR(MONTH(E1738)<$G$2026,MONTH(E1738)>$G$2027),AG$2013,0),0)","v":0}]
["1731","-1900","-1900-0",null,null,null,null,null,null,null,"",null,null,null,null,null,null,null,null,{"$f":"IF(G$2034=1,\"\",IF(S1739=\"\",\"\",VLOOKUP(S1739,Tabelle!$I$5:$M$7,5,FALSE)))","v":""},{"$f":"IF(G$2034=1,\"\",IF(S1739=\"\",\"\",VLOOKUP(S1739,Tabelle!$I$5:$N$7,6,FALSE)))","v":""},null,null,null,null,null,null,null,null,null,{"$f":"IF(D1739=\"\",0,IF(D1739=D1738,COUNTIF(D$9:D1738,D1739)+1,1))","v":0},0,0]
["1732","-1900","-1900-0",null,null,null,null,null,null,null,"",null,null,null,null,null,null,null,null,{"$f":"IF(G$2034=1,\"\",IF(S1740=\"\",\"\",VLOOKUP(S1740,Tabelle!$I$5:$M$7,5,FALSE)))","v":""},{"$f":"IF(G$2034=1,\"\",IF(S1740=\"\",\"\",VLOOKUP(S1740,Tabelle!$I$5:$N$7,6,FALSE)))","v":""},null,null,null,null,null,null,null,null,null,{"$f":"IF(D1740=\"\",0,IF(D1740=D1739,COUNTIF(D$9:D1739,D1740)+1,1))","v":0},0,0]
["1733","-1900","-1900-0",null,null,null,null,null,null,null,"",null,null,null,null,null,null,null,null,{"$f":"IF(G$2034=1,\"\",IF(S1741=\"\",\"\",VLOOKUP(S1741,Tabelle!$I$5:$M$7,5,FALSE)))","v":""},{"$f":"IF(G$2034=1,\"\",IF(S1741=\"\",\"\",VLOOKUP(S1741,Tabelle!$I$5:$N$7,6,FALSE)))","v":""},null,null,null,null,null,null,null,null,null,{"$f":"IF(D1741=\"\",0,IF(D1741=D1740,COUNTIF(D$9:D1740,D1741)+1,1))","v":0},0,0]
["1734","-1900","-1900-0",null,null,null,null,null,null,null,"",null,null,null,null,null,null,null,null,{"$f":"IF(G$2034=1,\"\",IF(S1742=\"\",\"\",VLOOKUP(S1742,Tabelle!$I$5:$M$7,5,FALSE)))","v":""},{"$f":"IF(G$2034=1,\"\",IF(S1742=\"\",\"\",VLOOKUP(S1742,Tabelle!$I$5:$N$7,6,FALSE)))","v":""},null,null,null,null,null,null,null,null,null,{"$f":"IF(D1742=\"\",0,IF(D1742=D1741,COUNTIF(D$9:D1741,D1742)+1,1))","v":0},0,0]
["1735","-1900","-1900-0",null,null,null,null,null,null,null,"",null,null,null,null,null,null,null,null,{"$f":"IF(G$2034=1,\"\",IF(S1743=\"\",\"\",VLOOKUP(S1743,Tabelle!$I$5:$M$7,5,FALSE)))","v":""},{"$f":"IF(G$2034=1,\"\",IF(S1743=\"\",\"\",VLOOKUP(S1743,Tabelle!$I$5:$N$7,6,FALSE)))","v":""},null,null,null,null,null,null,null,null,null,{"$f":"IF(D1743=\"\",0,IF(D1743=D1742,COUNTIF(D$9:D1742,D1743)+1,1))","v":0},0,0]
["1736","-1900","-1900-0",null,null,null,null,null,null,null,"",null,null,null,null,null,null,null,null,{"$f":"IF(G$2034=1,\"\",IF(S1744=\"\",\"\",VLOOKUP(S1744,Tabelle!$I$5:$M$7,5,FALSE)))","v":""},{"$f":"IF(G$2034=1,\"\",IF(S1744=\"\",\"\",VLOOKUP(S1744,Tabelle!$I$5:$N$7,6,FALSE)))","v":""},null,null,null,null,null,null,null,null,null,{"$f":"IF(D1744=\"\",0,IF(D1744=D1743,COUNTIF(D$9:D1743,D1744)+1,1))","v":0},0,0]
["1737","-1900","-1900-0",null,null,null,null,null,null,null,"",null,null,null,null,null,null,null,null,{"$f":"IF(G$2034=1,\"\",IF(S1745=\"\",\"\",VLOOKUP(S1745,Tabelle!$I$5:$M$7,5,FALSE)))","v":""},{"$f":"IF(G$2034=1,\"\",IF(S1745=\"\",\"\",VLOOKUP(S1745,Tabelle!$I$5:$N$7,6,FALSE)))","v":""},null,null,null,null,null,null,null,null,null,{"$f":"IF(D1745=\"\",0,IF(D1745=D1744,COUNTIF(D$9:D1744,D1745)+1,1))","v":0},0,0]
["1738","-1900","-1900-0",null,null,null,null,null,null,null,"",null,null,null,null,null,null,null,null,{"$f":"IF(G$2034=1,\"\",IF(S1746=\"\",\"\",VLOOKUP(S1746,Tabelle!$I$5:$M$7,5,FALSE)))","v":""},{"$f":"IF(G$2034=1,\"\",IF(S1746=\"\",\"\",VLOOKUP(S1746,Tabelle!$I$5:$N$7,6,FALSE)))","v":""},null,null,null,null,null,null,null,null,null,{"$f":"IF(D1746=\"\",0,IF(D1746=D1745,COUNTIF(D$9:D1745,D1746)+1,1))","v":0},0,0]
["1739","-1900","-1900-0",null,null,null,null,null,null,null,"",null,null,null,null,null,null,null,null,{"$f":"IF(G$2034=1,\"\",IF(S1747=\"\",\"\",VLOOKUP(S1747,Tabelle!$I$5:$M$7,5,FALSE)))","v":""},{"$f":"IF(G$2034=1,\"\",IF(S1747=\"\",\"\",VLOOKUP(S1747,Tabelle!$I$5:$N$7,6,FALSE)))","v":""},null,null,null,null,null,null,null,null,null,{"$f":"IF(D1747=\"\",0,IF(D1747=D1746,COUNTIF(D$9:D1746,D1747)+1,1))","v":0},0,0]
["1740","-1900","-1900-0",null,null,null,null,null,null,null,"",null,null,null,null,null,null,null,null,{"$f":"IF(G$2034=1,\"\",IF(S1748=\"\",\"\",VLOOKUP(S1748,Tabelle!$I$5:$M$7,5,FALSE)))","v":""},{"$f":"IF(G$2034=1,\"\",IF(S1748=\"\",\"\",VLOOKUP(S1748,Tabelle!$I$5:$N$7,6,FALSE)))","v":""},null,null,null,null,null,null,null,null,null,{"$f":"IF(D1748=\"\",0,IF(D1748=D1747,COUNTIF(D$9:D1747,D1748)+1,1))","v":0},0,0]
["1741","-1900","-1900-0",null,null,null,null,null,null,null,"",null,null,null,null,null,null,null,null,{"$f":"IF(G$2034=1,\"\",IF(S1749=\"\",\"\",VLOOKUP(S1749,Tabelle!$I$5:$M$7,5,FALSE)))","v":""},{"$f":"IF(G$2034=1,\"\",IF(S1749=\"\",\"\",VLOOKUP(S1749,Tabelle!$I$5:$N$7,6,FALSE)))","v":""},null,null,null,null,null,null,null,null,null,{"$f":"IF(D1749=\"\",0,IF(D1749=D1748,COUNTIF(D$9:D1748,D1749)+1,1))","v":0},0,0]
["1742","-1900","-1900-0",null,null,null,null,null,null,null,"",null,null,null,null,null,null,null,null,{"$f":"IF(G$2034=1,\"\",IF(S1750=\"\",\"\",VLOOKUP(S1750,Tabelle!$I$5:$M$7,5,FALSE)))","v":""},{"$f":"IF(G$2034=1,\"\",IF(S1750=\"\",\"\",VLOOKUP(S1750,Tabelle!$I$5:$N$7,6,FALSE)))","v":""},null,null,null,null,null,null,null,null,null,{"$f":"IF(D1750=\"\",0,IF(D1750=D1749,COUNTIF(D$9:D1749,D1750)+1,1))","v":0},0,0]
["1743","-1900","-1900-0",null,null,null,null,null,null,null,"",null,null,null,null,null,null,null,null,{"$f":"IF(G$2034=1,\"\",IF(S1751=\"\",\"\",VLOOKUP(S1751,Tabelle!$I$5:$M$7,5,FALSE)))","v":""},{"$f":"IF(G$2034=1,\"\",IF(S1751=\"\",\"\",VLOOKUP(S1751,Tabelle!$I$5:$N$7,6,FALSE)))","v":""},null,null,null,null,null,null,null,null,null,{"$f":"IF(D1751=\"\",0,IF(D1751=D1750,COUNTIF(D$9:D1750,D1751)+1,1))","v":0},0,0]
["1744","-1900","-1900-0",null,null,null,null,null,null,null,"",null,null,null,null,null,null,null,null,{"$f":"IF(G$2034=1,\"\",IF(S1752=\"\",\"\",VLOOKUP(S1752,Tabelle!$I$5:$M$7,5,FALSE)))","v":""},{"$f":"IF(G$2034=1,\"\",IF(S1752=\"\",\"\",VLOOKUP(S1752,Tabelle!$I$5:$N$7,6,FALSE)))","v":""},null,null,null,null,null,null,null,null,null,{"$f":"IF(D1752=\"\",0,IF(D1752=D1751,COUNTIF(D$9:D1751,D1752)+1,1))","v":0},0,0]
["1745","-1900","-1900-0",null,null,null,null,null,null,null,"",null,null,null,null,null,null,null,null,{"$f":"IF(G$2034=1,\"\",IF(S1753=\"\",\"\",VLOOKUP(S1753,Tabelle!$I$5:$M$7,5,FALSE)))","v":""},{"$f":"IF(G$2034=1,\"\",IF(S1753=\"\",\"\",VLOOKUP(S1753,Tabelle!$I$5:$N$7,6,FALSE)))","v":""},null,null,null,null,null,null,null,null,null,{"$f":"IF(D1753=\"\",0,IF(D1753=D1752,COUNTIF(D$9:D1752,D1753)+1,1))","v":0},0,0]
["1746","-1900","-1900-0",null,null,null,null,null,null,null,"",null,null,null,null,null,null,null,null,{"$f":"IF(G$2034=1,\"\",IF(S1754=\"\",\"\",VLOOKUP(S1754,Tabelle!$I$5:$M$7,5,FALSE)))","v":""},{"$f":"IF(G$2034=1,\"\",IF(S1754=\"\",\"\",VLOOKUP(S1754,Tabelle!$I$5:$N$7,6,FALSE)))","v":""},null,null,null,null,null,null,null,null,null,{"$f":"IF(D1754=\"\",0,IF(D1754=D1753,COUNTIF(D$9:D1753,D1754)+1,1))","v":0},0,0]
["1747","-1900","-1900-0",null,null,null,null,null,null,null,"",null,null,null,null,null,null,null,null,{"$f":"IF(G$2034=1,\"\",IF(S1755=\"\",\"\",VLOOKUP(S1755,Tabelle!$I$5:$M$7,5,FALSE)))","v":""},{"$f":"IF(G$2034=1,\"\",IF(S1755=\"\",\"\",VLOOKUP(S1755,Tabelle!$I$5:$N$7,6,FALSE)))","v":""},null,null,null,null,null,null,null,null,null,{"$f":"IF(D1755=\"\",0,IF(D1755=D1754,COUNTIF(D$9:D1754,D1755)+1,1))","v":0},0,0]
["1748","-1900","-1900-0",null,null,null,null,null,null,null,"",null,null,null,null,null,null,null,null,{"$f":"IF(G$2034=1,\"\",IF(S1756=\"\",\"\",VLOOKUP(S1756,Tabelle!$I$5:$M$7,5,FALSE)))","v":""},{"$f":"IF(G$2034=1,\"\",IF(S1756=\"\",\"\",VLOOKUP(S1756,Tabelle!$I$5:$N$7,6,FALSE)))","v":""},null,null,null,null,null,null,null,null,null,{"$f":"IF(D1756=\"\",0,IF(D1756=D1755,COUNTIF(D$9:D1755,D1756)+1,1))","v":0},0,0]
["1749","-1900","-1900-0",null,null,null,null,null,null,null,"",null,null,null,null,null,null,null,null,{"$f":"IF(G$2034=1,\"\",IF(S1757=\"\",\"\",VLOOKUP(S1757,Tabelle!$I$5:$M$7,5,FALSE)))","v":""},{"$f":"IF(G$2034=1,\"\",IF(S1757=\"\",\"\",VLOOKUP(S1757,Tabelle!$I$5:$N$7,6,FALSE)))","v":""},null,null,null,null,null,null,null,null,null,{"$f":"IF(D1757=\"\",0,IF(D1757=D1756,COUNTIF(D$9:D1756,D1757)+1,1))","v":0},0,0]
["1750","-1900","-1900-0",null,null,null,null,null,null,null,"",null,null,null,null,null,null,null,null,{"$f":"IF(G$2034=1,\"\",IF(S1758=\"\",\"\",VLOOKUP(S1758,Tabelle!$I$5:$M$7,5,FALSE)))","v":""},{"$f":"IF(G$2034=1,\"\",IF(S1758=\"\",\"\",VLOOKUP(S1758,Tabelle!$I$5:$N$7,6,FALSE)))","v":""},null,null,null,null,null,null,null,null,null,{"$f":"IF(D1758=\"\",0,IF(D1758=D1757,COUNTIF(D$9:D1757,D1758)+1,1))","v":0},0,0]
["1751","-1900","-1900-0",null,null,null,null,null,null,null,"",null,null,null,null,null,null,null,null,{"$f":"IF(G$2034=1,\"\",IF(S1759=\"\",\"\",VLOOKUP(S1759,Tabelle!$I$5:$M$7,5,FALSE)))","v":""},{"$f":"IF(G$2034=1,\"\",IF(S1759=\"\",\"\",VLOOKUP(S1759,Tabelle!$I$5:$N$7,6,FALSE)))","v":""},null,null,null,null,null,null,null,null,null,{"$f":"IF(D1759=\"\",0,IF(D1759=D1758,COUNTIF(D$9:D1758,D1759)+1,1))","v":0},0,0]
["1752","-1900","-1900-0",null,null,null,null,null,null,null,"",null,null,null,null,null,null,null,null,{"$f":"IF(G$2034=1,\"\",IF(S1760=\"\",\"\",VLOOKUP(S1760,Tabelle!$I$5:$M$7,5,FALSE)))","v":""},{"$f":"IF(G$2034=1,\"\",IF(S1760=\"\",\"\",VLOOKUP(S1760,Tabelle!$I$5:$N$7,6,FALSE)))","v":""},null,null,null,null,null,null,null,null,null,{"$f":"IF(D1760=\"\",0,IF(D1760=D1759,COUNTIF(D$9:D1759,D1760)+1,1))","v":0},0,0]
["1753","-1900","-1900-0",null,null,null,null,null,null,null,"",null,null,null,null,null,null,null,null,{"$f":"IF(G$2034=1,\"\",IF(S1761=\"\",\"\",VLOOKUP(S1761,Tabelle!$I$5:$M$7,5,FALSE)))","v":""},{"$f":"IF(G$2034=1,\"\",IF(S1761=\"\",\"\",VLOOKUP(S1761,Tabelle!$I$5:$N$7,6,FALSE)))","v":""},null,null,null,null,null,null,null,null,null,{"$f":"IF(D1761=\"\",0,IF(D1761=D1760,COUNTIF(D$9:D1760,D1761)+1,1))","v":0},0,0]
["1754","-1900","-1900-0",null,null,null,null,null,null,null,"",null,null,null,null,null,null,null,null,{"$f":"IF(G$2034=1,\"\",IF(S1762=\"\",\"\",VLOOKUP(S1762,Tabelle!$I$5:$M$7,5,FALSE)))","v":""},{"$f":"IF(G$2034=1,\"\",IF(S1762=\"\",\"\",VLOOKUP(S1762,Tabelle!$I$5:$N$7,6,FALSE)))","v":""},null,null,null,null,null,null,null,null,null,{"$f":"IF(D1762=\"\",0,IF(D1762=D1761,COUNTIF(D$9:D1761,D1762)+1,1))","v":0},0,0]
["1755","-1900","-1900-0",null,null,null,null,null,null,null,"",null,null,null,null,null,null,null,null,{"$f":"IF(G$2034=1,\"\",IF(S1763=\"\",\"\",VLOOKUP(S1763,Tabelle!$I$5:$M$7,5,FALSE)))","v":""},{"$f":"IF(G$2034=1,\"\",IF(S1763=\"\",\"\",VLOOKUP(S1763,Tabelle!$I$5:$N$7,6,FALSE)))","v":""},null,null,null,null,null,null,null,null,null,{"$f":"IF(D1763=\"\",0,IF(D1763=D1762,COUNTIF(D$9:D1762,D1763)+1,1))","v":0},0,0]
["1756","-1900","-1900-0",null,null,null,null,null,null,null,"",null,null,null,null,null,null,null,null,{"$f":"IF(G$2034=1,\"\",IF(S1764=\"\",\"\",VLOOKUP(S1764,Tabelle!$I$5:$M$7,5,FALSE)))","v":""},{"$f":"IF(G$2034=1,\"\",IF(S1764=\"\",\"\",VLOOKUP(S1764,Tabelle!$I$5:$N$7,6,FALSE)))","v":""},null,null,null,null,null,null,null,null,null,{"$f":"IF(D1764=\"\",0,IF(D1764=D1763,COUNTIF(D$9:D1763,D1764)+1,1))","v":0},0,0]
["1757","-1900","-1900-0",null,null,null,null,null,null,null,"",null,null,null,null,null,null,null,null,{"$f":"IF(G$2034=1,\"\",IF(S1765=\"\",\"\",VLOOKUP(S1765,Tabelle!$I$5:$M$7,5,FALSE)))","v":""},{"$f":"IF(G$2034=1,\"\",IF(S1765=\"\",\"\",VLOOKUP(S1765,Tabelle!$I$5:$N$7,6,FALSE)))","v":""},null,null,null,null,null,null,null,null,null,{"$f":"IF(D1765=\"\",0,IF(D1765=D1764,COUNTIF(D$9:D1764,D1765)+1,1))","v":0},0,0]
["1758","-1900","-1900-0",null,null,null,null,null,null,null,"",null,null,null,null,null,null,null,null,{"$f":"IF(G$2034=1,\"\",IF(S1766=\"\",\"\",VLOOKUP(S1766,Tabelle!$I$5:$M$7,5,FALSE)))","v":""},{"$f":"IF(G$2034=1,\"\",IF(S1766=\"\",\"\",VLOOKUP(S1766,Tabelle!$I$5:$N$7,6,FALSE)))","v":""},null,null,null,null,null,null,null,null,null,{"$f":"IF(D1766=\"\",0,IF(D1766=D1765,COUNTIF(D$9:D1765,D1766)+1,1))","v":0},0,0]
["1759","-1900","-1900-0",null,null,null,null,null,null,null,"",null,null,null,null,null,null,null,null,{"$f":"IF(G$2034=1,\"\",IF(S1767=\"\",\"\",VLOOKUP(S1767,Tabelle!$I$5:$M$7,5,FALSE)))","v":""},{"$f":"IF(G$2034=1,\"\",IF(S1767=\"\",\"\",VLOOKUP(S1767,Tabelle!$I$5:$N$7,6,FALSE)))","v":""},null,null,null,null,null,null,null,null,null,{"$f":"IF(D1767=\"\",0,IF(D1767=D1766,COUNTIF(D$9:D1766,D1767)+1,1))","v":0},0,0]
["1760","-1900","-1900-0",null,null,null,null,null,null,null,"",null,null,null,null,null,null,null,null,{"$f":"IF(G$2034=1,\"\",IF(S1768=\"\",\"\",VLOOKUP(S1768,Tabelle!$I$5:$M$7,5,FALSE)))","v":""},{"$f":"IF(G$2034=1,\"\",IF(S1768=\"\",\"\",VLOOKUP(S1768,Tabelle!$I$5:$N$7,6,FALSE)))","v":""},null,null,null,null,null,null,null,null,null,{"$f":"IF(D1768=\"\",0,IF(D1768=D1767,COUNTIF(D$9:D1767,D1768)+1,1))","v":0},0,0]
["1761","-1900","-1900-0",null,null,null,null,null,null,null,"",null,null,null,null,null,null,null,null,{"$f":"IF(G$2034=1,\"\",IF(S1769=\"\",\"\",VLOOKUP(S1769,Tabelle!$I$5:$M$7,5,FALSE)))","v":""},{"$f":"IF(G$2034=1,\"\",IF(S1769=\"\",\"\",VLOOKUP(S1769,Tabelle!$I$5:$N$7,6,FALSE)))","v":""},null,null,null,null,null,null,null,null,null,{"$f":"IF(D1769=\"\",0,IF(D1769=D1768,COUNTIF(D$9:D1768,D1769)+1,1))","v":0},0,0]
["1762","-1900","-1900-0",null,null,null,null,null,null,null,"",null,null,null,null,null,null,null,null,{"$f":"IF(G$2034=1,\"\",IF(S1770=\"\",\"\",VLOOKUP(S1770,Tabelle!$I$5:$M$7,5,FALSE)))","v":""},{"$f":"IF(G$2034=1,\"\",IF(S1770=\"\",\"\",VLOOKUP(S1770,Tabelle!$I$5:$N$7,6,FALSE)))","v":""},null,null,null,null,null,null,null,null,null,{"$f":"IF(D1770=\"\",0,IF(D1770=D1769,COUNTIF(D$9:D1769,D1770)+1,1))","v":0},0,0]
["1763","-1900","-1900-0",null,null,null,null,null,null,null,"",null,null,null,null,null,null,null,null,{"$f":"IF(G$2034=1,\"\",IF(S1771=\"\",\"\",VLOOKUP(S1771,Tabelle!$I$5:$M$7,5,FALSE)))","v":""},{"$f":"IF(G$2034=1,\"\",IF(S1771=\"\",\"\",VLOOKUP(S1771,Tabelle!$I$5:$N$7,6,FALSE)))","v":""},null,null,null,null,null,null,null,null,null,{"$f":"IF(D1771=\"\",0,IF(D1771=D1770,COUNTIF(D$9:D1770,D1771)+1,1))","v":0},0,0]
["1764","-1900","-1900-0",null,null,null,null,null,null,null,"",null,null,null,null,null,null,null,null,{"$f":"IF(G$2034=1,\"\",IF(S1772=\"\",\"\",VLOOKUP(S1772,Tabelle!$I$5:$M$7,5,FALSE)))","v":""},{"$f":"IF(G$2034=1,\"\",IF(S1772=\"\",\"\",VLOOKUP(S1772,Tabelle!$I$5:$N$7,6,FALSE)))","v":""},null,null,null,null,null,null,null,null,null,{"$f":"IF(D1772=\"\",0,IF(D1772=D1771,COUNTIF(D$9:D1771,D1772)+1,1))","v":0},0,0]
["1765","-1900","-1900-0",null,null,null,null,null,null,null,"",null,null,null,null,null,null,null,null,{"$f":"IF(G$2034=1,\"\",IF(S1773=\"\",\"\",VLOOKUP(S1773,Tabelle!$I$5:$M$7,5,FALSE)))","v":""},{"$f":"IF(G$2034=1,\"\",IF(S1773=\"\",\"\",VLOOKUP(S1773,Tabelle!$I$5:$N$7,6,FALSE)))","v":""},null,null,null,null,null,null,null,null,null,{"$f":"IF(D1773=\"\",0,IF(D1773=D1772,COUNTIF(D$9:D1772,D1773)+1,1))","v":0},0,0]
["1766","-1900","-1900-0",null,null,null,null,null,null,null,"",null,null,null,null,null,null,null,null,{"$f":"IF(G$2034=1,\"\",IF(S1774=\"\",\"\",VLOOKUP(S1774,Tabelle!$I$5:$M$7,5,FALSE)))","v":""},{"$f":"IF(G$2034=1,\"\",IF(S1774=\"\",\"\",VLOOKUP(S1774,Tabelle!$I$5:$N$7,6,FALSE)))","v":""},null,null,null,null,null,null,null,null,null,{"$f":"IF(D1774=\"\",0,IF(D1774=D1773,COUNTIF(D$9:D1773,D1774)+1,1))","v":0},0,0]
["1767","-1900","-1900-0",null,null,null,null,null,null,null,"",null,null,null,null,null,null,null,null,{"$f":"IF(G$2034=1,\"\",IF(S1775=\"\",\"\",VLOOKUP(S1775,Tabelle!$I$5:$M$7,5,FALSE)))","v":""},{"$f":"IF(G$2034=1,\"\",IF(S1775=\"\",\"\",VLOOKUP(S1775,Tabelle!$I$5:$N$7,6,FALSE)))","v":""},null,null,null,null,null,null,null,null,null,{"$f":"IF(D1775=\"\",0,IF(D1775=D1774,COUNTIF(D$9:D1774,D1775)+1,1))","v":0},0,0]
["1768","-1900","-1900-0",null,null,null,null,null,null,null,"",null,null,null,null,null,null,null,null,{"$f":"IF(G$2034=1,\"\",IF(S1776=\"\",\"\",VLOOKUP(S1776,Tabelle!$I$5:$M$7,5,FALSE)))","v":""},{"$f":"IF(G$2034=1,\"\",IF(S1776=\"\",\"\",VLOOKUP(S1776,Tabelle!$I$5:$N$7,6,FALSE)))","v":""},null,null,null,null,null,null,null,null,null,{"$f":"IF(D1776=\"\",0,IF(D1776=D1775,COUNTIF(D$9:D1775,D1776)+1,1))","v":0},0,0]
["1769","-1900","-1900-0",null,null,null,null,null,null,null,"",null,null,null,null,null,null,null,null,{"$f":"IF(G$2034=1,\"\",IF(S1777=\"\",\"\",VLOOKUP(S1777,Tabelle!$I$5:$M$7,5,FALSE)))","v":""},{"$f":"IF(G$2034=1,\"\",IF(S1777=\"\",\"\",VLOOKUP(S1777,Tabelle!$I$5:$N$7,6,FALSE)))","v":""},null,null,null,null,null,null,null,null,null,{"$f":"IF(D1777=\"\",0,IF(D1777=D1776,COUNTIF(D$9:D1776,D1777)+1,1))","v":0},0,0]
["1770","-1900","-1900-0",null,null,null,null,null,null,null,"",null,null,null,null,null,null,null,null,{"$f":"IF(G$2034=1,\"\",IF(S1778=\"\",\"\",VLOOKUP(S1778,Tabelle!$I$5:$M$7,5,FALSE)))","v":""},{"$f":"IF(G$2034=1,\"\",IF(S1778=\"\",\"\",VLOOKUP(S1778,Tabelle!$I$5:$N$7,6,FALSE)))","v":""},null,null,null,null,null,null,null,null,null,{"$f":"IF(D1778=\"\",0,IF(D1778=D1777,COUNTIF(D$9:D1777,D1778)+1,1))","v":0},0,0]
["1771","-1900","-1900-0",null,null,null,null,null,null,null,"",null,null,null,null,null,null,null,null,{"$f":"IF(G$2034=1,\"\",IF(S1779=\"\",\"\",VLOOKUP(S1779,Tabelle!$I$5:$M$7,5,FALSE)))","v":""},{"$f":"IF(G$2034=1,\"\",IF(S1779=\"\",\"\",VLOOKUP(S1779,Tabelle!$I$5:$N$7,6,FALSE)))","v":""},null,null,null,null,null,null,null,null,null,{"$f":"IF(D1779=\"\",0,IF(D1779=D1778,COUNTIF(D$9:D1778,D1779)+1,1))","v":0},0,0]
["1772","-1900","-1900-0",null,null,null,null,null,null,null,"",null,null,null,null,null,null,null,null,{"$f":"IF(G$2034=1,\"\",IF(S1780=\"\",\"\",VLOOKUP(S1780,Tabelle!$I$5:$M$7,5,FALSE)))","v":""},{"$f":"IF(G$2034=1,\"\",IF(S1780=\"\",\"\",VLOOKUP(S1780,Tabelle!$I$5:$N$7,6,FALSE)))","v":""},null,null,null,null,null,null,null,null,null,{"$f":"IF(D1780=\"\",0,IF(D1780=D1779,COUNTIF(D$9:D1779,D1780)+1,1))","v":0},0,0]
["1773","-1900","-1900-0",null,null,null,null,null,null,null,"",null,null,null,null,null,null,null,null,{"$f":"IF(G$2034=1,\"\",IF(S1781=\"\",\"\",VLOOKUP(S1781,Tabelle!$I$5:$M$7,5,FALSE)))","v":""},{"$f":"IF(G$2034=1,\"\",IF(S1781=\"\",\"\",VLOOKUP(S1781,Tabelle!$I$5:$N$7,6,FALSE)))","v":""},null,null,null,null,null,null,null,null,null,{"$f":"IF(D1781=\"\",0,IF(D1781=D1780,COUNTIF(D$9:D1780,D1781)+1,1))","v":0},0,0]
["1774","-1900","-1900-0",null,null,null,null,null,null,null,"",null,null,null,null,null,null,null,null,{"$f":"IF(G$2034=1,\"\",IF(S1782=\"\",\"\",VLOOKUP(S1782,Tabelle!$I$5:$M$7,5,FALSE)))","v":""},{"$f":"IF(G$2034=1,\"\",IF(S1782=\"\",\"\",VLOOKUP(S1782,Tabelle!$I$5:$N$7,6,FALSE)))","v":""},null,null,null,null,null,null,null,null,null,{"$f":"IF(D1782=\"\",0,IF(D1782=D1781,COUNTIF(D$9:D1781,D1782)+1,1))","v":0},0,0]
["1775","-1900","-1900-0",null,null,null,null,null,null,null,"",null,null,null,null,null,null,null,null,{"$f":"IF(G$2034=1,\"\",IF(S1783=\"\",\"\",VLOOKUP(S1783,Tabelle!$I$5:$M$7,5,FALSE)))","v":""},{"$f":"IF(G$2034=1,\"\",IF(S1783=\"\",\"\",VLOOKUP(S1783,Tabelle!$I$5:$N$7,6,FALSE)))","v":""},null,null,null,null,null,null,null,null,null,{"$f":"IF(D1783=\"\",0,IF(D1783=D1782,COUNTIF(D$9:D1782,D1783)+1,1))","v":0},0,0]
["1776","-1900","-1900-0",null,null,null,null,null,null,null,"",null,null,null,null,null,null,null,null,{"$f":"IF(G$2034=1,\"\",IF(S1784=\"\",\"\",VLOOKUP(S1784,Tabelle!$I$5:$M$7,5,FALSE)))","v":""},{"$f":"IF(G$2034=1,\"\",IF(S1784=\"\",\"\",VLOOKUP(S1784,Tabelle!$I$5:$N$7,6,FALSE)))","v":""},null,null,null,null,null,null,null,null,null,{"$f":"IF(D1784=\"\",0,IF(D1784=D1783,COUNTIF(D$9:D1783,D1784)+1,1))","v":0},0,0]
["1777","-1900","-1900-0",null,null,null,null,null,null,null,"",null,null,null,null,null,null,null,null,{"$f":"IF(G$2034=1,\"\",IF(S1785=\"\",\"\",VLOOKUP(S1785,Tabelle!$I$5:$M$7,5,FALSE)))","v":""},{"$f":"IF(G$2034=1,\"\",IF(S1785=\"\",\"\",VLOOKUP(S1785,Tabelle!$I$5:$N$7,6,FALSE)))","v":""},null,null,null,null,null,null,null,null,null,{"$f":"IF(D1785=\"\",0,IF(D1785=D1784,COUNTIF(D$9:D1784,D1785)+1,1))","v":0},0,0]
["1778","-1900","-1900-0",null,null,null,null,null,null,null,"",null,null,null,null,null,null,null,null,{"$f":"IF(G$2034=1,\"\",IF(S1786=\"\",\"\",VLOOKUP(S1786,Tabelle!$I$5:$M$7,5,FALSE)))","v":""},{"$f":"IF(G$2034=1,\"\",IF(S1786=\"\",\"\",VLOOKUP(S1786,Tabelle!$I$5:$N$7,6,FALSE)))","v":""},null,null,null,null,null,null,null,null,null,{"$f":"IF(D1786=\"\",0,IF(D1786=D1785,COUNTIF(D$9:D1785,D1786)+1,1))","v":0},0,0]
["1779","-1900","-1900-0",null,null,null,null,null,null,null,"",null,null,null,null,null,null,null,null,{"$f":"IF(G$2034=1,\"\",IF(S1787=\"\",\"\",VLOOKUP(S1787,Tabelle!$I$5:$M$7,5,FALSE)))","v":""},{"$f":"IF(G$2034=1,\"\",IF(S1787=\"\",\"\",VLOOKUP(S1787,Tabelle!$I$5:$N$7,6,FALSE)))","v":""},null,null,null,null,null,null,null,null,null,{"$f":"IF(D1787=\"\",0,IF(D1787=D1786,COUNTIF(D$9:D1786,D1787)+1,1))","v":0},0,0]
["1780","-1900","-1900-0",null,null,null,null,null,null,null,"",null,null,null,null,null,null,null,null,{"$f":"IF(G$2034=1,\"\",IF(S1788=\"\",\"\",VLOOKUP(S1788,Tabelle!$I$5:$M$7,5,FALSE)))","v":""},{"$f":"IF(G$2034=1,\"\",IF(S1788=\"\",\"\",VLOOKUP(S1788,Tabelle!$I$5:$N$7,6,FALSE)))","v":""},null,null,null,null,null,null,null,null,null,{"$f":"IF(D1788=\"\",0,IF(D1788=D1787,COUNTIF(D$9:D1787,D1788)+1,1))","v":0},0,0]
["1781","-1900","-1900-0",null,null,null,null,null,null,null,"",null,null,null,null,null,null,null,null,{"$f":"IF(G$2034=1,\"\",IF(S1789=\"\",\"\",VLOOKUP(S1789,Tabelle!$I$5:$M$7,5,FALSE)))","v":""},{"$f":"IF(G$2034=1,\"\",IF(S1789=\"\",\"\",VLOOKUP(S1789,Tabelle!$I$5:$N$7,6,FALSE)))","v":""},null,null,null,null,null,null,null,null,null,{"$f":"IF(D1789=\"\",0,IF(D1789=D1788,COUNTIF(D$9:D1788,D1789)+1,1))","v":0},0,0]
["1782","-1900","-1900-0",null,null,null,null,null,null,null,"",null,null,null,null,null,null,null,null,{"$f":"IF(G$2034=1,\"\",IF(S1790=\"\",\"\",VLOOKUP(S1790,Tabelle!$I$5:$M$7,5,FALSE)))","v":""},{"$f":"IF(G$2034=1,\"\",IF(S1790=\"\",\"\",VLOOKUP(S1790,Tabelle!$I$5:$N$7,6,FALSE)))","v":""},null,null,null,null,null,null,null,null,null,{"$f":"IF(D1790=\"\",0,IF(D1790=D1789,COUNTIF(D$9:D1789,D1790)+1,1))","v":0},0,0]
["1783","-1900","-1900-0",null,null,null,null,null,null,null,"",null,null,null,null,null,null,null,null,{"$f":"IF(G$2034=1,\"\",IF(S1791=\"\",\"\",VLOOKUP(S1791,Tabelle!$I$5:$M$7,5,FALSE)))","v":""},{"$f":"IF(G$2034=1,\"\",IF(S1791=\"\",\"\",VLOOKUP(S1791,Tabelle!$I$5:$N$7,6,FALSE)))","v":""},null,null,null,null,null,null,null,null,null,{"$f":"IF(D1791=\"\",0,IF(D1791=D1790,COUNTIF(D$9:D1790,D1791)+1,1))","v":0},0,0]
["1784","-1900","-1900-0",null,null,null,null,null,null,null,"",null,null,null,null,null,null,null,null,{"$f":"IF(G$2034=1,\"\",IF(S1792=\"\",\"\",VLOOKUP(S1792,Tabelle!$I$5:$M$7,5,FALSE)))","v":""},{"$f":"IF(G$2034=1,\"\",IF(S1792=\"\",\"\",VLOOKUP(S1792,Tabelle!$I$5:$N$7,6,FALSE)))","v":""},null,null,null,null,null,null,null,null,null,{"$f":"IF(D1792=\"\",0,IF(D1792=D1791,COUNTIF(D$9:D1791,D1792)+1,1))","v":0},0,0]
["1785","-1900","-1900-0",null,null,null,null,null,null,null,"",null,null,null,null,null,null,null,null,{"$f":"IF(G$2034=1,\"\",IF(S1793=\"\",\"\",VLOOKUP(S1793,Tabelle!$I$5:$M$7,5,FALSE)))","v":""},{"$f":"IF(G$2034=1,\"\",IF(S1793=\"\",\"\",VLOOKUP(S1793,Tabelle!$I$5:$N$7,6,FALSE)))","v":""},null,null,null,null,null,null,null,null,null,{"$f":"IF(D1793=\"\",0,IF(D1793=D1792,COUNTIF(D$9:D1792,D1793)+1,1))","v":0},0,0]
["1786","-1900","-1900-0",null,null,null,null,null,null,null,"",null,null,null,null,null,null,null,null,{"$f":"IF(G$2034=1,\"\",IF(S1794=\"\",\"\",VLOOKUP(S1794,Tabelle!$I$5:$M$7,5,FALSE)))","v":""},{"$f":"IF(G$2034=1,\"\",IF(S1794=\"\",\"\",VLOOKUP(S1794,Tabelle!$I$5:$N$7,6,FALSE)))","v":""},null,null,null,null,null,null,null,null,null,{"$f":"IF(D1794=\"\",0,IF(D1794=D1793,COUNTIF(D$9:D1793,D1794)+1,1))","v":0},0,0]
["1787","-1900","-1900-0",null,null,null,null,null,null,null,"",null,null,null,null,null,null,null,null,{"$f":"IF(G$2034=1,\"\",IF(S1795=\"\",\"\",VLOOKUP(S1795,Tabelle!$I$5:$M$7,5,FALSE)))","v":""},{"$f":"IF(G$2034=1,\"\",IF(S1795=\"\",\"\",VLOOKUP(S1795,Tabelle!$I$5:$N$7,6,FALSE)))","v":""},null,null,null,null,null,null,null,null,null,{"$f":"IF(D1795=\"\",0,IF(D1795=D1794,COUNTIF(D$9:D1794,D1795)+1,1))","v":0},0,0]
["1788","-1900","-1900-0",null,null,null,null,null,null,null,"",null,null,null,null,null,null,null,null,{"$f":"IF(G$2034=1,\"\",IF(S1796=\"\",\"\",VLOOKUP(S1796,Tabelle!$I$5:$M$7,5,FALSE)))","v":""},{"$f":"IF(G$2034=1,\"\",IF(S1796=\"\",\"\",VLOOKUP(S1796,Tabelle!$I$5:$N$7,6,FALSE)))","v":""},null,null,null,null,null,null,null,null,null,{"$f":"IF(D1796=\"\",0,IF(D1796=D1795,COUNTIF(D$9:D1795,D1796)+1,1))","v":0},0,0]
["1789","-1900","-1900-0",null,null,null,null,null,null,null,"",null,null,null,null,null,null,null,null,{"$f":"IF(G$2034=1,\"\",IF(S1797=\"\",\"\",VLOOKUP(S1797,Tabelle!$I$5:$M$7,5,FALSE)))","v":""},{"$f":"IF(G$2034=1,\"\",IF(S1797=\"\",\"\",VLOOKUP(S1797,Tabelle!$I$5:$N$7,6,FALSE)))","v":""},null,null,null,null,null,null,null,null,null,{"$f":"IF(D1797=\"\",0,IF(D1797=D1796,COUNTIF(D$9:D1796,D1797)+1,1))","v":0},0,0]
["1790","-1900","-1900-0",null,null,null,null,null,null,null,"",null,null,null,null,null,null,null,null,{"$f":"IF(G$2034=1,\"\",IF(S1798=\"\",\"\",VLOOKUP(S1798,Tabelle!$I$5:$M$7,5,FALSE)))","v":""},{"$f":"IF(G$2034=1,\"\",IF(S1798=\"\",\"\",VLOOKUP(S1798,Tabelle!$I$5:$N$7,6,FALSE)))","v":""},null,null,null,null,null,null,null,null,null,{"$f":"IF(D1798=\"\",0,IF(D1798=D1797,COUNTIF(D$9:D1797,D1798)+1,1))","v":0},0,0]
["1791","-1900","-1900-0",null,null,null,null,null,null,null,"",null,null,null,null,null,null,null,null,{"$f":"IF(G$2034=1,\"\",IF(S1799=\"\",\"\",VLOOKUP(S1799,Tabelle!$I$5:$M$7,5,FALSE)))","v":""},{"$f":"IF(G$2034=1,\"\",IF(S1799=\"\",\"\",VLOOKUP(S1799,Tabelle!$I$5:$N$7,6,FALSE)))","v":""},null,null,null,null,null,null,null,null,null,{"$f":"IF(D1799=\"\",0,IF(D1799=D1798,COUNTIF(D$9:D1798,D1799)+1,1))","v":0},0,0]
["1792","-1900","-1900-0",null,null,null,null,null,null,null,"",null,null,null,null,null,null,null,null,{"$f":"IF(G$2034=1,\"\",IF(S1800=\"\",\"\",VLOOKUP(S1800,Tabelle!$I$5:$M$7,5,FALSE)))","v":""},{"$f":"IF(G$2034=1,\"\",IF(S1800=\"\",\"\",VLOOKUP(S1800,Tabelle!$I$5:$N$7,6,FALSE)))","v":""},null,null,null,null,null,null,null,null,null,{"$f":"IF(D1800=\"\",0,IF(D1800=D1799,COUNTIF(D$9:D1799,D1800)+1,1))","v":0},0,0]
["1793","-1900",{"$f":"IF(G$2034=1,0,B1801&\"-\"&AE1801)","v":"-1900-0"},null,null,null,null,null,null,null,{"$f":"IF(G$2034=1,0,IF(OR(J1801=\"\",ISERROR($O$2034)),\"\",VLOOKUP(J1801,$L$2019:$N$2027,2,FALSE)))","v":""},null,null,null,null,null,null,null,null,{"$f":"IF(G$2034=1,\"\",IF(S1801=\"\",\"\",VLOOKUP(S1801,Tabelle!$I$5:$M$7,5,FALSE)))","v":""},{"$f":"IF(G$2034=1,\"\",IF(S1801=\"\",\"\",VLOOKUP(S1801,Tabelle!$I$5:$N$7,6,FALSE)))","v":""},null,null,null,null,null,null,null,null,null,{"$f":"IF(D1801=\"\",0,IF(D1801=D1800,COUNTIF(D$9:D1800,D1801)+1,1))","v":0},0,0]
["1794",{"$f":"IF(AG1802=$AG$2013,0,IF(G$2034=1,0,D1802&\"-\"&YEAR(E1802)))","v":"-1900"},"-1900-0",null,null,null,null,null,null,null,"",null,null,null,null,null,null,null,null,{"$f":"IF(G$2034=1,\"\",IF(S1802=\"\",\"\",VLOOKUP(S1802,Tabelle!$I$5:$M$7,5,FALSE)))","v":""},{"$f":"IF(G$2034=1,\"\",IF(S1802=\"\",\"\",VLOOKUP(S1802,Tabelle!$I$5:$N$7,6,FALSE)))","v":""},null,null,null,null,null,null,null,null,null,{"$f":"IF(D1802=\"\",0,IF(D1802=D1801,COUNTIF(D$9:D1801,D1802)+1,1))","v":0},{"$f":"IF(G$2034=1,0,IF(AE1802=28,1,0))","v":0},{"$f":"IF(E1802>0,IF(OR(MONTH(E1802)<$G$2026,MONTH(E1802)>$G$2027),AG$2013,0),0)","v":0}]
["1795","-1900","-1900-0",null,null,null,null,null,null,null,"",null,null,null,null,null,null,null,null,{"$f":"IF(G$2034=1,\"\",IF(S1803=\"\",\"\",VLOOKUP(S1803,Tabelle!$I$5:$M$7,5,FALSE)))","v":""},{"$f":"IF(G$2034=1,\"\",IF(S1803=\"\",\"\",VLOOKUP(S1803,Tabelle!$I$5:$N$7,6,FALSE)))","v":""},null,null,null,null,null,null,null,null,null,{"$f":"IF(D1803=\"\",0,IF(D1803=D1802,COUNTIF(D$9:D1802,D1803)+1,1))","v":0},0,0]
["1796","-1900","-1900-0",null,null,null,null,null,null,null,"",null,null,null,null,null,null,null,null,{"$f":"IF(G$2034=1,\"\",IF(S1804=\"\",\"\",VLOOKUP(S1804,Tabelle!$I$5:$M$7,5,FALSE)))","v":""},{"$f":"IF(G$2034=1,\"\",IF(S1804=\"\",\"\",VLOOKUP(S1804,Tabelle!$I$5:$N$7,6,FALSE)))","v":""},null,null,null,null,null,null,null,null,null,{"$f":"IF(D1804=\"\",0,IF(D1804=D1803,COUNTIF(D$9:D1803,D1804)+1,1))","v":0},0,0]
["1797","-1900","-1900-0",null,null,null,null,null,null,null,"",null,null,null,null,null,null,null,null,{"$f":"IF(G$2034=1,\"\",IF(S1805=\"\",\"\",VLOOKUP(S1805,Tabelle!$I$5:$M$7,5,FALSE)))","v":""},{"$f":"IF(G$2034=1,\"\",IF(S1805=\"\",\"\",VLOOKUP(S1805,Tabelle!$I$5:$N$7,6,FALSE)))","v":""},null,null,null,null,null,null,null,null,null,{"$f":"IF(D1805=\"\",0,IF(D1805=D1804,COUNTIF(D$9:D1804,D1805)+1,1))","v":0},0,0]
["1798","-1900","-1900-0",null,null,null,null,null,null,null,"",null,null,null,null,null,null,null,null,{"$f":"IF(G$2034=1,\"\",IF(S1806=\"\",\"\",VLOOKUP(S1806,Tabelle!$I$5:$M$7,5,FALSE)))","v":""},{"$f":"IF(G$2034=1,\"\",IF(S1806=\"\",\"\",VLOOKUP(S1806,Tabelle!$I$5:$N$7,6,FALSE)))","v":""},null,null,null,null,null,null,null,null,null,{"$f":"IF(D1806=\"\",0,IF(D1806=D1805,COUNTIF(D$9:D1805,D1806)+1,1))","v":0},0,0]
["1799","-1900","-1900-0",null,null,null,null,null,null,null,"",null,null,null,null,null,null,null,null,{"$f":"IF(G$2034=1,\"\",IF(S1807=\"\",\"\",VLOOKUP(S1807,Tabelle!$I$5:$M$7,5,FALSE)))","v":""},{"$f":"IF(G$2034=1,\"\",IF(S1807=\"\",\"\",VLOOKUP(S1807,Tabelle!$I$5:$N$7,6,FALSE)))","v":""},null,null,null,null,null,null,null,null,null,{"$f":"IF(D1807=\"\",0,IF(D1807=D1806,COUNTIF(D$9:D1806,D1807)+1,1))","v":0},0,0]
["1800","-1900","-1900-0",null,null,null,null,null,null,null,"",null,null,null,null,null,null,null,null,{"$f":"IF(G$2034=1,\"\",IF(S1808=\"\",\"\",VLOOKUP(S1808,Tabelle!$I$5:$M$7,5,FALSE)))","v":""},{"$f":"IF(G$2034=1,\"\",IF(S1808=\"\",\"\",VLOOKUP(S1808,Tabelle!$I$5:$N$7,6,FALSE)))","v":""},null,null,null,null,null,null,null,null,null,{"$f":"IF(D1808=\"\",0,IF(D1808=D1807,COUNTIF(D$9:D1807,D1808)+1,1))","v":0},0,0]
["1801","-1900","-1900-0",null,null,null,null,null,null,null,"",null,null,null,null,null,null,null,null,{"$f":"IF(G$2034=1,\"\",IF(S1809=\"\",\"\",VLOOKUP(S1809,Tabelle!$I$5:$M$7,5,FALSE)))","v":""},{"$f":"IF(G$2034=1,\"\",IF(S1809=\"\",\"\",VLOOKUP(S1809,Tabelle!$I$5:$N$7,6,FALSE)))","v":""},null,null,null,null,null,null,null,null,null,{"$f":"IF(D1809=\"\",0,IF(D1809=D1808,COUNTIF(D$9:D1808,D1809)+1,1))","v":0},0,0]
["1802","-1900","-1900-0",null,null,null,null,null,null,null,"",null,null,null,null,null,null,null,null,{"$f":"IF(G$2034=1,\"\",IF(S1810=\"\",\"\",VLOOKUP(S1810,Tabelle!$I$5:$M$7,5,FALSE)))","v":""},{"$f":"IF(G$2034=1,\"\",IF(S1810=\"\",\"\",VLOOKUP(S1810,Tabelle!$I$5:$N$7,6,FALSE)))","v":""},null,null,null,null,null,null,null,null,null,{"$f":"IF(D1810=\"\",0,IF(D1810=D1809,COUNTIF(D$9:D1809,D1810)+1,1))","v":0},0,0]
["1803","-1900","-1900-0",null,null,null,null,null,null,null,"",null,null,null,null,null,null,null,null,{"$f":"IF(G$2034=1,\"\",IF(S1811=\"\",\"\",VLOOKUP(S1811,Tabelle!$I$5:$M$7,5,FALSE)))","v":""},{"$f":"IF(G$2034=1,\"\",IF(S1811=\"\",\"\",VLOOKUP(S1811,Tabelle!$I$5:$N$7,6,FALSE)))","v":""},null,null,null,null,null,null,null,null,null,{"$f":"IF(D1811=\"\",0,IF(D1811=D1810,COUNTIF(D$9:D1810,D1811)+1,1))","v":0},0,0]
["1804","-1900","-1900-0",null,null,null,null,null,null,null,"",null,null,null,null,null,null,null,null,{"$f":"IF(G$2034=1,\"\",IF(S1812=\"\",\"\",VLOOKUP(S1812,Tabelle!$I$5:$M$7,5,FALSE)))","v":""},{"$f":"IF(G$2034=1,\"\",IF(S1812=\"\",\"\",VLOOKUP(S1812,Tabelle!$I$5:$N$7,6,FALSE)))","v":""},null,null,null,null,null,null,null,null,null,{"$f":"IF(D1812=\"\",0,IF(D1812=D1811,COUNTIF(D$9:D1811,D1812)+1,1))","v":0},0,0]
["1805","-1900","-1900-0",null,null,null,null,null,null,null,"",null,null,null,null,null,null,null,null,{"$f":"IF(G$2034=1,\"\",IF(S1813=\"\",\"\",VLOOKUP(S1813,Tabelle!$I$5:$M$7,5,FALSE)))","v":""},{"$f":"IF(G$2034=1,\"\",IF(S1813=\"\",\"\",VLOOKUP(S1813,Tabelle!$I$5:$N$7,6,FALSE)))","v":""},null,null,null,null,null,null,null,null,null,{"$f":"IF(D1813=\"\",0,IF(D1813=D1812,COUNTIF(D$9:D1812,D1813)+1,1))","v":0},0,0]
["1806","-1900","-1900-0",null,null,null,null,null,null,null,"",null,null,null,null,null,null,null,null,{"$f":"IF(G$2034=1,\"\",IF(S1814=\"\",\"\",VLOOKUP(S1814,Tabelle!$I$5:$M$7,5,FALSE)))","v":""},{"$f":"IF(G$2034=1,\"\",IF(S1814=\"\",\"\",VLOOKUP(S1814,Tabelle!$I$5:$N$7,6,FALSE)))","v":""},null,null,null,null,null,null,null,null,null,{"$f":"IF(D1814=\"\",0,IF(D1814=D1813,COUNTIF(D$9:D1813,D1814)+1,1))","v":0},0,0]
["1807","-1900","-1900-0",null,null,null,null,null,null,null,"",null,null,null,null,null,null,null,null,{"$f":"IF(G$2034=1,\"\",IF(S1815=\"\",\"\",VLOOKUP(S1815,Tabelle!$I$5:$M$7,5,FALSE)))","v":""},{"$f":"IF(G$2034=1,\"\",IF(S1815=\"\",\"\",VLOOKUP(S1815,Tabelle!$I$5:$N$7,6,FALSE)))","v":""},null,null,null,null,null,null,null,null,null,{"$f":"IF(D1815=\"\",0,IF(D1815=D1814,COUNTIF(D$9:D1814,D1815)+1,1))","v":0},0,0]
["1808","-1900","-1900-0",null,null,null,null,null,null,null,"",null,null,null,null,null,null,null,null,{"$f":"IF(G$2034=1,\"\",IF(S1816=\"\",\"\",VLOOKUP(S1816,Tabelle!$I$5:$M$7,5,FALSE)))","v":""},{"$f":"IF(G$2034=1,\"\",IF(S1816=\"\",\"\",VLOOKUP(S1816,Tabelle!$I$5:$N$7,6,FALSE)))","v":""},null,null,null,null,null,null,null,null,null,{"$f":"IF(D1816=\"\",0,IF(D1816=D1815,COUNTIF(D$9:D1815,D1816)+1,1))","v":0},0,0]
["1809","-1900","-1900-0",null,null,null,null,null,null,null,"",null,null,null,null,null,null,null,null,{"$f":"IF(G$2034=1,\"\",IF(S1817=\"\",\"\",VLOOKUP(S1817,Tabelle!$I$5:$M$7,5,FALSE)))","v":""},{"$f":"IF(G$2034=1,\"\",IF(S1817=\"\",\"\",VLOOKUP(S1817,Tabelle!$I$5:$N$7,6,FALSE)))","v":""},null,null,null,null,null,null,null,null,null,{"$f":"IF(D1817=\"\",0,IF(D1817=D1816,COUNTIF(D$9:D1816,D1817)+1,1))","v":0},0,0]
["1810","-1900","-1900-0",null,null,null,null,null,null,null,"",null,null,null,null,null,null,null,null,{"$f":"IF(G$2034=1,\"\",IF(S1818=\"\",\"\",VLOOKUP(S1818,Tabelle!$I$5:$M$7,5,FALSE)))","v":""},{"$f":"IF(G$2034=1,\"\",IF(S1818=\"\",\"\",VLOOKUP(S1818,Tabelle!$I$5:$N$7,6,FALSE)))","v":""},null,null,null,null,null,null,null,null,null,{"$f":"IF(D1818=\"\",0,IF(D1818=D1817,COUNTIF(D$9:D1817,D1818)+1,1))","v":0},0,0]
["1811","-1900","-1900-0",null,null,null,null,null,null,null,"",null,null,null,null,null,null,null,null,{"$f":"IF(G$2034=1,\"\",IF(S1819=\"\",\"\",VLOOKUP(S1819,Tabelle!$I$5:$M$7,5,FALSE)))","v":""},{"$f":"IF(G$2034=1,\"\",IF(S1819=\"\",\"\",VLOOKUP(S1819,Tabelle!$I$5:$N$7,6,FALSE)))","v":""},null,null,null,null,null,null,null,null,null,{"$f":"IF(D1819=\"\",0,IF(D1819=D1818,COUNTIF(D$9:D1818,D1819)+1,1))","v":0},0,0]
["1812","-1900","-1900-0",null,null,null,null,null,null,null,"",null,null,null,null,null,null,null,null,{"$f":"IF(G$2034=1,\"\",IF(S1820=\"\",\"\",VLOOKUP(S1820,Tabelle!$I$5:$M$7,5,FALSE)))","v":""},{"$f":"IF(G$2034=1,\"\",IF(S1820=\"\",\"\",VLOOKUP(S1820,Tabelle!$I$5:$N$7,6,FALSE)))","v":""},null,null,null,null,null,null,null,null,null,{"$f":"IF(D1820=\"\",0,IF(D1820=D1819,COUNTIF(D$9:D1819,D1820)+1,1))","v":0},0,0]
["1813","-1900","-1900-0",null,null,null,null,null,null,null,"",null,null,null,null,null,null,null,null,{"$f":"IF(G$2034=1,\"\",IF(S1821=\"\",\"\",VLOOKUP(S1821,Tabelle!$I$5:$M$7,5,FALSE)))","v":""},{"$f":"IF(G$2034=1,\"\",IF(S1821=\"\",\"\",VLOOKUP(S1821,Tabelle!$I$5:$N$7,6,FALSE)))","v":""},null,null,null,null,null,null,null,null,null,{"$f":"IF(D1821=\"\",0,IF(D1821=D1820,COUNTIF(D$9:D1820,D1821)+1,1))","v":0},0,0]
["1814","-1900","-1900-0",null,null,null,null,null,null,null,"",null,null,null,null,null,null,null,null,{"$f":"IF(G$2034=1,\"\",IF(S1822=\"\",\"\",VLOOKUP(S1822,Tabelle!$I$5:$M$7,5,FALSE)))","v":""},{"$f":"IF(G$2034=1,\"\",IF(S1822=\"\",\"\",VLOOKUP(S1822,Tabelle!$I$5:$N$7,6,FALSE)))","v":""},null,null,null,null,null,null,null,null,null,{"$f":"IF(D1822=\"\",0,IF(D1822=D1821,COUNTIF(D$9:D1821,D1822)+1,1))","v":0},0,0]
["1815","-1900","-1900-0",null,null,null,null,null,null,null,"",null,null,null,null,null,null,null,null,{"$f":"IF(G$2034=1,\"\",IF(S1823=\"\",\"\",VLOOKUP(S1823,Tabelle!$I$5:$M$7,5,FALSE)))","v":""},{"$f":"IF(G$2034=1,\"\",IF(S1823=\"\",\"\",VLOOKUP(S1823,Tabelle!$I$5:$N$7,6,FALSE)))","v":""},null,null,null,null,null,null,null,null,null,{"$f":"IF(D1823=\"\",0,IF(D1823=D1822,COUNTIF(D$9:D1822,D1823)+1,1))","v":0},0,0]
["1816","-1900","-1900-0",null,null,null,null,null,null,null,"",null,null,null,null,null,null,null,null,{"$f":"IF(G$2034=1,\"\",IF(S1824=\"\",\"\",VLOOKUP(S1824,Tabelle!$I$5:$M$7,5,FALSE)))","v":""},{"$f":"IF(G$2034=1,\"\",IF(S1824=\"\",\"\",VLOOKUP(S1824,Tabelle!$I$5:$N$7,6,FALSE)))","v":""},null,null,null,null,null,null,null,null,null,{"$f":"IF(D1824=\"\",0,IF(D1824=D1823,COUNTIF(D$9:D1823,D1824)+1,1))","v":0},0,0]
["1817","-1900","-1900-0",null,null,null,null,null,null,null,"",null,null,null,null,null,null,null,null,{"$f":"IF(G$2034=1,\"\",IF(S1825=\"\",\"\",VLOOKUP(S1825,Tabelle!$I$5:$M$7,5,FALSE)))","v":""},{"$f":"IF(G$2034=1,\"\",IF(S1825=\"\",\"\",VLOOKUP(S1825,Tabelle!$I$5:$N$7,6,FALSE)))","v":""},null,null,null,null,null,null,null,null,null,{"$f":"IF(D1825=\"\",0,IF(D1825=D1824,COUNTIF(D$9:D1824,D1825)+1,1))","v":0},0,0]
["1818","-1900","-1900-0",null,null,null,null,null,null,null,"",null,null,null,null,null,null,null,null,{"$f":"IF(G$2034=1,\"\",IF(S1826=\"\",\"\",VLOOKUP(S1826,Tabelle!$I$5:$M$7,5,FALSE)))","v":""},{"$f":"IF(G$2034=1,\"\",IF(S1826=\"\",\"\",VLOOKUP(S1826,Tabelle!$I$5:$N$7,6,FALSE)))","v":""},null,null,null,null,null,null,null,null,null,{"$f":"IF(D1826=\"\",0,IF(D1826=D1825,COUNTIF(D$9:D1825,D1826)+1,1))","v":0},0,0]
["1819","-1900","-1900-0",null,null,null,null,null,null,null,"",null,null,null,null,null,null,null,null,{"$f":"IF(G$2034=1,\"\",IF(S1827=\"\",\"\",VLOOKUP(S1827,Tabelle!$I$5:$M$7,5,FALSE)))","v":""},{"$f":"IF(G$2034=1,\"\",IF(S1827=\"\",\"\",VLOOKUP(S1827,Tabelle!$I$5:$N$7,6,FALSE)))","v":""},null,null,null,null,null,null,null,null,null,{"$f":"IF(D1827=\"\",0,IF(D1827=D1826,COUNTIF(D$9:D1826,D1827)+1,1))","v":0},0,0]
["1820","-1900","-1900-0",null,null,null,null,null,null,null,"",null,null,null,null,null,null,null,null,{"$f":"IF(G$2034=1,\"\",IF(S1828=\"\",\"\",VLOOKUP(S1828,Tabelle!$I$5:$M$7,5,FALSE)))","v":""},{"$f":"IF(G$2034=1,\"\",IF(S1828=\"\",\"\",VLOOKUP(S1828,Tabelle!$I$5:$N$7,6,FALSE)))","v":""},null,null,null,null,null,null,null,null,null,{"$f":"IF(D1828=\"\",0,IF(D1828=D1827,COUNTIF(D$9:D1827,D1828)+1,1))","v":0},0,0]
["1821","-1900","-1900-0",null,null,null,null,null,null,null,"",null,null,null,null,null,null,null,null,{"$f":"IF(G$2034=1,\"\",IF(S1829=\"\",\"\",VLOOKUP(S1829,Tabelle!$I$5:$M$7,5,FALSE)))","v":""},{"$f":"IF(G$2034=1,\"\",IF(S1829=\"\",\"\",VLOOKUP(S1829,Tabelle!$I$5:$N$7,6,FALSE)))","v":""},null,null,null,null,null,null,null,null,null,{"$f":"IF(D1829=\"\",0,IF(D1829=D1828,COUNTIF(D$9:D1828,D1829)+1,1))","v":0},0,0]
["1822","-1900","-1900-0",null,null,null,null,null,null,null,"",null,null,null,null,null,null,null,null,{"$f":"IF(G$2034=1,\"\",IF(S1830=\"\",\"\",VLOOKUP(S1830,Tabelle!$I$5:$M$7,5,FALSE)))","v":""},{"$f":"IF(G$2034=1,\"\",IF(S1830=\"\",\"\",VLOOKUP(S1830,Tabelle!$I$5:$N$7,6,FALSE)))","v":""},null,null,null,null,null,null,null,null,null,{"$f":"IF(D1830=\"\",0,IF(D1830=D1829,COUNTIF(D$9:D1829,D1830)+1,1))","v":0},0,0]
["1823","-1900","-1900-0",null,null,null,null,null,null,null,"",null,null,null,null,null,null,null,null,{"$f":"IF(G$2034=1,\"\",IF(S1831=\"\",\"\",VLOOKUP(S1831,Tabelle!$I$5:$M$7,5,FALSE)))","v":""},{"$f":"IF(G$2034=1,\"\",IF(S1831=\"\",\"\",VLOOKUP(S1831,Tabelle!$I$5:$N$7,6,FALSE)))","v":""},null,null,null,null,null,null,null,null,null,{"$f":"IF(D1831=\"\",0,IF(D1831=D1830,COUNTIF(D$9:D1830,D1831)+1,1))","v":0},0,0]
["1824","-1900","-1900-0",null,null,null,null,null,null,null,"",null,null,null,null,null,null,null,null,{"$f":"IF(G$2034=1,\"\",IF(S1832=\"\",\"\",VLOOKUP(S1832,Tabelle!$I$5:$M$7,5,FALSE)))","v":""},{"$f":"IF(G$2034=1,\"\",IF(S1832=\"\",\"\",VLOOKUP(S1832,Tabelle!$I$5:$N$7,6,FALSE)))","v":""},null,null,null,null,null,null,null,null,null,{"$f":"IF(D1832=\"\",0,IF(D1832=D1831,COUNTIF(D$9:D1831,D1832)+1,1))","v":0},0,0]
["1825","-1900","-1900-0",null,null,null,null,null,null,null,"",null,null,null,null,null,null,null,null,{"$f":"IF(G$2034=1,\"\",IF(S1833=\"\",\"\",VLOOKUP(S1833,Tabelle!$I$5:$M$7,5,FALSE)))","v":""},{"$f":"IF(G$2034=1,\"\",IF(S1833=\"\",\"\",VLOOKUP(S1833,Tabelle!$I$5:$N$7,6,FALSE)))","v":""},null,null,null,null,null,null,null,null,null,{"$f":"IF(D1833=\"\",0,IF(D1833=D1832,COUNTIF(D$9:D1832,D1833)+1,1))","v":0},0,0]
["1826","-1900","-1900-0",null,null,null,null,null,null,null,"",null,null,null,null,null,null,null,null,{"$f":"IF(G$2034=1,\"\",IF(S1834=\"\",\"\",VLOOKUP(S1834,Tabelle!$I$5:$M$7,5,FALSE)))","v":""},{"$f":"IF(G$2034=1,\"\",IF(S1834=\"\",\"\",VLOOKUP(S1834,Tabelle!$I$5:$N$7,6,FALSE)))","v":""},null,null,null,null,null,null,null,null,null,{"$f":"IF(D1834=\"\",0,IF(D1834=D1833,COUNTIF(D$9:D1833,D1834)+1,1))","v":0},0,0]
["1827","-1900","-1900-0",null,null,null,null,null,null,null,"",null,null,null,null,null,null,null,null,{"$f":"IF(G$2034=1,\"\",IF(S1835=\"\",\"\",VLOOKUP(S1835,Tabelle!$I$5:$M$7,5,FALSE)))","v":""},{"$f":"IF(G$2034=1,\"\",IF(S1835=\"\",\"\",VLOOKUP(S1835,Tabelle!$I$5:$N$7,6,FALSE)))","v":""},null,null,null,null,null,null,null,null,null,{"$f":"IF(D1835=\"\",0,IF(D1835=D1834,COUNTIF(D$9:D1834,D1835)+1,1))","v":0},0,0]
["1828","-1900","-1900-0",null,null,null,null,null,null,null,"",null,null,null,null,null,null,null,null,{"$f":"IF(G$2034=1,\"\",IF(S1836=\"\",\"\",VLOOKUP(S1836,Tabelle!$I$5:$M$7,5,FALSE)))","v":""},{"$f":"IF(G$2034=1,\"\",IF(S1836=\"\",\"\",VLOOKUP(S1836,Tabelle!$I$5:$N$7,6,FALSE)))","v":""},null,null,null,null,null,null,null,null,null,{"$f":"IF(D1836=\"\",0,IF(D1836=D1835,COUNTIF(D$9:D1835,D1836)+1,1))","v":0},0,0]
["1829","-1900","-1900-0",null,null,null,null,null,null,null,"",null,null,null,null,null,null,null,null,{"$f":"IF(G$2034=1,\"\",IF(S1837=\"\",\"\",VLOOKUP(S1837,Tabelle!$I$5:$M$7,5,FALSE)))","v":""},{"$f":"IF(G$2034=1,\"\",IF(S1837=\"\",\"\",VLOOKUP(S1837,Tabelle!$I$5:$N$7,6,FALSE)))","v":""},null,null,null,null,null,null,null,null,null,{"$f":"IF(D1837=\"\",0,IF(D1837=D1836,COUNTIF(D$9:D1836,D1837)+1,1))","v":0},0,0]
["1830","-1900","-1900-0",null,null,null,null,null,null,null,"",null,null,null,null,null,null,null,null,{"$f":"IF(G$2034=1,\"\",IF(S1838=\"\",\"\",VLOOKUP(S1838,Tabelle!$I$5:$M$7,5,FALSE)))","v":""},{"$f":"IF(G$2034=1,\"\",IF(S1838=\"\",\"\",VLOOKUP(S1838,Tabelle!$I$5:$N$7,6,FALSE)))","v":""},null,null,null,null,null,null,null,null,null,{"$f":"IF(D1838=\"\",0,IF(D1838=D1837,COUNTIF(D$9:D1837,D1838)+1,1))","v":0},0,0]
["1831","-1900","-1900-0",null,null,null,null,null,null,null,"",null,null,null,null,null,null,null,null,{"$f":"IF(G$2034=1,\"\",IF(S1839=\"\",\"\",VLOOKUP(S1839,Tabelle!$I$5:$M$7,5,FALSE)))","v":""},{"$f":"IF(G$2034=1,\"\",IF(S1839=\"\",\"\",VLOOKUP(S1839,Tabelle!$I$5:$N$7,6,FALSE)))","v":""},null,null,null,null,null,null,null,null,null,{"$f":"IF(D1839=\"\",0,IF(D1839=D1838,COUNTIF(D$9:D1838,D1839)+1,1))","v":0},0,0]
["1832","-1900","-1900-0",null,null,null,null,null,null,null,"",null,null,null,null,null,null,null,null,{"$f":"IF(G$2034=1,\"\",IF(S1840=\"\",\"\",VLOOKUP(S1840,Tabelle!$I$5:$M$7,5,FALSE)))","v":""},{"$f":"IF(G$2034=1,\"\",IF(S1840=\"\",\"\",VLOOKUP(S1840,Tabelle!$I$5:$N$7,6,FALSE)))","v":""},null,null,null,null,null,null,null,null,null,{"$f":"IF(D1840=\"\",0,IF(D1840=D1839,COUNTIF(D$9:D1839,D1840)+1,1))","v":0},0,0]
["1833","-1900","-1900-0",null,null,null,null,null,null,null,"",null,null,null,null,null,null,null,null,{"$f":"IF(G$2034=1,\"\",IF(S1841=\"\",\"\",VLOOKUP(S1841,Tabelle!$I$5:$M$7,5,FALSE)))","v":""},{"$f":"IF(G$2034=1,\"\",IF(S1841=\"\",\"\",VLOOKUP(S1841,Tabelle!$I$5:$N$7,6,FALSE)))","v":""},null,null,null,null,null,null,null,null,null,{"$f":"IF(D1841=\"\",0,IF(D1841=D1840,COUNTIF(D$9:D1840,D1841)+1,1))","v":0},0,0]
["1834","-1900","-1900-0",null,null,null,null,null,null,null,"",null,null,null,null,null,null,null,null,{"$f":"IF(G$2034=1,\"\",IF(S1842=\"\",\"\",VLOOKUP(S1842,Tabelle!$I$5:$M$7,5,FALSE)))","v":""},{"$f":"IF(G$2034=1,\"\",IF(S1842=\"\",\"\",VLOOKUP(S1842,Tabelle!$I$5:$N$7,6,FALSE)))","v":""},null,null,null,null,null,null,null,null,null,{"$f":"IF(D1842=\"\",0,IF(D1842=D1841,COUNTIF(D$9:D1841,D1842)+1,1))","v":0},0,0]
["1835","-1900","-1900-0",null,null,null,null,null,null,null,"",null,null,null,null,null,null,null,null,{"$f":"IF(G$2034=1,\"\",IF(S1843=\"\",\"\",VLOOKUP(S1843,Tabelle!$I$5:$M$7,5,FALSE)))","v":""},{"$f":"IF(G$2034=1,\"\",IF(S1843=\"\",\"\",VLOOKUP(S1843,Tabelle!$I$5:$N$7,6,FALSE)))","v":""},null,null,null,null,null,null,null,null,null,{"$f":"IF(D1843=\"\",0,IF(D1843=D1842,COUNTIF(D$9:D1842,D1843)+1,1))","v":0},0,0]
["1836","-1900","-1900-0",null,null,null,null,null,null,null,"",null,null,null,null,null,null,null,null,{"$f":"IF(G$2034=1,\"\",IF(S1844=\"\",\"\",VLOOKUP(S1844,Tabelle!$I$5:$M$7,5,FALSE)))","v":""},{"$f":"IF(G$2034=1,\"\",IF(S1844=\"\",\"\",VLOOKUP(S1844,Tabelle!$I$5:$N$7,6,FALSE)))","v":""},null,null,null,null,null,null,null,null,null,{"$f":"IF(D1844=\"\",0,IF(D1844=D1843,COUNTIF(D$9:D1843,D1844)+1,1))","v":0},0,0]
["1837","-1900","-1900-0",null,null,null,null,null,null,null,"",null,null,null,null,null,null,null,null,{"$f":"IF(G$2034=1,\"\",IF(S1845=\"\",\"\",VLOOKUP(S1845,Tabelle!$I$5:$M$7,5,FALSE)))","v":""},{"$f":"IF(G$2034=1,\"\",IF(S1845=\"\",\"\",VLOOKUP(S1845,Tabelle!$I$5:$N$7,6,FALSE)))","v":""},null,null,null,null,null,null,null,null,null,{"$f":"IF(D1845=\"\",0,IF(D1845=D1844,COUNTIF(D$9:D1844,D1845)+1,1))","v":0},0,0]
["1838","-1900","-1900-0",null,null,null,null,null,null,null,"",null,null,null,null,null,null,null,null,{"$f":"IF(G$2034=1,\"\",IF(S1846=\"\",\"\",VLOOKUP(S1846,Tabelle!$I$5:$M$7,5,FALSE)))","v":""},{"$f":"IF(G$2034=1,\"\",IF(S1846=\"\",\"\",VLOOKUP(S1846,Tabelle!$I$5:$N$7,6,FALSE)))","v":""},null,null,null,null,null,null,null,null,null,{"$f":"IF(D1846=\"\",0,IF(D1846=D1845,COUNTIF(D$9:D1845,D1846)+1,1))","v":0},0,0]
["1839","-1900","-1900-0",null,null,null,null,null,null,null,"",null,null,null,null,null,null,null,null,{"$f":"IF(G$2034=1,\"\",IF(S1847=\"\",\"\",VLOOKUP(S1847,Tabelle!$I$5:$M$7,5,FALSE)))","v":""},{"$f":"IF(G$2034=1,\"\",IF(S1847=\"\",\"\",VLOOKUP(S1847,Tabelle!$I$5:$N$7,6,FALSE)))","v":""},null,null,null,null,null,null,null,null,null,{"$f":"IF(D1847=\"\",0,IF(D1847=D1846,COUNTIF(D$9:D1846,D1847)+1,1))","v":0},0,0]
["1840","-1900","-1900-0",null,null,null,null,null,null,null,"",null,null,null,null,null,null,null,null,{"$f":"IF(G$2034=1,\"\",IF(S1848=\"\",\"\",VLOOKUP(S1848,Tabelle!$I$5:$M$7,5,FALSE)))","v":""},{"$f":"IF(G$2034=1,\"\",IF(S1848=\"\",\"\",VLOOKUP(S1848,Tabelle!$I$5:$N$7,6,FALSE)))","v":""},null,null,null,null,null,null,null,null,null,{"$f":"IF(D1848=\"\",0,IF(D1848=D1847,COUNTIF(D$9:D1847,D1848)+1,1))","v":0},0,0]
["1841","-1900","-1900-0",null,null,null,null,null,null,null,"",null,null,null,null,null,null,null,null,{"$f":"IF(G$2034=1,\"\",IF(S1849=\"\",\"\",VLOOKUP(S1849,Tabelle!$I$5:$M$7,5,FALSE)))","v":""},{"$f":"IF(G$2034=1,\"\",IF(S1849=\"\",\"\",VLOOKUP(S1849,Tabelle!$I$5:$N$7,6,FALSE)))","v":""},null,null,null,null,null,null,null,null,null,{"$f":"IF(D1849=\"\",0,IF(D1849=D1848,COUNTIF(D$9:D1848,D1849)+1,1))","v":0},0,0]
["1842","-1900","-1900-0",null,null,null,null,null,null,null,"",null,null,null,null,null,null,null,null,{"$f":"IF(G$2034=1,\"\",IF(S1850=\"\",\"\",VLOOKUP(S1850,Tabelle!$I$5:$M$7,5,FALSE)))","v":""},{"$f":"IF(G$2034=1,\"\",IF(S1850=\"\",\"\",VLOOKUP(S1850,Tabelle!$I$5:$N$7,6,FALSE)))","v":""},null,null,null,null,null,null,null,null,null,{"$f":"IF(D1850=\"\",0,IF(D1850=D1849,COUNTIF(D$9:D1849,D1850)+1,1))","v":0},0,0]
["1843","-1900","-1900-0",null,null,null,null,null,null,null,"",null,null,null,null,null,null,null,null,{"$f":"IF(G$2034=1,\"\",IF(S1851=\"\",\"\",VLOOKUP(S1851,Tabelle!$I$5:$M$7,5,FALSE)))","v":""},{"$f":"IF(G$2034=1,\"\",IF(S1851=\"\",\"\",VLOOKUP(S1851,Tabelle!$I$5:$N$7,6,FALSE)))","v":""},null,null,null,null,null,null,null,null,null,{"$f":"IF(D1851=\"\",0,IF(D1851=D1850,COUNTIF(D$9:D1850,D1851)+1,1))","v":0},0,0]
["1844","-1900","-1900-0",null,null,null,null,null,null,null,"",null,null,null,null,null,null,null,null,{"$f":"IF(G$2034=1,\"\",IF(S1852=\"\",\"\",VLOOKUP(S1852,Tabelle!$I$5:$M$7,5,FALSE)))","v":""},{"$f":"IF(G$2034=1,\"\",IF(S1852=\"\",\"\",VLOOKUP(S1852,Tabelle!$I$5:$N$7,6,FALSE)))","v":""},null,null,null,null,null,null,null,null,null,{"$f":"IF(D1852=\"\",0,IF(D1852=D1851,COUNTIF(D$9:D1851,D1852)+1,1))","v":0},0,0]
["1845","-1900","-1900-0",null,null,null,null,null,null,null,"",null,null,null,null,null,null,null,null,{"$f":"IF(G$2034=1,\"\",IF(S1853=\"\",\"\",VLOOKUP(S1853,Tabelle!$I$5:$M$7,5,FALSE)))","v":""},{"$f":"IF(G$2034=1,\"\",IF(S1853=\"\",\"\",VLOOKUP(S1853,Tabelle!$I$5:$N$7,6,FALSE)))","v":""},null,null,null,null,null,null,null,null,null,{"$f":"IF(D1853=\"\",0,IF(D1853=D1852,COUNTIF(D$9:D1852,D1853)+1,1))","v":0},0,0]
["1846","-1900","-1900-0",null,null,null,null,null,null,null,"",null,null,null,null,null,null,null,null,{"$f":"IF(G$2034=1,\"\",IF(S1854=\"\",\"\",VLOOKUP(S1854,Tabelle!$I$5:$M$7,5,FALSE)))","v":""},{"$f":"IF(G$2034=1,\"\",IF(S1854=\"\",\"\",VLOOKUP(S1854,Tabelle!$I$5:$N$7,6,FALSE)))","v":""},null,null,null,null,null,null,null,null,null,{"$f":"IF(D1854=\"\",0,IF(D1854=D1853,COUNTIF(D$9:D1853,D1854)+1,1))","v":0},0,0]
["1847","-1900","-1900-0",null,null,null,null,null,null,null,"",null,null,null,null,null,null,null,null,{"$f":"IF(G$2034=1,\"\",IF(S1855=\"\",\"\",VLOOKUP(S1855,Tabelle!$I$5:$M$7,5,FALSE)))","v":""},{"$f":"IF(G$2034=1,\"\",IF(S1855=\"\",\"\",VLOOKUP(S1855,Tabelle!$I$5:$N$7,6,FALSE)))","v":""},null,null,null,null,null,null,null,null,null,{"$f":"IF(D1855=\"\",0,IF(D1855=D1854,COUNTIF(D$9:D1854,D1855)+1,1))","v":0},0,0]
["1848","-1900","-1900-0",null,null,null,null,null,null,null,"",null,null,null,null,null,null,null,null,{"$f":"IF(G$2034=1,\"\",IF(S1856=\"\",\"\",VLOOKUP(S1856,Tabelle!$I$5:$M$7,5,FALSE)))","v":""},{"$f":"IF(G$2034=1,\"\",IF(S1856=\"\",\"\",VLOOKUP(S1856,Tabelle!$I$5:$N$7,6,FALSE)))","v":""},null,null,null,null,null,null,null,null,null,{"$f":"IF(D1856=\"\",0,IF(D1856=D1855,COUNTIF(D$9:D1855,D1856)+1,1))","v":0},0,0]
["1849","-1900","-1900-0",null,null,null,null,null,null,null,"",null,null,null,null,null,null,null,null,{"$f":"IF(G$2034=1,\"\",IF(S1857=\"\",\"\",VLOOKUP(S1857,Tabelle!$I$5:$M$7,5,FALSE)))","v":""},{"$f":"IF(G$2034=1,\"\",IF(S1857=\"\",\"\",VLOOKUP(S1857,Tabelle!$I$5:$N$7,6,FALSE)))","v":""},null,null,null,null,null,null,null,null,null,{"$f":"IF(D1857=\"\",0,IF(D1857=D1856,COUNTIF(D$9:D1856,D1857)+1,1))","v":0},0,0]
["1850","-1900","-1900-0",null,null,null,null,null,null,null,"",null,null,null,null,null,null,null,null,{"$f":"IF(G$2034=1,\"\",IF(S1858=\"\",\"\",VLOOKUP(S1858,Tabelle!$I$5:$M$7,5,FALSE)))","v":""},{"$f":"IF(G$2034=1,\"\",IF(S1858=\"\",\"\",VLOOKUP(S1858,Tabelle!$I$5:$N$7,6,FALSE)))","v":""},null,null,null,null,null,null,null,null,null,{"$f":"IF(D1858=\"\",0,IF(D1858=D1857,COUNTIF(D$9:D1857,D1858)+1,1))","v":0},0,0]
["1851","-1900","-1900-0",null,null,null,null,null,null,null,"",null,null,null,null,null,null,null,null,{"$f":"IF(G$2034=1,\"\",IF(S1859=\"\",\"\",VLOOKUP(S1859,Tabelle!$I$5:$M$7,5,FALSE)))","v":""},{"$f":"IF(G$2034=1,\"\",IF(S1859=\"\",\"\",VLOOKUP(S1859,Tabelle!$I$5:$N$7,6,FALSE)))","v":""},null,null,null,null,null,null,null,null,null,{"$f":"IF(D1859=\"\",0,IF(D1859=D1858,COUNTIF(D$9:D1858,D1859)+1,1))","v":0},0,0]
["1852","-1900","-1900-0",null,null,null,null,null,null,null,"",null,null,null,null,null,null,null,null,{"$f":"IF(G$2034=1,\"\",IF(S1860=\"\",\"\",VLOOKUP(S1860,Tabelle!$I$5:$M$7,5,FALSE)))","v":""},{"$f":"IF(G$2034=1,\"\",IF(S1860=\"\",\"\",VLOOKUP(S1860,Tabelle!$I$5:$N$7,6,FALSE)))","v":""},null,null,null,null,null,null,null,null,null,{"$f":"IF(D1860=\"\",0,IF(D1860=D1859,COUNTIF(D$9:D1859,D1860)+1,1))","v":0},0,0]
["1853","-1900","-1900-0",null,null,null,null,null,null,null,"",null,null,null,null,null,null,null,null,{"$f":"IF(G$2034=1,\"\",IF(S1861=\"\",\"\",VLOOKUP(S1861,Tabelle!$I$5:$M$7,5,FALSE)))","v":""},{"$f":"IF(G$2034=1,\"\",IF(S1861=\"\",\"\",VLOOKUP(S1861,Tabelle!$I$5:$N$7,6,FALSE)))","v":""},null,null,null,null,null,null,null,null,null,{"$f":"IF(D1861=\"\",0,IF(D1861=D1860,COUNTIF(D$9:D1860,D1861)+1,1))","v":0},0,0]
["1854","-1900","-1900-0",null,null,null,null,null,null,null,"",null,null,null,null,null,null,null,null,{"$f":"IF(G$2034=1,\"\",IF(S1862=\"\",\"\",VLOOKUP(S1862,Tabelle!$I$5:$M$7,5,FALSE)))","v":""},{"$f":"IF(G$2034=1,\"\",IF(S1862=\"\",\"\",VLOOKUP(S1862,Tabelle!$I$5:$N$7,6,FALSE)))","v":""},null,null,null,null,null,null,null,null,null,{"$f":"IF(D1862=\"\",0,IF(D1862=D1861,COUNTIF(D$9:D1861,D1862)+1,1))","v":0},0,0]
["1855","-1900","-1900-0",null,null,null,null,null,null,null,"",null,null,null,null,null,null,null,null,{"$f":"IF(G$2034=1,\"\",IF(S1863=\"\",\"\",VLOOKUP(S1863,Tabelle!$I$5:$M$7,5,FALSE)))","v":""},{"$f":"IF(G$2034=1,\"\",IF(S1863=\"\",\"\",VLOOKUP(S1863,Tabelle!$I$5:$N$7,6,FALSE)))","v":""},null,null,null,null,null,null,null,null,null,{"$f":"IF(D1863=\"\",0,IF(D1863=D1862,COUNTIF(D$9:D1862,D1863)+1,1))","v":0},0,0]
["1856","-1900","-1900-0",null,null,null,null,null,null,null,"",null,null,null,null,null,null,null,null,{"$f":"IF(G$2034=1,\"\",IF(S1864=\"\",\"\",VLOOKUP(S1864,Tabelle!$I$5:$M$7,5,FALSE)))","v":""},{"$f":"IF(G$2034=1,\"\",IF(S1864=\"\",\"\",VLOOKUP(S1864,Tabelle!$I$5:$N$7,6,FALSE)))","v":""},null,null,null,null,null,null,null,null,null,{"$f":"IF(D1864=\"\",0,IF(D1864=D1863,COUNTIF(D$9:D1863,D1864)+1,1))","v":0},0,0]
["1857","-1900",{"$f":"IF(G$2034=1,0,B1865&\"-\"&AE1865)","v":"-1900-0"},null,null,null,null,null,null,null,{"$f":"IF(G$2034=1,0,IF(OR(J1865=\"\",ISERROR($O$2034)),\"\",VLOOKUP(J1865,$L$2019:$N$2027,2,FALSE)))","v":""},null,null,null,null,null,null,null,null,{"$f":"IF(G$2034=1,\"\",IF(S1865=\"\",\"\",VLOOKUP(S1865,Tabelle!$I$5:$M$7,5,FALSE)))","v":""},{"$f":"IF(G$2034=1,\"\",IF(S1865=\"\",\"\",VLOOKUP(S1865,Tabelle!$I$5:$N$7,6,FALSE)))","v":""},null,null,null,null,null,null,null,null,null,{"$f":"IF(D1865=\"\",0,IF(D1865=D1864,COUNTIF(D$9:D1864,D1865)+1,1))","v":0},0,0]
["1858",{"$f":"IF(AG1866=$AG$2013,0,IF(G$2034=1,0,D1866&\"-\"&YEAR(E1866)))","v":"-1900"},"-1900-0",null,null,null,null,null,null,null,"",null,null,null,null,null,null,null,null,{"$f":"IF(G$2034=1,\"\",IF(S1866=\"\",\"\",VLOOKUP(S1866,Tabelle!$I$5:$M$7,5,FALSE)))","v":""},{"$f":"IF(G$2034=1,\"\",IF(S1866=\"\",\"\",VLOOKUP(S1866,Tabelle!$I$5:$N$7,6,FALSE)))","v":""},null,null,null,null,null,null,null,null,null,{"$f":"IF(D1866=\"\",0,IF(D1866=D1865,COUNTIF(D$9:D1865,D1866)+1,1))","v":0},{"$f":"IF(G$2034=1,0,IF(AE1866=28,1,0))","v":0},{"$f":"IF(E1866>0,IF(OR(MONTH(E1866)<$G$2026,MONTH(E1866)>$G$2027),AG$2013,0),0)","v":0}]
["1859","-1900","-1900-0",null,null,null,null,null,null,null,"",null,null,null,null,null,null,null,null,{"$f":"IF(G$2034=1,\"\",IF(S1867=\"\",\"\",VLOOKUP(S1867,Tabelle!$I$5:$M$7,5,FALSE)))","v":""},{"$f":"IF(G$2034=1,\"\",IF(S1867=\"\",\"\",VLOOKUP(S1867,Tabelle!$I$5:$N$7,6,FALSE)))","v":""},null,null,null,null,null,null,null,null,null,{"$f":"IF(D1867=\"\",0,IF(D1867=D1866,COUNTIF(D$9:D1866,D1867)+1,1))","v":0},0,0]
["1860","-1900","-1900-0",null,null,null,null,null,null,null,"",null,null,null,null,null,null,null,null,{"$f":"IF(G$2034=1,\"\",IF(S1868=\"\",\"\",VLOOKUP(S1868,Tabelle!$I$5:$M$7,5,FALSE)))","v":""},{"$f":"IF(G$2034=1,\"\",IF(S1868=\"\",\"\",VLOOKUP(S1868,Tabelle!$I$5:$N$7,6,FALSE)))","v":""},null,null,null,null,null,null,null,null,null,{"$f":"IF(D1868=\"\",0,IF(D1868=D1867,COUNTIF(D$9:D1867,D1868)+1,1))","v":0},0,0]
["1861","-1900","-1900-0",null,null,null,null,null,null,null,"",null,null,null,null,null,null,null,null,{"$f":"IF(G$2034=1,\"\",IF(S1869=\"\",\"\",VLOOKUP(S1869,Tabelle!$I$5:$M$7,5,FALSE)))","v":""},{"$f":"IF(G$2034=1,\"\",IF(S1869=\"\",\"\",VLOOKUP(S1869,Tabelle!$I$5:$N$7,6,FALSE)))","v":""},null,null,null,null,null,null,null,null,null,{"$f":"IF(D1869=\"\",0,IF(D1869=D1868,COUNTIF(D$9:D1868,D1869)+1,1))","v":0},0,0]
["1862","-1900","-1900-0",null,null,null,null,null,null,null,"",null,null,null,null,null,null,null,null,{"$f":"IF(G$2034=1,\"\",IF(S1870=\"\",\"\",VLOOKUP(S1870,Tabelle!$I$5:$M$7,5,FALSE)))","v":""},{"$f":"IF(G$2034=1,\"\",IF(S1870=\"\",\"\",VLOOKUP(S1870,Tabelle!$I$5:$N$7,6,FALSE)))","v":""},null,null,null,null,null,null,null,null,null,{"$f":"IF(D1870=\"\",0,IF(D1870=D1869,COUNTIF(D$9:D1869,D1870)+1,1))","v":0},0,0]
["1863","-1900","-1900-0",null,null,null,null,null,null,null,"",null,null,null,null,null,null,null,null,{"$f":"IF(G$2034=1,\"\",IF(S1871=\"\",\"\",VLOOKUP(S1871,Tabelle!$I$5:$M$7,5,FALSE)))","v":""},{"$f":"IF(G$2034=1,\"\",IF(S1871=\"\",\"\",VLOOKUP(S1871,Tabelle!$I$5:$N$7,6,FALSE)))","v":""},null,null,null,null,null,null,null,null,null,{"$f":"IF(D1871=\"\",0,IF(D1871=D1870,COUNTIF(D$9:D1870,D1871)+1,1))","v":0},0,0]
["1864","-1900","-1900-0",null,null,null,null,null,null,null,"",null,null,null,null,null,null,null,null,{"$f":"IF(G$2034=1,\"\",IF(S1872=\"\",\"\",VLOOKUP(S1872,Tabelle!$I$5:$M$7,5,FALSE)))","v":""},{"$f":"IF(G$2034=1,\"\",IF(S1872=\"\",\"\",VLOOKUP(S1872,Tabelle!$I$5:$N$7,6,FALSE)))","v":""},null,null,null,null,null,null,null,null,null,{"$f":"IF(D1872=\"\",0,IF(D1872=D1871,COUNTIF(D$9:D1871,D1872)+1,1))","v":0},0,0]
["1865","-1900","-1900-0",null,null,null,null,null,null,null,"",null,null,null,null,null,null,null,null,{"$f":"IF(G$2034=1,\"\",IF(S1873=\"\",\"\",VLOOKUP(S1873,Tabelle!$I$5:$M$7,5,FALSE)))","v":""},{"$f":"IF(G$2034=1,\"\",IF(S1873=\"\",\"\",VLOOKUP(S1873,Tabelle!$I$5:$N$7,6,FALSE)))","v":""},null,null,null,null,null,null,null,null,null,{"$f":"IF(D1873=\"\",0,IF(D1873=D1872,COUNTIF(D$9:D1872,D1873)+1,1))","v":0},0,0]
["1866","-1900","-1900-0",null,null,null,null,null,null,null,"",null,null,null,null,null,null,null,null,{"$f":"IF(G$2034=1,\"\",IF(S1874=\"\",\"\",VLOOKUP(S1874,Tabelle!$I$5:$M$7,5,FALSE)))","v":""},{"$f":"IF(G$2034=1,\"\",IF(S1874=\"\",\"\",VLOOKUP(S1874,Tabelle!$I$5:$N$7,6,FALSE)))","v":""},null,null,null,null,null,null,null,null,null,{"$f":"IF(D1874=\"\",0,IF(D1874=D1873,COUNTIF(D$9:D1873,D1874)+1,1))","v":0},0,0]
["1867","-1900","-1900-0",null,null,null,null,null,null,null,"",null,null,null,null,null,null,null,null,{"$f":"IF(G$2034=1,\"\",IF(S1875=\"\",\"\",VLOOKUP(S1875,Tabelle!$I$5:$M$7,5,FALSE)))","v":""},{"$f":"IF(G$2034=1,\"\",IF(S1875=\"\",\"\",VLOOKUP(S1875,Tabelle!$I$5:$N$7,6,FALSE)))","v":""},null,null,null,null,null,null,null,null,null,{"$f":"IF(D1875=\"\",0,IF(D1875=D1874,COUNTIF(D$9:D1874,D1875)+1,1))","v":0},0,0]
["1868","-1900","-1900-0",null,null,null,null,null,null,null,"",null,null,null,null,null,null,null,null,{"$f":"IF(G$2034=1,\"\",IF(S1876=\"\",\"\",VLOOKUP(S1876,Tabelle!$I$5:$M$7,5,FALSE)))","v":""},{"$f":"IF(G$2034=1,\"\",IF(S1876=\"\",\"\",VLOOKUP(S1876,Tabelle!$I$5:$N$7,6,FALSE)))","v":""},null,null,null,null,null,null,null,null,null,{"$f":"IF(D1876=\"\",0,IF(D1876=D1875,COUNTIF(D$9:D1875,D1876)+1,1))","v":0},0,0]
["1869","-1900","-1900-0",null,null,null,null,null,null,null,"",null,null,null,null,null,null,null,null,{"$f":"IF(G$2034=1,\"\",IF(S1877=\"\",\"\",VLOOKUP(S1877,Tabelle!$I$5:$M$7,5,FALSE)))","v":""},{"$f":"IF(G$2034=1,\"\",IF(S1877=\"\",\"\",VLOOKUP(S1877,Tabelle!$I$5:$N$7,6,FALSE)))","v":""},null,null,null,null,null,null,null,null,null,{"$f":"IF(D1877=\"\",0,IF(D1877=D1876,COUNTIF(D$9:D1876,D1877)+1,1))","v":0},0,0]
["1870","-1900","-1900-0",null,null,null,null,null,null,null,"",null,null,null,null,null,null,null,null,{"$f":"IF(G$2034=1,\"\",IF(S1878=\"\",\"\",VLOOKUP(S1878,Tabelle!$I$5:$M$7,5,FALSE)))","v":""},{"$f":"IF(G$2034=1,\"\",IF(S1878=\"\",\"\",VLOOKUP(S1878,Tabelle!$I$5:$N$7,6,FALSE)))","v":""},null,null,null,null,null,null,null,null,null,{"$f":"IF(D1878=\"\",0,IF(D1878=D1877,COUNTIF(D$9:D1877,D1878)+1,1))","v":0},0,0]
["1871","-1900","-1900-0",null,null,null,null,null,null,null,"",null,null,null,null,null,null,null,null,{"$f":"IF(G$2034=1,\"\",IF(S1879=\"\",\"\",VLOOKUP(S1879,Tabelle!$I$5:$M$7,5,FALSE)))","v":""},{"$f":"IF(G$2034=1,\"\",IF(S1879=\"\",\"\",VLOOKUP(S1879,Tabelle!$I$5:$N$7,6,FALSE)))","v":""},null,null,null,null,null,null,null,null,null,{"$f":"IF(D1879=\"\",0,IF(D1879=D1878,COUNTIF(D$9:D1878,D1879)+1,1))","v":0},0,0]
["1872","-1900","-1900-0",null,null,null,null,null,null,null,"",null,null,null,null,null,null,null,null,{"$f":"IF(G$2034=1,\"\",IF(S1880=\"\",\"\",VLOOKUP(S1880,Tabelle!$I$5:$M$7,5,FALSE)))","v":""},{"$f":"IF(G$2034=1,\"\",IF(S1880=\"\",\"\",VLOOKUP(S1880,Tabelle!$I$5:$N$7,6,FALSE)))","v":""},null,null,null,null,null,null,null,null,null,{"$f":"IF(D1880=\"\",0,IF(D1880=D1879,COUNTIF(D$9:D1879,D1880)+1,1))","v":0},0,0]
["1873","-1900","-1900-0",null,null,null,null,null,null,null,"",null,null,null,null,null,null,null,null,{"$f":"IF(G$2034=1,\"\",IF(S1881=\"\",\"\",VLOOKUP(S1881,Tabelle!$I$5:$M$7,5,FALSE)))","v":""},{"$f":"IF(G$2034=1,\"\",IF(S1881=\"\",\"\",VLOOKUP(S1881,Tabelle!$I$5:$N$7,6,FALSE)))","v":""},null,null,null,null,null,null,null,null,null,{"$f":"IF(D1881=\"\",0,IF(D1881=D1880,COUNTIF(D$9:D1880,D1881)+1,1))","v":0},0,0]
["1874","-1900","-1900-0",null,null,null,null,null,null,null,"",null,null,null,null,null,null,null,null,{"$f":"IF(G$2034=1,\"\",IF(S1882=\"\",\"\",VLOOKUP(S1882,Tabelle!$I$5:$M$7,5,FALSE)))","v":""},{"$f":"IF(G$2034=1,\"\",IF(S1882=\"\",\"\",VLOOKUP(S1882,Tabelle!$I$5:$N$7,6,FALSE)))","v":""},null,null,null,null,null,null,null,null,null,{"$f":"IF(D1882=\"\",0,IF(D1882=D1881,COUNTIF(D$9:D1881,D1882)+1,1))","v":0},0,0]
["1875","-1900","-1900-0",null,null,null,null,null,null,null,"",null,null,null,null,null,null,null,null,{"$f":"IF(G$2034=1,\"\",IF(S1883=\"\",\"\",VLOOKUP(S1883,Tabelle!$I$5:$M$7,5,FALSE)))","v":""},{"$f":"IF(G$2034=1,\"\",IF(S1883=\"\",\"\",VLOOKUP(S1883,Tabelle!$I$5:$N$7,6,FALSE)))","v":""},null,null,null,null,null,null,null,null,null,{"$f":"IF(D1883=\"\",0,IF(D1883=D1882,COUNTIF(D$9:D1882,D1883)+1,1))","v":0},0,0]
["1876","-1900","-1900-0",null,null,null,null,null,null,null,"",null,null,null,null,null,null,null,null,{"$f":"IF(G$2034=1,\"\",IF(S1884=\"\",\"\",VLOOKUP(S1884,Tabelle!$I$5:$M$7,5,FALSE)))","v":""},{"$f":"IF(G$2034=1,\"\",IF(S1884=\"\",\"\",VLOOKUP(S1884,Tabelle!$I$5:$N$7,6,FALSE)))","v":""},null,null,null,null,null,null,null,null,null,{"$f":"IF(D1884=\"\",0,IF(D1884=D1883,COUNTIF(D$9:D1883,D1884)+1,1))","v":0},0,0]
["1877","-1900","-1900-0",null,null,null,null,null,null,null,"",null,null,null,null,null,null,null,null,{"$f":"IF(G$2034=1,\"\",IF(S1885=\"\",\"\",VLOOKUP(S1885,Tabelle!$I$5:$M$7,5,FALSE)))","v":""},{"$f":"IF(G$2034=1,\"\",IF(S1885=\"\",\"\",VLOOKUP(S1885,Tabelle!$I$5:$N$7,6,FALSE)))","v":""},null,null,null,null,null,null,null,null,null,{"$f":"IF(D1885=\"\",0,IF(D1885=D1884,COUNTIF(D$9:D1884,D1885)+1,1))","v":0},0,0]
["1878","-1900","-1900-0",null,null,null,null,null,null,null,"",null,null,null,null,null,null,null,null,{"$f":"IF(G$2034=1,\"\",IF(S1886=\"\",\"\",VLOOKUP(S1886,Tabelle!$I$5:$M$7,5,FALSE)))","v":""},{"$f":"IF(G$2034=1,\"\",IF(S1886=\"\",\"\",VLOOKUP(S1886,Tabelle!$I$5:$N$7,6,FALSE)))","v":""},null,null,null,null,null,null,null,null,null,{"$f":"IF(D1886=\"\",0,IF(D1886=D1885,COUNTIF(D$9:D1885,D1886)+1,1))","v":0},0,0]
["1879","-1900","-1900-0",null,null,null,null,null,null,null,"",null,null,null,null,null,null,null,null,{"$f":"IF(G$2034=1,\"\",IF(S1887=\"\",\"\",VLOOKUP(S1887,Tabelle!$I$5:$M$7,5,FALSE)))","v":""},{"$f":"IF(G$2034=1,\"\",IF(S1887=\"\",\"\",VLOOKUP(S1887,Tabelle!$I$5:$N$7,6,FALSE)))","v":""},null,null,null,null,null,null,null,null,null,{"$f":"IF(D1887=\"\",0,IF(D1887=D1886,COUNTIF(D$9:D1886,D1887)+1,1))","v":0},0,0]
["1880","-1900","-1900-0",null,null,null,null,null,null,null,"",null,null,null,null,null,null,null,null,{"$f":"IF(G$2034=1,\"\",IF(S1888=\"\",\"\",VLOOKUP(S1888,Tabelle!$I$5:$M$7,5,FALSE)))","v":""},{"$f":"IF(G$2034=1,\"\",IF(S1888=\"\",\"\",VLOOKUP(S1888,Tabelle!$I$5:$N$7,6,FALSE)))","v":""},null,null,null,null,null,null,null,null,null,{"$f":"IF(D1888=\"\",0,IF(D1888=D1887,COUNTIF(D$9:D1887,D1888)+1,1))","v":0},0,0]
["1881","-1900","-1900-0",null,null,null,null,null,null,null,"",null,null,null,null,null,null,null,null,{"$f":"IF(G$2034=1,\"\",IF(S1889=\"\",\"\",VLOOKUP(S1889,Tabelle!$I$5:$M$7,5,FALSE)))","v":""},{"$f":"IF(G$2034=1,\"\",IF(S1889=\"\",\"\",VLOOKUP(S1889,Tabelle!$I$5:$N$7,6,FALSE)))","v":""},null,null,null,null,null,null,null,null,null,{"$f":"IF(D1889=\"\",0,IF(D1889=D1888,COUNTIF(D$9:D1888,D1889)+1,1))","v":0},0,0]
["1882","-1900","-1900-0",null,null,null,null,null,null,null,"",null,null,null,null,null,null,null,null,{"$f":"IF(G$2034=1,\"\",IF(S1890=\"\",\"\",VLOOKUP(S1890,Tabelle!$I$5:$M$7,5,FALSE)))","v":""},{"$f":"IF(G$2034=1,\"\",IF(S1890=\"\",\"\",VLOOKUP(S1890,Tabelle!$I$5:$N$7,6,FALSE)))","v":""},null,null,null,null,null,null,null,null,null,{"$f":"IF(D1890=\"\",0,IF(D1890=D1889,COUNTIF(D$9:D1889,D1890)+1,1))","v":0},0,0]
["1883","-1900","-1900-0",null,null,null,null,null,null,null,"",null,null,null,null,null,null,null,null,{"$f":"IF(G$2034=1,\"\",IF(S1891=\"\",\"\",VLOOKUP(S1891,Tabelle!$I$5:$M$7,5,FALSE)))","v":""},{"$f":"IF(G$2034=1,\"\",IF(S1891=\"\",\"\",VLOOKUP(S1891,Tabelle!$I$5:$N$7,6,FALSE)))","v":""},null,null,null,null,null,null,null,null,null,{"$f":"IF(D1891=\"\",0,IF(D1891=D1890,COUNTIF(D$9:D1890,D1891)+1,1))","v":0},0,0]
["1884","-1900","-1900-0",null,null,null,null,null,null,null,"",null,null,null,null,null,null,null,null,{"$f":"IF(G$2034=1,\"\",IF(S1892=\"\",\"\",VLOOKUP(S1892,Tabelle!$I$5:$M$7,5,FALSE)))","v":""},{"$f":"IF(G$2034=1,\"\",IF(S1892=\"\",\"\",VLOOKUP(S1892,Tabelle!$I$5:$N$7,6,FALSE)))","v":""},null,null,null,null,null,null,null,null,null,{"$f":"IF(D1892=\"\",0,IF(D1892=D1891,COUNTIF(D$9:D1891,D1892)+1,1))","v":0},0,0]
["1885","-1900","-1900-0",null,null,null,null,null,null,null,"",null,null,null,null,null,null,null,null,{"$f":"IF(G$2034=1,\"\",IF(S1893=\"\",\"\",VLOOKUP(S1893,Tabelle!$I$5:$M$7,5,FALSE)))","v":""},{"$f":"IF(G$2034=1,\"\",IF(S1893=\"\",\"\",VLOOKUP(S1893,Tabelle!$I$5:$N$7,6,FALSE)))","v":""},null,null,null,null,null,null,null,null,null,{"$f":"IF(D1893=\"\",0,IF(D1893=D1892,COUNTIF(D$9:D1892,D1893)+1,1))","v":0},0,0]
["1886","-1900","-1900-0",null,null,null,null,null,null,null,"",null,null,null,null,null,null,null,null,{"$f":"IF(G$2034=1,\"\",IF(S1894=\"\",\"\",VLOOKUP(S1894,Tabelle!$I$5:$M$7,5,FALSE)))","v":""},{"$f":"IF(G$2034=1,\"\",IF(S1894=\"\",\"\",VLOOKUP(S1894,Tabelle!$I$5:$N$7,6,FALSE)))","v":""},null,null,null,null,null,null,null,null,null,{"$f":"IF(D1894=\"\",0,IF(D1894=D1893,COUNTIF(D$9:D1893,D1894)+1,1))","v":0},0,0]
["1887","-1900","-1900-0",null,null,null,null,null,null,null,"",null,null,null,null,null,null,null,null,{"$f":"IF(G$2034=1,\"\",IF(S1895=\"\",\"\",VLOOKUP(S1895,Tabelle!$I$5:$M$7,5,FALSE)))","v":""},{"$f":"IF(G$2034=1,\"\",IF(S1895=\"\",\"\",VLOOKUP(S1895,Tabelle!$I$5:$N$7,6,FALSE)))","v":""},null,null,null,null,null,null,null,null,null,{"$f":"IF(D1895=\"\",0,IF(D1895=D1894,COUNTIF(D$9:D1894,D1895)+1,1))","v":0},0,0]
["1888","-1900","-1900-0",null,null,null,null,null,null,null,"",null,null,null,null,null,null,null,null,{"$f":"IF(G$2034=1,\"\",IF(S1896=\"\",\"\",VLOOKUP(S1896,Tabelle!$I$5:$M$7,5,FALSE)))","v":""},{"$f":"IF(G$2034=1,\"\",IF(S1896=\"\",\"\",VLOOKUP(S1896,Tabelle!$I$5:$N$7,6,FALSE)))","v":""},null,null,null,null,null,null,null,null,null,{"$f":"IF(D1896=\"\",0,IF(D1896=D1895,COUNTIF(D$9:D1895,D1896)+1,1))","v":0},0,0]
["1889","-1900","-1900-0",null,null,null,null,null,null,null,"",null,null,null,null,null,null,null,null,{"$f":"IF(G$2034=1,\"\",IF(S1897=\"\",\"\",VLOOKUP(S1897,Tabelle!$I$5:$M$7,5,FALSE)))","v":""},{"$f":"IF(G$2034=1,\"\",IF(S1897=\"\",\"\",VLOOKUP(S1897,Tabelle!$I$5:$N$7,6,FALSE)))","v":""},null,null,null,null,null,null,null,null,null,{"$f":"IF(D1897=\"\",0,IF(D1897=D1896,COUNTIF(D$9:D1896,D1897)+1,1))","v":0},0,0]
["1890","-1900","-1900-0",null,null,null,null,null,null,null,"",null,null,null,null,null,null,null,null,{"$f":"IF(G$2034=1,\"\",IF(S1898=\"\",\"\",VLOOKUP(S1898,Tabelle!$I$5:$M$7,5,FALSE)))","v":""},{"$f":"IF(G$2034=1,\"\",IF(S1898=\"\",\"\",VLOOKUP(S1898,Tabelle!$I$5:$N$7,6,FALSE)))","v":""},null,null,null,null,null,null,null,null,null,{"$f":"IF(D1898=\"\",0,IF(D1898=D1897,COUNTIF(D$9:D1897,D1898)+1,1))","v":0},0,0]
["1891","-1900","-1900-0",null,null,null,null,null,null,null,"",null,null,null,null,null,null,null,null,{"$f":"IF(G$2034=1,\"\",IF(S1899=\"\",\"\",VLOOKUP(S1899,Tabelle!$I$5:$M$7,5,FALSE)))","v":""},{"$f":"IF(G$2034=1,\"\",IF(S1899=\"\",\"\",VLOOKUP(S1899,Tabelle!$I$5:$N$7,6,FALSE)))","v":""},null,null,null,null,null,null,null,null,null,{"$f":"IF(D1899=\"\",0,IF(D1899=D1898,COUNTIF(D$9:D1898,D1899)+1,1))","v":0},0,0]
["1892","-1900","-1900-0",null,null,null,null,null,null,null,"",null,null,null,null,null,null,null,null,{"$f":"IF(G$2034=1,\"\",IF(S1900=\"\",\"\",VLOOKUP(S1900,Tabelle!$I$5:$M$7,5,FALSE)))","v":""},{"$f":"IF(G$2034=1,\"\",IF(S1900=\"\",\"\",VLOOKUP(S1900,Tabelle!$I$5:$N$7,6,FALSE)))","v":""},null,null,null,null,null,null,null,null,null,{"$f":"IF(D1900=\"\",0,IF(D1900=D1899,COUNTIF(D$9:D1899,D1900)+1,1))","v":0},0,0]
["1893","-1900","-1900-0",null,null,null,null,null,null,null,"",null,null,null,null,null,null,null,null,{"$f":"IF(G$2034=1,\"\",IF(S1901=\"\",\"\",VLOOKUP(S1901,Tabelle!$I$5:$M$7,5,FALSE)))","v":""},{"$f":"IF(G$2034=1,\"\",IF(S1901=\"\",\"\",VLOOKUP(S1901,Tabelle!$I$5:$N$7,6,FALSE)))","v":""},null,null,null,null,null,null,null,null,null,{"$f":"IF(D1901=\"\",0,IF(D1901=D1900,COUNTIF(D$9:D1900,D1901)+1,1))","v":0},0,0]
["1894","-1900","-1900-0",null,null,null,null,null,null,null,"",null,null,null,null,null,null,null,null,{"$f":"IF(G$2034=1,\"\",IF(S1902=\"\",\"\",VLOOKUP(S1902,Tabelle!$I$5:$M$7,5,FALSE)))","v":""},{"$f":"IF(G$2034=1,\"\",IF(S1902=\"\",\"\",VLOOKUP(S1902,Tabelle!$I$5:$N$7,6,FALSE)))","v":""},null,null,null,null,null,null,null,null,null,{"$f":"IF(D1902=\"\",0,IF(D1902=D1901,COUNTIF(D$9:D1901,D1902)+1,1))","v":0},0,0]
["1895","-1900","-1900-0",null,null,null,null,null,null,null,"",null,null,null,null,null,null,null,null,{"$f":"IF(G$2034=1,\"\",IF(S1903=\"\",\"\",VLOOKUP(S1903,Tabelle!$I$5:$M$7,5,FALSE)))","v":""},{"$f":"IF(G$2034=1,\"\",IF(S1903=\"\",\"\",VLOOKUP(S1903,Tabelle!$I$5:$N$7,6,FALSE)))","v":""},null,null,null,null,null,null,null,null,null,{"$f":"IF(D1903=\"\",0,IF(D1903=D1902,COUNTIF(D$9:D1902,D1903)+1,1))","v":0},0,0]
["1896","-1900","-1900-0",null,null,null,null,null,null,null,"",null,null,null,null,null,null,null,null,{"$f":"IF(G$2034=1,\"\",IF(S1904=\"\",\"\",VLOOKUP(S1904,Tabelle!$I$5:$M$7,5,FALSE)))","v":""},{"$f":"IF(G$2034=1,\"\",IF(S1904=\"\",\"\",VLOOKUP(S1904,Tabelle!$I$5:$N$7,6,FALSE)))","v":""},null,null,null,null,null,null,null,null,null,{"$f":"IF(D1904=\"\",0,IF(D1904=D1903,COUNTIF(D$9:D1903,D1904)+1,1))","v":0},0,0]
["1897","-1900","-1900-0",null,null,null,null,null,null,null,"",null,null,null,null,null,null,null,null,{"$f":"IF(G$2034=1,\"\",IF(S1905=\"\",\"\",VLOOKUP(S1905,Tabelle!$I$5:$M$7,5,FALSE)))","v":""},{"$f":"IF(G$2034=1,\"\",IF(S1905=\"\",\"\",VLOOKUP(S1905,Tabelle!$I$5:$N$7,6,FALSE)))","v":""},null,null,null,null,null,null,null,null,null,{"$f":"IF(D1905=\"\",0,IF(D1905=D1904,COUNTIF(D$9:D1904,D1905)+1,1))","v":0},0,0]
["1898","-1900","-1900-0",null,null,null,null,null,null,null,"",null,null,null,null,null,null,null,null,{"$f":"IF(G$2034=1,\"\",IF(S1906=\"\",\"\",VLOOKUP(S1906,Tabelle!$I$5:$M$7,5,FALSE)))","v":""},{"$f":"IF(G$2034=1,\"\",IF(S1906=\"\",\"\",VLOOKUP(S1906,Tabelle!$I$5:$N$7,6,FALSE)))","v":""},null,null,null,null,null,null,null,null,null,{"$f":"IF(D1906=\"\",0,IF(D1906=D1905,COUNTIF(D$9:D1905,D1906)+1,1))","v":0},0,0]
["1899","-1900","-1900-0",null,null,null,null,null,null,null,"",null,null,null,null,null,null,null,null,{"$f":"IF(G$2034=1,\"\",IF(S1907=\"\",\"\",VLOOKUP(S1907,Tabelle!$I$5:$M$7,5,FALSE)))","v":""},{"$f":"IF(G$2034=1,\"\",IF(S1907=\"\",\"\",VLOOKUP(S1907,Tabelle!$I$5:$N$7,6,FALSE)))","v":""},null,null,null,null,null,null,null,null,null,{"$f":"IF(D1907=\"\",0,IF(D1907=D1906,COUNTIF(D$9:D1906,D1907)+1,1))","v":0},0,0]
["1900 di 2000","-1900","-1900-0",null,null,null,null,null,null,null,"",null,null,null,null,null,null,null,null,{"$f":"IF(G$2034=1,\"\",IF(S1908=\"\",\"\",VLOOKUP(S1908,Tabelle!$I$5:$M$7,5,FALSE)))","v":""},{"$f":"IF(G$2034=1,\"\",IF(S1908=\"\",\"\",VLOOKUP(S1908,Tabelle!$I$5:$N$7,6,FALSE)))","v":""},null,null,null,null,null,null,null,null,null,{"$f":"IF(D1908=\"\",0,IF(D1908=D1907,COUNTIF(D$9:D1907,D1908)+1,1))","v":0},0,0]
["1901","-1900","-1900-0",null,null,null,null,null,null,null,"",null,null,null,null,null,null,null,null,{"$f":"IF(G$2034=1,\"\",IF(S1909=\"\",\"\",VLOOKUP(S1909,Tabelle!$I$5:$M$7,5,FALSE)))","v":""},{"$f":"IF(G$2034=1,\"\",IF(S1909=\"\",\"\",VLOOKUP(S1909,Tabelle!$I$5:$N$7,6,FALSE)))","v":""},null,null,null,null,null,null,null,null,null,{"$f":"IF(D1909=\"\",0,IF(D1909=D1908,COUNTIF(D$9:D1908,D1909)+1,1))","v":0},0,0]
["1902","-1900","-1900-0",null,null,null,null,null,null,null,"",null,null,null,null,null,null,null,null,{"$f":"IF(G$2034=1,\"\",IF(S1910=\"\",\"\",VLOOKUP(S1910,Tabelle!$I$5:$M$7,5,FALSE)))","v":""},{"$f":"IF(G$2034=1,\"\",IF(S1910=\"\",\"\",VLOOKUP(S1910,Tabelle!$I$5:$N$7,6,FALSE)))","v":""},null,null,null,null,null,null,null,null,null,{"$f":"IF(D1910=\"\",0,IF(D1910=D1909,COUNTIF(D$9:D1909,D1910)+1,1))","v":0},0,0]
["1903","-1900","-1900-0",null,null,null,null,null,null,null,"",null,null,null,null,null,null,null,null,{"$f":"IF(G$2034=1,\"\",IF(S1911=\"\",\"\",VLOOKUP(S1911,Tabelle!$I$5:$M$7,5,FALSE)))","v":""},{"$f":"IF(G$2034=1,\"\",IF(S1911=\"\",\"\",VLOOKUP(S1911,Tabelle!$I$5:$N$7,6,FALSE)))","v":""},null,null,null,null,null,null,null,null,null,{"$f":"IF(D1911=\"\",0,IF(D1911=D1910,COUNTIF(D$9:D1910,D1911)+1,1))","v":0},0,0]
["1904","-1900","-1900-0",null,null,null,null,null,null,null,"",null,null,null,null,null,null,null,null,{"$f":"IF(G$2034=1,\"\",IF(S1912=\"\",\"\",VLOOKUP(S1912,Tabelle!$I$5:$M$7,5,FALSE)))","v":""},{"$f":"IF(G$2034=1,\"\",IF(S1912=\"\",\"\",VLOOKUP(S1912,Tabelle!$I$5:$N$7,6,FALSE)))","v":""},null,null,null,null,null,null,null,null,null,{"$f":"IF(D1912=\"\",0,IF(D1912=D1911,COUNTIF(D$9:D1911,D1912)+1,1))","v":0},0,0]
["1905","-1900","-1900-0",null,null,null,null,null,null,null,"",null,null,null,null,null,null,null,null,{"$f":"IF(G$2034=1,\"\",IF(S1913=\"\",\"\",VLOOKUP(S1913,Tabelle!$I$5:$M$7,5,FALSE)))","v":""},{"$f":"IF(G$2034=1,\"\",IF(S1913=\"\",\"\",VLOOKUP(S1913,Tabelle!$I$5:$N$7,6,FALSE)))","v":""},null,null,null,null,null,null,null,null,null,{"$f":"IF(D1913=\"\",0,IF(D1913=D1912,COUNTIF(D$9:D1912,D1913)+1,1))","v":0},0,0]
["1906","-1900","-1900-0",null,null,null,null,null,null,null,"",null,null,null,null,null,null,null,null,{"$f":"IF(G$2034=1,\"\",IF(S1914=\"\",\"\",VLOOKUP(S1914,Tabelle!$I$5:$M$7,5,FALSE)))","v":""},{"$f":"IF(G$2034=1,\"\",IF(S1914=\"\",\"\",VLOOKUP(S1914,Tabelle!$I$5:$N$7,6,FALSE)))","v":""},null,null,null,null,null,null,null,null,null,{"$f":"IF(D1914=\"\",0,IF(D1914=D1913,COUNTIF(D$9:D1913,D1914)+1,1))","v":0},0,0]
["1907","-1900","-1900-0",null,null,null,null,null,null,null,"",null,null,null,null,null,null,null,null,{"$f":"IF(G$2034=1,\"\",IF(S1915=\"\",\"\",VLOOKUP(S1915,Tabelle!$I$5:$M$7,5,FALSE)))","v":""},{"$f":"IF(G$2034=1,\"\",IF(S1915=\"\",\"\",VLOOKUP(S1915,Tabelle!$I$5:$N$7,6,FALSE)))","v":""},null,null,null,null,null,null,null,null,null,{"$f":"IF(D1915=\"\",0,IF(D1915=D1914,COUNTIF(D$9:D1914,D1915)+1,1))","v":0},0,0]
["1908","-1900","-1900-0",null,null,null,null,null,null,null,"",null,null,null,null,null,null,null,null,{"$f":"IF(G$2034=1,\"\",IF(S1916=\"\",\"\",VLOOKUP(S1916,Tabelle!$I$5:$M$7,5,FALSE)))","v":""},{"$f":"IF(G$2034=1,\"\",IF(S1916=\"\",\"\",VLOOKUP(S1916,Tabelle!$I$5:$N$7,6,FALSE)))","v":""},null,null,null,null,null,null,null,null,null,{"$f":"IF(D1916=\"\",0,IF(D1916=D1915,COUNTIF(D$9:D1915,D1916)+1,1))","v":0},0,0]
["1909","-1900","-1900-0",null,null,null,null,null,null,null,"",null,null,null,null,null,null,null,null,{"$f":"IF(G$2034=1,\"\",IF(S1917=\"\",\"\",VLOOKUP(S1917,Tabelle!$I$5:$M$7,5,FALSE)))","v":""},{"$f":"IF(G$2034=1,\"\",IF(S1917=\"\",\"\",VLOOKUP(S1917,Tabelle!$I$5:$N$7,6,FALSE)))","v":""},null,null,null,null,null,null,null,null,null,{"$f":"IF(D1917=\"\",0,IF(D1917=D1916,COUNTIF(D$9:D1916,D1917)+1,1))","v":0},0,0]
["1910","-1900","-1900-0",null,null,null,null,null,null,null,"",null,null,null,null,null,null,null,null,{"$f":"IF(G$2034=1,\"\",IF(S1918=\"\",\"\",VLOOKUP(S1918,Tabelle!$I$5:$M$7,5,FALSE)))","v":""},{"$f":"IF(G$2034=1,\"\",IF(S1918=\"\",\"\",VLOOKUP(S1918,Tabelle!$I$5:$N$7,6,FALSE)))","v":""},null,null,null,null,null,null,null,null,null,{"$f":"IF(D1918=\"\",0,IF(D1918=D1917,COUNTIF(D$9:D1917,D1918)+1,1))","v":0},0,0]
["1911","-1900","-1900-0",null,null,null,null,null,null,null,"",null,null,null,null,null,null,null,null,{"$f":"IF(G$2034=1,\"\",IF(S1919=\"\",\"\",VLOOKUP(S1919,Tabelle!$I$5:$M$7,5,FALSE)))","v":""},{"$f":"IF(G$2034=1,\"\",IF(S1919=\"\",\"\",VLOOKUP(S1919,Tabelle!$I$5:$N$7,6,FALSE)))","v":""},null,null,null,null,null,null,null,null,null,{"$f":"IF(D1919=\"\",0,IF(D1919=D1918,COUNTIF(D$9:D1918,D1919)+1,1))","v":0},0,0]
["1912","-1900","-1900-0",null,null,null,null,null,null,null,"",null,null,null,null,null,null,null,null,{"$f":"IF(G$2034=1,\"\",IF(S1920=\"\",\"\",VLOOKUP(S1920,Tabelle!$I$5:$M$7,5,FALSE)))","v":""},{"$f":"IF(G$2034=1,\"\",IF(S1920=\"\",\"\",VLOOKUP(S1920,Tabelle!$I$5:$N$7,6,FALSE)))","v":""},null,null,null,null,null,null,null,null,null,{"$f":"IF(D1920=\"\",0,IF(D1920=D1919,COUNTIF(D$9:D1919,D1920)+1,1))","v":0},0,0]
["1913","-1900","-1900-0",null,null,null,null,null,null,null,"",null,null,null,null,null,null,null,null,{"$f":"IF(G$2034=1,\"\",IF(S1921=\"\",\"\",VLOOKUP(S1921,Tabelle!$I$5:$M$7,5,FALSE)))","v":""},{"$f":"IF(G$2034=1,\"\",IF(S1921=\"\",\"\",VLOOKUP(S1921,Tabelle!$I$5:$N$7,6,FALSE)))","v":""},null,null,null,null,null,null,null,null,null,{"$f":"IF(D1921=\"\",0,IF(D1921=D1920,COUNTIF(D$9:D1920,D1921)+1,1))","v":0},0,0]
["1914","-1900","-1900-0",null,null,null,null,null,null,null,"",null,null,null,null,null,null,null,null,{"$f":"IF(G$2034=1,\"\",IF(S1922=\"\",\"\",VLOOKUP(S1922,Tabelle!$I$5:$M$7,5,FALSE)))","v":""},{"$f":"IF(G$2034=1,\"\",IF(S1922=\"\",\"\",VLOOKUP(S1922,Tabelle!$I$5:$N$7,6,FALSE)))","v":""},null,null,null,null,null,null,null,null,null,{"$f":"IF(D1922=\"\",0,IF(D1922=D1921,COUNTIF(D$9:D1921,D1922)+1,1))","v":0},0,0]
["1915","-1900","-1900-0",null,null,null,null,null,null,null,"",null,null,null,null,null,null,null,null,{"$f":"IF(G$2034=1,\"\",IF(S1923=\"\",\"\",VLOOKUP(S1923,Tabelle!$I$5:$M$7,5,FALSE)))","v":""},{"$f":"IF(G$2034=1,\"\",IF(S1923=\"\",\"\",VLOOKUP(S1923,Tabelle!$I$5:$N$7,6,FALSE)))","v":""},null,null,null,null,null,null,null,null,null,{"$f":"IF(D1923=\"\",0,IF(D1923=D1922,COUNTIF(D$9:D1922,D1923)+1,1))","v":0},0,0]
["1916","-1900","-1900-0",null,null,null,null,null,null,null,"",null,null,null,null,null,null,null,null,{"$f":"IF(G$2034=1,\"\",IF(S1924=\"\",\"\",VLOOKUP(S1924,Tabelle!$I$5:$M$7,5,FALSE)))","v":""},{"$f":"IF(G$2034=1,\"\",IF(S1924=\"\",\"\",VLOOKUP(S1924,Tabelle!$I$5:$N$7,6,FALSE)))","v":""},null,null,null,null,null,null,null,null,null,{"$f":"IF(D1924=\"\",0,IF(D1924=D1923,COUNTIF(D$9:D1923,D1924)+1,1))","v":0},0,0]
["1917","-1900","-1900-0",null,null,null,null,null,null,null,"",null,null,null,null,null,null,null,null,{"$f":"IF(G$2034=1,\"\",IF(S1925=\"\",\"\",VLOOKUP(S1925,Tabelle!$I$5:$M$7,5,FALSE)))","v":""},{"$f":"IF(G$2034=1,\"\",IF(S1925=\"\",\"\",VLOOKUP(S1925,Tabelle!$I$5:$N$7,6,FALSE)))","v":""},null,null,null,null,null,null,null,null,null,{"$f":"IF(D1925=\"\",0,IF(D1925=D1924,COUNTIF(D$9:D1924,D1925)+1,1))","v":0},0,0]
["1918","-1900","-1900-0",null,null,null,null,null,null,null,"",null,null,null,null,null,null,null,null,{"$f":"IF(G$2034=1,\"\",IF(S1926=\"\",\"\",VLOOKUP(S1926,Tabelle!$I$5:$M$7,5,FALSE)))","v":""},{"$f":"IF(G$2034=1,\"\",IF(S1926=\"\",\"\",VLOOKUP(S1926,Tabelle!$I$5:$N$7,6,FALSE)))","v":""},null,null,null,null,null,null,null,null,null,{"$f":"IF(D1926=\"\",0,IF(D1926=D1925,COUNTIF(D$9:D1925,D1926)+1,1))","v":0},0,0]
["1919","-1900","-1900-0",null,null,null,null,null,null,null,"",null,null,null,null,null,null,null,null,{"$f":"IF(G$2034=1,\"\",IF(S1927=\"\",\"\",VLOOKUP(S1927,Tabelle!$I$5:$M$7,5,FALSE)))","v":""},{"$f":"IF(G$2034=1,\"\",IF(S1927=\"\",\"\",VLOOKUP(S1927,Tabelle!$I$5:$N$7,6,FALSE)))","v":""},null,null,null,null,null,null,null,null,null,{"$f":"IF(D1927=\"\",0,IF(D1927=D1926,COUNTIF(D$9:D1926,D1927)+1,1))","v":0},0,0]
["1920","-1900","-1900-0",null,null,null,null,null,null,null,"",null,null,null,null,null,null,null,null,{"$f":"IF(G$2034=1,\"\",IF(S1928=\"\",\"\",VLOOKUP(S1928,Tabelle!$I$5:$M$7,5,FALSE)))","v":""},{"$f":"IF(G$2034=1,\"\",IF(S1928=\"\",\"\",VLOOKUP(S1928,Tabelle!$I$5:$N$7,6,FALSE)))","v":""},null,null,null,null,null,null,null,null,null,{"$f":"IF(D1928=\"\",0,IF(D1928=D1927,COUNTIF(D$9:D1927,D1928)+1,1))","v":0},0,0]
["1921","-1900",{"$f":"IF(G$2034=1,0,B1929&\"-\"&AE1929)","v":"-1900-0"},null,null,null,null,null,null,null,{"$f":"IF(G$2034=1,0,IF(OR(J1929=\"\",ISERROR($O$2034)),\"\",VLOOKUP(J1929,$L$2019:$N$2027,2,FALSE)))","v":""},null,null,null,null,null,null,null,null,{"$f":"IF(G$2034=1,\"\",IF(S1929=\"\",\"\",VLOOKUP(S1929,Tabelle!$I$5:$M$7,5,FALSE)))","v":""},{"$f":"IF(G$2034=1,\"\",IF(S1929=\"\",\"\",VLOOKUP(S1929,Tabelle!$I$5:$N$7,6,FALSE)))","v":""},null,null,null,null,null,null,null,null,null,{"$f":"IF(D1929=\"\",0,IF(D1929=D1928,COUNTIF(D$9:D1928,D1929)+1,1))","v":0},0,0]
["1922",{"$f":"IF(AG1930=$AG$2013,0,IF(G$2034=1,0,D1930&\"-\"&YEAR(E1930)))","v":"-1900"},"-1900-0",null,null,null,null,null,null,null,"",null,null,null,null,null,null,null,null,{"$f":"IF(G$2034=1,\"\",IF(S1930=\"\",\"\",VLOOKUP(S1930,Tabelle!$I$5:$M$7,5,FALSE)))","v":""},{"$f":"IF(G$2034=1,\"\",IF(S1930=\"\",\"\",VLOOKUP(S1930,Tabelle!$I$5:$N$7,6,FALSE)))","v":""},null,null,null,null,null,null,null,null,null,{"$f":"IF(D1930=\"\",0,IF(D1930=D1929,COUNTIF(D$9:D1929,D1930)+1,1))","v":0},{"$f":"IF(G$2034=1,0,IF(AE1930=28,1,0))","v":0},{"$f":"IF(E1930>0,IF(OR(MONTH(E1930)<$G$2026,MONTH(E1930)>$G$2027),AG$2013,0),0)","v":0}]
["1923","-1900","-1900-0",null,null,null,null,null,null,null,"",null,null,null,null,null,null,null,null,{"$f":"IF(G$2034=1,\"\",IF(S1931=\"\",\"\",VLOOKUP(S1931,Tabelle!$I$5:$M$7,5,FALSE)))","v":""},{"$f":"IF(G$2034=1,\"\",IF(S1931=\"\",\"\",VLOOKUP(S1931,Tabelle!$I$5:$N$7,6,FALSE)))","v":""},null,null,null,null,null,null,null,null,null,{"$f":"IF(D1931=\"\",0,IF(D1931=D1930,COUNTIF(D$9:D1930,D1931)+1,1))","v":0},0,0]
["1924","-1900","-1900-0",null,null,null,null,null,null,null,"",null,null,null,null,null,null,null,null,{"$f":"IF(G$2034=1,\"\",IF(S1932=\"\",\"\",VLOOKUP(S1932,Tabelle!$I$5:$M$7,5,FALSE)))","v":""},{"$f":"IF(G$2034=1,\"\",IF(S1932=\"\",\"\",VLOOKUP(S1932,Tabelle!$I$5:$N$7,6,FALSE)))","v":""},null,null,null,null,null,null,null,null,null,{"$f":"IF(D1932=\"\",0,IF(D1932=D1931,COUNTIF(D$9:D1931,D1932)+1,1))","v":0},0,0]
["1925","-1900","-1900-0",null,null,null,null,null,null,null,"",null,null,null,null,null,null,null,null,{"$f":"IF(G$2034=1,\"\",IF(S1933=\"\",\"\",VLOOKUP(S1933,Tabelle!$I$5:$M$7,5,FALSE)))","v":""},{"$f":"IF(G$2034=1,\"\",IF(S1933=\"\",\"\",VLOOKUP(S1933,Tabelle!$I$5:$N$7,6,FALSE)))","v":""},null,null,null,null,null,null,null,null,null,{"$f":"IF(D1933=\"\",0,IF(D1933=D1932,COUNTIF(D$9:D1932,D1933)+1,1))","v":0},0,0]
["1926","-1900","-1900-0",null,null,null,null,null,null,null,"",null,null,null,null,null,null,null,null,{"$f":"IF(G$2034=1,\"\",IF(S1934=\"\",\"\",VLOOKUP(S1934,Tabelle!$I$5:$M$7,5,FALSE)))","v":""},{"$f":"IF(G$2034=1,\"\",IF(S1934=\"\",\"\",VLOOKUP(S1934,Tabelle!$I$5:$N$7,6,FALSE)))","v":""},null,null,null,null,null,null,null,null,null,{"$f":"IF(D1934=\"\",0,IF(D1934=D1933,COUNTIF(D$9:D1933,D1934)+1,1))","v":0},0,0]
["1927","-1900","-1900-0",null,null,null,null,null,null,null,"",null,null,null,null,null,null,null,null,{"$f":"IF(G$2034=1,\"\",IF(S1935=\"\",\"\",VLOOKUP(S1935,Tabelle!$I$5:$M$7,5,FALSE)))","v":""},{"$f":"IF(G$2034=1,\"\",IF(S1935=\"\",\"\",VLOOKUP(S1935,Tabelle!$I$5:$N$7,6,FALSE)))","v":""},null,null,null,null,null,null,null,null,null,{"$f":"IF(D1935=\"\",0,IF(D1935=D1934,COUNTIF(D$9:D1934,D1935)+1,1))","v":0},0,0]
["1928","-1900","-1900-0",null,null,null,null,null,null,null,"",null,null,null,null,null,null,null,null,{"$f":"IF(G$2034=1,\"\",IF(S1936=\"\",\"\",VLOOKUP(S1936,Tabelle!$I$5:$M$7,5,FALSE)))","v":""},{"$f":"IF(G$2034=1,\"\",IF(S1936=\"\",\"\",VLOOKUP(S1936,Tabelle!$I$5:$N$7,6,FALSE)))","v":""},null,null,null,null,null,null,null,null,null,{"$f":"IF(D1936=\"\",0,IF(D1936=D1935,COUNTIF(D$9:D1935,D1936)+1,1))","v":0},0,0]
["1929","-1900","-1900-0",null,null,null,null,null,null,null,"",null,null,null,null,null,null,null,null,{"$f":"IF(G$2034=1,\"\",IF(S1937=\"\",\"\",VLOOKUP(S1937,Tabelle!$I$5:$M$7,5,FALSE)))","v":""},{"$f":"IF(G$2034=1,\"\",IF(S1937=\"\",\"\",VLOOKUP(S1937,Tabelle!$I$5:$N$7,6,FALSE)))","v":""},null,null,null,null,null,null,null,null,null,{"$f":"IF(D1937=\"\",0,IF(D1937=D1936,COUNTIF(D$9:D1936,D1937)+1,1))","v":0},0,0]
["1930","-1900","-1900-0",null,null,null,null,null,null,null,"",null,null,null,null,null,null,null,null,{"$f":"IF(G$2034=1,\"\",IF(S1938=\"\",\"\",VLOOKUP(S1938,Tabelle!$I$5:$M$7,5,FALSE)))","v":""},{"$f":"IF(G$2034=1,\"\",IF(S1938=\"\",\"\",VLOOKUP(S1938,Tabelle!$I$5:$N$7,6,FALSE)))","v":""},null,null,null,null,null,null,null,null,null,{"$f":"IF(D1938=\"\",0,IF(D1938=D1937,COUNTIF(D$9:D1937,D1938)+1,1))","v":0},0,0]
["1931","-1900","-1900-0",null,null,null,null,null,null,null,"",null,null,null,null,null,null,null,null,{"$f":"IF(G$2034=1,\"\",IF(S1939=\"\",\"\",VLOOKUP(S1939,Tabelle!$I$5:$M$7,5,FALSE)))","v":""},{"$f":"IF(G$2034=1,\"\",IF(S1939=\"\",\"\",VLOOKUP(S1939,Tabelle!$I$5:$N$7,6,FALSE)))","v":""},null,null,null,null,null,null,null,null,null,{"$f":"IF(D1939=\"\",0,IF(D1939=D1938,COUNTIF(D$9:D1938,D1939)+1,1))","v":0},0,0]
["1932","-1900","-1900-0",null,null,null,null,null,null,null,"",null,null,null,null,null,null,null,null,{"$f":"IF(G$2034=1,\"\",IF(S1940=\"\",\"\",VLOOKUP(S1940,Tabelle!$I$5:$M$7,5,FALSE)))","v":""},{"$f":"IF(G$2034=1,\"\",IF(S1940=\"\",\"\",VLOOKUP(S1940,Tabelle!$I$5:$N$7,6,FALSE)))","v":""},null,null,null,null,null,null,null,null,null,{"$f":"IF(D1940=\"\",0,IF(D1940=D1939,COUNTIF(D$9:D1939,D1940)+1,1))","v":0},0,0]
["1933","-1900","-1900-0",null,null,null,null,null,null,null,"",null,null,null,null,null,null,null,null,{"$f":"IF(G$2034=1,\"\",IF(S1941=\"\",\"\",VLOOKUP(S1941,Tabelle!$I$5:$M$7,5,FALSE)))","v":""},{"$f":"IF(G$2034=1,\"\",IF(S1941=\"\",\"\",VLOOKUP(S1941,Tabelle!$I$5:$N$7,6,FALSE)))","v":""},null,null,null,null,null,null,null,null,null,{"$f":"IF(D1941=\"\",0,IF(D1941=D1940,COUNTIF(D$9:D1940,D1941)+1,1))","v":0},0,0]
["1934","-1900","-1900-0",null,null,null,null,null,null,null,"",null,null,null,null,null,null,null,null,{"$f":"IF(G$2034=1,\"\",IF(S1942=\"\",\"\",VLOOKUP(S1942,Tabelle!$I$5:$M$7,5,FALSE)))","v":""},{"$f":"IF(G$2034=1,\"\",IF(S1942=\"\",\"\",VLOOKUP(S1942,Tabelle!$I$5:$N$7,6,FALSE)))","v":""},null,null,null,null,null,null,null,null,null,{"$f":"IF(D1942=\"\",0,IF(D1942=D1941,COUNTIF(D$9:D1941,D1942)+1,1))","v":0},0,0]
["1935","-1900","-1900-0",null,null,null,null,null,null,null,"",null,null,null,null,null,null,null,null,{"$f":"IF(G$2034=1,\"\",IF(S1943=\"\",\"\",VLOOKUP(S1943,Tabelle!$I$5:$M$7,5,FALSE)))","v":""},{"$f":"IF(G$2034=1,\"\",IF(S1943=\"\",\"\",VLOOKUP(S1943,Tabelle!$I$5:$N$7,6,FALSE)))","v":""},null,null,null,null,null,null,null,null,null,{"$f":"IF(D1943=\"\",0,IF(D1943=D1942,COUNTIF(D$9:D1942,D1943)+1,1))","v":0},0,0]
["1936","-1900","-1900-0",null,null,null,null,null,null,null,"",null,null,null,null,null,null,null,null,{"$f":"IF(G$2034=1,\"\",IF(S1944=\"\",\"\",VLOOKUP(S1944,Tabelle!$I$5:$M$7,5,FALSE)))","v":""},{"$f":"IF(G$2034=1,\"\",IF(S1944=\"\",\"\",VLOOKUP(S1944,Tabelle!$I$5:$N$7,6,FALSE)))","v":""},null,null,null,null,null,null,null,null,null,{"$f":"IF(D1944=\"\",0,IF(D1944=D1943,COUNTIF(D$9:D1943,D1944)+1,1))","v":0},0,0]
["1937","-1900","-1900-0",null,null,null,null,null,null,null,"",null,null,null,null,null,null,null,null,{"$f":"IF(G$2034=1,\"\",IF(S1945=\"\",\"\",VLOOKUP(S1945,Tabelle!$I$5:$M$7,5,FALSE)))","v":""},{"$f":"IF(G$2034=1,\"\",IF(S1945=\"\",\"\",VLOOKUP(S1945,Tabelle!$I$5:$N$7,6,FALSE)))","v":""},null,null,null,null,null,null,null,null,null,{"$f":"IF(D1945=\"\",0,IF(D1945=D1944,COUNTIF(D$9:D1944,D1945)+1,1))","v":0},0,0]
["1938","-1900","-1900-0",null,null,null,null,null,null,null,"",null,null,null,null,null,null,null,null,{"$f":"IF(G$2034=1,\"\",IF(S1946=\"\",\"\",VLOOKUP(S1946,Tabelle!$I$5:$M$7,5,FALSE)))","v":""},{"$f":"IF(G$2034=1,\"\",IF(S1946=\"\",\"\",VLOOKUP(S1946,Tabelle!$I$5:$N$7,6,FALSE)))","v":""},null,null,null,null,null,null,null,null,null,{"$f":"IF(D1946=\"\",0,IF(D1946=D1945,COUNTIF(D$9:D1945,D1946)+1,1))","v":0},0,0]
["1939","-1900","-1900-0",null,null,null,null,null,null,null,"",null,null,null,null,null,null,null,null,{"$f":"IF(G$2034=1,\"\",IF(S1947=\"\",\"\",VLOOKUP(S1947,Tabelle!$I$5:$M$7,5,FALSE)))","v":""},{"$f":"IF(G$2034=1,\"\",IF(S1947=\"\",\"\",VLOOKUP(S1947,Tabelle!$I$5:$N$7,6,FALSE)))","v":""},null,null,null,null,null,null,null,null,null,{"$f":"IF(D1947=\"\",0,IF(D1947=D1946,COUNTIF(D$9:D1946,D1947)+1,1))","v":0},0,0]
["1940","-1900","-1900-0",null,null,null,null,null,null,null,"",null,null,null,null,null,null,null,null,{"$f":"IF(G$2034=1,\"\",IF(S1948=\"\",\"\",VLOOKUP(S1948,Tabelle!$I$5:$M$7,5,FALSE)))","v":""},{"$f":"IF(G$2034=1,\"\",IF(S1948=\"\",\"\",VLOOKUP(S1948,Tabelle!$I$5:$N$7,6,FALSE)))","v":""},null,null,null,null,null,null,null,null,null,{"$f":"IF(D1948=\"\",0,IF(D1948=D1947,COUNTIF(D$9:D1947,D1948)+1,1))","v":0},0,0]
["1941","-1900","-1900-0",null,null,null,null,null,null,null,"",null,null,null,null,null,null,null,null,{"$f":"IF(G$2034=1,\"\",IF(S1949=\"\",\"\",VLOOKUP(S1949,Tabelle!$I$5:$M$7,5,FALSE)))","v":""},{"$f":"IF(G$2034=1,\"\",IF(S1949=\"\",\"\",VLOOKUP(S1949,Tabelle!$I$5:$N$7,6,FALSE)))","v":""},null,null,null,null,null,null,null,null,null,{"$f":"IF(D1949=\"\",0,IF(D1949=D1948,COUNTIF(D$9:D1948,D1949)+1,1))","v":0},0,0]
["1942","-1900","-1900-0",null,null,null,null,null,null,null,"",null,null,null,null,null,null,null,null,{"$f":"IF(G$2034=1,\"\",IF(S1950=\"\",\"\",VLOOKUP(S1950,Tabelle!$I$5:$M$7,5,FALSE)))","v":""},{"$f":"IF(G$2034=1,\"\",IF(S1950=\"\",\"\",VLOOKUP(S1950,Tabelle!$I$5:$N$7,6,FALSE)))","v":""},null,null,null,null,null,null,null,null,null,{"$f":"IF(D1950=\"\",0,IF(D1950=D1949,COUNTIF(D$9:D1949,D1950)+1,1))","v":0},0,0]
["1943","-1900","-1900-0",null,null,null,null,null,null,null,"",null,null,null,null,null,null,null,null,{"$f":"IF(G$2034=1,\"\",IF(S1951=\"\",\"\",VLOOKUP(S1951,Tabelle!$I$5:$M$7,5,FALSE)))","v":""},{"$f":"IF(G$2034=1,\"\",IF(S1951=\"\",\"\",VLOOKUP(S1951,Tabelle!$I$5:$N$7,6,FALSE)))","v":""},null,null,null,null,null,null,null,null,null,{"$f":"IF(D1951=\"\",0,IF(D1951=D1950,COUNTIF(D$9:D1950,D1951)+1,1))","v":0},0,0]
["1944","-1900","-1900-0",null,null,null,null,null,null,null,"",null,null,null,null,null,null,null,null,{"$f":"IF(G$2034=1,\"\",IF(S1952=\"\",\"\",VLOOKUP(S1952,Tabelle!$I$5:$M$7,5,FALSE)))","v":""},{"$f":"IF(G$2034=1,\"\",IF(S1952=\"\",\"\",VLOOKUP(S1952,Tabelle!$I$5:$N$7,6,FALSE)))","v":""},null,null,null,null,null,null,null,null,null,{"$f":"IF(D1952=\"\",0,IF(D1952=D1951,COUNTIF(D$9:D1951,D1952)+1,1))","v":0},0,0]
["1945","-1900","-1900-0",null,null,null,null,null,null,null,"",null,null,null,null,null,null,null,null,{"$f":"IF(G$2034=1,\"\",IF(S1953=\"\",\"\",VLOOKUP(S1953,Tabelle!$I$5:$M$7,5,FALSE)))","v":""},{"$f":"IF(G$2034=1,\"\",IF(S1953=\"\",\"\",VLOOKUP(S1953,Tabelle!$I$5:$N$7,6,FALSE)))","v":""},null,null,null,null,null,null,null,null,null,{"$f":"IF(D1953=\"\",0,IF(D1953=D1952,COUNTIF(D$9:D1952,D1953)+1,1))","v":0},0,0]
["1946","-1900","-1900-0",null,null,null,null,null,null,null,"",null,null,null,null,null,null,null,null,{"$f":"IF(G$2034=1,\"\",IF(S1954=\"\",\"\",VLOOKUP(S1954,Tabelle!$I$5:$M$7,5,FALSE)))","v":""},{"$f":"IF(G$2034=1,\"\",IF(S1954=\"\",\"\",VLOOKUP(S1954,Tabelle!$I$5:$N$7,6,FALSE)))","v":""},null,null,null,null,null,null,null,null,null,{"$f":"IF(D1954=\"\",0,IF(D1954=D1953,COUNTIF(D$9:D1953,D1954)+1,1))","v":0},0,0]
["1947","-1900","-1900-0",null,null,null,null,null,null,null,"",null,null,null,null,null,null,null,null,{"$f":"IF(G$2034=1,\"\",IF(S1955=\"\",\"\",VLOOKUP(S1955,Tabelle!$I$5:$M$7,5,FALSE)))","v":""},{"$f":"IF(G$2034=1,\"\",IF(S1955=\"\",\"\",VLOOKUP(S1955,Tabelle!$I$5:$N$7,6,FALSE)))","v":""},null,null,null,null,null,null,null,null,null,{"$f":"IF(D1955=\"\",0,IF(D1955=D1954,COUNTIF(D$9:D1954,D1955)+1,1))","v":0},0,0]
["1948","-1900","-1900-0",null,null,null,null,null,null,null,"",null,null,null,null,null,null,null,null,{"$f":"IF(G$2034=1,\"\",IF(S1956=\"\",\"\",VLOOKUP(S1956,Tabelle!$I$5:$M$7,5,FALSE)))","v":""},{"$f":"IF(G$2034=1,\"\",IF(S1956=\"\",\"\",VLOOKUP(S1956,Tabelle!$I$5:$N$7,6,FALSE)))","v":""},null,null,null,null,null,null,null,null,null,{"$f":"IF(D1956=\"\",0,IF(D1956=D1955,COUNTIF(D$9:D1955,D1956)+1,1))","v":0},0,0]
["1949","-1900","-1900-0",null,null,null,null,null,null,null,"",null,null,null,null,null,null,null,null,{"$f":"IF(G$2034=1,\"\",IF(S1957=\"\",\"\",VLOOKUP(S1957,Tabelle!$I$5:$M$7,5,FALSE)))","v":""},{"$f":"IF(G$2034=1,\"\",IF(S1957=\"\",\"\",VLOOKUP(S1957,Tabelle!$I$5:$N$7,6,FALSE)))","v":""},null,null,null,null,null,null,null,null,null,{"$f":"IF(D1957=\"\",0,IF(D1957=D1956,COUNTIF(D$9:D1956,D1957)+1,1))","v":0},0,0]
["1950","-1900","-1900-0",null,null,null,null,null,null,null,"",null,null,null,null,null,null,null,null,{"$f":"IF(G$2034=1,\"\",IF(S1958=\"\",\"\",VLOOKUP(S1958,Tabelle!$I$5:$M$7,5,FALSE)))","v":""},{"$f":"IF(G$2034=1,\"\",IF(S1958=\"\",\"\",VLOOKUP(S1958,Tabelle!$I$5:$N$7,6,FALSE)))","v":""},null,null,null,null,null,null,null,null,null,{"$f":"IF(D1958=\"\",0,IF(D1958=D1957,COUNTIF(D$9:D1957,D1958)+1,1))","v":0},0,0]
["1951","-1900","-1900-0",null,null,null,null,null,null,null,"",null,null,null,null,null,null,null,null,{"$f":"IF(G$2034=1,\"\",IF(S1959=\"\",\"\",VLOOKUP(S1959,Tabelle!$I$5:$M$7,5,FALSE)))","v":""},{"$f":"IF(G$2034=1,\"\",IF(S1959=\"\",\"\",VLOOKUP(S1959,Tabelle!$I$5:$N$7,6,FALSE)))","v":""},null,null,null,null,null,null,null,null,null,{"$f":"IF(D1959=\"\",0,IF(D1959=D1958,COUNTIF(D$9:D1958,D1959)+1,1))","v":0},0,0]
["1952","-1900","-1900-0",null,null,null,null,null,null,null,"",null,null,null,null,null,null,null,null,{"$f":"IF(G$2034=1,\"\",IF(S1960=\"\",\"\",VLOOKUP(S1960,Tabelle!$I$5:$M$7,5,FALSE)))","v":""},{"$f":"IF(G$2034=1,\"\",IF(S1960=\"\",\"\",VLOOKUP(S1960,Tabelle!$I$5:$N$7,6,FALSE)))","v":""},null,null,null,null,null,null,null,null,null,{"$f":"IF(D1960=\"\",0,IF(D1960=D1959,COUNTIF(D$9:D1959,D1960)+1,1))","v":0},0,0]
["1953","-1900","-1900-0",null,null,null,null,null,null,null,"",null,null,null,null,null,null,null,null,{"$f":"IF(G$2034=1,\"\",IF(S1961=\"\",\"\",VLOOKUP(S1961,Tabelle!$I$5:$M$7,5,FALSE)))","v":""},{"$f":"IF(G$2034=1,\"\",IF(S1961=\"\",\"\",VLOOKUP(S1961,Tabelle!$I$5:$N$7,6,FALSE)))","v":""},null,null,null,null,null,null,null,null,null,{"$f":"IF(D1961=\"\",0,IF(D1961=D1960,COUNTIF(D$9:D1960,D1961)+1,1))","v":0},0,0]
["1954","-1900","-1900-0",null,null,null,null,null,null,null,"",null,null,null,null,null,null,null,null,{"$f":"IF(G$2034=1,\"\",IF(S1962=\"\",\"\",VLOOKUP(S1962,Tabelle!$I$5:$M$7,5,FALSE)))","v":""},{"$f":"IF(G$2034=1,\"\",IF(S1962=\"\",\"\",VLOOKUP(S1962,Tabelle!$I$5:$N$7,6,FALSE)))","v":""},null,null,null,null,null,null,null,null,null,{"$f":"IF(D1962=\"\",0,IF(D1962=D1961,COUNTIF(D$9:D1961,D1962)+1,1))","v":0},0,0]
["1955","-1900","-1900-0",null,null,null,null,null,null,null,"",null,null,null,null,null,null,null,null,{"$f":"IF(G$2034=1,\"\",IF(S1963=\"\",\"\",VLOOKUP(S1963,Tabelle!$I$5:$M$7,5,FALSE)))","v":""},{"$f":"IF(G$2034=1,\"\",IF(S1963=\"\",\"\",VLOOKUP(S1963,Tabelle!$I$5:$N$7,6,FALSE)))","v":""},null,null,null,null,null,null,null,null,null,{"$f":"IF(D1963=\"\",0,IF(D1963=D1962,COUNTIF(D$9:D1962,D1963)+1,1))","v":0},0,0]
["1956","-1900","-1900-0",null,null,null,null,null,null,null,"",null,null,null,null,null,null,null,null,{"$f":"IF(G$2034=1,\"\",IF(S1964=\"\",\"\",VLOOKUP(S1964,Tabelle!$I$5:$M$7,5,FALSE)))","v":""},{"$f":"IF(G$2034=1,\"\",IF(S1964=\"\",\"\",VLOOKUP(S1964,Tabelle!$I$5:$N$7,6,FALSE)))","v":""},null,null,null,null,null,null,null,null,null,{"$f":"IF(D1964=\"\",0,IF(D1964=D1963,COUNTIF(D$9:D1963,D1964)+1,1))","v":0},0,0]
["1957","-1900","-1900-0",null,null,null,null,null,null,null,"",null,null,null,null,null,null,null,null,{"$f":"IF(G$2034=1,\"\",IF(S1965=\"\",\"\",VLOOKUP(S1965,Tabelle!$I$5:$M$7,5,FALSE)))","v":""},{"$f":"IF(G$2034=1,\"\",IF(S1965=\"\",\"\",VLOOKUP(S1965,Tabelle!$I$5:$N$7,6,FALSE)))","v":""},null,null,null,null,null,null,null,null,null,{"$f":"IF(D1965=\"\",0,IF(D1965=D1964,COUNTIF(D$9:D1964,D1965)+1,1))","v":0},0,0]
["1958","-1900","-1900-0",null,null,null,null,null,null,null,"",null,null,null,null,null,null,null,null,{"$f":"IF(G$2034=1,\"\",IF(S1966=\"\",\"\",VLOOKUP(S1966,Tabelle!$I$5:$M$7,5,FALSE)))","v":""},{"$f":"IF(G$2034=1,\"\",IF(S1966=\"\",\"\",VLOOKUP(S1966,Tabelle!$I$5:$N$7,6,FALSE)))","v":""},null,null,null,null,null,null,null,null,null,{"$f":"IF(D1966=\"\",0,IF(D1966=D1965,COUNTIF(D$9:D1965,D1966)+1,1))","v":0},0,0]
["1959","-1900","-1900-0",null,null,null,null,null,null,null,"",null,null,null,null,null,null,null,null,{"$f":"IF(G$2034=1,\"\",IF(S1967=\"\",\"\",VLOOKUP(S1967,Tabelle!$I$5:$M$7,5,FALSE)))","v":""},{"$f":"IF(G$2034=1,\"\",IF(S1967=\"\",\"\",VLOOKUP(S1967,Tabelle!$I$5:$N$7,6,FALSE)))","v":""},null,null,null,null,null,null,null,null,null,{"$f":"IF(D1967=\"\",0,IF(D1967=D1966,COUNTIF(D$9:D1966,D1967)+1,1))","v":0},0,0]
["1960","-1900","-1900-0",null,null,null,null,null,null,null,"",null,null,null,null,null,null,null,null,{"$f":"IF(G$2034=1,\"\",IF(S1968=\"\",\"\",VLOOKUP(S1968,Tabelle!$I$5:$M$7,5,FALSE)))","v":""},{"$f":"IF(G$2034=1,\"\",IF(S1968=\"\",\"\",VLOOKUP(S1968,Tabelle!$I$5:$N$7,6,FALSE)))","v":""},null,null,null,null,null,null,null,null,null,{"$f":"IF(D1968=\"\",0,IF(D1968=D1967,COUNTIF(D$9:D1967,D1968)+1,1))","v":0},0,0]
["1961","-1900","-1900-0",null,null,null,null,null,null,null,"",null,null,null,null,null,null,null,null,{"$f":"IF(G$2034=1,\"\",IF(S1969=\"\",\"\",VLOOKUP(S1969,Tabelle!$I$5:$M$7,5,FALSE)))","v":""},{"$f":"IF(G$2034=1,\"\",IF(S1969=\"\",\"\",VLOOKUP(S1969,Tabelle!$I$5:$N$7,6,FALSE)))","v":""},null,null,null,null,null,null,null,null,null,{"$f":"IF(D1969=\"\",0,IF(D1969=D1968,COUNTIF(D$9:D1968,D1969)+1,1))","v":0},0,0]
["1962","-1900","-1900-0",null,null,null,null,null,null,null,"",null,null,null,null,null,null,null,null,{"$f":"IF(G$2034=1,\"\",IF(S1970=\"\",\"\",VLOOKUP(S1970,Tabelle!$I$5:$M$7,5,FALSE)))","v":""},{"$f":"IF(G$2034=1,\"\",IF(S1970=\"\",\"\",VLOOKUP(S1970,Tabelle!$I$5:$N$7,6,FALSE)))","v":""},null,null,null,null,null,null,null,null,null,{"$f":"IF(D1970=\"\",0,IF(D1970=D1969,COUNTIF(D$9:D1969,D1970)+1,1))","v":0},0,0]
["1963","-1900","-1900-0",null,null,null,null,null,null,null,"",null,null,null,null,null,null,null,null,{"$f":"IF(G$2034=1,\"\",IF(S1971=\"\",\"\",VLOOKUP(S1971,Tabelle!$I$5:$M$7,5,FALSE)))","v":""},{"$f":"IF(G$2034=1,\"\",IF(S1971=\"\",\"\",VLOOKUP(S1971,Tabelle!$I$5:$N$7,6,FALSE)))","v":""},null,null,null,null,null,null,null,null,null,{"$f":"IF(D1971=\"\",0,IF(D1971=D1970,COUNTIF(D$9:D1970,D1971)+1,1))","v":0},0,0]
["1964","-1900","-1900-0",null,null,null,null,null,null,null,"",null,null,null,null,null,null,null,null,{"$f":"IF(G$2034=1,\"\",IF(S1972=\"\",\"\",VLOOKUP(S1972,Tabelle!$I$5:$M$7,5,FALSE)))","v":""},{"$f":"IF(G$2034=1,\"\",IF(S1972=\"\",\"\",VLOOKUP(S1972,Tabelle!$I$5:$N$7,6,FALSE)))","v":""},null,null,null,null,null,null,null,null,null,{"$f":"IF(D1972=\"\",0,IF(D1972=D1971,COUNTIF(D$9:D1971,D1972)+1,1))","v":0},0,0]
["1965","-1900","-1900-0",null,null,null,null,null,null,null,"",null,null,null,null,null,null,null,null,{"$f":"IF(G$2034=1,\"\",IF(S1973=\"\",\"\",VLOOKUP(S1973,Tabelle!$I$5:$M$7,5,FALSE)))","v":""},{"$f":"IF(G$2034=1,\"\",IF(S1973=\"\",\"\",VLOOKUP(S1973,Tabelle!$I$5:$N$7,6,FALSE)))","v":""},null,null,null,null,null,null,null,null,null,{"$f":"IF(D1973=\"\",0,IF(D1973=D1972,COUNTIF(D$9:D1972,D1973)+1,1))","v":0},0,0]
["1966","-1900","-1900-0",null,null,null,null,null,null,null,"",null,null,null,null,null,null,null,null,{"$f":"IF(G$2034=1,\"\",IF(S1974=\"\",\"\",VLOOKUP(S1974,Tabelle!$I$5:$M$7,5,FALSE)))","v":""},{"$f":"IF(G$2034=1,\"\",IF(S1974=\"\",\"\",VLOOKUP(S1974,Tabelle!$I$5:$N$7,6,FALSE)))","v":""},null,null,null,null,null,null,null,null,null,{"$f":"IF(D1974=\"\",0,IF(D1974=D1973,COUNTIF(D$9:D1973,D1974)+1,1))","v":0},0,0]
["1967","-1900","-1900-0",null,null,null,null,null,null,null,"",null,null,null,null,null,null,null,null,{"$f":"IF(G$2034=1,\"\",IF(S1975=\"\",\"\",VLOOKUP(S1975,Tabelle!$I$5:$M$7,5,FALSE)))","v":""},{"$f":"IF(G$2034=1,\"\",IF(S1975=\"\",\"\",VLOOKUP(S1975,Tabelle!$I$5:$N$7,6,FALSE)))","v":""},null,null,null,null,null,null,null,null,null,{"$f":"IF(D1975=\"\",0,IF(D1975=D1974,COUNTIF(D$9:D1974,D1975)+1,1))","v":0},0,0]
["1968","-1900","-1900-0",null,null,null,null,null,null,null,"",null,null,null,null,null,null,null,null,{"$f":"IF(G$2034=1,\"\",IF(S1976=\"\",\"\",VLOOKUP(S1976,Tabelle!$I$5:$M$7,5,FALSE)))","v":""},{"$f":"IF(G$2034=1,\"\",IF(S1976=\"\",\"\",VLOOKUP(S1976,Tabelle!$I$5:$N$7,6,FALSE)))","v":""},null,null,null,null,null,null,null,null,null,{"$f":"IF(D1976=\"\",0,IF(D1976=D1975,COUNTIF(D$9:D1975,D1976)+1,1))","v":0},0,0]
["1969","-1900","-1900-0",null,null,null,null,null,null,null,"",null,null,null,null,null,null,null,null,{"$f":"IF(G$2034=1,\"\",IF(S1977=\"\",\"\",VLOOKUP(S1977,Tabelle!$I$5:$M$7,5,FALSE)))","v":""},{"$f":"IF(G$2034=1,\"\",IF(S1977=\"\",\"\",VLOOKUP(S1977,Tabelle!$I$5:$N$7,6,FALSE)))","v":""},null,null,null,null,null,null,null,null,null,{"$f":"IF(D1977=\"\",0,IF(D1977=D1976,COUNTIF(D$9:D1976,D1977)+1,1))","v":0},0,0]
["1970","-1900","-1900-0",null,null,null,null,null,null,null,"",null,null,null,null,null,null,null,null,{"$f":"IF(G$2034=1,\"\",IF(S1978=\"\",\"\",VLOOKUP(S1978,Tabelle!$I$5:$M$7,5,FALSE)))","v":""},{"$f":"IF(G$2034=1,\"\",IF(S1978=\"\",\"\",VLOOKUP(S1978,Tabelle!$I$5:$N$7,6,FALSE)))","v":""},null,null,null,null,null,null,null,null,null,{"$f":"IF(D1978=\"\",0,IF(D1978=D1977,COUNTIF(D$9:D1977,D1978)+1,1))","v":0},0,0]
["1971","-1900","-1900-0",null,null,null,null,null,null,null,"",null,null,null,null,null,null,null,null,{"$f":"IF(G$2034=1,\"\",IF(S1979=\"\",\"\",VLOOKUP(S1979,Tabelle!$I$5:$M$7,5,FALSE)))","v":""},{"$f":"IF(G$2034=1,\"\",IF(S1979=\"\",\"\",VLOOKUP(S1979,Tabelle!$I$5:$N$7,6,FALSE)))","v":""},null,null,null,null,null,null,null,null,null,{"$f":"IF(D1979=\"\",0,IF(D1979=D1978,COUNTIF(D$9:D1978,D1979)+1,1))","v":0},0,0]
["1972","-1900","-1900-0",null,null,null,null,null,null,null,"",null,null,null,null,null,null,null,null,{"$f":"IF(G$2034=1,\"\",IF(S1980=\"\",\"\",VLOOKUP(S1980,Tabelle!$I$5:$M$7,5,FALSE)))","v":""},{"$f":"IF(G$2034=1,\"\",IF(S1980=\"\",\"\",VLOOKUP(S1980,Tabelle!$I$5:$N$7,6,FALSE)))","v":""},null,null,null,null,null,null,null,null,null,{"$f":"IF(D1980=\"\",0,IF(D1980=D1979,COUNTIF(D$9:D1979,D1980)+1,1))","v":0},0,0]
["1973","-1900","-1900-0",null,null,null,null,null,null,null,"",null,null,null,null,null,null,null,null,{"$f":"IF(G$2034=1,\"\",IF(S1981=\"\",\"\",VLOOKUP(S1981,Tabelle!$I$5:$M$7,5,FALSE)))","v":""},{"$f":"IF(G$2034=1,\"\",IF(S1981=\"\",\"\",VLOOKUP(S1981,Tabelle!$I$5:$N$7,6,FALSE)))","v":""},null,null,null,null,null,null,null,null,null,{"$f":"IF(D1981=\"\",0,IF(D1981=D1980,COUNTIF(D$9:D1980,D1981)+1,1))","v":0},0,0]
["1974","-1900","-1900-0",null,null,null,null,null,null,null,"",null,null,null,null,null,null,null,null,{"$f":"IF(G$2034=1,\"\",IF(S1982=\"\",\"\",VLOOKUP(S1982,Tabelle!$I$5:$M$7,5,FALSE)))","v":""},{"$f":"IF(G$2034=1,\"\",IF(S1982=\"\",\"\",VLOOKUP(S1982,Tabelle!$I$5:$N$7,6,FALSE)))","v":""},null,null,null,null,null,null,null,null,null,{"$f":"IF(D1982=\"\",0,IF(D1982=D1981,COUNTIF(D$9:D1981,D1982)+1,1))","v":0},0,0]
["1975","-1900","-1900-0",null,null,null,null,null,null,null,"",null,null,null,null,null,null,null,null,{"$f":"IF(G$2034=1,\"\",IF(S1983=\"\",\"\",VLOOKUP(S1983,Tabelle!$I$5:$M$7,5,FALSE)))","v":""},{"$f":"IF(G$2034=1,\"\",IF(S1983=\"\",\"\",VLOOKUP(S1983,Tabelle!$I$5:$N$7,6,FALSE)))","v":""},null,null,null,null,null,null,null,null,null,{"$f":"IF(D1983=\"\",0,IF(D1983=D1982,COUNTIF(D$9:D1982,D1983)+1,1))","v":0},0,0]
["1976","-1900","-1900-0",null,null,null,null,null,null,null,"",null,null,null,null,null,null,null,null,{"$f":"IF(G$2034=1,\"\",IF(S1984=\"\",\"\",VLOOKUP(S1984,Tabelle!$I$5:$M$7,5,FALSE)))","v":""},{"$f":"IF(G$2034=1,\"\",IF(S1984=\"\",\"\",VLOOKUP(S1984,Tabelle!$I$5:$N$7,6,FALSE)))","v":""},null,null,null,null,null,null,null,null,null,{"$f":"IF(D1984=\"\",0,IF(D1984=D1983,COUNTIF(D$9:D1983,D1984)+1,1))","v":0},0,0]
["1977","-1900","-1900-0",null,null,null,null,null,null,null,"",null,null,null,null,null,null,null,null,{"$f":"IF(G$2034=1,\"\",IF(S1985=\"\",\"\",VLOOKUP(S1985,Tabelle!$I$5:$M$7,5,FALSE)))","v":""},{"$f":"IF(G$2034=1,\"\",IF(S1985=\"\",\"\",VLOOKUP(S1985,Tabelle!$I$5:$N$7,6,FALSE)))","v":""},null,null,null,null,null,null,null,null,null,{"$f":"IF(D1985=\"\",0,IF(D1985=D1984,COUNTIF(D$9:D1984,D1985)+1,1))","v":0},0,0]
["1978","-1900","-1900-0",null,null,null,null,null,null,null,"",null,null,null,null,null,null,null,null,{"$f":"IF(G$2034=1,\"\",IF(S1986=\"\",\"\",VLOOKUP(S1986,Tabelle!$I$5:$M$7,5,FALSE)))","v":""},{"$f":"IF(G$2034=1,\"\",IF(S1986=\"\",\"\",VLOOKUP(S1986,Tabelle!$I$5:$N$7,6,FALSE)))","v":""},null,null,null,null,null,null,null,null,null,{"$f":"IF(D1986=\"\",0,IF(D1986=D1985,COUNTIF(D$9:D1985,D1986)+1,1))","v":0},0,0]
["1979","-1900","-1900-0",null,null,null,null,null,null,null,"",null,null,null,null,null,null,null,null,{"$f":"IF(G$2034=1,\"\",IF(S1987=\"\",\"\",VLOOKUP(S1987,Tabelle!$I$5:$M$7,5,FALSE)))","v":""},{"$f":"IF(G$2034=1,\"\",IF(S1987=\"\",\"\",VLOOKUP(S1987,Tabelle!$I$5:$N$7,6,FALSE)))","v":""},null,null,null,null,null,null,null,null,null,{"$f":"IF(D1987=\"\",0,IF(D1987=D1986,COUNTIF(D$9:D1986,D1987)+1,1))","v":0},0,0]
["1980","-1900","-1900-0",null,null,null,null,null,null,null,"",null,null,null,null,null,null,null,null,{"$f":"IF(G$2034=1,\"\",IF(S1988=\"\",\"\",VLOOKUP(S1988,Tabelle!$I$5:$M$7,5,FALSE)))","v":""},{"$f":"IF(G$2034=1,\"\",IF(S1988=\"\",\"\",VLOOKUP(S1988,Tabelle!$I$5:$N$7,6,FALSE)))","v":""},null,null,null,null,null,null,null,null,null,{"$f":"IF(D1988=\"\",0,IF(D1988=D1987,COUNTIF(D$9:D1987,D1988)+1,1))","v":0},0,0]
["1981","-1900","-1900-0",null,null,null,null,null,null,null,"",null,null,null,null,null,null,null,null,{"$f":"IF(G$2034=1,\"\",IF(S1989=\"\",\"\",VLOOKUP(S1989,Tabelle!$I$5:$M$7,5,FALSE)))","v":""},{"$f":"IF(G$2034=1,\"\",IF(S1989=\"\",\"\",VLOOKUP(S1989,Tabelle!$I$5:$N$7,6,FALSE)))","v":""},null,null,null,null,null,null,null,null,null,{"$f":"IF(D1989=\"\",0,IF(D1989=D1988,COUNTIF(D$9:D1988,D1989)+1,1))","v":0},0,0]
["1982","-1900","-1900-0",null,null,null,null,null,null,null,"",null,null,null,null,null,null,null,null,{"$f":"IF(G$2034=1,\"\",IF(S1990=\"\",\"\",VLOOKUP(S1990,Tabelle!$I$5:$M$7,5,FALSE)))","v":""},{"$f":"IF(G$2034=1,\"\",IF(S1990=\"\",\"\",VLOOKUP(S1990,Tabelle!$I$5:$N$7,6,FALSE)))","v":""},null,null,null,null,null,null,null,null,null,{"$f":"IF(D1990=\"\",0,IF(D1990=D1989,COUNTIF(D$9:D1989,D1990)+1,1))","v":0},0,0]
["1983","-1900","-1900-0",null,null,null,null,null,null,null,"",null,null,null,null,null,null,null,null,{"$f":"IF(G$2034=1,\"\",IF(S1991=\"\",\"\",VLOOKUP(S1991,Tabelle!$I$5:$M$7,5,FALSE)))","v":""},{"$f":"IF(G$2034=1,\"\",IF(S1991=\"\",\"\",VLOOKUP(S1991,Tabelle!$I$5:$N$7,6,FALSE)))","v":""},null,null,null,null,null,null,null,null,null,{"$f":"IF(D1991=\"\",0,IF(D1991=D1990,COUNTIF(D$9:D1990,D1991)+1,1))","v":0},0,0]
["1984","-1900","-1900-0",null,null,null,null,null,null,null,"",null,null,null,null,null,null,null,null,{"$f":"IF(G$2034=1,\"\",IF(S1992=\"\",\"\",VLOOKUP(S1992,Tabelle!$I$5:$M$7,5,FALSE)))","v":""},{"$f":"IF(G$2034=1,\"\",IF(S1992=\"\",\"\",VLOOKUP(S1992,Tabelle!$I$5:$N$7,6,FALSE)))","v":""},null,null,null,null,null,null,null,null,null,{"$f":"IF(D1992=\"\",0,IF(D1992=D1991,COUNTIF(D$9:D1991,D1992)+1,1))","v":0},0,0]
["1985","-1900",{"$f":"IF(G$2034=1,0,B1993&\"-\"&AE1993)","v":"-1900-0"},null,null,null,null,null,null,null,{"$f":"IF(G$2034=1,0,IF(OR(J1993=\"\",ISERROR($O$2034)),\"\",VLOOKUP(J1993,$L$2019:$N$2027,2,FALSE)))","v":""},null,null,null,null,null,null,null,null,{"$f":"IF(G$2034=1,\"\",IF(S1993=\"\",\"\",VLOOKUP(S1993,Tabelle!$I$5:$M$7,5,FALSE)))","v":""},{"$f":"IF(G$2034=1,\"\",IF(S1993=\"\",\"\",VLOOKUP(S1993,Tabelle!$I$5:$N$7,6,FALSE)))","v":""},null,null,null,null,null,null,null,null,null,{"$f":"IF(D1993=\"\",0,IF(D1993=D1992,COUNTIF(D$9:D1992,D1993)+1,1))","v":0},0,0]
["1986",{"$f":"IF(AG1994=$AG$2013,0,IF(G$2034=1,0,D1994&\"-\"&YEAR(E1994)))","v":"-1900"},"-1900-0",null,null,null,null,null,null,null,"",null,null,null,null,null,null,null,null,{"$f":"IF(G$2034=1,\"\",IF(S1994=\"\",\"\",VLOOKUP(S1994,Tabelle!$I$5:$M$7,5,FALSE)))","v":""},{"$f":"IF(G$2034=1,\"\",IF(S1994=\"\",\"\",VLOOKUP(S1994,Tabelle!$I$5:$N$7,6,FALSE)))","v":""},null,null,null,null,null,null,null,null,null,{"$f":"IF(D1994=\"\",0,IF(D1994=D1993,COUNTIF(D$9:D1993,D1994)+1,1))","v":0},{"$f":"IF(G$2034=1,0,IF(AE1994=28,1,0))","v":0},{"$f":"IF(E1994>0,IF(OR(MONTH(E1994)<$G$2026,MONTH(E1994)>$G$2027),AG$2013,0),0)","v":0}]
["1987","-1900","-1900-0",null,null,null,null,null,null,null,"",null,null,null,null,null,null,null,null,{"$f":"IF(G$2034=1,\"\",IF(S1995=\"\",\"\",VLOOKUP(S1995,Tabelle!$I$5:$M$7,5,FALSE)))","v":""},{"$f":"IF(G$2034=1,\"\",IF(S1995=\"\",\"\",VLOOKUP(S1995,Tabelle!$I$5:$N$7,6,FALSE)))","v":""},null,null,null,null,null,null,null,null,null,{"$f":"IF(D1995=\"\",0,IF(D1995=D1994,COUNTIF(D$9:D1994,D1995)+1,1))","v":0},0,0]
["1988","-1900","-1900-0",null,null,null,null,null,null,null,"",null,null,null,null,null,null,null,null,{"$f":"IF(G$2034=1,\"\",IF(S1996=\"\",\"\",VLOOKUP(S1996,Tabelle!$I$5:$M$7,5,FALSE)))","v":""},{"$f":"IF(G$2034=1,\"\",IF(S1996=\"\",\"\",VLOOKUP(S1996,Tabelle!$I$5:$N$7,6,FALSE)))","v":""},null,null,null,null,null,null,null,null,null,{"$f":"IF(D1996=\"\",0,IF(D1996=D1995,COUNTIF(D$9:D1995,D1996)+1,1))","v":0},0,0]
["1989","-1900","-1900-0",null,null,null,null,null,null,null,"",null,null,null,null,null,null,null,null,{"$f":"IF(G$2034=1,\"\",IF(S1997=\"\",\"\",VLOOKUP(S1997,Tabelle!$I$5:$M$7,5,FALSE)))","v":""},{"$f":"IF(G$2034=1,\"\",IF(S1997=\"\",\"\",VLOOKUP(S1997,Tabelle!$I$5:$N$7,6,FALSE)))","v":""},null,null,null,null,null,null,null,null,null,{"$f":"IF(D1997=\"\",0,IF(D1997=D1996,COUNTIF(D$9:D1996,D1997)+1,1))","v":0},0,0]
["1990","-1900","-1900-0",null,null,null,null,null,null,null,"",null,null,null,null,null,null,null,null,{"$f":"IF(G$2034=1,\"\",IF(S1998=\"\",\"\",VLOOKUP(S1998,Tabelle!$I$5:$M$7,5,FALSE)))","v":""},{"$f":"IF(G$2034=1,\"\",IF(S1998=\"\",\"\",VLOOKUP(S1998,Tabelle!$I$5:$N$7,6,FALSE)))","v":""},null,null,null,null,null,null,null,null,null,{"$f":"IF(D1998=\"\",0,IF(D1998=D1997,COUNTIF(D$9:D1997,D1998)+1,1))","v":0},0,0]
["1991","-1900","-1900-0",null,null,null,null,null,null,null,"",null,null,null,null,null,null,null,null,{"$f":"IF(G$2034=1,\"\",IF(S1999=\"\",\"\",VLOOKUP(S1999,Tabelle!$I$5:$M$7,5,FALSE)))","v":""},{"$f":"IF(G$2034=1,\"\",IF(S1999=\"\",\"\",VLOOKUP(S1999,Tabelle!$I$5:$N$7,6,FALSE)))","v":""},null,null,null,null,null,null,null,null,null,{"$f":"IF(D1999=\"\",0,IF(D1999=D1998,COUNTIF(D$9:D1998,D1999)+1,1))","v":0},0,0]
["1992","-1900","-1900-0",null,null,null,null,null,null,null,"",null,null,null,null,null,null,null,null,{"$f":"IF(G$2034=1,\"\",IF(S2000=\"\",\"\",VLOOKUP(S2000,Tabelle!$I$5:$M$7,5,FALSE)))","v":""},{"$f":"IF(G$2034=1,\"\",IF(S2000=\"\",\"\",VLOOKUP(S2000,Tabelle!$I$5:$N$7,6,FALSE)))","v":""},null,null,null,null,null,null,null,null,null,{"$f":"IF(D2000=\"\",0,IF(D2000=D1999,COUNTIF(D$9:D1999,D2000)+1,1))","v":0},0,0]
["1993","-1900","-1900-0",null,null,null,null,null,null,null,"",null,null,null,null,null,null,null,null,{"$f":"IF(G$2034=1,\"\",IF(S2001=\"\",\"\",VLOOKUP(S2001,Tabelle!$I$5:$M$7,5,FALSE)))","v":""},{"$f":"IF(G$2034=1,\"\",IF(S2001=\"\",\"\",VLOOKUP(S2001,Tabelle!$I$5:$N$7,6,FALSE)))","v":""},null,null,null,null,null,null,null,null,null,{"$f":"IF(D2001=\"\",0,IF(D2001=D2000,COUNTIF(D$9:D2000,D2001)+1,1))","v":0},0,0]
["1994","-1900","-1900-0",null,null,null,null,null,null,null,"",null,null,null,null,null,null,null,null,{"$f":"IF(G$2034=1,\"\",IF(S2002=\"\",\"\",VLOOKUP(S2002,Tabelle!$I$5:$M$7,5,FALSE)))","v":""},{"$f":"IF(G$2034=1,\"\",IF(S2002=\"\",\"\",VLOOKUP(S2002,Tabelle!$I$5:$N$7,6,FALSE)))","v":""},null,null,null,null,null,null,null,null,null,{"$f":"IF(D2002=\"\",0,IF(D2002=D2001,COUNTIF(D$9:D2001,D2002)+1,1))","v":0},0,0]
["1995","-1900","-1900-0",null,null,null,null,null,null,null,"",null,null,null,null,null,null,null,null,{"$f":"IF(G$2034=1,\"\",IF(S2003=\"\",\"\",VLOOKUP(S2003,Tabelle!$I$5:$M$7,5,FALSE)))","v":""},{"$f":"IF(G$2034=1,\"\",IF(S2003=\"\",\"\",VLOOKUP(S2003,Tabelle!$I$5:$N$7,6,FALSE)))","v":""},null,null,null,null,null,null,null,null,null,{"$f":"IF(D2003=\"\",0,IF(D2003=D2002,COUNTIF(D$9:D2002,D2003)+1,1))","v":0},0,0]
["1996","-1900","-1900-0",null,null,null,null,null,null,null,"",null,null,null,null,null,null,null,null,{"$f":"IF(G$2034=1,\"\",IF(S2004=\"\",\"\",VLOOKUP(S2004,Tabelle!$I$5:$M$7,5,FALSE)))","v":""},{"$f":"IF(G$2034=1,\"\",IF(S2004=\"\",\"\",VLOOKUP(S2004,Tabelle!$I$5:$N$7,6,FALSE)))","v":""},null,null,null,null,null,null,null,null,null,{"$f":"IF(D2004=\"\",0,IF(D2004=D2003,COUNTIF(D$9:D2003,D2004)+1,1))","v":0},0,0]
["1997","-1900","-1900-0",null,null,null,null,null,null,null,"",null,null,null,null,null,null,null,null,{"$f":"IF(G$2034=1,\"\",IF(S2005=\"\",\"\",VLOOKUP(S2005,Tabelle!$I$5:$M$7,5,FALSE)))","v":""},{"$f":"IF(G$2034=1,\"\",IF(S2005=\"\",\"\",VLOOKUP(S2005,Tabelle!$I$5:$N$7,6,FALSE)))","v":""},null,null,null,null,null,null,null,null,null,{"$f":"IF(D2005=\"\",0,IF(D2005=D2004,COUNTIF(D$9:D2004,D2005)+1,1))","v":0},0,0]
["1998","-1900","-1900-0",null,null,null,null,null,null,null,"",null,null,null,null,null,null,null,null,{"$f":"IF(G$2034=1,\"\",IF(S2006=\"\",\"\",VLOOKUP(S2006,Tabelle!$I$5:$M$7,5,FALSE)))","v":""},{"$f":"IF(G$2034=1,\"\",IF(S2006=\"\",\"\",VLOOKUP(S2006,Tabelle!$I$5:$N$7,6,FALSE)))","v":""},null,null,null,null,null,null,null,null,null,{"$f":"IF(D2006=\"\",0,IF(D2006=D2005,COUNTIF(D$9:D2005,D2006)+1,1))","v":0},0,0]
["1999","-1900","-1900-0",null,null,null,null,null,null,null,"",null,null,null,null,null,null,null,null,{"$f":"IF(G$2034=1,\"\",IF(S2007=\"\",\"\",VLOOKUP(S2007,Tabelle!$I$5:$M$7,5,FALSE)))","v":""},{"$f":"IF(G$2034=1,\"\",IF(S2007=\"\",\"\",VLOOKUP(S2007,Tabelle!$I$5:$N$7,6,FALSE)))","v":""},null,null,null,null,null,null,null,null,null,{"$f":"IF(D2007=\"\",0,IF(D2007=D2006,COUNTIF(D$9:D2006,D2007)+1,1))","v":0},0,0]
["2000","-1900","-1900-0",null,null,null,null,null,null,null,"",null,null,null,null,null,null,null,null,{"$f":"IF(G$2034=1,\"\",IF(S2008=\"\",\"\",VLOOKUP(S2008,Tabelle!$I$5:$M$7,5,FALSE)))","v":""},{"$f":"IF(G$2034=1,\"\",IF(S2008=\"\",\"\",VLOOKUP(S2008,Tabelle!$I$5:$N$7,6,FALSE)))","v":""},null,null,null,null,null,null,null,null,null,{"$f":"IF(D2008=\"\",0,IF(D2008=D2007,COUNTIF(D$9:D2007,D2008)+1,1))","v":0},0,0]
[]
[]
[null,null,null,null,null,null,null,null,null,"Righe",{"$f":"SUBTOTAL(3,D9:D2008)","v":4},null,"Importo",null,{"$f":"IF(G2034=1,0,IF(ISERROR($O$2034),0,SUM(O9:O2008)))","v":601},null,"Subtotali come da selezione filtri"]
[]
[null,null,null,null,null,null,null,null,null,null,{"$f":"CONTRIBUENTE!G13","v":""},null,null,null,null,null,null,null,null,null,null,null,null,null,null,null,null,null,"Hai dei PROTOCOLLI BLOCCATI nelle date di un trimestre al momento non attivato.",null,null,null,"P. B."]
[null,null,null,{"$f":"CONCATENATE(CONTRIBUENTE!H27,\"   -   www.marcopiccoli.it\")","v":"F24 Elementi Identificativi 1.6 per Excel .xlsm   -   www.marcopiccoli.it"},null,null,null,null,null,null,{"$f":"IF(CONTRIBUENTE!J144=CONTRIBUENTE!K71,CONCATENATE(CONTRIBUENTE!F65,\"   -   \",\"P.I./C.F \",CONTRIBUENTE!K67),CONTRIBUENTE!J136)","v":"Sistema attivato dal 01/01 al 31/03. Modifica il trimestre dal foglio Presentazione."},null,null,null,null,null,null,null,null,null,null,null,null,null,null,null,null,null,"Modifica il trimestre dal foglio CONTRIBUENTE oppure richiedi il tuo codice di proprietà per l' attivazione illimitata.",null,null,null,{"$f":"COUNTIF(AG9:AG2008,AG2013)","v":0}]
[]
[]
[]
[]
[null,null,null,null,null,null,null,null,null,null,null,{"$f":"Tabelle!C5","v":"A.G.C.M."},{"$f":"Tabelle!H5","v":"G"},{"$f":"Tabelle!I5","v":"B1"}]
[null,null,null,null,null,null,null,null,null,null,null,{"$f":"Tabelle!C6","v":"AUTOVEICOLO"},{"$f":"Tabelle!H6","v":"A"},{"$f":"Tabelle!I6","v":"B2"}]
[null,null,null,null,null,null,null,null,null,null,null,{"$f":"Tabelle!C7","v":"Identificativo Registro"},{"$f":"Tabelle!H7","v":"F"},{"$f":"Tabelle!I7","v":"B3"}]
[null,null,null,null,null,null,null,null,null,null,null,{"$f":"Tabelle!C8","v":"INPDAP"},{"$f":"Tabelle!H8","v":"I"}]
[null,null,null,null,null,null,"1900-01-01","convalida START",null,null,null,{"$f":"Tabelle!C9","v":"MOTOVEICOLO"},{"$f":"Tabelle!H9","v":"M"}]
[null,null,null,null,null,null,"2999-12-31","convalida END",null,null,null,{"$f":"Tabelle!C10","v":"RIM./Regolarizz./Altro"},{"$f":"Tabelle!H10","v":"R"}]
[null,null,null,null,null,null,null,null,null,null,null,{"$f":"Tabelle!C11","v":"---- Inserisci"},{"$f":"Tabelle!H11","v":"."}]
[null,null,null,null,null,null,{"$f":"IF(J2034=1,MONTH(G2023),MONTH(CONTRIBUENTE!$T$13))","v":1},"convalida Protocollo START MESE",null,null,null,{"$f":"Tabelle!C12","v":"---- Inserisci"},{"$f":"Tabelle!H12","v":"."}]
[null,null,null,null,null,null,{"$f":"IF(J2034=1,MONTH(G2024),MONTH(CONTRIBUENTE!$U$13))","v":3},"convalida Protocollo END MESE",null,null,null,{"$f":"Tabelle!C13","v":"---- Inserisci"},{"$f":"Tabelle!H13","v":"."}]
[]
[null,null,null,null,null,null,null,null,null,"Protocolli",1,"X","compila",null,null,null,{"$f":"COUNTIF(V9:V2008,M2029)","v":2}]
[null,null,null,null,null,null,null,null,null,"disponibili",9999," "]
[]
[]
[null,null,null,null,null,null,"File scaduto",null,null,"Proprietà",null,"Codice integrità",null,null,"Integrità"]
[null,null,null,null,null,null,{"$f":"CONTRIBUENTE!$H$138","v":0},null,null,{"$f":"CONTRIBUENTE!E139","v":0},null,1,null,null,{"$f":"CONTRIBUENTE!K138","v":4}]

{"sheet":"F24 con Elementi Identificativi","index":2,"n_rows":74,"n_cols":46,"rows_kept":74,"cut":false,"hidden":false,"merged":[[46,32,46,35],[45,38,45,42],[46,38,46,42],[47,11,47,12],[44,9,44,10],[44,7,44,8],[44,11,44,12],[48,9,48,10],[41,7,41,8],[41,38,41,42],[42,38,42,42],[43,38,43,42],[44,38,44,42],[48,7,48,8],[43,27,43,30],[41,27,41,30],[44,27,44,30],[43,32,43,35],[42,9,42,10],[55,40,55,42],[70,11,70,16],[55,11,56,12],[55,13,56,13],[55,15,56,20],[55,21,56,27],[51,38,51,42],[54,31,54,38],[55,1,56,2],[55,3,56,4],[73,40,73,41],[70,38,70,39],[71,38,71,39],[72,11,72,13],[63,6,63,18],[69,4,69,9],[62,1,62,5],[69,20,69,24],[70,20,70,24],[25,2,25,3],[21,27,21,30],[48,38,48,42],[55,37,55,38],[31,32,31,35],[48,32,48,35],[45,32,45,35],[47,32,47,35],[69,11,69,16],[45,27,45,30],[47,27,47,30],[42,27,42,30],[41,32,41,35],[42,32,42,35],[47,38,47,42],[61,1,61,5],[24,2,24,3],[22,7,22,8],[23,2,23,3],[23,7,23,8],[22,5,22,6],[23,5,23,6],[24,7,24,8],[23,11,23,12],[14,33,14,44],[19,9,19,10],[21,5,21,6],[21,9,21,10],[21,11,21,12],[25,7,25,8],[24,38,24,42],[21,7,21,8],[22,9,22,10],[22,11,22,12],[23,9,23,10],[23,27,23,30],[24,27,24,30],[22,27,22,30],[16,36,16,37],[16,32,16,33],[25,32,25,35],[19,2,19,3],[19,6,19,7],[19,11,19,12],[14,30,14,31],[30,27,30,30],[28,27,28,30],[24,9,24,10],[24,11,24,12],[24,5,24,6],[25,5,25,6],[25,11,25,12],[26,2,26,3],[26,7,26,8],[26,5,26,6],[27,5,27,6],[27,9,27,10],[27,11,27,12],[19,4,19,5],[21,2,21,3],[16,26,16,27],[16,30,16,31],[22,2,22,3],[14,3,14,4],[14,12,14,28],[40,38,40,42],[39,32,39,35],[40,32,40,35],[38,38,38,42],[39,38,39,42],[34,38,34,42],[35,38,35,42],[36,38,36,42],[37,38,37,42],[36,32,36,35],[38,32,38,35],[31,38,31,42],[32,32,32,35],[37,32,37,35],[34,32,34,35],[35,32,35,35],[16,45,16,46],[22,38,22,42],[23,38,23,42],[26,38,26,42],[16,41,16,42],[16,43,16,44],[21,38,21,42],[25,38,25,42],[33,38,33,42],[28,38,28,42],[30,38,30,42],[26,32,26,35],[32,38,32,42],[29,38,29,42],[27,38,27,42],[22,32,22,35],[33,32,33,35],[29,32,29,35],[28,11,28,12],[30,7,30,8],[30,5,30,6],[30,11,30,12],[31,27,31,30],[35,27,35,30],[33,27,33,30],[34,27,34,30],[36,27,36,30],[40,9,40,10],[41,9,41,10],[40,5,40,6],[40,11,40,12],[35,11,35,12],[37,9,37,10],[37,27,37,30],[38,27,38,30],[36,7,36,8],[38,11,38,12],[38,9,38,10],[40,27,40,30],[35,9,35,10],[35,5,35,6],[74,4,74,9],[73,4,73,9],[70,4,70,9],[72,4,72,9],[71,4,71,9],[47,9,47,10],[45,9,45,10],[47,5,47,6],[45,5,45,6],[64,1,64,5],[65,1,65,5],[64,6,64,18],[55,6,56,6],[55,7,56,8],[65,6,65,18],[57,10,57,29],[55,14,56,14],[55,9,56,10],[46,27,46,30],[48,5,48,6],[27,2,27,3],[27,7,27,8],[32,27,32,30],[33,9,33,10],[36,5,36,6],[36,9,36,10],[37,5,37,6],[63,1,63,5],[28,9,28,10],[29,9,29,10],[28,2,28,3],[28,7,28,8],[28,5,28,6],[31,2,31,3],[31,7,31,8],[35,2,35,3],[35,7,35,8],[32,2,32,3],[32,7,32,8],[33,7,33,8],[32,5,32,6],[46,9,46,10],[48,2,48,3],[30,2,30,3],[29,2,29,3],[29,7,29,8],[31,9,31,10],[29,5,29,6],[31,5,31,6],[29,11,29,12],[30,9,30,10],[31,11,31,12],[34,9,34,10],[33,5,33,6],[32,9,32,10],[32,11,32,12],[33,11,33,12],[34,2,34,3],[34,7,34,8],[34,5,34,6],[34,11,34,12],[33,2,33,3],[1,45,1,46],[2,45,3,45],[12,45,12,46],[10,38,10,44],[12,24,12,40],[12,41,12,42],[5,45,5,46],[3,30,3,44],[5,30,5,40],[6,45,7,45],[5,41,5,44],[12,43,12,44],[8,26,8,27],[10,13,10,37],[26,9,26,10],[26,11,26,12],[38,7,38,8],[38,5,38,6],[38,2,38,3],[43,2,43,3],[43,11,43,12],[42,11,42,12],[46,2,46,3],[46,7,46,8],[46,5,46,6],[46,11,46,12],[42,7,42,8],[43,7,43,8],[39,9,39,10],[39,11,39,12],[43,9,43,10],[44,5,44,6],[45,11,45,12],[39,7,39,8],[45,2,45,3],[45,7,45,8],[44,2,44,3],[43,5,43,6],[42,2,42,3],[39,2,39,3],[39,5,39,6],[37,2,37,3],[37,7,37,8],[41,2,41,3],[40,2,40,3],[40,7,40,8],[41,5,41,6],[42,5,42,6],[55,45,56,45],[13,45,14,45],[62,6,62,18],[23,32,23,35],[24,32,24,35],[48,11,48,12],[47,2,47,3],[47,7,47,8],[25,9,25,10],[27,27,27,30],[48,27,48,30],[21,32,21,35],[44,32,44,35],[39,27,39,30],[41,11,41,12],[26,27,26,30],[25,27,25,30],[30,32,30,35],[27,32,27,35],[29,27,29,30],[28,32,28,35],[36,11,36,12],[37,11,37,12],[36,2,36,3]]}
[]
[null,null,null,null,null,null,null,null,null,null,null,null,null,null,null,null,null,null,null,null,null,null,null,null,null,null,null,null,null,null,null,null,null,null,null,null,null,null,null,null,null,null,null,null,null,"ANNO"]
[null,null,null,null,null,null,null,null,null,null,null,null,null,null,null,null,null,null,null,null,null,null,null,null,null,null,null,null,null,null,null,null,null,null,null,null,null,null,null,null,null,null,null,null,null,2024]
[null,null,null,null,null,null,null,null,null,null,null,null,null,null,null,null,null,null,null,null,null,null,null,null,null,null,null,null,null,null,{"$f":"VLOOKUP(VLOOKUP(AT7&\"-\"&AT3,'DOCUMENTI EMESSI'!B9:S2008,18,FALSE),Tabelle!I5:J7,2,FALSE)","v":"Nome Banca 1 / modifica sigla"}]
[]
[null,null,null,null,null,null,null,null,null,null,null,null,null,null,null,null,null,null,null,null,null,null,null,null,null,null,null,null,null,null,{"$f":"VLOOKUP(VLOOKUP(AT7&\"-\"&AT3,'DOCUMENTI EMESSI'!B9:S2008,18,FALSE),Tabelle!I5:K7,3,FALSE)","v":"Nome Agenzia 1"},null,null,null,null,null,null,null,null,null,null,{"$f":"VLOOKUP(VLOOKUP(AT7&\"-\"&AT3,'DOCUMENTI EMESSI'!B9:S2008,18,FALSE),Tabelle!I5:L7,4,FALSE)","v":"XX"},null,null,null,"Protocollo DOC."]
[null,null,null,null,null,null,null,null,null,null,null,null,null,null,null,null,null,null,null,null,null,null,null,null,null,null,null,null,null,null,null,null,null,null,null,null,null,null,null,null,null,null,null,null,null,1]
[]
[null,null,null,null,null,null,null,null,null,null,null,null,null,{"$f":"MID(CONTRIBUENTE!$E34,1,1)","v":"0"},{"$f":"MID(CONTRIBUENTE!$E34,2,1)","v":"1"},{"$f":"MID(CONTRIBUENTE!$E34,3,1)","v":"2"},{"$f":"MID(CONTRIBUENTE!$E34,4,1)","v":"3"},{"$f":"MID(CONTRIBUENTE!$E34,5,1)","v":"4"},{"$f":"MID(CONTRIBUENTE!$E34,6,1)","v":"5"},{"$f":"MID(CONTRIBUENTE!$E34,7,1)","v":"6"},{"$f":"MID(CONTRIBUENTE!$E34,8,1)","v":"7"},{"$f":"MID(CONTRIBUENTE!$E34,9,1)","v":"8"},{"$f":"MID(CONTRIBUENTE!$E34,10,1)","v":"9"},{"$f":"MID(CONTRIBUENTE!$E34,11,1)","v":"1"},{"$f":"MID(CONTRIBUENTE!$E34,12,1)","v":""},{"$f":"MID(CONTRIBUENTE!$E34,13,1)","v":""},{"$f":"MID(CONTRIBUENTE!$E34,14,1)","v":""},null,{"$f":"MID(CONTRIBUENTE!$E34,15,1)","v":""},{"$f":"MID(CONTRIBUENTE!$E34,16,1)","v":""}]
[]
[null,null,null,null,null,null,null,null,null,null,null,null,null,{"$f":"CONTRIBUENTE!E36","v":"Anagrafica CONTRIBUENTE"},null,null,null,null,null,null,null,null,null,null,null,null,null,null,null,null,null,null,null,null,null,null,null,null,{"$f":"CONTRIBUENTE!E38","v":"Nome CONTRIBUENTE"}]
[]
[null,null,null,null,null,null,null,null,null,null,null,null,null,{"$f":"MID(TEXT(CONTRIBUENTE!$J38,\"gg/mm/aaaa\"),1,1)","v":"0"},{"$f":"MID(TEXT(CONTRIBUENTE!$J38,\"gg/mm/aaaa\"),2,1)","v":"1"},{"$f":"MID(TEXT(CONTRIBUENTE!$J38,\"gg/mm/aaaa\"),4,1)","v":"0"},{"$f":"MID(TEXT(CONTRIBUENTE!$J38,\"gg/mm/aaaa\"),5,1)","v":"1"},{"$f":"MID(TEXT(CONTRIBUENTE!$J38,\"gg/mm/aaaa\"),7,1)","v":"2"},{"$f":"MID(TEXT(CONTRIBUENTE!$J38,\"gg/mm/aaaa\"),8,1)","v":"0"},{"$f":"MID(TEXT(CONTRIBUENTE!$J38,\"gg/mm/aaaa\"),9,1)","v":"0"},{"$f":"MID(TEXT(CONTRIBUENTE!$J38,\"gg/mm/aaaa\"),10,1)","v":"0"},null,{"$f":"VLOOKUP(CONTRIBUENTE!M38,CONTRIBUENTE!E119:F120,2,FALSE)","v":"M"},null,{"$f":"CONTRIBUENTE!E40","v":0},null,null,null,null,null,null,null,null,null,null,null,null,null,null,null,null,{"$f":"LEFT(CONTRIBUENTE!J40,1)","v":""},null,{"$f":"RIGHT(CONTRIBUENTE!J40,1)","v":""},null,"Alfanumerico"]
[null,null,null,null,null,null,null,null,null,null,null,null,null,null,null,null,null,null,null,null,null,null,null,null,null,null,null,null,null,null,null,null,null,null,null,null,null,null,null,null,null,null,null,null,null,{"$f":"VLOOKUP(AT7&\"-\"&AT3,'DOCUMENTI EMESSI'!B9:Q2008,16,FALSE)","v":"AB 000"}]
[null,null,null,null,null,null,null,null,null,null,null,null,{"$f":"CONTRIBUENTE!E43","v":0},null,null,null,null,null,null,null,null,null,null,null,null,null,null,null,null,{"$f":"LEFT(CONTRIBUENTE!J43,1)","v":""},{"$f":"RIGHT(CONTRIBUENTE!J43,1)","v":""},null,null,{"$f":"CONTRIBUENTE!E45","v":"…………….."}]
[]
[null,null,null,null,null,null,null,null,null,null,null,null,null,null,null,null,null,null,{"$f":"MID(CONTRIBUENTE!$E48,1,1)","v":""},{"$f":"MID(CONTRIBUENTE!$E48,2,1)","v":""},{"$f":"MID(CONTRIBUENTE!$E48,3,1)","v":""},{"$f":"MID(CONTRIBUENTE!$E48,4,1)","v":""},{"$f":"MID(CONTRIBUENTE!$E48,5,1)","v":""},{"$f":"MID(CONTRIBUENTE!$E48,6,1)","v":""},{"$f":"MID(CONTRIBUENTE!$E48,7,1)","v":""},{"$f":"MID(CONTRIBUENTE!$E48,8,1)","v":""},{"$f":"MID(CONTRIBUENTE!$E48,9,1)","v":""},null,{"$f":"MID(CONTRIBUENTE!$E48,10,1)","v":""},{"$f":"MID(CONTRIBUENTE!$E48,11,1)","v":""},{"$f":"MID(CONTRIBUENTE!$E48,12,1)","v":""},null,{"$f":"MID(CONTRIBUENTE!$E48,13,1)","v":""},null,{"$f":"MID(CONTRIBUENTE!$E48,14,1)","v":""},{"$f":"MID(CONTRIBUENTE!$E48,15,1)","v":""},{"$f":"MID(CONTRIBUENTE!$E48,16,1)","v":""},null,null,null,null,{"$f":"LEFT(CONTRIBUENTE!J48,1)","v":""},null,{"$f":"RIGHT(CONTRIBUENTE!J48)","v":""},null,{"$f":"IF(OR(L73=0,ISERROR(AO74)),'F24 con Elementi Identificativi'!L72,\"\")","v":""}]
[]
[]
[null,null,{"$f":"MID(VLOOKUP(AT7&\"-\"&AT3,'DOCUMENTI EMESSI'!B9:G2008,6,FALSE),1,1)","v":"0"},null,{"$f":"MID(VLOOKUP(AT7&\"-\"&AT3,'DOCUMENTI EMESSI'!B9:G2008,6,FALSE),2,1)","v":"0"},null,{"$f":"MID(VLOOKUP(AT7&\"-\"&AT3,'DOCUMENTI EMESSI'!B9:G2008,6,FALSE),3,1)","v":"0"},null,null,{"$f":"MID(VLOOKUP(AT7&\"-\"&AT3,'DOCUMENTI EMESSI'!B9:H2008,7,FALSE),1,1)","v":"0"},null,{"$f":"MID(VLOOKUP(AT7&\"-\"&AT3,'DOCUMENTI EMESSI'!B9:H2008,7,FALSE),2,1)","v":"0"},null,{"$f":"MID(VLOOKUP(AT7&\"-\"&AT3,'DOCUMENTI EMESSI'!B9:H2008,7,FALSE),3,1)","v":"0"},{"$f":"MID(VLOOKUP(AT7&\"-\"&AT3,'DOCUMENTI EMESSI'!B9:H2008,7,FALSE),4,1)","v":"0"},{"$f":"MID(VLOOKUP(AT7&\"-\"&AT3,'DOCUMENTI EMESSI'!B9:H2008,7,FALSE),5,1)","v":"0"},{"$f":"MID(VLOOKUP(AT7&\"-\"&AT3,'DOCUMENTI EMESSI'!B9:H2008,7,FALSE),5,1)","v":"0"},{"$f":"MID(VLOOKUP(AT7&\"-\"&AT3,'DOCUMENTI EMESSI'!B9:H2008,7,FALSE),7,1)","v":"0"},{"$f":"MID(VLOOKUP(AT7&\"-\"&AT3,'DOCUMENTI EMESSI'!B9:H2008,7,FALSE),8,1)","v":"0"},{"$f":"MID(VLOOKUP(AT7&\"-\"&AT3,'DOCUMENTI EMESSI'!B9:H2008,7,FALSE),9,1)","v":"0"},{"$f":"MID(VLOOKUP(AT7&\"-\"&AT3,'DOCUMENTI EMESSI'!B9:H2008,7,FALSE),10,1)","v":"0"},{"$f":"MID(VLOOKUP(AT7&\"-\"&AT3,'DOCUMENTI EMESSI'!B9:H2008,7,FALSE),11,1)","v":"0"}]
[null,null,null,null,null,null,null,null,null,null,null,null,null,null,null,null,null,null,null,null,null,null,null,null,null,null,null,null,null,null,null,null,null,null,null,null,null,null,null,null,null,null,null,null,null,"Note"]
[1,null,{"$f":"VLOOKUP($AT$7&\"-\"&AT$3&\"-\"&$A22,'DOCUMENTI EMESSI'!$C$9:$K$2008,9,FALSE)","v":"."},null,null,{"$f":"MID(VLOOKUP($AT$7&\"-\"&AT$3&\"-\"&$A22,'DOCUMENTI EMESSI'!$C$9:$L$2008,10,FALSE),1,1)","v":"0"},null,{"$f":"MID(VLOOKUP($AT$7&\"-\"&AT$3&\"-\"&$A22,'DOCUMENTI EMESSI'!$C$9:$L$2008,10,FALSE),2,1)","v":"0"},null,{"$f":"MID(VLOOKUP($AT$7&\"-\"&AT$3&\"-\"&$A22,'DOCUMENTI EMESSI'!$C$9:$L$2008,10,FALSE),3,1)","v":"0"},null,{"$f":"MID(VLOOKUP($AT$7&\"-\"&AT$3&\"-\"&$A22,'DOCUMENTI EMESSI'!$C$9:$L$2008,10,FALSE),4,1)","v":"0"},null,{"$f":"MID(VLOOKUP($AT$7&\"-\"&AT$3&\"-\"&$A22,'DOCUMENTI EMESSI'!$C$9:$L$2008,10,FALSE),5,1)","v":"0"},{"$f":"MID(VLOOKUP($AT$7&\"-\"&AT$3&\"-\"&$A22,'DOCUMENTI EMESSI'!$C$9:$L$2008,10,FALSE),6,1)","v":"0"},{"$f":"MID(VLOOKUP($AT$7&\"-\"&AT$3&\"-\"&$A22,'DOCUMENTI EMESSI'!$C$9:$L$2008,10,FALSE),7,1)","v":"0"},{"$f":"MID(VLOOKUP($AT$7&\"-\"&AT$3&\"-\"&$A22,'DOCUMENTI EMESSI'!$C$9:$L$2008,10,FALSE),8,1)","v":"0"},{"$f":"MID(VLOOKUP($AT$7&\"-\"&AT$3&\"-\"&$A22,'DOCUMENTI EMESSI'!$C$9:$L$2008,10,FALSE),9,1)","v":"0"},{"$f":"MID(VLOOKUP($AT$7&\"-\"&AT$3&\"-\"&$A22,'DOCUMENTI EMESSI'!$C$9:$L$2008,10,FALSE),10,1)","v":"0"},{"$f":"MID(VLOOKUP($AT$7&\"-\"&AT$3&\"-\"&$A22,'DOCUMENTI EMESSI'!$C$9:$L$2008,10,FALSE),11,1)","v":"0"},{"$f":"MID(VLOOKUP($AT$7&\"-\"&AT$3&\"-\"&$A22,'DOCUMENTI EMESSI'!$C$9:$L$2008,10,FALSE),12,1)","v":"0"},{"$f":"MID(VLOOKUP($AT$7&\"-\"&AT$3&\"-\"&$A22,'DOCUMENTI EMESSI'!$C$9:$L$2008,10,FALSE),13,1)","v":"0"},{"$f":"MID(VLOOKUP($AT$7&\"-\"&AT$3&\"-\"&$A22,'DOCUMENTI EMESSI'!$C$9:$L$2008,10,FALSE),14,1)","v":"0"},{"$f":"MID(VLOOKUP($AT$7&\"-\"&AT$3&\"-\"&$A22,'DOCUMENTI EMESSI'!$C$9:$L$2008,10,FALSE),15,1)","v":"0"},{"$f":"MID(VLOOKUP($AT$7&\"-\"&AT$3&\"-\"&$A22,'DOCUMENTI EMESSI'!$C$9:$L$2008,10,FALSE),16,1)","v":"0"},{"$f":"MID(VLOOKUP($AT$7&\"-\"&AT$3&\"-\"&$A22,'DOCUMENTI EMESSI'!$C$9:$L$2008,10,FALSE),17,1)","v":"0"},null,{"$f":"VLOOKUP($AT$7&\"-\"&AT$3&\"-\"&$A22,'DOCUMENTI EMESSI'!$C$9:$M$2008,11,FALSE)","v":"0000"},null,null,null,null,{"$f":"VLOOKUP($AT$7&\"-\"&AT$3&\"-\"&$A22,'DOCUMENTI EMESSI'!$C$9:$N$2008,12,FALSE)","v":"2020"},null,null,null,null,null,{"$f":"FLOOR(VLOOKUP($AT$7&\"-\"&AT$3&\"-\"&$A22,'DOCUMENTI EMESSI'!$C$9:$O$2008,13,FALSE),1)","v":1},null,null,null,null,{"$f":"LEFT(RIGHT(TEXT(VLOOKUP($AT$7&\"-\"&AT$3&\"-\"&$A22,'DOCUMENTI EMESSI'!$C$9:$O$2008,13,FALSE),\"0,00\"),2),1)","v":"0"},{"$f":"RIGHT(TEXT(VLOOKUP($AT$7&\"-\"&AT$3&\"-\"&$A22,'DOCUMENTI EMESSI'!$C$9:$O$2008,13,FALSE),\"0,00\"),1)","v":"0"},{"$f":"VLOOKUP($AT$7&\"-\"&$AT$3&\"-\"&A22,'DOCUMENTI EMESSI'!$C$9:$AC$2008,27,FALSE)","v":"Testo Libero"}]
[{"$f":"A22+1","v":2},null,{"$f":"VLOOKUP($AT$7&\"-\"&AT$3&\"-\"&$A23,'DOCUMENTI EMESSI'!$C$9:$K$2008,9,FALSE)","v":{"$error":"#N/A"}},null,null,{"$f":"MID(VLOOKUP($AT$7&\"-\"&AT$3&\"-\"&$A23,'DOCUMENTI EMESSI'!$C$9:$L$2008,10,FALSE),1,1)","v":{"$error":"#N/A"}},null,{"$f":"MID(VLOOKUP($AT$7&\"-\"&AT$3&\"-\"&$A23,'DOCUMENTI EMESSI'!$C$9:$L$2008,10,FALSE),2,1)","v":{"$error":"#N/A"}},null,{"$f":"MID(VLOOKUP($AT$7&\"-\"&AT$3&\"-\"&$A23,'DOCUMENTI EMESSI'!$C$9:$L$2008,10,FALSE),3,1)","v":{"$error":"#N/A"}},null,{"$f":"MID(VLOOKUP($AT$7&\"-\"&AT$3&\"-\"&$A23,'DOCUMENTI EMESSI'!$C$9:$L$2008,10,FALSE),4,1)","v":{"$error":"#N/A"}},null,{"$f":"MID(VLOOKUP($AT$7&\"-\"&AT$3&\"-\"&$A23,'DOCUMENTI EMESSI'!$C$9:$L$2008,10,FALSE),5,1)","v":{"$error":"#N/A"}},{"$f":"MID(VLOOKUP($AT$7&\"-\"&AT$3&\"-\"&$A23,'DOCUMENTI EMESSI'!$C$9:$L$2008,10,FALSE),6,1)","v":{"$error":"#N/A"}},{"$f":"MID(VLOOKUP($AT$7&\"-\"&AT$3&\"-\"&$A23,'DOCUMENTI EMESSI'!$C$9:$L$2008,10,FALSE),7,1)","v":{"$error":"#N/A"}},{"$f":"MID(VLOOKUP($AT$7&\"-\"&AT$3&\"-\"&$A23,'DOCUMENTI EMESSI'!$C$9:$L$2008,10,FALSE),8,1)","v":{"$error":"#N/A"}},{"$f":"MID(VLOOKUP($AT$7&\"-\"&AT$3&\"-\"&$A23,'DOCUMENTI EMESSI'!$C$9:$L$2008,10,FALSE),9,1)","v":{"$error":"#N/A"}},{"$f":"MID(VLOOKUP($AT$7&\"-\"&AT$3&\"-\"&$A23,'DOCUMENTI EMESSI'!$C$9:$L$2008,10,FALSE),10,1)","v":{"$error":"#N/A"}},{"$f":"MID(VLOOKUP($AT$7&\"-\"&AT$3&\"-\"&$A23,'DOCUMENTI EMESSI'!$C$9:$L$2008,10,FALSE),11,1)","v":{"$error":"#N/A"}},{"$f":"MID(VLOOKUP($AT$7&\"-\"&AT$3&\"-\"&$A23,'DOCUMENTI EMESSI'!$C$9:$L$2008,10,FALSE),12,1)","v":{"$error":"#N/A"}},{"$f":"MID(VLOOKUP($AT$7&\"-\"&AT$3&\"-\"&$A23,'DOCUMENTI EMESSI'!$C$9:$L$2008,10,FALSE),13,1)","v":{"$error":"#N/A"}},{"$f":"MID(VLOOKUP($AT$7&\"-\"&AT$3&\"-\"&$A23,'DOCUMENTI EMESSI'!$C$9:$L$2008,10,FALSE),14,1)","v":{"$error":"#N/A"}},{"$f":"MID(VLOOKUP($AT$7&\"-\"&AT$3&\"-\"&$A23,'DOCUMENTI EMESSI'!$C$9:$L$2008,10,FALSE),15,1)","v":{"$error":"#N/A"}},{"$f":"MID(VLOOKUP($AT$7&\"-\"&AT$3&\"-\"&$A23,'DOCUMENTI EMESSI'!$C$9:$L$2008,10,FALSE),16,1)","v":{"$error":"#N/A"}},{"$f":"MID(VLOOKUP($AT$7&\"-\"&AT$3&\"-\"&$A23,'DOCUMENTI EMESSI'!$C$9:$L$2008,10,FALSE),17,1)","v":{"$error":"#N/A"}},null,{"$f":"VLOOKUP($AT$7&\"-\"&AT$3&\"-\"&$A23,'DOCUMENTI EMESSI'!$C$9:$M$2008,11,FALSE)","v":{"$error":"#N/A"}},null,null,null,null,{"$f":"VLOOKUP($AT$7&\"-\"&AT$3&\"-\"&$A23,'DOCUMENTI EMESSI'!$C$9:$N$2008,12,FALSE)","v":{"$error":"#N/A"}},null,null,null,null,null,{"$f":"FLOOR(VLOOKUP($AT$7&\"-\"&AT$3&\"-\"&$A23,'DOCUMENTI EMESSI'!$C$9:$O$2008,13,FALSE),1)","v":{"$error":"#N/A"}},null,null,null,null,{"$f":"LEFT(RIGHT(TEXT(VLOOKUP($AT$7&\"-\"&AT$3&\"-\"&$A23,'DOCUMENTI EMESSI'!$C$9:$O$2008,13,FALSE),\"0,00\"),2),1)","v":{"$error":"#N/A"}},{"$f":"RIGHT(TEXT(VLOOKUP($AT$7&\"-\"&AT$3&\"-\"&$A23,'DOCUMENTI EMESSI'!$C$9:$O$2008,13,FALSE),\"0,00\"),1)","v":{"$error":"#N/A"}},{"$f":"VLOOKUP($AT$7&\"-\"&$AT$3&\"-\"&A23,'DOCUMENTI EMESSI'!$C$9:$AC$2008,27,FALSE)","v":{"$error":"#N/A"}}]
[{"$f":"A23+1","v":3},null,{"$f":"VLOOKUP($AT$7&\"-\"&AT$3&\"-\"&$A24,'DOCUMENTI EMESSI'!$C$9:$K$2008,9,FALSE)","v":{"$error":"#N/A"}},null,null,{"$f":"MID(VLOOKUP($AT$7&\"-\"&AT$3&\"-\"&$A24,'DOCUMENTI EMESSI'!$C$9:$L$2008,10,FALSE),1,1)","v":{"$error":"#N/A"}},null,{"$f":"MID(VLOOKUP($AT$7&\"-\"&AT$3&\"-\"&$A24,'DOCUMENTI EMESSI'!$C$9:$L$2008,10,FALSE),2,1)","v":{"$error":"#N/A"}},null,{"$f":"MID(VLOOKUP($AT$7&\"-\"&AT$3&\"-\"&$A24,'DOCUMENTI EMESSI'!$C$9:$L$2008,10,FALSE),3,1)","v":{"$error":"#N/A"}},null,{"$f":"MID(VLOOKUP($AT$7&\"-\"&AT$3&\"-\"&$A24,'DOCUMENTI EMESSI'!$C$9:$L$2008,10,FALSE),4,1)","v":{"$error":"#N/A"}},null,{"$f":"MID(VLOOKUP($AT$7&\"-\"&AT$3&\"-\"&$A24,'DOCUMENTI EMESSI'!$C$9:$L$2008,10,FALSE),5,1)","v":{"$error":"#N/A"}},{"$f":"MID(VLOOKUP($AT$7&\"-\"&AT$3&\"-\"&$A24,'DOCUMENTI EMESSI'!$C$9:$L$2008,10,FALSE),6,1)","v":{"$error":"#N/A"}},{"$f":"MID(VLOOKUP($AT$7&\"-\"&AT$3&\"-\"&$A24,'DOCUMENTI EMESSI'!$C$9:$L$2008,10,FALSE),7,1)","v":{"$error":"#N/A"}},{"$f":"MID(VLOOKUP($AT$7&\"-\"&AT$3&\"-\"&$A24,'DOCUMENTI EMESSI'!$C$9:$L$2008,10,FALSE),8,1)","v":{"$error":"#N/A"}},{"$f":"MID(VLOOKUP($AT$7&\"-\"&AT$3&\"-\"&$A24,'DOCUMENTI EMESSI'!$C$9:$L$2008,10,FALSE),9,1)","v":{"$error":"#N/A"}},{"$f":"MID(VLOOKUP($AT$7&\"-\"&AT$3&\"-\"&$A24,'DOCUMENTI EMESSI'!$C$9:$L$2008,10,FALSE),10,1)","v":{"$error":"#N/A"}},{"$f":"MID(VLOOKUP($AT$7&\"-\"&AT$3&\"-\"&$A24,'DOCUMENTI EMESSI'!$C$9:$L$2008,10,FALSE),11,1)","v":{"$error":"#N/A"}},{"$f":"MID(VLOOKUP($AT$7&\"-\"&AT$3&\"-\"&$A24,'DOCUMENTI EMESSI'!$C$9:$L$2008,10,FALSE),12,1)","v":{"$error":"#N/A"}},{"$f":"MID(VLOOKUP($AT$7&\"-\"&AT$3&\"-\"&$A24,'DOCUMENTI EMESSI'!$C$9:$L$2008,10,FALSE),13,1)","v":{"$error":"#N/A"}},{"$f":"MID(VLOOKUP($AT$7&\"-\"&AT$3&\"-\"&$A24,'DOCUMENTI EMESSI'!$C$9:$L$2008,10,FALSE),14,1)","v":{"$error":"#N/A"}},{"$f":"MID(VLOOKUP($AT$7&\"-\"&AT$3&\"-\"&$A24,'DOCUMENTI EMESSI'!$C$9:$L$2008,10,FALSE),15,1)","v":{"$error":"#N/A"}},{"$f":"MID(VLOOKUP($AT$7&\"-\"&AT$3&\"-\"&$A24,'DOCUMENTI EMESSI'!$C$9:$L$2008,10,FALSE),16,1)","v":{"$error":"#N/A"}},{"$f":"MID(VLOOKUP($AT$7&\"-\"&AT$3&\"-\"&$A24,'DOCUMENTI EMESSI'!$C$9:$L$2008,10,FALSE),17,1)","v":{"$error":"#N/A"}},null,{"$f":"VLOOKUP($AT$7&\"-\"&AT$3&\"-\"&$A24,'DOCUMENTI EMESSI'!$C$9:$M$2008,11,FALSE)","v":{"$error":"#N/A"}},null,null,null,{"$f":"FLOOR('DOCUMENTI EMESSI'!N9,1)","v":2020},{"$f":"VLOOKUP($AT$7&\"-\"&AT$3&\"-\"&$A24,'DOCUMENTI EMESSI'!$C$9:$N$2008,12,FALSE)","v":{"$error":"#N/A"}},null,null,null,null,null,{"$f":"FLOOR(VLOOKUP($AT$7&\"-\"&AT$3&\"-\"&$A24,'DOCUMENTI EMESSI'!$C$9:$O$2008,13,FALSE),1)","v":{"$error":"#N/A"}},null,null,null,null,{"$f":"LEFT(RIGHT(TEXT(VLOOKUP($AT$7&\"-\"&AT$3&\"-\"&$A24,'DOCUMENTI EMESSI'!$C$9:$O$2008,13,FALSE),\"0,00\"),2),1)","v":{"$error":"#N/A"}},{"$f":"RIGHT(TEXT(VLOOKUP($AT$7&\"-\"&AT$3&\"-\"&$A24,'DOCUMENTI EMESSI'!$C$9:$O$2008,13,FALSE),\"0,00\"),1)","v":{"$error":"#N/A"}},{"$f":"VLOOKUP($AT$7&\"-\"&$AT$3&\"-\"&A24,'DOCUMENTI EMESSI'!$C$9:$AC$2008,27,FALSE)","v":{"$error":"#N/A"}}]
[4,null,{"$f":"VLOOKUP($AT$7&\"-\"&AT$3&\"-\"&$A25,'DOCUMENTI EMESSI'!$C$9:$K$2008,9,FALSE)","v":{"$error":"#N/A"}},null,null,{"$f":"MID(VLOOKUP($AT$7&\"-\"&AT$3&\"-\"&$A25,'DOCUMENTI EMESSI'!$C$9:$L$2008,10,FALSE),1,1)","v":{"$error":"#N/A"}},null,{"$f":"MID(VLOOKUP($AT$7&\"-\"&AT$3&\"-\"&$A25,'DOCUMENTI EMESSI'!$C$9:$L$2008,10,FALSE),2,1)","v":{"$error":"#N/A"}},null,{"$f":"MID(VLOOKUP($AT$7&\"-\"&AT$3&\"-\"&$A25,'DOCUMENTI EMESSI'!$C$9:$L$2008,10,FALSE),3,1)","v":{"$error":"#N/A"}},null,{"$f":"MID(VLOOKUP($AT$7&\"-\"&AT$3&\"-\"&$A25,'DOCUMENTI EMESSI'!$C$9:$L$2008,10,FALSE),4,1)","v":{"$error":"#N/A"}},null,{"$f":"MID(VLOOKUP($AT$7&\"-\"&AT$3&\"-\"&$A25,'DOCUMENTI EMESSI'!$C$9:$L$2008,10,FALSE),5,1)","v":{"$error":"#N/A"}},{"$f":"MID(VLOOKUP($AT$7&\"-\"&AT$3&\"-\"&$A25,'DOCUMENTI EMESSI'!$C$9:$L$2008,10,FALSE),6,1)","v":{"$error":"#N/A"}},{"$f":"MID(VLOOKUP($AT$7&\"-\"&AT$3&\"-\"&$A25,'DOCUMENTI EMESSI'!$C$9:$L$2008,10,FALSE),7,1)","v":{"$error":"#N/A"}},{"$f":"MID(VLOOKUP($AT$7&\"-\"&AT$3&\"-\"&$A25,'DOCUMENTI EMESSI'!$C$9:$L$2008,10,FALSE),8,1)","v":{"$error":"#N/A"}},{"$f":"MID(VLOOKUP($AT$7&\"-\"&AT$3&\"-\"&$A25,'DOCUMENTI EMESSI'!$C$9:$L$2008,10,FALSE),9,1)","v":{"$error":"#N/A"}},{"$f":"MID(VLOOKUP($AT$7&\"-\"&AT$3&\"-\"&$A25,'DOCUMENTI EMESSI'!$C$9:$L$2008,10,FALSE),10,1)","v":{"$error":"#N/A"}},{"$f":"MID(VLOOKUP($AT$7&\"-\"&AT$3&\"-\"&$A25,'DOCUMENTI EMESSI'!$C$9:$L$2008,10,FALSE),11,1)","v":{"$error":"#N/A"}},{"$f":"MID(VLOOKUP($AT$7&\"-\"&AT$3&\"-\"&$A25,'DOCUMENTI EMESSI'!$C$9:$L$2008,10,FALSE),12,1)","v":{"$error":"#N/A"}},{"$f":"MID(VLOOKUP($AT$7&\"-\"&AT$3&\"-\"&$A25,'DOCUMENTI EMESSI'!$C$9:$L$2008,10,FALSE),13,1)","v":{"$error":"#N/A"}},{"$f":"MID(VLOOKUP($AT$7&\"-\"&AT$3&\"-\"&$A25,'DOCUMENTI EMESSI'!$C$9:$L$2008,10,FALSE),14,1)","v":{"$error":"#N/A"}},{"$f":"MID(VLOOKUP($AT$7&\"-\"&AT$3&\"-\"&$A25,'DOCUMENTI EMESSI'!$C$9:$L$2008,10,FALSE),15,1)","v":{"$error":"#N/A"}},{"$f":"MID(VLOOKUP($AT$7&\"-\"&AT$3&\"-\"&$A25,'DOCUMENTI EMESSI'!$C$9:$L$2008,10,FALSE),16,1)","v":{"$error":"#N/A"}},{"$f":"MID(VLOOKUP($AT$7&\"-\"&AT$3&\"-\"&$A25,'DOCUMENTI EMESSI'!$C$9:$L$2008,10,FALSE),17,1)","v":{"$error":"#N/A"}},null,{"$f":"VLOOKUP($AT$7&\"-\"&AT$3&\"-\"&$A25,'DOCUMENTI EMESSI'!$C$9:$M$2008,11,FALSE)","v":{"$error":"#N/A"}},null,null,null,{"$f":"FLOOR('DOCUMENTI EMESSI'!N10,1)","v":2020},{"$f":"VLOOKUP($AT$7&\"-\"&AT$3&\"-\"&$A25,'DOCUMENTI EMESSI'!$C$9:$N$2008,12,FALSE)","v":{"$error":"#N/A"}},null,null,null,null,null,{"$f":"FLOOR(VLOOKUP($AT$7&\"-\"&AT$3&\"-\"&$A25,'DOCUMENTI EMESSI'!$C$9:$O$2008,13,FALSE),1)","v":{"$error":"#N/A"}},null,null,null,null,{"$f":"LEFT(RIGHT(TEXT(VLOOKUP($AT$7&\"-\"&AT$3&\"-\"&$A25,'DOCUMENTI EMESSI'!$C$9:$O$2008,13,FALSE),\"0,00\"),2),1)","v":{"$error":"#N/A"}},{"$f":"RIGHT(TEXT(VLOOKUP($AT$7&\"-\"&AT$3&\"-\"&$A25,'DOCUMENTI EMESSI'!$C$9:$O$2008,13,FALSE),\"0,00\"),1)","v":{"$error":"#N/A"}},{"$f":"VLOOKUP($AT$7&\"-\"&$AT$3&\"-\"&A25,'DOCUMENTI EMESSI'!$C$9:$AC$2008,27,FALSE)","v":{"$error":"#N/A"}}]
[5,null,{"$f":"VLOOKUP($AT$7&\"-\"&AT$3&\"-\"&$A26,'DOCUMENTI EMESSI'!$C$9:$K$2008,9,FALSE)","v":{"$error":"#N/A"}},null,null,{"$f":"MID(VLOOKUP($AT$7&\"-\"&AT$3&\"-\"&$A26,'DOCUMENTI EMESSI'!$C$9:$L$2008,10,FALSE),1,1)","v":{"$error":"#N/A"}},null,{"$f":"MID(VLOOKUP($AT$7&\"-\"&AT$3&\"-\"&$A26,'DOCUMENTI EMESSI'!$C$9:$L$2008,10,FALSE),2,1)","v":{"$error":"#N/A"}},null,{"$f":"MID(VLOOKUP($AT$7&\"-\"&AT$3&\"-\"&$A26,'DOCUMENTI EMESSI'!$C$9:$L$2008,10,FALSE),3,1)","v":{"$error":"#N/A"}},null,{"$f":"MID(VLOOKUP($AT$7&\"-\"&AT$3&\"-\"&$A26,'DOCUMENTI EMESSI'!$C$9:$L$2008,10,FALSE),4,1)","v":{"$error":"#N/A"}},null,{"$f":"MID(VLOOKUP($AT$7&\"-\"&AT$3&\"-\"&$A26,'DOCUMENTI EMESSI'!$C$9:$L$2008,10,FALSE),5,1)","v":{"$error":"#N/A"}},{"$f":"MID(VLOOKUP($AT$7&\"-\"&AT$3&\"-\"&$A26,'DOCUMENTI EMESSI'!$C$9:$L$2008,10,FALSE),6,1)","v":{"$error":"#N/A"}},{"$f":"MID(VLOOKUP($AT$7&\"-\"&AT$3&\"-\"&$A26,'DOCUMENTI EMESSI'!$C$9:$L$2008,10,FALSE),7,1)","v":{"$error":"#N/A"}},{"$f":"MID(VLOOKUP($AT$7&\"-\"&AT$3&\"-\"&$A26,'DOCUMENTI EMESSI'!$C$9:$L$2008,10,FALSE),8,1)","v":{"$error":"#N/A"}},{"$f":"MID(VLOOKUP($AT$7&\"-\"&AT$3&\"-\"&$A26,'DOCUMENTI EMESSI'!$C$9:$L$2008,10,FALSE),9,1)","v":{"$error":"#N/A"}},{"$f":"MID(VLOOKUP($AT$7&\"-\"&AT$3&\"-\"&$A26,'DOCUMENTI EMESSI'!$C$9:$L$2008,10,FALSE),10,1)","v":{"$error":"#N/A"}},{"$f":"MID(VLOOKUP($AT$7&\"-\"&AT$3&\"-\"&$A26,'DOCUMENTI EMESSI'!$C$9:$L$2008,10,FALSE),11,1)","v":{"$error":"#N/A"}},{"$f":"MID(VLOOKUP($AT$7&\"-\"&AT$3&\"-\"&$A26,'DOCUMENTI EMESSI'!$C$9:$L$2008,10,FALSE),12,1)","v":{"$error":"#N/A"}},{"$f":"MID(VLOOKUP($AT$7&\"-\"&AT$3&\"-\"&$A26,'DOCUMENTI EMESSI'!$C$9:$L$2008,10,FALSE),13,1)","v":{"$error":"#N/A"}},{"$f":"MID(VLOOKUP($AT$7&\"-\"&AT$3&\"-\"&$A26,'DOCUMENTI EMESSI'!$C$9:$L$2008,10,FALSE),14,1)","v":{"$error":"#N/A"}},{"$f":"MID(VLOOKUP($AT$7&\"-\"&AT$3&\"-\"&$A26,'DOCUMENTI EMESSI'!$C$9:$L$2008,10,FALSE),15,1)","v":{"$error":"#N/A"}},{"$f":"MID(VLOOKUP($AT$7&\"-\"&AT$3&\"-\"&$A26,'DOCUMENTI EMESSI'!$C$9:$L$2008,10,FALSE),16,1)","v":{"$error":"#N/A"}},{"$f":"MID(VLOOKUP($AT$7&\"-\"&AT$3&\"-\"&$A26,'DOCUMENTI EMESSI'!$C$9:$L$2008,10,FALSE),17,1)","v":{"$error":"#N/A"}},null,{"$f":"VLOOKUP($AT$7&\"-\"&AT$3&\"-\"&$A26,'DOCUMENTI EMESSI'!$C$9:$M$2008,11,FALSE)","v":{"$error":"#N/A"}},null,null,null,{"$f":"FLOOR('DOCUMENTI EMESSI'!N11,1)","v":2020},{"$f":"VLOOKUP($AT$7&\"-\"&AT$3&\"-\"&$A26,'DOCUMENTI EMESSI'!$C$9:$N$2008,12,FALSE)","v":{"$error":"#N/A"}},null,null,null,null,null,{"$f":"FLOOR(VLOOKUP($AT$7&\"-\"&AT$3&\"-\"&$A26,'DOCUMENTI EMESSI'!$C$9:$O$2008,13,FALSE),1)","v":{"$error":"#N/A"}},null,null,null,null,{"$f":"LEFT(RIGHT(TEXT(VLOOKUP($AT$7&\"-\"&AT$3&\"-\"&$A26,'DOCUMENTI EMESSI'!$C$9:$O$2008,13,FALSE),\"0,00\"),2),1)","v":{"$error":"#N/A"}},{"$f":"RIGHT(TEXT(VLOOKUP($AT$7&\"-\"&AT$3&\"-\"&$A26,'DOCUMENTI EMESSI'!$C$9:$O$2008,13,FALSE),\"0,00\"),1)","v":{"$error":"#N/A"}},{"$f":"VLOOKUP($AT$7&\"-\"&$AT$3&\"-\"&A26,'DOCUMENTI EMESSI'!$C$9:$AC$2008,27,FALSE)","v":{"$error":"#N/A"}}]
[6,null,{"$f":"VLOOKUP($AT$7&\"-\"&AT$3&\"-\"&$A27,'DOCUMENTI EMESSI'!$C$9:$K$2008,9,FALSE)","v":{"$error":"#N/A"}},null,null,{"$f":"MID(VLOOKUP($AT$7&\"-\"&AT$3&\"-\"&$A27,'DOCUMENTI EMESSI'!$C$9:$L$2008,10,FALSE),1,1)","v":{"$error":"#N/A"}},null,{"$f":"MID(VLOOKUP($AT$7&\"-\"&AT$3&\"-\"&$A27,'DOCUMENTI EMESSI'!$C$9:$L$2008,10,FALSE),2,1)","v":{"$error":"#N/A"}},null,{"$f":"MID(VLOOKUP($AT$7&\"-\"&AT$3&\"-\"&$A27,'DOCUMENTI EMESSI'!$C$9:$L$2008,10,FALSE),3,1)","v":{"$error":"#N/A"}},null,{"$f":"MID(VLOOKUP($AT$7&\"-\"&AT$3&\"-\"&$A27,'DOCUMENTI EMESSI'!$C$9:$L$2008,10,FALSE),4,1)","v":{"$error":"#N/A"}},null,{"$f":"MID(VLOOKUP($AT$7&\"-\"&AT$3&\"-\"&$A27,'DOCUMENTI EMESSI'!$C$9:$L$2008,10,FALSE),5,1)","v":{"$error":"#N/A"}},{"$f":"MID(VLOOKUP($AT$7&\"-\"&AT$3&\"-\"&$A27,'DOCUMENTI EMESSI'!$C$9:$L$2008,10,FALSE),6,1)","v":{"$error":"#N/A"}},{"$f":"MID(VLOOKUP($AT$7&\"-\"&AT$3&\"-\"&$A27,'DOCUMENTI EMESSI'!$C$9:$L$2008,10,FALSE),7,1)","v":{"$error":"#N/A"}},{"$f":"MID(VLOOKUP($AT$7&\"-\"&AT$3&\"-\"&$A27,'DOCUMENTI EMESSI'!$C$9:$L$2008,10,FALSE),8,1)","v":{"$error":"#N/A"}},{"$f":"MID(VLOOKUP($AT$7&\"-\"&AT$3&\"-\"&$A27,'DOCUMENTI EMESSI'!$C$9:$L$2008,10,FALSE),9,1)","v":{"$error":"#N/A"}},{"$f":"MID(VLOOKUP($AT$7&\"-\"&AT$3&\"-\"&$A27,'DOCUMENTI EMESSI'!$C$9:$L$2008,10,FALSE),10,1)","v":{"$error":"#N/A"}},{"$f":"MID(VLOOKUP($AT$7&\"-\"&AT$3&\"-\"&$A27,'DOCUMENTI EMESSI'!$C$9:$L$2008,10,FALSE),11,1)","v":{"$error":"#N/A"}},{"$f":"MID(VLOOKUP($AT$7&\"-\"&AT$3&\"-\"&$A27,'DOCUMENTI EMESSI'!$C$9:$L$2008,10,FALSE),12,1)","v":{"$error":"#N/A"}},{"$f":"MID(VLOOKUP($AT$7&\"-\"&AT$3&\"-\"&$A27,'DOCUMENTI EMESSI'!$C$9:$L$2008,10,FALSE),13,1)","v":{"$error":"#N/A"}},{"$f":"MID(VLOOKUP($AT$7&\"-\"&AT$3&\"-\"&$A27,'DOCUMENTI EMESSI'!$C$9:$L$2008,10,FALSE),14,1)","v":{"$error":"#N/A"}},{"$f":"MID(VLOOKUP($AT$7&\"-\"&AT$3&\"-\"&$A27,'DOCUMENTI EMESSI'!$C$9:$L$2008,10,FALSE),15,1)","v":{"$error":"#N/A"}},{"$f":"MID(VLOOKUP($AT$7&\"-\"&AT$3&\"-\"&$A27,'DOCUMENTI EMESSI'!$C$9:$L$2008,10,FALSE),16,1)","v":{"$error":"#N/A"}},{"$f":"MID(VLOOKUP($AT$7&\"-\"&AT$3&\"-\"&$A27,'DOCUMENTI EMESSI'!$C$9:$L$2008,10,FALSE),17,1)","v":{"$error":"#N/A"}},null,{"$f":"VLOOKUP($AT$7&\"-\"&AT$3&\"-\"&$A27,'DOCUMENTI EMESSI'!$C$9:$M$2008,11,FALSE)","v":{"$error":"#N/A"}},null,null,null,{"$f":"FLOOR('DOCUMENTI EMESSI'!N12,1)","v":2020},{"$f":"VLOOKUP($AT$7&\"-\"&AT$3&\"-\"&$A27,'DOCUMENTI EMESSI'!$C$9:$N$2008,12,FALSE)","v":{"$error":"#N/A"}},null,null,null,null,null,{"$f":"FLOOR(VLOOKUP($AT$7&\"-\"&AT$3&\"-\"&$A27,'DOCUMENTI EMESSI'!$C$9:$O$2008,13,FALSE),1)","v":{"$error":"#N/A"}},null,null,null,null,{"$f":"LEFT(RIGHT(TEXT(VLOOKUP($AT$7&\"-\"&AT$3&\"-\"&$A27,'DOCUMENTI EMESSI'!$C$9:$O$2008,13,FALSE),\"0,00\"),2),1)","v":{"$error":"#N/A"}},{"$f":"RIGHT(TEXT(VLOOKUP($AT$7&\"-\"&AT$3&\"-\"&$A27,'DOCUMENTI EMESSI'!$C$9:$O$2008,13,FALSE),\"0,00\"),1)","v":{"$error":"#N/A"}},{"$f":"VLOOKUP($AT$7&\"-\"&$AT$3&\"-\"&A27,'DOCUMENTI EMESSI'!$C$9:$AC$2008,27,FALSE)","v":{"$error":"#N/A"}}]
[7,null,{"$f":"VLOOKUP($AT$7&\"-\"&AT$3&\"-\"&$A28,'DOCUMENTI EMESSI'!$C$9:$K$2008,9,FALSE)","v":{"$error":"#N/A"}},null,null,{"$f":"MID(VLOOKUP($AT$7&\"-\"&AT$3&\"-\"&$A28,'DOCUMENTI EMESSI'!$C$9:$L$2008,10,FALSE),1,1)","v":{"$error":"#N/A"}},null,{"$f":"MID(VLOOKUP($AT$7&\"-\"&AT$3&\"-\"&$A28,'DOCUMENTI EMESSI'!$C$9:$L$2008,10,FALSE),2,1)","v":{"$error":"#N/A"}},null,{"$f":"MID(VLOOKUP($AT$7&\"-\"&AT$3&\"-\"&$A28,'DOCUMENTI EMESSI'!$C$9:$L$2008,10,FALSE),3,1)","v":{"$error":"#N/A"}},null,{"$f":"MID(VLOOKUP($AT$7&\"-\"&AT$3&\"-\"&$A28,'DOCUMENTI EMESSI'!$C$9:$L$2008,10,FALSE),4,1)","v":{"$error":"#N/A"}},null,{"$f":"MID(VLOOKUP($AT$7&\"-\"&AT$3&\"-\"&$A28,'DOCUMENTI EMESSI'!$C$9:$L$2008,10,FALSE),5,1)","v":{"$error":"#N/A"}},{"$f":"MID(VLOOKUP($AT$7&\"-\"&AT$3&\"-\"&$A28,'DOCUMENTI EMESSI'!$C$9:$L$2008,10,FALSE),6,1)","v":{"$error":"#N/A"}},{"$f":"MID(VLOOKUP($AT$7&\"-\"&AT$3&\"-\"&$A28,'DOCUMENTI EMESSI'!$C$9:$L$2008,10,FALSE),7,1)","v":{"$error":"#N/A"}},{"$f":"MID(VLOOKUP($AT$7&\"-\"&AT$3&\"-\"&$A28,'DOCUMENTI EMESSI'!$C$9:$L$2008,10,FALSE),8,1)","v":{"$error":"#N/A"}},{"$f":"MID(VLOOKUP($AT$7&\"-\"&AT$3&\"-\"&$A28,'DOCUMENTI EMESSI'!$C$9:$L$2008,10,FALSE),9,1)","v":{"$error":"#N/A"}},{"$f":"MID(VLOOKUP($AT$7&\"-\"&AT$3&\"-\"&$A28,'DOCUMENTI EMESSI'!$C$9:$L$2008,10,FALSE),10,1)","v":{"$error":"#N/A"}},{"$f":"MID(VLOOKUP($AT$7&\"-\"&AT$3&\"-\"&$A28,'DOCUMENTI EMESSI'!$C$9:$L$2008,10,FALSE),11,1)","v":{"$error":"#N/A"}},{"$f":"MID(VLOOKUP($AT$7&\"-\"&AT$3&\"-\"&$A28,'DOCUMENTI EMESSI'!$C$9:$L$2008,10,FALSE),12,1)","v":{"$error":"#N/A"}},{"$f":"MID(VLOOKUP($AT$7&\"-\"&AT$3&\"-\"&$A28,'DOCUMENTI EMESSI'!$C$9:$L$2008,10,FALSE),13,1)","v":{"$error":"#N/A"}},{"$f":"MID(VLOOKUP($AT$7&\"-\"&AT$3&\"-\"&$A28,'DOCUMENTI EMESSI'!$C$9:$L$2008,10,FALSE),14,1)","v":{"$error":"#N/A"}},{"$f":"MID(VLOOKUP($AT$7&\"-\"&AT$3&\"-\"&$A28,'DOCUMENTI EMESSI'!$C$9:$L$2008,10,FALSE),15,1)","v":{"$error":"#N/A"}},{"$f":"MID(VLOOKUP($AT$7&\"-\"&AT$3&\"-\"&$A28,'DOCUMENTI EMESSI'!$C$9:$L$2008,10,FALSE),16,1)","v":{"$error":"#N/A"}},{"$f":"MID(VLOOKUP($AT$7&\"-\"&AT$3&\"-\"&$A28,'DOCUMENTI EMESSI'!$C$9:$L$2008,10,FALSE),17,1)","v":{"$error":"#N/A"}},null,{"$f":"VLOOKUP($AT$7&\"-\"&AT$3&\"-\"&$A28,'DOCUMENTI EMESSI'!$C$9:$M$2008,11,FALSE)","v":{"$error":"#N/A"}},null,null,null,{"$f":"FLOOR('DOCUMENTI EMESSI'!N13,1)","v":0},{"$f":"VLOOKUP($AT$7&\"-\"&AT$3&\"-\"&$A28,'DOCUMENTI EMESSI'!$C$9:$N$2008,12,FALSE)","v":{"$error":"#N/A"}},null,null,null,null,null,{"$f":"FLOOR(VLOOKUP($AT$7&\"-\"&AT$3&\"-\"&$A28,'DOCUMENTI EMESSI'!$C$9:$O$2008,13,FALSE),1)","v":{"$error":"#N/A"}},null,null,null,null,{"$f":"LEFT(RIGHT(TEXT(VLOOKUP($AT$7&\"-\"&AT$3&\"-\"&$A28,'DOCUMENTI EMESSI'!$C$9:$O$2008,13,FALSE),\"0,00\"),2),1)","v":{"$error":"#N/A"}},{"$f":"RIGHT(TEXT(VLOOKUP($AT$7&\"-\"&AT$3&\"-\"&$A28,'DOCUMENTI EMESSI'!$C$9:$O$2008,13,FALSE),\"0,00\"),1)","v":{"$error":"#N/A"}},{"$f":"VLOOKUP($AT$7&\"-\"&$AT$3&\"-\"&A28,'DOCUMENTI EMESSI'!$C$9:$AC$2008,27,FALSE)","v":{"$error":"#N/A"}}]
[8,null,{"$f":"VLOOKUP($AT$7&\"-\"&AT$3&\"-\"&$A29,'DOCUMENTI EMESSI'!$C$9:$K$2008,9,FALSE)","v":{"$error":"#N/A"}},null,null,{"$f":"MID(VLOOKUP($AT$7&\"-\"&AT$3&\"-\"&$A29,'DOCUMENTI EMESSI'!$C$9:$L$2008,10,FALSE),1,1)","v":{"$error":"#N/A"}},null,{"$f":"MID(VLOOKUP($AT$7&\"-\"&AT$3&\"-\"&$A29,'DOCUMENTI EMESSI'!$C$9:$L$2008,10,FALSE),2,1)","v":{"$error":"#N/A"}},null,{"$f":"MID(VLOOKUP($AT$7&\"-\"&AT$3&\"-\"&$A29,'DOCUMENTI EMESSI'!$C$9:$L$2008,10,FALSE),3,1)","v":{"$error":"#N/A"}},null,{"$f":"MID(VLOOKUP($AT$7&\"-\"&AT$3&\"-\"&$A29,'DOCUMENTI EMESSI'!$C$9:$L$2008,10,FALSE),4,1)","v":{"$error":"#N/A"}},null,{"$f":"MID(VLOOKUP($AT$7&\"-\"&AT$3&\"-\"&$A29,'DOCUMENTI EMESSI'!$C$9:$L$2008,10,FALSE),5,1)","v":{"$error":"#N/A"}},{"$f":"MID(VLOOKUP($AT$7&\"-\"&AT$3&\"-\"&$A29,'DOCUMENTI EMESSI'!$C$9:$L$2008,10,FALSE),6,1)","v":{"$error":"#N/A"}},{"$f":"MID(VLOOKUP($AT$7&\"-\"&AT$3&\"-\"&$A29,'DOCUMENTI EMESSI'!$C$9:$L$2008,10,FALSE),7,1)","v":{"$error":"#N/A"}},{"$f":"MID(VLOOKUP($AT$7&\"-\"&AT$3&\"-\"&$A29,'DOCUMENTI EMESSI'!$C$9:$L$2008,10,FALSE),8,1)","v":{"$error":"#N/A"}},{"$f":"MID(VLOOKUP($AT$7&\"-\"&AT$3&\"-\"&$A29,'DOCUMENTI EMESSI'!$C$9:$L$2008,10,FALSE),9,1)","v":{"$error":"#N/A"}},{"$f":"MID(VLOOKUP($AT$7&\"-\"&AT$3&\"-\"&$A29,'DOCUMENTI EMESSI'!$C$9:$L$2008,10,FALSE),10,1)","v":{"$error":"#N/A"}},{"$f":"MID(VLOOKUP($AT$7&\"-\"&AT$3&\"-\"&$A29,'DOCUMENTI EMESSI'!$C$9:$L$2008,10,FALSE),11,1)","v":{"$error":"#N/A"}},{"$f":"MID(VLOOKUP($AT$7&\"-\"&AT$3&\"-\"&$A29,'DOCUMENTI EMESSI'!$C$9:$L$2008,10,FALSE),12,1)","v":{"$error":"#N/A"}},{"$f":"MID(VLOOKUP($AT$7&\"-\"&AT$3&\"-\"&$A29,'DOCUMENTI EMESSI'!$C$9:$L$2008,10,FALSE),13,1)","v":{"$error":"#N/A"}},{"$f":"MID(VLOOKUP($AT$7&\"-\"&AT$3&\"-\"&$A29,'DOCUMENTI EMESSI'!$C$9:$L$2008,10,FALSE),14,1)","v":{"$error":"#N/A"}},{"$f":"MID(VLOOKUP($AT$7&\"-\"&AT$3&\"-\"&$A29,'DOCUMENTI EMESSI'!$C$9:$L$2008,10,FALSE),15,1)","v":{"$error":"#N/A"}},{"$f":"MID(VLOOKUP($AT$7&\"-\"&AT$3&\"-\"&$A29,'DOCUMENTI EMESSI'!$C$9:$L$2008,10,FALSE),16,1)","v":{"$error":"#N/A"}},{"$f":"MID(VLOOKUP($AT$7&\"-\"&AT$3&\"-\"&$A29,'DOCUMENTI EMESSI'!$C$9:$L$2008,10,FALSE),17,1)","v":{"$error":"#N/A"}},null,{"$f":"VLOOKUP($AT$7&\"-\"&AT$3&\"-\"&$A29,'DOCUMENTI EMESSI'!$C$9:$M$2008,11,FALSE)","v":{"$error":"#N/A"}},null,null,null,{"$f":"FLOOR('DOCUMENTI EMESSI'!N14,1)","v":0},{"$f":"VLOOKUP($AT$7&\"-\"&AT$3&\"-\"&$A29,'DOCUMENTI EMESSI'!$C$9:$N$2008,12,FALSE)","v":{"$error":"#N/A"}},null,null,null,null,null,{"$f":"FLOOR(VLOOKUP($AT$7&\"-\"&AT$3&\"-\"&$A29,'DOCUMENTI EMESSI'!$C$9:$O$2008,13,FALSE),1)","v":{"$error":"#N/A"}},null,null,null,null,{"$f":"LEFT(RIGHT(TEXT(VLOOKUP($AT$7&\"-\"&AT$3&\"-\"&$A29,'DOCUMENTI EMESSI'!$C$9:$O$2008,13,FALSE),\"0,00\"),2),1)","v":{"$error":"#N/A"}},{"$f":"RIGHT(TEXT(VLOOKUP($AT$7&\"-\"&AT$3&\"-\"&$A29,'DOCUMENTI EMESSI'!$C$9:$O$2008,13,FALSE),\"0,00\"),1)","v":{"$error":"#N/A"}},{"$f":"VLOOKUP($AT$7&\"-\"&$AT$3&\"-\"&A29,'DOCUMENTI EMESSI'!$C$9:$AC$2008,27,FALSE)","v":{"$error":"#N/A"}}]
[9,null,{"$f":"VLOOKUP($AT$7&\"-\"&AT$3&\"-\"&$A30,'DOCUMENTI EMESSI'!$C$9:$K$2008,9,FALSE)","v":{"$error":"#N/A"}},null,null,{"$f":"MID(VLOOKUP($AT$7&\"-\"&AT$3&\"-\"&$A30,'DOCUMENTI EMESSI'!$C$9:$L$2008,10,FALSE),1,1)","v":{"$error":"#N/A"}},null,{"$f":"MID(VLOOKUP($AT$7&\"-\"&AT$3&\"-\"&$A30,'DOCUMENTI EMESSI'!$C$9:$L$2008,10,FALSE),2,1)","v":{"$error":"#N/A"}},null,{"$f":"MID(VLOOKUP($AT$7&\"-\"&AT$3&\"-\"&$A30,'DOCUMENTI EMESSI'!$C$9:$L$2008,10,FALSE),3,1)","v":{"$error":"#N/A"}},null,{"$f":"MID(VLOOKUP($AT$7&\"-\"&AT$3&\"-\"&$A30,'DOCUMENTI EMESSI'!$C$9:$L$2008,10,FALSE),4,1)","v":{"$error":"#N/A"}},null,{"$f":"MID(VLOOKUP($AT$7&\"-\"&AT$3&\"-\"&$A30,'DOCUMENTI EMESSI'!$C$9:$L$2008,10,FALSE),5,1)","v":{"$error":"#N/A"}},{"$f":"MID(VLOOKUP($AT$7&\"-\"&AT$3&\"-\"&$A30,'DOCUMENTI EMESSI'!$C$9:$L$2008,10,FALSE),6,1)","v":{"$error":"#N/A"}},{"$f":"MID(VLOOKUP($AT$7&\"-\"&AT$3&\"-\"&$A30,'DOCUMENTI EMESSI'!$C$9:$L$2008,10,FALSE),7,1)","v":{"$error":"#N/A"}},{"$f":"MID(VLOOKUP($AT$7&\"-\"&AT$3&\"-\"&$A30,'DOCUMENTI EMESSI'!$C$9:$L$2008,10,FALSE),8,1)","v":{"$error":"#N/A"}},{"$f":"MID(VLOOKUP($AT$7&\"-\"&AT$3&\"-\"&$A30,'DOCUMENTI EMESSI'!$C$9:$L$2008,10,FALSE),9,1)","v":{"$error":"#N/A"}},{"$f":"MID(VLOOKUP($AT$7&\"-\"&AT$3&\"-\"&$A30,'DOCUMENTI EMESSI'!$C$9:$L$2008,10,FALSE),10,1)","v":{"$error":"#N/A"}},{"$f":"MID(VLOOKUP($AT$7&\"-\"&AT$3&\"-\"&$A30,'DOCUMENTI EMESSI'!$C$9:$L$2008,10,FALSE),11,1)","v":{"$error":"#N/A"}},{"$f":"MID(VLOOKUP($AT$7&\"-\"&AT$3&\"-\"&$A30,'DOCUMENTI EMESSI'!$C$9:$L$2008,10,FALSE),12,1)","v":{"$error":"#N/A"}},{"$f":"MID(VLOOKUP($AT$7&\"-\"&AT$3&\"-\"&$A30,'DOCUMENTI EMESSI'!$C$9:$L$2008,10,FALSE),13,1)","v":{"$error":"#N/A"}},{"$f":"MID(VLOOKUP($AT$7&\"-\"&AT$3&\"-\"&$A30,'DOCUMENTI EMESSI'!$C$9:$L$2008,10,FALSE),14,1)","v":{"$error":"#N/A"}},{"$f":"MID(VLOOKUP($AT$7&\"-\"&AT$3&\"-\"&$A30,'DOCUMENTI EMESSI'!$C$9:$L$2008,10,FALSE),15,1)","v":{"$error":"#N/A"}},{"$f":"MID(VLOOKUP($AT$7&\"-\"&AT$3&\"-\"&$A30,'DOCUMENTI EMESSI'!$C$9:$L$2008,10,FALSE),16,1)","v":{"$error":"#N/A"}},{"$f":"MID(VLOOKUP($AT$7&\"-\"&AT$3&\"-\"&$A30,'DOCUMENTI EMESSI'!$C$9:$L$2008,10,FALSE),17,1)","v":{"$error":"#N/A"}},null,{"$f":"VLOOKUP($AT$7&\"-\"&AT$3&\"-\"&$A30,'DOCUMENTI EMESSI'!$C$9:$M$2008,11,FALSE)","v":{"$error":"#N/A"}},null,null,null,{"$f":"FLOOR('DOCUMENTI EMESSI'!#REF!,1)","v":{"$error":"#REF!"}},{"$f":"VLOOKUP($AT$7&\"-\"&AT$3&\"-\"&$A30,'DOCUMENTI EMESSI'!$C$9:$N$2008,12,FALSE)","v":{"$error":"#N/A"}},null,null,null,null,null,{"$f":"FLOOR(VLOOKUP($AT$7&\"-\"&AT$3&\"-\"&$A30,'DOCUMENTI EMESSI'!$C$9:$O$2008,13,FALSE),1)","v":{"$error":"#N/A"}},null,null,null,null,{"$f":"LEFT(RIGHT(TEXT(VLOOKUP($AT$7&\"-\"&AT$3&\"-\"&$A30,'DOCUMENTI EMESSI'!$C$9:$O$2008,13,FALSE),\"0,00\"),2),1)","v":{"$error":"#N/A"}},{"$f":"RIGHT(TEXT(VLOOKUP($AT$7&\"-\"&AT$3&\"-\"&$A30,'DOCUMENTI EMESSI'!$C$9:$O$2008,13,FALSE),\"0,00\"),1)","v":{"$error":"#N/A"}},{"$f":"VLOOKUP($AT$7&\"-\"&$AT$3&\"-\"&A30,'DOCUMENTI EMESSI'!$C$9:$AC$2008,27,FALSE)","v":{"$error":"#N/A"}}]
[10,null,{"$f":"VLOOKUP($AT$7&\"-\"&AT$3&\"-\"&$A31,'DOCUMENTI EMESSI'!$C$9:$K$2008,9,FALSE)","v":{"$error":"#N/A"}},null,null,{"$f":"MID(VLOOKUP($AT$7&\"-\"&AT$3&\"-\"&$A31,'DOCUMENTI EMESSI'!$C$9:$L$2008,10,FALSE),1,1)","v":{"$error":"#N/A"}},null,{"$f":"MID(VLOOKUP($AT$7&\"-\"&AT$3&\"-\"&$A31,'DOCUMENTI EMESSI'!$C$9:$L$2008,10,FALSE),2,1)","v":{"$error":"#N/A"}},null,{"$f":"MID(VLOOKUP($AT$7&\"-\"&AT$3&\"-\"&$A31,'DOCUMENTI EMESSI'!$C$9:$L$2008,10,FALSE),3,1)","v":{"$error":"#N/A"}},null,{"$f":"MID(VLOOKUP($AT$7&\"-\"&AT$3&\"-\"&$A31,'DOCUMENTI EMESSI'!$C$9:$L$2008,10,FALSE),4,1)","v":{"$error":"#N/A"}},null,{"$f":"MID(VLOOKUP($AT$7&\"-\"&AT$3&\"-\"&$A31,'DOCUMENTI EMESSI'!$C$9:$L$2008,10,FALSE),5,1)","v":{"$error":"#N/A"}},{"$f":"MID(VLOOKUP($AT$7&\"-\"&AT$3&\"-\"&$A31,'DOCUMENTI EMESSI'!$C$9:$L$2008,10,FALSE),6,1)","v":{"$error":"#N/A"}},{"$f":"MID(VLOOKUP($AT$7&\"-\"&AT$3&\"-\"&$A31,'DOCUMENTI EMESSI'!$C$9:$L$2008,10,FALSE),7,1)","v":{"$error":"#N/A"}},{"$f":"MID(VLOOKUP($AT$7&\"-\"&AT$3&\"-\"&$A31,'DOCUMENTI EMESSI'!$C$9:$L$2008,10,FALSE),8,1)","v":{"$error":"#N/A"}},{"$f":"MID(VLOOKUP($AT$7&\"-\"&AT$3&\"-\"&$A31,'DOCUMENTI EMESSI'!$C$9:$L$2008,10,FALSE),9,1)","v":{"$error":"#N/A"}},{"$f":"MID(VLOOKUP($AT$7&\"-\"&AT$3&\"-\"&$A31,'DOCUMENTI EMESSI'!$C$9:$L$2008,10,FALSE),10,1)","v":{"$error":"#N/A"}},{"$f":"MID(VLOOKUP($AT$7&\"-\"&AT$3&\"-\"&$A31,'DOCUMENTI EMESSI'!$C$9:$L$2008,10,FALSE),11,1)","v":{"$error":"#N/A"}},{"$f":"MID(VLOOKUP($AT$7&\"-\"&AT$3&\"-\"&$A31,'DOCUMENTI EMESSI'!$C$9:$L$2008,10,FALSE),12,1)","v":{"$error":"#N/A"}},{"$f":"MID(VLOOKUP($AT$7&\"-\"&AT$3&\"-\"&$A31,'DOCUMENTI EMESSI'!$C$9:$L$2008,10,FALSE),13,1)","v":{"$error":"#N/A"}},{"$f":"MID(VLOOKUP($AT$7&\"-\"&AT$3&\"-\"&$A31,'DOCUMENTI EMESSI'!$C$9:$L$2008,10,FALSE),14,1)","v":{"$error":"#N/A"}},{"$f":"MID(VLOOKUP($AT$7&\"-\"&AT$3&\"-\"&$A31,'DOCUMENTI EMESSI'!$C$9:$L$2008,10,FALSE),15,1)","v":{"$error":"#N/A"}},{"$f":"MID(VLOOKUP($AT$7&\"-\"&AT$3&\"-\"&$A31,'DOCUMENTI EMESSI'!$C$9:$L$2008,10,FALSE),16,1)","v":{"$error":"#N/A"}},{"$f":"MID(VLOOKUP($AT$7&\"-\"&AT$3&\"-\"&$A31,'DOCUMENTI EMESSI'!$C$9:$L$2008,10,FALSE),17,1)","v":{"$error":"#N/A"}},null,{"$f":"VLOOKUP($AT$7&\"-\"&AT$3&\"-\"&$A31,'DOCUMENTI EMESSI'!$C$9:$M$2008,11,FALSE)","v":{"$error":"#N/A"}},null,null,null,{"$f":"FLOOR('DOCUMENTI EMESSI'!#REF!,1)","v":{"$error":"#REF!"}},{"$f":"VLOOKUP($AT$7&\"-\"&AT$3&\"-\"&$A31,'DOCUMENTI EMESSI'!$C$9:$N$2008,12,FALSE)","v":{"$error":"#N/A"}},null,null,null,null,null,{"$f":"FLOOR(VLOOKUP($AT$7&\"-\"&AT$3&\"-\"&$A31,'DOCUMENTI EMESSI'!$C$9:$O$2008,13,FALSE),1)","v":{"$error":"#N/A"}},null,null,null,null,{"$f":"LEFT(RIGHT(TEXT(VLOOKUP($AT$7&\"-\"&AT$3&\"-\"&$A31,'DOCUMENTI EMESSI'!$C$9:$O$2008,13,FALSE),\"0,00\"),2),1)","v":{"$error":"#N/A"}},{"$f":"RIGHT(TEXT(VLOOKUP($AT$7&\"-\"&AT$3&\"-\"&$A31,'DOCUMENTI EMESSI'!$C$9:$O$2008,13,FALSE),\"0,00\"),1)","v":{"$error":"#N/A"}},{"$f":"VLOOKUP($AT$7&\"-\"&$AT$3&\"-\"&A31,'DOCUMENTI EMESSI'!$C$9:$AC$2008,27,FALSE)","v":{"$error":"#N/A"}}]
[11,null,{"$f":"VLOOKUP($AT$7&\"-\"&AT$3&\"-\"&$A32,'DOCUMENTI EMESSI'!$C$9:$K$2008,9,FALSE)","v":{"$error":"#N/A"}},null,null,{"$f":"MID(VLOOKUP($AT$7&\"-\"&AT$3&\"-\"&$A32,'DOCUMENTI EMESSI'!$C$9:$L$2008,10,FALSE),1,1)","v":{"$error":"#N/A"}},null,{"$f":"MID(VLOOKUP($AT$7&\"-\"&AT$3&\"-\"&$A32,'DOCUMENTI EMESSI'!$C$9:$L$2008,10,FALSE),2,1)","v":{"$error":"#N/A"}},null,{"$f":"MID(VLOOKUP($AT$7&\"-\"&AT$3&\"-\"&$A32,'DOCUMENTI EMESSI'!$C$9:$L$2008,10,FALSE),3,1)","v":{"$error":"#N/A"}},null,{"$f":"MID(VLOOKUP($AT$7&\"-\"&AT$3&\"-\"&$A32,'DOCUMENTI EMESSI'!$C$9:$L$2008,10,FALSE),4,1)","v":{"$error":"#N/A"}},null,{"$f":"MID(VLOOKUP($AT$7&\"-\"&AT$3&\"-\"&$A32,'DOCUMENTI EMESSI'!$C$9:$L$2008,10,FALSE),5,1)","v":{"$error":"#N/A"}},{"$f":"MID(VLOOKUP($AT$7&\"-\"&AT$3&\"-\"&$A32,'DOCUMENTI EMESSI'!$C$9:$L$2008,10,FALSE),6,1)","v":{"$error":"#N/A"}},{"$f":"MID(VLOOKUP($AT$7&\"-\"&AT$3&\"-\"&$A32,'DOCUMENTI EMESSI'!$C$9:$L$2008,10,FALSE),7,1)","v":{"$error":"#N/A"}},{"$f":"MID(VLOOKUP($AT$7&\"-\"&AT$3&\"-\"&$A32,'DOCUMENTI EMESSI'!$C$9:$L$2008,10,FALSE),8,1)","v":{"$error":"#N/A"}},{"$f":"MID(VLOOKUP($AT$7&\"-\"&AT$3&\"-\"&$A32,'DOCUMENTI EMESSI'!$C$9:$L$2008,10,FALSE),9,1)","v":{"$error":"#N/A"}},{"$f":"MID(VLOOKUP($AT$7&\"-\"&AT$3&\"-\"&$A32,'DOCUMENTI EMESSI'!$C$9:$L$2008,10,FALSE),10,1)","v":{"$error":"#N/A"}},{"$f":"MID(VLOOKUP($AT$7&\"-\"&AT$3&\"-\"&$A32,'DOCUMENTI EMESSI'!$C$9:$L$2008,10,FALSE),11,1)","v":{"$error":"#N/A"}},{"$f":"MID(VLOOKUP($AT$7&\"-\"&AT$3&\"-\"&$A32,'DOCUMENTI EMESSI'!$C$9:$L$2008,10,FALSE),12,1)","v":{"$error":"#N/A"}},{"$f":"MID(VLOOKUP($AT$7&\"-\"&AT$3&\"-\"&$A32,'DOCUMENTI EMESSI'!$C$9:$L$2008,10,FALSE),13,1)","v":{"$error":"#N/A"}},{"$f":"MID(VLOOKUP($AT$7&\"-\"&AT$3&\"-\"&$A32,'DOCUMENTI EMESSI'!$C$9:$L$2008,10,FALSE),14,1)","v":{"$error":"#N/A"}},{"$f":"MID(VLOOKUP($AT$7&\"-\"&AT$3&\"-\"&$A32,'DOCUMENTI EMESSI'!$C$9:$L$2008,10,FALSE),15,1)","v":{"$error":"#N/A"}},{"$f":"MID(VLOOKUP($AT$7&\"-\"&AT$3&\"-\"&$A32,'DOCUMENTI EMESSI'!$C$9:$L$2008,10,FALSE),16,1)","v":{"$error":"#N/A"}},{"$f":"MID(VLOOKUP($AT$7&\"-\"&AT$3&\"-\"&$A32,'DOCUMENTI EMESSI'!$C$9:$L$2008,10,FALSE),17,1)","v":{"$error":"#N/A"}},null,{"$f":"VLOOKUP($AT$7&\"-\"&AT$3&\"-\"&$A32,'DOCUMENTI EMESSI'!$C$9:$M$2008,11,FALSE)","v":{"$error":"#N/A"}},null,null,null,{"$f":"FLOOR('DOCUMENTI EMESSI'!O2011,1)","v":601},{"$f":"VLOOKUP($AT$7&\"-\"&AT$3&\"-\"&$A32,'DOCUMENTI EMESSI'!$C$9:$N$2008,12,FALSE)","v":{"$error":"#N/A"}},null,null,null,null,null,{"$f":"FLOOR(VLOOKUP($AT$7&\"-\"&AT$3&\"-\"&$A32,'DOCUMENTI EMESSI'!$C$9:$O$2008,13,FALSE),1)","v":{"$error":"#N/A"}},null,null,null,null,{"$f":"LEFT(RIGHT(TEXT(VLOOKUP($AT$7&\"-\"&AT$3&\"-\"&$A32,'DOCUMENTI EMESSI'!$C$9:$O$2008,13,FALSE),\"0,00\"),2),1)","v":{"$error":"#N/A"}},{"$f":"RIGHT(TEXT(VLOOKUP($AT$7&\"-\"&AT$3&\"-\"&$A32,'DOCUMENTI EMESSI'!$C$9:$O$2008,13,FALSE),\"0,00\"),1)","v":{"$error":"#N/A"}},{"$f":"VLOOKUP($AT$7&\"-\"&$AT$3&\"-\"&A32,'DOCUMENTI EMESSI'!$C$9:$AC$2008,27,FALSE)","v":{"$error":"#N/A"}}]
[12,null,{"$f":"VLOOKUP($AT$7&\"-\"&AT$3&\"-\"&$A33,'DOCUMENTI EMESSI'!$C$9:$K$2008,9,FALSE)","v":{"$error":"#N/A"}},null,null,{"$f":"MID(VLOOKUP($AT$7&\"-\"&AT$3&\"-\"&$A33,'DOCUMENTI EMESSI'!$C$9:$L$2008,10,FALSE),1,1)","v":{"$error":"#N/A"}},null,{"$f":"MID(VLOOKUP($AT$7&\"-\"&AT$3&\"-\"&$A33,'DOCUMENTI EMESSI'!$C$9:$L$2008,10,FALSE),2,1)","v":{"$error":"#N/A"}},null,{"$f":"MID(VLOOKUP($AT$7&\"-\"&AT$3&\"-\"&$A33,'DOCUMENTI EMESSI'!$C$9:$L$2008,10,FALSE),3,1)","v":{"$error":"#N/A"}},null,{"$f":"MID(VLOOKUP($AT$7&\"-\"&AT$3&\"-\"&$A33,'DOCUMENTI EMESSI'!$C$9:$L$2008,10,FALSE),4,1)","v":{"$error":"#N/A"}},null,{"$f":"MID(VLOOKUP($AT$7&\"-\"&AT$3&\"-\"&$A33,'DOCUMENTI EMESSI'!$C$9:$L$2008,10,FALSE),5,1)","v":{"$error":"#N/A"}},{"$f":"MID(VLOOKUP($AT$7&\"-\"&AT$3&\"-\"&$A33,'DOCUMENTI EMESSI'!$C$9:$L$2008,10,FALSE),6,1)","v":{"$error":"#N/A"}},{"$f":"MID(VLOOKUP($AT$7&\"-\"&AT$3&\"-\"&$A33,'DOCUMENTI EMESSI'!$C$9:$L$2008,10,FALSE),7,1)","v":{"$error":"#N/A"}},{"$f":"MID(VLOOKUP($AT$7&\"-\"&AT$3&\"-\"&$A33,'DOCUMENTI EMESSI'!$C$9:$L$2008,10,FALSE),8,1)","v":{"$error":"#N/A"}},{"$f":"MID(VLOOKUP($AT$7&\"-\"&AT$3&\"-\"&$A33,'DOCUMENTI EMESSI'!$C$9:$L$2008,10,FALSE),9,1)","v":{"$error":"#N/A"}},{"$f":"MID(VLOOKUP($AT$7&\"-\"&AT$3&\"-\"&$A33,'DOCUMENTI EMESSI'!$C$9:$L$2008,10,FALSE),10,1)","v":{"$error":"#N/A"}},{"$f":"MID(VLOOKUP($AT$7&\"-\"&AT$3&\"-\"&$A33,'DOCUMENTI EMESSI'!$C$9:$L$2008,10,FALSE),11,1)","v":{"$error":"#N/A"}},{"$f":"MID(VLOOKUP($AT$7&\"-\"&AT$3&\"-\"&$A33,'DOCUMENTI EMESSI'!$C$9:$L$2008,10,FALSE),12,1)","v":{"$error":"#N/A"}},{"$f":"MID(VLOOKUP($AT$7&\"-\"&AT$3&\"-\"&$A33,'DOCUMENTI EMESSI'!$C$9:$L$2008,10,FALSE),13,1)","v":{"$error":"#N/A"}},{"$f":"MID(VLOOKUP($AT$7&\"-\"&AT$3&\"-\"&$A33,'DOCUMENTI EMESSI'!$C$9:$L$2008,10,FALSE),14,1)","v":{"$error":"#N/A"}},{"$f":"MID(VLOOKUP($AT$7&\"-\"&AT$3&\"-\"&$A33,'DOCUMENTI EMESSI'!$C$9:$L$2008,10,FALSE),15,1)","v":{"$error":"#N/A"}},{"$f":"MID(VLOOKUP($AT$7&\"-\"&AT$3&\"-\"&$A33,'DOCUMENTI EMESSI'!$C$9:$L$2008,10,FALSE),16,1)","v":{"$error":"#N/A"}},{"$f":"MID(VLOOKUP($AT$7&\"-\"&AT$3&\"-\"&$A33,'DOCUMENTI EMESSI'!$C$9:$L$2008,10,FALSE),17,1)","v":{"$error":"#N/A"}},null,{"$f":"VLOOKUP($AT$7&\"-\"&AT$3&\"-\"&$A33,'DOCUMENTI EMESSI'!$C$9:$M$2008,11,FALSE)","v":{"$error":"#N/A"}},null,null,null,null,{"$f":"VLOOKUP($AT$7&\"-\"&AT$3&\"-\"&$A33,'DOCUMENTI EMESSI'!$C$9:$N$2008,12,FALSE)","v":{"$error":"#N/A"}},null,null,null,null,null,{"$f":"FLOOR(VLOOKUP($AT$7&\"-\"&AT$3&\"-\"&$A33,'DOCUMENTI EMESSI'!$C$9:$O$2008,13,FALSE),1)","v":{"$error":"#N/A"}},null,null,null,null,{"$f":"LEFT(RIGHT(TEXT(VLOOKUP($AT$7&\"-\"&AT$3&\"-\"&$A33,'DOCUMENTI EMESSI'!$C$9:$O$2008,13,FALSE),\"0,00\"),2),1)","v":{"$error":"#N/A"}},{"$f":"RIGHT(TEXT(VLOOKUP($AT$7&\"-\"&AT$3&\"-\"&$A33,'DOCUMENTI EMESSI'!$C$9:$O$2008,13,FALSE),\"0,00\"),1)","v":{"$error":"#N/A"}},{"$f":"VLOOKUP($AT$7&\"-\"&$AT$3&\"-\"&A33,'DOCUMENTI EMESSI'!$C$9:$AC$2008,27,FALSE)","v":{"$error":"#N/A"}}]
[13,null,{"$f":"VLOOKUP($AT$7&\"-\"&AT$3&\"-\"&$A34,'DOCUMENTI EMESSI'!$C$9:$K$2008,9,FALSE)","v":{"$error":"#N/A"}},null,null,{"$f":"MID(VLOOKUP($AT$7&\"-\"&AT$3&\"-\"&$A34,'DOCUMENTI EMESSI'!$C$9:$L$2008,10,FALSE),1,1)","v":{"$error":"#N/A"}},null,{"$f":"MID(VLOOKUP($AT$7&\"-\"&AT$3&\"-\"&$A34,'DOCUMENTI EMESSI'!$C$9:$L$2008,10,FALSE),2,1)","v":{"$error":"#N/A"}},null,{"$f":"MID(VLOOKUP($AT$7&\"-\"&AT$3&\"-\"&$A34,'DOCUMENTI EMESSI'!$C$9:$L$2008,10,FALSE),3,1)","v":{"$error":"#N/A"}},null,{"$f":"MID(VLOOKUP($AT$7&\"-\"&AT$3&\"-\"&$A34,'DOCUMENTI EMESSI'!$C$9:$L$2008,10,FALSE),4,1)","v":{"$error":"#N/A"}},null,{"$f":"MID(VLOOKUP($AT$7&\"-\"&AT$3&\"-\"&$A34,'DOCUMENTI EMESSI'!$C$9:$L$2008,10,FALSE),5,1)","v":{"$error":"#N/A"}},{"$f":"MID(VLOOKUP($AT$7&\"-\"&AT$3&\"-\"&$A34,'DOCUMENTI EMESSI'!$C$9:$L$2008,10,FALSE),6,1)","v":{"$error":"#N/A"}},{"$f":"MID(VLOOKUP($AT$7&\"-\"&AT$3&\"-\"&$A34,'DOCUMENTI EMESSI'!$C$9:$L$2008,10,FALSE),7,1)","v":{"$error":"#N/A"}},{"$f":"MID(VLOOKUP($AT$7&\"-\"&AT$3&\"-\"&$A34,'DOCUMENTI EMESSI'!$C$9:$L$2008,10,FALSE),8,1)","v":{"$error":"#N/A"}},{"$f":"MID(VLOOKUP($AT$7&\"-\"&AT$3&\"-\"&$A34,'DOCUMENTI EMESSI'!$C$9:$L$2008,10,FALSE),9,1)","v":{"$error":"#N/A"}},{"$f":"MID(VLOOKUP($AT$7&\"-\"&AT$3&\"-\"&$A34,'DOCUMENTI EMESSI'!$C$9:$L$2008,10,FALSE),10,1)","v":{"$error":"#N/A"}},{"$f":"MID(VLOOKUP($AT$7&\"-\"&AT$3&\"-\"&$A34,'DOCUMENTI EMESSI'!$C$9:$L$2008,10,FALSE),11,1)","v":{"$error":"#N/A"}},{"$f":"MID(VLOOKUP($AT$7&\"-\"&AT$3&\"-\"&$A34,'DOCUMENTI EMESSI'!$C$9:$L$2008,10,FALSE),12,1)","v":{"$error":"#N/A"}},{"$f":"MID(VLOOKUP($AT$7&\"-\"&AT$3&\"-\"&$A34,'DOCUMENTI EMESSI'!$C$9:$L$2008,10,FALSE),13,1)","v":{"$error":"#N/A"}},{"$f":"MID(VLOOKUP($AT$7&\"-\"&AT$3&\"-\"&$A34,'DOCUMENTI EMESSI'!$C$9:$L$2008,10,FALSE),14,1)","v":{"$error":"#N/A"}},{"$f":"MID(VLOOKUP($AT$7&\"-\"&AT$3&\"-\"&$A34,'DOCUMENTI EMESSI'!$C$9:$L$2008,10,FALSE),15,1)","v":{"$error":"#N/A"}},{"$f":"MID(VLOOKUP($AT$7&\"-\"&AT$3&\"-\"&$A34,'DOCUMENTI EMESSI'!$C$9:$L$2008,10,FALSE),16,1)","v":{"$error":"#N/A"}},{"$f":"MID(VLOOKUP($AT$7&\"-\"&AT$3&\"-\"&$A34,'DOCUMENTI EMESSI'!$C$9:$L$2008,10,FALSE),17,1)","v":{"$error":"#N/A"}},null,{"$f":"VLOOKUP($AT$7&\"-\"&AT$3&\"-\"&$A34,'DOCUMENTI EMESSI'!$C$9:$M$2008,11,FALSE)","v":{"$error":"#N/A"}},null,null,null,null,{"$f":"VLOOKUP($AT$7&\"-\"&AT$3&\"-\"&$A34,'DOCUMENTI EMESSI'!$C$9:$N$2008,12,FALSE)","v":{"$error":"#N/A"}},null,null,null,null,null,{"$f":"FLOOR(VLOOKUP($AT$7&\"-\"&AT$3&\"-\"&$A34,'DOCUMENTI EMESSI'!$C$9:$O$2008,13,FALSE),1)","v":{"$error":"#N/A"}},null,null,null,null,{"$f":"LEFT(RIGHT(TEXT(VLOOKUP($AT$7&\"-\"&AT$3&\"-\"&$A34,'DOCUMENTI EMESSI'!$C$9:$O$2008,13,FALSE),\"0,00\"),2),1)","v":{"$error":"#N/A"}},{"$f":"RIGHT(TEXT(VLOOKUP($AT$7&\"-\"&AT$3&\"-\"&$A34,'DOCUMENTI EMESSI'!$C$9:$O$2008,13,FALSE),\"0,00\"),1)","v":{"$error":"#N/A"}},{"$f":"VLOOKUP($AT$7&\"-\"&$AT$3&\"-\"&A34,'DOCUMENTI EMESSI'!$C$9:$AC$2008,27,FALSE)","v":{"$error":"#N/A"}}]
[14,null,{"$f":"VLOOKUP($AT$7&\"-\"&AT$3&\"-\"&$A35,'DOCUMENTI EMESSI'!$C$9:$K$2008,9,FALSE)","v":{"$error":"#N/A"}},null,null,{"$f":"MID(VLOOKUP($AT$7&\"-\"&AT$3&\"-\"&$A35,'DOCUMENTI EMESSI'!$C$9:$L$2008,10,FALSE),1,1)","v":{"$error":"#N/A"}},null,{"$f":"MID(VLOOKUP($AT$7&\"-\"&AT$3&\"-\"&$A35,'DOCUMENTI EMESSI'!$C$9:$L$2008,10,FALSE),2,1)","v":{"$error":"#N/A"}},null,{"$f":"MID(VLOOKUP($AT$7&\"-\"&AT$3&\"-\"&$A35,'DOCUMENTI EMESSI'!$C$9:$L$2008,10,FALSE),3,1)","v":{"$error":"#N/A"}},null,{"$f":"MID(VLOOKUP($AT$7&\"-\"&AT$3&\"-\"&$A35,'DOCUMENTI EMESSI'!$C$9:$L$2008,10,FALSE),4,1)","v":{"$error":"#N/A"}},null,{"$f":"MID(VLOOKUP($AT$7&\"-\"&AT$3&\"-\"&$A35,'DOCUMENTI EMESSI'!$C$9:$L$2008,10,FALSE),5,1)","v":{"$error":"#N/A"}},{"$f":"MID(VLOOKUP($AT$7&\"-\"&AT$3&\"-\"&$A35,'DOCUMENTI EMESSI'!$C$9:$L$2008,10,FALSE),6,1)","v":{"$error":"#N/A"}},{"$f":"MID(VLOOKUP($AT$7&\"-\"&AT$3&\"-\"&$A35,'DOCUMENTI EMESSI'!$C$9:$L$2008,10,FALSE),7,1)","v":{"$error":"#N/A"}},{"$f":"MID(VLOOKUP($AT$7&\"-\"&AT$3&\"-\"&$A35,'DOCUMENTI EMESSI'!$C$9:$L$2008,10,FALSE),8,1)","v":{"$error":"#N/A"}},{"$f":"MID(VLOOKUP($AT$7&\"-\"&AT$3&\"-\"&$A35,'DOCUMENTI EMESSI'!$C$9:$L$2008,10,FALSE),9,1)","v":{"$error":"#N/A"}},{"$f":"MID(VLOOKUP($AT$7&\"-\"&AT$3&\"-\"&$A35,'DOCUMENTI EMESSI'!$C$9:$L$2008,10,FALSE),10,1)","v":{"$error":"#N/A"}},{"$f":"MID(VLOOKUP($AT$7&\"-\"&AT$3&\"-\"&$A35,'DOCUMENTI EMESSI'!$C$9:$L$2008,10,FALSE),11,1)","v":{"$error":"#N/A"}},{"$f":"MID(VLOOKUP($AT$7&\"-\"&AT$3&\"-\"&$A35,'DOCUMENTI EMESSI'!$C$9:$L$2008,10,FALSE),12,1)","v":{"$error":"#N/A"}},{"$f":"MID(VLOOKUP($AT$7&\"-\"&AT$3&\"-\"&$A35,'DOCUMENTI EMESSI'!$C$9:$L$2008,10,FALSE),13,1)","v":{"$error":"#N/A"}},{"$f":"MID(VLOOKUP($AT$7&\"-\"&AT$3&\"-\"&$A35,'DOCUMENTI EMESSI'!$C$9:$L$2008,10,FALSE),14,1)","v":{"$error":"#N/A"}},{"$f":"MID(VLOOKUP($AT$7&\"-\"&AT$3&\"-\"&$A35,'DOCUMENTI EMESSI'!$C$9:$L$2008,10,FALSE),15,1)","v":{"$error":"#N/A"}},{"$f":"MID(VLOOKUP($AT$7&\"-\"&AT$3&\"-\"&$A35,'DOCUMENTI EMESSI'!$C$9:$L$2008,10,FALSE),16,1)","v":{"$error":"#N/A"}},{"$f":"MID(VLOOKUP($AT$7&\"-\"&AT$3&\"-\"&$A35,'DOCUMENTI EMESSI'!$C$9:$L$2008,10,FALSE),17,1)","v":{"$error":"#N/A"}},null,{"$f":"VLOOKUP($AT$7&\"-\"&AT$3&\"-\"&$A35,'DOCUMENTI EMESSI'!$C$9:$M$2008,11,FALSE)","v":{"$error":"#N/A"}},null,null,null,null,{"$f":"VLOOKUP($AT$7&\"-\"&AT$3&\"-\"&$A35,'DOCUMENTI EMESSI'!$C$9:$N$2008,12,FALSE)","v":{"$error":"#N/A"}},null,null,null,null,null,{"$f":"FLOOR(VLOOKUP($AT$7&\"-\"&AT$3&\"-\"&$A35,'DOCUMENTI EMESSI'!$C$9:$O$2008,13,FALSE),1)","v":{"$error":"#N/A"}},null,null,null,null,{"$f":"LEFT(RIGHT(TEXT(VLOOKUP($AT$7&\"-\"&AT$3&\"-\"&$A35,'DOCUMENTI EMESSI'!$C$9:$O$2008,13,FALSE),\"0,00\"),2),1)","v":{"$error":"#N/A"}},{"$f":"RIGHT(TEXT(VLOOKUP($AT$7&\"-\"&AT$3&\"-\"&$A35,'DOCUMENTI EMESSI'!$C$9:$O$2008,13,FALSE),\"0,00\"),1)","v":{"$error":"#N/A"}},{"$f":"VLOOKUP($AT$7&\"-\"&$AT$3&\"-\"&A35,'DOCUMENTI EMESSI'!$C$9:$AC$2008,27,FALSE)","v":{"$error":"#N/A"}}]
[15,null,{"$f":"VLOOKUP($AT$7&\"-\"&AT$3&\"-\"&$A36,'DOCUMENTI EMESSI'!$C$9:$K$2008,9,FALSE)","v":{"$error":"#N/A"}},null,null,{"$f":"MID(VLOOKUP($AT$7&\"-\"&AT$3&\"-\"&$A36,'DOCUMENTI EMESSI'!$C$9:$L$2008,10,FALSE),1,1)","v":{"$error":"#N/A"}},null,{"$f":"MID(VLOOKUP($AT$7&\"-\"&AT$3&\"-\"&$A36,'DOCUMENTI EMESSI'!$C$9:$L$2008,10,FALSE),2,1)","v":{"$error":"#N/A"}},null,{"$f":"MID(VLOOKUP($AT$7&\"-\"&AT$3&\"-\"&$A36,'DOCUMENTI EMESSI'!$C$9:$L$2008,10,FALSE),3,1)","v":{"$error":"#N/A"}},null,{"$f":"MID(VLOOKUP($AT$7&\"-\"&AT$3&\"-\"&$A36,'DOCUMENTI EMESSI'!$C$9:$L$2008,10,FALSE),4,1)","v":{"$error":"#N/A"}},null,{"$f":"MID(VLOOKUP($AT$7&\"-\"&AT$3&\"-\"&$A36,'DOCUMENTI EMESSI'!$C$9:$L$2008,10,FALSE),5,1)","v":{"$error":"#N/A"}},{"$f":"MID(VLOOKUP($AT$7&\"-\"&AT$3&\"-\"&$A36,'DOCUMENTI EMESSI'!$C$9:$L$2008,10,FALSE),6,1)","v":{"$error":"#N/A"}},{"$f":"MID(VLOOKUP($AT$7&\"-\"&AT$3&\"-\"&$A36,'DOCUMENTI EMESSI'!$C$9:$L$2008,10,FALSE),7,1)","v":{"$error":"#N/A"}},{"$f":"MID(VLOOKUP($AT$7&\"-\"&AT$3&\"-\"&$A36,'DOCUMENTI EMESSI'!$C$9:$L$2008,10,FALSE),8,1)","v":{"$error":"#N/A"}},{"$f":"MID(VLOOKUP($AT$7&\"-\"&AT$3&\"-\"&$A36,'DOCUMENTI EMESSI'!$C$9:$L$2008,10,FALSE),9,1)","v":{"$error":"#N/A"}},{"$f":"MID(VLOOKUP($AT$7&\"-\"&AT$3&\"-\"&$A36,'DOCUMENTI EMESSI'!$C$9:$L$2008,10,FALSE),10,1)","v":{"$error":"#N/A"}},{"$f":"MID(VLOOKUP($AT$7&\"-\"&AT$3&\"-\"&$A36,'DOCUMENTI EMESSI'!$C$9:$L$2008,10,FALSE),11,1)","v":{"$error":"#N/A"}},{"$f":"MID(VLOOKUP($AT$7&\"-\"&AT$3&\"-\"&$A36,'DOCUMENTI EMESSI'!$C$9:$L$2008,10,FALSE),12,1)","v":{"$error":"#N/A"}},{"$f":"MID(VLOOKUP($AT$7&\"-\"&AT$3&\"-\"&$A36,'DOCUMENTI EMESSI'!$C$9:$L$2008,10,FALSE),13,1)","v":{"$error":"#N/A"}},{"$f":"MID(VLOOKUP($AT$7&\"-\"&AT$3&\"-\"&$A36,'DOCUMENTI EMESSI'!$C$9:$L$2008,10,FALSE),14,1)","v":{"$error":"#N/A"}},{"$f":"MID(VLOOKUP($AT$7&\"-\"&AT$3&\"-\"&$A36,'DOCUMENTI EMESSI'!$C$9:$L$2008,10,FALSE),15,1)","v":{"$error":"#N/A"}},{"$f":"MID(VLOOKUP($AT$7&\"-\"&AT$3&\"-\"&$A36,'DOCUMENTI EMESSI'!$C$9:$L$2008,10,FALSE),16,1)","v":{"$error":"#N/A"}},{"$f":"MID(VLOOKUP($AT$7&\"-\"&AT$3&\"-\"&$A36,'DOCUMENTI EMESSI'!$C$9:$L$2008,10,FALSE),17,1)","v":{"$error":"#N/A"}},null,{"$f":"VLOOKUP($AT$7&\"-\"&AT$3&\"-\"&$A36,'DOCUMENTI EMESSI'!$C$9:$M$2008,11,FALSE)","v":{"$error":"#N/A"}},null,null,null,null,{"$f":"VLOOKUP($AT$7&\"-\"&AT$3&\"-\"&$A36,'DOCUMENTI EMESSI'!$C$9:$N$2008,12,FALSE)","v":{"$error":"#N/A"}},null,null,null,null,null,{"$f":"FLOOR(VLOOKUP($AT$7&\"-\"&AT$3&\"-\"&$A36,'DOCUMENTI EMESSI'!$C$9:$O$2008,13,FALSE),1)","v":{"$error":"#N/A"}},null,null,null,null,{"$f":"LEFT(RIGHT(TEXT(VLOOKUP($AT$7&\"-\"&AT$3&\"-\"&$A36,'DOCUMENTI EMESSI'!$C$9:$O$2008,13,FALSE),\"0,00\"),2),1)","v":{"$error":"#N/A"}},{"$f":"RIGHT(TEXT(VLOOKUP($AT$7&\"-\"&AT$3&\"-\"&$A36,'DOCUMENTI EMESSI'!$C$9:$O$2008,13,FALSE),\"0,00\"),1)","v":{"$error":"#N/A"}},{"$f":"VLOOKUP($AT$7&\"-\"&$AT$3&\"-\"&A36,'DOCUMENTI EMESSI'!$C$9:$AC$2008,27,FALSE)","v":{"$error":"#N/A"}}]
[16,null,{"$f":"VLOOKUP($AT$7&\"-\"&AT$3&\"-\"&$A37,'DOCUMENTI EMESSI'!$C$9:$K$2008,9,FALSE)","v":{"$error":"#N/A"}},null,null,{"$f":"MID(VLOOKUP($AT$7&\"-\"&AT$3&\"-\"&$A37,'DOCUMENTI EMESSI'!$C$9:$L$2008,10,FALSE),1,1)","v":{"$error":"#N/A"}},null,{"$f":"MID(VLOOKUP($AT$7&\"-\"&AT$3&\"-\"&$A37,'DOCUMENTI EMESSI'!$C$9:$L$2008,10,FALSE),2,1)","v":{"$error":"#N/A"}},null,{"$f":"MID(VLOOKUP($AT$7&\"-\"&AT$3&\"-\"&$A37,'DOCUMENTI EMESSI'!$C$9:$L$2008,10,FALSE),3,1)","v":{"$error":"#N/A"}},null,{"$f":"MID(VLOOKUP($AT$7&\"-\"&AT$3&\"-\"&$A37,'DOCUMENTI EMESSI'!$C$9:$L$2008,10,FALSE),4,1)","v":{"$error":"#N/A"}},null,{"$f":"MID(VLOOKUP($AT$7&\"-\"&AT$3&\"-\"&$A37,'DOCUMENTI EMESSI'!$C$9:$L$2008,10,FALSE),5,1)","v":{"$error":"#N/A"}},{"$f":"MID(VLOOKUP($AT$7&\"-\"&AT$3&\"-\"&$A37,'DOCUMENTI EMESSI'!$C$9:$L$2008,10,FALSE),6,1)","v":{"$error":"#N/A"}},{"$f":"MID(VLOOKUP($AT$7&\"-\"&AT$3&\"-\"&$A37,'DOCUMENTI EMESSI'!$C$9:$L$2008,10,FALSE),7,1)","v":{"$error":"#N/A"}},{"$f":"MID(VLOOKUP($AT$7&\"-\"&AT$3&\"-\"&$A37,'DOCUMENTI EMESSI'!$C$9:$L$2008,10,FALSE),8,1)","v":{"$error":"#N/A"}},{"$f":"MID(VLOOKUP($AT$7&\"-\"&AT$3&\"-\"&$A37,'DOCUMENTI EMESSI'!$C$9:$L$2008,10,FALSE),9,1)","v":{"$error":"#N/A"}},{"$f":"MID(VLOOKUP($AT$7&\"-\"&AT$3&\"-\"&$A37,'DOCUMENTI EMESSI'!$C$9:$L$2008,10,FALSE),10,1)","v":{"$error":"#N/A"}},{"$f":"MID(VLOOKUP($AT$7&\"-\"&AT$3&\"-\"&$A37,'DOCUMENTI EMESSI'!$C$9:$L$2008,10,FALSE),11,1)","v":{"$error":"#N/A"}},{"$f":"MID(VLOOKUP($AT$7&\"-\"&AT$3&\"-\"&$A37,'DOCUMENTI EMESSI'!$C$9:$L$2008,10,FALSE),12,1)","v":{"$error":"#N/A"}},{"$f":"MID(VLOOKUP($AT$7&\"-\"&AT$3&\"-\"&$A37,'DOCUMENTI EMESSI'!$C$9:$L$2008,10,FALSE),13,1)","v":{"$error":"#N/A"}},{"$f":"MID(VLOOKUP($AT$7&\"-\"&AT$3&\"-\"&$A37,'DOCUMENTI EMESSI'!$C$9:$L$2008,10,FALSE),14,1)","v":{"$error":"#N/A"}},{"$f":"MID(VLOOKUP($AT$7&\"-\"&AT$3&\"-\"&$A37,'DOCUMENTI EMESSI'!$C$9:$L$2008,10,FALSE),15,1)","v":{"$error":"#N/A"}},{"$f":"MID(VLOOKUP($AT$7&\"-\"&AT$3&\"-\"&$A37,'DOCUMENTI EMESSI'!$C$9:$L$2008,10,FALSE),16,1)","v":{"$error":"#N/A"}},{"$f":"MID(VLOOKUP($AT$7&\"-\"&AT$3&\"-\"&$A37,'DOCUMENTI EMESSI'!$C$9:$L$2008,10,FALSE),17,1)","v":{"$error":"#N/A"}},null,{"$f":"VLOOKUP($AT$7&\"-\"&AT$3&\"-\"&$A37,'DOCUMENTI EMESSI'!$C$9:$M$2008,11,FALSE)","v":{"$error":"#N/A"}},null,null,null,null,{"$f":"VLOOKUP($AT$7&\"-\"&AT$3&\"-\"&$A37,'DOCUMENTI EMESSI'!$C$9:$N$2008,12,FALSE)","v":{"$error":"#N/A"}},null,null,null,null,null,{"$f":"FLOOR(VLOOKUP($AT$7&\"-\"&AT$3&\"-\"&$A37,'DOCUMENTI EMESSI'!$C$9:$O$2008,13,FALSE),1)","v":{"$error":"#N/A"}},null,null,null,null,{"$f":"LEFT(RIGHT(TEXT(VLOOKUP($AT$7&\"-\"&AT$3&\"-\"&$A37,'DOCUMENTI EMESSI'!$C$9:$O$2008,13,FALSE),\"0,00\"),2),1)","v":{"$error":"#N/A"}},{"$f":"RIGHT(TEXT(VLOOKUP($AT$7&\"-\"&AT$3&\"-\"&$A37,'DOCUMENTI EMESSI'!$C$9:$O$2008,13,FALSE),\"0,00\"),1)","v":{"$error":"#N/A"}},{"$f":"VLOOKUP($AT$7&\"-\"&$AT$3&\"-\"&A37,'DOCUMENTI EMESSI'!$C$9:$AC$2008,27,FALSE)","v":{"$error":"#N/A"}}]
[17,null,{"$f":"VLOOKUP($AT$7&\"-\"&AT$3&\"-\"&$A38,'DOCUMENTI EMESSI'!$C$9:$K$2008,9,FALSE)","v":{"$error":"#N/A"}},null,null,{"$f":"MID(VLOOKUP($AT$7&\"-\"&AT$3&\"-\"&$A38,'DOCUMENTI EMESSI'!$C$9:$L$2008,10,FALSE),1,1)","v":{"$error":"#N/A"}},null,{"$f":"MID(VLOOKUP($AT$7&\"-\"&AT$3&\"-\"&$A38,'DOCUMENTI EMESSI'!$C$9:$L$2008,10,FALSE),2,1)","v":{"$error":"#N/A"}},null,{"$f":"MID(VLOOKUP($AT$7&\"-\"&AT$3&\"-\"&$A38,'DOCUMENTI EMESSI'!$C$9:$L$2008,10,FALSE),3,1)","v":{"$error":"#N/A"}},null,{"$f":"MID(VLOOKUP($AT$7&\"-\"&AT$3&\"-\"&$A38,'DOCUMENTI EMESSI'!$C$9:$L$2008,10,FALSE),4,1)","v":{"$error":"#N/A"}},null,{"$f":"MID(VLOOKUP($AT$7&\"-\"&AT$3&\"-\"&$A38,'DOCUMENTI EMESSI'!$C$9:$L$2008,10,FALSE),5,1)","v":{"$error":"#N/A"}},{"$f":"MID(VLOOKUP($AT$7&\"-\"&AT$3&\"-\"&$A38,'DOCUMENTI EMESSI'!$C$9:$L$2008,10,FALSE),6,1)","v":{"$error":"#N/A"}},{"$f":"MID(VLOOKUP($AT$7&\"-\"&AT$3&\"-\"&$A38,'DOCUMENTI EMESSI'!$C$9:$L$2008,10,FALSE),7,1)","v":{"$error":"#N/A"}},{"$f":"MID(VLOOKUP($AT$7&\"-\"&AT$3&\"-\"&$A38,'DOCUMENTI EMESSI'!$C$9:$L$2008,10,FALSE),8,1)","v":{"$error":"#N/A"}},{"$f":"MID(VLOOKUP($AT$7&\"-\"&AT$3&\"-\"&$A38,'DOCUMENTI EMESSI'!$C$9:$L$2008,10,FALSE),9,1)","v":{"$error":"#N/A"}},{"$f":"MID(VLOOKUP($AT$7&\"-\"&AT$3&\"-\"&$A38,'DOCUMENTI EMESSI'!$C$9:$L$2008,10,FALSE),10,1)","v":{"$error":"#N/A"}},{"$f":"MID(VLOOKUP($AT$7&\"-\"&AT$3&\"-\"&$A38,'DOCUMENTI EMESSI'!$C$9:$L$2008,10,FALSE),11,1)","v":{"$error":"#N/A"}},{"$f":"MID(VLOOKUP($AT$7&\"-\"&AT$3&\"-\"&$A38,'DOCUMENTI EMESSI'!$C$9:$L$2008,10,FALSE),12,1)","v":{"$error":"#N/A"}},{"$f":"MID(VLOOKUP($AT$7&\"-\"&AT$3&\"-\"&$A38,'DOCUMENTI EMESSI'!$C$9:$L$2008,10,FALSE),13,1)","v":{"$error":"#N/A"}},{"$f":"MID(VLOOKUP($AT$7&\"-\"&AT$3&\"-\"&$A38,'DOCUMENTI EMESSI'!$C$9:$L$2008,10,FALSE),14,1)","v":{"$error":"#N/A"}},{"$f":"MID(VLOOKUP($AT$7&\"-\"&AT$3&\"-\"&$A38,'DOCUMENTI EMESSI'!$C$9:$L$2008,10,FALSE),15,1)","v":{"$error":"#N/A"}},{"$f":"MID(VLOOKUP($AT$7&\"-\"&AT$3&\"-\"&$A38,'DOCUMENTI EMESSI'!$C$9:$L$2008,10,FALSE),16,1)","v":{"$error":"#N/A"}},{"$f":"MID(VLOOKUP($AT$7&\"-\"&AT$3&\"-\"&$A38,'DOCUMENTI EMESSI'!$C$9:$L$2008,10,FALSE),17,1)","v":{"$error":"#N/A"}},null,{"$f":"VLOOKUP($AT$7&\"-\"&AT$3&\"-\"&$A38,'DOCUMENTI EMESSI'!$C$9:$M$2008,11,FALSE)","v":{"$error":"#N/A"}},null,null,null,null,{"$f":"VLOOKUP($AT$7&\"-\"&AT$3&\"-\"&$A38,'DOCUMENTI EMESSI'!$C$9:$N$2008,12,FALSE)","v":{"$error":"#N/A"}},null,null,null,null,null,{"$f":"FLOOR(VLOOKUP($AT$7&\"-\"&AT$3&\"-\"&$A38,'DOCUMENTI EMESSI'!$C$9:$O$2008,13,FALSE),1)","v":{"$error":"#N/A"}},null,null,null,null,{"$f":"LEFT(RIGHT(TEXT(VLOOKUP($AT$7&\"-\"&AT$3&\"-\"&$A38,'DOCUMENTI EMESSI'!$C$9:$O$2008,13,FALSE),\"0,00\"),2),1)","v":{"$error":"#N/A"}},{"$f":"RIGHT(TEXT(VLOOKUP($AT$7&\"-\"&AT$3&\"-\"&$A38,'DOCUMENTI EMESSI'!$C$9:$O$2008,13,FALSE),\"0,00\"),1)","v":{"$error":"#N/A"}},{"$f":"VLOOKUP($AT$7&\"-\"&$AT$3&\"-\"&A38,'DOCUMENTI EMESSI'!$C$9:$AC$2008,27,FALSE)","v":{"$error":"#N/A"}}]
[18,null,{"$f":"VLOOKUP($AT$7&\"-\"&AT$3&\"-\"&$A39,'DOCUMENTI EMESSI'!$C$9:$K$2008,9,FALSE)","v":{"$error":"#N/A"}},null,null,{"$f":"MID(VLOOKUP($AT$7&\"-\"&AT$3&\"-\"&$A39,'DOCUMENTI EMESSI'!$C$9:$L$2008,10,FALSE),1,1)","v":{"$error":"#N/A"}},null,{"$f":"MID(VLOOKUP($AT$7&\"-\"&AT$3&\"-\"&$A39,'DOCUMENTI EMESSI'!$C$9:$L$2008,10,FALSE),2,1)","v":{"$error":"#N/A"}},null,{"$f":"MID(VLOOKUP($AT$7&\"-\"&AT$3&\"-\"&$A39,'DOCUMENTI EMESSI'!$C$9:$L$2008,10,FALSE),3,1)","v":{"$error":"#N/A"}},null,{"$f":"MID(VLOOKUP($AT$7&\"-\"&AT$3&\"-\"&$A39,'DOCUMENTI EMESSI'!$C$9:$L$2008,10,FALSE),4,1)","v":{"$error":"#N/A"}},null,{"$f":"MID(VLOOKUP($AT$7&\"-\"&AT$3&\"-\"&$A39,'DOCUMENTI EMESSI'!$C$9:$L$2008,10,FALSE),5,1)","v":{"$error":"#N/A"}},{"$f":"MID(VLOOKUP($AT$7&\"-\"&AT$3&\"-\"&$A39,'DOCUMENTI EMESSI'!$C$9:$L$2008,10,FALSE),6,1)","v":{"$error":"#N/A"}},{"$f":"MID(VLOOKUP($AT$7&\"-\"&AT$3&\"-\"&$A39,'DOCUMENTI EMESSI'!$C$9:$L$2008,10,FALSE),7,1)","v":{"$error":"#N/A"}},{"$f":"MID(VLOOKUP($AT$7&\"-\"&AT$3&\"-\"&$A39,'DOCUMENTI EMESSI'!$C$9:$L$2008,10,FALSE),8,1)","v":{"$error":"#N/A"}},{"$f":"MID(VLOOKUP($AT$7&\"-\"&AT$3&\"-\"&$A39,'DOCUMENTI EMESSI'!$C$9:$L$2008,10,FALSE),9,1)","v":{"$error":"#N/A"}},{"$f":"MID(VLOOKUP($AT$7&\"-\"&AT$3&\"-\"&$A39,'DOCUMENTI EMESSI'!$C$9:$L$2008,10,FALSE),10,1)","v":{"$error":"#N/A"}},{"$f":"MID(VLOOKUP($AT$7&\"-\"&AT$3&\"-\"&$A39,'DOCUMENTI EMESSI'!$C$9:$L$2008,10,FALSE),11,1)","v":{"$error":"#N/A"}},{"$f":"MID(VLOOKUP($AT$7&\"-\"&AT$3&\"-\"&$A39,'DOCUMENTI EMESSI'!$C$9:$L$2008,10,FALSE),12,1)","v":{"$error":"#N/A"}},{"$f":"MID(VLOOKUP($AT$7&\"-\"&AT$3&\"-\"&$A39,'DOCUMENTI EMESSI'!$C$9:$L$2008,10,FALSE),13,1)","v":{"$error":"#N/A"}},{"$f":"MID(VLOOKUP($AT$7&\"-\"&AT$3&\"-\"&$A39,'DOCUMENTI EMESSI'!$C$9:$L$2008,10,FALSE),14,1)","v":{"$error":"#N/A"}},{"$f":"MID(VLOOKUP($AT$7&\"-\"&AT$3&\"-\"&$A39,'DOCUMENTI EMESSI'!$C$9:$L$2008,10,FALSE),15,1)","v":{"$error":"#N/A"}},{"$f":"MID(VLOOKUP($AT$7&\"-\"&AT$3&\"-\"&$A39,'DOCUMENTI EMESSI'!$C$9:$L$2008,10,FALSE),16,1)","v":{"$error":"#N/A"}},{"$f":"MID(VLOOKUP($AT$7&\"-\"&AT$3&\"-\"&$A39,'DOCUMENTI EMESSI'!$C$9:$L$2008,10,FALSE),17,1)","v":{"$error":"#N/A"}},null,{"$f":"VLOOKUP($AT$7&\"-\"&AT$3&\"-\"&$A39,'DOCUMENTI EMESSI'!$C$9:$M$2008,11,FALSE)","v":{"$error":"#N/A"}},null,null,null,null,{"$f":"VLOOKUP($AT$7&\"-\"&AT$3&\"-\"&$A39,'DOCUMENTI EMESSI'!$C$9:$N$2008,12,FALSE)","v":{"$error":"#N/A"}},null,null,null,null,null,{"$f":"FLOOR(VLOOKUP($AT$7&\"-\"&AT$3&\"-\"&$A39,'DOCUMENTI EMESSI'!$C$9:$O$2008,13,FALSE),1)","v":{"$error":"#N/A"}},null,null,null,null,{"$f":"LEFT(RIGHT(TEXT(VLOOKUP($AT$7&\"-\"&AT$3&\"-\"&$A39,'DOCUMENTI EMESSI'!$C$9:$O$2008,13,FALSE),\"0,00\"),2),1)","v":{"$error":"#N/A"}},{"$f":"RIGHT(TEXT(VLOOKUP($AT$7&\"-\"&AT$3&\"-\"&$A39,'DOCUMENTI EMESSI'!$C$9:$O$2008,13,FALSE),\"0,00\"),1)","v":{"$error":"#N/A"}},{"$f":"VLOOKUP($AT$7&\"-\"&$AT$3&\"-\"&A39,'DOCUMENTI EMESSI'!$C$9:$AC$2008,27,FALSE)","v":{"$error":"#N/A"}}]
[19,null,{"$f":"VLOOKUP($AT$7&\"-\"&AT$3&\"-\"&$A40,'DOCUMENTI EMESSI'!$C$9:$K$2008,9,FALSE)","v":{"$error":"#N/A"}},null,null,{"$f":"MID(VLOOKUP($AT$7&\"-\"&AT$3&\"-\"&$A40,'DOCUMENTI EMESSI'!$C$9:$L$2008,10,FALSE),1,1)","v":{"$error":"#N/A"}},null,{"$f":"MID(VLOOKUP($AT$7&\"-\"&AT$3&\"-\"&$A40,'DOCUMENTI EMESSI'!$C$9:$L$2008,10,FALSE),2,1)","v":{"$error":"#N/A"}},null,{"$f":"MID(VLOOKUP($AT$7&\"-\"&AT$3&\"-\"&$A40,'DOCUMENTI EMESSI'!$C$9:$L$2008,10,FALSE),3,1)","v":{"$error":"#N/A"}},null,{"$f":"MID(VLOOKUP($AT$7&\"-\"&AT$3&\"-\"&$A40,'DOCUMENTI EMESSI'!$C$9:$L$2008,10,FALSE),4,1)","v":{"$error":"#N/A"}},null,{"$f":"MID(VLOOKUP($AT$7&\"-\"&AT$3&\"-\"&$A40,'DOCUMENTI EMESSI'!$C$9:$L$2008,10,FALSE),5,1)","v":{"$error":"#N/A"}},{"$f":"MID(VLOOKUP($AT$7&\"-\"&AT$3&\"-\"&$A40,'DOCUMENTI EMESSI'!$C$9:$L$2008,10,FALSE),6,1)","v":{"$error":"#N/A"}},{"$f":"MID(VLOOKUP($AT$7&\"-\"&AT$3&\"-\"&$A40,'DOCUMENTI EMESSI'!$C$9:$L$2008,10,FALSE),7,1)","v":{"$error":"#N/A"}},{"$f":"MID(VLOOKUP($AT$7&\"-\"&AT$3&\"-\"&$A40,'DOCUMENTI EMESSI'!$C$9:$L$2008,10,FALSE),8,1)","v":{"$error":"#N/A"}},{"$f":"MID(VLOOKUP($AT$7&\"-\"&AT$3&\"-\"&$A40,'DOCUMENTI EMESSI'!$C$9:$L$2008,10,FALSE),9,1)","v":{"$error":"#N/A"}},{"$f":"MID(VLOOKUP($AT$7&\"-\"&AT$3&\"-\"&$A40,'DOCUMENTI EMESSI'!$C$9:$L$2008,10,FALSE),10,1)","v":{"$error":"#N/A"}},{"$f":"MID(VLOOKUP($AT$7&\"-\"&AT$3&\"-\"&$A40,'DOCUMENTI EMESSI'!$C$9:$L$2008,10,FALSE),11,1)","v":{"$error":"#N/A"}},{"$f":"MID(VLOOKUP($AT$7&\"-\"&AT$3&\"-\"&$A40,'DOCUMENTI EMESSI'!$C$9:$L$2008,10,FALSE),12,1)","v":{"$error":"#N/A"}},{"$f":"MID(VLOOKUP($AT$7&\"-\"&AT$3&\"-\"&$A40,'DOCUMENTI EMESSI'!$C$9:$L$2008,10,FALSE),13,1)","v":{"$error":"#N/A"}},{"$f":"MID(VLOOKUP($AT$7&\"-\"&AT$3&\"-\"&$A40,'DOCUMENTI EMESSI'!$C$9:$L$2008,10,FALSE),14,1)","v":{"$error":"#N/A"}},{"$f":"MID(VLOOKUP($AT$7&\"-\"&AT$3&\"-\"&$A40,'DOCUMENTI EMESSI'!$C$9:$L$2008,10,FALSE),15,1)","v":{"$error":"#N/A"}},{"$f":"MID(VLOOKUP($AT$7&\"-\"&AT$3&\"-\"&$A40,'DOCUMENTI EMESSI'!$C$9:$L$2008,10,FALSE),16,1)","v":{"$error":"#N/A"}},{"$f":"MID(VLOOKUP($AT$7&\"-\"&AT$3&\"-\"&$A40,'DOCUMENTI EMESSI'!$C$9:$L$2008,10,FALSE),17,1)","v":{"$error":"#N/A"}},null,{"$f":"VLOOKUP($AT$7&\"-\"&AT$3&\"-\"&$A40,'DOCUMENTI EMESSI'!$C$9:$M$2008,11,FALSE)","v":{"$error":"#N/A"}},null,null,null,null,{"$f":"VLOOKUP($AT$7&\"-\"&AT$3&\"-\"&$A40,'DOCUMENTI EMESSI'!$C$9:$N$2008,12,FALSE)","v":{"$error":"#N/A"}},null,null,null,null,null,{"$f":"FLOOR(VLOOKUP($AT$7&\"-\"&AT$3&\"-\"&$A40,'DOCUMENTI EMESSI'!$C$9:$O$2008,13,FALSE),1)","v":{"$error":"#N/A"}},null,null,null,null,{"$f":"LEFT(RIGHT(TEXT(VLOOKUP($AT$7&\"-\"&AT$3&\"-\"&$A40,'DOCUMENTI EMESSI'!$C$9:$O$2008,13,FALSE),\"0,00\"),2),1)","v":{"$error":"#N/A"}},{"$f":"RIGHT(TEXT(VLOOKUP($AT$7&\"-\"&AT$3&\"-\"&$A40,'DOCUMENTI EMESSI'!$C$9:$O$2008,13,FALSE),\"0,00\"),1)","v":{"$error":"#N/A"}},{"$f":"VLOOKUP($AT$7&\"-\"&$AT$3&\"-\"&A40,'DOCUMENTI EMESSI'!$C$9:$AC$2008,27,FALSE)","v":{"$error":"#N/A"}}]
[20,null,{"$f":"VLOOKUP($AT$7&\"-\"&AT$3&\"-\"&$A41,'DOCUMENTI EMESSI'!$C$9:$K$2008,9,FALSE)","v":{"$error":"#N/A"}},null,null,{"$f":"MID(VLOOKUP($AT$7&\"-\"&AT$3&\"-\"&$A41,'DOCUMENTI EMESSI'!$C$9:$L$2008,10,FALSE),1,1)","v":{"$error":"#N/A"}},null,{"$f":"MID(VLOOKUP($AT$7&\"-\"&AT$3&\"-\"&$A41,'DOCUMENTI EMESSI'!$C$9:$L$2008,10,FALSE),2,1)","v":{"$error":"#N/A"}},null,{"$f":"MID(VLOOKUP($AT$7&\"-\"&AT$3&\"-\"&$A41,'DOCUMENTI EMESSI'!$C$9:$L$2008,10,FALSE),3,1)","v":{"$error":"#N/A"}},null,{"$f":"MID(VLOOKUP($AT$7&\"-\"&AT$3&\"-\"&$A41,'DOCUMENTI EMESSI'!$C$9:$L$2008,10,FALSE),4,1)","v":{"$error":"#N/A"}},null,{"$f":"MID(VLOOKUP($AT$7&\"-\"&AT$3&\"-\"&$A41,'DOCUMENTI EMESSI'!$C$9:$L$2008,10,FALSE),5,1)","v":{"$error":"#N/A"}},{"$f":"MID(VLOOKUP($AT$7&\"-\"&AT$3&\"-\"&$A41,'DOCUMENTI EMESSI'!$C$9:$L$2008,10,FALSE),6,1)","v":{"$error":"#N/A"}},{"$f":"MID(VLOOKUP($AT$7&\"-\"&AT$3&\"-\"&$A41,'DOCUMENTI EMESSI'!$C$9:$L$2008,10,FALSE),7,1)","v":{"$error":"#N/A"}},{"$f":"MID(VLOOKUP($AT$7&\"-\"&AT$3&\"-\"&$A41,'DOCUMENTI EMESSI'!$C$9:$L$2008,10,FALSE),8,1)","v":{"$error":"#N/A"}},{"$f":"MID(VLOOKUP($AT$7&\"-\"&AT$3&\"-\"&$A41,'DOCUMENTI EMESSI'!$C$9:$L$2008,10,FALSE),9,1)","v":{"$error":"#N/A"}},{"$f":"MID(VLOOKUP($AT$7&\"-\"&AT$3&\"-\"&$A41,'DOCUMENTI EMESSI'!$C$9:$L$2008,10,FALSE),10,1)","v":{"$error":"#N/A"}},{"$f":"MID(VLOOKUP($AT$7&\"-\"&AT$3&\"-\"&$A41,'DOCUMENTI EMESSI'!$C$9:$L$2008,10,FALSE),11,1)","v":{"$error":"#N/A"}},{"$f":"MID(VLOOKUP($AT$7&\"-\"&AT$3&\"-\"&$A41,'DOCUMENTI EMESSI'!$C$9:$L$2008,10,FALSE),12,1)","v":{"$error":"#N/A"}},{"$f":"MID(VLOOKUP($AT$7&\"-\"&AT$3&\"-\"&$A41,'DOCUMENTI EMESSI'!$C$9:$L$2008,10,FALSE),13,1)","v":{"$error":"#N/A"}},{"$f":"MID(VLOOKUP($AT$7&\"-\"&AT$3&\"-\"&$A41,'DOCUMENTI EMESSI'!$C$9:$L$2008,10,FALSE),14,1)","v":{"$error":"#N/A"}},{"$f":"MID(VLOOKUP($AT$7&\"-\"&AT$3&\"-\"&$A41,'DOCUMENTI EMESSI'!$C$9:$L$2008,10,FALSE),15,1)","v":{"$error":"#N/A"}},{"$f":"MID(VLOOKUP($AT$7&\"-\"&AT$3&\"-\"&$A41,'DOCUMENTI EMESSI'!$C$9:$L$2008,10,FALSE),16,1)","v":{"$error":"#N/A"}},{"$f":"MID(VLOOKUP($AT$7&\"-\"&AT$3&\"-\"&$A41,'DOCUMENTI EMESSI'!$C$9:$L$2008,10,FALSE),17,1)","v":{"$error":"#N/A"}},null,{"$f":"VLOOKUP($AT$7&\"-\"&AT$3&\"-\"&$A41,'DOCUMENTI EMESSI'!$C$9:$M$2008,11,FALSE)","v":{"$error":"#N/A"}},null,null,null,null,{"$f":"VLOOKUP($AT$7&\"-\"&AT$3&\"-\"&$A41,'DOCUMENTI EMESSI'!$C$9:$N$2008,12,FALSE)","v":{"$error":"#N/A"}},null,null,null,null,null,{"$f":"FLOOR(VLOOKUP($AT$7&\"-\"&AT$3&\"-\"&$A41,'DOCUMENTI EMESSI'!$C$9:$O$2008,13,FALSE),1)","v":{"$error":"#N/A"}},null,null,null,null,{"$f":"LEFT(RIGHT(TEXT(VLOOKUP($AT$7&\"-\"&AT$3&\"-\"&$A41,'DOCUMENTI EMESSI'!$C$9:$O$2008,13,FALSE),\"0,00\"),2),1)","v":{"$error":"#N/A"}},{"$f":"RIGHT(TEXT(VLOOKUP($AT$7&\"-\"&AT$3&\"-\"&$A41,'DOCUMENTI EMESSI'!$C$9:$O$2008,13,FALSE),\"0,00\"),1)","v":{"$error":"#N/A"}},{"$f":"VLOOKUP($AT$7&\"-\"&$AT$3&\"-\"&A41,'DOCUMENTI EMESSI'!$C$9:$AC$2008,27,FALSE)","v":{"$error":"#N/A"}}]
[21,null,{"$f":"VLOOKUP($AT$7&\"-\"&AT$3&\"-\"&$A42,'DOCUMENTI EMESSI'!$C$9:$K$2008,9,FALSE)","v":{"$error":"#N/A"}},null,null,{"$f":"MID(VLOOKUP($AT$7&\"-\"&AT$3&\"-\"&$A42,'DOCUMENTI EMESSI'!$C$9:$L$2008,10,FALSE),1,1)","v":{"$error":"#N/A"}},null,{"$f":"MID(VLOOKUP($AT$7&\"-\"&AT$3&\"-\"&$A42,'DOCUMENTI EMESSI'!$C$9:$L$2008,10,FALSE),2,1)","v":{"$error":"#N/A"}},null,{"$f":"MID(VLOOKUP($AT$7&\"-\"&AT$3&\"-\"&$A42,'DOCUMENTI EMESSI'!$C$9:$L$2008,10,FALSE),3,1)","v":{"$error":"#N/A"}},null,{"$f":"MID(VLOOKUP($AT$7&\"-\"&AT$3&\"-\"&$A42,'DOCUMENTI EMESSI'!$C$9:$L$2008,10,FALSE),4,1)","v":{"$error":"#N/A"}},null,{"$f":"MID(VLOOKUP($AT$7&\"-\"&AT$3&\"-\"&$A42,'DOCUMENTI EMESSI'!$C$9:$L$2008,10,FALSE),5,1)","v":{"$error":"#N/A"}},{"$f":"MID(VLOOKUP($AT$7&\"-\"&AT$3&\"-\"&$A42,'DOCUMENTI EMESSI'!$C$9:$L$2008,10,FALSE),6,1)","v":{"$error":"#N/A"}},{"$f":"MID(VLOOKUP($AT$7&\"-\"&AT$3&\"-\"&$A42,'DOCUMENTI EMESSI'!$C$9:$L$2008,10,FALSE),7,1)","v":{"$error":"#N/A"}},{"$f":"MID(VLOOKUP($AT$7&\"-\"&AT$3&\"-\"&$A42,'DOCUMENTI EMESSI'!$C$9:$L$2008,10,FALSE),8,1)","v":{"$error":"#N/A"}},{"$f":"MID(VLOOKUP($AT$7&\"-\"&AT$3&\"-\"&$A42,'DOCUMENTI EMESSI'!$C$9:$L$2008,10,FALSE),9,1)","v":{"$error":"#N/A"}},{"$f":"MID(VLOOKUP($AT$7&\"-\"&AT$3&\"-\"&$A42,'DOCUMENTI EMESSI'!$C$9:$L$2008,10,FALSE),10,1)","v":{"$error":"#N/A"}},{"$f":"MID(VLOOKUP($AT$7&\"-\"&AT$3&\"-\"&$A42,'DOCUMENTI EMESSI'!$C$9:$L$2008,10,FALSE),11,1)","v":{"$error":"#N/A"}},{"$f":"MID(VLOOKUP($AT$7&\"-\"&AT$3&\"-\"&$A42,'DOCUMENTI EMESSI'!$C$9:$L$2008,10,FALSE),12,1)","v":{"$error":"#N/A"}},{"$f":"MID(VLOOKUP($AT$7&\"-\"&AT$3&\"-\"&$A42,'DOCUMENTI EMESSI'!$C$9:$L$2008,10,FALSE),13,1)","v":{"$error":"#N/A"}},{"$f":"MID(VLOOKUP($AT$7&\"-\"&AT$3&\"-\"&$A42,'DOCUMENTI EMESSI'!$C$9:$L$2008,10,FALSE),14,1)","v":{"$error":"#N/A"}},{"$f":"MID(VLOOKUP($AT$7&\"-\"&AT$3&\"-\"&$A42,'DOCUMENTI EMESSI'!$C$9:$L$2008,10,FALSE),15,1)","v":{"$error":"#N/A"}},{"$f":"MID(VLOOKUP($AT$7&\"-\"&AT$3&\"-\"&$A42,'DOCUMENTI EMESSI'!$C$9:$L$2008,10,FALSE),16,1)","v":{"$error":"#N/A"}},{"$f":"MID(VLOOKUP($AT$7&\"-\"&AT$3&\"-\"&$A42,'DOCUMENTI EMESSI'!$C$9:$L$2008,10,FALSE),17,1)","v":{"$error":"#N/A"}},null,{"$f":"VLOOKUP($AT$7&\"-\"&AT$3&\"-\"&$A42,'DOCUMENTI EMESSI'!$C$9:$M$2008,11,FALSE)","v":{"$error":"#N/A"}},null,null,null,null,{"$f":"VLOOKUP($AT$7&\"-\"&AT$3&\"-\"&$A42,'DOCUMENTI EMESSI'!$C$9:$N$2008,12,FALSE)","v":{"$error":"#N/A"}},null,null,null,null,null,{"$f":"FLOOR(VLOOKUP($AT$7&\"-\"&AT$3&\"-\"&$A42,'DOCUMENTI EMESSI'!$C$9:$O$2008,13,FALSE),1)","v":{"$error":"#N/A"}},null,null,null,null,{"$f":"LEFT(RIGHT(TEXT(VLOOKUP($AT$7&\"-\"&AT$3&\"-\"&$A42,'DOCUMENTI EMESSI'!$C$9:$O$2008,13,FALSE),\"0,00\"),2),1)","v":{"$error":"#N/A"}},{"$f":"RIGHT(TEXT(VLOOKUP($AT$7&\"-\"&AT$3&\"-\"&$A42,'DOCUMENTI EMESSI'!$C$9:$O$2008,13,FALSE),\"0,00\"),1)","v":{"$error":"#N/A"}},{"$f":"VLOOKUP($AT$7&\"-\"&$AT$3&\"-\"&A42,'DOCUMENTI EMESSI'!$C$9:$AC$2008,27,FALSE)","v":{"$error":"#N/A"}}]
[22,null,{"$f":"VLOOKUP($AT$7&\"-\"&AT$3&\"-\"&$A43,'DOCUMENTI EMESSI'!$C$9:$K$2008,9,FALSE)","v":{"$error":"#N/A"}},null,null,{"$f":"MID(VLOOKUP($AT$7&\"-\"&AT$3&\"-\"&$A43,'DOCUMENTI EMESSI'!$C$9:$L$2008,10,FALSE),1,1)","v":{"$error":"#N/A"}},null,{"$f":"MID(VLOOKUP($AT$7&\"-\"&AT$3&\"-\"&$A43,'DOCUMENTI EMESSI'!$C$9:$L$2008,10,FALSE),2,1)","v":{"$error":"#N/A"}},null,{"$f":"MID(VLOOKUP($AT$7&\"-\"&AT$3&\"-\"&$A43,'DOCUMENTI EMESSI'!$C$9:$L$2008,10,FALSE),3,1)","v":{"$error":"#N/A"}},null,{"$f":"MID(VLOOKUP($AT$7&\"-\"&AT$3&\"-\"&$A43,'DOCUMENTI EMESSI'!$C$9:$L$2008,10,FALSE),4,1)","v":{"$error":"#N/A"}},null,{"$f":"MID(VLOOKUP($AT$7&\"-\"&AT$3&\"-\"&$A43,'DOCUMENTI EMESSI'!$C$9:$L$2008,10,FALSE),5,1)","v":{"$error":"#N/A"}},{"$f":"MID(VLOOKUP($AT$7&\"-\"&AT$3&\"-\"&$A43,'DOCUMENTI EMESSI'!$C$9:$L$2008,10,FALSE),6,1)","v":{"$error":"#N/A"}},{"$f":"MID(VLOOKUP($AT$7&\"-\"&AT$3&\"-\"&$A43,'DOCUMENTI EMESSI'!$C$9:$L$2008,10,FALSE),7,1)","v":{"$error":"#N/A"}},{"$f":"MID(VLOOKUP($AT$7&\"-\"&AT$3&\"-\"&$A43,'DOCUMENTI EMESSI'!$C$9:$L$2008,10,FALSE),8,1)","v":{"$error":"#N/A"}},{"$f":"MID(VLOOKUP($AT$7&\"-\"&AT$3&\"-\"&$A43,'DOCUMENTI EMESSI'!$C$9:$L$2008,10,FALSE),9,1)","v":{"$error":"#N/A"}},{"$f":"MID(VLOOKUP($AT$7&\"-\"&AT$3&\"-\"&$A43,'DOCUMENTI EMESSI'!$C$9:$L$2008,10,FALSE),10,1)","v":{"$error":"#N/A"}},{"$f":"MID(VLOOKUP($AT$7&\"-\"&AT$3&\"-\"&$A43,'DOCUMENTI EMESSI'!$C$9:$L$2008,10,FALSE),11,1)","v":{"$error":"#N/A"}},{"$f":"MID(VLOOKUP($AT$7&\"-\"&AT$3&\"-\"&$A43,'DOCUMENTI EMESSI'!$C$9:$L$2008,10,FALSE),12,1)","v":{"$error":"#N/A"}},{"$f":"MID(VLOOKUP($AT$7&\"-\"&AT$3&\"-\"&$A43,'DOCUMENTI EMESSI'!$C$9:$L$2008,10,FALSE),13,1)","v":{"$error":"#N/A"}},{"$f":"MID(VLOOKUP($AT$7&\"-\"&AT$3&\"-\"&$A43,'DOCUMENTI EMESSI'!$C$9:$L$2008,10,FALSE),14,1)","v":{"$error":"#N/A"}},{"$f":"MID(VLOOKUP($AT$7&\"-\"&AT$3&\"-\"&$A43,'DOCUMENTI EMESSI'!$C$9:$L$2008,10,FALSE),15,1)","v":{"$error":"#N/A"}},{"$f":"MID(VLOOKUP($AT$7&\"-\"&AT$3&\"-\"&$A43,'DOCUMENTI EMESSI'!$C$9:$L$2008,10,FALSE),16,1)","v":{"$error":"#N/A"}},{"$f":"MID(VLOOKUP($AT$7&\"-\"&AT$3&\"-\"&$A43,'DOCUMENTI EMESSI'!$C$9:$L$2008,10,FALSE),17,1)","v":{"$error":"#N/A"}},null,{"$f":"VLOOKUP($AT$7&\"-\"&AT$3&\"-\"&$A43,'DOCUMENTI EMESSI'!$C$9:$M$2008,11,FALSE)","v":{"$error":"#N/A"}},null,null,null,null,{"$f":"VLOOKUP($AT$7&\"-\"&AT$3&\"-\"&$A43,'DOCUMENTI EMESSI'!$C$9:$N$2008,12,FALSE)","v":{"$error":"#N/A"}},null,null,null,null,null,{"$f":"FLOOR(VLOOKUP($AT$7&\"-\"&AT$3&\"-\"&$A43,'DOCUMENTI EMESSI'!$C$9:$O$2008,13,FALSE),1)","v":{"$error":"#N/A"}},null,null,null,null,{"$f":"LEFT(RIGHT(TEXT(VLOOKUP($AT$7&\"-\"&AT$3&\"-\"&$A43,'DOCUMENTI EMESSI'!$C$9:$O$2008,13,FALSE),\"0,00\"),2),1)","v":{"$error":"#N/A"}},{"$f":"RIGHT(TEXT(VLOOKUP($AT$7&\"-\"&AT$3&\"-\"&$A43,'DOCUMENTI EMESSI'!$C$9:$O$2008,13,FALSE),\"0,00\"),1)","v":{"$error":"#N/A"}},{"$f":"VLOOKUP($AT$7&\"-\"&$AT$3&\"-\"&A43,'DOCUMENTI EMESSI'!$C$9:$AC$2008,27,FALSE)","v":{"$error":"#N/A"}}]
[23,null,{"$f":"VLOOKUP($AT$7&\"-\"&AT$3&\"-\"&$A44,'DOCUMENTI EMESSI'!$C$9:$K$2008,9,FALSE)","v":{"$error":"#N/A"}},null,null,{"$f":"MID(VLOOKUP($AT$7&\"-\"&AT$3&\"-\"&$A44,'DOCUMENTI EMESSI'!$C$9:$L$2008,10,FALSE),1,1)","v":{"$error":"#N/A"}},null,{"$f":"MID(VLOOKUP($AT$7&\"-\"&AT$3&\"-\"&$A44,'DOCUMENTI EMESSI'!$C$9:$L$2008,10,FALSE),2,1)","v":{"$error":"#N/A"}},null,{"$f":"MID(VLOOKUP($AT$7&\"-\"&AT$3&\"-\"&$A44,'DOCUMENTI EMESSI'!$C$9:$L$2008,10,FALSE),3,1)","v":{"$error":"#N/A"}},null,{"$f":"MID(VLOOKUP($AT$7&\"-\"&AT$3&\"-\"&$A44,'DOCUMENTI EMESSI'!$C$9:$L$2008,10,FALSE),4,1)","v":{"$error":"#N/A"}},null,{"$f":"MID(VLOOKUP($AT$7&\"-\"&AT$3&\"-\"&$A44,'DOCUMENTI EMESSI'!$C$9:$L$2008,10,FALSE),5,1)","v":{"$error":"#N/A"}},{"$f":"MID(VLOOKUP($AT$7&\"-\"&AT$3&\"-\"&$A44,'DOCUMENTI EMESSI'!$C$9:$L$2008,10,FALSE),6,1)","v":{"$error":"#N/A"}},{"$f":"MID(VLOOKUP($AT$7&\"-\"&AT$3&\"-\"&$A44,'DOCUMENTI EMESSI'!$C$9:$L$2008,10,FALSE),7,1)","v":{"$error":"#N/A"}},{"$f":"MID(VLOOKUP($AT$7&\"-\"&AT$3&\"-\"&$A44,'DOCUMENTI EMESSI'!$C$9:$L$2008,10,FALSE),8,1)","v":{"$error":"#N/A"}},{"$f":"MID(VLOOKUP($AT$7&\"-\"&AT$3&\"-\"&$A44,'DOCUMENTI EMESSI'!$C$9:$L$2008,10,FALSE),9,1)","v":{"$error":"#N/A"}},{"$f":"MID(VLOOKUP($AT$7&\"-\"&AT$3&\"-\"&$A44,'DOCUMENTI EMESSI'!$C$9:$L$2008,10,FALSE),10,1)","v":{"$error":"#N/A"}},{"$f":"MID(VLOOKUP($AT$7&\"-\"&AT$3&\"-\"&$A44,'DOCUMENTI EMESSI'!$C$9:$L$2008,10,FALSE),11,1)","v":{"$error":"#N/A"}},{"$f":"MID(VLOOKUP($AT$7&\"-\"&AT$3&\"-\"&$A44,'DOCUMENTI EMESSI'!$C$9:$L$2008,10,FALSE),12,1)","v":{"$error":"#N/A"}},{"$f":"MID(VLOOKUP($AT$7&\"-\"&AT$3&\"-\"&$A44,'DOCUMENTI EMESSI'!$C$9:$L$2008,10,FALSE),13,1)","v":{"$error":"#N/A"}},{"$f":"MID(VLOOKUP($AT$7&\"-\"&AT$3&\"-\"&$A44,'DOCUMENTI EMESSI'!$C$9:$L$2008,10,FALSE),14,1)","v":{"$error":"#N/A"}},{"$f":"MID(VLOOKUP($AT$7&\"-\"&AT$3&\"-\"&$A44,'DOCUMENTI EMESSI'!$C$9:$L$2008,10,FALSE),15,1)","v":{"$error":"#N/A"}},{"$f":"MID(VLOOKUP($AT$7&\"-\"&AT$3&\"-\"&$A44,'DOCUMENTI EMESSI'!$C$9:$L$2008,10,FALSE),16,1)","v":{"$error":"#N/A"}},{"$f":"MID(VLOOKUP($AT$7&\"-\"&AT$3&\"-\"&$A44,'DOCUMENTI EMESSI'!$C$9:$L$2008,10,FALSE),17,1)","v":{"$error":"#N/A"}},null,{"$f":"VLOOKUP($AT$7&\"-\"&AT$3&\"-\"&$A44,'DOCUMENTI EMESSI'!$C$9:$M$2008,11,FALSE)","v":{"$error":"#N/A"}},null,null,null,null,{"$f":"VLOOKUP($AT$7&\"-\"&AT$3&\"-\"&$A44,'DOCUMENTI EMESSI'!$C$9:$N$2008,12,FALSE)","v":{"$error":"#N/A"}},null,null,null,null,null,{"$f":"FLOOR(VLOOKUP($AT$7&\"-\"&AT$3&\"-\"&$A44,'DOCUMENTI EMESSI'!$C$9:$O$2008,13,FALSE),1)","v":{"$error":"#N/A"}},null,null,null,null,{"$f":"LEFT(RIGHT(TEXT(VLOOKUP($AT$7&\"-\"&AT$3&\"-\"&$A44,'DOCUMENTI EMESSI'!$C$9:$O$2008,13,FALSE),\"0,00\"),2),1)","v":{"$error":"#N/A"}},{"$f":"RIGHT(TEXT(VLOOKUP($AT$7&\"-\"&AT$3&\"-\"&$A44,'DOCUMENTI EMESSI'!$C$9:$O$2008,13,FALSE),\"0,00\"),1)","v":{"$error":"#N/A"}},{"$f":"VLOOKUP($AT$7&\"-\"&$AT$3&\"-\"&A44,'DOCUMENTI EMESSI'!$C$9:$AC$2008,27,FALSE)","v":{"$error":"#N/A"}}]
[24,null,{"$f":"VLOOKUP($AT$7&\"-\"&AT$3&\"-\"&$A45,'DOCUMENTI EMESSI'!$C$9:$K$2008,9,FALSE)","v":{"$error":"#N/A"}},null,null,{"$f":"MID(VLOOKUP($AT$7&\"-\"&AT$3&\"-\"&$A45,'DOCUMENTI EMESSI'!$C$9:$L$2008,10,FALSE),1,1)","v":{"$error":"#N/A"}},null,{"$f":"MID(VLOOKUP($AT$7&\"-\"&AT$3&\"-\"&$A45,'DOCUMENTI EMESSI'!$C$9:$L$2008,10,FALSE),2,1)","v":{"$error":"#N/A"}},null,{"$f":"MID(VLOOKUP($AT$7&\"-\"&AT$3&\"-\"&$A45,'DOCUMENTI EMESSI'!$C$9:$L$2008,10,FALSE),3,1)","v":{"$error":"#N/A"}},null,{"$f":"MID(VLOOKUP($AT$7&\"-\"&AT$3&\"-\"&$A45,'DOCUMENTI EMESSI'!$C$9:$L$2008,10,FALSE),4,1)","v":{"$error":"#N/A"}},null,{"$f":"MID(VLOOKUP($AT$7&\"-\"&AT$3&\"-\"&$A45,'DOCUMENTI EMESSI'!$C$9:$L$2008,10,FALSE),5,1)","v":{"$error":"#N/A"}},{"$f":"MID(VLOOKUP($AT$7&\"-\"&AT$3&\"-\"&$A45,'DOCUMENTI EMESSI'!$C$9:$L$2008,10,FALSE),6,1)","v":{"$error":"#N/A"}},{"$f":"MID(VLOOKUP($AT$7&\"-\"&AT$3&\"-\"&$A45,'DOCUMENTI EMESSI'!$C$9:$L$2008,10,FALSE),7,1)","v":{"$error":"#N/A"}},{"$f":"MID(VLOOKUP($AT$7&\"-\"&AT$3&\"-\"&$A45,'DOCUMENTI EMESSI'!$C$9:$L$2008,10,FALSE),8,1)","v":{"$error":"#N/A"}},{"$f":"MID(VLOOKUP($AT$7&\"-\"&AT$3&\"-\"&$A45,'DOCUMENTI EMESSI'!$C$9:$L$2008,10,FALSE),9,1)","v":{"$error":"#N/A"}},{"$f":"MID(VLOOKUP($AT$7&\"-\"&AT$3&\"-\"&$A45,'DOCUMENTI EMESSI'!$C$9:$L$2008,10,FALSE),10,1)","v":{"$error":"#N/A"}},{"$f":"MID(VLOOKUP($AT$7&\"-\"&AT$3&\"-\"&$A45,'DOCUMENTI EMESSI'!$C$9:$L$2008,10,FALSE),11,1)","v":{"$error":"#N/A"}},{"$f":"MID(VLOOKUP($AT$7&\"-\"&AT$3&\"-\"&$A45,'DOCUMENTI EMESSI'!$C$9:$L$2008,10,FALSE),12,1)","v":{"$error":"#N/A"}},{"$f":"MID(VLOOKUP($AT$7&\"-\"&AT$3&\"-\"&$A45,'DOCUMENTI EMESSI'!$C$9:$L$2008,10,FALSE),13,1)","v":{"$error":"#N/A"}},{"$f":"MID(VLOOKUP($AT$7&\"-\"&AT$3&\"-\"&$A45,'DOCUMENTI EMESSI'!$C$9:$L$2008,10,FALSE),14,1)","v":{"$error":"#N/A"}},{"$f":"MID(VLOOKUP($AT$7&\"-\"&AT$3&\"-\"&$A45,'DOCUMENTI EMESSI'!$C$9:$L$2008,10,FALSE),15,1)","v":{"$error":"#N/A"}},{"$f":"MID(VLOOKUP($AT$7&\"-\"&AT$3&\"-\"&$A45,'DOCUMENTI EMESSI'!$C$9:$L$2008,10,FALSE),16,1)","v":{"$error":"#N/A"}},{"$f":"MID(VLOOKUP($AT$7&\"-\"&AT$3&\"-\"&$A45,'DOCUMENTI EMESSI'!$C$9:$L$2008,10,FALSE),17,1)","v":{"$error":"#N/A"}},null,{"$f":"VLOOKUP($AT$7&\"-\"&AT$3&\"-\"&$A45,'DOCUMENTI EMESSI'!$C$9:$M$2008,11,FALSE)","v":{"$error":"#N/A"}},null,null,null,null,{"$f":"VLOOKUP($AT$7&\"-\"&AT$3&\"-\"&$A45,'DOCUMENTI EMESSI'!$C$9:$N$2008,12,FALSE)","v":{"$error":"#N/A"}},null,null,null,null,null,{"$f":"FLOOR(VLOOKUP($AT$7&\"-\"&AT$3&\"-\"&$A45,'DOCUMENTI EMESSI'!$C$9:$O$2008,13,FALSE),1)","v":{"$error":"#N/A"}},null,null,null,null,{"$f":"LEFT(RIGHT(TEXT(VLOOKUP($AT$7&\"-\"&AT$3&\"-\"&$A45,'DOCUMENTI EMESSI'!$C$9:$O$2008,13,FALSE),\"0,00\"),2),1)","v":{"$error":"#N/A"}},{"$f":"RIGHT(TEXT(VLOOKUP($AT$7&\"-\"&AT$3&\"-\"&$A45,'DOCUMENTI EMESSI'!$C$9:$O$2008,13,FALSE),\"0,00\"),1)","v":{"$error":"#N/A"}},{"$f":"VLOOKUP($AT$7&\"-\"&$AT$3&\"-\"&A45,'DOCUMENTI EMESSI'!$C$9:$AC$2008,27,FALSE)","v":{"$error":"#N/A"}}]
[25,null,{"$f":"VLOOKUP($AT$7&\"-\"&AT$3&\"-\"&$A46,'DOCUMENTI EMESSI'!$C$9:$K$2008,9,FALSE)","v":{"$error":"#N/A"}},null,null,{"$f":"MID(VLOOKUP($AT$7&\"-\"&AT$3&\"-\"&$A46,'DOCUMENTI EMESSI'!$C$9:$L$2008,10,FALSE),1,1)","v":{"$error":"#N/A"}},null,{"$f":"MID(VLOOKUP($AT$7&\"-\"&AT$3&\"-\"&$A46,'DOCUMENTI EMESSI'!$C$9:$L$2008,10,FALSE),2,1)","v":{"$error":"#N/A"}},null,{"$f":"MID(VLOOKUP($AT$7&\"-\"&AT$3&\"-\"&$A46,'DOCUMENTI EMESSI'!$C$9:$L$2008,10,FALSE),3,1)","v":{"$error":"#N/A"}},null,{"$f":"MID(VLOOKUP($AT$7&\"-\"&AT$3&\"-\"&$A46,'DOCUMENTI EMESSI'!$C$9:$L$2008,10,FALSE),4,1)","v":{"$error":"#N/A"}},null,{"$f":"MID(VLOOKUP($AT$7&\"-\"&AT$3&\"-\"&$A46,'DOCUMENTI EMESSI'!$C$9:$L$2008,10,FALSE),5,1)","v":{"$error":"#N/A"}},{"$f":"MID(VLOOKUP($AT$7&\"-\"&AT$3&\"-\"&$A46,'DOCUMENTI EMESSI'!$C$9:$L$2008,10,FALSE),6,1)","v":{"$error":"#N/A"}},{"$f":"MID(VLOOKUP($AT$7&\"-\"&AT$3&\"-\"&$A46,'DOCUMENTI EMESSI'!$C$9:$L$2008,10,FALSE),7,1)","v":{"$error":"#N/A"}},{"$f":"MID(VLOOKUP($AT$7&\"-\"&AT$3&\"-\"&$A46,'DOCUMENTI EMESSI'!$C$9:$L$2008,10,FALSE),8,1)","v":{"$error":"#N/A"}},{"$f":"MID(VLOOKUP($AT$7&\"-\"&AT$3&\"-\"&$A46,'DOCUMENTI EMESSI'!$C$9:$L$2008,10,FALSE),9,1)","v":{"$error":"#N/A"}},{"$f":"MID(VLOOKUP($AT$7&\"-\"&AT$3&\"-\"&$A46,'DOCUMENTI EMESSI'!$C$9:$L$2008,10,FALSE),10,1)","v":{"$error":"#N/A"}},{"$f":"MID(VLOOKUP($AT$7&\"-\"&AT$3&\"-\"&$A46,'DOCUMENTI EMESSI'!$C$9:$L$2008,10,FALSE),11,1)","v":{"$error":"#N/A"}},{"$f":"MID(VLOOKUP($AT$7&\"-\"&AT$3&\"-\"&$A46,'DOCUMENTI EMESSI'!$C$9:$L$2008,10,FALSE),12,1)","v":{"$error":"#N/A"}},{"$f":"MID(VLOOKUP($AT$7&\"-\"&AT$3&\"-\"&$A46,'DOCUMENTI EMESSI'!$C$9:$L$2008,10,FALSE),13,1)","v":{"$error":"#N/A"}},{"$f":"MID(VLOOKUP($AT$7&\"-\"&AT$3&\"-\"&$A46,'DOCUMENTI EMESSI'!$C$9:$L$2008,10,FALSE),14,1)","v":{"$error":"#N/A"}},{"$f":"MID(VLOOKUP($AT$7&\"-\"&AT$3&\"-\"&$A46,'DOCUMENTI EMESSI'!$C$9:$L$2008,10,FALSE),15,1)","v":{"$error":"#N/A"}},{"$f":"MID(VLOOKUP($AT$7&\"-\"&AT$3&\"-\"&$A46,'DOCUMENTI EMESSI'!$C$9:$L$2008,10,FALSE),16,1)","v":{"$error":"#N/A"}},{"$f":"MID(VLOOKUP($AT$7&\"-\"&AT$3&\"-\"&$A46,'DOCUMENTI EMESSI'!$C$9:$L$2008,10,FALSE),17,1)","v":{"$error":"#N/A"}},null,{"$f":"VLOOKUP($AT$7&\"-\"&AT$3&\"-\"&$A46,'DOCUMENTI EMESSI'!$C$9:$M$2008,11,FALSE)","v":{"$error":"#N/A"}},null,null,null,null,{"$f":"VLOOKUP($AT$7&\"-\"&AT$3&\"-\"&$A46,'DOCUMENTI EMESSI'!$C$9:$N$2008,12,FALSE)","v":{"$error":"#N/A"}},null,null,null,null,null,{"$f":"FLOOR(VLOOKUP($AT$7&\"-\"&AT$3&\"-\"&$A46,'DOCUMENTI EMESSI'!$C$9:$O$2008,13,FALSE),1)","v":{"$error":"#N/A"}},null,null,null,null,{"$f":"LEFT(RIGHT(TEXT(VLOOKUP($AT$7&\"-\"&AT$3&\"-\"&$A46,'DOCUMENTI EMESSI'!$C$9:$O$2008,13,FALSE),\"0,00\"),2),1)","v":{"$error":"#N/A"}},{"$f":"RIGHT(TEXT(VLOOKUP($AT$7&\"-\"&AT$3&\"-\"&$A46,'DOCUMENTI EMESSI'!$C$9:$O$2008,13,FALSE),\"0,00\"),1)","v":{"$error":"#N/A"}},{"$f":"VLOOKUP($AT$7&\"-\"&$AT$3&\"-\"&A46,'DOCUMENTI EMESSI'!$C$9:$AC$2008,27,FALSE)","v":{"$error":"#N/A"}}]
[26,null,{"$f":"VLOOKUP($AT$7&\"-\"&AT$3&\"-\"&$A47,'DOCUMENTI EMESSI'!$C$9:$K$2008,9,FALSE)","v":{"$error":"#N/A"}},null,null,{"$f":"MID(VLOOKUP($AT$7&\"-\"&AT$3&\"-\"&$A47,'DOCUMENTI EMESSI'!$C$9:$L$2008,10,FALSE),1,1)","v":{"$error":"#N/A"}},null,{"$f":"MID(VLOOKUP($AT$7&\"-\"&AT$3&\"-\"&$A47,'DOCUMENTI EMESSI'!$C$9:$L$2008,10,FALSE),2,1)","v":{"$error":"#N/A"}},null,{"$f":"MID(VLOOKUP($AT$7&\"-\"&AT$3&\"-\"&$A47,'DOCUMENTI EMESSI'!$C$9:$L$2008,10,FALSE),3,1)","v":{"$error":"#N/A"}},null,{"$f":"MID(VLOOKUP($AT$7&\"-\"&AT$3&\"-\"&$A47,'DOCUMENTI EMESSI'!$C$9:$L$2008,10,FALSE),4,1)","v":{"$error":"#N/A"}},null,{"$f":"MID(VLOOKUP($AT$7&\"-\"&AT$3&\"-\"&$A47,'DOCUMENTI EMESSI'!$C$9:$L$2008,10,FALSE),5,1)","v":{"$error":"#N/A"}},{"$f":"MID(VLOOKUP($AT$7&\"-\"&AT$3&\"-\"&$A47,'DOCUMENTI EMESSI'!$C$9:$L$2008,10,FALSE),6,1)","v":{"$error":"#N/A"}},{"$f":"MID(VLOOKUP($AT$7&\"-\"&AT$3&\"-\"&$A47,'DOCUMENTI EMESSI'!$C$9:$L$2008,10,FALSE),7,1)","v":{"$error":"#N/A"}},{"$f":"MID(VLOOKUP($AT$7&\"-\"&AT$3&\"-\"&$A47,'DOCUMENTI EMESSI'!$C$9:$L$2008,10,FALSE),8,1)","v":{"$error":"#N/A"}},{"$f":"MID(VLOOKUP($AT$7&\"-\"&AT$3&\"-\"&$A47,'DOCUMENTI EMESSI'!$C$9:$L$2008,10,FALSE),9,1)","v":{"$error":"#N/A"}},{"$f":"MID(VLOOKUP($AT$7&\"-\"&AT$3&\"-\"&$A47,'DOCUMENTI EMESSI'!$C$9:$L$2008,10,FALSE),10,1)","v":{"$error":"#N/A"}},{"$f":"MID(VLOOKUP($AT$7&\"-\"&AT$3&\"-\"&$A47,'DOCUMENTI EMESSI'!$C$9:$L$2008,10,FALSE),11,1)","v":{"$error":"#N/A"}},{"$f":"MID(VLOOKUP($AT$7&\"-\"&AT$3&\"-\"&$A47,'DOCUMENTI EMESSI'!$C$9:$L$2008,10,FALSE),12,1)","v":{"$error":"#N/A"}},{"$f":"MID(VLOOKUP($AT$7&\"-\"&AT$3&\"-\"&$A47,'DOCUMENTI EMESSI'!$C$9:$L$2008,10,FALSE),13,1)","v":{"$error":"#N/A"}},{"$f":"MID(VLOOKUP($AT$7&\"-\"&AT$3&\"-\"&$A47,'DOCUMENTI EMESSI'!$C$9:$L$2008,10,FALSE),14,1)","v":{"$error":"#N/A"}},{"$f":"MID(VLOOKUP($AT$7&\"-\"&AT$3&\"-\"&$A47,'DOCUMENTI EMESSI'!$C$9:$L$2008,10,FALSE),15,1)","v":{"$error":"#N/A"}},{"$f":"MID(VLOOKUP($AT$7&\"-\"&AT$3&\"-\"&$A47,'DOCUMENTI EMESSI'!$C$9:$L$2008,10,FALSE),16,1)","v":{"$error":"#N/A"}},{"$f":"MID(VLOOKUP($AT$7&\"-\"&AT$3&\"-\"&$A47,'DOCUMENTI EMESSI'!$C$9:$L$2008,10,FALSE),17,1)","v":{"$error":"#N/A"}},null,{"$f":"VLOOKUP($AT$7&\"-\"&AT$3&\"-\"&$A47,'DOCUMENTI EMESSI'!$C$9:$M$2008,11,FALSE)","v":{"$error":"#N/A"}},null,null,null,null,{"$f":"VLOOKUP($AT$7&\"-\"&AT$3&\"-\"&$A47,'DOCUMENTI EMESSI'!$C$9:$N$2008,12,FALSE)","v":{"$error":"#N/A"}},null,null,null,null,null,{"$f":"FLOOR(VLOOKUP($AT$7&\"-\"&AT$3&\"-\"&$A47,'DOCUMENTI EMESSI'!$C$9:$O$2008,13,FALSE),1)","v":{"$error":"#N/A"}},null,null,null,null,{"$f":"LEFT(RIGHT(TEXT(VLOOKUP($AT$7&\"-\"&AT$3&\"-\"&$A47,'DOCUMENTI EMESSI'!$C$9:$O$2008,13,FALSE),\"0,00\"),2),1)","v":{"$error":"#N/A"}},{"$f":"RIGHT(TEXT(VLOOKUP($AT$7&\"-\"&AT$3&\"-\"&$A47,'DOCUMENTI EMESSI'!$C$9:$O$2008,13,FALSE),\"0,00\"),1)","v":{"$error":"#N/A"}},{"$f":"VLOOKUP($AT$7&\"-\"&$AT$3&\"-\"&A47,'DOCUMENTI EMESSI'!$C$9:$AC$2008,27,FALSE)","v":{"$error":"#N/A"}}]
[27,null,{"$f":"VLOOKUP($AT$7&\"-\"&AT$3&\"-\"&$A48,'DOCUMENTI EMESSI'!$C$9:$K$2008,9,FALSE)","v":{"$error":"#N/A"}},null,null,{"$f":"MID(VLOOKUP($AT$7&\"-\"&AT$3&\"-\"&$A48,'DOCUMENTI EMESSI'!$C$9:$L$2008,10,FALSE),1,1)","v":{"$error":"#N/A"}},null,{"$f":"MID(VLOOKUP($AT$7&\"-\"&AT$3&\"-\"&$A48,'DOCUMENTI EMESSI'!$C$9:$L$2008,10,FALSE),2,1)","v":{"$error":"#N/A"}},null,{"$f":"MID(VLOOKUP($AT$7&\"-\"&AT$3&\"-\"&$A48,'DOCUMENTI EMESSI'!$C$9:$L$2008,10,FALSE),3,1)","v":{"$error":"#N/A"}},null,{"$f":"MID(VLOOKUP($AT$7&\"-\"&AT$3&\"-\"&$A48,'DOCUMENTI EMESSI'!$C$9:$L$2008,10,FALSE),4,1)","v":{"$error":"#N/A"}},null,{"$f":"MID(VLOOKUP($AT$7&\"-\"&AT$3&\"-\"&$A48,'DOCUMENTI EMESSI'!$C$9:$L$2008,10,FALSE),5,1)","v":{"$error":"#N/A"}},{"$f":"MID(VLOOKUP($AT$7&\"-\"&AT$3&\"-\"&$A48,'DOCUMENTI EMESSI'!$C$9:$L$2008,10,FALSE),6,1)","v":{"$error":"#N/A"}},{"$f":"MID(VLOOKUP($AT$7&\"-\"&AT$3&\"-\"&$A48,'DOCUMENTI EMESSI'!$C$9:$L$2008,10,FALSE),7,1)","v":{"$error":"#N/A"}},{"$f":"MID(VLOOKUP($AT$7&\"-\"&AT$3&\"-\"&$A48,'DOCUMENTI EMESSI'!$C$9:$L$2008,10,FALSE),8,1)","v":{"$error":"#N/A"}},{"$f":"MID(VLOOKUP($AT$7&\"-\"&AT$3&\"-\"&$A48,'DOCUMENTI EMESSI'!$C$9:$L$2008,10,FALSE),9,1)","v":{"$error":"#N/A"}},{"$f":"MID(VLOOKUP($AT$7&\"-\"&AT$3&\"-\"&$A48,'DOCUMENTI EMESSI'!$C$9:$L$2008,10,FALSE),10,1)","v":{"$error":"#N/A"}},{"$f":"MID(VLOOKUP($AT$7&\"-\"&AT$3&\"-\"&$A48,'DOCUMENTI EMESSI'!$C$9:$L$2008,10,FALSE),11,1)","v":{"$error":"#N/A"}},{"$f":"MID(VLOOKUP($AT$7&\"-\"&AT$3&\"-\"&$A48,'DOCUMENTI EMESSI'!$C$9:$L$2008,10,FALSE),12,1)","v":{"$error":"#N/A"}},{"$f":"MID(VLOOKUP($AT$7&\"-\"&AT$3&\"-\"&$A48,'DOCUMENTI EMESSI'!$C$9:$L$2008,10,FALSE),13,1)","v":{"$error":"#N/A"}},{"$f":"MID(VLOOKUP($AT$7&\"-\"&AT$3&\"-\"&$A48,'DOCUMENTI EMESSI'!$C$9:$L$2008,10,FALSE),14,1)","v":{"$error":"#N/A"}},{"$f":"MID(VLOOKUP($AT$7&\"-\"&AT$3&\"-\"&$A48,'DOCUMENTI EMESSI'!$C$9:$L$2008,10,FALSE),15,1)","v":{"$error":"#N/A"}},{"$f":"MID(VLOOKUP($AT$7&\"-\"&AT$3&\"-\"&$A48,'DOCUMENTI EMESSI'!$C$9:$L$2008,10,FALSE),16,1)","v":{"$error":"#N/A"}},{"$f":"MID(VLOOKUP($AT$7&\"-\"&AT$3&\"-\"&$A48,'DOCUMENTI EMESSI'!$C$9:$L$2008,10,FALSE),17,1)","v":{"$error":"#N/A"}},null,{"$f":"VLOOKUP($AT$7&\"-\"&AT$3&\"-\"&$A48,'DOCUMENTI EMESSI'!$C$9:$M$2008,11,FALSE)","v":{"$error":"#N/A"}},null,null,null,null,{"$f":"VLOOKUP($AT$7&\"-\"&AT$3&\"-\"&$A48,'DOCUMENTI EMESSI'!$C$9:$N$2008,12,FALSE)","v":{"$error":"#N/A"}},null,null,null,null,null,{"$f":"FLOOR(VLOOKUP($AT$7&\"-\"&AT$3&\"-\"&$A48,'DOCUMENTI EMESSI'!$C$9:$O$2008,13,FALSE),1)","v":{"$error":"#N/A"}},null,null,null,null,{"$f":"LEFT(RIGHT(TEXT(VLOOKUP($AT$7&\"-\"&AT$3&\"-\"&$A48,'DOCUMENTI EMESSI'!$C$9:$O$2008,13,FALSE),\"0,00\"),2),1)","v":{"$error":"#N/A"}},{"$f":"RIGHT(TEXT(VLOOKUP($AT$7&\"-\"&AT$3&\"-\"&$A48,'DOCUMENTI EMESSI'!$C$9:$O$2008,13,FALSE),\"0,00\"),1)","v":{"$error":"#N/A"}},{"$f":"VLOOKUP($AT$7&\"-\"&$AT$3&\"-\"&A48,'DOCUMENTI EMESSI'!$C$9:$AC$2008,27,FALSE)","v":{"$error":"#N/A"}}]
[28,null,{"$f":"VLOOKUP($AT$7&\"-\"&AT$3&\"-\"&$A49,'DOCUMENTI EMESSI'!$C$9:$K$2008,9,FALSE)","v":{"$error":"#N/A"}},null,null,{"$f":"MID(VLOOKUP($AT$7&\"-\"&AT$3&\"-\"&$A49,'DOCUMENTI EMESSI'!$C$9:$L$2008,10,FALSE),1,1)","v":{"$error":"#N/A"}},null,{"$f":"MID(VLOOKUP($AT$7&\"-\"&AT$3&\"-\"&$A49,'DOCUMENTI EMESSI'!$C$9:$L$2008,10,FALSE),2,1)","v":{"$error":"#N/A"}},null,{"$f":"MID(VLOOKUP($AT$7&\"-\"&AT$3&\"-\"&$A49,'DOCUMENTI EMESSI'!$C$9:$L$2008,10,FALSE),3,1)","v":{"$error":"#N/A"}},null,{"$f":"MID(VLOOKUP($AT$7&\"-\"&AT$3&\"-\"&$A49,'DOCUMENTI EMESSI'!$C$9:$L$2008,10,FALSE),4,1)","v":{"$error":"#N/A"}},null,{"$f":"MID(VLOOKUP($AT$7&\"-\"&AT$3&\"-\"&$A49,'DOCUMENTI EMESSI'!$C$9:$L$2008,10,FALSE),5,1)","v":{"$error":"#N/A"}},{"$f":"MID(VLOOKUP($AT$7&\"-\"&AT$3&\"-\"&$A49,'DOCUMENTI EMESSI'!$C$9:$L$2008,10,FALSE),6,1)","v":{"$error":"#N/A"}},{"$f":"MID(VLOOKUP($AT$7&\"-\"&AT$3&\"-\"&$A49,'DOCUMENTI EMESSI'!$C$9:$L$2008,10,FALSE),7,1)","v":{"$error":"#N/A"}},{"$f":"MID(VLOOKUP($AT$7&\"-\"&AT$3&\"-\"&$A49,'DOCUMENTI EMESSI'!$C$9:$L$2008,10,FALSE),8,1)","v":{"$error":"#N/A"}},{"$f":"MID(VLOOKUP($AT$7&\"-\"&AT$3&\"-\"&$A49,'DOCUMENTI EMESSI'!$C$9:$L$2008,10,FALSE),9,1)","v":{"$error":"#N/A"}},{"$f":"MID(VLOOKUP($AT$7&\"-\"&AT$3&\"-\"&$A49,'DOCUMENTI EMESSI'!$C$9:$L$2008,10,FALSE),10,1)","v":{"$error":"#N/A"}},{"$f":"MID(VLOOKUP($AT$7&\"-\"&AT$3&\"-\"&$A49,'DOCUMENTI EMESSI'!$C$9:$L$2008,10,FALSE),11,1)","v":{"$error":"#N/A"}},{"$f":"MID(VLOOKUP($AT$7&\"-\"&AT$3&\"-\"&$A49,'DOCUMENTI EMESSI'!$C$9:$L$2008,10,FALSE),12,1)","v":{"$error":"#N/A"}},{"$f":"MID(VLOOKUP($AT$7&\"-\"&AT$3&\"-\"&$A49,'DOCUMENTI EMESSI'!$C$9:$L$2008,10,FALSE),13,1)","v":{"$error":"#N/A"}},{"$f":"MID(VLOOKUP($AT$7&\"-\"&AT$3&\"-\"&$A49,'DOCUMENTI EMESSI'!$C$9:$L$2008,10,FALSE),14,1)","v":{"$error":"#N/A"}},{"$f":"MID(VLOOKUP($AT$7&\"-\"&AT$3&\"-\"&$A49,'DOCUMENTI EMESSI'!$C$9:$L$2008,10,FALSE),15,1)","v":{"$error":"#N/A"}},{"$f":"MID(VLOOKUP($AT$7&\"-\"&AT$3&\"-\"&$A49,'DOCUMENTI EMESSI'!$C$9:$L$2008,10,FALSE),16,1)","v":{"$error":"#N/A"}},{"$f":"MID(VLOOKUP($AT$7&\"-\"&AT$3&\"-\"&$A49,'DOCUMENTI EMESSI'!$C$9:$L$2008,10,FALSE),17,1)","v":{"$error":"#N/A"}},null,{"$f":"VLOOKUP($AT$7&\"-\"&AT$3&\"-\"&$A49,'DOCUMENTI EMESSI'!$C$9:$M$2008,11,FALSE)","v":{"$error":"#N/A"}},null,null,null,null,{"$f":"VLOOKUP($AT$7&\"-\"&AT$3&\"-\"&$A49,'DOCUMENTI EMESSI'!$C$9:$N$2008,12,FALSE)","v":{"$error":"#N/A"}},null,null,null,null,null,{"$f":"FLOOR(VLOOKUP($AT$7&\"-\"&AT$3&\"-\"&$A49,'DOCUMENTI EMESSI'!$C$9:$O$2008,13,FALSE),1)","v":{"$error":"#N/A"}},null,null,null,null,{"$f":"LEFT(RIGHT(TEXT(VLOOKUP($AT$7&\"-\"&AT$3&\"-\"&$A49,'DOCUMENTI EMESSI'!$C$9:$O$2008,13,FALSE),\"0,00\"),2),1)","v":{"$error":"#N/A"}},{"$f":"RIGHT(TEXT(VLOOKUP($AT$7&\"-\"&AT$3&\"-\"&$A49,'DOCUMENTI EMESSI'!$C$9:$O$2008,13,FALSE),\"0,00\"),1)","v":{"$error":"#N/A"}},{"$f":"VLOOKUP($AT$7&\"-\"&$AT$3&\"-\"&A49,'DOCUMENTI EMESSI'!$C$9:$AC$2008,27,FALSE)","v":{"$error":"#N/A"}}]
[]
[]
[null,null,null,null,null,null,null,null,null,null,null,null,null,null,null,null,null,null,null,null,null,null,null,null,null,null,null,null,null,null,null,null,null,null,null,null,null,null,{"$f":"FLOOR(SUMIF('DOCUMENTI EMESSI'!B9:B2008,AT7&\"-\"&AT3,'DOCUMENTI EMESSI'!O9:O2008),1)","v":1},null,null,null,null,{"$f":"LEFT(RIGHT(TEXT(SUMIF('DOCUMENTI EMESSI'!B9:B2008,AT7&\"-\"&AT3,'DOCUMENTI EMESSI'!O9:O2008),\"0,00\"),2),1)","v":"0"},{"$f":"RIGHT(TEXT(SUMIF('DOCUMENTI EMESSI'!B9:B2008,AT7&\"-\"&AT3,'DOCUMENTI EMESSI'!O9:O2008),\"0,00\"),1)","v":"0"}]
[]
[null,null,null,null,null,null,null,null,null,null,null,null,null,null,null,null,null,null,null,null,null,null,null,null,null,null,null,null,null,null,null,null,null,null,null,null,null,null,null,{"$f":"IF(ISERROR(L70),\"\",VLOOKUP(AT7&\"-\"&AT3,'DOCUMENTI EMESSI'!B9:X2008,23,FALSE))","v":"X"}]
[null,null,null,null,null,null,null,null,null,null,null,null,null,null,null,null,null,null,null,null,null,null,null,null,null,null,null,null,null,null,null,{"$f":"IF(ISERROR(L70),\"\",VLOOKUP(AT7,'DOCUMENTI EMESSI'!D9:W2008,20,FALSE))","v":"0123456789"},null,null,null,null,null,null,null,{"$f":"IF(ISERROR(L70),\"\",VLOOKUP(AT7&\"-\"&AT3,'DOCUMENTI EMESSI'!B9:Y2008,24,FALSE))","v":" "}]
[null,{"$f":"IF(ISERROR(L70),\"\",MID(TEXT(VLOOKUP(AT7&\"-\"&AT3,'DOCUMENTI EMESSI'!B9:E2008,4,FALSE),\"gg/mm/aaaa\"),1,1))","v":"0"},null,{"$f":"IF(ISERROR(L70),\"\",MID(TEXT(VLOOKUP(AT7&\"-\"&AT3,'DOCUMENTI EMESSI'!B9:E2008,4,FALSE),\"gg/mm/aaaa\"),2,1))","v":"1"},null,null,{"$f":"IF(ISERROR(L70),\"\",MID(TEXT(VLOOKUP(AT7&\"-\"&AT3,'DOCUMENTI EMESSI'!B9:E2008,4,FALSE),\"gg/mm/aaaa\"),4,1))","v":"0"},{"$f":"IF(ISERROR(L70),\"\",MID(TEXT(VLOOKUP(AT7&\"-\"&AT3,'DOCUMENTI EMESSI'!B9:E2008,4,FALSE),\"gg/mm/aaaa\"),5,1))","v":"1"},null,{"$f":"IF(ISERROR(L70),\"\",MID(TEXT(VLOOKUP(AT7&\"-\"&AT3,'DOCUMENTI EMESSI'!B9:E2008,4,FALSE),\"gg/mm/aaaa\"),7,1))","v":"2"},null,{"$f":"IF(ISERROR(L70),\"\",MID(TEXT(VLOOKUP(AT7&\"-\"&AT3,'DOCUMENTI EMESSI'!B9:E2008,4,FALSE),\"gg/mm/aaaa\"),8,1))","v":"0"},null,{"$f":"IF(ISERROR(L70),\"\",MID(TEXT(VLOOKUP(AT7&\"-\"&AT3,'DOCUMENTI EMESSI'!B9:E2008,4,FALSE),\"gg/mm/aaaa\"),9,1))","v":"2"},{"$f":"IF(ISERROR(L70),\"\",MID(TEXT(VLOOKUP(AT7&\"-\"&AT3,'DOCUMENTI EMESSI'!B9:E2008,4,FALSE),\"gg/mm/aaaa\"),10,1))","v":"4"},{"$f":"IF(OR(ISERROR(L70),L71=0),\"\",VLOOKUP(VLOOKUP(AT7&\"-\"&AT3,'DOCUMENTI EMESSI'!B9:S2008,18,FALSE),Tabelle!I5:M7,5,FALSE))","v":"00001"},null,null,null,null,null,{"$f":"IF(OR(ISERROR(L70),L71=0),\"\",VLOOKUP(VLOOKUP(AT7&\"-\"&AT3,'DOCUMENTI EMESSI'!B9:S2008,18,FALSE),Tabelle!I5:N7,6,FALSE))","v":"10000"},null,null,null,null,null,null,null,null,null,null,null,null,null,null,null,{"$f":"IF(ISERROR(L70),\"\",VLOOKUP(AT7&\"-\"&AT3,'DOCUMENTI EMESSI'!B9:Z2008,25,FALSE))","v":"01234"},null,null,{"$f":"IF(ISERROR(L70),\"\",VLOOKUP(AT7&\"-\"&AT3,'DOCUMENTI EMESSI'!B9:AA2008,26,FALSE))","v":"56789"},null,null,null,null,{"$f":"AT7","v":1}]
[]
[null,null,null,null,null,null,null,null,null,null,{"$f":"IF(OR(ISERROR(L70),L71=0),\"\",\"IBAN:   \"&VLOOKUP(VLOOKUP(AT7&\"-\"&AT3,'DOCUMENTI EMESSI'!B9:S2008,18,FALSE),Tabelle!I5:O7,7,FALSE))","v":"IBAN:   IT00 X000 0000 0000 0000 0000 000"}]
[]
[]
[]
[null,"Oscura"]
[null,null,null,null,null,null,"Data",null,null,null,null,null,null,null,null,null,null,null,null,null,null,null,null,null,null,null,null,null,null,null,null,null,null,null,null,null,null,null,null,null,null,null,null,null,{"$f":"CONTRIBUENTE!$G$13","v":""}]
[null,null,null,null,null,null,"Riscossore"]
[null,null,null,null,null,null,"Pagamento con assegno"]
[null,null,null,null,null,null,"IBAN"]
[]
[]
[]
[null,null,null,null,{"$f":"IF(B63=$U$71,TRUE,FALSE)","v":false},null,null,null,null,null,null,{"$f":"VLOOKUP(AT7&\"-\"&AT3,'DOCUMENTI EMESSI'!B9:B2008,1,FALSE)","v":"1-2024"}]
[null,null,null,null,{"$f":"IF(B64=$U$71,TRUE,FALSE)","v":false},null,null,null,null,null,null,{"$f":"VLOOKUP(AT7&\"-\"&AT3,'DOCUMENTI EMESSI'!B9:S2008,18,FALSE)","v":"B1"},null,null,null,null,null,null,null,null,"Oscura",null,null,null,null,null,null,null,null,null,null,null,null,null,null,null,null,null,{"$f":"CONTRIBUENTE!J38","v":"2000-01-01"}]
[null,null,null,null,{"$f":"IF(B65=$U$71,TRUE,FALSE)","v":false},null,null,null,null,null,null,"File scaduto / INVERTITO"]
[null,null,null,null,{"$f":"IF(B66=$U$71,TRUE,FALSE)","v":false},null,null,null,null,null,null,{"$f":"IF(CONTRIBUENTE!$H$138=1,0,1)","v":1},null,null,null,null,null,null,null,null,null,null,null,null,null,null,null,null,null,null,null,null,null,null,null,null,null,null,"Codice integrità",null,"Integrità"]
[null,null,null,null,null,null,null,null,null,null,null,null,null,null,null,null,null,null,null,null,null,null,null,null,null,null,null,null,null,null,null,null,null,null,null,null,null,null,1,null,{"$f":"CONTRIBUENTE!K138","v":4}]

{"sheet":"Tabelle","index":3,"n_rows":22,"n_cols":15,"rows_kept":22,"cut":false,"hidden":false,"merged":[[8,13,8,14],[21,2,21,8],[20,2,20,9],[8,2,8,6],[9,2,9,6],[2,9,2,13],[12,2,12,6],[3,2,3,7],[4,2,4,6],[5,2,5,6],[6,2,6,6],[10,2,10,6],[2,2,2,7],[11,2,11,6],[7,2,7,6],[8,9,8,10],[8,11,8,12]]}
[]
[]
[null,null,"Tabella Tipo di versamento",null,null,null,null,null,null,"Tabella Riscossione"]
[null,null,"Descrizione",null,null,null,null,null,"SIGLA","Delega irrevocabile a","Agenzia","Prov.","ABI","CAB","IBAN"]
[null,null,"A.G.C.M.",null,null,null,null,"G","B1","Nome Banca 1 / modifica sigla","Nome Agenzia 1","XX","00001","10000","IT00 X000 0000 0000 0000 0000 000"]
[null,null,"AUTOVEICOLO",null,null,null,null,"A","B2","Nome Banca 2 / modifica sigla","Nome Agenzia 2","XX","00002","20000"]
[null,null,"Identificativo Registro",null,null,null,null,"F","B3","Nome Banca 3 / modifica sigla","Nome Agenzia 3","XX","00003","30000"]
[null,null,"INPDAP",null,null,null,null,"I"]
[null,null,"MOTOVEICOLO",null,null,null,null,"M",null,"Personalizza tutti i campi liberi."]
[null,null,"RIM./Regolarizz./Altro",null,null,null,null,"R"]
[null,null,"---- Inserisci",null,null,null,null,"."]
[null,null,"---- Inserisci",null,null,null,null,"."]
[null,null,"---- Inserisci",null,null,null,null,"."]
[]
[]
[null,null,null,null,null,null,null,null,null,null,null,null,null,null,"www.marcopiccoli.it"]
[]
[null,null,"Codice integrità",null,null,null,"Integrità"]
[null,null,1,null,null,null,{"$f":"CONTRIBUENTE!K138","v":4}]
[]
[null,null,"Tabelle scaricate dal Sito dell' Agenzia delle Entrate."]
[null,null,"Verifica eventuali aggiornamenti."]