{"text_format":"1","workbook":"xlsx","n_sheets":4,"sheets":["CONTRIBUENTE","DETTAGLIO VERSAMENTO","F24 Enti Pubblici","Tabelle"],"not_rendered":{"charts":0,"images":7,"macros":1,"external_links":0,"defined_names":6,"comments":0,"pivot_tables":0},"unopened":[],"bounds":{"document_bytes":16777216,"sheet_cells":100000,"rows_first":2000,"rows_last":500,"rows_between":2000,"halvings":0,"cell_chars":16384,"cell_head_chars":4096},"cells_cut":0,"cells_raw":0,"read":"whole","date_system":"1900"}

{"sheet":"CONTRIBUENTE","index":0,"n_rows":161,"n_cols":107,"rows_kept":161,"cut":false,"hidden":false,"merged":[[56,5,56,15],[55,2,55,15],[52,2,52,6],[48,3,48,14],[49,2,49,14],[1,2,1,15],[2,2,2,15],[3,2,3,11],[24,2,24,6],[12,2,12,4],[16,2,16,7],[5,2,5,15],[17,8,17,14],[17,2,17,6],[18,2,18,6],[6,2,6,15],[9,2,9,7],[19,2,19,6],[18,8,18,14],[9,9,9,12],[20,2,20,12],[105,2,105,15],[106,1,106,7],[106,11,106,15],[50,2,50,14],[59,10,59,15],[71,2,71,15],[72,2,72,15],[68,11,68,15],[68,2,68,10],[66,1,66,15],[102,2,102,15],[103,2,103,15],[101,2,101,15],[67,2,67,6],[70,2,70,15],[96,2,96,15],[104,2,104,15],[100,2,100,15],[61,3,61,4],[61,5,61,15],[85,4,85,6],[84,12,85,12],[63,10,63,15],[67,7,67,15],[64,10,64,15],[82,2,82,15],[81,8,81,10],[76,2,76,15],[99,2,99,15],[77,2,77,15],[98,2,98,12],[86,4,86,7],[65,8,65,15],[25,12,25,15],[31,4,31,14],[26,8,26,15],[78,12,78,15],[33,7,33,12],[33,4,33,6],[46,2,46,15],[38,5,38,12],[34,9,34,10],[57,3,57,4],[57,5,57,15],[35,2,35,3],[35,4,35,12],[39,4,39,12],[33,2,33,3],[34,4,34,7],[54,2,54,15],[39,2,39,3],[37,4,37,12],[44,2,44,15],[43,2,43,15],[45,2,45,15],[47,2,47,15],[42,2,42,15],[41,2,41,3],[41,4,41,6],[38,2,38,3],[36,4,36,14],[53,2,53,15],[36,2,36,3],[40,4,40,12],[30,2,30,15],[28,2,28,14],[19,8,19,14],[31,2,31,3],[29,2,29,14],[11,19,11,20],[15,2,15,8],[15,9,15,11],[12,6,12,15],[13,1,13,15],[14,1,14,15]]}
[]
[null,null,"Questo file contiene UNA MACRO (non indispensabile) nel foglio F24 Enti Pubblici.  Puoi attivarla anche in un secondo momento, quando"]
[null,null,"riapri il file. Per utilizzarla assicurati di salvare il file nel formato con macro ATTIVE. Le macro sono COMANDI automatici che completano"]
[null,null,"le funzionalità di questo strumento, non contengono virus o altro.  Qui trovi la spiegazione di Microsoft:",null,null,null,null,null,null,null,null,null,"MACRO"]
[null,null,"Sistema interamente originale. Non necessita di aggiornamenti."]
[null,null,"di Marco Piccoli - P. IVA 01151800313"]
[null,null,"Monfalcone - GO - Tel. 333 46 39 497"]
[null,null,null,null,null,null,null,null,null,null,null,null,null,null,null,"Professionista Web di cui alla legge nr. 4/2013"]
[null,null,"Leggi attentamente questa presentazione, osserva le \"Note pratiche\" e richiedi liberamente informazioni via mail."]
[null,null,"Una copia di questo file è sempre disponibile al sito www.marcopiccoli.it:",null,null,null,null,null,null,"Area Download .xlsx / xlsm"]
[]
[null,null,"Puoi usare questo file per annotare i tuoi F24 di TUTTI i MESI di OGNI ANNO. Al momento il trimestre selezionato è:",null,null,null,null,null,null,null,null,null,null,null,null,null,null,null,null,"DAL  - GG/MM -  AL"]
[null,null,{"$f":"I82","v":"1° TRIMESTRE"},null,null,null,{"$f":"IF(J140=\"\",IF(E139=1,B136,\"\"),J140)","v":""},null,null,null,null,null,null,null,null,null,null,null,null,{"$f":"IF(I82=\"\",F157,VLOOKUP(I82,C157:F160,4,FALSE))","v":"2024-01-01"},{"$f":"IF(I82=\"\",G157,VLOOKUP(I82,C157:G160,5,FALSE))","v":"2024-03-31"}]
[null,"Questo strumento è liberamente utilizzabile DA TUTTI. Funziona integralmente per OGNI TRIMESTRE di ogni"]
[null,"ANNO. Puoi sbloccarlo in qualsiasi momento per l' INTERO ANNO. I valori che inserisci sono sempre disponibili."]
[null,null,{"$f":"IF(K64=J144,B127,B126)","v":"Richiedi via mail il TUO CODICE di PROPRIETA' per EXCEL:"},null,null,null,null,null,null,"info@marcopiccoli.it"]
[null,null,"Note pratiche:"]
[null,null,"USA IL TASTO - TAB - PER MUOVERE IL CURSORE NELLE",null,null,null,null,null,"USA IL TASTO - Canc - PER RIMUOVERE IL"]
[null,null,"CELLE LIBERE. TUTTE LE ALTRE SONO BLOCCATE E NON",null,null,null,null,null,"CONTENUTO DI UNA CELLA. PER MAC USA"]
[null,null,"TI SERVONO PER IL CORRETTO USO DI QUESTO FILE.",null,null,null,null,null,"- doppio tasto -   NON TAGLIARE LE CELLE."]
[]
[null,null,null,null,null,null,"per OpenOffice non disponibile"]
[]
[]
[null,null,"Il file contiene 1 Selettore MACRO."]
[null,null,null,null,null,null,null,null,null,null,null,null,"Questo è il sistema"]
[null,null,null,null,null,null,null,null,"F24 Enti Pubblici 1.6 per Excel .xlsm"]
[]
[null,null,{"$f":"CONCATENATE(I27,\" è un sistema elettronico UNIVERSALE con il quale puoi creare e memorizzare molteplici modelli in 1 anno ed in più anni, identificandoli con\")","v":"F24 Enti Pubblici 1.6 per Excel .xlsm è un sistema elettronico UNIVERSALE con il quale puoi creare e memorizzare molteplici modelli in 1 anno ed in più anni, identificandoli con"}]
[null,null,"1 numero di protocollo progressivo."]
[null,null,"Il documento si edita una riga sotto l' altra progressivamente e si stampa a scelta nel foglio del  \\ MODELLO Elettronico /."]
[null,null,"CONTRIBUENTE"]
[]
[null,null,"CODICE FISCALE",null,"01234567891"]
[]
[null,null,"Dati ENTE",null,"Anagrafica CONTRIBUENTE"]
[null,null,"PUBBLICO",null,"denominazione o ragione sociale"]
[null,null,null,null,"VERSAMENTO EFFETTUATO IN QUALITA' DI"]
[null,null,"Dati ALTRO"]
[null,null,"SOGGETTO"]
[null,null,null,null,"PER CONTO DI - indicare il codice fiscale del soggetto per conto del quale si effettua il pagamento"]
[null,null,"CODICE FISCALE"]
[null,null,"Dopo aver compilato il quadro CONTRIBUENTE, utilizza il foglio  \\ DETTAGLIO VERSAMENTO /"]
[null,null,"per generare i tuoi singoli documenti inserendo gli elementi specifici riga per riga."]
[null,null,"Assegna:  1 numero di protocollo progressivo  per creare ogni singolo documento.   Stesso nr. di prot. =  stesso DOC."]
[]
[null,null,{"$f":"IF(H138=1,G13,IF(ISERROR(K138),J135,J134))","v":"Questo file risulta al momento completamente funzionante ed il sistema rileva tutti i suoi fogli."}]
[]
[null,null,"Note:"]
[]
[]
[]
[null,null,"PROPRIETA' illimitata del file"]
[null,null,"Questo sistema può funzionare in enne copie rinominate a piacere. Funziona con calendario PERPETUO."]
[null,null,"Per attivarlo nella totalità dell' ANNO inserisci in qualsiasi momento il tuo codice di proprietà nell' apposito spazio. Puoi"]
[null,null,"usare contemporaneamente più di un file. Salva un file IN BIANCO con le tue IMPOSTAZIONI da tenere come MATRICE."]
[null,null,null,null,null,{"$f":"IF(K64=J144,B136,\"\")","v":""}]
[null,null,null,"Anagrafica:",null,{"$f":"E36","v":"Anagrafica CONTRIBUENTE"}]
[]
[null,null,null,null,null,null,null,null,null,"Partita IVA / C.F:",{"$f":"E34","v":"01234567891"}]
[]
[null,null,null,"Indirizzo:"]
[]
[null,null,"QUI",null,null,null,null,null,null,"Inserisci qui il tuo codice di proprietà  --->",null,null,null,null,null,null,{"$f":"IF(ISBLANK(K64),0,1)","v":0}]
[null,null,{"$f":"IF(K64=J144,\"ora è disattivato\",\"cambi trimestre\")","v":"cambi trimestre"}]
[null,null,{"$f":"C152","v":89},"giorni al","primo mese disattivato",null,null,null,{"$f":"IF(K64=\"\",\"\",IF(J144=K64,B134,B135))","v":""},null,null,null,null,null,null,null,null,null,"Il codice che hai inserito nel sistema non è stato riconosciuto."]
[null,{"$f":"IF(K64=J144,B130,IF(I66=B135,B131,IF(C66<0,\"\",\"\")))","v":""},null,null,null,null,null,null,null,null,null,null,null,null,null,null,null,null,"Le cause possono essere le seguenti:"]
[null,null,"PREZZO per 1 codice di proprietà € 39,00",null,null,null,null,"Questo sistema utilizza il codice ID: Contabilità #2"]
[null,null,{"$f":"I27","v":"F24 Enti Pubblici 1.6 per Excel .xlsm"},null,null,null,null,null,null,null,null,"www.marcopiccoli.it",null,null,null,null,null,null,"1) La Ragione Sociale inserita non coincide con il testo in mio possesso."]
[null,null,null,null,null,null,null,null,null,null,null,null,null,null,null,null,null,null,"Verifica la punteggiatura e l' assenza di spazi iniziali / finali. Controlla la P.E.C. ricevuta."]
[null,null,"Questo file funziona solo se lasciato integro in tutte le sue parti. E' garantito il funzionamento con PC - Excel .xls o sup.",null,null,null,null,null,null,null,null,null,null,null,null,null,null,null,"2) La Partita IVA inserita non coincide con il numero in mio possesso."]
[null,null,"Il sistema conta 4 fogli compreso il presente. I fogli NON POSSONO ESSERE ELIMINATI altrimenti l' intero sistema",null,null,null,null,null,null,null,null,null,null,null,null,null,null,null,"3) Il codice che ti ho fornito non è stato correttamente inserito."]
[null,null,"non funzionerà. Se succede involontariamente NON SALVARE IL FILE ma chiudilo e riaprilo nuovamente.",null,null,null,null,null,null,null,null,null,null,null,null,null,null,null,"4) Hai inserito un numero a caso?"]
[null,null,null,"Pagina WEB del sistema",null,null,"Sezione info",null,null,null,"I tuoi",null,null,null,null,null,null,null,"Contattami liberamente via mail in qualsiasi momento per ulteriori informazioni sul codice."]
[null,null,null,"QUI",null,null,"F.A.Q.","About me",null,null,"COMMENTI",null,null,null,null,null,null,null,"5) Hai cambiato Ragione Sociale o Partita IVA? Contattami, il codice è una monoutenza specifica."]
[null,null,null,null,null,null,null,null,null,null,null,null,null,null,null,null,null,null,"6) Hai usato il codice di un altro sistema? Non tutti i sistemi hanno lo stesso codice."]
[null,null,"Se desideri attivare questo sistema per l' INTERO ANNO e per OGNI ANNO, richiedi via mail il tuo Codice di Proprietà ed",null,null,null,null,null,null,null,null,null,null,null,null,null,null,null,"Questo file utilizza il codice di proprietà ID: Contabilità #2."]
[null,null,"inseriscilo direttamente nel file che stai già usando. Il codice ti viene inviato con regolare fattura. Chiedi istruzioni via mail."]
[null,null,null,null,null,null,null,null,null,null,null,null,"info@marcopiccoli.it",null,null,null,null,null,"Per qualsiasi altra cosa, contattami dopo aver considerato questi punti."]
[null,null,null,"SELEZIONA da qui il TRIMESTRE per il quale ATTIVARE questo sistema."]
[null,null,null,"I valori che via via inserisci sono sempre disponibili."]
[null,null,null,null,null,null,null,"---->","1° TRIMESTRE"]
[]
[]
[null,null,null,null,null,null,null,null,null,null,null,"Con  \"OK\"  accetti le regole","OK"]
[null,null,null,null,"A.C. cell di Marco Piccoli",null,null,null,null,null,null,"sull' utilizzo di questo file"]
[null,null,null,null,"34074 Monfalcone, GO - P. IVA 01151800313"]
[null,null,null,null,"INFORMA CHIUNQUE ENTRI IN POSSESSO DI QUESTO FILE, CHE NON E'"]
[null,null,null,null,"POSSIBILE UTILIZZARLO SENZA PROTEZIONI ORIGINALI e CHE SI ATTIVA"]
[null,null,null,null,"ILLIMITATAMENTE SOLO CON REGOLARE CODICE DI PROPRIETA'."]
[null,null,null,null,"Questo strumento è interamente originale ed è distribuito professionalmente."]
[null,null,null,null,"E' coperto da diritti d' autore dal momento della sua pubblicazione sul sito"]
[null,null,null,null,"www.marcopiccoli.it."]
[null,null,null,null,"L' inserimento del Codice di Proprietà, che viene inviato via P.E.C., estende tutti"]
[null,null,null,null,"i diritti anche al Titolare del Sistema individuato nell' ANAGRAFICA di questo file.",null,null,null,null,null,null,null,null,null,"QUI"]
[null,null,null,null,"Per qualsiasi altra informazione contattami liberamente via mail."]
[]
[]
[null,null,{"$f":"CONCATENATE(I27,\"   /   Sistema originale, nessuna riproduzione è permessa.\")","v":"F24 Enti Pubblici 1.6 per Excel .xlsm   /   Sistema originale, nessuna riproduzione è permessa."}]
[null,null,"Rimuovere le protezioni originali, far circolare una parte del sistema o qualsiasi altro utilizzo (anche parziale, anche dei"]
[null,null,"testi, anche a titolo gratuito) diverso dalle disposizioni originarie del file, sarà considerata violazione delle norme sulle"]
[null,null,"opere d' ingegno. Il sistema originale privo di virus e malware si scarica al sito www.marcopiccoli.it."]
[]
[]
[null,null,null,null,null,null,null,null,null,null,null,null,null,null,null,null,null,"Torna su"]
[]
[null,{"$f":"I27","v":"F24 Enti Pubblici 1.6 per Excel .xlsm"},null,null,null,null,null,null,null,null,null,"www.marcopiccoli.it"]
[]
[]
[]
[]
[]
[null,null,null,"X","Maschile","M"]
[null,null,null,null,"Femminile","F"]
[]
[]
[]
[]
[]
[]
[]
[]
[]
[]
[]
[null,"Richiedi via mail il TUO CODICE di PROPRIETA' per EXCEL:",null,null,null,null,null,"Il codice che hai inserito nel sistema non è stato riconosciuto."]
[null,"Contatta A.C. cell",null,null,null,null,null,"Le cause possono essere le seguenti:"]
[null,"Questo file contiene delle MACRO. Leggi le istruzioni e completa il foglio  \\ IMPOSTAZIONI /  prima di utilizzare il file."]
[null,"Questo file contiene delle MACRO.",null,null,null,null,null,null,null,null,"disattivato"]
[null,"Questo sistema appartiene al TITOLARE in anagrafica. Qualsiasi altro uso non è permesso.",null,null,null,null,null,null,null,"Questo file si considera funzionante al momento della richiesta del codice."]
[null,"Verifica le NOTE che trovi a fondo pagina.",null,null,null,null,null,null,null,"Tieni costantemente una copia di sicurezza ed una MATRICE in bianco per gli anni successivi."]
[]
[]
[null,"OK ! Codice corretto.",null,null,"OK","Sistema scaduto",null,null,null,"Questo file risulta al momento completamente funzionante ed il sistema rileva tutti i suoi fogli."]
[null,"CODICE NON VALIDO",null,null,"NO",{"$f":"IF(M85=E134,TRUE,FALSE)","v":true},null,null,null,"SISTEMA DANNEGGIATO !!! Chiudere senza salvare!"]
[null,"TITOLARE DEL SISTEMA",null,null,null,null,null,null,null,{"$f":"IF(C152=0,\"Sistema parzialmente attivato. Inserisci il tuo CODICE di PROPRIETA' nel foglio Presentazione.\",CONCATENATE(\"Sistema attivato dal \",TEXT(T13,\"GG/MM\"),\" al \",TEXT(U13,\"GG/MM\"),\". Modifica il trimestre dal foglio Presentazione.\"))","v":"Sistema attivato dal 01/01 al 31/03. Modifica il trimestre dal foglio Presentazione."}]
[]
[null,1,"BIT INTEGRITA'",null,{"$f":"IF(AND(F135=TRUE,K64=J144),1,0)","v":0},"PROPRIETA'",null,{"$f":"IF(G13=F134,1,IF(F135=FALSE,1,0))","v":0},"SCADENZA",null,{"$f":"B138+'DETTAGLIO VERSAMENTO'!M2019+'F24 Enti Pubblici'!AH63+Tabelle!C21","v":4},"INTEGRITA'"]
[null,null,null,null,{"$f":"IF(K64=J144,1,0)","v":0},"PROPRIETA'"]
[null,null,null,null,null,null,null,null,null,{"$f":"IF(F135=FALSE,\"ERRORE: manca l' OK sulle regole di utilizzo del file.\",IF(K64=J144,\"\",IF(C66<0,F134,\"\")))","v":""}]
[]
[null,"Nome del Titolare",null,null,null,null,"P. IVA o Cod. Fiscale",null,null,null,null,null,1,2,3,4,5,6,7,8,9,10,11,null,null,{"$f":"M144","v":0},{"$f":"ROUND((Z142+AC142)*3,1)","v":3},61,{"$f":"N144","v":1},{"$f":"ROUND((AC142+AF142)*3,1)","v":9},{"$f":"AB142-5","v":56},{"$f":"O144","v":2},{"$f":"ROUND((AF142+AI142)*3,1)","v":15},{"$f":"AE142-5","v":51},{"$f":"P144","v":3},{"$f":"ROUND((AI142+AL142)*3,1)","v":21},{"$f":"AH142-5","v":46},{"$f":"Q144","v":4},{"$f":"ROUND((AL142+AO142)*3,1)","v":27},{"$f":"AK142-5","v":41},{"$f":"R144","v":5},{"$f":"ROUND((AO142+AR142)*3,1)","v":33},{"$f":"AN142-5","v":36},{"$f":"S144","v":6},{"$f":"ROUND((AR142+AU142)*3,1)","v":39},{"$f":"AQ142-5","v":31},{"$f":"T144","v":7},{"$f":"ROUND((AU142+AX142)*3,1)","v":45},{"$f":"AT142-5","v":26},{"$f":"U144","v":8},{"$f":"ROUND((AX142+BA142)*3,1)","v":51},{"$f":"AW142-5","v":21},{"$f":"V144","v":9},{"$f":"ROUND((BA142+BD142)*3,1)","v":30},{"$f":"AZ142-5","v":16},{"$f":"W144","v":1},{"$f":"ROUND((BD142+Z142)*3,1)","v":3},{"$f":"BC142-5","v":11},null,null,"A","B","C","D","F","E","I","G","H","K","J","N","L","M","P","O","S","Q","R","U","T","X","V","W","Z","Y","ù","à","è","ì","ò","/","","\"","-",".","3","1","2","5","4","8","6","7","0","9"," "]
[]
[null,{"$f":"E36","v":"Anagrafica CONTRIBUENTE"},null,null,null,null,{"$f":"E34","v":"01234567891"},null,null,{"$f":"CONCATENATE(J148,\"-\",J149,\"-\",J150)","v":"223-BKBCC-823"},null,null,{"$f":"IF(ISERROR(VALUE(MID($G144,M142,1))),M142,IF(M142<($H145+1),VALUE(MID($G144,M142,1)),0))","v":0},{"$f":"IF(ISERROR(VALUE(MID($G144,N142,1))),N142,IF(N142<($H145+1),VALUE(MID($G144,N142,1)),0))","v":1},{"$f":"IF(ISERROR(VALUE(MID($G144,O142,1))),O142,IF(O142<($H145+1),VALUE(MID($G144,O142,1)),0))","v":2},{"$f":"IF(ISERROR(VALUE(MID($G144,P142,1))),P142,IF(P142<($H145+1),VALUE(MID($G144,P142,1)),0))","v":3},{"$f":"IF(ISERROR(VALUE(MID($G144,Q142,1))),Q142,IF(Q142<($H145+1),VALUE(MID($G144,Q142,1)),0))","v":4},5,6,7,8,9,1,null,null,{"$f":"HLOOKUP(MID($B144,Z142,1),$BI142:$DC144,3,FALSE)","v":{"$error":"#VALUE!"}},1,33,1,3,33,12,21,33,1,12,33,8,33,33,19,33,33,1,33,33,5,33,33,7,33,12,3,33,19,1,1,47,null,null,1,2,3,4,5,6,7,8,9,10,11,12,13,14,15,16,17,18,19,20,21,22,23,24,25,26,27,28,29,30,31,32,33,34,35,36,37,38,39,40,41,42,43,44,45,46,47]
[null,null,null,null,null,null,"LUNG. Txt",{"$f":"LEN(G144)","v":11},null,null,null,null,null,null,null,null,null,null,null,null,null,null,null,null,null,null,null,null,null,null,null,null,null,null,null,null,null,null,null,null,null,null,null,null,null,null,null,null,null,null,null,null,null,null,null,null,null,null,null,null,"A","B","C","D","E","F","G","H","I","J","K","L","M","N","O","P","Q","R","S","T","U","V","W","X","Y","Z",null,null,null,null,null,null,null,null,null,null,{"$f":"COUNTIF($Z142:$BF142,CS142)","v":3},2,1,1,1,1,1,1,1,2," "]
[null,12,null,null,null,null,null,null,null,null,null,null,null,null,null,null,null,null,null,null,null,null,null,{"$f":"IF(X149<0,X149*-1,X149)","v":227},null,null,null,null,null,null,null,null,null,null,null,null,null,null,null,null,null,null,null,null,null,null,null,null,null,null,null,null,null,null,null,null,null,null,{"$f":"IF(BG149<0,BG149*-1,BG149)","v":3734},null,null,null,null,null,null,null,null,null,null,null,null,null,null,null,null,null,null,null,null,null,null,null,null,null,null,null,null,null,null,null,null,null,null,null,15,null,{"$f":"IF(ISERROR(HLOOKUP(SMALL($Z142:$BF142,CS142),$BI144:$CH145,2,FALSE)),HLOOKUP(SMALL($Z142:$BF142,CS142),$BI144:$CH145,2,TRUE),HLOOKUP(SMALL($Z142:$BF142,CS142),$BI144:$CH145,2,FALSE))","v":"A"},{"$f":"IF(ISERROR(HLOOKUP(SMALL($Z142:$BF142,CT142+SUM($CS145:CS145)),$BI144:$CH145,2,FALSE)),HLOOKUP(SMALL($Z142:$BF142,CT142+SUM($CS145:CS145)),$BI144:$CH145,2,TRUE),HLOOKUP(SMALL($Z142:$BF142,CT142+SUM($CS145:CS145)),$BI144:$CH145,2,FALSE))","v":"B"},{"$f":"IF(ISERROR(HLOOKUP(SMALL($Z142:$BF142,CU142+SUM($CS145:CT145)),$BI144:$CH145,2,FALSE)),HLOOKUP(SMALL($Z142:$BF142,CU142+SUM($CS145:CT145)),$BI144:$CH145,2,TRUE),HLOOKUP(SMALL($Z142:$BF142,CU142+SUM($CS145:CT145)),$BI144:$CH145,2,FALSE))","v":"C"},{"$f":"IF(ISERROR(HLOOKUP(SMALL($Z142:$BF142,CV142+SUM($CS145:CU145)),$BI144:$CH145,2,FALSE)),HLOOKUP(SMALL($Z142:$BF142,CV142+SUM($CS145:CU145)),$BI144:$CH145,2,TRUE),HLOOKUP(SMALL($Z142:$BF142,CV142+SUM($CS145:CU145)),$BI144:$CH145,2,FALSE))","v":"G"},{"$f":"IF(ISERROR(HLOOKUP(SMALL($Z142:$BF142,CW142+SUM($CS145:CV145)),$BI144:$CH145,2,FALSE)),HLOOKUP(SMALL($Z142:$BF142,CW142+SUM($CS145:CV145)),$BI144:$CH145,2,TRUE),HLOOKUP(SMALL($Z142:$BF142,CW142+SUM($CS145:CV145)),$BI144:$CH145,2,FALSE))","v":"G"},{"$f":"IF(ISERROR(HLOOKUP(SMALL($Z142:$BF142,CX142+SUM($CS145:CW145)),$BI144:$CH145,2,FALSE)),HLOOKUP(SMALL($Z142:$BF142,CX142+SUM($CS145:CW145)),$BI144:$CH145,2,TRUE),HLOOKUP(SMALL($Z142:$BF142,CX142+SUM($CS145:CW145)),$BI144:$CH145,2,FALSE))","v":"O"},{"$f":"IF(ISERROR(HLOOKUP(SMALL($Z142:$BF142,CY142+SUM($CS145:CX145)),$BI144:$CH145,2,FALSE)),HLOOKUP(SMALL($Z142:$BF142,CY142+SUM($CS145:CX145)),$BI144:$CH145,2,TRUE),HLOOKUP(SMALL($Z142:$BF142,CY142+SUM($CS145:CX145)),$BI144:$CH145,2,FALSE))","v":"K"},{"$f":"IF(ISERROR(HLOOKUP(SMALL($Z142:$BF142,CZ142+SUM($CS145:CY145)),$BI144:$CH145,2,FALSE)),HLOOKUP(SMALL($Z142:$BF142,CZ142+SUM($CS145:CY145)),$BI144:$CH145,2,TRUE),HLOOKUP(SMALL($Z142:$BF142,CZ142+SUM($CS145:CY145)),$BI144:$CH145,2,FALSE))","v":"P"},{"$f":"IF(ISERROR(HLOOKUP(SMALL($Z142:$BF142,DA142+SUM($CS145:CZ145)),$BI144:$CH145,2,FALSE)),HLOOKUP(SMALL($Z142:$BF142,DA142+SUM($CS145:CZ145)),$BI144:$CH145,2,TRUE),HLOOKUP(SMALL($Z142:$BF142,DA142+SUM($CS145:CZ145)),$BI144:$CH145,2,FALSE))","v":"G"},{"$f":"IF(ISERROR(HLOOKUP(SMALL($Z142:$BF142,CQ146),$BI144:$CH145,2,FALSE)),HLOOKUP(SMALL($Z142:$BF142,CQ146),$BI144:$CH145,2,TRUE),HLOOKUP(SMALL($Z142:$BF142,CQ146),$BI144:$CH145,2,FALSE))","v":"K"}]
[null,null,null,null,null,null,null,null,null,null,null,null,{"$f":"M144*$B146","v":0},null,{"$f":"O144*$B146","v":24},null,{"$f":"Q144*$B146","v":48},null,{"$f":"S144*$B146","v":72},null,{"$f":"U144*$B146","v":96},null,{"$f":"W144*$B146","v":12},{"$f":"IF(X150<0,X150*-1,X150)","v":280},null,{"$f":"Z144*$B146","v":{"$error":"#VALUE!"}},null,{"$f":"AB144*$B146","v":396},null,{"$f":"AD144*$B146","v":36},null,{"$f":"AF144*$B146","v":144},null,{"$f":"AH144*$B146","v":396},null,{"$f":"AJ144*$B146","v":144},null,{"$f":"AL144*$B146","v":96},null,{"$f":"AN144*$B146","v":396},null,{"$f":"AP144*$B146","v":396},null,{"$f":"AR144*$B146","v":12},null,{"$f":"AT144*$B146","v":396},null,{"$f":"AV144*$B146","v":396},null,{"$f":"AX144*$B146","v":84},null,{"$f":"AZ144*$B146","v":144},null,{"$f":"BB144*$B146","v":396},null,{"$f":"BD144*$B146","v":12},null,{"$f":"BF144*$B146","v":564},{"$f":"IF(BG150<0,BG150*-1,BG150)","v":3346},null,null,null,null,null,null,null,null,null,null,null,null,null,null,null,null,null,null,null,null,null,null,null,null,null,null,null,null,null,null,null,null,null,null,null,null,null,{"$f":"IF(ISERROR(CS146),0,CS146)","v":"A"},"B","C","G","G","O","K","P","G","K"]
[null,null,null,null,null,null,null,null,null,{"$f":"CONCATENATE(AE153,AF153,AG153)","v":"223"},null,null,null,{"$f":"N144*$B146","v":12},null,{"$f":"P144*$B146","v":36},null,{"$f":"R144*$B146","v":60},null,{"$f":"T144*$B146","v":84},null,{"$f":"V144*$B146","v":108},null,{"$f":"IF(X151<0,X151*-1,X151)","v":1105},null,null,{"$f":"AA144*$B146","v":12},null,{"$f":"AC144*$B146","v":12},null,{"$f":"AE144*$B146","v":396},null,{"$f":"AG144*$B146","v":252},null,{"$f":"AI144*$B146","v":12},null,{"$f":"AK144*$B146","v":396},null,{"$f":"AM144*$B146","v":396},null,{"$f":"AO144*$B146","v":228},null,{"$f":"AQ144*$B146","v":396},null,{"$f":"AS144*$B146","v":396},null,{"$f":"AU144*$B146","v":60},null,{"$f":"AW144*$B146","v":396},null,{"$f":"AY144*$B146","v":396},null,{"$f":"BA144*$B146","v":36},null,{"$f":"BC144*$B146","v":228},null,{"$f":"BE144*$B146","v":12},null,{"$f":"IF(BG151<0,BG151*-1,BG151)","v":15302}]
[null,{"$f":"DAY(E149)","v":31},{"$f":"MONTH(E149)","v":3},{"$f":"YEAR(E149)","v":2024},{"$f":"U13","v":45382},null,null,null,null,{"$f":"CONCATENATE(R153,S153,T153,U153,V153)","v":"BKBCC"},null,null,{"$f":"M147-N144","v":-1},null,{"$f":"O147-P144","v":21},null,{"$f":"Q147-R144","v":43},null,{"$f":"S147-T144","v":65},null,{"$f":"U147-V144","v":87},null,{"$f":"W147-M144","v":12},{"$f":"SUM(M149:W149)","v":227},null,{"$f":"Z147-BF144","v":{"$error":"#VALUE!"}},null,{"$f":"AB147-AA144","v":395},null,{"$f":"AD147-AC144","v":35},null,{"$f":"AF147-AE144","v":111},null,{"$f":"AH147-AG144","v":375},null,{"$f":"AJ147-AI144","v":143},null,{"$f":"AL147-AK144","v":63},null,{"$f":"AN147-AM144","v":363},null,{"$f":"AP147-AO144","v":377},null,{"$f":"AR147-AQ144","v":-21},null,{"$f":"AT147-AS144","v":363},null,{"$f":"AV147-AU144","v":391},null,{"$f":"AX147-AW144","v":51},null,{"$f":"AZ147-AY144","v":111},null,{"$f":"BB147-BA144","v":393},null,{"$f":"BD147-BC144","v":-7},null,{"$f":"BF147-BE144","v":563},{"$f":"SUMIF(Z149:BF149,\">0\")","v":3734},null,null,null,null,null,null,null,null,null,null,null,null,null,null,null,null,null,null,null,null,null,null,null,null,null,null,null,null,null,null,null,null,null,null,null,null,null,"A","D","E","G","O","P","R","R","S","U"]
[null,{"$f":"DAY(E150)","v":2},{"$f":"MONTH(E150)","v":1},{"$f":"YEAR(E149)","v":2024},{"$f":"TODAY()","v":45293},null,null,null,null,{"$f":"CONCATENATE(AH153,AI153,AJ153)","v":"823"},null,null,null,{"$f":"N148-M144","v":12},null,{"$f":"P148-O144","v":34},null,{"$f":"R148-Q144","v":56},null,{"$f":"T148-S144","v":78},null,{"$f":"V148-U144","v":100},null,{"$f":"SUM(M150:W150)","v":280},null,null,{"$f":"AA148-AB144","v":-21},null,{"$f":"AC148-AD144","v":9},null,{"$f":"AE148-AF144","v":384},null,{"$f":"AG148-AH144","v":219},null,{"$f":"AI148-AJ144","v":0},null,{"$f":"AK148-AL144","v":388},null,{"$f":"AM148-AN144","v":363},null,{"$f":"AO148-AP144","v":195},null,{"$f":"AQ148-AR144","v":395},null,{"$f":"AS148-AT144","v":363},null,{"$f":"AU148-AV144","v":27},null,{"$f":"AW148-AX144","v":389},null,{"$f":"AY148-AZ144","v":384},null,{"$f":"BA148-BB144","v":3},null,{"$f":"BC148-BD144","v":227},null,{"$f":"BE148-BF144","v":-35},null,{"$f":"SUMIF(Z150:BF150,\">0\")","v":3346},null,null,null,null,null,null,null,null,null,null,null,null,null,null,null,null,null,null,null,null,null,null,null,null,null,null,null,null,null,null,null,null,null,null,null,null,null,{"$f":"IF(CS147=0,CS149,CS146)","v":"A"},"B","C","G","G","O","K","P","G","K"]
[null,null,null,null,null,null,null,null,null,null,null,null,{"$f":"M144+M147+M149","v":-1},{"$f":"N144+N148+N150","v":25},{"$f":"O144+O147+O149","v":47},{"$f":"P144+P148+P150","v":73},{"$f":"Q144+Q147+Q149","v":95},{"$f":"R144+R148+R150","v":121},{"$f":"S144+S147+S149","v":143},{"$f":"T144+T148+T150","v":169},{"$f":"U144+U147+U149","v":191},{"$f":"V144+V148+V150","v":217},{"$f":"W144+W147+W149","v":25},{"$f":"SUM(M151:W151)","v":1105},null,{"$f":"Z144+Z147+Z149","v":{"$error":"#VALUE!"}},{"$f":"AA144+AA148+AA150","v":-8},{"$f":"AB144+AB147+AB149","v":824},{"$f":"AC144+AC148+AC150","v":22},{"$f":"AD144+AD147+AD149","v":74},{"$f":"AE144+AE148+AE150","v":813},{"$f":"AF144+AF147+AF149","v":267},{"$f":"AG144+AG148+AG150","v":492},{"$f":"AH144+AH147+AH149","v":804},{"$f":"AI144+AI148+AI150","v":13},{"$f":"AJ144+AJ147+AJ149","v":299},{"$f":"AK144+AK148+AK150","v":817},{"$f":"AL144+AL147+AL149","v":167},{"$f":"AM144+AM148+AM150","v":792},{"$f":"AN144+AN147+AN149","v":792},{"$f":"AO144+AO148+AO150","v":442},{"$f":"AP144+AP147+AP149","v":806},{"$f":"AQ144+AQ148+AQ150","v":824},{"$f":"AR144+AR147+AR149","v":-8},{"$f":"AS144+AS148+AS150","v":792},{"$f":"AT144+AT147+AT149","v":792},{"$f":"AU144+AU148+AU150","v":92},{"$f":"AV144+AV147+AV149","v":820},{"$f":"AW144+AW148+AW150","v":818},{"$f":"AX144+AX147+AX149","v":142},{"$f":"AY144+AY148+AY150","v":813},{"$f":"AZ144+AZ147+AZ149","v":267},{"$f":"BA144+BA148+BA150","v":42},{"$f":"BB144+BB147+BB149","v":822},{"$f":"BC144+BC148+BC150","v":474},{"$f":"BD144+BD147+BD149","v":6},{"$f":"BE144+BE148+BE150","v":-22},{"$f":"BF144+BF147+BF149","v":1174},{"$f":"SUMIF(Z151:BF151,\">0\")","v":15302}]
[null,{"$f":"DATE(D149,C149,B149)","v":45382},{"$f":"IF((B152-B153)<0,0,B152-B153)","v":89}]
[null,{"$f":"DATE(D150,C150,B150)","v":45293},null,null,null,null,null,null,null,null,null,null,{"$f":"SUM(X149:X151)","v":1612},null,null,null,{"$f":"LEN(TEXT(M153,\"@\"))","v":4},{"$f":"IF(Q153>0,HLOOKUP(MID(TEXT($M153,\"@\"),1,1),$CS142:$DB150,9,FALSE),\"\")","v":"B"},{"$f":"IF($Q153>1,HLOOKUP(MID(TEXT($M153,\"@\"),2,1),$CS142:$DB150,9,FALSE),HLOOKUP(MID(TEXT($X153,\"@\"),1,1),$CS142:$DB150,9,FALSE))","v":"K"},{"$f":"IF($Q153>2,HLOOKUP(MID(TEXT($M153,\"@\"),3,1),$CS142:$DB150,9,FALSE),HLOOKUP(MID(TEXT($X153,\"@\"),2,1),$CS142:$DB150,9,FALSE))","v":"B"},{"$f":"IF($Q153>3,HLOOKUP(MID(TEXT($M153,\"@\"),4,1),$CS142:$DB150,9,FALSE),HLOOKUP(MID(TEXT($X153,\"@\"),3,1),$CS142:$DB150,9,FALSE))","v":"C"},{"$f":"IF($Q153>4,HLOOKUP(MID(TEXT($M153,\"@\"),5,1),$CS142:$DB150,9,FALSE),HLOOKUP(MID(TEXT($X153,\"@\"),4,1),$CS142:$DB150,9,FALSE))","v":"C"},{"$f":"LEN(TEXT(CONCATENATE(TEXT(X146,\"@\"),TEXT(X147,\"@\"),TEXT(X148,\"@\")),\"@\"))","v":10},{"$f":"IF(W153<4,CONCATENATE(TEXT(CQ146,\"@\"),TEXT(X146,\"@\"),TEXT(X147,\"@\"),TEXT(X148,\"@\")),CONCATENATE(TEXT(X146,\"@\"),TEXT(X147,\"@\"),TEXT(X148,\"@\")))","v":"2272801105"},null,{"$f":"SUM(BG149:BG151)","v":22382},null,null,null,{"$f":"LEN(TEXT(Z153,\"@\"))","v":5},{"$f":"IF(AD153>0,MID(TEXT($Z153,\"@\"),1,1),\"\")","v":"2"},{"$f":"IF($AD153>1,MID(TEXT($Z153,\"@\"),2,1),MID(TEXT($BG153,\"@\"),1,1))","v":"2"},{"$f":"IF($AD153>2,MID(TEXT($Z153,\"@\"),3,1),MID(TEXT($BG153,\"@\"),2,1))","v":"3"},{"$f":"IF($AD153>3,MID(TEXT($Z153,\"@\"),4,1),MID(TEXT($BG153,\"@\"),3,1))","v":"8"},{"$f":"IF($AD153>4,MID(TEXT($Z153,\"@\"),5,1),MID(TEXT($BG153,\"@\"),4,1))","v":"2"},{"$f":"IF($AD153>5,MID(TEXT($Z153,\"@\"),6,1),MID(TEXT($BG153,\"@\"),5,1))","v":"3"},{"$f":"LEN(TEXT(CONCATENATE(TEXT(BG146,\"@\"),TEXT(BG147,\"@\")),\"@\"))","v":8},null,null,null,null,null,null,null,null,null,null,null,null,null,null,null,null,null,null,null,null,null,{"$f":"IF(AK153<5,CONCATENATE(TEXT(BG148,\"@\"),TEXT(BG146,\"@\"),TEXT(BG147,\"@\")),CONCATENATE(TEXT(BG146,\"@\"),TEXT(BG147,\"@\")))","v":"37343346"}]
[]
[]
[null,null,null,null,null,"ANNO",{"$f":"'F24 Enti Pubblici'!BN3","v":2024}]
[null,null,"1° TRIMESTRE",null,1,{"$f":"DATE(G156,E157,1)","v":"2024-01-01"},{"$f":"F158-1","v":"2024-03-31"}]
[null,null,"2° TRIMESTRE",null,4,{"$f":"DATE(G156,E158,1)","v":"2024-04-01"},{"$f":"F159-1","v":"2024-06-30"}]
[null,null,"3° TRIMESTRE",null,7,{"$f":"DATE(G156,E159,1)","v":"2024-07-01"},{"$f":"F160-1","v":"2024-09-30"}]
[null,null,"4° TRIMESTRE",null,10,{"$f":"DATE(G156,E160,1)","v":"2024-10-01"},{"$f":"DATE(G156,E161,31)","v":"2024-12-31"}]
[null,null,null,null,12]

{"sheet":"DETTAGLIO VERSAMENTO","index":1,"n_rows":2026,"n_cols":31,"rows_kept":2026,"cut":false,"hidden":false,"merged":[[1,3,1,4],[2,6,2,12],[1,6,1,12],[2,3,2,4],[3,3,3,4],[5,26,6,26],[2010,3,2010,4],[2010,10,2010,11],[2010,8,2010,9],[5,19,5,20],[5,4,6,4],[2009,3,2009,4],[4,6,4,8],[3,6,3,7],[5,6,6,6],[5,8,6,8],[4,3,4,4]]}
[]
[null,null,null,"Contribuente:",null,null,"Compila le righe di questa sezione una sotto l' altra, assegnando un numero di protocollo progressivo e la data in ogni riga."]
[null,null,null,{"$f":"CONTRIBUENTE!E34","v":"01234567891"},null,null,"Nel foglio \\ F24 Enti Pubblici / potrai richiamare e stampare tutti i documenti così generati."]
[null,null,null,"Stesso nr. di PROT. =",null,null,"Dettaglio Versamento"]
[null,null,null,"stesso DOCUMENTO",null,null,{"$f":"IF(J2019=0,\"\",CONTRIBUENTE!$F$134)","v":""},null,null,null,null,null,null,null,null,null,null,null,null,"Vedi foglio  \\ Tabelle /"]
[null,null,null,"NR.","DATA",null,"SEZIONE","cod. tributo /","codice","ESTREMI","Riferimento","Riferimento","importi a debito",null,"Codice","Codice",null,"Identificativo operazione",null,"Conto Tesoreria",null,null,"delega",null,"Protocollo",null,"N O T E"]
[null,null,null,"Prot.",null,null,null,"causale",null,"IDENTIFICATIVI","A","B","VERSATI",null,"UFFICIO","ATTO",null,"tributi locali",null,null,"*ultimi 5 numeri",null,"irrev.",null,"alfanumerico"]
[]
["1 di 2000",{"$f":"IF(AE9=$AE$2013,0,IF(J$2019=1,0,D9&\"-\"&YEAR(E9)))","v":"1-2024"},{"$f":"IF(J$2019=1,0,B9&\"-\"&AC9)","v":"1-2024-1"},1,"2024-01-01",null,"0003","01 01",2020,12345678,51487,125,12345.98,null,"AAA","123456",null,"ZZZ999XXX",null,"C1",{"$f":"IF(J$2019=1,\"\",IF(T9=\"\",\"\",RIGHT(VLOOKUP(T9,Tabelle!$B$5:$C$9,2,FALSE),5)))","v":"i  27"},null,"B1",null,"AB 000",null,"Testo Libero",null,1,null,{"$f":"IF(E9>0,IF(OR(MONTH(E9)<$J$2025,MONTH(E9)>$J$2026),AE$2013,0),0)","v":0}]
["2",{"$f":"IF(AE10=$AE$2013,0,IF(J$2019=1,0,D10&\"-\"&YEAR(E10)))","v":"2-2024"},"2-2024-1",2,"2024-01-01",null,"3000","10 10",2020,87654321,"78415","521",21543.98,null,null,null,null,null,null,null,{"$f":"IF(J$2019=1,\"\",IF(T10=\"\",\"\",RIGHT(VLOOKUP(T10,Tabelle!$B$5:$C$9,2,FALSE),5)))","v":""},null,null,null,"CD 000",null,"Testo Libero riga 1",null,{"$f":"IF(B10=\"\",0,IF(B10=B9,COUNTIF(B$9:B9,B10)+1,1))","v":1},{"$f":"IF(OR(D10=\"\",J$2019=1),0,IF(AC10=28,1,0))","v":0},{"$f":"IF(E10>0,IF(OR(MONTH(E10)<$J$2025,MONTH(E10)>$J$2026),AE$2013,0),0)","v":0}]
["3","2-2024","2-2024-2",2,"2024-01-01",null,"3001",null,2020,"AAA 99999999 BBB",null,null,1000,null,null,null,null,null,null,null,{"$f":"IF(J$2019=1,\"\",IF(T11=\"\",\"\",RIGHT(VLOOKUP(T11,Tabelle!$B$5:$C$9,2,FALSE),5)))","v":""},null,null,null,null,null,"Testo Libero riga 2",null,{"$f":"IF(B11=\"\",0,IF(B11=B10,COUNTIF(B$9:B10,B11)+1,1))","v":2},0,0]
["4","2-2024","2-2024-3",2,"2024-01-01",null,"3002",null,2020,null,null,null,2000,null,null,null,null,null,null,null,{"$f":"IF(J$2019=1,\"\",IF(T12=\"\",\"\",RIGHT(VLOOKUP(T12,Tabelle!$B$5:$C$9,2,FALSE),5)))","v":""},null,null,null,null,null,"Righe di esempio",null,{"$f":"IF(B12=\"\",0,IF(B12=B11,COUNTIF(B$9:B11,B12)+1,1))","v":3},0,0]
["5","-1900","-1900-1",null,null,null,null,null,null,null,null,null,null,null,null,null,null,null,null,null,{"$f":"IF(J$2019=1,\"\",IF(T13=\"\",\"\",RIGHT(VLOOKUP(T13,Tabelle!$B$5:$C$9,2,FALSE),5)))","v":""},null,null,null,null,null,null,null,{"$f":"IF(B13=\"\",0,IF(B13=B12,COUNTIF(B$9:B12,B13)+1,1))","v":1},0,0]
["6","-1900","-1900-2",null,null,null,null,null,null,null,null,null,null,null,null,null,null,null,null,null,{"$f":"IF(J$2019=1,\"\",IF(T14=\"\",\"\",RIGHT(VLOOKUP(T14,Tabelle!$B$5:$C$9,2,FALSE),5)))","v":""},null,null,null,null,null,null,null,{"$f":"IF(B14=\"\",0,IF(B14=B13,COUNTIF(B$9:B13,B14)+1,1))","v":2},0,0]
["7","-1900","-1900-3",null,null,null,null,null,null,null,null,null,null,null,null,null,null,null,null,null,{"$f":"IF(J$2019=1,\"\",IF(T15=\"\",\"\",RIGHT(VLOOKUP(T15,Tabelle!$B$5:$C$9,2,FALSE),5)))","v":""},null,null,null,null,null,null,null,{"$f":"IF(B15=\"\",0,IF(B15=B14,COUNTIF(B$9:B14,B15)+1,1))","v":3},0,0]
["8","-1900","-1900-4",null,null,null,null,null,null,null,null,null,null,null,null,null,null,null,null,null,{"$f":"IF(J$2019=1,\"\",IF(T16=\"\",\"\",RIGHT(VLOOKUP(T16,Tabelle!$B$5:$C$9,2,FALSE),5)))","v":""},null,null,null,null,null,null,null,{"$f":"IF(B16=\"\",0,IF(B16=B15,COUNTIF(B$9:B15,B16)+1,1))","v":4},0,0]
["9","-1900","-1900-5",null,null,null,null,null,null,null,null,null,null,null,null,null,null,null,null,null,{"$f":"IF(J$2019=1,\"\",IF(T17=\"\",\"\",RIGHT(VLOOKUP(T17,Tabelle!$B$5:$C$9,2,FALSE),5)))","v":""},null,null,null,null,null,null,null,{"$f":"IF(B17=\"\",0,IF(B17=B16,COUNTIF(B$9:B16,B17)+1,1))","v":5},0,0]
["10","-1900","-1900-6",null,null,null,null,null,null,null,null,null,null,null,null,null,null,null,null,null,{"$f":"IF(J$2019=1,\"\",IF(T18=\"\",\"\",RIGHT(VLOOKUP(T18,Tabelle!$B$5:$C$9,2,FALSE),5)))","v":""},null,null,null,null,null,null,null,{"$f":"IF(B18=\"\",0,IF(B18=B17,COUNTIF(B$9:B17,B18)+1,1))","v":6},0,0]
["11","-1900","-1900-7",null,null,null,null,null,null,null,null,null,null,null,null,null,null,null,null,null,{"$f":"IF(J$2019=1,\"\",IF(T19=\"\",\"\",RIGHT(VLOOKUP(T19,Tabelle!$B$5:$C$9,2,FALSE),5)))","v":""},null,null,null,null,null,null,null,{"$f":"IF(B19=\"\",0,IF(B19=B18,COUNTIF(B$9:B18,B19)+1,1))","v":7},0,0]
["12","-1900","-1900-8",null,null,null,null,null,null,null,null,null,null,null,null,null,null,null,null,null,{"$f":"IF(J$2019=1,\"\",IF(T20=\"\",\"\",RIGHT(VLOOKUP(T20,Tabelle!$B$5:$C$9,2,FALSE),5)))","v":""},null,null,null,null,null,null,null,{"$f":"IF(B20=\"\",0,IF(B20=B19,COUNTIF(B$9:B19,B20)+1,1))","v":8},0,0]
["13","-1900","-1900-9",null,null,null,null,null,null,null,null,null,null,null,null,null,null,null,null,null,{"$f":"IF(J$2019=1,\"\",IF(T21=\"\",\"\",RIGHT(VLOOKUP(T21,Tabelle!$B$5:$C$9,2,FALSE),5)))","v":""},null,null,null,null,null,null,null,{"$f":"IF(B21=\"\",0,IF(B21=B20,COUNTIF(B$9:B20,B21)+1,1))","v":9},0,0]
["14","-1900","-1900-10",null,null,null,null,null,null,null,null,null,null,null,null,null,null,null,null,null,{"$f":"IF(J$2019=1,\"\",IF(T22=\"\",\"\",RIGHT(VLOOKUP(T22,Tabelle!$B$5:$C$9,2,FALSE),5)))","v":""},null,null,null,null,null,null,null,{"$f":"IF(B22=\"\",0,IF(B22=B21,COUNTIF(B$9:B21,B22)+1,1))","v":10},0,0]
["15","-1900","-1900-11",null,null,null,null,null,null,null,null,null,null,null,null,null,null,null,null,null,{"$f":"IF(J$2019=1,\"\",IF(T23=\"\",\"\",RIGHT(VLOOKUP(T23,Tabelle!$B$5:$C$9,2,FALSE),5)))","v":""},null,null,null,null,null,null,null,{"$f":"IF(B23=\"\",0,IF(B23=B22,COUNTIF(B$9:B22,B23)+1,1))","v":11},0,0]
["16","-1900","-1900-12",null,null,null,null,null,null,null,null,null,null,null,null,null,null,null,null,null,{"$f":"IF(J$2019=1,\"\",IF(T24=\"\",\"\",RIGHT(VLOOKUP(T24,Tabelle!$B$5:$C$9,2,FALSE),5)))","v":""},null,null,null,null,null,null,null,{"$f":"IF(B24=\"\",0,IF(B24=B23,COUNTIF(B$9:B23,B24)+1,1))","v":12},0,0]
["17","-1900","-1900-13",null,null,null,null,null,null,null,null,null,null,null,null,null,null,null,null,null,{"$f":"IF(J$2019=1,\"\",IF(T25=\"\",\"\",RIGHT(VLOOKUP(T25,Tabelle!$B$5:$C$9,2,FALSE),5)))","v":""},null,null,null,null,null,null,null,{"$f":"IF(B25=\"\",0,IF(B25=B24,COUNTIF(B$9:B24,B25)+1,1))","v":13},0,0]
["18","-1900","-1900-14",null,null,null,null,null,null,null,null,null,null,null,null,null,null,null,null,null,{"$f":"IF(J$2019=1,\"\",IF(T26=\"\",\"\",RIGHT(VLOOKUP(T26,Tabelle!$B$5:$C$9,2,FALSE),5)))","v":""},null,null,null,null,null,null,null,{"$f":"IF(B26=\"\",0,IF(B26=B25,COUNTIF(B$9:B25,B26)+1,1))","v":14},0,0]
["19","-1900","-1900-15",null,null,null,null,null,null,null,null,null,null,null,null,null,null,null,null,null,{"$f":"IF(J$2019=1,\"\",IF(T27=\"\",\"\",RIGHT(VLOOKUP(T27,Tabelle!$B$5:$C$9,2,FALSE),5)))","v":""},null,null,null,null,null,null,null,{"$f":"IF(B27=\"\",0,IF(B27=B26,COUNTIF(B$9:B26,B27)+1,1))","v":15},0,0]
["20","-1900","-1900-16",null,null,null,null,null,null,null,null,null,null,null,null,null,null,null,null,null,{"$f":"IF(J$2019=1,\"\",IF(T28=\"\",\"\",RIGHT(VLOOKUP(T28,Tabelle!$B$5:$C$9,2,FALSE),5)))","v":""},null,null,null,null,null,null,null,{"$f":"IF(B28=\"\",0,IF(B28=B27,COUNTIF(B$9:B27,B28)+1,1))","v":16},0,0]
["21","-1900","-1900-17",null,null,null,null,null,null,null,null,null,null,null,null,null,null,null,null,null,{"$f":"IF(J$2019=1,\"\",IF(T29=\"\",\"\",RIGHT(VLOOKUP(T29,Tabelle!$B$5:$C$9,2,FALSE),5)))","v":""},null,null,null,null,null,null,null,{"$f":"IF(B29=\"\",0,IF(B29=B28,COUNTIF(B$9:B28,B29)+1,1))","v":17},0,0]
["22","-1900","-1900-18",null,null,null,null,null,null,null,null,null,null,null,null,null,null,null,null,null,{"$f":"IF(J$2019=1,\"\",IF(T30=\"\",\"\",RIGHT(VLOOKUP(T30,Tabelle!$B$5:$C$9,2,FALSE),5)))","v":""},null,null,null,null,null,null,null,{"$f":"IF(B30=\"\",0,IF(B30=B29,COUNTIF(B$9:B29,B30)+1,1))","v":18},0,0]
["23","-1900","-1900-19",null,null,null,null,null,null,null,null,null,null,null,null,null,null,null,null,null,{"$f":"IF(J$2019=1,\"\",IF(T31=\"\",\"\",RIGHT(VLOOKUP(T31,Tabelle!$B$5:$C$9,2,FALSE),5)))","v":""},null,null,null,null,null,null,null,{"$f":"IF(B31=\"\",0,IF(B31=B30,COUNTIF(B$9:B30,B31)+1,1))","v":19},0,0]
["24","-1900","-1900-20",null,null,null,null,null,null,null,null,null,null,null,null,null,null,null,null,null,{"$f":"IF(J$2019=1,\"\",IF(T32=\"\",\"\",RIGHT(VLOOKUP(T32,Tabelle!$B$5:$C$9,2,FALSE),5)))","v":""},null,null,null,null,null,null,null,{"$f":"IF(B32=\"\",0,IF(B32=B31,COUNTIF(B$9:B31,B32)+1,1))","v":20},0,0]
["25","-1900","-1900-21",null,null,null,null,null,null,null,null,null,null,null,null,null,null,null,null,null,{"$f":"IF(J$2019=1,\"\",IF(T33=\"\",\"\",RIGHT(VLOOKUP(T33,Tabelle!$B$5:$C$9,2,FALSE),5)))","v":""},null,null,null,null,null,null,null,{"$f":"IF(B33=\"\",0,IF(B33=B32,COUNTIF(B$9:B32,B33)+1,1))","v":21},0,0]
["26","-1900","-1900-22",null,null,null,null,null,null,null,null,null,null,null,null,null,null,null,null,null,{"$f":"IF(J$2019=1,\"\",IF(T34=\"\",\"\",RIGHT(VLOOKUP(T34,Tabelle!$B$5:$C$9,2,FALSE),5)))","v":""},null,null,null,null,null,null,null,{"$f":"IF(B34=\"\",0,IF(B34=B33,COUNTIF(B$9:B33,B34)+1,1))","v":22},0,0]
["27","-1900","-1900-23",null,null,null,null,null,null,null,null,null,null,null,null,null,null,null,null,null,{"$f":"IF(J$2019=1,\"\",IF(T35=\"\",\"\",RIGHT(VLOOKUP(T35,Tabelle!$B$5:$C$9,2,FALSE),5)))","v":""},null,null,null,null,null,null,null,{"$f":"IF(B35=\"\",0,IF(B35=B34,COUNTIF(B$9:B34,B35)+1,1))","v":23},0,0]
["28","-1900","-1900-24",null,null,null,null,null,null,null,null,null,null,null,null,null,null,null,null,null,{"$f":"IF(J$2019=1,\"\",IF(T36=\"\",\"\",RIGHT(VLOOKUP(T36,Tabelle!$B$5:$C$9,2,FALSE),5)))","v":""},null,null,null,null,null,null,null,{"$f":"IF(B36=\"\",0,IF(B36=B35,COUNTIF(B$9:B35,B36)+1,1))","v":24},0,0]
["29","-1900","-1900-25",null,null,null,null,null,null,null,null,null,null,null,null,null,null,null,null,null,{"$f":"IF(J$2019=1,\"\",IF(T37=\"\",\"\",RIGHT(VLOOKUP(T37,Tabelle!$B$5:$C$9,2,FALSE),5)))","v":""},null,null,null,null,null,null,null,{"$f":"IF(B37=\"\",0,IF(B37=B36,COUNTIF(B$9:B36,B37)+1,1))","v":25},0,0]
["30","-1900","-1900-26",null,null,null,null,null,null,null,null,null,null,null,null,null,null,null,null,null,{"$f":"IF(J$2019=1,\"\",IF(T38=\"\",\"\",RIGHT(VLOOKUP(T38,Tabelle!$B$5:$C$9,2,FALSE),5)))","v":""},null,null,null,null,null,null,null,{"$f":"IF(B38=\"\",0,IF(B38=B37,COUNTIF(B$9:B37,B38)+1,1))","v":26},0,0]
["31","-1900","-1900-27",null,null,null,null,null,null,null,null,null,null,null,null,null,null,null,null,null,{"$f":"IF(J$2019=1,\"\",IF(T39=\"\",\"\",RIGHT(VLOOKUP(T39,Tabelle!$B$5:$C$9,2,FALSE),5)))","v":""},null,null,null,null,null,null,null,{"$f":"IF(B39=\"\",0,IF(B39=B38,COUNTIF(B$9:B38,B39)+1,1))","v":27},0,0]
["32","-1900","-1900-28",null,null,null,null,null,null,null,null,null,null,null,null,null,null,null,null,null,{"$f":"IF(J$2019=1,\"\",IF(T40=\"\",\"\",RIGHT(VLOOKUP(T40,Tabelle!$B$5:$C$9,2,FALSE),5)))","v":""},null,null,null,null,null,null,null,{"$f":"IF(B40=\"\",0,IF(B40=B39,COUNTIF(B$9:B39,B40)+1,1))","v":28},0,0]
["33","-1900","-1900-29",null,null,null,null,null,null,null,null,null,null,null,null,null,null,null,null,null,{"$f":"IF(J$2019=1,\"\",IF(T41=\"\",\"\",RIGHT(VLOOKUP(T41,Tabelle!$B$5:$C$9,2,FALSE),5)))","v":""},null,null,null,null,null,null,null,{"$f":"IF(B41=\"\",0,IF(B41=B40,COUNTIF(B$9:B40,B41)+1,1))","v":29},0,0]
["34","-1900","-1900-30",null,null,null,null,null,null,null,null,null,null,null,null,null,null,null,null,null,{"$f":"IF(J$2019=1,\"\",IF(T42=\"\",\"\",RIGHT(VLOOKUP(T42,Tabelle!$B$5:$C$9,2,FALSE),5)))","v":""},null,null,null,null,null,null,null,{"$f":"IF(B42=\"\",0,IF(B42=B41,COUNTIF(B$9:B41,B42)+1,1))","v":30},0,0]
["35","-1900","-1900-31",null,null,null,null,null,null,null,null,null,null,null,null,null,null,null,null,null,{"$f":"IF(J$2019=1,\"\",IF(T43=\"\",\"\",RIGHT(VLOOKUP(T43,Tabelle!$B$5:$C$9,2,FALSE),5)))","v":""},null,null,null,null,null,null,null,{"$f":"IF(B43=\"\",0,IF(B43=B42,COUNTIF(B$9:B42,B43)+1,1))","v":31},0,0]
["36","-1900","-1900-32",null,null,null,null,null,null,null,null,null,null,null,null,null,null,null,null,null,{"$f":"IF(J$2019=1,\"\",IF(T44=\"\",\"\",RIGHT(VLOOKUP(T44,Tabelle!$B$5:$C$9,2,FALSE),5)))","v":""},null,null,null,null,null,null,null,{"$f":"IF(B44=\"\",0,IF(B44=B43,COUNTIF(B$9:B43,B44)+1,1))","v":32},0,0]
["37","-1900","-1900-33",null,null,null,null,null,null,null,null,null,null,null,null,null,null,null,null,null,{"$f":"IF(J$2019=1,\"\",IF(T45=\"\",\"\",RIGHT(VLOOKUP(T45,Tabelle!$B$5:$C$9,2,FALSE),5)))","v":""},null,null,null,null,null,null,null,{"$f":"IF(B45=\"\",0,IF(B45=B44,COUNTIF(B$9:B44,B45)+1,1))","v":33},0,0]
["38","-1900","-1900-34",null,null,null,null,null,null,null,null,null,null,null,null,null,null,null,null,null,{"$f":"IF(J$2019=1,\"\",IF(T46=\"\",\"\",RIGHT(VLOOKUP(T46,Tabelle!$B$5:$C$9,2,FALSE),5)))","v":""},null,null,null,null,null,null,null,{"$f":"IF(B46=\"\",0,IF(B46=B45,COUNTIF(B$9:B45,B46)+1,1))","v":34},0,0]
["39","-1900","-1900-35",null,null,null,null,null,null,null,null,null,null,null,null,null,null,null,null,null,{"$f":"IF(J$2019=1,\"\",IF(T47=\"\",\"\",RIGHT(VLOOKUP(T47,Tabelle!$B$5:$C$9,2,FALSE),5)))","v":""},null,null,null,null,null,null,null,{"$f":"IF(B47=\"\",0,IF(B47=B46,COUNTIF(B$9:B46,B47)+1,1))","v":35},0,0]
["40","-1900","-1900-36",null,null,null,null,null,null,null,null,null,null,null,null,null,null,null,null,null,{"$f":"IF(J$2019=1,\"\",IF(T48=\"\",\"\",RIGHT(VLOOKUP(T48,Tabelle!$B$5:$C$9,2,FALSE),5)))","v":""},null,null,null,null,null,null,null,{"$f":"IF(B48=\"\",0,IF(B48=B47,COUNTIF(B$9:B47,B48)+1,1))","v":36},0,0]
["41","-1900","-1900-37",null,null,null,null,null,null,null,null,null,null,null,null,null,null,null,null,null,{"$f":"IF(J$2019=1,\"\",IF(T49=\"\",\"\",RIGHT(VLOOKUP(T49,Tabelle!$B$5:$C$9,2,FALSE),5)))","v":""},null,null,null,null,null,null,null,{"$f":"IF(B49=\"\",0,IF(B49=B48,COUNTIF(B$9:B48,B49)+1,1))","v":37},0,0]
["42","-1900","-1900-38",null,null,null,null,null,null,null,null,null,null,null,null,null,null,null,null,null,{"$f":"IF(J$2019=1,\"\",IF(T50=\"\",\"\",RIGHT(VLOOKUP(T50,Tabelle!$B$5:$C$9,2,FALSE),5)))","v":""},null,null,null,null,null,null,null,{"$f":"IF(B50=\"\",0,IF(B50=B49,COUNTIF(B$9:B49,B50)+1,1))","v":38},0,0]
["43","-1900","-1900-39",null,null,null,null,null,null,null,null,null,null,null,null,null,null,null,null,null,{"$f":"IF(J$2019=1,\"\",IF(T51=\"\",\"\",RIGHT(VLOOKUP(T51,Tabelle!$B$5:$C$9,2,FALSE),5)))","v":""},null,null,null,null,null,null,null,{"$f":"IF(B51=\"\",0,IF(B51=B50,COUNTIF(B$9:B50,B51)+1,1))","v":39},0,0]
["44","-1900","-1900-40",null,null,null,null,null,null,null,null,null,null,null,null,null,null,null,null,null,{"$f":"IF(J$2019=1,\"\",IF(T52=\"\",\"\",RIGHT(VLOOKUP(T52,Tabelle!$B$5:$C$9,2,FALSE),5)))","v":""},null,null,null,null,null,null,null,{"$f":"IF(B52=\"\",0,IF(B52=B51,COUNTIF(B$9:B51,B52)+1,1))","v":40},0,0]
["45","-1900","-1900-41",null,null,null,null,null,null,null,null,null,null,null,null,null,null,null,null,null,{"$f":"IF(J$2019=1,\"\",IF(T53=\"\",\"\",RIGHT(VLOOKUP(T53,Tabelle!$B$5:$C$9,2,FALSE),5)))","v":""},null,null,null,null,null,null,null,{"$f":"IF(B53=\"\",0,IF(B53=B52,COUNTIF(B$9:B52,B53)+1,1))","v":41},0,0]
["46","-1900","-1900-42",null,null,null,null,null,null,null,null,null,null,null,null,null,null,null,null,null,{"$f":"IF(J$2019=1,\"\",IF(T54=\"\",\"\",RIGHT(VLOOKUP(T54,Tabelle!$B$5:$C$9,2,FALSE),5)))","v":""},null,null,null,null,null,null,null,{"$f":"IF(B54=\"\",0,IF(B54=B53,COUNTIF(B$9:B53,B54)+1,1))","v":42},0,0]
["47","-1900","-1900-43",null,null,null,null,null,null,null,null,null,null,null,null,null,null,null,null,null,{"$f":"IF(J$2019=1,\"\",IF(T55=\"\",\"\",RIGHT(VLOOKUP(T55,Tabelle!$B$5:$C$9,2,FALSE),5)))","v":""},null,null,null,null,null,null,null,{"$f":"IF(B55=\"\",0,IF(B55=B54,COUNTIF(B$9:B54,B55)+1,1))","v":43},0,0]
["48","-1900","-1900-44",null,null,null,null,null,null,null,null,null,null,null,null,null,null,null,null,null,{"$f":"IF(J$2019=1,\"\",IF(T56=\"\",\"\",RIGHT(VLOOKUP(T56,Tabelle!$B$5:$C$9,2,FALSE),5)))","v":""},null,null,null,null,null,null,null,{"$f":"IF(B56=\"\",0,IF(B56=B55,COUNTIF(B$9:B55,B56)+1,1))","v":44},0,0]
["49","-1900","-1900-45",null,null,null,null,null,null,null,null,null,null,null,null,null,null,null,null,null,{"$f":"IF(J$2019=1,\"\",IF(T57=\"\",\"\",RIGHT(VLOOKUP(T57,Tabelle!$B$5:$C$9,2,FALSE),5)))","v":""},null,null,null,null,null,null,null,{"$f":"IF(B57=\"\",0,IF(B57=B56,COUNTIF(B$9:B56,B57)+1,1))","v":45},0,0]
["50","-1900","-1900-46",null,null,null,null,null,null,null,null,null,null,null,null,null,null,null,null,null,{"$f":"IF(J$2019=1,\"\",IF(T58=\"\",\"\",RIGHT(VLOOKUP(T58,Tabelle!$B$5:$C$9,2,FALSE),5)))","v":""},null,null,null,null,null,null,null,{"$f":"IF(B58=\"\",0,IF(B58=B57,COUNTIF(B$9:B57,B58)+1,1))","v":46},0,0]
["51","-1900","-1900-47",null,null,null,null,null,null,null,null,null,null,null,null,null,null,null,null,null,{"$f":"IF(J$2019=1,\"\",IF(T59=\"\",\"\",RIGHT(VLOOKUP(T59,Tabelle!$B$5:$C$9,2,FALSE),5)))","v":""},null,null,null,null,null,null,null,{"$f":"IF(B59=\"\",0,IF(B59=B58,COUNTIF(B$9:B58,B59)+1,1))","v":47},0,0]
["52","-1900","-1900-48",null,null,null,null,null,null,null,null,null,null,null,null,null,null,null,null,null,{"$f":"IF(J$2019=1,\"\",IF(T60=\"\",\"\",RIGHT(VLOOKUP(T60,Tabelle!$B$5:$C$9,2,FALSE),5)))","v":""},null,null,null,null,null,null,null,{"$f":"IF(B60=\"\",0,IF(B60=B59,COUNTIF(B$9:B59,B60)+1,1))","v":48},0,0]
["53","-1900","-1900-49",null,null,null,null,null,null,null,null,null,null,null,null,null,null,null,null,null,{"$f":"IF(J$2019=1,\"\",IF(T61=\"\",\"\",RIGHT(VLOOKUP(T61,Tabelle!$B$5:$C$9,2,FALSE),5)))","v":""},null,null,null,null,null,null,null,{"$f":"IF(B61=\"\",0,IF(B61=B60,COUNTIF(B$9:B60,B61)+1,1))","v":49},0,0]
["54","-1900","-1900-50",null,null,null,null,null,null,null,null,null,null,null,null,null,null,null,null,null,{"$f":"IF(J$2019=1,\"\",IF(T62=\"\",\"\",RIGHT(VLOOKUP(T62,Tabelle!$B$5:$C$9,2,FALSE),5)))","v":""},null,null,null,null,null,null,null,{"$f":"IF(B62=\"\",0,IF(B62=B61,COUNTIF(B$9:B61,B62)+1,1))","v":50},0,0]
["55","-1900","-1900-51",null,null,null,null,null,null,null,null,null,null,null,null,null,null,null,null,null,{"$f":"IF(J$2019=1,\"\",IF(T63=\"\",\"\",RIGHT(VLOOKUP(T63,Tabelle!$B$5:$C$9,2,FALSE),5)))","v":""},null,null,null,null,null,null,null,{"$f":"IF(B63=\"\",0,IF(B63=B62,COUNTIF(B$9:B62,B63)+1,1))","v":51},0,0]
["56","-1900","-1900-52",null,null,null,null,null,null,null,null,null,null,null,null,null,null,null,null,null,{"$f":"IF(J$2019=1,\"\",IF(T64=\"\",\"\",RIGHT(VLOOKUP(T64,Tabelle!$B$5:$C$9,2,FALSE),5)))","v":""},null,null,null,null,null,null,null,{"$f":"IF(B64=\"\",0,IF(B64=B63,COUNTIF(B$9:B63,B64)+1,1))","v":52},0,0]
["57","-1900","-1900-53",null,null,null,null,null,null,null,null,null,null,null,null,null,null,null,null,null,{"$f":"IF(J$2019=1,\"\",IF(T65=\"\",\"\",RIGHT(VLOOKUP(T65,Tabelle!$B$5:$C$9,2,FALSE),5)))","v":""},null,null,null,null,null,null,null,{"$f":"IF(B65=\"\",0,IF(B65=B64,COUNTIF(B$9:B64,B65)+1,1))","v":53},0,0]
["58","-1900","-1900-54",null,null,null,null,null,null,null,null,null,null,null,null,null,null,null,null,null,{"$f":"IF(J$2019=1,\"\",IF(T66=\"\",\"\",RIGHT(VLOOKUP(T66,Tabelle!$B$5:$C$9,2,FALSE),5)))","v":""},null,null,null,null,null,null,null,{"$f":"IF(B66=\"\",0,IF(B66=B65,COUNTIF(B$9:B65,B66)+1,1))","v":54},0,0]
["59","-1900","-1900-55",null,null,null,null,null,null,null,null,null,null,null,null,null,null,null,null,null,{"$f":"IF(J$2019=1,\"\",IF(T67=\"\",\"\",RIGHT(VLOOKUP(T67,Tabelle!$B$5:$C$9,2,FALSE),5)))","v":""},null,null,null,null,null,null,null,{"$f":"IF(B67=\"\",0,IF(B67=B66,COUNTIF(B$9:B66,B67)+1,1))","v":55},0,0]
["60","-1900","-1900-56",null,null,null,null,null,null,null,null,null,null,null,null,null,null,null,null,null,{"$f":"IF(J$2019=1,\"\",IF(T68=\"\",\"\",RIGHT(VLOOKUP(T68,Tabelle!$B$5:$C$9,2,FALSE),5)))","v":""},null,null,null,null,null,null,null,{"$f":"IF(B68=\"\",0,IF(B68=B67,COUNTIF(B$9:B67,B68)+1,1))","v":56},0,0]
["61","-1900","-1900-57",null,null,null,null,null,null,null,null,null,null,null,null,null,null,null,null,null,{"$f":"IF(J$2019=1,\"\",IF(T69=\"\",\"\",RIGHT(VLOOKUP(T69,Tabelle!$B$5:$C$9,2,FALSE),5)))","v":""},null,null,null,null,null,null,null,{"$f":"IF(B69=\"\",0,IF(B69=B68,COUNTIF(B$9:B68,B69)+1,1))","v":57},0,0]
["62","-1900","-1900-58",null,null,null,null,null,null,null,null,null,null,null,null,null,null,null,null,null,{"$f":"IF(J$2019=1,\"\",IF(T70=\"\",\"\",RIGHT(VLOOKUP(T70,Tabelle!$B$5:$C$9,2,FALSE),5)))","v":""},null,null,null,null,null,null,null,{"$f":"IF(B70=\"\",0,IF(B70=B69,COUNTIF(B$9:B69,B70)+1,1))","v":58},0,0]
["63","-1900","-1900-59",null,null,null,null,null,null,null,null,null,null,null,null,null,null,null,null,null,{"$f":"IF(J$2019=1,\"\",IF(T71=\"\",\"\",RIGHT(VLOOKUP(T71,Tabelle!$B$5:$C$9,2,FALSE),5)))","v":""},null,null,null,null,null,null,null,{"$f":"IF(B71=\"\",0,IF(B71=B70,COUNTIF(B$9:B70,B71)+1,1))","v":59},0,0]
["64","-1900","-1900-60",null,null,null,null,null,null,null,null,null,null,null,null,null,null,null,null,null,{"$f":"IF(J$2019=1,\"\",IF(T72=\"\",\"\",RIGHT(VLOOKUP(T72,Tabelle!$B$5:$C$9,2,FALSE),5)))","v":""},null,null,null,null,null,null,null,{"$f":"IF(B72=\"\",0,IF(B72=B71,COUNTIF(B$9:B71,B72)+1,1))","v":60},0,0]
["65","-1900",{"$f":"IF(J$2019=1,0,B73&\"-\"&AC73)","v":"-1900-61"},null,null,null,null,null,null,null,null,null,null,null,null,null,null,null,null,null,{"$f":"IF(J$2019=1,\"\",IF(T73=\"\",\"\",RIGHT(VLOOKUP(T73,Tabelle!$B$5:$C$9,2,FALSE),5)))","v":""},null,null,null,null,null,null,null,{"$f":"IF(B73=\"\",0,IF(B73=B72,COUNTIF(B$9:B72,B73)+1,1))","v":61},0,0]
["66",{"$f":"IF(AE74=$AE$2013,0,IF(J$2019=1,0,D74&\"-\"&YEAR(E74)))","v":"-1900"},"-1900-62",null,null,null,null,null,null,null,null,null,null,null,null,null,null,null,null,null,{"$f":"IF(J$2019=1,\"\",IF(T74=\"\",\"\",RIGHT(VLOOKUP(T74,Tabelle!$B$5:$C$9,2,FALSE),5)))","v":""},null,null,null,null,null,null,null,{"$f":"IF(B74=\"\",0,IF(B74=B73,COUNTIF(B$9:B73,B74)+1,1))","v":62},{"$f":"IF(OR(D74=\"\",J$2019=1),0,IF(AC74=28,1,0))","v":0},{"$f":"IF(E74>0,IF(OR(MONTH(E74)<$J$2025,MONTH(E74)>$J$2026),AE$2013,0),0)","v":0}]
["67","-1900","-1900-63",null,null,null,null,null,null,null,null,null,null,null,null,null,null,null,null,null,{"$f":"IF(J$2019=1,\"\",IF(T75=\"\",\"\",RIGHT(VLOOKUP(T75,Tabelle!$B$5:$C$9,2,FALSE),5)))","v":""},null,null,null,null,null,null,null,{"$f":"IF(B75=\"\",0,IF(B75=B74,COUNTIF(B$9:B74,B75)+1,1))","v":63},0,0]
["68","-1900","-1900-64",null,null,null,null,null,null,null,null,null,null,null,null,null,null,null,null,null,{"$f":"IF(J$2019=1,\"\",IF(T76=\"\",\"\",RIGHT(VLOOKUP(T76,Tabelle!$B$5:$C$9,2,FALSE),5)))","v":""},null,null,null,null,null,null,null,{"$f":"IF(B76=\"\",0,IF(B76=B75,COUNTIF(B$9:B75,B76)+1,1))","v":64},0,0]
["69","-1900","-1900-65",null,null,null,null,null,null,null,null,null,null,null,null,null,null,null,null,null,{"$f":"IF(J$2019=1,\"\",IF(T77=\"\",\"\",RIGHT(VLOOKUP(T77,Tabelle!$B$5:$C$9,2,FALSE),5)))","v":""},null,null,null,null,null,null,null,{"$f":"IF(B77=\"\",0,IF(B77=B76,COUNTIF(B$9:B76,B77)+1,1))","v":65},0,0]
["70","-1900","-1900-66",null,null,null,null,null,null,null,null,null,null,null,null,null,null,null,null,null,{"$f":"IF(J$2019=1,\"\",IF(T78=\"\",\"\",RIGHT(VLOOKUP(T78,Tabelle!$B$5:$C$9,2,FALSE),5)))","v":""},null,null,null,null,null,null,null,{"$f":"IF(B78=\"\",0,IF(B78=B77,COUNTIF(B$9:B77,B78)+1,1))","v":66},0,0]
["71","-1900","-1900-67",null,null,null,null,null,null,null,null,null,null,null,null,null,null,null,null,null,{"$f":"IF(J$2019=1,\"\",IF(T79=\"\",\"\",RIGHT(VLOOKUP(T79,Tabelle!$B$5:$C$9,2,FALSE),5)))","v":""},null,null,null,null,null,null,null,{"$f":"IF(B79=\"\",0,IF(B79=B78,COUNTIF(B$9:B78,B79)+1,1))","v":67},0,0]
["72","-1900","-1900-68",null,null,null,null,null,null,null,null,null,null,null,null,null,null,null,null,null,{"$f":"IF(J$2019=1,\"\",IF(T80=\"\",\"\",RIGHT(VLOOKUP(T80,Tabelle!$B$5:$C$9,2,FALSE),5)))","v":""},null,null,null,null,null,null,null,{"$f":"IF(B80=\"\",0,IF(B80=B79,COUNTIF(B$9:B79,B80)+1,1))","v":68},0,0]
["73","-1900","-1900-69",null,null,null,null,null,null,null,null,null,null,null,null,null,null,null,null,null,{"$f":"IF(J$2019=1,\"\",IF(T81=\"\",\"\",RIGHT(VLOOKUP(T81,Tabelle!$B$5:$C$9,2,FALSE),5)))","v":""},null,null,null,null,null,null,null,{"$f":"IF(B81=\"\",0,IF(B81=B80,COUNTIF(B$9:B80,B81)+1,1))","v":69},0,0]
["74","-1900","-1900-70",null,null,null,null,null,null,null,null,null,null,null,null,null,null,null,null,null,{"$f":"IF(J$2019=1,\"\",IF(T82=\"\",\"\",RIGHT(VLOOKUP(T82,Tabelle!$B$5:$C$9,2,FALSE),5)))","v":""},null,null,null,null,null,null,null,{"$f":"IF(B82=\"\",0,IF(B82=B81,COUNTIF(B$9:B81,B82)+1,1))","v":70},0,0]
["75","-1900","-1900-71",null,null,null,null,null,null,null,null,null,null,null,null,null,null,null,null,null,{"$f":"IF(J$2019=1,\"\",IF(T83=\"\",\"\",RIGHT(VLOOKUP(T83,Tabelle!$B$5:$C$9,2,FALSE),5)))","v":""},null,null,null,null,null,null,null,{"$f":"IF(B83=\"\",0,IF(B83=B82,COUNTIF(B$9:B82,B83)+1,1))","v":71},0,0]
["76","-1900","-1900-72",null,null,null,null,null,null,null,null,null,null,null,null,null,null,null,null,null,{"$f":"IF(J$2019=1,\"\",IF(T84=\"\",\"\",RIGHT(VLOOKUP(T84,Tabelle!$B$5:$C$9,2,FALSE),5)))","v":""},null,null,null,null,null,null,null,{"$f":"IF(B84=\"\",0,IF(B84=B83,COUNTIF(B$9:B83,B84)+1,1))","v":72},0,0]
["77","-1900","-1900-73",null,null,null,null,null,null,null,null,null,null,null,null,null,null,null,null,null,{"$f":"IF(J$2019=1,\"\",IF(T85=\"\",\"\",RIGHT(VLOOKUP(T85,Tabelle!$B$5:$C$9,2,FALSE),5)))","v":""},null,null,null,null,null,null,null,{"$f":"IF(B85=\"\",0,IF(B85=B84,COUNTIF(B$9:B84,B85)+1,1))","v":73},0,0]
["78","-1900","-1900-74",null,null,null,null,null,null,null,null,null,null,null,null,null,null,null,null,null,{"$f":"IF(J$2019=1,\"\",IF(T86=\"\",\"\",RIGHT(VLOOKUP(T86,Tabelle!$B$5:$C$9,2,FALSE),5)))","v":""},null,null,null,null,null,null,null,{"$f":"IF(B86=\"\",0,IF(B86=B85,COUNTIF(B$9:B85,B86)+1,1))","v":74},0,0]
["79","-1900","-1900-75",null,null,null,null,null,null,null,null,null,null,null,null,null,null,null,null,null,{"$f":"IF(J$2019=1,\"\",IF(T87=\"\",\"\",RIGHT(VLOOKUP(T87,Tabelle!$B$5:$C$9,2,FALSE),5)))","v":""},null,null,null,null,null,null,null,{"$f":"IF(B87=\"\",0,IF(B87=B86,COUNTIF(B$9:B86,B87)+1,1))","v":75},0,0]
["80","-1900","-1900-76",null,null,null,null,null,null,null,null,null,null,null,null,null,null,null,null,null,{"$f":"IF(J$2019=1,\"\",IF(T88=\"\",\"\",RIGHT(VLOOKUP(T88,Tabelle!$B$5:$C$9,2,FALSE),5)))","v":""},null,null,null,null,null,null,null,{"$f":"IF(B88=\"\",0,IF(B88=B87,COUNTIF(B$9:B87,B88)+1,1))","v":76},0,0]
["81","-1900","-1900-77",null,null,null,null,null,null,null,null,null,null,null,null,null,null,null,null,null,{"$f":"IF(J$2019=1,\"\",IF(T89=\"\",\"\",RIGHT(VLOOKUP(T89,Tabelle!$B$5:$C$9,2,FALSE),5)))","v":""},null,null,null,null,null,null,null,{"$f":"IF(B89=\"\",0,IF(B89=B88,COUNTIF(B$9:B88,B89)+1,1))","v":77},0,0]
["82","-1900","-1900-78",null,null,null,null,null,null,null,null,null,null,null,null,null,null,null,null,null,{"$f":"IF(J$2019=1,\"\",IF(T90=\"\",\"\",RIGHT(VLOOKUP(T90,Tabelle!$B$5:$C$9,2,FALSE),5)))","v":""},null,null,null,null,null,null,null,{"$f":"IF(B90=\"\",0,IF(B90=B89,COUNTIF(B$9:B89,B90)+1,1))","v":78},0,0]
["83","-1900","-1900-79",null,null,null,null,null,null,null,null,null,null,null,null,null,null,null,null,null,{"$f":"IF(J$2019=1,\"\",IF(T91=\"\",\"\",RIGHT(VLOOKUP(T91,Tabelle!$B$5:$C$9,2,FALSE),5)))","v":""},null,null,null,null,null,null,null,{"$f":"IF(B91=\"\",0,IF(B91=B90,COUNTIF(B$9:B90,B91)+1,1))","v":79},0,0]
["84","-1900","-1900-80",null,null,null,null,null,null,null,null,null,null,null,null,null,null,null,null,null,{"$f":"IF(J$2019=1,\"\",IF(T92=\"\",\"\",RIGHT(VLOOKUP(T92,Tabelle!$B$5:$C$9,2,FALSE),5)))","v":""},null,null,null,null,null,null,null,{"$f":"IF(B92=\"\",0,IF(B92=B91,COUNTIF(B$9:B91,B92)+1,1))","v":80},0,0]
["85","-1900","-1900-81",null,null,null,null,null,null,null,null,null,null,null,null,null,null,null,null,null,{"$f":"IF(J$2019=1,\"\",IF(T93=\"\",\"\",RIGHT(VLOOKUP(T93,Tabelle!$B$5:$C$9,2,FALSE),5)))","v":""},null,null,null,null,null,null,null,{"$f":"IF(B93=\"\",0,IF(B93=B92,COUNTIF(B$9:B92,B93)+1,1))","v":81},0,0]
["86","-1900","-1900-82",null,null,null,null,null,null,null,null,null,null,null,null,null,null,null,null,null,{"$f":"IF(J$2019=1,\"\",IF(T94=\"\",\"\",RIGHT(VLOOKUP(T94,Tabelle!$B$5:$C$9,2,FALSE),5)))","v":""},null,null,null,null,null,null,null,{"$f":"IF(B94=\"\",0,IF(B94=B93,COUNTIF(B$9:B93,B94)+1,1))","v":82},0,0]
["87","-1900","-1900-83",null,null,null,null,null,null,null,null,null,null,null,null,null,null,null,null,null,{"$f":"IF(J$2019=1,\"\",IF(T95=\"\",\"\",RIGHT(VLOOKUP(T95,Tabelle!$B$5:$C$9,2,FALSE),5)))","v":""},null,null,null,null,null,null,null,{"$f":"IF(B95=\"\",0,IF(B95=B94,COUNTIF(B$9:B94,B95)+1,1))","v":83},0,0]
["88","-1900","-1900-84",null,null,null,null,null,null,null,null,null,null,null,null,null,null,null,null,null,{"$f":"IF(J$2019=1,\"\",IF(T96=\"\",\"\",RIGHT(VLOOKUP(T96,Tabelle!$B$5:$C$9,2,FALSE),5)))","v":""},null,null,null,null,null,null,null,{"$f":"IF(B96=\"\",0,IF(B96=B95,COUNTIF(B$9:B95,B96)+1,1))","v":84},0,0]
["89","-1900","-1900-85",null,null,null,null,null,null,null,null,null,null,null,null,null,null,null,null,null,{"$f":"IF(J$2019=1,\"\",IF(T97=\"\",\"\",RIGHT(VLOOKUP(T97,Tabelle!$B$5:$C$9,2,FALSE),5)))","v":""},null,null,null,null,null,null,null,{"$f":"IF(B97=\"\",0,IF(B97=B96,COUNTIF(B$9:B96,B97)+1,1))","v":85},0,0]
["90","-1900","-1900-86",null,null,null,null,null,null,null,null,null,null,null,null,null,null,null,null,null,{"$f":"IF(J$2019=1,\"\",IF(T98=\"\",\"\",RIGHT(VLOOKUP(T98,Tabelle!$B$5:$C$9,2,FALSE),5)))","v":""},null,null,null,null,null,null,null,{"$f":"IF(B98=\"\",0,IF(B98=B97,COUNTIF(B$9:B97,B98)+1,1))","v":86},0,0]
["91","-1900","-1900-87",null,null,null,null,null,null,null,null,null,null,null,null,null,null,null,null,null,{"$f":"IF(J$2019=1,\"\",IF(T99=\"\",\"\",RIGHT(VLOOKUP(T99,Tabelle!$B$5:$C$9,2,FALSE),5)))","v":""},null,null,null,null,null,null,null,{"$f":"IF(B99=\"\",0,IF(B99=B98,COUNTIF(B$9:B98,B99)+1,1))","v":87},0,0]
["92","-1900","-1900-88",null,null,null,null,null,null,null,null,null,null,null,null,null,null,null,null,null,{"$f":"IF(J$2019=1,\"\",IF(T100=\"\",\"\",RIGHT(VLOOKUP(T100,Tabelle!$B$5:$C$9,2,FALSE),5)))","v":""},null,null,null,null,null,null,null,{"$f":"IF(B100=\"\",0,IF(B100=B99,COUNTIF(B$9:B99,B100)+1,1))","v":88},0,0]
["93","-1900","-1900-89",null,null,null,null,null,null,null,null,null,null,null,null,null,null,null,null,null,{"$f":"IF(J$2019=1,\"\",IF(T101=\"\",\"\",RIGHT(VLOOKUP(T101,Tabelle!$B$5:$C$9,2,FALSE),5)))","v":""},null,null,null,null,null,null,null,{"$f":"IF(B101=\"\",0,IF(B101=B100,COUNTIF(B$9:B100,B101)+1,1))","v":89},0,0]
["94","-1900","-1900-90",null,null,null,null,null,null,null,null,null,null,null,null,null,null,null,null,null,{"$f":"IF(J$2019=1,\"\",IF(T102=\"\",\"\",RIGHT(VLOOKUP(T102,Tabelle!$B$5:$C$9,2,FALSE),5)))","v":""},null,null,null,null,null,null,null,{"$f":"IF(B102=\"\",0,IF(B102=B101,COUNTIF(B$9:B101,B102)+1,1))","v":90},0,0]
["95","-1900","-1900-91",null,null,null,null,null,null,null,null,null,null,null,null,null,null,null,null,null,{"$f":"IF(J$2019=1,\"\",IF(T103=\"\",\"\",RIGHT(VLOOKUP(T103,Tabelle!$B$5:$C$9,2,FALSE),5)))","v":""},null,null,null,null,null,null,null,{"$f":"IF(B103=\"\",0,IF(B103=B102,COUNTIF(B$9:B102,B103)+1,1))","v":91},0,0]
["96","-1900","-1900-92",null,null,null,null,null,null,null,null,null,null,null,null,null,null,null,null,null,{"$f":"IF(J$2019=1,\"\",IF(T104=\"\",\"\",RIGHT(VLOOKUP(T104,Tabelle!$B$5:$C$9,2,FALSE),5)))","v":""},null,null,null,null,null,null,null,{"$f":"IF(B104=\"\",0,IF(B104=B103,COUNTIF(B$9:B103,B104)+1,1))","v":92},0,0]
["97","-1900","-1900-93",null,null,null,null,null,null,null,null,null,null,null,null,null,null,null,null,null,{"$f":"IF(J$2019=1,\"\",IF(T105=\"\",\"\",RIGHT(VLOOKUP(T105,Tabelle!$B$5:$C$9,2,FALSE),5)))","v":""},null,null,null,null,null,null,null,{"$f":"IF(B105=\"\",0,IF(B105=B104,COUNTIF(B$9:B104,B105)+1,1))","v":93},0,0]
["98","-1900","-1900-94",null,null,null,null,null,null,null,null,null,null,null,null,null,null,null,null,null,{"$f":"IF(J$2019=1,\"\",IF(T106=\"\",\"\",RIGHT(VLOOKUP(T106,Tabelle!$B$5:$C$9,2,FALSE),5)))","v":""},null,null,null,null,null,null,null,{"$f":"IF(B106=\"\",0,IF(B106=B105,COUNTIF(B$9:B105,B106)+1,1))","v":94},0,0]
["99","-1900","-1900-95",null,null,null,null,null,null,null,null,null,null,null,null,null,null,null,null,null,{"$f":"IF(J$2019=1,\"\",IF(T107=\"\",\"\",RIGHT(VLOOKUP(T107,Tabelle!$B$5:$C$9,2,FALSE),5)))","v":""},null,null,null,null,null,null,null,{"$f":"IF(B107=\"\",0,IF(B107=B106,COUNTIF(B$9:B106,B107)+1,1))","v":95},0,0]
["100","-1900","-1900-96",null,null,null,null,null,null,null,null,null,null,null,null,null,null,null,null,null,{"$f":"IF(J$2019=1,\"\",IF(T108=\"\",\"\",RIGHT(VLOOKUP(T108,Tabelle!$B$5:$C$9,2,FALSE),5)))","v":""},null,null,null,null,null,null,null,{"$f":"IF(B108=\"\",0,IF(B108=B107,COUNTIF(B$9:B107,B108)+1,1))","v":96},0,0]
["101","-1900","-1900-97",null,null,null,null,null,null,null,null,null,null,null,null,null,null,null,null,null,{"$f":"IF(J$2019=1,\"\",IF(T109=\"\",\"\",RIGHT(VLOOKUP(T109,Tabelle!$B$5:$C$9,2,FALSE),5)))","v":""},null,null,null,null,null,null,null,{"$f":"IF(B109=\"\",0,IF(B109=B108,COUNTIF(B$9:B108,B109)+1,1))","v":97},0,0]
["102","-1900","-1900-98",null,null,null,null,null,null,null,null,null,null,null,null,null,null,null,null,null,{"$f":"IF(J$2019=1,\"\",IF(T110=\"\",\"\",RIGHT(VLOOKUP(T110,Tabelle!$B$5:$C$9,2,FALSE),5)))","v":""},null,null,null,null,null,null,null,{"$f":"IF(B110=\"\",0,IF(B110=B109,COUNTIF(B$9:B109,B110)+1,1))","v":98},0,0]
["103","-1900","-1900-99",null,null,null,null,null,null,null,null,null,null,null,null,null,null,null,null,null,{"$f":"IF(J$2019=1,\"\",IF(T111=\"\",\"\",RIGHT(VLOOKUP(T111,Tabelle!$B$5:$C$9,2,FALSE),5)))","v":""},null,null,null,null,null,null,null,{"$f":"IF(B111=\"\",0,IF(B111=B110,COUNTIF(B$9:B110,B111)+1,1))","v":99},0,0]
["104","-1900","-1900-100",null,null,null,null,null,null,null,null,null,null,null,null,null,null,null,null,null,{"$f":"IF(J$2019=1,\"\",IF(T112=\"\",\"\",RIGHT(VLOOKUP(T112,Tabelle!$B$5:$C$9,2,FALSE),5)))","v":""},null,null,null,null,null,null,null,{"$f":"IF(B112=\"\",0,IF(B112=B111,COUNTIF(B$9:B111,B112)+1,1))","v":100},0,0]
["105","-1900","-1900-101",null,null,null,null,null,null,null,null,null,null,null,null,null,null,null,null,null,{"$f":"IF(J$2019=1,\"\",IF(T113=\"\",\"\",RIGHT(VLOOKUP(T113,Tabelle!$B$5:$C$9,2,FALSE),5)))","v":""},null,null,null,null,null,null,null,{"$f":"IF(B113=\"\",0,IF(B113=B112,COUNTIF(B$9:B112,B113)+1,1))","v":101},0,0]
["106","-1900","-1900-102",null,null,null,null,null,null,null,null,null,null,null,null,null,null,null,null,null,{"$f":"IF(J$2019=1,\"\",IF(T114=\"\",\"\",RIGHT(VLOOKUP(T114,Tabelle!$B$5:$C$9,2,FALSE),5)))","v":""},null,null,null,null,null,null,null,{"$f":"IF(B114=\"\",0,IF(B114=B113,COUNTIF(B$9:B113,B114)+1,1))","v":102},0,0]
["107","-1900","-1900-103",null,null,null,null,null,null,null,null,null,null,null,null,null,null,null,null,null,{"$f":"IF(J$2019=1,\"\",IF(T115=\"\",\"\",RIGHT(VLOOKUP(T115,Tabelle!$B$5:$C$9,2,FALSE),5)))","v":""},null,null,null,null,null,null,null,{"$f":"IF(B115=\"\",0,IF(B115=B114,COUNTIF(B$9:B114,B115)+1,1))","v":103},0,0]
["108","-1900","-1900-104",null,null,null,null,null,null,null,null,null,null,null,null,null,null,null,null,null,{"$f":"IF(J$2019=1,\"\",IF(T116=\"\",\"\",RIGHT(VLOOKUP(T116,Tabelle!$B$5:$C$9,2,FALSE),5)))","v":""},null,null,null,null,null,null,null,{"$f":"IF(B116=\"\",0,IF(B116=B115,COUNTIF(B$9:B115,B116)+1,1))","v":104},0,0]
["109","-1900","-1900-105",null,null,null,null,null,null,null,null,null,null,null,null,null,null,null,null,null,{"$f":"IF(J$2019=1,\"\",IF(T117=\"\",\"\",RIGHT(VLOOKUP(T117,Tabelle!$B$5:$C$9,2,FALSE),5)))","v":""},null,null,null,null,null,null,null,{"$f":"IF(B117=\"\",0,IF(B117=B116,COUNTIF(B$9:B116,B117)+1,1))","v":105},0,0]
["110","-1900","-1900-106",null,null,null,null,null,null,null,null,null,null,null,null,null,null,null,null,null,{"$f":"IF(J$2019=1,\"\",IF(T118=\"\",\"\",RIGHT(VLOOKUP(T118,Tabelle!$B$5:$C$9,2,FALSE),5)))","v":""},null,null,null,null,null,null,null,{"$f":"IF(B118=\"\",0,IF(B118=B117,COUNTIF(B$9:B117,B118)+1,1))","v":106},0,0]
["111","-1900","-1900-107",null,null,null,null,null,null,null,null,null,null,null,null,null,null,null,null,null,{"$f":"IF(J$2019=1,\"\",IF(T119=\"\",\"\",RIGHT(VLOOKUP(T119,Tabelle!$B$5:$C$9,2,FALSE),5)))","v":""},null,null,null,null,null,null,null,{"$f":"IF(B119=\"\",0,IF(B119=B118,COUNTIF(B$9:B118,B119)+1,1))","v":107},0,0]
["112","-1900","-1900-108",null,null,null,null,null,null,null,null,null,null,null,null,null,null,null,null,null,{"$f":"IF(J$2019=1,\"\",IF(T120=\"\",\"\",RIGHT(VLOOKUP(T120,Tabelle!$B$5:$C$9,2,FALSE),5)))","v":""},null,null,null,null,null,null,null,{"$f":"IF(B120=\"\",0,IF(B120=B119,COUNTIF(B$9:B119,B120)+1,1))","v":108},0,0]
["113","-1900","-1900-109",null,null,null,null,null,null,null,null,null,null,null,null,null,null,null,null,null,{"$f":"IF(J$2019=1,\"\",IF(T121=\"\",\"\",RIGHT(VLOOKUP(T121,Tabelle!$B$5:$C$9,2,FALSE),5)))","v":""},null,null,null,null,null,null,null,{"$f":"IF(B121=\"\",0,IF(B121=B120,COUNTIF(B$9:B120,B121)+1,1))","v":109},0,0]
["114","-1900","-1900-110",null,null,null,null,null,null,null,null,null,null,null,null,null,null,null,null,null,{"$f":"IF(J$2019=1,\"\",IF(T122=\"\",\"\",RIGHT(VLOOKUP(T122,Tabelle!$B$5:$C$9,2,FALSE),5)))","v":""},null,null,null,null,null,null,null,{"$f":"IF(B122=\"\",0,IF(B122=B121,COUNTIF(B$9:B121,B122)+1,1))","v":110},0,0]
["115","-1900","-1900-111",null,null,null,null,null,null,null,null,null,null,null,null,null,null,null,null,null,{"$f":"IF(J$2019=1,\"\",IF(T123=\"\",\"\",RIGHT(VLOOKUP(T123,Tabelle!$B$5:$C$9,2,FALSE),5)))","v":""},null,null,null,null,null,null,null,{"$f":"IF(B123=\"\",0,IF(B123=B122,COUNTIF(B$9:B122,B123)+1,1))","v":111},0,0]
["116","-1900","-1900-112",null,null,null,null,null,null,null,null,null,null,null,null,null,null,null,null,null,{"$f":"IF(J$2019=1,\"\",IF(T124=\"\",\"\",RIGHT(VLOOKUP(T124,Tabelle!$B$5:$C$9,2,FALSE),5)))","v":""},null,null,null,null,null,null,null,{"$f":"IF(B124=\"\",0,IF(B124=B123,COUNTIF(B$9:B123,B124)+1,1))","v":112},0,0]
["117","-1900","-1900-113",null,null,null,null,null,null,null,null,null,null,null,null,null,null,null,null,null,{"$f":"IF(J$2019=1,\"\",IF(T125=\"\",\"\",RIGHT(VLOOKUP(T125,Tabelle!$B$5:$C$9,2,FALSE),5)))","v":""},null,null,null,null,null,null,null,{"$f":"IF(B125=\"\",0,IF(B125=B124,COUNTIF(B$9:B124,B125)+1,1))","v":113},0,0]
["118","-1900","-1900-114",null,null,null,null,null,null,null,null,null,null,null,null,null,null,null,null,null,{"$f":"IF(J$2019=1,\"\",IF(T126=\"\",\"\",RIGHT(VLOOKUP(T126,Tabelle!$B$5:$C$9,2,FALSE),5)))","v":""},null,null,null,null,null,null,null,{"$f":"IF(B126=\"\",0,IF(B126=B125,COUNTIF(B$9:B125,B126)+1,1))","v":114},0,0]
["119","-1900","-1900-115",null,null,null,null,null,null,null,null,null,null,null,null,null,null,null,null,null,{"$f":"IF(J$2019=1,\"\",IF(T127=\"\",\"\",RIGHT(VLOOKUP(T127,Tabelle!$B$5:$C$9,2,FALSE),5)))","v":""},null,null,null,null,null,null,null,{"$f":"IF(B127=\"\",0,IF(B127=B126,COUNTIF(B$9:B126,B127)+1,1))","v":115},0,0]
["120","-1900","-1900-116",null,null,null,null,null,null,null,null,null,null,null,null,null,null,null,null,null,{"$f":"IF(J$2019=1,\"\",IF(T128=\"\",\"\",RIGHT(VLOOKUP(T128,Tabelle!$B$5:$C$9,2,FALSE),5)))","v":""},null,null,null,null,null,null,null,{"$f":"IF(B128=\"\",0,IF(B128=B127,COUNTIF(B$9:B127,B128)+1,1))","v":116},0,0]
["121","-1900","-1900-117",null,null,null,null,null,null,null,null,null,null,null,null,null,null,null,null,null,{"$f":"IF(J$2019=1,\"\",IF(T129=\"\",\"\",RIGHT(VLOOKUP(T129,Tabelle!$B$5:$C$9,2,FALSE),5)))","v":""},null,null,null,null,null,null,null,{"$f":"IF(B129=\"\",0,IF(B129=B128,COUNTIF(B$9:B128,B129)+1,1))","v":117},0,0]
["122","-1900","-1900-118",null,null,null,null,null,null,null,null,null,null,null,null,null,null,null,null,null,{"$f":"IF(J$2019=1,\"\",IF(T130=\"\",\"\",RIGHT(VLOOKUP(T130,Tabelle!$B$5:$C$9,2,FALSE),5)))","v":""},null,null,null,null,null,null,null,{"$f":"IF(B130=\"\",0,IF(B130=B129,COUNTIF(B$9:B129,B130)+1,1))","v":118},0,0]
["123","-1900","-1900-119",null,null,null,null,null,null,null,null,null,null,null,null,null,null,null,null,null,{"$f":"IF(J$2019=1,\"\",IF(T131=\"\",\"\",RIGHT(VLOOKUP(T131,Tabelle!$B$5:$C$9,2,FALSE),5)))","v":""},null,null,null,null,null,null,null,{"$f":"IF(B131=\"\",0,IF(B131=B130,COUNTIF(B$9:B130,B131)+1,1))","v":119},0,0]
["124","-1900","-1900-120",null,null,null,null,null,null,null,null,null,null,null,null,null,null,null,null,null,{"$f":"IF(J$2019=1,\"\",IF(T132=\"\",\"\",RIGHT(VLOOKUP(T132,Tabelle!$B$5:$C$9,2,FALSE),5)))","v":""},null,null,null,null,null,null,null,{"$f":"IF(B132=\"\",0,IF(B132=B131,COUNTIF(B$9:B131,B132)+1,1))","v":120},0,0]
["125","-1900","-1900-121",null,null,null,null,null,null,null,null,null,null,null,null,null,null,null,null,null,{"$f":"IF(J$2019=1,\"\",IF(T133=\"\",\"\",RIGHT(VLOOKUP(T133,Tabelle!$B$5:$C$9,2,FALSE),5)))","v":""},null,null,null,null,null,null,null,{"$f":"IF(B133=\"\",0,IF(B133=B132,COUNTIF(B$9:B132,B133)+1,1))","v":121},0,0]
["126","-1900","-1900-122",null,null,null,null,null,null,null,null,null,null,null,null,null,null,null,null,null,{"$f":"IF(J$2019=1,\"\",IF(T134=\"\",\"\",RIGHT(VLOOKUP(T134,Tabelle!$B$5:$C$9,2,FALSE),5)))","v":""},null,null,null,null,null,null,null,{"$f":"IF(B134=\"\",0,IF(B134=B133,COUNTIF(B$9:B133,B134)+1,1))","v":122},0,0]
["127","-1900","-1900-123",null,null,null,null,null,null,null,null,null,null,null,null,null,null,null,null,null,{"$f":"IF(J$2019=1,\"\",IF(T135=\"\",\"\",RIGHT(VLOOKUP(T135,Tabelle!$B$5:$C$9,2,FALSE),5)))","v":""},null,null,null,null,null,null,null,{"$f":"IF(B135=\"\",0,IF(B135=B134,COUNTIF(B$9:B134,B135)+1,1))","v":123},0,0]
["128","-1900","-1900-124",null,null,null,null,null,null,null,null,null,null,null,null,null,null,null,null,null,{"$f":"IF(J$2019=1,\"\",IF(T136=\"\",\"\",RIGHT(VLOOKUP(T136,Tabelle!$B$5:$C$9,2,FALSE),5)))","v":""},null,null,null,null,null,null,null,{"$f":"IF(B136=\"\",0,IF(B136=B135,COUNTIF(B$9:B135,B136)+1,1))","v":124},0,0]
["129","-1900",{"$f":"IF(J$2019=1,0,B137&\"-\"&AC137)","v":"-1900-125"},null,null,null,null,null,null,null,null,null,null,null,null,null,null,null,null,null,{"$f":"IF(J$2019=1,\"\",IF(T137=\"\",\"\",RIGHT(VLOOKUP(T137,Tabelle!$B$5:$C$9,2,FALSE),5)))","v":""},null,null,null,null,null,null,null,{"$f":"IF(B137=\"\",0,IF(B137=B136,COUNTIF(B$9:B136,B137)+1,1))","v":125},0,0]
["130",{"$f":"IF(AE138=$AE$2013,0,IF(J$2019=1,0,D138&\"-\"&YEAR(E138)))","v":"-1900"},"-1900-126",null,null,null,null,null,null,null,null,null,null,null,null,null,null,null,null,null,{"$f":"IF(J$2019=1,\"\",IF(T138=\"\",\"\",RIGHT(VLOOKUP(T138,Tabelle!$B$5:$C$9,2,FALSE),5)))","v":""},null,null,null,null,null,null,null,{"$f":"IF(B138=\"\",0,IF(B138=B137,COUNTIF(B$9:B137,B138)+1,1))","v":126},{"$f":"IF(OR(D138=\"\",J$2019=1),0,IF(AC138=28,1,0))","v":0},{"$f":"IF(E138>0,IF(OR(MONTH(E138)<$J$2025,MONTH(E138)>$J$2026),AE$2013,0),0)","v":0}]
["131","-1900","-1900-127",null,null,null,null,null,null,null,null,null,null,null,null,null,null,null,null,null,{"$f":"IF(J$2019=1,\"\",IF(T139=\"\",\"\",RIGHT(VLOOKUP(T139,Tabelle!$B$5:$C$9,2,FALSE),5)))","v":""},null,null,null,null,null,null,null,{"$f":"IF(B139=\"\",0,IF(B139=B138,COUNTIF(B$9:B138,B139)+1,1))","v":127},0,0]
["132","-1900","-1900-128",null,null,null,null,null,null,null,null,null,null,null,null,null,null,null,null,null,{"$f":"IF(J$2019=1,\"\",IF(T140=\"\",\"\",RIGHT(VLOOKUP(T140,Tabelle!$B$5:$C$9,2,FALSE),5)))","v":""},null,null,null,null,null,null,null,{"$f":"IF(B140=\"\",0,IF(B140=B139,COUNTIF(B$9:B139,B140)+1,1))","v":128},0,0]
["133","-1900","-1900-129",null,null,null,null,null,null,null,null,null,null,null,null,null,null,null,null,null,{"$f":"IF(J$2019=1,\"\",IF(T141=\"\",\"\",RIGHT(VLOOKUP(T141,Tabelle!$B$5:$C$9,2,FALSE),5)))","v":""},null,null,null,null,null,null,null,{"$f":"IF(B141=\"\",0,IF(B141=B140,COUNTIF(B$9:B140,B141)+1,1))","v":129},0,0]
["134","-1900","-1900-130",null,null,null,null,null,null,null,null,null,null,null,null,null,null,null,null,null,{"$f":"IF(J$2019=1,\"\",IF(T142=\"\",\"\",RIGHT(VLOOKUP(T142,Tabelle!$B$5:$C$9,2,FALSE),5)))","v":""},null,null,null,null,null,null,null,{"$f":"IF(B142=\"\",0,IF(B142=B141,COUNTIF(B$9:B141,B142)+1,1))","v":130},0,0]
["135","-1900","-1900-131",null,null,null,null,null,null,null,null,null,null,null,null,null,null,null,null,null,{"$f":"IF(J$2019=1,\"\",IF(T143=\"\",\"\",RIGHT(VLOOKUP(T143,Tabelle!$B$5:$C$9,2,FALSE),5)))","v":""},null,null,null,null,null,null,null,{"$f":"IF(B143=\"\",0,IF(B143=B142,COUNTIF(B$9:B142,B143)+1,1))","v":131},0,0]
["136","-1900","-1900-132",null,null,null,null,null,null,null,null,null,null,null,null,null,null,null,null,null,{"$f":"IF(J$2019=1,\"\",IF(T144=\"\",\"\",RIGHT(VLOOKUP(T144,Tabelle!$B$5:$C$9,2,FALSE),5)))","v":""},null,null,null,null,null,null,null,{"$f":"IF(B144=\"\",0,IF(B144=B143,COUNTIF(B$9:B143,B144)+1,1))","v":132},0,0]
["137","-1900","-1900-133",null,null,null,null,null,null,null,null,null,null,null,null,null,null,null,null,null,{"$f":"IF(J$2019=1,\"\",IF(T145=\"\",\"\",RIGHT(VLOOKUP(T145,Tabelle!$B$5:$C$9,2,FALSE),5)))","v":""},null,null,null,null,null,null,null,{"$f":"IF(B145=\"\",0,IF(B145=B144,COUNTIF(B$9:B144,B145)+1,1))","v":133},0,0]
["138","-1900","-1900-134",null,null,null,null,null,null,null,null,null,null,null,null,null,null,null,null,null,{"$f":"IF(J$2019=1,\"\",IF(T146=\"\",\"\",RIGHT(VLOOKUP(T146,Tabelle!$B$5:$C$9,2,FALSE),5)))","v":""},null,null,null,null,null,null,null,{"$f":"IF(B146=\"\",0,IF(B146=B145,COUNTIF(B$9:B145,B146)+1,1))","v":134},0,0]
["139","-1900","-1900-135",null,null,null,null,null,null,null,null,null,null,null,null,null,null,null,null,null,{"$f":"IF(J$2019=1,\"\",IF(T147=\"\",\"\",RIGHT(VLOOKUP(T147,Tabelle!$B$5:$C$9,2,FALSE),5)))","v":""},null,null,null,null,null,null,null,{"$f":"IF(B147=\"\",0,IF(B147=B146,COUNTIF(B$9:B146,B147)+1,1))","v":135},0,0]
["140","-1900","-1900-136",null,null,null,null,null,null,null,null,null,null,null,null,null,null,null,null,null,{"$f":"IF(J$2019=1,\"\",IF(T148=\"\",\"\",RIGHT(VLOOKUP(T148,Tabelle!$B$5:$C$9,2,FALSE),5)))","v":""},null,null,null,null,null,null,null,{"$f":"IF(B148=\"\",0,IF(B148=B147,COUNTIF(B$9:B147,B148)+1,1))","v":136},0,0]
["141","-1900","-1900-137",null,null,null,null,null,null,null,null,null,null,null,null,null,null,null,null,null,{"$f":"IF(J$2019=1,\"\",IF(T149=\"\",\"\",RIGHT(VLOOKUP(T149,Tabelle!$B$5:$C$9,2,FALSE),5)))","v":""},null,null,null,null,null,null,null,{"$f":"IF(B149=\"\",0,IF(B149=B148,COUNTIF(B$9:B148,B149)+1,1))","v":137},0,0]
["142","-1900","-1900-138",null,null,null,null,null,null,null,null,null,null,null,null,null,null,null,null,null,{"$f":"IF(J$2019=1,\"\",IF(T150=\"\",\"\",RIGHT(VLOOKUP(T150,Tabelle!$B$5:$C$9,2,FALSE),5)))","v":""},null,null,null,null,null,null,null,{"$f":"IF(B150=\"\",0,IF(B150=B149,COUNTIF(B$9:B149,B150)+1,1))","v":138},0,0]
["143","-1900","-1900-139",null,null,null,null,null,null,null,null,null,null,null,null,null,null,null,null,null,{"$f":"IF(J$2019=1,\"\",IF(T151=\"\",\"\",RIGHT(VLOOKUP(T151,Tabelle!$B$5:$C$9,2,FALSE),5)))","v":""},null,null,null,null,null,null,null,{"$f":"IF(B151=\"\",0,IF(B151=B150,COUNTIF(B$9:B150,B151)+1,1))","v":139},0,0]
["144","-1900","-1900-140",null,null,null,null,null,null,null,null,null,null,null,null,null,null,null,null,null,{"$f":"IF(J$2019=1,\"\",IF(T152=\"\",\"\",RIGHT(VLOOKUP(T152,Tabelle!$B$5:$C$9,2,FALSE),5)))","v":""},null,null,null,null,null,null,null,{"$f":"IF(B152=\"\",0,IF(B152=B151,COUNTIF(B$9:B151,B152)+1,1))","v":140},0,0]
["145","-1900","-1900-141",null,null,null,null,null,null,null,null,null,null,null,null,null,null,null,null,null,{"$f":"IF(J$2019=1,\"\",IF(T153=\"\",\"\",RIGHT(VLOOKUP(T153,Tabelle!$B$5:$C$9,2,FALSE),5)))","v":""},null,null,null,null,null,null,null,{"$f":"IF(B153=\"\",0,IF(B153=B152,COUNTIF(B$9:B152,B153)+1,1))","v":141},0,0]
["146","-1900","-1900-142",null,null,null,null,null,null,null,null,null,null,null,null,null,null,null,null,null,{"$f":"IF(J$2019=1,\"\",IF(T154=\"\",\"\",RIGHT(VLOOKUP(T154,Tabelle!$B$5:$C$9,2,FALSE),5)))","v":""},null,null,null,null,null,null,null,{"$f":"IF(B154=\"\",0,IF(B154=B153,COUNTIF(B$9:B153,B154)+1,1))","v":142},0,0]
["147","-1900","-1900-143",null,null,null,null,null,null,null,null,null,null,null,null,null,null,null,null,null,{"$f":"IF(J$2019=1,\"\",IF(T155=\"\",\"\",RIGHT(VLOOKUP(T155,Tabelle!$B$5:$C$9,2,FALSE),5)))","v":""},null,null,null,null,null,null,null,{"$f":"IF(B155=\"\",0,IF(B155=B154,COUNTIF(B$9:B154,B155)+1,1))","v":143},0,0]
["148","-1900","-1900-144",null,null,null,null,null,null,null,null,null,null,null,null,null,null,null,null,null,{"$f":"IF(J$2019=1,\"\",IF(T156=\"\",\"\",RIGHT(VLOOKUP(T156,Tabelle!$B$5:$C$9,2,FALSE),5)))","v":""},null,null,null,null,null,null,null,{"$f":"IF(B156=\"\",0,IF(B156=B155,COUNTIF(B$9:B155,B156)+1,1))","v":144},0,0]
["149","-1900","-1900-145",null,null,null,null,null,null,null,null,null,null,null,null,null,null,null,null,null,{"$f":"IF(J$2019=1,\"\",IF(T157=\"\",\"\",RIGHT(VLOOKUP(T157,Tabelle!$B$5:$C$9,2,FALSE),5)))","v":""},null,null,null,null,null,null,null,{"$f":"IF(B157=\"\",0,IF(B157=B156,COUNTIF(B$9:B156,B157)+1,1))","v":145},0,0]
["150","-1900","-1900-146",null,null,null,null,null,null,null,null,null,null,null,null,null,null,null,null,null,{"$f":"IF(J$2019=1,\"\",IF(T158=\"\",\"\",RIGHT(VLOOKUP(T158,Tabelle!$B$5:$C$9,2,FALSE),5)))","v":""},null,null,null,null,null,null,null,{"$f":"IF(B158=\"\",0,IF(B158=B157,COUNTIF(B$9:B157,B158)+1,1))","v":146},0,0]
["151","-1900","-1900-147",null,null,null,null,null,null,null,null,null,null,null,null,null,null,null,null,null,{"$f":"IF(J$2019=1,\"\",IF(T159=\"\",\"\",RIGHT(VLOOKUP(T159,Tabelle!$B$5:$C$9,2,FALSE),5)))","v":""},null,null,null,null,null,null,null,{"$f":"IF(B159=\"\",0,IF(B159=B158,COUNTIF(B$9:B158,B159)+1,1))","v":147},0,0]
["152","-1900","-1900-148",null,null,null,null,null,null,null,null,null,null,null,null,null,null,null,null,null,{"$f":"IF(J$2019=1,\"\",IF(T160=\"\",\"\",RIGHT(VLOOKUP(T160,Tabelle!$B$5:$C$9,2,FALSE),5)))","v":""},null,null,null,null,null,null,null,{"$f":"IF(B160=\"\",0,IF(B160=B159,COUNTIF(B$9:B159,B160)+1,1))","v":148},0,0]
["153","-1900","-1900-149",null,null,null,null,null,null,null,null,null,null,null,null,null,null,null,null,null,{"$f":"IF(J$2019=1,\"\",IF(T161=\"\",\"\",RIGHT(VLOOKUP(T161,Tabelle!$B$5:$C$9,2,FALSE),5)))","v":""},null,null,null,null,null,null,null,{"$f":"IF(B161=\"\",0,IF(B161=B160,COUNTIF(B$9:B160,B161)+1,1))","v":149},0,0]
["154","-1900","-1900-150",null,null,null,null,null,null,null,null,null,null,null,null,null,null,null,null,null,{"$f":"IF(J$2019=1,\"\",IF(T162=\"\",\"\",RIGHT(VLOOKUP(T162,Tabelle!$B$5:$C$9,2,FALSE),5)))","v":""},null,null,null,null,null,null,null,{"$f":"IF(B162=\"\",0,IF(B162=B161,COUNTIF(B$9:B161,B162)+1,1))","v":150},0,0]
["155","-1900","-1900-151",null,null,null,null,null,null,null,null,null,null,null,null,null,null,null,null,null,{"$f":"IF(J$2019=1,\"\",IF(T163=\"\",\"\",RIGHT(VLOOKUP(T163,Tabelle!$B$5:$C$9,2,FALSE),5)))","v":""},null,null,null,null,null,null,null,{"$f":"IF(B163=\"\",0,IF(B163=B162,COUNTIF(B$9:B162,B163)+1,1))","v":151},0,0]
["156","-1900","-1900-152",null,null,null,null,null,null,null,null,null,null,null,null,null,null,null,null,null,{"$f":"IF(J$2019=1,\"\",IF(T164=\"\",\"\",RIGHT(VLOOKUP(T164,Tabelle!$B$5:$C$9,2,FALSE),5)))","v":""},null,null,null,null,null,null,null,{"$f":"IF(B164=\"\",0,IF(B164=B163,COUNTIF(B$9:B163,B164)+1,1))","v":152},0,0]
["157","-1900","-1900-153",null,null,null,null,null,null,null,null,null,null,null,null,null,null,null,null,null,{"$f":"IF(J$2019=1,\"\",IF(T165=\"\",\"\",RIGHT(VLOOKUP(T165,Tabelle!$B$5:$C$9,2,FALSE),5)))","v":""},null,null,null,null,null,null,null,{"$f":"IF(B165=\"\",0,IF(B165=B164,COUNTIF(B$9:B164,B165)+1,1))","v":153},0,0]
["158","-1900","-1900-154",null,null,null,null,null,null,null,null,null,null,null,null,null,null,null,null,null,{"$f":"IF(J$2019=1,\"\",IF(T166=\"\",\"\",RIGHT(VLOOKUP(T166,Tabelle!$B$5:$C$9,2,FALSE),5)))","v":""},null,null,null,null,null,null,null,{"$f":"IF(B166=\"\",0,IF(B166=B165,COUNTIF(B$9:B165,B166)+1,1))","v":154},0,0]
["159","-1900","-1900-155",null,null,null,null,null,null,null,null,null,null,null,null,null,null,null,null,null,{"$f":"IF(J$2019=1,\"\",IF(T167=\"\",\"\",RIGHT(VLOOKUP(T167,Tabelle!$B$5:$C$9,2,FALSE),5)))","v":""},null,null,null,null,null,null,null,{"$f":"IF(B167=\"\",0,IF(B167=B166,COUNTIF(B$9:B166,B167)+1,1))","v":155},0,0]
["160","-1900","-1900-156",null,null,null,null,null,null,null,null,null,null,null,null,null,null,null,null,null,{"$f":"IF(J$2019=1,\"\",IF(T168=\"\",\"\",RIGHT(VLOOKUP(T168,Tabelle!$B$5:$C$9,2,FALSE),5)))","v":""},null,null,null,null,null,null,null,{"$f":"IF(B168=\"\",0,IF(B168=B167,COUNTIF(B$9:B167,B168)+1,1))","v":156},0,0]
["161","-1900","-1900-157",null,null,null,null,null,null,null,null,null,null,null,null,null,null,null,null,null,{"$f":"IF(J$2019=1,\"\",IF(T169=\"\",\"\",RIGHT(VLOOKUP(T169,Tabelle!$B$5:$C$9,2,FALSE),5)))","v":""},null,null,null,null,null,null,null,{"$f":"IF(B169=\"\",0,IF(B169=B168,COUNTIF(B$9:B168,B169)+1,1))","v":157},0,0]
["162","-1900","-1900-158",null,null,null,null,null,null,null,null,null,null,null,null,null,null,null,null,null,{"$f":"IF(J$2019=1,\"\",IF(T170=\"\",\"\",RIGHT(VLOOKUP(T170,Tabelle!$B$5:$C$9,2,FALSE),5)))","v":""},null,null,null,null,null,null,null,{"$f":"IF(B170=\"\",0,IF(B170=B169,COUNTIF(B$9:B169,B170)+1,1))","v":158},0,0]
["163","-1900","-1900-159",null,null,null,null,null,null,null,null,null,null,null,null,null,null,null,null,null,{"$f":"IF(J$2019=1,\"\",IF(T171=\"\",\"\",RIGHT(VLOOKUP(T171,Tabelle!$B$5:$C$9,2,FALSE),5)))","v":""},null,null,null,null,null,null,null,{"$f":"IF(B171=\"\",0,IF(B171=B170,COUNTIF(B$9:B170,B171)+1,1))","v":159},0,0]
["164","-1900","-1900-160",null,null,null,null,null,null,null,null,null,null,null,null,null,null,null,null,null,{"$f":"IF(J$2019=1,\"\",IF(T172=\"\",\"\",RIGHT(VLOOKUP(T172,Tabelle!$B$5:$C$9,2,FALSE),5)))","v":""},null,null,null,null,null,null,null,{"$f":"IF(B172=\"\",0,IF(B172=B171,COUNTIF(B$9:B171,B172)+1,1))","v":160},0,0]
["165","-1900","-1900-161",null,null,null,null,null,null,null,null,null,null,null,null,null,null,null,null,null,{"$f":"IF(J$2019=1,\"\",IF(T173=\"\",\"\",RIGHT(VLOOKUP(T173,Tabelle!$B$5:$C$9,2,FALSE),5)))","v":""},null,null,null,null,null,null,null,{"$f":"IF(B173=\"\",0,IF(B173=B172,COUNTIF(B$9:B172,B173)+1,1))","v":161},0,0]
["166","-1900","-1900-162",null,null,null,null,null,null,null,null,null,null,null,null,null,null,null,null,null,{"$f":"IF(J$2019=1,\"\",IF(T174=\"\",\"\",RIGHT(VLOOKUP(T174,Tabelle!$B$5:$C$9,2,FALSE),5)))","v":""},null,null,null,null,null,null,null,{"$f":"IF(B174=\"\",0,IF(B174=B173,COUNTIF(B$9:B173,B174)+1,1))","v":162},0,0]
["167","-1900","-1900-163",null,null,null,null,null,null,null,null,null,null,null,null,null,null,null,null,null,{"$f":"IF(J$2019=1,\"\",IF(T175=\"\",\"\",RIGHT(VLOOKUP(T175,Tabelle!$B$5:$C$9,2,FALSE),5)))","v":""},null,null,null,null,null,null,null,{"$f":"IF(B175=\"\",0,IF(B175=B174,COUNTIF(B$9:B174,B175)+1,1))","v":163},0,0]
["168","-1900","-1900-164",null,null,null,null,null,null,null,null,null,null,null,null,null,null,null,null,null,{"$f":"IF(J$2019=1,\"\",IF(T176=\"\",\"\",RIGHT(VLOOKUP(T176,Tabelle!$B$5:$C$9,2,FALSE),5)))","v":""},null,null,null,null,null,null,null,{"$f":"IF(B176=\"\",0,IF(B176=B175,COUNTIF(B$9:B175,B176)+1,1))","v":164},0,0]
["169","-1900","-1900-165",null,null,null,null,null,null,null,null,null,null,null,null,null,null,null,null,null,{"$f":"IF(J$2019=1,\"\",IF(T177=\"\",\"\",RIGHT(VLOOKUP(T177,Tabelle!$B$5:$C$9,2,FALSE),5)))","v":""},null,null,null,null,null,null,null,{"$f":"IF(B177=\"\",0,IF(B177=B176,COUNTIF(B$9:B176,B177)+1,1))","v":165},0,0]
["170","-1900","-1900-166",null,null,null,null,null,null,null,null,null,null,null,null,null,null,null,null,null,{"$f":"IF(J$2019=1,\"\",IF(T178=\"\",\"\",RIGHT(VLOOKUP(T178,Tabelle!$B$5:$C$9,2,FALSE),5)))","v":""},null,null,null,null,null,null,null,{"$f":"IF(B178=\"\",0,IF(B178=B177,COUNTIF(B$9:B177,B178)+1,1))","v":166},0,0]
["171","-1900","-1900-167",null,null,null,null,null,null,null,null,null,null,null,null,null,null,null,null,null,{"$f":"IF(J$2019=1,\"\",IF(T179=\"\",\"\",RIGHT(VLOOKUP(T179,Tabelle!$B$5:$C$9,2,FALSE),5)))","v":""},null,null,null,null,null,null,null,{"$f":"IF(B179=\"\",0,IF(B179=B178,COUNTIF(B$9:B178,B179)+1,1))","v":167},0,0]
["172","-1900","-1900-168",null,null,null,null,null,null,null,null,null,null,null,null,null,null,null,null,null,{"$f":"IF(J$2019=1,\"\",IF(T180=\"\",\"\",RIGHT(VLOOKUP(T180,Tabelle!$B$5:$C$9,2,FALSE),5)))","v":""},null,null,null,null,null,null,null,{"$f":"IF(B180=\"\",0,IF(B180=B179,COUNTIF(B$9:B179,B180)+1,1))","v":168},0,0]
["173","-1900","-1900-169",null,null,null,null,null,null,null,null,null,null,null,null,null,null,null,null,null,{"$f":"IF(J$2019=1,\"\",IF(T181=\"\",\"\",RIGHT(VLOOKUP(T181,Tabelle!$B$5:$C$9,2,FALSE),5)))","v":""},null,null,null,null,null,null,null,{"$f":"IF(B181=\"\",0,IF(B181=B180,COUNTIF(B$9:B180,B181)+1,1))","v":169},0,0]
["174","-1900","-1900-170",null,null,null,null,null,null,null,null,null,null,null,null,null,null,null,null,null,{"$f":"IF(J$2019=1,\"\",IF(T182=\"\",\"\",RIGHT(VLOOKUP(T182,Tabelle!$B$5:$C$9,2,FALSE),5)))","v":""},null,null,null,null,null,null,null,{"$f":"IF(B182=\"\",0,IF(B182=B181,COUNTIF(B$9:B181,B182)+1,1))","v":170},0,0]
["175","-1900","-1900-171",null,null,null,null,null,null,null,null,null,null,null,null,null,null,null,null,null,{"$f":"IF(J$2019=1,\"\",IF(T183=\"\",\"\",RIGHT(VLOOKUP(T183,Tabelle!$B$5:$C$9,2,FALSE),5)))","v":""},null,null,null,null,null,null,null,{"$f":"IF(B183=\"\",0,IF(B183=B182,COUNTIF(B$9:B182,B183)+1,1))","v":171},0,0]
["176","-1900","-1900-172",null,null,null,null,null,null,null,null,null,null,null,null,null,null,null,null,null,{"$f":"IF(J$2019=1,\"\",IF(T184=\"\",\"\",RIGHT(VLOOKUP(T184,Tabelle!$B$5:$C$9,2,FALSE),5)))","v":""},null,null,null,null,null,null,null,{"$f":"IF(B184=\"\",0,IF(B184=B183,COUNTIF(B$9:B183,B184)+1,1))","v":172},0,0]
["177","-1900","-1900-173",null,null,null,null,null,null,null,null,null,null,null,null,null,null,null,null,null,{"$f":"IF(J$2019=1,\"\",IF(T185=\"\",\"\",RIGHT(VLOOKUP(T185,Tabelle!$B$5:$C$9,2,FALSE),5)))","v":""},null,null,null,null,null,null,null,{"$f":"IF(B185=\"\",0,IF(B185=B184,COUNTIF(B$9:B184,B185)+1,1))","v":173},0,0]
["178","-1900","-1900-174",null,null,null,null,null,null,null,null,null,null,null,null,null,null,null,null,null,{"$f":"IF(J$2019=1,\"\",IF(T186=\"\",\"\",RIGHT(VLOOKUP(T186,Tabelle!$B$5:$C$9,2,FALSE),5)))","v":""},null,null,null,null,null,null,null,{"$f":"IF(B186=\"\",0,IF(B186=B185,COUNTIF(B$9:B185,B186)+1,1))","v":174},0,0]
["179","-1900","-1900-175",null,null,null,null,null,null,null,null,null,null,null,null,null,null,null,null,null,{"$f":"IF(J$2019=1,\"\",IF(T187=\"\",\"\",RIGHT(VLOOKUP(T187,Tabelle!$B$5:$C$9,2,FALSE),5)))","v":""},null,null,null,null,null,null,null,{"$f":"IF(B187=\"\",0,IF(B187=B186,COUNTIF(B$9:B186,B187)+1,1))","v":175},0,0]
["180","-1900","-1900-176",null,null,null,null,null,null,null,null,null,null,null,null,null,null,null,null,null,{"$f":"IF(J$2019=1,\"\",IF(T188=\"\",\"\",RIGHT(VLOOKUP(T188,Tabelle!$B$5:$C$9,2,FALSE),5)))","v":""},null,null,null,null,null,null,null,{"$f":"IF(B188=\"\",0,IF(B188=B187,COUNTIF(B$9:B187,B188)+1,1))","v":176},0,0]
["181","-1900","-1900-177",null,null,null,null,null,null,null,null,null,null,null,null,null,null,null,null,null,{"$f":"IF(J$2019=1,\"\",IF(T189=\"\",\"\",RIGHT(VLOOKUP(T189,Tabelle!$B$5:$C$9,2,FALSE),5)))","v":""},null,null,null,null,null,null,null,{"$f":"IF(B189=\"\",0,IF(B189=B188,COUNTIF(B$9:B188,B189)+1,1))","v":177},0,0]
["182","-1900","-1900-178",null,null,null,null,null,null,null,null,null,null,null,null,null,null,null,null,null,{"$f":"IF(J$2019=1,\"\",IF(T190=\"\",\"\",RIGHT(VLOOKUP(T190,Tabelle!$B$5:$C$9,2,FALSE),5)))","v":""},null,null,null,null,null,null,null,{"$f":"IF(B190=\"\",0,IF(B190=B189,COUNTIF(B$9:B189,B190)+1,1))","v":178},0,0]
["183","-1900","-1900-179",null,null,null,null,null,null,null,null,null,null,null,null,null,null,null,null,null,{"$f":"IF(J$2019=1,\"\",IF(T191=\"\",\"\",RIGHT(VLOOKUP(T191,Tabelle!$B$5:$C$9,2,FALSE),5)))","v":""},null,null,null,null,null,null,null,{"$f":"IF(B191=\"\",0,IF(B191=B190,COUNTIF(B$9:B190,B191)+1,1))","v":179},0,0]
["184","-1900","-1900-180",null,null,null,null,null,null,null,null,null,null,null,null,null,null,null,null,null,{"$f":"IF(J$2019=1,\"\",IF(T192=\"\",\"\",RIGHT(VLOOKUP(T192,Tabelle!$B$5:$C$9,2,FALSE),5)))","v":""},null,null,null,null,null,null,null,{"$f":"IF(B192=\"\",0,IF(B192=B191,COUNTIF(B$9:B191,B192)+1,1))","v":180},0,0]
["185","-1900","-1900-181",null,null,null,null,null,null,null,null,null,null,null,null,null,null,null,null,null,{"$f":"IF(J$2019=1,\"\",IF(T193=\"\",\"\",RIGHT(VLOOKUP(T193,Tabelle!$B$5:$C$9,2,FALSE),5)))","v":""},null,null,null,null,null,null,null,{"$f":"IF(B193=\"\",0,IF(B193=B192,COUNTIF(B$9:B192,B193)+1,1))","v":181},0,0]
["186","-1900","-1900-182",null,null,null,null,null,null,null,null,null,null,null,null,null,null,null,null,null,{"$f":"IF(J$2019=1,\"\",IF(T194=\"\",\"\",RIGHT(VLOOKUP(T194,Tabelle!$B$5:$C$9,2,FALSE),5)))","v":""},null,null,null,null,null,null,null,{"$f":"IF(B194=\"\",0,IF(B194=B193,COUNTIF(B$9:B193,B194)+1,1))","v":182},0,0]
["187","-1900","-1900-183",null,null,null,null,null,null,null,null,null,null,null,null,null,null,null,null,null,{"$f":"IF(J$2019=1,\"\",IF(T195=\"\",\"\",RIGHT(VLOOKUP(T195,Tabelle!$B$5:$C$9,2,FALSE),5)))","v":""},null,null,null,null,null,null,null,{"$f":"IF(B195=\"\",0,IF(B195=B194,COUNTIF(B$9:B194,B195)+1,1))","v":183},0,0]
["188","-1900","-1900-184",null,null,null,null,null,null,null,null,null,null,null,null,null,null,null,null,null,{"$f":"IF(J$2019=1,\"\",IF(T196=\"\",\"\",RIGHT(VLOOKUP(T196,Tabelle!$B$5:$C$9,2,FALSE),5)))","v":""},null,null,null,null,null,null,null,{"$f":"IF(B196=\"\",0,IF(B196=B195,COUNTIF(B$9:B195,B196)+1,1))","v":184},0,0]
["189","-1900","-1900-185",null,null,null,null,null,null,null,null,null,null,null,null,null,null,null,null,null,{"$f":"IF(J$2019=1,\"\",IF(T197=\"\",\"\",RIGHT(VLOOKUP(T197,Tabelle!$B$5:$C$9,2,FALSE),5)))","v":""},null,null,null,null,null,null,null,{"$f":"IF(B197=\"\",0,IF(B197=B196,COUNTIF(B$9:B196,B197)+1,1))","v":185},0,0]
["190","-1900","-1900-186",null,null,null,null,null,null,null,null,null,null,null,null,null,null,null,null,null,{"$f":"IF(J$2019=1,\"\",IF(T198=\"\",\"\",RIGHT(VLOOKUP(T198,Tabelle!$B$5:$C$9,2,FALSE),5)))","v":""},null,null,null,null,null,null,null,{"$f":"IF(B198=\"\",0,IF(B198=B197,COUNTIF(B$9:B197,B198)+1,1))","v":186},0,0]
["191","-1900","-1900-187",null,null,null,null,null,null,null,null,null,null,null,null,null,null,null,null,null,{"$f":"IF(J$2019=1,\"\",IF(T199=\"\",\"\",RIGHT(VLOOKUP(T199,Tabelle!$B$5:$C$9,2,FALSE),5)))","v":""},null,null,null,null,null,null,null,{"$f":"IF(B199=\"\",0,IF(B199=B198,COUNTIF(B$9:B198,B199)+1,1))","v":187},0,0]
["192","-1900","-1900-188",null,null,null,null,null,null,null,null,null,null,null,null,null,null,null,null,null,{"$f":"IF(J$2019=1,\"\",IF(T200=\"\",\"\",RIGHT(VLOOKUP(T200,Tabelle!$B$5:$C$9,2,FALSE),5)))","v":""},null,null,null,null,null,null,null,{"$f":"IF(B200=\"\",0,IF(B200=B199,COUNTIF(B$9:B199,B200)+1,1))","v":188},0,0]
["193","-1900",{"$f":"IF(J$2019=1,0,B201&\"-\"&AC201)","v":"-1900-189"},null,null,null,null,null,null,null,null,null,null,null,null,null,null,null,null,null,{"$f":"IF(J$2019=1,\"\",IF(T201=\"\",\"\",RIGHT(VLOOKUP(T201,Tabelle!$B$5:$C$9,2,FALSE),5)))","v":""},null,null,null,null,null,null,null,{"$f":"IF(B201=\"\",0,IF(B201=B200,COUNTIF(B$9:B200,B201)+1,1))","v":189},0,0]
["194",{"$f":"IF(AE202=$AE$2013,0,IF(J$2019=1,0,D202&\"-\"&YEAR(E202)))","v":"-1900"},"-1900-190",null,null,null,null,null,null,null,null,null,null,null,null,null,null,null,null,null,{"$f":"IF(J$2019=1,\"\",IF(T202=\"\",\"\",RIGHT(VLOOKUP(T202,Tabelle!$B$5:$C$9,2,FALSE),5)))","v":""},null,null,null,null,null,null,null,{"$f":"IF(B202=\"\",0,IF(B202=B201,COUNTIF(B$9:B201,B202)+1,1))","v":190},{"$f":"IF(OR(D202=\"\",J$2019=1),0,IF(AC202=28,1,0))","v":0},{"$f":"IF(E202>0,IF(OR(MONTH(E202)<$J$2025,MONTH(E202)>$J$2026),AE$2013,0),0)","v":0}]
["195","-1900","-1900-191",null,null,null,null,null,null,null,null,null,null,null,null,null,null,null,null,null,{"$f":"IF(J$2019=1,\"\",IF(T203=\"\",\"\",RIGHT(VLOOKUP(T203,Tabelle!$B$5:$C$9,2,FALSE),5)))","v":""},null,null,null,null,null,null,null,{"$f":"IF(B203=\"\",0,IF(B203=B202,COUNTIF(B$9:B202,B203)+1,1))","v":191},0,0]
["196","-1900","-1900-192",null,null,null,null,null,null,null,null,null,null,null,null,null,null,null,null,null,{"$f":"IF(J$2019=1,\"\",IF(T204=\"\",\"\",RIGHT(VLOOKUP(T204,Tabelle!$B$5:$C$9,2,FALSE),5)))","v":""},null,null,null,null,null,null,null,{"$f":"IF(B204=\"\",0,IF(B204=B203,COUNTIF(B$9:B203,B204)+1,1))","v":192},0,0]
["197","-1900","-1900-193",null,null,null,null,null,null,null,null,null,null,null,null,null,null,null,null,null,{"$f":"IF(J$2019=1,\"\",IF(T205=\"\",\"\",RIGHT(VLOOKUP(T205,Tabelle!$B$5:$C$9,2,FALSE),5)))","v":""},null,null,null,null,null,null,null,{"$f":"IF(B205=\"\",0,IF(B205=B204,COUNTIF(B$9:B204,B205)+1,1))","v":193},0,0]
["198","-1900","-1900-194",null,null,null,null,null,null,null,null,null,null,null,null,null,null,null,null,null,{"$f":"IF(J$2019=1,\"\",IF(T206=\"\",\"\",RIGHT(VLOOKUP(T206,Tabelle!$B$5:$C$9,2,FALSE),5)))","v":""},null,null,null,null,null,null,null,{"$f":"IF(B206=\"\",0,IF(B206=B205,COUNTIF(B$9:B205,B206)+1,1))","v":194},0,0]
["199","-1900","-1900-195",null,null,null,null,null,null,null,null,null,null,null,null,null,null,null,null,null,{"$f":"IF(J$2019=1,\"\",IF(T207=\"\",\"\",RIGHT(VLOOKUP(T207,Tabelle!$B$5:$C$9,2,FALSE),5)))","v":""},null,null,null,null,null,null,null,{"$f":"IF(B207=\"\",0,IF(B207=B206,COUNTIF(B$9:B206,B207)+1,1))","v":195},0,0]
["200","-1900","-1900-196",null,null,null,null,null,null,null,null,null,null,null,null,null,null,null,null,null,{"$f":"IF(J$2019=1,\"\",IF(T208=\"\",\"\",RIGHT(VLOOKUP(T208,Tabelle!$B$5:$C$9,2,FALSE),5)))","v":""},null,null,null,null,null,null,null,{"$f":"IF(B208=\"\",0,IF(B208=B207,COUNTIF(B$9:B207,B208)+1,1))","v":196},0,0]
["201","-1900","-1900-197",null,null,null,null,null,null,null,null,null,null,null,null,null,null,null,null,null,{"$f":"IF(J$2019=1,\"\",IF(T209=\"\",\"\",RIGHT(VLOOKUP(T209,Tabelle!$B$5:$C$9,2,FALSE),5)))","v":""},null,null,null,null,null,null,null,{"$f":"IF(B209=\"\",0,IF(B209=B208,COUNTIF(B$9:B208,B209)+1,1))","v":197},0,0]
["202","-1900","-1900-198",null,null,null,null,null,null,null,null,null,null,null,null,null,null,null,null,null,{"$f":"IF(J$2019=1,\"\",IF(T210=\"\",\"\",RIGHT(VLOOKUP(T210,Tabelle!$B$5:$C$9,2,FALSE),5)))","v":""},null,null,null,null,null,null,null,{"$f":"IF(B210=\"\",0,IF(B210=B209,COUNTIF(B$9:B209,B210)+1,1))","v":198},0,0]
["203","-1900","-1900-199",null,null,null,null,null,null,null,null,null,null,null,null,null,null,null,null,null,{"$f":"IF(J$2019=1,\"\",IF(T211=\"\",\"\",RIGHT(VLOOKUP(T211,Tabelle!$B$5:$C$9,2,FALSE),5)))","v":""},null,null,null,null,null,null,null,{"$f":"IF(B211=\"\",0,IF(B211=B210,COUNTIF(B$9:B210,B211)+1,1))","v":199},0,0]
["204","-1900","-1900-200",null,null,null,null,null,null,null,null,null,null,null,null,null,null,null,null,null,{"$f":"IF(J$2019=1,\"\",IF(T212=\"\",\"\",RIGHT(VLOOKUP(T212,Tabelle!$B$5:$C$9,2,FALSE),5)))","v":""},null,null,null,null,null,null,null,{"$f":"IF(B212=\"\",0,IF(B212=B211,COUNTIF(B$9:B211,B212)+1,1))","v":200},0,0]
["205","-1900","-1900-201",null,null,null,null,null,null,null,null,null,null,null,null,null,null,null,null,null,{"$f":"IF(J$2019=1,\"\",IF(T213=\"\",\"\",RIGHT(VLOOKUP(T213,Tabelle!$B$5:$C$9,2,FALSE),5)))","v":""},null,null,null,null,null,null,null,{"$f":"IF(B213=\"\",0,IF(B213=B212,COUNTIF(B$9:B212,B213)+1,1))","v":201},0,0]
["206","-1900","-1900-202",null,null,null,null,null,null,null,null,null,null,null,null,null,null,null,null,null,{"$f":"IF(J$2019=1,\"\",IF(T214=\"\",\"\",RIGHT(VLOOKUP(T214,Tabelle!$B$5:$C$9,2,FALSE),5)))","v":""},null,null,null,null,null,null,null,{"$f":"IF(B214=\"\",0,IF(B214=B213,COUNTIF(B$9:B213,B214)+1,1))","v":202},0,0]
["207","-1900","-1900-203",null,null,null,null,null,null,null,null,null,null,null,null,null,null,null,null,null,{"$f":"IF(J$2019=1,\"\",IF(T215=\"\",\"\",RIGHT(VLOOKUP(T215,Tabelle!$B$5:$C$9,2,FALSE),5)))","v":""},null,null,null,null,null,null,null,{"$f":"IF(B215=\"\",0,IF(B215=B214,COUNTIF(B$9:B214,B215)+1,1))","v":203},0,0]
["208","-1900","-1900-204",null,null,null,null,null,null,null,null,null,null,null,null,null,null,null,null,null,{"$f":"IF(J$2019=1,\"\",IF(T216=\"\",\"\",RIGHT(VLOOKUP(T216,Tabelle!$B$5:$C$9,2,FALSE),5)))","v":""},null,null,null,null,null,null,null,{"$f":"IF(B216=\"\",0,IF(B216=B215,COUNTIF(B$9:B215,B216)+1,1))","v":204},0,0]
["209","-1900","-1900-205",null,null,null,null,null,null,null,null,null,null,null,null,null,null,null,null,null,{"$f":"IF(J$2019=1,\"\",IF(T217=\"\",\"\",RIGHT(VLOOKUP(T217,Tabelle!$B$5:$C$9,2,FALSE),5)))","v":""},null,null,null,null,null,null,null,{"$f":"IF(B217=\"\",0,IF(B217=B216,COUNTIF(B$9:B216,B217)+1,1))","v":205},0,0]
["210","-1900","-1900-206",null,null,null,null,null,null,null,null,null,null,null,null,null,null,null,null,null,{"$f":"IF(J$2019=1,\"\",IF(T218=\"\",\"\",RIGHT(VLOOKUP(T218,Tabelle!$B$5:$C$9,2,FALSE),5)))","v":""},null,null,null,null,null,null,null,{"$f":"IF(B218=\"\",0,IF(B218=B217,COUNTIF(B$9:B217,B218)+1,1))","v":206},0,0]
["211","-1900","-1900-207",null,null,null,null,null,null,null,null,null,null,null,null,null,null,null,null,null,{"$f":"IF(J$2019=1,\"\",IF(T219=\"\",\"\",RIGHT(VLOOKUP(T219,Tabelle!$B$5:$C$9,2,FALSE),5)))","v":""},null,null,null,null,null,null,null,{"$f":"IF(B219=\"\",0,IF(B219=B218,COUNTIF(B$9:B218,B219)+1,1))","v":207},0,0]
["212","-1900","-1900-208",null,null,null,null,null,null,null,null,null,null,null,null,null,null,null,null,null,{"$f":"IF(J$2019=1,\"\",IF(T220=\"\",\"\",RIGHT(VLOOKUP(T220,Tabelle!$B$5:$C$9,2,FALSE),5)))","v":""},null,null,null,null,null,null,null,{"$f":"IF(B220=\"\",0,IF(B220=B219,COUNTIF(B$9:B219,B220)+1,1))","v":208},0,0]
["213","-1900","-1900-209",null,null,null,null,null,null,null,null,null,null,null,null,null,null,null,null,null,{"$f":"IF(J$2019=1,\"\",IF(T221=\"\",\"\",RIGHT(VLOOKUP(T221,Tabelle!$B$5:$C$9,2,FALSE),5)))","v":""},null,null,null,null,null,null,null,{"$f":"IF(B221=\"\",0,IF(B221=B220,COUNTIF(B$9:B220,B221)+1,1))","v":209},0,0]
["214","-1900","-1900-210",null,null,null,null,null,null,null,null,null,null,null,null,null,null,null,null,null,{"$f":"IF(J$2019=1,\"\",IF(T222=\"\",\"\",RIGHT(VLOOKUP(T222,Tabelle!$B$5:$C$9,2,FALSE),5)))","v":""},null,null,null,null,null,null,null,{"$f":"IF(B222=\"\",0,IF(B222=B221,COUNTIF(B$9:B221,B222)+1,1))","v":210},0,0]
["215","-1900","-1900-211",null,null,null,null,null,null,null,null,null,null,null,null,null,null,null,null,null,{"$f":"IF(J$2019=1,\"\",IF(T223=\"\",\"\",RIGHT(VLOOKUP(T223,Tabelle!$B$5:$C$9,2,FALSE),5)))","v":""},null,null,null,null,null,null,null,{"$f":"IF(B223=\"\",0,IF(B223=B222,COUNTIF(B$9:B222,B223)+1,1))","v":211},0,0]
["216","-1900","-1900-212",null,null,null,null,null,null,null,null,null,null,null,null,null,null,null,null,null,{"$f":"IF(J$2019=1,\"\",IF(T224=\"\",\"\",RIGHT(VLOOKUP(T224,Tabelle!$B$5:$C$9,2,FALSE),5)))","v":""},null,null,null,null,null,null,null,{"$f":"IF(B224=\"\",0,IF(B224=B223,COUNTIF(B$9:B223,B224)+1,1))","v":212},0,0]
["217","-1900","-1900-213",null,null,null,null,null,null,null,null,null,null,null,null,null,null,null,null,null,{"$f":"IF(J$2019=1,\"\",IF(T225=\"\",\"\",RIGHT(VLOOKUP(T225,Tabelle!$B$5:$C$9,2,FALSE),5)))","v":""},null,null,null,null,null,null,null,{"$f":"IF(B225=\"\",0,IF(B225=B224,COUNTIF(B$9:B224,B225)+1,1))","v":213},0,0]
["218","-1900","-1900-214",null,null,null,null,null,null,null,null,null,null,null,null,null,null,null,null,null,{"$f":"IF(J$2019=1,\"\",IF(T226=\"\",\"\",RIGHT(VLOOKUP(T226,Tabelle!$B$5:$C$9,2,FALSE),5)))","v":""},null,null,null,null,null,null,null,{"$f":"IF(B226=\"\",0,IF(B226=B225,COUNTIF(B$9:B225,B226)+1,1))","v":214},0,0]
["219","-1900","-1900-215",null,null,null,null,null,null,null,null,null,null,null,null,null,null,null,null,null,{"$f":"IF(J$2019=1,\"\",IF(T227=\"\",\"\",RIGHT(VLOOKUP(T227,Tabelle!$B$5:$C$9,2,FALSE),5)))","v":""},null,null,null,null,null,null,null,{"$f":"IF(B227=\"\",0,IF(B227=B226,COUNTIF(B$9:B226,B227)+1,1))","v":215},0,0]
["220","-1900","-1900-216",null,null,null,null,null,null,null,null,null,null,null,null,null,null,null,null,null,{"$f":"IF(J$2019=1,\"\",IF(T228=\"\",\"\",RIGHT(VLOOKUP(T228,Tabelle!$B$5:$C$9,2,FALSE),5)))","v":""},null,null,null,null,null,null,null,{"$f":"IF(B228=\"\",0,IF(B228=B227,COUNTIF(B$9:B227,B228)+1,1))","v":216},0,0]
["221","-1900","-1900-217",null,null,null,null,null,null,null,null,null,null,null,null,null,null,null,null,null,{"$f":"IF(J$2019=1,\"\",IF(T229=\"\",\"\",RIGHT(VLOOKUP(T229,Tabelle!$B$5:$C$9,2,FALSE),5)))","v":""},null,null,null,null,null,null,null,{"$f":"IF(B229=\"\",0,IF(B229=B228,COUNTIF(B$9:B228,B229)+1,1))","v":217},0,0]
["222","-1900","-1900-218",null,null,null,null,null,null,null,null,null,null,null,null,null,null,null,null,null,{"$f":"IF(J$2019=1,\"\",IF(T230=\"\",\"\",RIGHT(VLOOKUP(T230,Tabelle!$B$5:$C$9,2,FALSE),5)))","v":""},null,null,null,null,null,null,null,{"$f":"IF(B230=\"\",0,IF(B230=B229,COUNTIF(B$9:B229,B230)+1,1))","v":218},0,0]
["223","-1900","-1900-219",null,null,null,null,null,null,null,null,null,null,null,null,null,null,null,null,null,{"$f":"IF(J$2019=1,\"\",IF(T231=\"\",\"\",RIGHT(VLOOKUP(T231,Tabelle!$B$5:$C$9,2,FALSE),5)))","v":""},null,null,null,null,null,null,null,{"$f":"IF(B231=\"\",0,IF(B231=B230,COUNTIF(B$9:B230,B231)+1,1))","v":219},0,0]
["224","-1900","-1900-220",null,null,null,null,null,null,null,null,null,null,null,null,null,null,null,null,null,{"$f":"IF(J$2019=1,\"\",IF(T232=\"\",\"\",RIGHT(VLOOKUP(T232,Tabelle!$B$5:$C$9,2,FALSE),5)))","v":""},null,null,null,null,null,null,null,{"$f":"IF(B232=\"\",0,IF(B232=B231,COUNTIF(B$9:B231,B232)+1,1))","v":220},0,0]
["225","-1900","-1900-221",null,null,null,null,null,null,null,null,null,null,null,null,null,null,null,null,null,{"$f":"IF(J$2019=1,\"\",IF(T233=\"\",\"\",RIGHT(VLOOKUP(T233,Tabelle!$B$5:$C$9,2,FALSE),5)))","v":""},null,null,null,null,null,null,null,{"$f":"IF(B233=\"\",0,IF(B233=B232,COUNTIF(B$9:B232,B233)+1,1))","v":221},0,0]
["226","-1900","-1900-222",null,null,null,null,null,null,null,null,null,null,null,null,null,null,null,null,null,{"$f":"IF(J$2019=1,\"\",IF(T234=\"\",\"\",RIGHT(VLOOKUP(T234,Tabelle!$B$5:$C$9,2,FALSE),5)))","v":""},null,null,null,null,null,null,null,{"$f":"IF(B234=\"\",0,IF(B234=B233,COUNTIF(B$9:B233,B234)+1,1))","v":222},0,0]
["227","-1900","-1900-223",null,null,null,null,null,null,null,null,null,null,null,null,null,null,null,null,null,{"$f":"IF(J$2019=1,\"\",IF(T235=\"\",\"\",RIGHT(VLOOKUP(T235,Tabelle!$B$5:$C$9,2,FALSE),5)))","v":""},null,null,null,null,null,null,null,{"$f":"IF(B235=\"\",0,IF(B235=B234,COUNTIF(B$9:B234,B235)+1,1))","v":223},0,0]
["228","-1900","-1900-224",null,null,null,null,null,null,null,null,null,null,null,null,null,null,null,null,null,{"$f":"IF(J$2019=1,\"\",IF(T236=\"\",\"\",RIGHT(VLOOKUP(T236,Tabelle!$B$5:$C$9,2,FALSE),5)))","v":""},null,null,null,null,null,null,null,{"$f":"IF(B236=\"\",0,IF(B236=B235,COUNTIF(B$9:B235,B236)+1,1))","v":224},0,0]
["229","-1900","-1900-225",null,null,null,null,null,null,null,null,null,null,null,null,null,null,null,null,null,{"$f":"IF(J$2019=1,\"\",IF(T237=\"\",\"\",RIGHT(VLOOKUP(T237,Tabelle!$B$5:$C$9,2,FALSE),5)))","v":""},null,null,null,null,null,null,null,{"$f":"IF(B237=\"\",0,IF(B237=B236,COUNTIF(B$9:B236,B237)+1,1))","v":225},0,0]
["230","-1900","-1900-226",null,null,null,null,null,null,null,null,null,null,null,null,null,null,null,null,null,{"$f":"IF(J$2019=1,\"\",IF(T238=\"\",\"\",RIGHT(VLOOKUP(T238,Tabelle!$B$5:$C$9,2,FALSE),5)))","v":""},null,null,null,null,null,null,null,{"$f":"IF(B238=\"\",0,IF(B238=B237,COUNTIF(B$9:B237,B238)+1,1))","v":226},0,0]
["231","-1900","-1900-227",null,null,null,null,null,null,null,null,null,null,null,null,null,null,null,null,null,{"$f":"IF(J$2019=1,\"\",IF(T239=\"\",\"\",RIGHT(VLOOKUP(T239,Tabelle!$B$5:$C$9,2,FALSE),5)))","v":""},null,null,null,null,null,null,null,{"$f":"IF(B239=\"\",0,IF(B239=B238,COUNTIF(B$9:B238,B239)+1,1))","v":227},0,0]
["232","-1900","-1900-228",null,null,null,null,null,null,null,null,null,null,null,null,null,null,null,null,null,{"$f":"IF(J$2019=1,\"\",IF(T240=\"\",\"\",RIGHT(VLOOKUP(T240,Tabelle!$B$5:$C$9,2,FALSE),5)))","v":""},null,null,null,null,null,null,null,{"$f":"IF(B240=\"\",0,IF(B240=B239,COUNTIF(B$9:B239,B240)+1,1))","v":228},0,0]
["233","-1900","-1900-229",null,null,null,null,null,null,null,null,null,null,null,null,null,null,null,null,null,{"$f":"IF(J$2019=1,\"\",IF(T241=\"\",\"\",RIGHT(VLOOKUP(T241,Tabelle!$B$5:$C$9,2,FALSE),5)))","v":""},null,null,null,null,null,null,null,{"$f":"IF(B241=\"\",0,IF(B241=B240,COUNTIF(B$9:B240,B241)+1,1))","v":229},0,0]
["234","-1900","-1900-230",null,null,null,null,null,null,null,null,null,null,null,null,null,null,null,null,null,{"$f":"IF(J$2019=1,\"\",IF(T242=\"\",\"\",RIGHT(VLOOKUP(T242,Tabelle!$B$5:$C$9,2,FALSE),5)))","v":""},null,null,null,null,null,null,null,{"$f":"IF(B242=\"\",0,IF(B242=B241,COUNTIF(B$9:B241,B242)+1,1))","v":230},0,0]
["235","-1900","-1900-231",null,null,null,null,null,null,null,null,null,null,null,null,null,null,null,null,null,{"$f":"IF(J$2019=1,\"\",IF(T243=\"\",\"\",RIGHT(VLOOKUP(T243,Tabelle!$B$5:$C$9,2,FALSE),5)))","v":""},null,null,null,null,null,null,null,{"$f":"IF(B243=\"\",0,IF(B243=B242,COUNTIF(B$9:B242,B243)+1,1))","v":231},0,0]
["236","-1900","-1900-232",null,null,null,null,null,null,null,null,null,null,null,null,null,null,null,null,null,{"$f":"IF(J$2019=1,\"\",IF(T244=\"\",\"\",RIGHT(VLOOKUP(T244,Tabelle!$B$5:$C$9,2,FALSE),5)))","v":""},null,null,null,null,null,null,null,{"$f":"IF(B244=\"\",0,IF(B244=B243,COUNTIF(B$9:B243,B244)+1,1))","v":232},0,0]
["237","-1900","-1900-233",null,null,null,null,null,null,null,null,null,null,null,null,null,null,null,null,null,{"$f":"IF(J$2019=1,\"\",IF(T245=\"\",\"\",RIGHT(VLOOKUP(T245,Tabelle!$B$5:$C$9,2,FALSE),5)))","v":""},null,null,null,null,null,null,null,{"$f":"IF(B245=\"\",0,IF(B245=B244,COUNTIF(B$9:B244,B245)+1,1))","v":233},0,0]
["238","-1900","-1900-234",null,null,null,null,null,null,null,null,null,null,null,null,null,null,null,null,null,{"$f":"IF(J$2019=1,\"\",IF(T246=\"\",\"\",RIGHT(VLOOKUP(T246,Tabelle!$B$5:$C$9,2,FALSE),5)))","v":""},null,null,null,null,null,null,null,{"$f":"IF(B246=\"\",0,IF(B246=B245,COUNTIF(B$9:B245,B246)+1,1))","v":234},0,0]
["239","-1900","-1900-235",null,null,null,null,null,null,null,null,null,null,null,null,null,null,null,null,null,{"$f":"IF(J$2019=1,\"\",IF(T247=\"\",\"\",RIGHT(VLOOKUP(T247,Tabelle!$B$5:$C$9,2,FALSE),5)))","v":""},null,null,null,null,null,null,null,{"$f":"IF(B247=\"\",0,IF(B247=B246,COUNTIF(B$9:B246,B247)+1,1))","v":235},0,0]
["240","-1900","-1900-236",null,null,null,null,null,null,null,null,null,null,null,null,null,null,null,null,null,{"$f":"IF(J$2019=1,\"\",IF(T248=\"\",\"\",RIGHT(VLOOKUP(T248,Tabelle!$B$5:$C$9,2,FALSE),5)))","v":""},null,null,null,null,null,null,null,{"$f":"IF(B248=\"\",0,IF(B248=B247,COUNTIF(B$9:B247,B248)+1,1))","v":236},0,0]
["241","-1900","-1900-237",null,null,null,null,null,null,null,null,null,null,null,null,null,null,null,null,null,{"$f":"IF(J$2019=1,\"\",IF(T249=\"\",\"\",RIGHT(VLOOKUP(T249,Tabelle!$B$5:$C$9,2,FALSE),5)))","v":""},null,null,null,null,null,null,null,{"$f":"IF(B249=\"\",0,IF(B249=B248,COUNTIF(B$9:B248,B249)+1,1))","v":237},0,0]
["242","-1900","-1900-238",null,null,null,null,null,null,null,null,null,null,null,null,null,null,null,null,null,{"$f":"IF(J$2019=1,\"\",IF(T250=\"\",\"\",RIGHT(VLOOKUP(T250,Tabelle!$B$5:$C$9,2,FALSE),5)))","v":""},null,null,null,null,null,null,null,{"$f":"IF(B250=\"\",0,IF(B250=B249,COUNTIF(B$9:B249,B250)+1,1))","v":238},0,0]
["243","-1900","-1900-239",null,null,null,null,null,null,null,null,null,null,null,null,null,null,null,null,null,{"$f":"IF(J$2019=1,\"\",IF(T251=\"\",\"\",RIGHT(VLOOKUP(T251,Tabelle!$B$5:$C$9,2,FALSE),5)))","v":""},null,null,null,null,null,null,null,{"$f":"IF(B251=\"\",0,IF(B251=B250,COUNTIF(B$9:B250,B251)+1,1))","v":239},0,0]
["244","-1900","-1900-240",null,null,null,null,null,null,null,null,null,null,null,null,null,null,null,null,null,{"$f":"IF(J$2019=1,\"\",IF(T252=\"\",\"\",RIGHT(VLOOKUP(T252,Tabelle!$B$5:$C$9,2,FALSE),5)))","v":""},null,null,null,null,null,null,null,{"$f":"IF(B252=\"\",0,IF(B252=B251,COUNTIF(B$9:B251,B252)+1,1))","v":240},0,0]
["245","-1900","-1900-241",null,null,null,null,null,null,null,null,null,null,null,null,null,null,null,null,null,{"$f":"IF(J$2019=1,\"\",IF(T253=\"\",\"\",RIGHT(VLOOKUP(T253,Tabelle!$B$5:$C$9,2,FALSE),5)))","v":""},null,null,null,null,null,null,null,{"$f":"IF(B253=\"\",0,IF(B253=B252,COUNTIF(B$9:B252,B253)+1,1))","v":241},0,0]
["246","-1900","-1900-242",null,null,null,null,null,null,null,null,null,null,null,null,null,null,null,null,null,{"$f":"IF(J$2019=1,\"\",IF(T254=\"\",\"\",RIGHT(VLOOKUP(T254,Tabelle!$B$5:$C$9,2,FALSE),5)))","v":""},null,null,null,null,null,null,null,{"$f":"IF(B254=\"\",0,IF(B254=B253,COUNTIF(B$9:B253,B254)+1,1))","v":242},0,0]
["247","-1900","-1900-243",null,null,null,null,null,null,null,null,null,null,null,null,null,null,null,null,null,{"$f":"IF(J$2019=1,\"\",IF(T255=\"\",\"\",RIGHT(VLOOKUP(T255,Tabelle!$B$5:$C$9,2,FALSE),5)))","v":""},null,null,null,null,null,null,null,{"$f":"IF(B255=\"\",0,IF(B255=B254,COUNTIF(B$9:B254,B255)+1,1))","v":243},0,0]
["248","-1900","-1900-244",null,null,null,null,null,null,null,null,null,null,null,null,null,null,null,null,null,{"$f":"IF(J$2019=1,\"\",IF(T256=\"\",\"\",RIGHT(VLOOKUP(T256,Tabelle!$B$5:$C$9,2,FALSE),5)))","v":""},null,null,null,null,null,null,null,{"$f":"IF(B256=\"\",0,IF(B256=B255,COUNTIF(B$9:B255,B256)+1,1))","v":244},0,0]
["249","-1900","-1900-245",null,null,null,null,null,null,null,null,null,null,null,null,null,null,null,null,null,{"$f":"IF(J$2019=1,\"\",IF(T257=\"\",\"\",RIGHT(VLOOKUP(T257,Tabelle!$B$5:$C$9,2,FALSE),5)))","v":""},null,null,null,null,null,null,null,{"$f":"IF(B257=\"\",0,IF(B257=B256,COUNTIF(B$9:B256,B257)+1,1))","v":245},0,0]
["250","-1900","-1900-246",null,null,null,null,null,null,null,null,null,null,null,null,null,null,null,null,null,{"$f":"IF(J$2019=1,\"\",IF(T258=\"\",\"\",RIGHT(VLOOKUP(T258,Tabelle!$B$5:$C$9,2,FALSE),5)))","v":""},null,null,null,null,null,null,null,{"$f":"IF(B258=\"\",0,IF(B258=B257,COUNTIF(B$9:B257,B258)+1,1))","v":246},0,0]
["251","-1900","-1900-247",null,null,null,null,null,null,null,null,null,null,null,null,null,null,null,null,null,{"$f":"IF(J$2019=1,\"\",IF(T259=\"\",\"\",RIGHT(VLOOKUP(T259,Tabelle!$B$5:$C$9,2,FALSE),5)))","v":""},null,null,null,null,null,null,null,{"$f":"IF(B259=\"\",0,IF(B259=B258,COUNTIF(B$9:B258,B259)+1,1))","v":247},0,0]
["252","-1900","-1900-248",null,null,null,null,null,null,null,null,null,null,null,null,null,null,null,null,null,{"$f":"IF(J$2019=1,\"\",IF(T260=\"\",\"\",RIGHT(VLOOKUP(T260,Tabelle!$B$5:$C$9,2,FALSE),5)))","v":""},null,null,null,null,null,null,null,{"$f":"IF(B260=\"\",0,IF(B260=B259,COUNTIF(B$9:B259,B260)+1,1))","v":248},0,0]
["253","-1900","-1900-249",null,null,null,null,null,null,null,null,null,null,null,null,null,null,null,null,null,{"$f":"IF(J$2019=1,\"\",IF(T261=\"\",\"\",RIGHT(VLOOKUP(T261,Tabelle!$B$5:$C$9,2,FALSE),5)))","v":""},null,null,null,null,null,null,null,{"$f":"IF(B261=\"\",0,IF(B261=B260,COUNTIF(B$9:B260,B261)+1,1))","v":249},0,0]
["254","-1900","-1900-250",null,null,null,null,null,null,null,null,null,null,null,null,null,null,null,null,null,{"$f":"IF(J$2019=1,\"\",IF(T262=\"\",\"\",RIGHT(VLOOKUP(T262,Tabelle!$B$5:$C$9,2,FALSE),5)))","v":""},null,null,null,null,null,null,null,{"$f":"IF(B262=\"\",0,IF(B262=B261,COUNTIF(B$9:B261,B262)+1,1))","v":250},0,0]
["255","-1900","-1900-251",null,null,null,null,null,null,null,null,null,null,null,null,null,null,null,null,null,{"$f":"IF(J$2019=1,\"\",IF(T263=\"\",\"\",RIGHT(VLOOKUP(T263,Tabelle!$B$5:$C$9,2,FALSE),5)))","v":""},null,null,null,null,null,null,null,{"$f":"IF(B263=\"\",0,IF(B263=B262,COUNTIF(B$9:B262,B263)+1,1))","v":251},0,0]
["256","-1900","-1900-252",null,null,null,null,null,null,null,null,null,null,null,null,null,null,null,null,null,{"$f":"IF(J$2019=1,\"\",IF(T264=\"\",\"\",RIGHT(VLOOKUP(T264,Tabelle!$B$5:$C$9,2,FALSE),5)))","v":""},null,null,null,null,null,null,null,{"$f":"IF(B264=\"\",0,IF(B264=B263,COUNTIF(B$9:B263,B264)+1,1))","v":252},0,0]
["257","-1900",{"$f":"IF(J$2019=1,0,B265&\"-\"&AC265)","v":"-1900-253"},null,null,null,null,null,null,null,null,null,null,null,null,null,null,null,null,null,{"$f":"IF(J$2019=1,\"\",IF(T265=\"\",\"\",RIGHT(VLOOKUP(T265,Tabelle!$B$5:$C$9,2,FALSE),5)))","v":""},null,null,null,null,null,null,null,{"$f":"IF(B265=\"\",0,IF(B265=B264,COUNTIF(B$9:B264,B265)+1,1))","v":253},0,0]
["258",{"$f":"IF(AE266=$AE$2013,0,IF(J$2019=1,0,D266&\"-\"&YEAR(E266)))","v":"-1900"},"-1900-254",null,null,null,null,null,null,null,null,null,null,null,null,null,null,null,null,null,{"$f":"IF(J$2019=1,\"\",IF(T266=\"\",\"\",RIGHT(VLOOKUP(T266,Tabelle!$B$5:$C$9,2,FALSE),5)))","v":""},null,null,null,null,null,null,null,{"$f":"IF(B266=\"\",0,IF(B266=B265,COUNTIF(B$9:B265,B266)+1,1))","v":254},{"$f":"IF(OR(D266=\"\",J$2019=1),0,IF(AC266=28,1,0))","v":0},{"$f":"IF(E266>0,IF(OR(MONTH(E266)<$J$2025,MONTH(E266)>$J$2026),AE$2013,0),0)","v":0}]
["259","-1900","-1900-255",null,null,null,null,null,null,null,null,null,null,null,null,null,null,null,null,null,{"$f":"IF(J$2019=1,\"\",IF(T267=\"\",\"\",RIGHT(VLOOKUP(T267,Tabelle!$B$5:$C$9,2,FALSE),5)))","v":""},null,null,null,null,null,null,null,{"$f":"IF(B267=\"\",0,IF(B267=B266,COUNTIF(B$9:B266,B267)+1,1))","v":255},0,0]
["260","-1900","-1900-256",null,null,null,null,null,null,null,null,null,null,null,null,null,null,null,null,null,{"$f":"IF(J$2019=1,\"\",IF(T268=\"\",\"\",RIGHT(VLOOKUP(T268,Tabelle!$B$5:$C$9,2,FALSE),5)))","v":""},null,null,null,null,null,null,null,{"$f":"IF(B268=\"\",0,IF(B268=B267,COUNTIF(B$9:B267,B268)+1,1))","v":256},0,0]
["261","-1900","-1900-257",null,null,null,null,null,null,null,null,null,null,null,null,null,null,null,null,null,{"$f":"IF(J$2019=1,\"\",IF(T269=\"\",\"\",RIGHT(VLOOKUP(T269,Tabelle!$B$5:$C$9,2,FALSE),5)))","v":""},null,null,null,null,null,null,null,{"$f":"IF(B269=\"\",0,IF(B269=B268,COUNTIF(B$9:B268,B269)+1,1))","v":257},0,0]
["262","-1900","-1900-258",null,null,null,null,null,null,null,null,null,null,null,null,null,null,null,null,null,{"$f":"IF(J$2019=1,\"\",IF(T270=\"\",\"\",RIGHT(VLOOKUP(T270,Tabelle!$B$5:$C$9,2,FALSE),5)))","v":""},null,null,null,null,null,null,null,{"$f":"IF(B270=\"\",0,IF(B270=B269,COUNTIF(B$9:B269,B270)+1,1))","v":258},0,0]
["263","-1900","-1900-259",null,null,null,null,null,null,null,null,null,null,null,null,null,null,null,null,null,{"$f":"IF(J$2019=1,\"\",IF(T271=\"\",\"\",RIGHT(VLOOKUP(T271,Tabelle!$B$5:$C$9,2,FALSE),5)))","v":""},null,null,null,null,null,null,null,{"$f":"IF(B271=\"\",0,IF(B271=B270,COUNTIF(B$9:B270,B271)+1,1))","v":259},0,0]
["264","-1900","-1900-260",null,null,null,null,null,null,null,null,null,null,null,null,null,null,null,null,null,{"$f":"IF(J$2019=1,\"\",IF(T272=\"\",\"\",RIGHT(VLOOKUP(T272,Tabelle!$B$5:$C$9,2,FALSE),5)))","v":""},null,null,null,null,null,null,null,{"$f":"IF(B272=\"\",0,IF(B272=B271,COUNTIF(B$9:B271,B272)+1,1))","v":260},0,0]
["265","-1900","-1900-261",null,null,null,null,null,null,null,null,null,null,null,null,null,null,null,null,null,{"$f":"IF(J$2019=1,\"\",IF(T273=\"\",\"\",RIGHT(VLOOKUP(T273,Tabelle!$B$5:$C$9,2,FALSE),5)))","v":""},null,null,null,null,null,null,null,{"$f":"IF(B273=\"\",0,IF(B273=B272,COUNTIF(B$9:B272,B273)+1,1))","v":261},0,0]
["266","-1900","-1900-262",null,null,null,null,null,null,null,null,null,null,null,null,null,null,null,null,null,{"$f":"IF(J$2019=1,\"\",IF(T274=\"\",\"\",RIGHT(VLOOKUP(T274,Tabelle!$B$5:$C$9,2,FALSE),5)))","v":""},null,null,null,null,null,null,null,{"$f":"IF(B274=\"\",0,IF(B274=B273,COUNTIF(B$9:B273,B274)+1,1))","v":262},0,0]
["267","-1900","-1900-263",null,null,null,null,null,null,null,null,null,null,null,null,null,null,null,null,null,{"$f":"IF(J$2019=1,\"\",IF(T275=\"\",\"\",RIGHT(VLOOKUP(T275,Tabelle!$B$5:$C$9,2,FALSE),5)))","v":""},null,null,null,null,null,null,null,{"$f":"IF(B275=\"\",0,IF(B275=B274,COUNTIF(B$9:B274,B275)+1,1))","v":263},0,0]
["268","-1900","-1900-264",null,null,null,null,null,null,null,null,null,null,null,null,null,null,null,null,null,{"$f":"IF(J$2019=1,\"\",IF(T276=\"\",\"\",RIGHT(VLOOKUP(T276,Tabelle!$B$5:$C$9,2,FALSE),5)))","v":""},null,null,null,null,null,null,null,{"$f":"IF(B276=\"\",0,IF(B276=B275,COUNTIF(B$9:B275,B276)+1,1))","v":264},0,0]
["269","-1900","-1900-265",null,null,null,null,null,null,null,null,null,null,null,null,null,null,null,null,null,{"$f":"IF(J$2019=1,\"\",IF(T277=\"\",\"\",RIGHT(VLOOKUP(T277,Tabelle!$B$5:$C$9,2,FALSE),5)))","v":""},null,null,null,null,null,null,null,{"$f":"IF(B277=\"\",0,IF(B277=B276,COUNTIF(B$9:B276,B277)+1,1))","v":265},0,0]
["270","-1900","-1900-266",null,null,null,null,null,null,null,null,null,null,null,null,null,null,null,null,null,{"$f":"IF(J$2019=1,\"\",IF(T278=\"\",\"\",RIGHT(VLOOKUP(T278,Tabelle!$B$5:$C$9,2,FALSE),5)))","v":""},null,null,null,null,null,null,null,{"$f":"IF(B278=\"\",0,IF(B278=B277,COUNTIF(B$9:B277,B278)+1,1))","v":266},0,0]
["271","-1900","-1900-267",null,null,null,null,null,null,null,null,null,null,null,null,null,null,null,null,null,{"$f":"IF(J$2019=1,\"\",IF(T279=\"\",\"\",RIGHT(VLOOKUP(T279,Tabelle!$B$5:$C$9,2,FALSE),5)))","v":""},null,null,null,null,null,null,null,{"$f":"IF(B279=\"\",0,IF(B279=B278,COUNTIF(B$9:B278,B279)+1,1))","v":267},0,0]
["272","-1900","-1900-268",null,null,null,null,null,null,null,null,null,null,null,null,null,null,null,null,null,{"$f":"IF(J$2019=1,\"\",IF(T280=\"\",\"\",RIGHT(VLOOKUP(T280,Tabelle!$B$5:$C$9,2,FALSE),5)))","v":""},null,null,null,null,null,null,null,{"$f":"IF(B280=\"\",0,IF(B280=B279,COUNTIF(B$9:B279,B280)+1,1))","v":268},0,0]
["273","-1900","-1900-269",null,null,null,null,null,null,null,null,null,null,null,null,null,null,null,null,null,{"$f":"IF(J$2019=1,\"\",IF(T281=\"\",\"\",RIGHT(VLOOKUP(T281,Tabelle!$B$5:$C$9,2,FALSE),5)))","v":""},null,null,null,null,null,null,null,{"$f":"IF(B281=\"\",0,IF(B281=B280,COUNTIF(B$9:B280,B281)+1,1))","v":269},0,0]
["274","-1900","-1900-270",null,null,null,null,null,null,null,null,null,null,null,null,null,null,null,null,null,{"$f":"IF(J$2019=1,\"\",IF(T282=\"\",\"\",RIGHT(VLOOKUP(T282,Tabelle!$B$5:$C$9,2,FALSE),5)))","v":""},null,null,null,null,null,null,null,{"$f":"IF(B282=\"\",0,IF(B282=B281,COUNTIF(B$9:B281,B282)+1,1))","v":270},0,0]
["275","-1900","-1900-271",null,null,null,null,null,null,null,null,null,null,null,null,null,null,null,null,null,{"$f":"IF(J$2019=1,\"\",IF(T283=\"\",\"\",RIGHT(VLOOKUP(T283,Tabelle!$B$5:$C$9,2,FALSE),5)))","v":""},null,null,null,null,null,null,null,{"$f":"IF(B283=\"\",0,IF(B283=B282,COUNTIF(B$9:B282,B283)+1,1))","v":271},0,0]
["276","-1900","-1900-272",null,null,null,null,null,null,null,null,null,null,null,null,null,null,null,null,null,{"$f":"IF(J$2019=1,\"\",IF(T284=\"\",\"\",RIGHT(VLOOKUP(T284,Tabelle!$B$5:$C$9,2,FALSE),5)))","v":""},null,null,null,null,null,null,null,{"$f":"IF(B284=\"\",0,IF(B284=B283,COUNTIF(B$9:B283,B284)+1,1))","v":272},0,0]
["277","-1900","-1900-273",null,null,null,null,null,null,null,null,null,null,null,null,null,null,null,null,null,{"$f":"IF(J$2019=1,\"\",IF(T285=\"\",\"\",RIGHT(VLOOKUP(T285,Tabelle!$B$5:$C$9,2,FALSE),5)))","v":""},null,null,null,null,null,null,null,{"$f":"IF(B285=\"\",0,IF(B285=B284,COUNTIF(B$9:B284,B285)+1,1))","v":273},0,0]
["278","-1900","-1900-274",null,null,null,null,null,null,null,null,null,null,null,null,null,null,null,null,null,{"$f":"IF(J$2019=1,\"\",IF(T286=\"\",\"\",RIGHT(VLOOKUP(T286,Tabelle!$B$5:$C$9,2,FALSE),5)))","v":""},null,null,null,null,null,null,null,{"$f":"IF(B286=\"\",0,IF(B286=B285,COUNTIF(B$9:B285,B286)+1,1))","v":274},0,0]
["279","-1900","-1900-275",null,null,null,null,null,null,null,null,null,null,null,null,null,null,null,null,null,{"$f":"IF(J$2019=1,\"\",IF(T287=\"\",\"\",RIGHT(VLOOKUP(T287,Tabelle!$B$5:$C$9,2,FALSE),5)))","v":""},null,null,null,null,null,null,null,{"$f":"IF(B287=\"\",0,IF(B287=B286,COUNTIF(B$9:B286,B287)+1,1))","v":275},0,0]
["280","-1900","-1900-276",null,null,null,null,null,null,null,null,null,null,null,null,null,null,null,null,null,{"$f":"IF(J$2019=1,\"\",IF(T288=\"\",\"\",RIGHT(VLOOKUP(T288,Tabelle!$B$5:$C$9,2,FALSE),5)))","v":""},null,null,null,null,null,null,null,{"$f":"IF(B288=\"\",0,IF(B288=B287,COUNTIF(B$9:B287,B288)+1,1))","v":276},0,0]
["281","-1900","-1900-277",null,null,null,null,null,null,null,null,null,null,null,null,null,null,null,null,null,{"$f":"IF(J$2019=1,\"\",IF(T289=\"\",\"\",RIGHT(VLOOKUP(T289,Tabelle!$B$5:$C$9,2,FALSE),5)))","v":""},null,null,null,null,null,null,null,{"$f":"IF(B289=\"\",0,IF(B289=B288,COUNTIF(B$9:B288,B289)+1,1))","v":277},0,0]
["282","-1900","-1900-278",null,null,null,null,null,null,null,null,null,null,null,null,null,null,null,null,null,{"$f":"IF(J$2019=1,\"\",IF(T290=\"\",\"\",RIGHT(VLOOKUP(T290,Tabelle!$B$5:$C$9,2,FALSE),5)))","v":""},null,null,null,null,null,null,null,{"$f":"IF(B290=\"\",0,IF(B290=B289,COUNTIF(B$9:B289,B290)+1,1))","v":278},0,0]
["283","-1900","-1900-279",null,null,null,null,null,null,null,null,null,null,null,null,null,null,null,null,null,{"$f":"IF(J$2019=1,\"\",IF(T291=\"\",\"\",RIGHT(VLOOKUP(T291,Tabelle!$B$5:$C$9,2,FALSE),5)))","v":""},null,null,null,null,null,null,null,{"$f":"IF(B291=\"\",0,IF(B291=B290,COUNTIF(B$9:B290,B291)+1,1))","v":279},0,0]
["284","-1900","-1900-280",null,null,null,null,null,null,null,null,null,null,null,null,null,null,null,null,null,{"$f":"IF(J$2019=1,\"\",IF(T292=\"\",\"\",RIGHT(VLOOKUP(T292,Tabelle!$B$5:$C$9,2,FALSE),5)))","v":""},null,null,null,null,null,null,null,{"$f":"IF(B292=\"\",0,IF(B292=B291,COUNTIF(B$9:B291,B292)+1,1))","v":280},0,0]
["285","-1900","-1900-281",null,null,null,null,null,null,null,null,null,null,null,null,null,null,null,null,null,{"$f":"IF(J$2019=1,\"\",IF(T293=\"\",\"\",RIGHT(VLOOKUP(T293,Tabelle!$B$5:$C$9,2,FALSE),5)))","v":""},null,null,null,null,null,null,null,{"$f":"IF(B293=\"\",0,IF(B293=B292,COUNTIF(B$9:B292,B293)+1,1))","v":281},0,0]
["286","-1900","-1900-282",null,null,null,null,null,null,null,null,null,null,null,null,null,null,null,null,null,{"$f":"IF(J$2019=1,\"\",IF(T294=\"\",\"\",RIGHT(VLOOKUP(T294,Tabelle!$B$5:$C$9,2,FALSE),5)))","v":""},null,null,null,null,null,null,null,{"$f":"IF(B294=\"\",0,IF(B294=B293,COUNTIF(B$9:B293,B294)+1,1))","v":282},0,0]
["287","-1900","-1900-283",null,null,null,null,null,null,null,null,null,null,null,null,null,null,null,null,null,{"$f":"IF(J$2019=1,\"\",IF(T295=\"\",\"\",RIGHT(VLOOKUP(T295,Tabelle!$B$5:$C$9,2,FALSE),5)))","v":""},null,null,null,null,null,null,null,{"$f":"IF(B295=\"\",0,IF(B295=B294,COUNTIF(B$9:B294,B295)+1,1))","v":283},0,0]
["288","-1900","-1900-284",null,null,null,null,null,null,null,null,null,null,null,null,null,null,null,null,null,{"$f":"IF(J$2019=1,\"\",IF(T296=\"\",\"\",RIGHT(VLOOKUP(T296,Tabelle!$B$5:$C$9,2,FALSE),5)))","v":""},null,null,null,null,null,null,null,{"$f":"IF(B296=\"\",0,IF(B296=B295,COUNTIF(B$9:B295,B296)+1,1))","v":284},0,0]
["289","-1900","-1900-285",null,null,null,null,null,null,null,null,null,null,null,null,null,null,null,null,null,{"$f":"IF(J$2019=1,\"\",IF(T297=\"\",\"\",RIGHT(VLOOKUP(T297,Tabelle!$B$5:$C$9,2,FALSE),5)))","v":""},null,null,null,null,null,null,null,{"$f":"IF(B297=\"\",0,IF(B297=B296,COUNTIF(B$9:B296,B297)+1,1))","v":285},0,0]
["290","-1900","-1900-286",null,null,null,null,null,null,null,null,null,null,null,null,null,null,null,null,null,{"$f":"IF(J$2019=1,\"\",IF(T298=\"\",\"\",RIGHT(VLOOKUP(T298,Tabelle!$B$5:$C$9,2,FALSE),5)))","v":""},null,null,null,null,null,null,null,{"$f":"IF(B298=\"\",0,IF(B298=B297,COUNTIF(B$9:B297,B298)+1,1))","v":286},0,0]
["291","-1900","-1900-287",null,null,null,null,null,null,null,null,null,null,null,null,null,null,null,null,null,{"$f":"IF(J$2019=1,\"\",IF(T299=\"\",\"\",RIGHT(VLOOKUP(T299,Tabelle!$B$5:$C$9,2,FALSE),5)))","v":""},null,null,null,null,null,null,null,{"$f":"IF(B299=\"\",0,IF(B299=B298,COUNTIF(B$9:B298,B299)+1,1))","v":287},0,0]
["292","-1900","-1900-288",null,null,null,null,null,null,null,null,null,null,null,null,null,null,null,null,null,{"$f":"IF(J$2019=1,\"\",IF(T300=\"\",\"\",RIGHT(VLOOKUP(T300,Tabelle!$B$5:$C$9,2,FALSE),5)))","v":""},null,null,null,null,null,null,null,{"$f":"IF(B300=\"\",0,IF(B300=B299,COUNTIF(B$9:B299,B300)+1,1))","v":288},0,0]
["293","-1900","-1900-289",null,null,null,null,null,null,null,null,null,null,null,null,null,null,null,null,null,{"$f":"IF(J$2019=1,\"\",IF(T301=\"\",\"\",RIGHT(VLOOKUP(T301,Tabelle!$B$5:$C$9,2,FALSE),5)))","v":""},null,null,null,null,null,null,null,{"$f":"IF(B301=\"\",0,IF(B301=B300,COUNTIF(B$9:B300,B301)+1,1))","v":289},0,0]
["294","-1900","-1900-290",null,null,null,null,null,null,null,null,null,null,null,null,null,null,null,null,null,{"$f":"IF(J$2019=1,\"\",IF(T302=\"\",\"\",RIGHT(VLOOKUP(T302,Tabelle!$B$5:$C$9,2,FALSE),5)))","v":""},null,null,null,null,null,null,null,{"$f":"IF(B302=\"\",0,IF(B302=B301,COUNTIF(B$9:B301,B302)+1,1))","v":290},0,0]
["295","-1900","-1900-291",null,null,null,null,null,null,null,null,null,null,null,null,null,null,null,null,null,{"$f":"IF(J$2019=1,\"\",IF(T303=\"\",\"\",RIGHT(VLOOKUP(T303,Tabelle!$B$5:$C$9,2,FALSE),5)))","v":""},null,null,null,null,null,null,null,{"$f":"IF(B303=\"\",0,IF(B303=B302,COUNTIF(B$9:B302,B303)+1,1))","v":291},0,0]
["296","-1900","-1900-292",null,null,null,null,null,null,null,null,null,null,null,null,null,null,null,null,null,{"$f":"IF(J$2019=1,\"\",IF(T304=\"\",\"\",RIGHT(VLOOKUP(T304,Tabelle!$B$5:$C$9,2,FALSE),5)))","v":""},null,null,null,null,null,null,null,{"$f":"IF(B304=\"\",0,IF(B304=B303,COUNTIF(B$9:B303,B304)+1,1))","v":292},0,0]
["297","-1900","-1900-293",null,null,null,null,null,null,null,null,null,null,null,null,null,null,null,null,null,{"$f":"IF(J$2019=1,\"\",IF(T305=\"\",\"\",RIGHT(VLOOKUP(T305,Tabelle!$B$5:$C$9,2,FALSE),5)))","v":""},null,null,null,null,null,null,null,{"$f":"IF(B305=\"\",0,IF(B305=B304,COUNTIF(B$9:B304,B305)+1,1))","v":293},0,0]
["298","-1900","-1900-294",null,null,null,null,null,null,null,null,null,null,null,null,null,null,null,null,null,{"$f":"IF(J$2019=1,\"\",IF(T306=\"\",\"\",RIGHT(VLOOKUP(T306,Tabelle!$B$5:$C$9,2,FALSE),5)))","v":""},null,null,null,null,null,null,null,{"$f":"IF(B306=\"\",0,IF(B306=B305,COUNTIF(B$9:B305,B306)+1,1))","v":294},0,0]
["299","-1900","-1900-295",null,null,null,null,null,null,null,null,null,null,null,null,null,null,null,null,null,{"$f":"IF(J$2019=1,\"\",IF(T307=\"\",\"\",RIGHT(VLOOKUP(T307,Tabelle!$B$5:$C$9,2,FALSE),5)))","v":""},null,null,null,null,null,null,null,{"$f":"IF(B307=\"\",0,IF(B307=B306,COUNTIF(B$9:B306,B307)+1,1))","v":295},0,0]
["300","-1900","-1900-296",null,null,null,null,null,null,null,null,null,null,null,null,null,null,null,null,null,{"$f":"IF(J$2019=1,\"\",IF(T308=\"\",\"\",RIGHT(VLOOKUP(T308,Tabelle!$B$5:$C$9,2,FALSE),5)))","v":""},null,null,null,null,null,null,null,{"$f":"IF(B308=\"\",0,IF(B308=B307,COUNTIF(B$9:B307,B308)+1,1))","v":296},0,0]
["301","-1900","-1900-297",null,null,null,null,null,null,null,null,null,null,null,null,null,null,null,null,null,{"$f":"IF(J$2019=1,\"\",IF(T309=\"\",\"\",RIGHT(VLOOKUP(T309,Tabelle!$B$5:$C$9,2,FALSE),5)))","v":""},null,null,null,null,null,null,null,{"$f":"IF(B309=\"\",0,IF(B309=B308,COUNTIF(B$9:B308,B309)+1,1))","v":297},0,0]
["302","-1900","-1900-298",null,null,null,null,null,null,null,null,null,null,null,null,null,null,null,null,null,{"$f":"IF(J$2019=1,\"\",IF(T310=\"\",\"\",RIGHT(VLOOKUP(T310,Tabelle!$B$5:$C$9,2,FALSE),5)))","v":""},null,null,null,null,null,null,null,{"$f":"IF(B310=\"\",0,IF(B310=B309,COUNTIF(B$9:B309,B310)+1,1))","v":298},0,0]
["303","-1900","-1900-299",null,null,null,null,null,null,null,null,null,null,null,null,null,null,null,null,null,{"$f":"IF(J$2019=1,\"\",IF(T311=\"\",\"\",RIGHT(VLOOKUP(T311,Tabelle!$B$5:$C$9,2,FALSE),5)))","v":""},null,null,null,null,null,null,null,{"$f":"IF(B311=\"\",0,IF(B311=B310,COUNTIF(B$9:B310,B311)+1,1))","v":299},0,0]
["304","-1900","-1900-300",null,null,null,null,null,null,null,null,null,null,null,null,null,null,null,null,null,{"$f":"IF(J$2019=1,\"\",IF(T312=\"\",\"\",RIGHT(VLOOKUP(T312,Tabelle!$B$5:$C$9,2,FALSE),5)))","v":""},null,null,null,null,null,null,null,{"$f":"IF(B312=\"\",0,IF(B312=B311,COUNTIF(B$9:B311,B312)+1,1))","v":300},0,0]
["305","-1900","-1900-301",null,null,null,null,null,null,null,null,null,null,null,null,null,null,null,null,null,{"$f":"IF(J$2019=1,\"\",IF(T313=\"\",\"\",RIGHT(VLOOKUP(T313,Tabelle!$B$5:$C$9,2,FALSE),5)))","v":""},null,null,null,null,null,null,null,{"$f":"IF(B313=\"\",0,IF(B313=B312,COUNTIF(B$9:B312,B313)+1,1))","v":301},0,0]
["306","-1900","-1900-302",null,null,null,null,null,null,null,null,null,null,null,null,null,null,null,null,null,{"$f":"IF(J$2019=1,\"\",IF(T314=\"\",\"\",RIGHT(VLOOKUP(T314,Tabelle!$B$5:$C$9,2,FALSE),5)))","v":""},null,null,null,null,null,null,null,{"$f":"IF(B314=\"\",0,IF(B314=B313,COUNTIF(B$9:B313,B314)+1,1))","v":302},0,0]
["307","-1900","-1900-303",null,null,null,null,null,null,null,null,null,null,null,null,null,null,null,null,null,{"$f":"IF(J$2019=1,\"\",IF(T315=\"\",\"\",RIGHT(VLOOKUP(T315,Tabelle!$B$5:$C$9,2,FALSE),5)))","v":""},null,null,null,null,null,null,null,{"$f":"IF(B315=\"\",0,IF(B315=B314,COUNTIF(B$9:B314,B315)+1,1))","v":303},0,0]
["308","-1900","-1900-304",null,null,null,null,null,null,null,null,null,null,null,null,null,null,null,null,null,{"$f":"IF(J$2019=1,\"\",IF(T316=\"\",\"\",RIGHT(VLOOKUP(T316,Tabelle!$B$5:$C$9,2,FALSE),5)))","v":""},null,null,null,null,null,null,null,{"$f":"IF(B316=\"\",0,IF(B316=B315,COUNTIF(B$9:B315,B316)+1,1))","v":304},0,0]
["309","-1900","-1900-305",null,null,null,null,null,null,null,null,null,null,null,null,null,null,null,null,null,{"$f":"IF(J$2019=1,\"\",IF(T317=\"\",\"\",RIGHT(VLOOKUP(T317,Tabelle!$B$5:$C$9,2,FALSE),5)))","v":""},null,null,null,null,null,null,null,{"$f":"IF(B317=\"\",0,IF(B317=B316,COUNTIF(B$9:B316,B317)+1,1))","v":305},0,0]
["310","-1900","-1900-306",null,null,null,null,null,null,null,null,null,null,null,null,null,null,null,null,null,{"$f":"IF(J$2019=1,\"\",IF(T318=\"\",\"\",RIGHT(VLOOKUP(T318,Tabelle!$B$5:$C$9,2,FALSE),5)))","v":""},null,null,null,null,null,null,null,{"$f":"IF(B318=\"\",0,IF(B318=B317,COUNTIF(B$9:B317,B318)+1,1))","v":306},0,0]
["311","-1900","-1900-307",null,null,null,null,null,null,null,null,null,null,null,null,null,null,null,null,null,{"$f":"IF(J$2019=1,\"\",IF(T319=\"\",\"\",RIGHT(VLOOKUP(T319,Tabelle!$B$5:$C$9,2,FALSE),5)))","v":""},null,null,null,null,null,null,null,{"$f":"IF(B319=\"\",0,IF(B319=B318,COUNTIF(B$9:B318,B319)+1,1))","v":307},0,0]
["312","-1900","-1900-308",null,null,null,null,null,null,null,null,null,null,null,null,null,null,null,null,null,{"$f":"IF(J$2019=1,\"\",IF(T320=\"\",\"\",RIGHT(VLOOKUP(T320,Tabelle!$B$5:$C$9,2,FALSE),5)))","v":""},null,null,null,null,null,null,null,{"$f":"IF(B320=\"\",0,IF(B320=B319,COUNTIF(B$9:B319,B320)+1,1))","v":308},0,0]
["313","-1900","-1900-309",null,null,null,null,null,null,null,null,null,null,null,null,null,null,null,null,null,{"$f":"IF(J$2019=1,\"\",IF(T321=\"\",\"\",RIGHT(VLOOKUP(T321,Tabelle!$B$5:$C$9,2,FALSE),5)))","v":""},null,null,null,null,null,null,null,{"$f":"IF(B321=\"\",0,IF(B321=B320,COUNTIF(B$9:B320,B321)+1,1))","v":309},0,0]
["314","-1900","-1900-310",null,null,null,null,null,null,null,null,null,null,null,null,null,null,null,null,null,{"$f":"IF(J$2019=1,\"\",IF(T322=\"\",\"\",RIGHT(VLOOKUP(T322,Tabelle!$B$5:$C$9,2,FALSE),5)))","v":""},null,null,null,null,null,null,null,{"$f":"IF(B322=\"\",0,IF(B322=B321,COUNTIF(B$9:B321,B322)+1,1))","v":310},0,0]
["315","-1900","-1900-311",null,null,null,null,null,null,null,null,null,null,null,null,null,null,null,null,null,{"$f":"IF(J$2019=1,\"\",IF(T323=\"\",\"\",RIGHT(VLOOKUP(T323,Tabelle!$B$5:$C$9,2,FALSE),5)))","v":""},null,null,null,null,null,null,null,{"$f":"IF(B323=\"\",0,IF(B323=B322,COUNTIF(B$9:B322,B323)+1,1))","v":311},0,0]
["316","-1900","-1900-312",null,null,null,null,null,null,null,null,null,null,null,null,null,null,null,null,null,{"$f":"IF(J$2019=1,\"\",IF(T324=\"\",\"\",RIGHT(VLOOKUP(T324,Tabelle!$B$5:$C$9,2,FALSE),5)))","v":""},null,null,null,null,null,null,null,{"$f":"IF(B324=\"\",0,IF(B324=B323,COUNTIF(B$9:B323,B324)+1,1))","v":312},0,0]
["317","-1900","-1900-313",null,null,null,null,null,null,null,null,null,null,null,null,null,null,null,null,null,{"$f":"IF(J$2019=1,\"\",IF(T325=\"\",\"\",RIGHT(VLOOKUP(T325,Tabelle!$B$5:$C$9,2,FALSE),5)))","v":""},null,null,null,null,null,null,null,{"$f":"IF(B325=\"\",0,IF(B325=B324,COUNTIF(B$9:B324,B325)+1,1))","v":313},0,0]
["318","-1900","-1900-314",null,null,null,null,null,null,null,null,null,null,null,null,null,null,null,null,null,{"$f":"IF(J$2019=1,\"\",IF(T326=\"\",\"\",RIGHT(VLOOKUP(T326,Tabelle!$B$5:$C$9,2,FALSE),5)))","v":""},null,null,null,null,null,null,null,{"$f":"IF(B326=\"\",0,IF(B326=B325,COUNTIF(B$9:B325,B326)+1,1))","v":314},0,0]
["319","-1900","-1900-315",null,null,null,null,null,null,null,null,null,null,null,null,null,null,null,null,null,{"$f":"IF(J$2019=1,\"\",IF(T327=\"\",\"\",RIGHT(VLOOKUP(T327,Tabelle!$B$5:$C$9,2,FALSE),5)))","v":""},null,null,null,null,null,null,null,{"$f":"IF(B327=\"\",0,IF(B327=B326,COUNTIF(B$9:B326,B327)+1,1))","v":315},0,0]
["320","-1900","-1900-316",null,null,null,null,null,null,null,null,null,null,null,null,null,null,null,null,null,{"$f":"IF(J$2019=1,\"\",IF(T328=\"\",\"\",RIGHT(VLOOKUP(T328,Tabelle!$B$5:$C$9,2,FALSE),5)))","v":""},null,null,null,null,null,null,null,{"$f":"IF(B328=\"\",0,IF(B328=B327,COUNTIF(B$9:B327,B328)+1,1))","v":316},0,0]
["321","-1900",{"$f":"IF(J$2019=1,0,B329&\"-\"&AC329)","v":"-1900-317"},null,null,null,null,null,null,null,null,null,null,null,null,null,null,null,null,null,{"$f":"IF(J$2019=1,\"\",IF(T329=\"\",\"\",RIGHT(VLOOKUP(T329,Tabelle!$B$5:$C$9,2,FALSE),5)))","v":""},null,null,null,null,null,null,null,{"$f":"IF(B329=\"\",0,IF(B329=B328,COUNTIF(B$9:B328,B329)+1,1))","v":317},0,0]
["322",{"$f":"IF(AE330=$AE$2013,0,IF(J$2019=1,0,D330&\"-\"&YEAR(E330)))","v":"-1900"},"-1900-318",null,null,null,null,null,null,null,null,null,null,null,null,null,null,null,null,null,{"$f":"IF(J$2019=1,\"\",IF(T330=\"\",\"\",RIGHT(VLOOKUP(T330,Tabelle!$B$5:$C$9,2,FALSE),5)))","v":""},null,null,null,null,null,null,null,{"$f":"IF(B330=\"\",0,IF(B330=B329,COUNTIF(B$9:B329,B330)+1,1))","v":318},{"$f":"IF(OR(D330=\"\",J$2019=1),0,IF(AC330=28,1,0))","v":0},{"$f":"IF(E330>0,IF(OR(MONTH(E330)<$J$2025,MONTH(E330)>$J$2026),AE$2013,0),0)","v":0}]
["323","-1900","-1900-319",null,null,null,null,null,null,null,null,null,null,null,null,null,null,null,null,null,{"$f":"IF(J$2019=1,\"\",IF(T331=\"\",\"\",RIGHT(VLOOKUP(T331,Tabelle!$B$5:$C$9,2,FALSE),5)))","v":""},null,null,null,null,null,null,null,{"$f":"IF(B331=\"\",0,IF(B331=B330,COUNTIF(B$9:B330,B331)+1,1))","v":319},0,0]
["324","-1900","-1900-320",null,null,null,null,null,null,null,null,null,null,null,null,null,null,null,null,null,{"$f":"IF(J$2019=1,\"\",IF(T332=\"\",\"\",RIGHT(VLOOKUP(T332,Tabelle!$B$5:$C$9,2,FALSE),5)))","v":""},null,null,null,null,null,null,null,{"$f":"IF(B332=\"\",0,IF(B332=B331,COUNTIF(B$9:B331,B332)+1,1))","v":320},0,0]
["325","-1900","-1900-321",null,null,null,null,null,null,null,null,null,null,null,null,null,null,null,null,null,{"$f":"IF(J$2019=1,\"\",IF(T333=\"\",\"\",RIGHT(VLOOKUP(T333,Tabelle!$B$5:$C$9,2,FALSE),5)))","v":""},null,null,null,null,null,null,null,{"$f":"IF(B333=\"\",0,IF(B333=B332,COUNTIF(B$9:B332,B333)+1,1))","v":321},0,0]
["326","-1900","-1900-322",null,null,null,null,null,null,null,null,null,null,null,null,null,null,null,null,null,{"$f":"IF(J$2019=1,\"\",IF(T334=\"\",\"\",RIGHT(VLOOKUP(T334,Tabelle!$B$5:$C$9,2,FALSE),5)))","v":""},null,null,null,null,null,null,null,{"$f":"IF(B334=\"\",0,IF(B334=B333,COUNTIF(B$9:B333,B334)+1,1))","v":322},0,0]
["327","-1900","-1900-323",null,null,null,null,null,null,null,null,null,null,null,null,null,null,null,null,null,{"$f":"IF(J$2019=1,\"\",IF(T335=\"\",\"\",RIGHT(VLOOKUP(T335,Tabelle!$B$5:$C$9,2,FALSE),5)))","v":""},null,null,null,null,null,null,null,{"$f":"IF(B335=\"\",0,IF(B335=B334,COUNTIF(B$9:B334,B335)+1,1))","v":323},0,0]
["328","-1900","-1900-324",null,null,null,null,null,null,null,null,null,null,null,null,null,null,null,null,null,{"$f":"IF(J$2019=1,\"\",IF(T336=\"\",\"\",RIGHT(VLOOKUP(T336,Tabelle!$B$5:$C$9,2,FALSE),5)))","v":""},null,null,null,null,null,null,null,{"$f":"IF(B336=\"\",0,IF(B336=B335,COUNTIF(B$9:B335,B336)+1,1))","v":324},0,0]
["329","-1900","-1900-325",null,null,null,null,null,null,null,null,null,null,null,null,null,null,null,null,null,{"$f":"IF(J$2019=1,\"\",IF(T337=\"\",\"\",RIGHT(VLOOKUP(T337,Tabelle!$B$5:$C$9,2,FALSE),5)))","v":""},null,null,null,null,null,null,null,{"$f":"IF(B337=\"\",0,IF(B337=B336,COUNTIF(B$9:B336,B337)+1,1))","v":325},0,0]
["330","-1900","-1900-326",null,null,null,null,null,null,null,null,null,null,null,null,null,null,null,null,null,{"$f":"IF(J$2019=1,\"\",IF(T338=\"\",\"\",RIGHT(VLOOKUP(T338,Tabelle!$B$5:$C$9,2,FALSE),5)))","v":""},null,null,null,null,null,null,null,{"$f":"IF(B338=\"\",0,IF(B338=B337,COUNTIF(B$9:B337,B338)+1,1))","v":326},0,0]
["331","-1900","-1900-327",null,null,null,null,null,null,null,null,null,null,null,null,null,null,null,null,null,{"$f":"IF(J$2019=1,\"\",IF(T339=\"\",\"\",RIGHT(VLOOKUP(T339,Tabelle!$B$5:$C$9,2,FALSE),5)))","v":""},null,null,null,null,null,null,null,{"$f":"IF(B339=\"\",0,IF(B339=B338,COUNTIF(B$9:B338,B339)+1,1))","v":327},0,0]
["332","-1900","-1900-328",null,null,null,null,null,null,null,null,null,null,null,null,null,null,null,null,null,{"$f":"IF(J$2019=1,\"\",IF(T340=\"\",\"\",RIGHT(VLOOKUP(T340,Tabelle!$B$5:$C$9,2,FALSE),5)))","v":""},null,null,null,null,null,null,null,{"$f":"IF(B340=\"\",0,IF(B340=B339,COUNTIF(B$9:B339,B340)+1,1))","v":328},0,0]
["333","-1900","-1900-329",null,null,null,null,null,null,null,null,null,null,null,null,null,null,null,null,null,{"$f":"IF(J$2019=1,\"\",IF(T341=\"\",\"\",RIGHT(VLOOKUP(T341,Tabelle!$B$5:$C$9,2,FALSE),5)))","v":""},null,null,null,null,null,null,null,{"$f":"IF(B341=\"\",0,IF(B341=B340,COUNTIF(B$9:B340,B341)+1,1))","v":329},0,0]
["334","-1900","-1900-330",null,null,null,null,null,null,null,null,null,null,null,null,null,null,null,null,null,{"$f":"IF(J$2019=1,\"\",IF(T342=\"\",\"\",RIGHT(VLOOKUP(T342,Tabelle!$B$5:$C$9,2,FALSE),5)))","v":""},null,null,null,null,null,null,null,{"$f":"IF(B342=\"\",0,IF(B342=B341,COUNTIF(B$9:B341,B342)+1,1))","v":330},0,0]
["335","-1900","-1900-331",null,null,null,null,null,null,null,null,null,null,null,null,null,null,null,null,null,{"$f":"IF(J$2019=1,\"\",IF(T343=\"\",\"\",RIGHT(VLOOKUP(T343,Tabelle!$B$5:$C$9,2,FALSE),5)))","v":""},null,null,null,null,null,null,null,{"$f":"IF(B343=\"\",0,IF(B343=B342,COUNTIF(B$9:B342,B343)+1,1))","v":331},0,0]
["336","-1900","-1900-332",null,null,null,null,null,null,null,null,null,null,null,null,null,null,null,null,null,{"$f":"IF(J$2019=1,\"\",IF(T344=\"\",\"\",RIGHT(VLOOKUP(T344,Tabelle!$B$5:$C$9,2,FALSE),5)))","v":""},null,null,null,null,null,null,null,{"$f":"IF(B344=\"\",0,IF(B344=B343,COUNTIF(B$9:B343,B344)+1,1))","v":332},0,0]
["337","-1900","-1900-333",null,null,null,null,null,null,null,null,null,null,null,null,null,null,null,null,null,{"$f":"IF(J$2019=1,\"\",IF(T345=\"\",\"\",RIGHT(VLOOKUP(T345,Tabelle!$B$5:$C$9,2,FALSE),5)))","v":""},null,null,null,null,null,null,null,{"$f":"IF(B345=\"\",0,IF(B345=B344,COUNTIF(B$9:B344,B345)+1,1))","v":333},0,0]
["338","-1900","-1900-334",null,null,null,null,null,null,null,null,null,null,null,null,null,null,null,null,null,{"$f":"IF(J$2019=1,\"\",IF(T346=\"\",\"\",RIGHT(VLOOKUP(T346,Tabelle!$B$5:$C$9,2,FALSE),5)))","v":""},null,null,null,null,null,null,null,{"$f":"IF(B346=\"\",0,IF(B346=B345,COUNTIF(B$9:B345,B346)+1,1))","v":334},0,0]
["339","-1900","-1900-335",null,null,null,null,null,null,null,null,null,null,null,null,null,null,null,null,null,{"$f":"IF(J$2019=1,\"\",IF(T347=\"\",\"\",RIGHT(VLOOKUP(T347,Tabelle!$B$5:$C$9,2,FALSE),5)))","v":""},null,null,null,null,null,null,null,{"$f":"IF(B347=\"\",0,IF(B347=B346,COUNTIF(B$9:B346,B347)+1,1))","v":335},0,0]
["340","-1900","-1900-336",null,null,null,null,null,null,null,null,null,null,null,null,null,null,null,null,null,{"$f":"IF(J$2019=1,\"\",IF(T348=\"\",\"\",RIGHT(VLOOKUP(T348,Tabelle!$B$5:$C$9,2,FALSE),5)))","v":""},null,null,null,null,null,null,null,{"$f":"IF(B348=\"\",0,IF(B348=B347,COUNTIF(B$9:B347,B348)+1,1))","v":336},0,0]
["341","-1900","-1900-337",null,null,null,null,null,null,null,null,null,null,null,null,null,null,null,null,null,{"$f":"IF(J$2019=1,\"\",IF(T349=\"\",\"\",RIGHT(VLOOKUP(T349,Tabelle!$B$5:$C$9,2,FALSE),5)))","v":""},null,null,null,null,null,null,null,{"$f":"IF(B349=\"\",0,IF(B349=B348,COUNTIF(B$9:B348,B349)+1,1))","v":337},0,0]
["342","-1900","-1900-338",null,null,null,null,null,null,null,null,null,null,null,null,null,null,null,null,null,{"$f":"IF(J$2019=1,\"\",IF(T350=\"\",\"\",RIGHT(VLOOKUP(T350,Tabelle!$B$5:$C$9,2,FALSE),5)))","v":""},null,null,null,null,null,null,null,{"$f":"IF(B350=\"\",0,IF(B350=B349,COUNTIF(B$9:B349,B350)+1,1))","v":338},0,0]
["343","-1900","-1900-339",null,null,null,null,null,null,null,null,null,null,null,null,null,null,null,null,null,{"$f":"IF(J$2019=1,\"\",IF(T351=\"\",\"\",RIGHT(VLOOKUP(T351,Tabelle!$B$5:$C$9,2,FALSE),5)))","v":""},null,null,null,null,null,null,null,{"$f":"IF(B351=\"\",0,IF(B351=B350,COUNTIF(B$9:B350,B351)+1,1))","v":339},0,0]
["344","-1900","-1900-340",null,null,null,null,null,null,null,null,null,null,null,null,null,null,null,null,null,{"$f":"IF(J$2019=1,\"\",IF(T352=\"\",\"\",RIGHT(VLOOKUP(T352,Tabelle!$B$5:$C$9,2,FALSE),5)))","v":""},null,null,null,null,null,null,null,{"$f":"IF(B352=\"\",0,IF(B352=B351,COUNTIF(B$9:B351,B352)+1,1))","v":340},0,0]
["345","-1900","-1900-341",null,null,null,null,null,null,null,null,null,null,null,null,null,null,null,null,null,{"$f":"IF(J$2019=1,\"\",IF(T353=\"\",\"\",RIGHT(VLOOKUP(T353,Tabelle!$B$5:$C$9,2,FALSE),5)))","v":""},null,null,null,null,null,null,null,{"$f":"IF(B353=\"\",0,IF(B353=B352,COUNTIF(B$9:B352,B353)+1,1))","v":341},0,0]
["346","-1900","-1900-342",null,null,null,null,null,null,null,null,null,null,null,null,null,null,null,null,null,{"$f":"IF(J$2019=1,\"\",IF(T354=\"\",\"\",RIGHT(VLOOKUP(T354,Tabelle!$B$5:$C$9,2,FALSE),5)))","v":""},null,null,null,null,null,null,null,{"$f":"IF(B354=\"\",0,IF(B354=B353,COUNTIF(B$9:B353,B354)+1,1))","v":342},0,0]
["347","-1900","-1900-343",null,null,null,null,null,null,null,null,null,null,null,null,null,null,null,null,null,{"$f":"IF(J$2019=1,\"\",IF(T355=\"\",\"\",RIGHT(VLOOKUP(T355,Tabelle!$B$5:$C$9,2,FALSE),5)))","v":""},null,null,null,null,null,null,null,{"$f":"IF(B355=\"\",0,IF(B355=B354,COUNTIF(B$9:B354,B355)+1,1))","v":343},0,0]
["348","-1900","-1900-344",null,null,null,null,null,null,null,null,null,null,null,null,null,null,null,null,null,{"$f":"IF(J$2019=1,\"\",IF(T356=\"\",\"\",RIGHT(VLOOKUP(T356,Tabelle!$B$5:$C$9,2,FALSE),5)))","v":""},null,null,null,null,null,null,null,{"$f":"IF(B356=\"\",0,IF(B356=B355,COUNTIF(B$9:B355,B356)+1,1))","v":344},0,0]
["349","-1900","-1900-345",null,null,null,null,null,null,null,null,null,null,null,null,null,null,null,null,null,{"$f":"IF(J$2019=1,\"\",IF(T357=\"\",\"\",RIGHT(VLOOKUP(T357,Tabelle!$B$5:$C$9,2,FALSE),5)))","v":""},null,null,null,null,null,null,null,{"$f":"IF(B357=\"\",0,IF(B357=B356,COUNTIF(B$9:B356,B357)+1,1))","v":345},0,0]
["350","-1900","-1900-346",null,null,null,null,null,null,null,null,null,null,null,null,null,null,null,null,null,{"$f":"IF(J$2019=1,\"\",IF(T358=\"\",\"\",RIGHT(VLOOKUP(T358,Tabelle!$B$5:$C$9,2,FALSE),5)))","v":""},null,null,null,null,null,null,null,{"$f":"IF(B358=\"\",0,IF(B358=B357,COUNTIF(B$9:B357,B358)+1,1))","v":346},0,0]
["351","-1900","-1900-347",null,null,null,null,null,null,null,null,null,null,null,null,null,null,null,null,null,{"$f":"IF(J$2019=1,\"\",IF(T359=\"\",\"\",RIGHT(VLOOKUP(T359,Tabelle!$B$5:$C$9,2,FALSE),5)))","v":""},null,null,null,null,null,null,null,{"$f":"IF(B359=\"\",0,IF(B359=B358,COUNTIF(B$9:B358,B359)+1,1))","v":347},0,0]
["352","-1900","-1900-348",null,null,null,null,null,null,null,null,null,null,null,null,null,null,null,null,null,{"$f":"IF(J$2019=1,\"\",IF(T360=\"\",\"\",RIGHT(VLOOKUP(T360,Tabelle!$B$5:$C$9,2,FALSE),5)))","v":""},null,null,null,null,null,null,null,{"$f":"IF(B360=\"\",0,IF(B360=B359,COUNTIF(B$9:B359,B360)+1,1))","v":348},0,0]
["353","-1900","-1900-349",null,null,null,null,null,null,null,null,null,null,null,null,null,null,null,null,null,{"$f":"IF(J$2019=1,\"\",IF(T361=\"\",\"\",RIGHT(VLOOKUP(T361,Tabelle!$B$5:$C$9,2,FALSE),5)))","v":""},null,null,null,null,null,null,null,{"$f":"IF(B361=\"\",0,IF(B361=B360,COUNTIF(B$9:B360,B361)+1,1))","v":349},0,0]
["354","-1900","-1900-350",null,null,null,null,null,null,null,null,null,null,null,null,null,null,null,null,null,{"$f":"IF(J$2019=1,\"\",IF(T362=\"\",\"\",RIGHT(VLOOKUP(T362,Tabelle!$B$5:$C$9,2,FALSE),5)))","v":""},null,null,null,null,null,null,null,{"$f":"IF(B362=\"\",0,IF(B362=B361,COUNTIF(B$9:B361,B362)+1,1))","v":350},0,0]
["355","-1900","-1900-351",null,null,null,null,null,null,null,null,null,null,null,null,null,null,null,null,null,{"$f":"IF(J$2019=1,\"\",IF(T363=\"\",\"\",RIGHT(VLOOKUP(T363,Tabelle!$B$5:$C$9,2,FALSE),5)))","v":""},null,null,null,null,null,null,null,{"$f":"IF(B363=\"\",0,IF(B363=B362,COUNTIF(B$9:B362,B363)+1,1))","v":351},0,0]
["356","-1900","-1900-352",null,null,null,null,null,null,null,null,null,null,null,null,null,null,null,null,null,{"$f":"IF(J$2019=1,\"\",IF(T364=\"\",\"\",RIGHT(VLOOKUP(T364,Tabelle!$B$5:$C$9,2,FALSE),5)))","v":""},null,null,null,null,null,null,null,{"$f":"IF(B364=\"\",0,IF(B364=B363,COUNTIF(B$9:B363,B364)+1,1))","v":352},0,0]
["357","-1900","-1900-353",null,null,null,null,null,null,null,null,null,null,null,null,null,null,null,null,null,{"$f":"IF(J$2019=1,\"\",IF(T365=\"\",\"\",RIGHT(VLOOKUP(T365,Tabelle!$B$5:$C$9,2,FALSE),5)))","v":""},null,null,null,null,null,null,null,{"$f":"IF(B365=\"\",0,IF(B365=B364,COUNTIF(B$9:B364,B365)+1,1))","v":353},0,0]
["358","-1900","-1900-354",null,null,null,null,null,null,null,null,null,null,null,null,null,null,null,null,null,{"$f":"IF(J$2019=1,\"\",IF(T366=\"\",\"\",RIGHT(VLOOKUP(T366,Tabelle!$B$5:$C$9,2,FALSE),5)))","v":""},null,null,null,null,null,null,null,{"$f":"IF(B366=\"\",0,IF(B366=B365,COUNTIF(B$9:B365,B366)+1,1))","v":354},0,0]
["359","-1900","-1900-355",null,null,null,null,null,null,null,null,null,null,null,null,null,null,null,null,null,{"$f":"IF(J$2019=1,\"\",IF(T367=\"\",\"\",RIGHT(VLOOKUP(T367,Tabelle!$B$5:$C$9,2,FALSE),5)))","v":""},null,null,null,null,null,null,null,{"$f":"IF(B367=\"\",0,IF(B367=B366,COUNTIF(B$9:B366,B367)+1,1))","v":355},0,0]
["360","-1900","-1900-356",null,null,null,null,null,null,null,null,null,null,null,null,null,null,null,null,null,{"$f":"IF(J$2019=1,\"\",IF(T368=\"\",\"\",RIGHT(VLOOKUP(T368,Tabelle!$B$5:$C$9,2,FALSE),5)))","v":""},null,null,null,null,null,null,null,{"$f":"IF(B368=\"\",0,IF(B368=B367,COUNTIF(B$9:B367,B368)+1,1))","v":356},0,0]
["361","-1900","-1900-357",null,null,null,null,null,null,null,null,null,null,null,null,null,null,null,null,null,{"$f":"IF(J$2019=1,\"\",IF(T369=\"\",\"\",RIGHT(VLOOKUP(T369,Tabelle!$B$5:$C$9,2,FALSE),5)))","v":""},null,null,null,null,null,null,null,{"$f":"IF(B369=\"\",0,IF(B369=B368,COUNTIF(B$9:B368,B369)+1,1))","v":357},0,0]
["362","-1900","-1900-358",null,null,null,null,null,null,null,null,null,null,null,null,null,null,null,null,null,{"$f":"IF(J$2019=1,\"\",IF(T370=\"\",\"\",RIGHT(VLOOKUP(T370,Tabelle!$B$5:$C$9,2,FALSE),5)))","v":""},null,null,null,null,null,null,null,{"$f":"IF(B370=\"\",0,IF(B370=B369,COUNTIF(B$9:B369,B370)+1,1))","v":358},0,0]
["363","-1900","-1900-359",null,null,null,null,null,null,null,null,null,null,null,null,null,null,null,null,null,{"$f":"IF(J$2019=1,\"\",IF(T371=\"\",\"\",RIGHT(VLOOKUP(T371,Tabelle!$B$5:$C$9,2,FALSE),5)))","v":""},null,null,null,null,null,null,null,{"$f":"IF(B371=\"\",0,IF(B371=B370,COUNTIF(B$9:B370,B371)+1,1))","v":359},0,0]
["364","-1900","-1900-360",null,null,null,null,null,null,null,null,null,null,null,null,null,null,null,null,null,{"$f":"IF(J$2019=1,\"\",IF(T372=\"\",\"\",RIGHT(VLOOKUP(T372,Tabelle!$B$5:$C$9,2,FALSE),5)))","v":""},null,null,null,null,null,null,null,{"$f":"IF(B372=\"\",0,IF(B372=B371,COUNTIF(B$9:B371,B372)+1,1))","v":360},0,0]
["365","-1900","-1900-361",null,null,null,null,null,null,null,null,null,null,null,null,null,null,null,null,null,{"$f":"IF(J$2019=1,\"\",IF(T373=\"\",\"\",RIGHT(VLOOKUP(T373,Tabelle!$B$5:$C$9,2,FALSE),5)))","v":""},null,null,null,null,null,null,null,{"$f":"IF(B373=\"\",0,IF(B373=B372,COUNTIF(B$9:B372,B373)+1,1))","v":361},0,0]
["366","-1900","-1900-362",null,null,null,null,null,null,null,null,null,null,null,null,null,null,null,null,null,{"$f":"IF(J$2019=1,\"\",IF(T374=\"\",\"\",RIGHT(VLOOKUP(T374,Tabelle!$B$5:$C$9,2,FALSE),5)))","v":""},null,null,null,null,null,null,null,{"$f":"IF(B374=\"\",0,IF(B374=B373,COUNTIF(B$9:B373,B374)+1,1))","v":362},0,0]
["367","-1900","-1900-363",null,null,null,null,null,null,null,null,null,null,null,null,null,null,null,null,null,{"$f":"IF(J$2019=1,\"\",IF(T375=\"\",\"\",RIGHT(VLOOKUP(T375,Tabelle!$B$5:$C$9,2,FALSE),5)))","v":""},null,null,null,null,null,null,null,{"$f":"IF(B375=\"\",0,IF(B375=B374,COUNTIF(B$9:B374,B375)+1,1))","v":363},0,0]
["368","-1900","-1900-364",null,null,null,null,null,null,null,null,null,null,null,null,null,null,null,null,null,{"$f":"IF(J$2019=1,\"\",IF(T376=\"\",\"\",RIGHT(VLOOKUP(T376,Tabelle!$B$5:$C$9,2,FALSE),5)))","v":""},null,null,null,null,null,null,null,{"$f":"IF(B376=\"\",0,IF(B376=B375,COUNTIF(B$9:B375,B376)+1,1))","v":364},0,0]
["369","-1900","-1900-365",null,null,null,null,null,null,null,null,null,null,null,null,null,null,null,null,null,{"$f":"IF(J$2019=1,\"\",IF(T377=\"\",\"\",RIGHT(VLOOKUP(T377,Tabelle!$B$5:$C$9,2,FALSE),5)))","v":""},null,null,null,null,null,null,null,{"$f":"IF(B377=\"\",0,IF(B377=B376,COUNTIF(B$9:B376,B377)+1,1))","v":365},0,0]
["370","-1900","-1900-366",null,null,null,null,null,null,null,null,null,null,null,null,null,null,null,null,null,{"$f":"IF(J$2019=1,\"\",IF(T378=\"\",\"\",RIGHT(VLOOKUP(T378,Tabelle!$B$5:$C$9,2,FALSE),5)))","v":""},null,null,null,null,null,null,null,{"$f":"IF(B378=\"\",0,IF(B378=B377,COUNTIF(B$9:B377,B378)+1,1))","v":366},0,0]
["371","-1900","-1900-367",null,null,null,null,null,null,null,null,null,null,null,null,null,null,null,null,null,{"$f":"IF(J$2019=1,\"\",IF(T379=\"\",\"\",RIGHT(VLOOKUP(T379,Tabelle!$B$5:$C$9,2,FALSE),5)))","v":""},null,null,null,null,null,null,null,{"$f":"IF(B379=\"\",0,IF(B379=B378,COUNTIF(B$9:B378,B379)+1,1))","v":367},0,0]
["372","-1900","-1900-368",null,null,null,null,null,null,null,null,null,null,null,null,null,null,null,null,null,{"$f":"IF(J$2019=1,\"\",IF(T380=\"\",\"\",RIGHT(VLOOKUP(T380,Tabelle!$B$5:$C$9,2,FALSE),5)))","v":""},null,null,null,null,null,null,null,{"$f":"IF(B380=\"\",0,IF(B380=B379,COUNTIF(B$9:B379,B380)+1,1))","v":368},0,0]
["373","-1900","-1900-369",null,null,null,null,null,null,null,null,null,null,null,null,null,null,null,null,null,{"$f":"IF(J$2019=1,\"\",IF(T381=\"\",\"\",RIGHT(VLOOKUP(T381,Tabelle!$B$5:$C$9,2,FALSE),5)))","v":""},null,null,null,null,null,null,null,{"$f":"IF(B381=\"\",0,IF(B381=B380,COUNTIF(B$9:B380,B381)+1,1))","v":369},0,0]
["374","-1900","-1900-370",null,null,null,null,null,null,null,null,null,null,null,null,null,null,null,null,null,{"$f":"IF(J$2019=1,\"\",IF(T382=\"\",\"\",RIGHT(VLOOKUP(T382,Tabelle!$B$5:$C$9,2,FALSE),5)))","v":""},null,null,null,null,null,null,null,{"$f":"IF(B382=\"\",0,IF(B382=B381,COUNTIF(B$9:B381,B382)+1,1))","v":370},0,0]
["375","-1900","-1900-371",null,null,null,null,null,null,null,null,null,null,null,null,null,null,null,null,null,{"$f":"IF(J$2019=1,\"\",IF(T383=\"\",\"\",RIGHT(VLOOKUP(T383,Tabelle!$B$5:$C$9,2,FALSE),5)))","v":""},null,null,null,null,null,null,null,{"$f":"IF(B383=\"\",0,IF(B383=B382,COUNTIF(B$9:B382,B383)+1,1))","v":371},0,0]
["376","-1900","-1900-372",null,null,null,null,null,null,null,null,null,null,null,null,null,null,null,null,null,{"$f":"IF(J$2019=1,\"\",IF(T384=\"\",\"\",RIGHT(VLOOKUP(T384,Tabelle!$B$5:$C$9,2,FALSE),5)))","v":""},null,null,null,null,null,null,null,{"$f":"IF(B384=\"\",0,IF(B384=B383,COUNTIF(B$9:B383,B384)+1,1))","v":372},0,0]
["377","-1900","-1900-373",null,null,null,null,null,null,null,null,null,null,null,null,null,null,null,null,null,{"$f":"IF(J$2019=1,\"\",IF(T385=\"\",\"\",RIGHT(VLOOKUP(T385,Tabelle!$B$5:$C$9,2,FALSE),5)))","v":""},null,null,null,null,null,null,null,{"$f":"IF(B385=\"\",0,IF(B385=B384,COUNTIF(B$9:B384,B385)+1,1))","v":373},0,0]
["378","-1900","-1900-374",null,null,null,null,null,null,null,null,null,null,null,null,null,null,null,null,null,{"$f":"IF(J$2019=1,\"\",IF(T386=\"\",\"\",RIGHT(VLOOKUP(T386,Tabelle!$B$5:$C$9,2,FALSE),5)))","v":""},null,null,null,null,null,null,null,{"$f":"IF(B386=\"\",0,IF(B386=B385,COUNTIF(B$9:B385,B386)+1,1))","v":374},0,0]
["379","-1900","-1900-375",null,null,null,null,null,null,null,null,null,null,null,null,null,null,null,null,null,{"$f":"IF(J$2019=1,\"\",IF(T387=\"\",\"\",RIGHT(VLOOKUP(T387,Tabelle!$B$5:$C$9,2,FALSE),5)))","v":""},null,null,null,null,null,null,null,{"$f":"IF(B387=\"\",0,IF(B387=B386,COUNTIF(B$9:B386,B387)+1,1))","v":375},0,0]
["380","-1900","-1900-376",null,null,null,null,null,null,null,null,null,null,null,null,null,null,null,null,null,{"$f":"IF(J$2019=1,\"\",IF(T388=\"\",\"\",RIGHT(VLOOKUP(T388,Tabelle!$B$5:$C$9,2,FALSE),5)))","v":""},null,null,null,null,null,null,null,{"$f":"IF(B388=\"\",0,IF(B388=B387,COUNTIF(B$9:B387,B388)+1,1))","v":376},0,0]
["381","-1900","-1900-377",null,null,null,null,null,null,null,null,null,null,null,null,null,null,null,null,null,{"$f":"IF(J$2019=1,\"\",IF(T389=\"\",\"\",RIGHT(VLOOKUP(T389,Tabelle!$B$5:$C$9,2,FALSE),5)))","v":""},null,null,null,null,null,null,null,{"$f":"IF(B389=\"\",0,IF(B389=B388,COUNTIF(B$9:B388,B389)+1,1))","v":377},0,0]
["382","-1900","-1900-378",null,null,null,null,null,null,null,null,null,null,null,null,null,null,null,null,null,{"$f":"IF(J$2019=1,\"\",IF(T390=\"\",\"\",RIGHT(VLOOKUP(T390,Tabelle!$B$5:$C$9,2,FALSE),5)))","v":""},null,null,null,null,null,null,null,{"$f":"IF(B390=\"\",0,IF(B390=B389,COUNTIF(B$9:B389,B390)+1,1))","v":378},0,0]
["383","-1900","-1900-379",null,null,null,null,null,null,null,null,null,null,null,null,null,null,null,null,null,{"$f":"IF(J$2019=1,\"\",IF(T391=\"\",\"\",RIGHT(VLOOKUP(T391,Tabelle!$B$5:$C$9,2,FALSE),5)))","v":""},null,null,null,null,null,null,null,{"$f":"IF(B391=\"\",0,IF(B391=B390,COUNTIF(B$9:B390,B391)+1,1))","v":379},0,0]
["384","-1900","-1900-380",null,null,null,null,null,null,null,null,null,null,null,null,null,null,null,null,null,{"$f":"IF(J$2019=1,\"\",IF(T392=\"\",\"\",RIGHT(VLOOKUP(T392,Tabelle!$B$5:$C$9,2,FALSE),5)))","v":""},null,null,null,null,null,null,null,{"$f":"IF(B392=\"\",0,IF(B392=B391,COUNTIF(B$9:B391,B392)+1,1))","v":380},0,0]
["385","-1900",{"$f":"IF(J$2019=1,0,B393&\"-\"&AC393)","v":"-1900-381"},null,null,null,null,null,null,null,null,null,null,null,null,null,null,null,null,null,{"$f":"IF(J$2019=1,\"\",IF(T393=\"\",\"\",RIGHT(VLOOKUP(T393,Tabelle!$B$5:$C$9,2,FALSE),5)))","v":""},null,null,null,null,null,null,null,{"$f":"IF(B393=\"\",0,IF(B393=B392,COUNTIF(B$9:B392,B393)+1,1))","v":381},0,0]
["386",{"$f":"IF(AE394=$AE$2013,0,IF(J$2019=1,0,D394&\"-\"&YEAR(E394)))","v":"-1900"},"-1900-382",null,null,null,null,null,null,null,null,null,null,null,null,null,null,null,null,null,{"$f":"IF(J$2019=1,\"\",IF(T394=\"\",\"\",RIGHT(VLOOKUP(T394,Tabelle!$B$5:$C$9,2,FALSE),5)))","v":""},null,null,null,null,null,null,null,{"$f":"IF(B394=\"\",0,IF(B394=B393,COUNTIF(B$9:B393,B394)+1,1))","v":382},{"$f":"IF(OR(D394=\"\",J$2019=1),0,IF(AC394=28,1,0))","v":0},{"$f":"IF(E394>0,IF(OR(MONTH(E394)<$J$2025,MONTH(E394)>$J$2026),AE$2013,0),0)","v":0}]
["387","-1900","-1900-383",null,null,null,null,null,null,null,null,null,null,null,null,null,null,null,null,null,{"$f":"IF(J$2019=1,\"\",IF(T395=\"\",\"\",RIGHT(VLOOKUP(T395,Tabelle!$B$5:$C$9,2,FALSE),5)))","v":""},null,null,null,null,null,null,null,{"$f":"IF(B395=\"\",0,IF(B395=B394,COUNTIF(B$9:B394,B395)+1,1))","v":383},0,0]
["388","-1900","-1900-384",null,null,null,null,null,null,null,null,null,null,null,null,null,null,null,null,null,{"$f":"IF(J$2019=1,\"\",IF(T396=\"\",\"\",RIGHT(VLOOKUP(T396,Tabelle!$B$5:$C$9,2,FALSE),5)))","v":""},null,null,null,null,null,null,null,{"$f":"IF(B396=\"\",0,IF(B396=B395,COUNTIF(B$9:B395,B396)+1,1))","v":384},0,0]
["389","-1900","-1900-385",null,null,null,null,null,null,null,null,null,null,null,null,null,null,null,null,null,{"$f":"IF(J$2019=1,\"\",IF(T397=\"\",\"\",RIGHT(VLOOKUP(T397,Tabelle!$B$5:$C$9,2,FALSE),5)))","v":""},null,null,null,null,null,null,null,{"$f":"IF(B397=\"\",0,IF(B397=B396,COUNTIF(B$9:B396,B397)+1,1))","v":385},0,0]
["390","-1900","-1900-386",null,null,null,null,null,null,null,null,null,null,null,null,null,null,null,null,null,{"$f":"IF(J$2019=1,\"\",IF(T398=\"\",\"\",RIGHT(VLOOKUP(T398,Tabelle!$B$5:$C$9,2,FALSE),5)))","v":""},null,null,null,null,null,null,null,{"$f":"IF(B398=\"\",0,IF(B398=B397,COUNTIF(B$9:B397,B398)+1,1))","v":386},0,0]
["391","-1900","-1900-387",null,null,null,null,null,null,null,null,null,null,null,null,null,null,null,null,null,{"$f":"IF(J$2019=1,\"\",IF(T399=\"\",\"\",RIGHT(VLOOKUP(T399,Tabelle!$B$5:$C$9,2,FALSE),5)))","v":""},null,null,null,null,null,null,null,{"$f":"IF(B399=\"\",0,IF(B399=B398,COUNTIF(B$9:B398,B399)+1,1))","v":387},0,0]
["392","-1900","-1900-388",null,null,null,null,null,null,null,null,null,null,null,null,null,null,null,null,null,{"$f":"IF(J$2019=1,\"\",IF(T400=\"\",\"\",RIGHT(VLOOKUP(T400,Tabelle!$B$5:$C$9,2,FALSE),5)))","v":""},null,null,null,null,null,null,null,{"$f":"IF(B400=\"\",0,IF(B400=B399,COUNTIF(B$9:B399,B400)+1,1))","v":388},0,0]
["393","-1900","-1900-389",null,null,null,null,null,null,null,null,null,null,null,null,null,null,null,null,null,{"$f":"IF(J$2019=1,\"\",IF(T401=\"\",\"\",RIGHT(VLOOKUP(T401,Tabelle!$B$5:$C$9,2,FALSE),5)))","v":""},null,null,null,null,null,null,null,{"$f":"IF(B401=\"\",0,IF(B401=B400,COUNTIF(B$9:B400,B401)+1,1))","v":389},0,0]
["394","-1900","-1900-390",null,null,null,null,null,null,null,null,null,null,null,null,null,null,null,null,null,{"$f":"IF(J$2019=1,\"\",IF(T402=\"\",\"\",RIGHT(VLOOKUP(T402,Tabelle!$B$5:$C$9,2,FALSE),5)))","v":""},null,null,null,null,null,null,null,{"$f":"IF(B402=\"\",0,IF(B402=B401,COUNTIF(B$9:B401,B402)+1,1))","v":390},0,0]
["395","-1900","-1900-391",null,null,null,null,null,null,null,null,null,null,null,null,null,null,null,null,null,{"$f":"IF(J$2019=1,\"\",IF(T403=\"\",\"\",RIGHT(VLOOKUP(T403,Tabelle!$B$5:$C$9,2,FALSE),5)))","v":""},null,null,null,null,null,null,null,{"$f":"IF(B403=\"\",0,IF(B403=B402,COUNTIF(B$9:B402,B403)+1,1))","v":391},0,0]
["396","-1900","-1900-392",null,null,null,null,null,null,null,null,null,null,null,null,null,null,null,null,null,{"$f":"IF(J$2019=1,\"\",IF(T404=\"\",\"\",RIGHT(VLOOKUP(T404,Tabelle!$B$5:$C$9,2,FALSE),5)))","v":""},null,null,null,null,null,null,null,{"$f":"IF(B404=\"\",0,IF(B404=B403,COUNTIF(B$9:B403,B404)+1,1))","v":392},0,0]
["397","-1900","-1900-393",null,null,null,null,null,null,null,null,null,null,null,null,null,null,null,null,null,{"$f":"IF(J$2019=1,\"\",IF(T405=\"\",\"\",RIGHT(VLOOKUP(T405,Tabelle!$B$5:$C$9,2,FALSE),5)))","v":""},null,null,null,null,null,null,null,{"$f":"IF(B405=\"\",0,IF(B405=B404,COUNTIF(B$9:B404,B405)+1,1))","v":393},{"$f":"IF(OR(D405=\"\",J$2019=1),0,IF(AC405=28,1,0))","v":0},0]
["398","-1900","-1900-394",null,null,null,null,null,null,null,null,null,null,null,null,null,null,null,null,null,{"$f":"IF(J$2019=1,\"\",IF(T406=\"\",\"\",RIGHT(VLOOKUP(T406,Tabelle!$B$5:$C$9,2,FALSE),5)))","v":""},null,null,null,null,null,null,null,{"$f":"IF(B406=\"\",0,IF(B406=B405,COUNTIF(B$9:B405,B406)+1,1))","v":394},0,0]
["399","-1900",{"$f":"IF(J$2019=1,0,B407&\"-\"&AC407)","v":"-1900-395"},null,null,null,null,null,null,null,null,null,null,null,null,null,null,null,null,null,{"$f":"IF(J$2019=1,\"\",IF(T407=\"\",\"\",RIGHT(VLOOKUP(T407,Tabelle!$B$5:$C$9,2,FALSE),5)))","v":""},null,null,null,null,null,null,null,{"$f":"IF(B407=\"\",0,IF(B407=B406,COUNTIF(B$9:B406,B407)+1,1))","v":395},0,0]
["400","-1900","-1900-396",null,null,null,null,null,null,null,null,null,null,null,null,null,null,null,null,null,{"$f":"IF(J$2019=1,\"\",IF(T408=\"\",\"\",RIGHT(VLOOKUP(T408,Tabelle!$B$5:$C$9,2,FALSE),5)))","v":""},null,null,null,null,null,null,null,{"$f":"IF(B408=\"\",0,IF(B408=B407,COUNTIF(B$9:B407,B408)+1,1))","v":396},0,0]
["401","-1900","-1900-397",null,null,null,null,null,null,null,null,null,null,null,null,null,null,null,null,null,{"$f":"IF(J$2019=1,\"\",IF(T409=\"\",\"\",RIGHT(VLOOKUP(T409,Tabelle!$B$5:$C$9,2,FALSE),5)))","v":""},null,null,null,null,null,null,null,{"$f":"IF(B409=\"\",0,IF(B409=B408,COUNTIF(B$9:B408,B409)+1,1))","v":397},0,0]
["402","-1900","-1900-398",null,null,null,null,null,null,null,null,null,null,null,null,null,null,null,null,null,{"$f":"IF(J$2019=1,\"\",IF(T410=\"\",\"\",RIGHT(VLOOKUP(T410,Tabelle!$B$5:$C$9,2,FALSE),5)))","v":""},null,null,null,null,null,null,null,{"$f":"IF(B410=\"\",0,IF(B410=B409,COUNTIF(B$9:B409,B410)+1,1))","v":398},0,0]
["403","-1900","-1900-399",null,null,null,null,null,null,null,null,null,null,null,null,null,null,null,null,null,{"$f":"IF(J$2019=1,\"\",IF(T411=\"\",\"\",RIGHT(VLOOKUP(T411,Tabelle!$B$5:$C$9,2,FALSE),5)))","v":""},null,null,null,null,null,null,null,{"$f":"IF(B411=\"\",0,IF(B411=B410,COUNTIF(B$9:B410,B411)+1,1))","v":399},0,0]
["404","-1900","-1900-400",null,null,null,null,null,null,null,null,null,null,null,null,null,null,null,null,null,{"$f":"IF(J$2019=1,\"\",IF(T412=\"\",\"\",RIGHT(VLOOKUP(T412,Tabelle!$B$5:$C$9,2,FALSE),5)))","v":""},null,null,null,null,null,null,null,{"$f":"IF(B412=\"\",0,IF(B412=B411,COUNTIF(B$9:B411,B412)+1,1))","v":400},0,0]
["405","-1900","-1900-401",null,null,null,null,null,null,null,null,null,null,null,null,null,null,null,null,null,{"$f":"IF(J$2019=1,\"\",IF(T413=\"\",\"\",RIGHT(VLOOKUP(T413,Tabelle!$B$5:$C$9,2,FALSE),5)))","v":""},null,null,null,null,null,null,null,{"$f":"IF(B413=\"\",0,IF(B413=B412,COUNTIF(B$9:B412,B413)+1,1))","v":401},0,0]
["406","-1900","-1900-402",null,null,null,null,null,null,null,null,null,null,null,null,null,null,null,null,null,{"$f":"IF(J$2019=1,\"\",IF(T414=\"\",\"\",RIGHT(VLOOKUP(T414,Tabelle!$B$5:$C$9,2,FALSE),5)))","v":""},null,null,null,null,null,null,null,{"$f":"IF(B414=\"\",0,IF(B414=B413,COUNTIF(B$9:B413,B414)+1,1))","v":402},0,0]
["407","-1900","-1900-403",null,null,null,null,null,null,null,null,null,null,null,null,null,null,null,null,null,{"$f":"IF(J$2019=1,\"\",IF(T415=\"\",\"\",RIGHT(VLOOKUP(T415,Tabelle!$B$5:$C$9,2,FALSE),5)))","v":""},null,null,null,null,null,null,null,{"$f":"IF(B415=\"\",0,IF(B415=B414,COUNTIF(B$9:B414,B415)+1,1))","v":403},0,0]
["408","-1900","-1900-404",null,null,null,null,null,null,null,null,null,null,null,null,null,null,null,null,null,{"$f":"IF(J$2019=1,\"\",IF(T416=\"\",\"\",RIGHT(VLOOKUP(T416,Tabelle!$B$5:$C$9,2,FALSE),5)))","v":""},null,null,null,null,null,null,null,{"$f":"IF(B416=\"\",0,IF(B416=B415,COUNTIF(B$9:B415,B416)+1,1))","v":404},0,0]
["409","-1900","-1900-405",null,null,null,null,null,null,null,null,null,null,null,null,null,null,null,null,null,{"$f":"IF(J$2019=1,\"\",IF(T417=\"\",\"\",RIGHT(VLOOKUP(T417,Tabelle!$B$5:$C$9,2,FALSE),5)))","v":""},null,null,null,null,null,null,null,{"$f":"IF(B417=\"\",0,IF(B417=B416,COUNTIF(B$9:B416,B417)+1,1))","v":405},0,0]
["410","-1900","-1900-406",null,null,null,null,null,null,null,null,null,null,null,null,null,null,null,null,null,{"$f":"IF(J$2019=1,\"\",IF(T418=\"\",\"\",RIGHT(VLOOKUP(T418,Tabelle!$B$5:$C$9,2,FALSE),5)))","v":""},null,null,null,null,null,null,null,{"$f":"IF(B418=\"\",0,IF(B418=B417,COUNTIF(B$9:B417,B418)+1,1))","v":406},0,0]
["411","-1900","-1900-407",null,null,null,null,null,null,null,null,null,null,null,null,null,null,null,null,null,{"$f":"IF(J$2019=1,\"\",IF(T419=\"\",\"\",RIGHT(VLOOKUP(T419,Tabelle!$B$5:$C$9,2,FALSE),5)))","v":""},null,null,null,null,null,null,null,{"$f":"IF(B419=\"\",0,IF(B419=B418,COUNTIF(B$9:B418,B419)+1,1))","v":407},0,0]
["412","-1900","-1900-408",null,null,null,null,null,null,null,null,null,null,null,null,null,null,null,null,null,{"$f":"IF(J$2019=1,\"\",IF(T420=\"\",\"\",RIGHT(VLOOKUP(T420,Tabelle!$B$5:$C$9,2,FALSE),5)))","v":""},null,null,null,null,null,null,null,{"$f":"IF(B420=\"\",0,IF(B420=B419,COUNTIF(B$9:B419,B420)+1,1))","v":408},0,0]
["413","-1900","-1900-409",null,null,null,null,null,null,null,null,null,null,null,null,null,null,null,null,null,{"$f":"IF(J$2019=1,\"\",IF(T421=\"\",\"\",RIGHT(VLOOKUP(T421,Tabelle!$B$5:$C$9,2,FALSE),5)))","v":""},null,null,null,null,null,null,null,{"$f":"IF(B421=\"\",0,IF(B421=B420,COUNTIF(B$9:B420,B421)+1,1))","v":409},0,0]
["414","-1900","-1900-410",null,null,null,null,null,null,null,null,null,null,null,null,null,null,null,null,null,{"$f":"IF(J$2019=1,\"\",IF(T422=\"\",\"\",RIGHT(VLOOKUP(T422,Tabelle!$B$5:$C$9,2,FALSE),5)))","v":""},null,null,null,null,null,null,null,{"$f":"IF(B422=\"\",0,IF(B422=B421,COUNTIF(B$9:B421,B422)+1,1))","v":410},0,0]
["415","-1900","-1900-411",null,null,null,null,null,null,null,null,null,null,null,null,null,null,null,null,null,{"$f":"IF(J$2019=1,\"\",IF(T423=\"\",\"\",RIGHT(VLOOKUP(T423,Tabelle!$B$5:$C$9,2,FALSE),5)))","v":""},null,null,null,null,null,null,null,{"$f":"IF(B423=\"\",0,IF(B423=B422,COUNTIF(B$9:B422,B423)+1,1))","v":411},0,0]
["416","-1900","-1900-412",null,null,null,null,null,null,null,null,null,null,null,null,null,null,null,null,null,{"$f":"IF(J$2019=1,\"\",IF(T424=\"\",\"\",RIGHT(VLOOKUP(T424,Tabelle!$B$5:$C$9,2,FALSE),5)))","v":""},null,null,null,null,null,null,null,{"$f":"IF(B424=\"\",0,IF(B424=B423,COUNTIF(B$9:B423,B424)+1,1))","v":412},0,0]
["417","-1900","-1900-413",null,null,null,null,null,null,null,null,null,null,null,null,null,null,null,null,null,{"$f":"IF(J$2019=1,\"\",IF(T425=\"\",\"\",RIGHT(VLOOKUP(T425,Tabelle!$B$5:$C$9,2,FALSE),5)))","v":""},null,null,null,null,null,null,null,{"$f":"IF(B425=\"\",0,IF(B425=B424,COUNTIF(B$9:B424,B425)+1,1))","v":413},0,0]
["418","-1900","-1900-414",null,null,null,null,null,null,null,null,null,null,null,null,null,null,null,null,null,{"$f":"IF(J$2019=1,\"\",IF(T426=\"\",\"\",RIGHT(VLOOKUP(T426,Tabelle!$B$5:$C$9,2,FALSE),5)))","v":""},null,null,null,null,null,null,null,{"$f":"IF(B426=\"\",0,IF(B426=B425,COUNTIF(B$9:B425,B426)+1,1))","v":414},0,0]
["419","-1900","-1900-415",null,null,null,null,null,null,null,null,null,null,null,null,null,null,null,null,null,{"$f":"IF(J$2019=1,\"\",IF(T427=\"\",\"\",RIGHT(VLOOKUP(T427,Tabelle!$B$5:$C$9,2,FALSE),5)))","v":""},null,null,null,null,null,null,null,{"$f":"IF(B427=\"\",0,IF(B427=B426,COUNTIF(B$9:B426,B427)+1,1))","v":415},0,0]
["420","-1900","-1900-416",null,null,null,null,null,null,null,null,null,null,null,null,null,null,null,null,null,{"$f":"IF(J$2019=1,\"\",IF(T428=\"\",\"\",RIGHT(VLOOKUP(T428,Tabelle!$B$5:$C$9,2,FALSE),5)))","v":""},null,null,null,null,null,null,null,{"$f":"IF(B428=\"\",0,IF(B428=B427,COUNTIF(B$9:B427,B428)+1,1))","v":416},0,0]
["421","-1900","-1900-417",null,null,null,null,null,null,null,null,null,null,null,null,null,null,null,null,null,{"$f":"IF(J$2019=1,\"\",IF(T429=\"\",\"\",RIGHT(VLOOKUP(T429,Tabelle!$B$5:$C$9,2,FALSE),5)))","v":""},null,null,null,null,null,null,null,{"$f":"IF(B429=\"\",0,IF(B429=B428,COUNTIF(B$9:B428,B429)+1,1))","v":417},0,0]
["422","-1900","-1900-418",null,null,null,null,null,null,null,null,null,null,null,null,null,null,null,null,null,{"$f":"IF(J$2019=1,\"\",IF(T430=\"\",\"\",RIGHT(VLOOKUP(T430,Tabelle!$B$5:$C$9,2,FALSE),5)))","v":""},null,null,null,null,null,null,null,{"$f":"IF(B430=\"\",0,IF(B430=B429,COUNTIF(B$9:B429,B430)+1,1))","v":418},0,0]
["423","-1900","-1900-419",null,null,null,null,null,null,null,null,null,null,null,null,null,null,null,null,null,{"$f":"IF(J$2019=1,\"\",IF(T431=\"\",\"\",RIGHT(VLOOKUP(T431,Tabelle!$B$5:$C$9,2,FALSE),5)))","v":""},null,null,null,null,null,null,null,{"$f":"IF(B431=\"\",0,IF(B431=B430,COUNTIF(B$9:B430,B431)+1,1))","v":419},0,0]
["424","-1900","-1900-420",null,null,null,null,null,null,null,null,null,null,null,null,null,null,null,null,null,{"$f":"IF(J$2019=1,\"\",IF(T432=\"\",\"\",RIGHT(VLOOKUP(T432,Tabelle!$B$5:$C$9,2,FALSE),5)))","v":""},null,null,null,null,null,null,null,{"$f":"IF(B432=\"\",0,IF(B432=B431,COUNTIF(B$9:B431,B432)+1,1))","v":420},0,0]
["425","-1900","-1900-421",null,null,null,null,null,null,null,null,null,null,null,null,null,null,null,null,null,{"$f":"IF(J$2019=1,\"\",IF(T433=\"\",\"\",RIGHT(VLOOKUP(T433,Tabelle!$B$5:$C$9,2,FALSE),5)))","v":""},null,null,null,null,null,null,null,{"$f":"IF(B433=\"\",0,IF(B433=B432,COUNTIF(B$9:B432,B433)+1,1))","v":421},0,0]
["426","-1900","-1900-422",null,null,null,null,null,null,null,null,null,null,null,null,null,null,null,null,null,{"$f":"IF(J$2019=1,\"\",IF(T434=\"\",\"\",RIGHT(VLOOKUP(T434,Tabelle!$B$5:$C$9,2,FALSE),5)))","v":""},null,null,null,null,null,null,null,{"$f":"IF(B434=\"\",0,IF(B434=B433,COUNTIF(B$9:B433,B434)+1,1))","v":422},0,0]
["427","-1900","-1900-423",null,null,null,null,null,null,null,null,null,null,null,null,null,null,null,null,null,{"$f":"IF(J$2019=1,\"\",IF(T435=\"\",\"\",RIGHT(VLOOKUP(T435,Tabelle!$B$5:$C$9,2,FALSE),5)))","v":""},null,null,null,null,null,null,null,{"$f":"IF(B435=\"\",0,IF(B435=B434,COUNTIF(B$9:B434,B435)+1,1))","v":423},0,0]
["428","-1900","-1900-424",null,null,null,null,null,null,null,null,null,null,null,null,null,null,null,null,null,{"$f":"IF(J$2019=1,\"\",IF(T436=\"\",\"\",RIGHT(VLOOKUP(T436,Tabelle!$B$5:$C$9,2,FALSE),5)))","v":""},null,null,null,null,null,null,null,{"$f":"IF(B436=\"\",0,IF(B436=B435,COUNTIF(B$9:B435,B436)+1,1))","v":424},0,0]
["429","-1900","-1900-425",null,null,null,null,null,null,null,null,null,null,null,null,null,null,null,null,null,{"$f":"IF(J$2019=1,\"\",IF(T437=\"\",\"\",RIGHT(VLOOKUP(T437,Tabelle!$B$5:$C$9,2,FALSE),5)))","v":""},null,null,null,null,null,null,null,{"$f":"IF(B437=\"\",0,IF(B437=B436,COUNTIF(B$9:B436,B437)+1,1))","v":425},0,0]
["430","-1900","-1900-426",null,null,null,null,null,null,null,null,null,null,null,null,null,null,null,null,null,{"$f":"IF(J$2019=1,\"\",IF(T438=\"\",\"\",RIGHT(VLOOKUP(T438,Tabelle!$B$5:$C$9,2,FALSE),5)))","v":""},null,null,null,null,null,null,null,{"$f":"IF(B438=\"\",0,IF(B438=B437,COUNTIF(B$9:B437,B438)+1,1))","v":426},0,0]
["431","-1900","-1900-427",null,null,null,null,null,null,null,null,null,null,null,null,null,null,null,null,null,{"$f":"IF(J$2019=1,\"\",IF(T439=\"\",\"\",RIGHT(VLOOKUP(T439,Tabelle!$B$5:$C$9,2,FALSE),5)))","v":""},null,null,null,null,null,null,null,{"$f":"IF(B439=\"\",0,IF(B439=B438,COUNTIF(B$9:B438,B439)+1,1))","v":427},0,0]
["432","-1900","-1900-428",null,null,null,null,null,null,null,null,null,null,null,null,null,null,null,null,null,{"$f":"IF(J$2019=1,\"\",IF(T440=\"\",\"\",RIGHT(VLOOKUP(T440,Tabelle!$B$5:$C$9,2,FALSE),5)))","v":""},null,null,null,null,null,null,null,{"$f":"IF(B440=\"\",0,IF(B440=B439,COUNTIF(B$9:B439,B440)+1,1))","v":428},0,0]
["433","-1900","-1900-429",null,null,null,null,null,null,null,null,null,null,null,null,null,null,null,null,null,{"$f":"IF(J$2019=1,\"\",IF(T441=\"\",\"\",RIGHT(VLOOKUP(T441,Tabelle!$B$5:$C$9,2,FALSE),5)))","v":""},null,null,null,null,null,null,null,{"$f":"IF(B441=\"\",0,IF(B441=B440,COUNTIF(B$9:B440,B441)+1,1))","v":429},0,0]
["434","-1900","-1900-430",null,null,null,null,null,null,null,null,null,null,null,null,null,null,null,null,null,{"$f":"IF(J$2019=1,\"\",IF(T442=\"\",\"\",RIGHT(VLOOKUP(T442,Tabelle!$B$5:$C$9,2,FALSE),5)))","v":""},null,null,null,null,null,null,null,{"$f":"IF(B442=\"\",0,IF(B442=B441,COUNTIF(B$9:B441,B442)+1,1))","v":430},0,0]
["435","-1900","-1900-431",null,null,null,null,null,null,null,null,null,null,null,null,null,null,null,null,null,{"$f":"IF(J$2019=1,\"\",IF(T443=\"\",\"\",RIGHT(VLOOKUP(T443,Tabelle!$B$5:$C$9,2,FALSE),5)))","v":""},null,null,null,null,null,null,null,{"$f":"IF(B443=\"\",0,IF(B443=B442,COUNTIF(B$9:B442,B443)+1,1))","v":431},0,0]
["436","-1900","-1900-432",null,null,null,null,null,null,null,null,null,null,null,null,null,null,null,null,null,{"$f":"IF(J$2019=1,\"\",IF(T444=\"\",\"\",RIGHT(VLOOKUP(T444,Tabelle!$B$5:$C$9,2,FALSE),5)))","v":""},null,null,null,null,null,null,null,{"$f":"IF(B444=\"\",0,IF(B444=B443,COUNTIF(B$9:B443,B444)+1,1))","v":432},0,0]
["437","-1900","-1900-433",null,null,null,null,null,null,null,null,null,null,null,null,null,null,null,null,null,{"$f":"IF(J$2019=1,\"\",IF(T445=\"\",\"\",RIGHT(VLOOKUP(T445,Tabelle!$B$5:$C$9,2,FALSE),5)))","v":""},null,null,null,null,null,null,null,{"$f":"IF(B445=\"\",0,IF(B445=B444,COUNTIF(B$9:B444,B445)+1,1))","v":433},0,0]
["438","-1900","-1900-434",null,null,null,null,null,null,null,null,null,null,null,null,null,null,null,null,null,{"$f":"IF(J$2019=1,\"\",IF(T446=\"\",\"\",RIGHT(VLOOKUP(T446,Tabelle!$B$5:$C$9,2,FALSE),5)))","v":""},null,null,null,null,null,null,null,{"$f":"IF(B446=\"\",0,IF(B446=B445,COUNTIF(B$9:B445,B446)+1,1))","v":434},0,0]
["439","-1900","-1900-435",null,null,null,null,null,null,null,null,null,null,null,null,null,null,null,null,null,{"$f":"IF(J$2019=1,\"\",IF(T447=\"\",\"\",RIGHT(VLOOKUP(T447,Tabelle!$B$5:$C$9,2,FALSE),5)))","v":""},null,null,null,null,null,null,null,{"$f":"IF(B447=\"\",0,IF(B447=B446,COUNTIF(B$9:B446,B447)+1,1))","v":435},0,0]
["440","-1900","-1900-436",null,null,null,null,null,null,null,null,null,null,null,null,null,null,null,null,null,{"$f":"IF(J$2019=1,\"\",IF(T448=\"\",\"\",RIGHT(VLOOKUP(T448,Tabelle!$B$5:$C$9,2,FALSE),5)))","v":""},null,null,null,null,null,null,null,{"$f":"IF(B448=\"\",0,IF(B448=B447,COUNTIF(B$9:B447,B448)+1,1))","v":436},0,0]
["441","-1900","-1900-437",null,null,null,null,null,null,null,null,null,null,null,null,null,null,null,null,null,{"$f":"IF(J$2019=1,\"\",IF(T449=\"\",\"\",RIGHT(VLOOKUP(T449,Tabelle!$B$5:$C$9,2,FALSE),5)))","v":""},null,null,null,null,null,null,null,{"$f":"IF(B449=\"\",0,IF(B449=B448,COUNTIF(B$9:B448,B449)+1,1))","v":437},0,0]
["442","-1900","-1900-438",null,null,null,null,null,null,null,null,null,null,null,null,null,null,null,null,null,{"$f":"IF(J$2019=1,\"\",IF(T450=\"\",\"\",RIGHT(VLOOKUP(T450,Tabelle!$B$5:$C$9,2,FALSE),5)))","v":""},null,null,null,null,null,null,null,{"$f":"IF(B450=\"\",0,IF(B450=B449,COUNTIF(B$9:B449,B450)+1,1))","v":438},0,0]
["443","-1900","-1900-439",null,null,null,null,null,null,null,null,null,null,null,null,null,null,null,null,null,{"$f":"IF(J$2019=1,\"\",IF(T451=\"\",\"\",RIGHT(VLOOKUP(T451,Tabelle!$B$5:$C$9,2,FALSE),5)))","v":""},null,null,null,null,null,null,null,{"$f":"IF(B451=\"\",0,IF(B451=B450,COUNTIF(B$9:B450,B451)+1,1))","v":439},0,0]
["444","-1900","-1900-440",null,null,null,null,null,null,null,null,null,null,null,null,null,null,null,null,null,{"$f":"IF(J$2019=1,\"\",IF(T452=\"\",\"\",RIGHT(VLOOKUP(T452,Tabelle!$B$5:$C$9,2,FALSE),5)))","v":""},null,null,null,null,null,null,null,{"$f":"IF(B452=\"\",0,IF(B452=B451,COUNTIF(B$9:B451,B452)+1,1))","v":440},0,0]
["445","-1900","-1900-441",null,null,null,null,null,null,null,null,null,null,null,null,null,null,null,null,null,{"$f":"IF(J$2019=1,\"\",IF(T453=\"\",\"\",RIGHT(VLOOKUP(T453,Tabelle!$B$5:$C$9,2,FALSE),5)))","v":""},null,null,null,null,null,null,null,{"$f":"IF(B453=\"\",0,IF(B453=B452,COUNTIF(B$9:B452,B453)+1,1))","v":441},0,0]
["446","-1900","-1900-442",null,null,null,null,null,null,null,null,null,null,null,null,null,null,null,null,null,{"$f":"IF(J$2019=1,\"\",IF(T454=\"\",\"\",RIGHT(VLOOKUP(T454,Tabelle!$B$5:$C$9,2,FALSE),5)))","v":""},null,null,null,null,null,null,null,{"$f":"IF(B454=\"\",0,IF(B454=B453,COUNTIF(B$9:B453,B454)+1,1))","v":442},0,0]
["447","-1900","-1900-443",null,null,null,null,null,null,null,null,null,null,null,null,null,null,null,null,null,{"$f":"IF(J$2019=1,\"\",IF(T455=\"\",\"\",RIGHT(VLOOKUP(T455,Tabelle!$B$5:$C$9,2,FALSE),5)))","v":""},null,null,null,null,null,null,null,{"$f":"IF(B455=\"\",0,IF(B455=B454,COUNTIF(B$9:B454,B455)+1,1))","v":443},0,0]
["448","-1900","-1900-444",null,null,null,null,null,null,null,null,null,null,null,null,null,null,null,null,null,{"$f":"IF(J$2019=1,\"\",IF(T456=\"\",\"\",RIGHT(VLOOKUP(T456,Tabelle!$B$5:$C$9,2,FALSE),5)))","v":""},null,null,null,null,null,null,null,{"$f":"IF(B456=\"\",0,IF(B456=B455,COUNTIF(B$9:B455,B456)+1,1))","v":444},0,0]
["449","-1900","-1900-445",null,null,null,null,null,null,null,null,null,null,null,null,null,null,null,null,null,{"$f":"IF(J$2019=1,\"\",IF(T457=\"\",\"\",RIGHT(VLOOKUP(T457,Tabelle!$B$5:$C$9,2,FALSE),5)))","v":""},null,null,null,null,null,null,null,{"$f":"IF(B457=\"\",0,IF(B457=B456,COUNTIF(B$9:B456,B457)+1,1))","v":445},0,0]
["450",{"$f":"IF(AE458=$AE$2013,0,IF(J$2019=1,0,D458&\"-\"&YEAR(E458)))","v":"-1900"},"-1900-446",null,null,null,null,null,null,null,null,null,null,null,null,null,null,null,null,null,{"$f":"IF(J$2019=1,\"\",IF(T458=\"\",\"\",RIGHT(VLOOKUP(T458,Tabelle!$B$5:$C$9,2,FALSE),5)))","v":""},null,null,null,null,null,null,null,{"$f":"IF(B458=\"\",0,IF(B458=B457,COUNTIF(B$9:B457,B458)+1,1))","v":446},0,{"$f":"IF(E458>0,IF(OR(MONTH(E458)<$J$2025,MONTH(E458)>$J$2026),AE$2013,0),0)","v":0}]
["451","-1900","-1900-447",null,null,null,null,null,null,null,null,null,null,null,null,null,null,null,null,null,{"$f":"IF(J$2019=1,\"\",IF(T459=\"\",\"\",RIGHT(VLOOKUP(T459,Tabelle!$B$5:$C$9,2,FALSE),5)))","v":""},null,null,null,null,null,null,null,{"$f":"IF(B459=\"\",0,IF(B459=B458,COUNTIF(B$9:B458,B459)+1,1))","v":447},0,0]
["452","-1900","-1900-448",null,null,null,null,null,null,null,null,null,null,null,null,null,null,null,null,null,{"$f":"IF(J$2019=1,\"\",IF(T460=\"\",\"\",RIGHT(VLOOKUP(T460,Tabelle!$B$5:$C$9,2,FALSE),5)))","v":""},null,null,null,null,null,null,null,{"$f":"IF(B460=\"\",0,IF(B460=B459,COUNTIF(B$9:B459,B460)+1,1))","v":448},0,0]
["453","-1900","-1900-449",null,null,null,null,null,null,null,null,null,null,null,null,null,null,null,null,null,{"$f":"IF(J$2019=1,\"\",IF(T461=\"\",\"\",RIGHT(VLOOKUP(T461,Tabelle!$B$5:$C$9,2,FALSE),5)))","v":""},null,null,null,null,null,null,null,{"$f":"IF(B461=\"\",0,IF(B461=B460,COUNTIF(B$9:B460,B461)+1,1))","v":449},0,0]
["454","-1900","-1900-450",null,null,null,null,null,null,null,null,null,null,null,null,null,null,null,null,null,{"$f":"IF(J$2019=1,\"\",IF(T462=\"\",\"\",RIGHT(VLOOKUP(T462,Tabelle!$B$5:$C$9,2,FALSE),5)))","v":""},null,null,null,null,null,null,null,{"$f":"IF(B462=\"\",0,IF(B462=B461,COUNTIF(B$9:B461,B462)+1,1))","v":450},0,0]
["455","-1900","-1900-451",null,null,null,null,null,null,null,null,null,null,null,null,null,null,null,null,null,{"$f":"IF(J$2019=1,\"\",IF(T463=\"\",\"\",RIGHT(VLOOKUP(T463,Tabelle!$B$5:$C$9,2,FALSE),5)))","v":""},null,null,null,null,null,null,null,{"$f":"IF(B463=\"\",0,IF(B463=B462,COUNTIF(B$9:B462,B463)+1,1))","v":451},0,0]
["456","-1900","-1900-452",null,null,null,null,null,null,null,null,null,null,null,null,null,null,null,null,null,{"$f":"IF(J$2019=1,\"\",IF(T464=\"\",\"\",RIGHT(VLOOKUP(T464,Tabelle!$B$5:$C$9,2,FALSE),5)))","v":""},null,null,null,null,null,null,null,{"$f":"IF(B464=\"\",0,IF(B464=B463,COUNTIF(B$9:B463,B464)+1,1))","v":452},0,0]
["457","-1900","-1900-453",null,null,null,null,null,null,null,null,null,null,null,null,null,null,null,null,null,{"$f":"IF(J$2019=1,\"\",IF(T465=\"\",\"\",RIGHT(VLOOKUP(T465,Tabelle!$B$5:$C$9,2,FALSE),5)))","v":""},null,null,null,null,null,null,null,{"$f":"IF(B465=\"\",0,IF(B465=B464,COUNTIF(B$9:B464,B465)+1,1))","v":453},0,0]
["458","-1900","-1900-454",null,null,null,null,null,null,null,null,null,null,null,null,null,null,null,null,null,{"$f":"IF(J$2019=1,\"\",IF(T466=\"\",\"\",RIGHT(VLOOKUP(T466,Tabelle!$B$5:$C$9,2,FALSE),5)))","v":""},null,null,null,null,null,null,null,{"$f":"IF(B466=\"\",0,IF(B466=B465,COUNTIF(B$9:B465,B466)+1,1))","v":454},0,0]
["459","-1900","-1900-455",null,null,null,null,null,null,null,null,null,null,null,null,null,null,null,null,null,{"$f":"IF(J$2019=1,\"\",IF(T467=\"\",\"\",RIGHT(VLOOKUP(T467,Tabelle!$B$5:$C$9,2,FALSE),5)))","v":""},null,null,null,null,null,null,null,{"$f":"IF(B467=\"\",0,IF(B467=B466,COUNTIF(B$9:B466,B467)+1,1))","v":455},0,0]
["460","-1900","-1900-456",null,null,null,null,null,null,null,null,null,null,null,null,null,null,null,null,null,{"$f":"IF(J$2019=1,\"\",IF(T468=\"\",\"\",RIGHT(VLOOKUP(T468,Tabelle!$B$5:$C$9,2,FALSE),5)))","v":""},null,null,null,null,null,null,null,{"$f":"IF(B468=\"\",0,IF(B468=B467,COUNTIF(B$9:B467,B468)+1,1))","v":456},0,0]
["461","-1900","-1900-457",null,null,null,null,null,null,null,null,null,null,null,null,null,null,null,null,null,{"$f":"IF(J$2019=1,\"\",IF(T469=\"\",\"\",RIGHT(VLOOKUP(T469,Tabelle!$B$5:$C$9,2,FALSE),5)))","v":""},null,null,null,null,null,null,null,{"$f":"IF(B469=\"\",0,IF(B469=B468,COUNTIF(B$9:B468,B469)+1,1))","v":457},{"$f":"IF(OR(D469=\"\",J$2019=1),0,IF(AC469=28,1,0))","v":0},0]
["462","-1900","-1900-458",null,null,null,null,null,null,null,null,null,null,null,null,null,null,null,null,null,{"$f":"IF(J$2019=1,\"\",IF(T470=\"\",\"\",RIGHT(VLOOKUP(T470,Tabelle!$B$5:$C$9,2,FALSE),5)))","v":""},null,null,null,null,null,null,null,{"$f":"IF(B470=\"\",0,IF(B470=B469,COUNTIF(B$9:B469,B470)+1,1))","v":458},0,0]
["463","-1900",{"$f":"IF(J$2019=1,0,B471&\"-\"&AC471)","v":"-1900-459"},null,null,null,null,null,null,null,null,null,null,null,null,null,null,null,null,null,{"$f":"IF(J$2019=1,\"\",IF(T471=\"\",\"\",RIGHT(VLOOKUP(T471,Tabelle!$B$5:$C$9,2,FALSE),5)))","v":""},null,null,null,null,null,null,null,{"$f":"IF(B471=\"\",0,IF(B471=B470,COUNTIF(B$9:B470,B471)+1,1))","v":459},0,0]
["464","-1900","-1900-460",null,null,null,null,null,null,null,null,null,null,null,null,null,null,null,null,null,{"$f":"IF(J$2019=1,\"\",IF(T472=\"\",\"\",RIGHT(VLOOKUP(T472,Tabelle!$B$5:$C$9,2,FALSE),5)))","v":""},null,null,null,null,null,null,null,{"$f":"IF(B472=\"\",0,IF(B472=B471,COUNTIF(B$9:B471,B472)+1,1))","v":460},0,0]
["465","-1900","-1900-461",null,null,null,null,null,null,null,null,null,null,null,null,null,null,null,null,null,{"$f":"IF(J$2019=1,\"\",IF(T473=\"\",\"\",RIGHT(VLOOKUP(T473,Tabelle!$B$5:$C$9,2,FALSE),5)))","v":""},null,null,null,null,null,null,null,{"$f":"IF(B473=\"\",0,IF(B473=B472,COUNTIF(B$9:B472,B473)+1,1))","v":461},0,0]
["466","-1900","-1900-462",null,null,null,null,null,null,null,null,null,null,null,null,null,null,null,null,null,{"$f":"IF(J$2019=1,\"\",IF(T474=\"\",\"\",RIGHT(VLOOKUP(T474,Tabelle!$B$5:$C$9,2,FALSE),5)))","v":""},null,null,null,null,null,null,null,{"$f":"IF(B474=\"\",0,IF(B474=B473,COUNTIF(B$9:B473,B474)+1,1))","v":462},0,0]
["467","-1900","-1900-463",null,null,null,null,null,null,null,null,null,null,null,null,null,null,null,null,null,{"$f":"IF(J$2019=1,\"\",IF(T475=\"\",\"\",RIGHT(VLOOKUP(T475,Tabelle!$B$5:$C$9,2,FALSE),5)))","v":""},null,null,null,null,null,null,null,{"$f":"IF(B475=\"\",0,IF(B475=B474,COUNTIF(B$9:B474,B475)+1,1))","v":463},0,0]
["468","-1900","-1900-464",null,null,null,null,null,null,null,null,null,null,null,null,null,null,null,null,null,{"$f":"IF(J$2019=1,\"\",IF(T476=\"\",\"\",RIGHT(VLOOKUP(T476,Tabelle!$B$5:$C$9,2,FALSE),5)))","v":""},null,null,null,null,null,null,null,{"$f":"IF(B476=\"\",0,IF(B476=B475,COUNTIF(B$9:B475,B476)+1,1))","v":464},0,0]
["469","-1900","-1900-465",null,null,null,null,null,null,null,null,null,null,null,null,null,null,null,null,null,{"$f":"IF(J$2019=1,\"\",IF(T477=\"\",\"\",RIGHT(VLOOKUP(T477,Tabelle!$B$5:$C$9,2,FALSE),5)))","v":""},null,null,null,null,null,null,null,{"$f":"IF(B477=\"\",0,IF(B477=B476,COUNTIF(B$9:B476,B477)+1,1))","v":465},0,0]
["470","-1900","-1900-466",null,null,null,null,null,null,null,null,null,null,null,null,null,null,null,null,null,{"$f":"IF(J$2019=1,\"\",IF(T478=\"\",\"\",RIGHT(VLOOKUP(T478,Tabelle!$B$5:$C$9,2,FALSE),5)))","v":""},null,null,null,null,null,null,null,{"$f":"IF(B478=\"\",0,IF(B478=B477,COUNTIF(B$9:B477,B478)+1,1))","v":466},0,0]
["471","-1900","-1900-467",null,null,null,null,null,null,null,null,null,null,null,null,null,null,null,null,null,{"$f":"IF(J$2019=1,\"\",IF(T479=\"\",\"\",RIGHT(VLOOKUP(T479,Tabelle!$B$5:$C$9,2,FALSE),5)))","v":""},null,null,null,null,null,null,null,{"$f":"IF(B479=\"\",0,IF(B479=B478,COUNTIF(B$9:B478,B479)+1,1))","v":467},0,0]
["472","-1900","-1900-468",null,null,null,null,null,null,null,null,null,null,null,null,null,null,null,null,null,{"$f":"IF(J$2019=1,\"\",IF(T480=\"\",\"\",RIGHT(VLOOKUP(T480,Tabelle!$B$5:$C$9,2,FALSE),5)))","v":""},null,null,null,null,null,null,null,{"$f":"IF(B480=\"\",0,IF(B480=B479,COUNTIF(B$9:B479,B480)+1,1))","v":468},0,0]
["473","-1900","-1900-469",null,null,null,null,null,null,null,null,null,null,null,null,null,null,null,null,null,{"$f":"IF(J$2019=1,\"\",IF(T481=\"\",\"\",RIGHT(VLOOKUP(T481,Tabelle!$B$5:$C$9,2,FALSE),5)))","v":""},null,null,null,null,null,null,null,{"$f":"IF(B481=\"\",0,IF(B481=B480,COUNTIF(B$9:B480,B481)+1,1))","v":469},0,0]
["474","-1900","-1900-470",null,null,null,null,null,null,null,null,null,null,null,null,null,null,null,null,null,{"$f":"IF(J$2019=1,\"\",IF(T482=\"\",\"\",RIGHT(VLOOKUP(T482,Tabelle!$B$5:$C$9,2,FALSE),5)))","v":""},null,null,null,null,null,null,null,{"$f":"IF(B482=\"\",0,IF(B482=B481,COUNTIF(B$9:B481,B482)+1,1))","v":470},0,0]
["475","-1900","-1900-471",null,null,null,null,null,null,null,null,null,null,null,null,null,null,null,null,null,{"$f":"IF(J$2019=1,\"\",IF(T483=\"\",\"\",RIGHT(VLOOKUP(T483,Tabelle!$B$5:$C$9,2,FALSE),5)))","v":""},null,null,null,null,null,null,null,{"$f":"IF(B483=\"\",0,IF(B483=B482,COUNTIF(B$9:B482,B483)+1,1))","v":471},0,0]
["476","-1900","-1900-472",null,null,null,null,null,null,null,null,null,null,null,null,null,null,null,null,null,{"$f":"IF(J$2019=1,\"\",IF(T484=\"\",\"\",RIGHT(VLOOKUP(T484,Tabelle!$B$5:$C$9,2,FALSE),5)))","v":""},null,null,null,null,null,null,null,{"$f":"IF(B484=\"\",0,IF(B484=B483,COUNTIF(B$9:B483,B484)+1,1))","v":472},0,0]
["477","-1900","-1900-473",null,null,null,null,null,null,null,null,null,null,null,null,null,null,null,null,null,{"$f":"IF(J$2019=1,\"\",IF(T485=\"\",\"\",RIGHT(VLOOKUP(T485,Tabelle!$B$5:$C$9,2,FALSE),5)))","v":""},null,null,null,null,null,null,null,{"$f":"IF(B485=\"\",0,IF(B485=B484,COUNTIF(B$9:B484,B485)+1,1))","v":473},0,0]
["478","-1900","-1900-474",null,null,null,null,null,null,null,null,null,null,null,null,null,null,null,null,null,{"$f":"IF(J$2019=1,\"\",IF(T486=\"\",\"\",RIGHT(VLOOKUP(T486,Tabelle!$B$5:$C$9,2,FALSE),5)))","v":""},null,null,null,null,null,null,null,{"$f":"IF(B486=\"\",0,IF(B486=B485,COUNTIF(B$9:B485,B486)+1,1))","v":474},0,0]
["479","-1900","-1900-475",null,null,null,null,null,null,null,null,null,null,null,null,null,null,null,null,null,{"$f":"IF(J$2019=1,\"\",IF(T487=\"\",\"\",RIGHT(VLOOKUP(T487,Tabelle!$B$5:$C$9,2,FALSE),5)))","v":""},null,null,null,null,null,null,null,{"$f":"IF(B487=\"\",0,IF(B487=B486,COUNTIF(B$9:B486,B487)+1,1))","v":475},0,0]
["480","-1900","-1900-476",null,null,null,null,null,null,null,null,null,null,null,null,null,null,null,null,null,{"$f":"IF(J$2019=1,\"\",IF(T488=\"\",\"\",RIGHT(VLOOKUP(T488,Tabelle!$B$5:$C$9,2,FALSE),5)))","v":""},null,null,null,null,null,null,null,{"$f":"IF(B488=\"\",0,IF(B488=B487,COUNTIF(B$9:B487,B488)+1,1))","v":476},0,0]
["481","-1900","-1900-477",null,null,null,null,null,null,null,null,null,null,null,null,null,null,null,null,null,{"$f":"IF(J$2019=1,\"\",IF(T489=\"\",\"\",RIGHT(VLOOKUP(T489,Tabelle!$B$5:$C$9,2,FALSE),5)))","v":""},null,null,null,null,null,null,null,{"$f":"IF(B489=\"\",0,IF(B489=B488,COUNTIF(B$9:B488,B489)+1,1))","v":477},0,0]
["482","-1900","-1900-478",null,null,null,null,null,null,null,null,null,null,null,null,null,null,null,null,null,{"$f":"IF(J$2019=1,\"\",IF(T490=\"\",\"\",RIGHT(VLOOKUP(T490,Tabelle!$B$5:$C$9,2,FALSE),5)))","v":""},null,null,null,null,null,null,null,{"$f":"IF(B490=\"\",0,IF(B490=B489,COUNTIF(B$9:B489,B490)+1,1))","v":478},0,0]
["483","-1900","-1900-479",null,null,null,null,null,null,null,null,null,null,null,null,null,null,null,null,null,{"$f":"IF(J$2019=1,\"\",IF(T491=\"\",\"\",RIGHT(VLOOKUP(T491,Tabelle!$B$5:$C$9,2,FALSE),5)))","v":""},null,null,null,null,null,null,null,{"$f":"IF(B491=\"\",0,IF(B491=B490,COUNTIF(B$9:B490,B491)+1,1))","v":479},0,0]
["484","-1900","-1900-480",null,null,null,null,null,null,null,null,null,null,null,null,null,null,null,null,null,{"$f":"IF(J$2019=1,\"\",IF(T492=\"\",\"\",RIGHT(VLOOKUP(T492,Tabelle!$B$5:$C$9,2,FALSE),5)))","v":""},null,null,null,null,null,null,null,{"$f":"IF(B492=\"\",0,IF(B492=B491,COUNTIF(B$9:B491,B492)+1,1))","v":480},0,0]
["485","-1900","-1900-481",null,null,null,null,null,null,null,null,null,null,null,null,null,null,null,null,null,{"$f":"IF(J$2019=1,\"\",IF(T493=\"\",\"\",RIGHT(VLOOKUP(T493,Tabelle!$B$5:$C$9,2,FALSE),5)))","v":""},null,null,null,null,null,null,null,{"$f":"IF(B493=\"\",0,IF(B493=B492,COUNTIF(B$9:B492,B493)+1,1))","v":481},0,0]
["486","-1900","-1900-482",null,null,null,null,null,null,null,null,null,null,null,null,null,null,null,null,null,{"$f":"IF(J$2019=1,\"\",IF(T494=\"\",\"\",RIGHT(VLOOKUP(T494,Tabelle!$B$5:$C$9,2,FALSE),5)))","v":""},null,null,null,null,null,null,null,{"$f":"IF(B494=\"\",0,IF(B494=B493,COUNTIF(B$9:B493,B494)+1,1))","v":482},0,0]
["487","-1900","-1900-483",null,null,null,null,null,null,null,null,null,null,null,null,null,null,null,null,null,{"$f":"IF(J$2019=1,\"\",IF(T495=\"\",\"\",RIGHT(VLOOKUP(T495,Tabelle!$B$5:$C$9,2,FALSE),5)))","v":""},null,null,null,null,null,null,null,{"$f":"IF(B495=\"\",0,IF(B495=B494,COUNTIF(B$9:B494,B495)+1,1))","v":483},0,0]
["488","-1900","-1900-484",null,null,null,null,null,null,null,null,null,null,null,null,null,null,null,null,null,{"$f":"IF(J$2019=1,\"\",IF(T496=\"\",\"\",RIGHT(VLOOKUP(T496,Tabelle!$B$5:$C$9,2,FALSE),5)))","v":""},null,null,null,null,null,null,null,{"$f":"IF(B496=\"\",0,IF(B496=B495,COUNTIF(B$9:B495,B496)+1,1))","v":484},0,0]
["489","-1900","-1900-485",null,null,null,null,null,null,null,null,null,null,null,null,null,null,null,null,null,{"$f":"IF(J$2019=1,\"\",IF(T497=\"\",\"\",RIGHT(VLOOKUP(T497,Tabelle!$B$5:$C$9,2,FALSE),5)))","v":""},null,null,null,null,null,null,null,{"$f":"IF(B497=\"\",0,IF(B497=B496,COUNTIF(B$9:B496,B497)+1,1))","v":485},0,0]
["490","-1900","-1900-486",null,null,null,null,null,null,null,null,null,null,null,null,null,null,null,null,null,{"$f":"IF(J$2019=1,\"\",IF(T498=\"\",\"\",RIGHT(VLOOKUP(T498,Tabelle!$B$5:$C$9,2,FALSE),5)))","v":""},null,null,null,null,null,null,null,{"$f":"IF(B498=\"\",0,IF(B498=B497,COUNTIF(B$9:B497,B498)+1,1))","v":486},0,0]
["491","-1900","-1900-487",null,null,null,null,null,null,null,null,null,null,null,null,null,null,null,null,null,{"$f":"IF(J$2019=1,\"\",IF(T499=\"\",\"\",RIGHT(VLOOKUP(T499,Tabelle!$B$5:$C$9,2,FALSE),5)))","v":""},null,null,null,null,null,null,null,{"$f":"IF(B499=\"\",0,IF(B499=B498,COUNTIF(B$9:B498,B499)+1,1))","v":487},0,0]
["492","-1900","-1900-488",null,null,null,null,null,null,null,null,null,null,null,null,null,null,null,null,null,{"$f":"IF(J$2019=1,\"\",IF(T500=\"\",\"\",RIGHT(VLOOKUP(T500,Tabelle!$B$5:$C$9,2,FALSE),5)))","v":""},null,null,null,null,null,null,null,{"$f":"IF(B500=\"\",0,IF(B500=B499,COUNTIF(B$9:B499,B500)+1,1))","v":488},0,0]
["493","-1900","-1900-489",null,null,null,null,null,null,null,null,null,null,null,null,null,null,null,null,null,{"$f":"IF(J$2019=1,\"\",IF(T501=\"\",\"\",RIGHT(VLOOKUP(T501,Tabelle!$B$5:$C$9,2,FALSE),5)))","v":""},null,null,null,null,null,null,null,{"$f":"IF(B501=\"\",0,IF(B501=B500,COUNTIF(B$9:B500,B501)+1,1))","v":489},0,0]
["494","-1900","-1900-490",null,null,null,null,null,null,null,null,null,null,null,null,null,null,null,null,null,{"$f":"IF(J$2019=1,\"\",IF(T502=\"\",\"\",RIGHT(VLOOKUP(T502,Tabelle!$B$5:$C$9,2,FALSE),5)))","v":""},null,null,null,null,null,null,null,{"$f":"IF(B502=\"\",0,IF(B502=B501,COUNTIF(B$9:B501,B502)+1,1))","v":490},0,0]
["495","-1900","-1900-491",null,null,null,null,null,null,null,null,null,null,null,null,null,null,null,null,null,{"$f":"IF(J$2019=1,\"\",IF(T503=\"\",\"\",RIGHT(VLOOKUP(T503,Tabelle!$B$5:$C$9,2,FALSE),5)))","v":""},null,null,null,null,null,null,null,{"$f":"IF(B503=\"\",0,IF(B503=B502,COUNTIF(B$9:B502,B503)+1,1))","v":491},0,0]
["496","-1900","-1900-492",null,null,null,null,null,null,null,null,null,null,null,null,null,null,null,null,null,{"$f":"IF(J$2019=1,\"\",IF(T504=\"\",\"\",RIGHT(VLOOKUP(T504,Tabelle!$B$5:$C$9,2,FALSE),5)))","v":""},null,null,null,null,null,null,null,{"$f":"IF(B504=\"\",0,IF(B504=B503,COUNTIF(B$9:B503,B504)+1,1))","v":492},0,0]
["497","-1900","-1900-493",null,null,null,null,null,null,null,null,null,null,null,null,null,null,null,null,null,{"$f":"IF(J$2019=1,\"\",IF(T505=\"\",\"\",RIGHT(VLOOKUP(T505,Tabelle!$B$5:$C$9,2,FALSE),5)))","v":""},null,null,null,null,null,null,null,{"$f":"IF(B505=\"\",0,IF(B505=B504,COUNTIF(B$9:B504,B505)+1,1))","v":493},0,0]
["498","-1900","-1900-494",null,null,null,null,null,null,null,null,null,null,null,null,null,null,null,null,null,{"$f":"IF(J$2019=1,\"\",IF(T506=\"\",\"\",RIGHT(VLOOKUP(T506,Tabelle!$B$5:$C$9,2,FALSE),5)))","v":""},null,null,null,null,null,null,null,{"$f":"IF(B506=\"\",0,IF(B506=B505,COUNTIF(B$9:B505,B506)+1,1))","v":494},0,0]
["499","-1900","-1900-495",null,null,null,null,null,null,null,null,null,null,null,null,null,null,null,null,null,{"$f":"IF(J$2019=1,\"\",IF(T507=\"\",\"\",RIGHT(VLOOKUP(T507,Tabelle!$B$5:$C$9,2,FALSE),5)))","v":""},null,null,null,null,null,null,null,{"$f":"IF(B507=\"\",0,IF(B507=B506,COUNTIF(B$9:B506,B507)+1,1))","v":495},0,0]
["500","-1900","-1900-496",null,null,null,null,null,null,null,null,null,null,null,null,null,null,null,null,null,{"$f":"IF(J$2019=1,\"\",IF(T508=\"\",\"\",RIGHT(VLOOKUP(T508,Tabelle!$B$5:$C$9,2,FALSE),5)))","v":""},null,null,null,null,null,null,null,{"$f":"IF(B508=\"\",0,IF(B508=B507,COUNTIF(B$9:B507,B508)+1,1))","v":496},0,0]
["501","-1900","-1900-497",null,null,null,null,null,null,null,null,null,null,null,null,null,null,null,null,null,{"$f":"IF(J$2019=1,\"\",IF(T509=\"\",\"\",RIGHT(VLOOKUP(T509,Tabelle!$B$5:$C$9,2,FALSE),5)))","v":""},null,null,null,null,null,null,null,{"$f":"IF(B509=\"\",0,IF(B509=B508,COUNTIF(B$9:B508,B509)+1,1))","v":497},0,0]
["502","-1900","-1900-498",null,null,null,null,null,null,null,null,null,null,null,null,null,null,null,null,null,{"$f":"IF(J$2019=1,\"\",IF(T510=\"\",\"\",RIGHT(VLOOKUP(T510,Tabelle!$B$5:$C$9,2,FALSE),5)))","v":""},null,null,null,null,null,null,null,{"$f":"IF(B510=\"\",0,IF(B510=B509,COUNTIF(B$9:B509,B510)+1,1))","v":498},0,0]
["503","-1900","-1900-499",null,null,null,null,null,null,null,null,null,null,null,null,null,null,null,null,null,{"$f":"IF(J$2019=1,\"\",IF(T511=\"\",\"\",RIGHT(VLOOKUP(T511,Tabelle!$B$5:$C$9,2,FALSE),5)))","v":""},null,null,null,null,null,null,null,{"$f":"IF(B511=\"\",0,IF(B511=B510,COUNTIF(B$9:B510,B511)+1,1))","v":499},0,0]
["504","-1900","-1900-500",null,null,null,null,null,null,null,null,null,null,null,null,null,null,null,null,null,{"$f":"IF(J$2019=1,\"\",IF(T512=\"\",\"\",RIGHT(VLOOKUP(T512,Tabelle!$B$5:$C$9,2,FALSE),5)))","v":""},null,null,null,null,null,null,null,{"$f":"IF(B512=\"\",0,IF(B512=B511,COUNTIF(B$9:B511,B512)+1,1))","v":500},0,0]
["505","-1900","-1900-501",null,null,null,null,null,null,null,null,null,null,null,null,null,null,null,null,null,{"$f":"IF(J$2019=1,\"\",IF(T513=\"\",\"\",RIGHT(VLOOKUP(T513,Tabelle!$B$5:$C$9,2,FALSE),5)))","v":""},null,null,null,null,null,null,null,{"$f":"IF(B513=\"\",0,IF(B513=B512,COUNTIF(B$9:B512,B513)+1,1))","v":501},0,0]
["506","-1900","-1900-502",null,null,null,null,null,null,null,null,null,null,null,null,null,null,null,null,null,{"$f":"IF(J$2019=1,\"\",IF(T514=\"\",\"\",RIGHT(VLOOKUP(T514,Tabelle!$B$5:$C$9,2,FALSE),5)))","v":""},null,null,null,null,null,null,null,{"$f":"IF(B514=\"\",0,IF(B514=B513,COUNTIF(B$9:B513,B514)+1,1))","v":502},0,0]
["507","-1900","-1900-503",null,null,null,null,null,null,null,null,null,null,null,null,null,null,null,null,null,{"$f":"IF(J$2019=1,\"\",IF(T515=\"\",\"\",RIGHT(VLOOKUP(T515,Tabelle!$B$5:$C$9,2,FALSE),5)))","v":""},null,null,null,null,null,null,null,{"$f":"IF(B515=\"\",0,IF(B515=B514,COUNTIF(B$9:B514,B515)+1,1))","v":503},0,0]
["508","-1900","-1900-504",null,null,null,null,null,null,null,null,null,null,null,null,null,null,null,null,null,{"$f":"IF(J$2019=1,\"\",IF(T516=\"\",\"\",RIGHT(VLOOKUP(T516,Tabelle!$B$5:$C$9,2,FALSE),5)))","v":""},null,null,null,null,null,null,null,{"$f":"IF(B516=\"\",0,IF(B516=B515,COUNTIF(B$9:B515,B516)+1,1))","v":504},0,0]
["509","-1900","-1900-505",null,null,null,null,null,null,null,null,null,null,null,null,null,null,null,null,null,{"$f":"IF(J$2019=1,\"\",IF(T517=\"\",\"\",RIGHT(VLOOKUP(T517,Tabelle!$B$5:$C$9,2,FALSE),5)))","v":""},null,null,null,null,null,null,null,{"$f":"IF(B517=\"\",0,IF(B517=B516,COUNTIF(B$9:B516,B517)+1,1))","v":505},0,0]
["510","-1900","-1900-506",null,null,null,null,null,null,null,null,null,null,null,null,null,null,null,null,null,{"$f":"IF(J$2019=1,\"\",IF(T518=\"\",\"\",RIGHT(VLOOKUP(T518,Tabelle!$B$5:$C$9,2,FALSE),5)))","v":""},null,null,null,null,null,null,null,{"$f":"IF(B518=\"\",0,IF(B518=B517,COUNTIF(B$9:B517,B518)+1,1))","v":506},0,0]
["511","-1900","-1900-507",null,null,null,null,null,null,null,null,null,null,null,null,null,null,null,null,null,{"$f":"IF(J$2019=1,\"\",IF(T519=\"\",\"\",RIGHT(VLOOKUP(T519,Tabelle!$B$5:$C$9,2,FALSE),5)))","v":""},null,null,null,null,null,null,null,{"$f":"IF(B519=\"\",0,IF(B519=B518,COUNTIF(B$9:B518,B519)+1,1))","v":507},0,0]
["512","-1900","-1900-508",null,null,null,null,null,null,null,null,null,null,null,null,null,null,null,null,null,{"$f":"IF(J$2019=1,\"\",IF(T520=\"\",\"\",RIGHT(VLOOKUP(T520,Tabelle!$B$5:$C$9,2,FALSE),5)))","v":""},null,null,null,null,null,null,null,{"$f":"IF(B520=\"\",0,IF(B520=B519,COUNTIF(B$9:B519,B520)+1,1))","v":508},0,0]
["513","-1900","-1900-509",null,null,null,null,null,null,null,null,null,null,null,null,null,null,null,null,null,{"$f":"IF(J$2019=1,\"\",IF(T521=\"\",\"\",RIGHT(VLOOKUP(T521,Tabelle!$B$5:$C$9,2,FALSE),5)))","v":""},null,null,null,null,null,null,null,{"$f":"IF(B521=\"\",0,IF(B521=B520,COUNTIF(B$9:B520,B521)+1,1))","v":509},0,0]
["514",{"$f":"IF(AE522=$AE$2013,0,IF(J$2019=1,0,D522&\"-\"&YEAR(E522)))","v":"-1900"},"-1900-510",null,null,null,null,null,null,null,null,null,null,null,null,null,null,null,null,null,{"$f":"IF(J$2019=1,\"\",IF(T522=\"\",\"\",RIGHT(VLOOKUP(T522,Tabelle!$B$5:$C$9,2,FALSE),5)))","v":""},null,null,null,null,null,null,null,{"$f":"IF(B522=\"\",0,IF(B522=B521,COUNTIF(B$9:B521,B522)+1,1))","v":510},0,{"$f":"IF(E522>0,IF(OR(MONTH(E522)<$J$2025,MONTH(E522)>$J$2026),AE$2013,0),0)","v":0}]
["515","-1900","-1900-511",null,null,null,null,null,null,null,null,null,null,null,null,null,null,null,null,null,{"$f":"IF(J$2019=1,\"\",IF(T523=\"\",\"\",RIGHT(VLOOKUP(T523,Tabelle!$B$5:$C$9,2,FALSE),5)))","v":""},null,null,null,null,null,null,null,{"$f":"IF(B523=\"\",0,IF(B523=B522,COUNTIF(B$9:B522,B523)+1,1))","v":511},0,0]
["516","-1900","-1900-512",null,null,null,null,null,null,null,null,null,null,null,null,null,null,null,null,null,{"$f":"IF(J$2019=1,\"\",IF(T524=\"\",\"\",RIGHT(VLOOKUP(T524,Tabelle!$B$5:$C$9,2,FALSE),5)))","v":""},null,null,null,null,null,null,null,{"$f":"IF(B524=\"\",0,IF(B524=B523,COUNTIF(B$9:B523,B524)+1,1))","v":512},0,0]
["517","-1900","-1900-513",null,null,null,null,null,null,null,null,null,null,null,null,null,null,null,null,null,{"$f":"IF(J$2019=1,\"\",IF(T525=\"\",\"\",RIGHT(VLOOKUP(T525,Tabelle!$B$5:$C$9,2,FALSE),5)))","v":""},null,null,null,null,null,null,null,{"$f":"IF(B525=\"\",0,IF(B525=B524,COUNTIF(B$9:B524,B525)+1,1))","v":513},0,0]
["518","-1900","-1900-514",null,null,null,null,null,null,null,null,null,null,null,null,null,null,null,null,null,{"$f":"IF(J$2019=1,\"\",IF(T526=\"\",\"\",RIGHT(VLOOKUP(T526,Tabelle!$B$5:$C$9,2,FALSE),5)))","v":""},null,null,null,null,null,null,null,{"$f":"IF(B526=\"\",0,IF(B526=B525,COUNTIF(B$9:B525,B526)+1,1))","v":514},0,0]
["519","-1900","-1900-515",null,null,null,null,null,null,null,null,null,null,null,null,null,null,null,null,null,{"$f":"IF(J$2019=1,\"\",IF(T527=\"\",\"\",RIGHT(VLOOKUP(T527,Tabelle!$B$5:$C$9,2,FALSE),5)))","v":""},null,null,null,null,null,null,null,{"$f":"IF(B527=\"\",0,IF(B527=B526,COUNTIF(B$9:B526,B527)+1,1))","v":515},0,0]
["520","-1900","-1900-516",null,null,null,null,null,null,null,null,null,null,null,null,null,null,null,null,null,{"$f":"IF(J$2019=1,\"\",IF(T528=\"\",\"\",RIGHT(VLOOKUP(T528,Tabelle!$B$5:$C$9,2,FALSE),5)))","v":""},null,null,null,null,null,null,null,{"$f":"IF(B528=\"\",0,IF(B528=B527,COUNTIF(B$9:B527,B528)+1,1))","v":516},0,0]
["521","-1900","-1900-517",null,null,null,null,null,null,null,null,null,null,null,null,null,null,null,null,null,{"$f":"IF(J$2019=1,\"\",IF(T529=\"\",\"\",RIGHT(VLOOKUP(T529,Tabelle!$B$5:$C$9,2,FALSE),5)))","v":""},null,null,null,null,null,null,null,{"$f":"IF(B529=\"\",0,IF(B529=B528,COUNTIF(B$9:B528,B529)+1,1))","v":517},0,0]
["522","-1900","-1900-518",null,null,null,null,null,null,null,null,null,null,null,null,null,null,null,null,null,{"$f":"IF(J$2019=1,\"\",IF(T530=\"\",\"\",RIGHT(VLOOKUP(T530,Tabelle!$B$5:$C$9,2,FALSE),5)))","v":""},null,null,null,null,null,null,null,{"$f":"IF(B530=\"\",0,IF(B530=B529,COUNTIF(B$9:B529,B530)+1,1))","v":518},0,0]
["523","-1900","-1900-519",null,null,null,null,null,null,null,null,null,null,null,null,null,null,null,null,null,{"$f":"IF(J$2019=1,\"\",IF(T531=\"\",\"\",RIGHT(VLOOKUP(T531,Tabelle!$B$5:$C$9,2,FALSE),5)))","v":""},null,null,null,null,null,null,null,{"$f":"IF(B531=\"\",0,IF(B531=B530,COUNTIF(B$9:B530,B531)+1,1))","v":519},0,0]
["524","-1900","-1900-520",null,null,null,null,null,null,null,null,null,null,null,null,null,null,null,null,null,{"$f":"IF(J$2019=1,\"\",IF(T532=\"\",\"\",RIGHT(VLOOKUP(T532,Tabelle!$B$5:$C$9,2,FALSE),5)))","v":""},null,null,null,null,null,null,null,{"$f":"IF(B532=\"\",0,IF(B532=B531,COUNTIF(B$9:B531,B532)+1,1))","v":520},0,0]
["525","-1900","-1900-521",null,null,null,null,null,null,null,null,null,null,null,null,null,null,null,null,null,{"$f":"IF(J$2019=1,\"\",IF(T533=\"\",\"\",RIGHT(VLOOKUP(T533,Tabelle!$B$5:$C$9,2,FALSE),5)))","v":""},null,null,null,null,null,null,null,{"$f":"IF(B533=\"\",0,IF(B533=B532,COUNTIF(B$9:B532,B533)+1,1))","v":521},{"$f":"IF(OR(D533=\"\",J$2019=1),0,IF(AC533=28,1,0))","v":0},0]
["526","-1900","-1900-522",null,null,null,null,null,null,null,null,null,null,null,null,null,null,null,null,null,{"$f":"IF(J$2019=1,\"\",IF(T534=\"\",\"\",RIGHT(VLOOKUP(T534,Tabelle!$B$5:$C$9,2,FALSE),5)))","v":""},null,null,null,null,null,null,null,{"$f":"IF(B534=\"\",0,IF(B534=B533,COUNTIF(B$9:B533,B534)+1,1))","v":522},0,0]
["527","-1900",{"$f":"IF(J$2019=1,0,B535&\"-\"&AC535)","v":"-1900-523"},null,null,null,null,null,null,null,null,null,null,null,null,null,null,null,null,null,{"$f":"IF(J$2019=1,\"\",IF(T535=\"\",\"\",RIGHT(VLOOKUP(T535,Tabelle!$B$5:$C$9,2,FALSE),5)))","v":""},null,null,null,null,null,null,null,{"$f":"IF(B535=\"\",0,IF(B535=B534,COUNTIF(B$9:B534,B535)+1,1))","v":523},0,0]
["528","-1900","-1900-524",null,null,null,null,null,null,null,null,null,null,null,null,null,null,null,null,null,{"$f":"IF(J$2019=1,\"\",IF(T536=\"\",\"\",RIGHT(VLOOKUP(T536,Tabelle!$B$5:$C$9,2,FALSE),5)))","v":""},null,null,null,null,null,null,null,{"$f":"IF(B536=\"\",0,IF(B536=B535,COUNTIF(B$9:B535,B536)+1,1))","v":524},0,0]
["529","-1900","-1900-525",null,null,null,null,null,null,null,null,null,null,null,null,null,null,null,null,null,{"$f":"IF(J$2019=1,\"\",IF(T537=\"\",\"\",RIGHT(VLOOKUP(T537,Tabelle!$B$5:$C$9,2,FALSE),5)))","v":""},null,null,null,null,null,null,null,{"$f":"IF(B537=\"\",0,IF(B537=B536,COUNTIF(B$9:B536,B537)+1,1))","v":525},0,0]
["530","-1900","-1900-526",null,null,null,null,null,null,null,null,null,null,null,null,null,null,null,null,null,{"$f":"IF(J$2019=1,\"\",IF(T538=\"\",\"\",RIGHT(VLOOKUP(T538,Tabelle!$B$5:$C$9,2,FALSE),5)))","v":""},null,null,null,null,null,null,null,{"$f":"IF(B538=\"\",0,IF(B538=B537,COUNTIF(B$9:B537,B538)+1,1))","v":526},0,0]
["531","-1900","-1900-527",null,null,null,null,null,null,null,null,null,null,null,null,null,null,null,null,null,{"$f":"IF(J$2019=1,\"\",IF(T539=\"\",\"\",RIGHT(VLOOKUP(T539,Tabelle!$B$5:$C$9,2,FALSE),5)))","v":""},null,null,null,null,null,null,null,{"$f":"IF(B539=\"\",0,IF(B539=B538,COUNTIF(B$9:B538,B539)+1,1))","v":527},0,0]
["532","-1900","-1900-528",null,null,null,null,null,null,null,null,null,null,null,null,null,null,null,null,null,{"$f":"IF(J$2019=1,\"\",IF(T540=\"\",\"\",RIGHT(VLOOKUP(T540,Tabelle!$B$5:$C$9,2,FALSE),5)))","v":""},null,null,null,null,null,null,null,{"$f":"IF(B540=\"\",0,IF(B540=B539,COUNTIF(B$9:B539,B540)+1,1))","v":528},0,0]
["533","-1900","-1900-529",null,null,null,null,null,null,null,null,null,null,null,null,null,null,null,null,null,{"$f":"IF(J$2019=1,\"\",IF(T541=\"\",\"\",RIGHT(VLOOKUP(T541,Tabelle!$B$5:$C$9,2,FALSE),5)))","v":""},null,null,null,null,null,null,null,{"$f":"IF(B541=\"\",0,IF(B541=B540,COUNTIF(B$9:B540,B541)+1,1))","v":529},0,0]
["534","-1900","-1900-530",null,null,null,null,null,null,null,null,null,null,null,null,null,null,null,null,null,{"$f":"IF(J$2019=1,\"\",IF(T542=\"\",\"\",RIGHT(VLOOKUP(T542,Tabelle!$B$5:$C$9,2,FALSE),5)))","v":""},null,null,null,null,null,null,null,{"$f":"IF(B542=\"\",0,IF(B542=B541,COUNTIF(B$9:B541,B542)+1,1))","v":530},0,0]
["535","-1900","-1900-531",null,null,null,null,null,null,null,null,null,null,null,null,null,null,null,null,null,{"$f":"IF(J$2019=1,\"\",IF(T543=\"\",\"\",RIGHT(VLOOKUP(T543,Tabelle!$B$5:$C$9,2,FALSE),5)))","v":""},null,null,null,null,null,null,null,{"$f":"IF(B543=\"\",0,IF(B543=B542,COUNTIF(B$9:B542,B543)+1,1))","v":531},0,0]
["536","-1900","-1900-532",null,null,null,null,null,null,null,null,null,null,null,null,null,null,null,null,null,{"$f":"IF(J$2019=1,\"\",IF(T544=\"\",\"\",RIGHT(VLOOKUP(T544,Tabelle!$B$5:$C$9,2,FALSE),5)))","v":""},null,null,null,null,null,null,null,{"$f":"IF(B544=\"\",0,IF(B544=B543,COUNTIF(B$9:B543,B544)+1,1))","v":532},0,0]
["537","-1900","-1900-533",null,null,null,null,null,null,null,null,null,null,null,null,null,null,null,null,null,{"$f":"IF(J$2019=1,\"\",IF(T545=\"\",\"\",RIGHT(VLOOKUP(T545,Tabelle!$B$5:$C$9,2,FALSE),5)))","v":""},null,null,null,null,null,null,null,{"$f":"IF(B545=\"\",0,IF(B545=B544,COUNTIF(B$9:B544,B545)+1,1))","v":533},0,0]
["538","-1900","-1900-534",null,null,null,null,null,null,null,null,null,null,null,null,null,null,null,null,null,{"$f":"IF(J$2019=1,\"\",IF(T546=\"\",\"\",RIGHT(VLOOKUP(T546,Tabelle!$B$5:$C$9,2,FALSE),5)))","v":""},null,null,null,null,null,null,null,{"$f":"IF(B546=\"\",0,IF(B546=B545,COUNTIF(B$9:B545,B546)+1,1))","v":534},0,0]
["539","-1900","-1900-535",null,null,null,null,null,null,null,null,null,null,null,null,null,null,null,null,null,{"$f":"IF(J$2019=1,\"\",IF(T547=\"\",\"\",RIGHT(VLOOKUP(T547,Tabelle!$B$5:$C$9,2,FALSE),5)))","v":""},null,null,null,null,null,null,null,{"$f":"IF(B547=\"\",0,IF(B547=B546,COUNTIF(B$9:B546,B547)+1,1))","v":535},0,0]
["540","-1900","-1900-536",null,null,null,null,null,null,null,null,null,null,null,null,null,null,null,null,null,{"$f":"IF(J$2019=1,\"\",IF(T548=\"\",\"\",RIGHT(VLOOKUP(T548,Tabelle!$B$5:$C$9,2,FALSE),5)))","v":""},null,null,null,null,null,null,null,{"$f":"IF(B548=\"\",0,IF(B548=B547,COUNTIF(B$9:B547,B548)+1,1))","v":536},0,0]
["541","-1900","-1900-537",null,null,null,null,null,null,null,null,null,null,null,null,null,null,null,null,null,{"$f":"IF(J$2019=1,\"\",IF(T549=\"\",\"\",RIGHT(VLOOKUP(T549,Tabelle!$B$5:$C$9,2,FALSE),5)))","v":""},null,null,null,null,null,null,null,{"$f":"IF(B549=\"\",0,IF(B549=B548,COUNTIF(B$9:B548,B549)+1,1))","v":537},0,0]
["542","-1900","-1900-538",null,null,null,null,null,null,null,null,null,null,null,null,null,null,null,null,null,{"$f":"IF(J$2019=1,\"\",IF(T550=\"\",\"\",RIGHT(VLOOKUP(T550,Tabelle!$B$5:$C$9,2,FALSE),5)))","v":""},null,null,null,null,null,null,null,{"$f":"IF(B550=\"\",0,IF(B550=B549,COUNTIF(B$9:B549,B550)+1,1))","v":538},0,0]
["543","-1900","-1900-539",null,null,null,null,null,null,null,null,null,null,null,null,null,null,null,null,null,{"$f":"IF(J$2019=1,\"\",IF(T551=\"\",\"\",RIGHT(VLOOKUP(T551,Tabelle!$B$5:$C$9,2,FALSE),5)))","v":""},null,null,null,null,null,null,null,{"$f":"IF(B551=\"\",0,IF(B551=B550,COUNTIF(B$9:B550,B551)+1,1))","v":539},0,0]
["544","-1900","-1900-540",null,null,null,null,null,null,null,null,null,null,null,null,null,null,null,null,null,{"$f":"IF(J$2019=1,\"\",IF(T552=\"\",\"\",RIGHT(VLOOKUP(T552,Tabelle!$B$5:$C$9,2,FALSE),5)))","v":""},null,null,null,null,null,null,null,{"$f":"IF(B552=\"\",0,IF(B552=B551,COUNTIF(B$9:B551,B552)+1,1))","v":540},0,0]
["545","-1900","-1900-541",null,null,null,null,null,null,null,null,null,null,null,null,null,null,null,null,null,{"$f":"IF(J$2019=1,\"\",IF(T553=\"\",\"\",RIGHT(VLOOKUP(T553,Tabelle!$B$5:$C$9,2,FALSE),5)))","v":""},null,null,null,null,null,null,null,{"$f":"IF(B553=\"\",0,IF(B553=B552,COUNTIF(B$9:B552,B553)+1,1))","v":541},0,0]
["546","-1900","-1900-542",null,null,null,null,null,null,null,null,null,null,null,null,null,null,null,null,null,{"$f":"IF(J$2019=1,\"\",IF(T554=\"\",\"\",RIGHT(VLOOKUP(T554,Tabelle!$B$5:$C$9,2,FALSE),5)))","v":""},null,null,null,null,null,null,null,{"$f":"IF(B554=\"\",0,IF(B554=B553,COUNTIF(B$9:B553,B554)+1,1))","v":542},0,0]
["547","-1900","-1900-543",null,null,null,null,null,null,null,null,null,null,null,null,null,null,null,null,null,{"$f":"IF(J$2019=1,\"\",IF(T555=\"\",\"\",RIGHT(VLOOKUP(T555,Tabelle!$B$5:$C$9,2,FALSE),5)))","v":""},null,null,null,null,null,null,null,{"$f":"IF(B555=\"\",0,IF(B555=B554,COUNTIF(B$9:B554,B555)+1,1))","v":543},0,0]
["548","-1900","-1900-544",null,null,null,null,null,null,null,null,null,null,null,null,null,null,null,null,null,{"$f":"IF(J$2019=1,\"\",IF(T556=\"\",\"\",RIGHT(VLOOKUP(T556,Tabelle!$B$5:$C$9,2,FALSE),5)))","v":""},null,null,null,null,null,null,null,{"$f":"IF(B556=\"\",0,IF(B556=B555,COUNTIF(B$9:B555,B556)+1,1))","v":544},0,0]
["549","-1900","-1900-545",null,null,null,null,null,null,null,null,null,null,null,null,null,null,null,null,null,{"$f":"IF(J$2019=1,\"\",IF(T557=\"\",\"\",RIGHT(VLOOKUP(T557,Tabelle!$B$5:$C$9,2,FALSE),5)))","v":""},null,null,null,null,null,null,null,{"$f":"IF(B557=\"\",0,IF(B557=B556,COUNTIF(B$9:B556,B557)+1,1))","v":545},0,0]
["550","-1900","-1900-546",null,null,null,null,null,null,null,null,null,null,null,null,null,null,null,null,null,{"$f":"IF(J$2019=1,\"\",IF(T558=\"\",\"\",RIGHT(VLOOKUP(T558,Tabelle!$B$5:$C$9,2,FALSE),5)))","v":""},null,null,null,null,null,null,null,{"$f":"IF(B558=\"\",0,IF(B558=B557,COUNTIF(B$9:B557,B558)+1,1))","v":546},0,0]
["551","-1900","-1900-547",null,null,null,null,null,null,null,null,null,null,null,null,null,null,null,null,null,{"$f":"IF(J$2019=1,\"\",IF(T559=\"\",\"\",RIGHT(VLOOKUP(T559,Tabelle!$B$5:$C$9,2,FALSE),5)))","v":""},null,null,null,null,null,null,null,{"$f":"IF(B559=\"\",0,IF(B559=B558,COUNTIF(B$9:B558,B559)+1,1))","v":547},0,0]
["552","-1900","-1900-548",null,null,null,null,null,null,null,null,null,null,null,null,null,null,null,null,null,{"$f":"IF(J$2019=1,\"\",IF(T560=\"\",\"\",RIGHT(VLOOKUP(T560,Tabelle!$B$5:$C$9,2,FALSE),5)))","v":""},null,null,null,null,null,null,null,{"$f":"IF(B560=\"\",0,IF(B560=B559,COUNTIF(B$9:B559,B560)+1,1))","v":548},0,0]
["553","-1900","-1900-549",null,null,null,null,null,null,null,null,null,null,null,null,null,null,null,null,null,{"$f":"IF(J$2019=1,\"\",IF(T561=\"\",\"\",RIGHT(VLOOKUP(T561,Tabelle!$B$5:$C$9,2,FALSE),5)))","v":""},null,null,null,null,null,null,null,{"$f":"IF(B561=\"\",0,IF(B561=B560,COUNTIF(B$9:B560,B561)+1,1))","v":549},0,0]
["554","-1900","-1900-550",null,null,null,null,null,null,null,null,null,null,null,null,null,null,null,null,null,{"$f":"IF(J$2019=1,\"\",IF(T562=\"\",\"\",RIGHT(VLOOKUP(T562,Tabelle!$B$5:$C$9,2,FALSE),5)))","v":""},null,null,null,null,null,null,null,{"$f":"IF(B562=\"\",0,IF(B562=B561,COUNTIF(B$9:B561,B562)+1,1))","v":550},0,0]
["555","-1900","-1900-551",null,null,null,null,null,null,null,null,null,null,null,null,null,null,null,null,null,{"$f":"IF(J$2019=1,\"\",IF(T563=\"\",\"\",RIGHT(VLOOKUP(T563,Tabelle!$B$5:$C$9,2,FALSE),5)))","v":""},null,null,null,null,null,null,null,{"$f":"IF(B563=\"\",0,IF(B563=B562,COUNTIF(B$9:B562,B563)+1,1))","v":551},0,0]
["556","-1900","-1900-552",null,null,null,null,null,null,null,null,null,null,null,null,null,null,null,null,null,{"$f":"IF(J$2019=1,\"\",IF(T564=\"\",\"\",RIGHT(VLOOKUP(T564,Tabelle!$B$5:$C$9,2,FALSE),5)))","v":""},null,null,null,null,null,null,null,{"$f":"IF(B564=\"\",0,IF(B564=B563,COUNTIF(B$9:B563,B564)+1,1))","v":552},0,0]
["557","-1900","-1900-553",null,null,null,null,null,null,null,null,null,null,null,null,null,null,null,null,null,{"$f":"IF(J$2019=1,\"\",IF(T565=\"\",\"\",RIGHT(VLOOKUP(T565,Tabelle!$B$5:$C$9,2,FALSE),5)))","v":""},null,null,null,null,null,null,null,{"$f":"IF(B565=\"\",0,IF(B565=B564,COUNTIF(B$9:B564,B565)+1,1))","v":553},0,0]
["558","-1900","-1900-554",null,null,null,null,null,null,null,null,null,null,null,null,null,null,null,null,null,{"$f":"IF(J$2019=1,\"\",IF(T566=\"\",\"\",RIGHT(VLOOKUP(T566,Tabelle!$B$5:$C$9,2,FALSE),5)))","v":""},null,null,null,null,null,null,null,{"$f":"IF(B566=\"\",0,IF(B566=B565,COUNTIF(B$9:B565,B566)+1,1))","v":554},0,0]
["559","-1900","-1900-555",null,null,null,null,null,null,null,null,null,null,null,null,null,null,null,null,null,{"$f":"IF(J$2019=1,\"\",IF(T567=\"\",\"\",RIGHT(VLOOKUP(T567,Tabelle!$B$5:$C$9,2,FALSE),5)))","v":""},null,null,null,null,null,null,null,{"$f":"IF(B567=\"\",0,IF(B567=B566,COUNTIF(B$9:B566,B567)+1,1))","v":555},0,0]
["560","-1900","-1900-556",null,null,null,null,null,null,null,null,null,null,null,null,null,null,null,null,null,{"$f":"IF(J$2019=1,\"\",IF(T568=\"\",\"\",RIGHT(VLOOKUP(T568,Tabelle!$B$5:$C$9,2,FALSE),5)))","v":""},null,null,null,null,null,null,null,{"$f":"IF(B568=\"\",0,IF(B568=B567,COUNTIF(B$9:B567,B568)+1,1))","v":556},0,0]
["561","-1900","-1900-557",null,null,null,null,null,null,null,null,null,null,null,null,null,null,null,null,null,{"$f":"IF(J$2019=1,\"\",IF(T569=\"\",\"\",RIGHT(VLOOKUP(T569,Tabelle!$B$5:$C$9,2,FALSE),5)))","v":""},null,null,null,null,null,null,null,{"$f":"IF(B569=\"\",0,IF(B569=B568,COUNTIF(B$9:B568,B569)+1,1))","v":557},0,0]
["562","-1900","-1900-558",null,null,null,null,null,null,null,null,null,null,null,null,null,null,null,null,null,{"$f":"IF(J$2019=1,\"\",IF(T570=\"\",\"\",RIGHT(VLOOKUP(T570,Tabelle!$B$5:$C$9,2,FALSE),5)))","v":""},null,null,null,null,null,null,null,{"$f":"IF(B570=\"\",0,IF(B570=B569,COUNTIF(B$9:B569,B570)+1,1))","v":558},0,0]
["563","-1900","-1900-559",null,null,null,null,null,null,null,null,null,null,null,null,null,null,null,null,null,{"$f":"IF(J$2019=1,\"\",IF(T571=\"\",\"\",RIGHT(VLOOKUP(T571,Tabelle!$B$5:$C$9,2,FALSE),5)))","v":""},null,null,null,null,null,null,null,{"$f":"IF(B571=\"\",0,IF(B571=B570,COUNTIF(B$9:B570,B571)+1,1))","v":559},0,0]
["564","-1900","-1900-560",null,null,null,null,null,null,null,null,null,null,null,null,null,null,null,null,null,{"$f":"IF(J$2019=1,\"\",IF(T572=\"\",\"\",RIGHT(VLOOKUP(T572,Tabelle!$B$5:$C$9,2,FALSE),5)))","v":""},null,null,null,null,null,null,null,{"$f":"IF(B572=\"\",0,IF(B572=B571,COUNTIF(B$9:B571,B572)+1,1))","v":560},0,0]
["565","-1900","-1900-561",null,null,null,null,null,null,null,null,null,null,null,null,null,null,null,null,null,{"$f":"IF(J$2019=1,\"\",IF(T573=\"\",\"\",RIGHT(VLOOKUP(T573,Tabelle!$B$5:$C$9,2,FALSE),5)))","v":""},null,null,null,null,null,null,null,{"$f":"IF(B573=\"\",0,IF(B573=B572,COUNTIF(B$9:B572,B573)+1,1))","v":561},0,0]
["566","-1900","-1900-562",null,null,null,null,null,null,null,null,null,null,null,null,null,null,null,null,null,{"$f":"IF(J$2019=1,\"\",IF(T574=\"\",\"\",RIGHT(VLOOKUP(T574,Tabelle!$B$5:$C$9,2,FALSE),5)))","v":""},null,null,null,null,null,null,null,{"$f":"IF(B574=\"\",0,IF(B574=B573,COUNTIF(B$9:B573,B574)+1,1))","v":562},0,0]
["567","-1900","-1900-563",null,null,null,null,null,null,null,null,null,null,null,null,null,null,null,null,null,{"$f":"IF(J$2019=1,\"\",IF(T575=\"\",\"\",RIGHT(VLOOKUP(T575,Tabelle!$B$5:$C$9,2,FALSE),5)))","v":""},null,null,null,null,null,null,null,{"$f":"IF(B575=\"\",0,IF(B575=B574,COUNTIF(B$9:B574,B575)+1,1))","v":563},0,0]
["568","-1900","-1900-564",null,null,null,null,null,null,null,null,null,null,null,null,null,null,null,null,null,{"$f":"IF(J$2019=1,\"\",IF(T576=\"\",\"\",RIGHT(VLOOKUP(T576,Tabelle!$B$5:$C$9,2,FALSE),5)))","v":""},null,null,null,null,null,null,null,{"$f":"IF(B576=\"\",0,IF(B576=B575,COUNTIF(B$9:B575,B576)+1,1))","v":564},0,0]
["569","-1900","-1900-565",null,null,null,null,null,null,null,null,null,null,null,null,null,null,null,null,null,{"$f":"IF(J$2019=1,\"\",IF(T577=\"\",\"\",RIGHT(VLOOKUP(T577,Tabelle!$B$5:$C$9,2,FALSE),5)))","v":""},null,null,null,null,null,null,null,{"$f":"IF(B577=\"\",0,IF(B577=B576,COUNTIF(B$9:B576,B577)+1,1))","v":565},0,0]
["570","-1900","-1900-566",null,null,null,null,null,null,null,null,null,null,null,null,null,null,null,null,null,{"$f":"IF(J$2019=1,\"\",IF(T578=\"\",\"\",RIGHT(VLOOKUP(T578,Tabelle!$B$5:$C$9,2,FALSE),5)))","v":""},null,null,null,null,null,null,null,{"$f":"IF(B578=\"\",0,IF(B578=B577,COUNTIF(B$9:B577,B578)+1,1))","v":566},0,0]
["571","-1900","-1900-567",null,null,null,null,null,null,null,null,null,null,null,null,null,null,null,null,null,{"$f":"IF(J$2019=1,\"\",IF(T579=\"\",\"\",RIGHT(VLOOKUP(T579,Tabelle!$B$5:$C$9,2,FALSE),5)))","v":""},null,null,null,null,null,null,null,{"$f":"IF(B579=\"\",0,IF(B579=B578,COUNTIF(B$9:B578,B579)+1,1))","v":567},0,0]
["572","-1900","-1900-568",null,null,null,null,null,null,null,null,null,null,null,null,null,null,null,null,null,{"$f":"IF(J$2019=1,\"\",IF(T580=\"\",\"\",RIGHT(VLOOKUP(T580,Tabelle!$B$5:$C$9,2,FALSE),5)))","v":""},null,null,null,null,null,null,null,{"$f":"IF(B580=\"\",0,IF(B580=B579,COUNTIF(B$9:B579,B580)+1,1))","v":568},0,0]
["573","-1900","-1900-569",null,null,null,null,null,null,null,null,null,null,null,null,null,null,null,null,null,{"$f":"IF(J$2019=1,\"\",IF(T581=\"\",\"\",RIGHT(VLOOKUP(T581,Tabelle!$B$5:$C$9,2,FALSE),5)))","v":""},null,null,null,null,null,null,null,{"$f":"IF(B581=\"\",0,IF(B581=B580,COUNTIF(B$9:B580,B581)+1,1))","v":569},0,0]
["574","-1900","-1900-570",null,null,null,null,null,null,null,null,null,null,null,null,null,null,null,null,null,{"$f":"IF(J$2019=1,\"\",IF(T582=\"\",\"\",RIGHT(VLOOKUP(T582,Tabelle!$B$5:$C$9,2,FALSE),5)))","v":""},null,null,null,null,null,null,null,{"$f":"IF(B582=\"\",0,IF(B582=B581,COUNTIF(B$9:B581,B582)+1,1))","v":570},0,0]
["575","-1900","-1900-571",null,null,null,null,null,null,null,null,null,null,null,null,null,null,null,null,null,{"$f":"IF(J$2019=1,\"\",IF(T583=\"\",\"\",RIGHT(VLOOKUP(T583,Tabelle!$B$5:$C$9,2,FALSE),5)))","v":""},null,null,null,null,null,null,null,{"$f":"IF(B583=\"\",0,IF(B583=B582,COUNTIF(B$9:B582,B583)+1,1))","v":571},0,0]
["576","-1900","-1900-572",null,null,null,null,null,null,null,null,null,null,null,null,null,null,null,null,null,{"$f":"IF(J$2019=1,\"\",IF(T584=\"\",\"\",RIGHT(VLOOKUP(T584,Tabelle!$B$5:$C$9,2,FALSE),5)))","v":""},null,null,null,null,null,null,null,{"$f":"IF(B584=\"\",0,IF(B584=B583,COUNTIF(B$9:B583,B584)+1,1))","v":572},0,0]
["577","-1900","-1900-573",null,null,null,null,null,null,null,null,null,null,null,null,null,null,null,null,null,{"$f":"IF(J$2019=1,\"\",IF(T585=\"\",\"\",RIGHT(VLOOKUP(T585,Tabelle!$B$5:$C$9,2,FALSE),5)))","v":""},null,null,null,null,null,null,null,{"$f":"IF(B585=\"\",0,IF(B585=B584,COUNTIF(B$9:B584,B585)+1,1))","v":573},0,0]
["578",{"$f":"IF(AE586=$AE$2013,0,IF(J$2019=1,0,D586&\"-\"&YEAR(E586)))","v":"-1900"},"-1900-574",null,null,null,null,null,null,null,null,null,null,null,null,null,null,null,null,null,{"$f":"IF(J$2019=1,\"\",IF(T586=\"\",\"\",RIGHT(VLOOKUP(T586,Tabelle!$B$5:$C$9,2,FALSE),5)))","v":""},null,null,null,null,null,null,null,{"$f":"IF(B586=\"\",0,IF(B586=B585,COUNTIF(B$9:B585,B586)+1,1))","v":574},0,{"$f":"IF(E586>0,IF(OR(MONTH(E586)<$J$2025,MONTH(E586)>$J$2026),AE$2013,0),0)","v":0}]
["579","-1900","-1900-575",null,null,null,null,null,null,null,null,null,null,null,null,null,null,null,null,null,{"$f":"IF(J$2019=1,\"\",IF(T587=\"\",\"\",RIGHT(VLOOKUP(T587,Tabelle!$B$5:$C$9,2,FALSE),5)))","v":""},null,null,null,null,null,null,null,{"$f":"IF(B587=\"\",0,IF(B587=B586,COUNTIF(B$9:B586,B587)+1,1))","v":575},0,0]
["580","-1900","-1900-576",null,null,null,null,null,null,null,null,null,null,null,null,null,null,null,null,null,{"$f":"IF(J$2019=1,\"\",IF(T588=\"\",\"\",RIGHT(VLOOKUP(T588,Tabelle!$B$5:$C$9,2,FALSE),5)))","v":""},null,null,null,null,null,null,null,{"$f":"IF(B588=\"\",0,IF(B588=B587,COUNTIF(B$9:B587,B588)+1,1))","v":576},0,0]
["581","-1900","-1900-577",null,null,null,null,null,null,null,null,null,null,null,null,null,null,null,null,null,{"$f":"IF(J$2019=1,\"\",IF(T589=\"\",\"\",RIGHT(VLOOKUP(T589,Tabelle!$B$5:$C$9,2,FALSE),5)))","v":""},null,null,null,null,null,null,null,{"$f":"IF(B589=\"\",0,IF(B589=B588,COUNTIF(B$9:B588,B589)+1,1))","v":577},0,0]
["582","-1900","-1900-578",null,null,null,null,null,null,null,null,null,null,null,null,null,null,null,null,null,{"$f":"IF(J$2019=1,\"\",IF(T590=\"\",\"\",RIGHT(VLOOKUP(T590,Tabelle!$B$5:$C$9,2,FALSE),5)))","v":""},null,null,null,null,null,null,null,{"$f":"IF(B590=\"\",0,IF(B590=B589,COUNTIF(B$9:B589,B590)+1,1))","v":578},0,0]
["583","-1900","-1900-579",null,null,null,null,null,null,null,null,null,null,null,null,null,null,null,null,null,{"$f":"IF(J$2019=1,\"\",IF(T591=\"\",\"\",RIGHT(VLOOKUP(T591,Tabelle!$B$5:$C$9,2,FALSE),5)))","v":""},null,null,null,null,null,null,null,{"$f":"IF(B591=\"\",0,IF(B591=B590,COUNTIF(B$9:B590,B591)+1,1))","v":579},0,0]
["584","-1900","-1900-580",null,null,null,null,null,null,null,null,null,null,null,null,null,null,null,null,null,{"$f":"IF(J$2019=1,\"\",IF(T592=\"\",\"\",RIGHT(VLOOKUP(T592,Tabelle!$B$5:$C$9,2,FALSE),5)))","v":""},null,null,null,null,null,null,null,{"$f":"IF(B592=\"\",0,IF(B592=B591,COUNTIF(B$9:B591,B592)+1,1))","v":580},0,0]
["585","-1900","-1900-581",null,null,null,null,null,null,null,null,null,null,null,null,null,null,null,null,null,{"$f":"IF(J$2019=1,\"\",IF(T593=\"\",\"\",RIGHT(VLOOKUP(T593,Tabelle!$B$5:$C$9,2,FALSE),5)))","v":""},null,null,null,null,null,null,null,{"$f":"IF(B593=\"\",0,IF(B593=B592,COUNTIF(B$9:B592,B593)+1,1))","v":581},0,0]
["586","-1900","-1900-582",null,null,null,null,null,null,null,null,null,null,null,null,null,null,null,null,null,{"$f":"IF(J$2019=1,\"\",IF(T594=\"\",\"\",RIGHT(VLOOKUP(T594,Tabelle!$B$5:$C$9,2,FALSE),5)))","v":""},null,null,null,null,null,null,null,{"$f":"IF(B594=\"\",0,IF(B594=B593,COUNTIF(B$9:B593,B594)+1,1))","v":582},0,0]
["587","-1900","-1900-583",null,null,null,null,null,null,null,null,null,null,null,null,null,null,null,null,null,{"$f":"IF(J$2019=1,\"\",IF(T595=\"\",\"\",RIGHT(VLOOKUP(T595,Tabelle!$B$5:$C$9,2,FALSE),5)))","v":""},null,null,null,null,null,null,null,{"$f":"IF(B595=\"\",0,IF(B595=B594,COUNTIF(B$9:B594,B595)+1,1))","v":583},0,0]
["588","-1900","-1900-584",null,null,null,null,null,null,null,null,null,null,null,null,null,null,null,null,null,{"$f":"IF(J$2019=1,\"\",IF(T596=\"\",\"\",RIGHT(VLOOKUP(T596,Tabelle!$B$5:$C$9,2,FALSE),5)))","v":""},null,null,null,null,null,null,null,{"$f":"IF(B596=\"\",0,IF(B596=B595,COUNTIF(B$9:B595,B596)+1,1))","v":584},0,0]
["589","-1900","-1900-585",null,null,null,null,null,null,null,null,null,null,null,null,null,null,null,null,null,{"$f":"IF(J$2019=1,\"\",IF(T597=\"\",\"\",RIGHT(VLOOKUP(T597,Tabelle!$B$5:$C$9,2,FALSE),5)))","v":""},null,null,null,null,null,null,null,{"$f":"IF(B597=\"\",0,IF(B597=B596,COUNTIF(B$9:B596,B597)+1,1))","v":585},{"$f":"IF(OR(D597=\"\",J$2019=1),0,IF(AC597=28,1,0))","v":0},0]
["590","-1900","-1900-586",null,null,null,null,null,null,null,null,null,null,null,null,null,null,null,null,null,{"$f":"IF(J$2019=1,\"\",IF(T598=\"\",\"\",RIGHT(VLOOKUP(T598,Tabelle!$B$5:$C$9,2,FALSE),5)))","v":""},null,null,null,null,null,null,null,{"$f":"IF(B598=\"\",0,IF(B598=B597,COUNTIF(B$9:B597,B598)+1,1))","v":586},0,0]
["591","-1900",{"$f":"IF(J$2019=1,0,B599&\"-\"&AC599)","v":"-1900-587"},null,null,null,null,null,null,null,null,null,null,null,null,null,null,null,null,null,{"$f":"IF(J$2019=1,\"\",IF(T599=\"\",\"\",RIGHT(VLOOKUP(T599,Tabelle!$B$5:$C$9,2,FALSE),5)))","v":""},null,null,null,null,null,null,null,{"$f":"IF(B599=\"\",0,IF(B599=B598,COUNTIF(B$9:B598,B599)+1,1))","v":587},0,0]
["592","-1900","-1900-588",null,null,null,null,null,null,null,null,null,null,null,null,null,null,null,null,null,{"$f":"IF(J$2019=1,\"\",IF(T600=\"\",\"\",RIGHT(VLOOKUP(T600,Tabelle!$B$5:$C$9,2,FALSE),5)))","v":""},null,null,null,null,null,null,null,{"$f":"IF(B600=\"\",0,IF(B600=B599,COUNTIF(B$9:B599,B600)+1,1))","v":588},0,0]
["593","-1900","-1900-589",null,null,null,null,null,null,null,null,null,null,null,null,null,null,null,null,null,{"$f":"IF(J$2019=1,\"\",IF(T601=\"\",\"\",RIGHT(VLOOKUP(T601,Tabelle!$B$5:$C$9,2,FALSE),5)))","v":""},null,null,null,null,null,null,null,{"$f":"IF(B601=\"\",0,IF(B601=B600,COUNTIF(B$9:B600,B601)+1,1))","v":589},0,0]
["594","-1900","-1900-590",null,null,null,null,null,null,null,null,null,null,null,null,null,null,null,null,null,{"$f":"IF(J$2019=1,\"\",IF(T602=\"\",\"\",RIGHT(VLOOKUP(T602,Tabelle!$B$5:$C$9,2,FALSE),5)))","v":""},null,null,null,null,null,null,null,{"$f":"IF(B602=\"\",0,IF(B602=B601,COUNTIF(B$9:B601,B602)+1,1))","v":590},0,0]
["595","-1900","-1900-591",null,null,null,null,null,null,null,null,null,null,null,null,null,null,null,null,null,{"$f":"IF(J$2019=1,\"\",IF(T603=\"\",\"\",RIGHT(VLOOKUP(T603,Tabelle!$B$5:$C$9,2,FALSE),5)))","v":""},null,null,null,null,null,null,null,{"$f":"IF(B603=\"\",0,IF(B603=B602,COUNTIF(B$9:B602,B603)+1,1))","v":591},0,0]
["596","-1900","-1900-592",null,null,null,null,null,null,null,null,null,null,null,null,null,null,null,null,null,{"$f":"IF(J$2019=1,\"\",IF(T604=\"\",\"\",RIGHT(VLOOKUP(T604,Tabelle!$B$5:$C$9,2,FALSE),5)))","v":""},null,null,null,null,null,null,null,{"$f":"IF(B604=\"\",0,IF(B604=B603,COUNTIF(B$9:B603,B604)+1,1))","v":592},0,0]
["597","-1900","-1900-593",null,null,null,null,null,null,null,null,null,null,null,null,null,null,null,null,null,{"$f":"IF(J$2019=1,\"\",IF(T605=\"\",\"\",RIGHT(VLOOKUP(T605,Tabelle!$B$5:$C$9,2,FALSE),5)))","v":""},null,null,null,null,null,null,null,{"$f":"IF(B605=\"\",0,IF(B605=B604,COUNTIF(B$9:B604,B605)+1,1))","v":593},0,0]
["598","-1900","-1900-594",null,null,null,null,null,null,null,null,null,null,null,null,null,null,null,null,null,{"$f":"IF(J$2019=1,\"\",IF(T606=\"\",\"\",RIGHT(VLOOKUP(T606,Tabelle!$B$5:$C$9,2,FALSE),5)))","v":""},null,null,null,null,null,null,null,{"$f":"IF(B606=\"\",0,IF(B606=B605,COUNTIF(B$9:B605,B606)+1,1))","v":594},0,0]
["599","-1900","-1900-595",null,null,null,null,null,null,null,null,null,null,null,null,null,null,null,null,null,{"$f":"IF(J$2019=1,\"\",IF(T607=\"\",\"\",RIGHT(VLOOKUP(T607,Tabelle!$B$5:$C$9,2,FALSE),5)))","v":""},null,null,null,null,null,null,null,{"$f":"IF(B607=\"\",0,IF(B607=B606,COUNTIF(B$9:B606,B607)+1,1))","v":595},0,0]
["600","-1900","-1900-596",null,null,null,null,null,null,null,null,null,null,null,null,null,null,null,null,null,{"$f":"IF(J$2019=1,\"\",IF(T608=\"\",\"\",RIGHT(VLOOKUP(T608,Tabelle!$B$5:$C$9,2,FALSE),5)))","v":""},null,null,null,null,null,null,null,{"$f":"IF(B608=\"\",0,IF(B608=B607,COUNTIF(B$9:B607,B608)+1,1))","v":596},0,0]
["601","-1900","-1900-597",null,null,null,null,null,null,null,null,null,null,null,null,null,null,null,null,null,{"$f":"IF(J$2019=1,\"\",IF(T609=\"\",\"\",RIGHT(VLOOKUP(T609,Tabelle!$B$5:$C$9,2,FALSE),5)))","v":""},null,null,null,null,null,null,null,{"$f":"IF(B609=\"\",0,IF(B609=B608,COUNTIF(B$9:B608,B609)+1,1))","v":597},0,0]
["602","-1900","-1900-598",null,null,null,null,null,null,null,null,null,null,null,null,null,null,null,null,null,{"$f":"IF(J$2019=1,\"\",IF(T610=\"\",\"\",RIGHT(VLOOKUP(T610,Tabelle!$B$5:$C$9,2,FALSE),5)))","v":""},null,null,null,null,null,null,null,{"$f":"IF(B610=\"\",0,IF(B610=B609,COUNTIF(B$9:B609,B610)+1,1))","v":598},0,0]
["603","-1900","-1900-599",null,null,null,null,null,null,null,null,null,null,null,null,null,null,null,null,null,{"$f":"IF(J$2019=1,\"\",IF(T611=\"\",\"\",RIGHT(VLOOKUP(T611,Tabelle!$B$5:$C$9,2,FALSE),5)))","v":""},null,null,null,null,null,null,null,{"$f":"IF(B611=\"\",0,IF(B611=B610,COUNTIF(B$9:B610,B611)+1,1))","v":599},0,0]
["604","-1900","-1900-600",null,null,null,null,null,null,null,null,null,null,null,null,null,null,null,null,null,{"$f":"IF(J$2019=1,\"\",IF(T612=\"\",\"\",RIGHT(VLOOKUP(T612,Tabelle!$B$5:$C$9,2,FALSE),5)))","v":""},null,null,null,null,null,null,null,{"$f":"IF(B612=\"\",0,IF(B612=B611,COUNTIF(B$9:B611,B612)+1,1))","v":600},0,0]
["605","-1900","-1900-601",null,null,null,null,null,null,null,null,null,null,null,null,null,null,null,null,null,{"$f":"IF(J$2019=1,\"\",IF(T613=\"\",\"\",RIGHT(VLOOKUP(T613,Tabelle!$B$5:$C$9,2,FALSE),5)))","v":""},null,null,null,null,null,null,null,{"$f":"IF(B613=\"\",0,IF(B613=B612,COUNTIF(B$9:B612,B613)+1,1))","v":601},0,0]
["606","-1900","-1900-602",null,null,null,null,null,null,null,null,null,null,null,null,null,null,null,null,null,{"$f":"IF(J$2019=1,\"\",IF(T614=\"\",\"\",RIGHT(VLOOKUP(T614,Tabelle!$B$5:$C$9,2,FALSE),5)))","v":""},null,null,null,null,null,null,null,{"$f":"IF(B614=\"\",0,IF(B614=B613,COUNTIF(B$9:B613,B614)+1,1))","v":602},0,0]
["607","-1900","-1900-603",null,null,null,null,null,null,null,null,null,null,null,null,null,null,null,null,null,{"$f":"IF(J$2019=1,\"\",IF(T615=\"\",\"\",RIGHT(VLOOKUP(T615,Tabelle!$B$5:$C$9,2,FALSE),5)))","v":""},null,null,null,null,null,null,null,{"$f":"IF(B615=\"\",0,IF(B615=B614,COUNTIF(B$9:B614,B615)+1,1))","v":603},0,0]
["608","-1900","-1900-604",null,null,null,null,null,null,null,null,null,null,null,null,null,null,null,null,null,{"$f":"IF(J$2019=1,\"\",IF(T616=\"\",\"\",RIGHT(VLOOKUP(T616,Tabelle!$B$5:$C$9,2,FALSE),5)))","v":""},null,null,null,null,null,null,null,{"$f":"IF(B616=\"\",0,IF(B616=B615,COUNTIF(B$9:B615,B616)+1,1))","v":604},0,0]
["609","-1900","-1900-605",null,null,null,null,null,null,null,null,null,null,null,null,null,null,null,null,null,{"$f":"IF(J$2019=1,\"\",IF(T617=\"\",\"\",RIGHT(VLOOKUP(T617,Tabelle!$B$5:$C$9,2,FALSE),5)))","v":""},null,null,null,null,null,null,null,{"$f":"IF(B617=\"\",0,IF(B617=B616,COUNTIF(B$9:B616,B617)+1,1))","v":605},0,0]
["610","-1900","-1900-606",null,null,null,null,null,null,null,null,null,null,null,null,null,null,null,null,null,{"$f":"IF(J$2019=1,\"\",IF(T618=\"\",\"\",RIGHT(VLOOKUP(T618,Tabelle!$B$5:$C$9,2,FALSE),5)))","v":""},null,null,null,null,null,null,null,{"$f":"IF(B618=\"\",0,IF(B618=B617,COUNTIF(B$9:B617,B618)+1,1))","v":606},0,0]
["611","-1900","-1900-607",null,null,null,null,null,null,null,null,null,null,null,null,null,null,null,null,null,{"$f":"IF(J$2019=1,\"\",IF(T619=\"\",\"\",RIGHT(VLOOKUP(T619,Tabelle!$B$5:$C$9,2,FALSE),5)))","v":""},null,null,null,null,null,null,null,{"$f":"IF(B619=\"\",0,IF(B619=B618,COUNTIF(B$9:B618,B619)+1,1))","v":607},0,0]
["612","-1900","-1900-608",null,null,null,null,null,null,null,null,null,null,null,null,null,null,null,null,null,{"$f":"IF(J$2019=1,\"\",IF(T620=\"\",\"\",RIGHT(VLOOKUP(T620,Tabelle!$B$5:$C$9,2,FALSE),5)))","v":""},null,null,null,null,null,null,null,{"$f":"IF(B620=\"\",0,IF(B620=B619,COUNTIF(B$9:B619,B620)+1,1))","v":608},0,0]
["613","-1900","-1900-609",null,null,null,null,null,null,null,null,null,null,null,null,null,null,null,null,null,{"$f":"IF(J$2019=1,\"\",IF(T621=\"\",\"\",RIGHT(VLOOKUP(T621,Tabelle!$B$5:$C$9,2,FALSE),5)))","v":""},null,null,null,null,null,null,null,{"$f":"IF(B621=\"\",0,IF(B621=B620,COUNTIF(B$9:B620,B621)+1,1))","v":609},0,0]
["614","-1900","-1900-610",null,null,null,null,null,null,null,null,null,null,null,null,null,null,null,null,null,{"$f":"IF(J$2019=1,\"\",IF(T622=\"\",\"\",RIGHT(VLOOKUP(T622,Tabelle!$B$5:$C$9,2,FALSE),5)))","v":""},null,null,null,null,null,null,null,{"$f":"IF(B622=\"\",0,IF(B622=B621,COUNTIF(B$9:B621,B622)+1,1))","v":610},0,0]
["615","-1900","-1900-611",null,null,null,null,null,null,null,null,null,null,null,null,null,null,null,null,null,{"$f":"IF(J$2019=1,\"\",IF(T623=\"\",\"\",RIGHT(VLOOKUP(T623,Tabelle!$B$5:$C$9,2,FALSE),5)))","v":""},null,null,null,null,null,null,null,{"$f":"IF(B623=\"\",0,IF(B623=B622,COUNTIF(B$9:B622,B623)+1,1))","v":611},0,0]
["616","-1900","-1900-612",null,null,null,null,null,null,null,null,null,null,null,null,null,null,null,null,null,{"$f":"IF(J$2019=1,\"\",IF(T624=\"\",\"\",RIGHT(VLOOKUP(T624,Tabelle!$B$5:$C$9,2,FALSE),5)))","v":""},null,null,null,null,null,null,null,{"$f":"IF(B624=\"\",0,IF(B624=B623,COUNTIF(B$9:B623,B624)+1,1))","v":612},0,0]
["617","-1900","-1900-613",null,null,null,null,null,null,null,null,null,null,null,null,null,null,null,null,null,{"$f":"IF(J$2019=1,\"\",IF(T625=\"\",\"\",RIGHT(VLOOKUP(T625,Tabelle!$B$5:$C$9,2,FALSE),5)))","v":""},null,null,null,null,null,null,null,{"$f":"IF(B625=\"\",0,IF(B625=B624,COUNTIF(B$9:B624,B625)+1,1))","v":613},0,0]
["618","-1900","-1900-614",null,null,null,null,null,null,null,null,null,null,null,null,null,null,null,null,null,{"$f":"IF(J$2019=1,\"\",IF(T626=\"\",\"\",RIGHT(VLOOKUP(T626,Tabelle!$B$5:$C$9,2,FALSE),5)))","v":""},null,null,null,null,null,null,null,{"$f":"IF(B626=\"\",0,IF(B626=B625,COUNTIF(B$9:B625,B626)+1,1))","v":614},0,0]
["619","-1900","-1900-615",null,null,null,null,null,null,null,null,null,null,null,null,null,null,null,null,null,{"$f":"IF(J$2019=1,\"\",IF(T627=\"\",\"\",RIGHT(VLOOKUP(T627,Tabelle!$B$5:$C$9,2,FALSE),5)))","v":""},null,null,null,null,null,null,null,{"$f":"IF(B627=\"\",0,IF(B627=B626,COUNTIF(B$9:B626,B627)+1,1))","v":615},0,0]
["620","-1900","-1900-616",null,null,null,null,null,null,null,null,null,null,null,null,null,null,null,null,null,{"$f":"IF(J$2019=1,\"\",IF(T628=\"\",\"\",RIGHT(VLOOKUP(T628,Tabelle!$B$5:$C$9,2,FALSE),5)))","v":""},null,null,null,null,null,null,null,{"$f":"IF(B628=\"\",0,IF(B628=B627,COUNTIF(B$9:B627,B628)+1,1))","v":616},0,0]
["621","-1900","-1900-617",null,null,null,null,null,null,null,null,null,null,null,null,null,null,null,null,null,{"$f":"IF(J$2019=1,\"\",IF(T629=\"\",\"\",RIGHT(VLOOKUP(T629,Tabelle!$B$5:$C$9,2,FALSE),5)))","v":""},null,null,null,null,null,null,null,{"$f":"IF(B629=\"\",0,IF(B629=B628,COUNTIF(B$9:B628,B629)+1,1))","v":617},0,0]
["622","-1900","-1900-618",null,null,null,null,null,null,null,null,null,null,null,null,null,null,null,null,null,{"$f":"IF(J$2019=1,\"\",IF(T630=\"\",\"\",RIGHT(VLOOKUP(T630,Tabelle!$B$5:$C$9,2,FALSE),5)))","v":""},null,null,null,null,null,null,null,{"$f":"IF(B630=\"\",0,IF(B630=B629,COUNTIF(B$9:B629,B630)+1,1))","v":618},0,0]
["623","-1900","-1900-619",null,null,null,null,null,null,null,null,null,null,null,null,null,null,null,null,null,{"$f":"IF(J$2019=1,\"\",IF(T631=\"\",\"\",RIGHT(VLOOKUP(T631,Tabelle!$B$5:$C$9,2,FALSE),5)))","v":""},null,null,null,null,null,null,null,{"$f":"IF(B631=\"\",0,IF(B631=B630,COUNTIF(B$9:B630,B631)+1,1))","v":619},0,0]
["624","-1900","-1900-620",null,null,null,null,null,null,null,null,null,null,null,null,null,null,null,null,null,{"$f":"IF(J$2019=1,\"\",IF(T632=\"\",\"\",RIGHT(VLOOKUP(T632,Tabelle!$B$5:$C$9,2,FALSE),5)))","v":""},null,null,null,null,null,null,null,{"$f":"IF(B632=\"\",0,IF(B632=B631,COUNTIF(B$9:B631,B632)+1,1))","v":620},0,0]
["625","-1900","-1900-621",null,null,null,null,null,null,null,null,null,null,null,null,null,null,null,null,null,{"$f":"IF(J$2019=1,\"\",IF(T633=\"\",\"\",RIGHT(VLOOKUP(T633,Tabelle!$B$5:$C$9,2,FALSE),5)))","v":""},null,null,null,null,null,null,null,{"$f":"IF(B633=\"\",0,IF(B633=B632,COUNTIF(B$9:B632,B633)+1,1))","v":621},0,0]
["626","-1900","-1900-622",null,null,null,null,null,null,null,null,null,null,null,null,null,null,null,null,null,{"$f":"IF(J$2019=1,\"\",IF(T634=\"\",\"\",RIGHT(VLOOKUP(T634,Tabelle!$B$5:$C$9,2,FALSE),5)))","v":""},null,null,null,null,null,null,null,{"$f":"IF(B634=\"\",0,IF(B634=B633,COUNTIF(B$9:B633,B634)+1,1))","v":622},0,0]
["627","-1900","-1900-623",null,null,null,null,null,null,null,null,null,null,null,null,null,null,null,null,null,{"$f":"IF(J$2019=1,\"\",IF(T635=\"\",\"\",RIGHT(VLOOKUP(T635,Tabelle!$B$5:$C$9,2,FALSE),5)))","v":""},null,null,null,null,null,null,null,{"$f":"IF(B635=\"\",0,IF(B635=B634,COUNTIF(B$9:B634,B635)+1,1))","v":623},0,0]
["628","-1900","-1900-624",null,null,null,null,null,null,null,null,null,null,null,null,null,null,null,null,null,{"$f":"IF(J$2019=1,\"\",IF(T636=\"\",\"\",RIGHT(VLOOKUP(T636,Tabelle!$B$5:$C$9,2,FALSE),5)))","v":""},null,null,null,null,null,null,null,{"$f":"IF(B636=\"\",0,IF(B636=B635,COUNTIF(B$9:B635,B636)+1,1))","v":624},0,0]
["629","-1900","-1900-625",null,null,null,null,null,null,null,null,null,null,null,null,null,null,null,null,null,{"$f":"IF(J$2019=1,\"\",IF(T637=\"\",\"\",RIGHT(VLOOKUP(T637,Tabelle!$B$5:$C$9,2,FALSE),5)))","v":""},null,null,null,null,null,null,null,{"$f":"IF(B637=\"\",0,IF(B637=B636,COUNTIF(B$9:B636,B637)+1,1))","v":625},0,0]
["630","-1900","-1900-626",null,null,null,null,null,null,null,null,null,null,null,null,null,null,null,null,null,{"$f":"IF(J$2019=1,\"\",IF(T638=\"\",\"\",RIGHT(VLOOKUP(T638,Tabelle!$B$5:$C$9,2,FALSE),5)))","v":""},null,null,null,null,null,null,null,{"$f":"IF(B638=\"\",0,IF(B638=B637,COUNTIF(B$9:B637,B638)+1,1))","v":626},0,0]
["631","-1900","-1900-627",null,null,null,null,null,null,null,null,null,null,null,null,null,null,null,null,null,{"$f":"IF(J$2019=1,\"\",IF(T639=\"\",\"\",RIGHT(VLOOKUP(T639,Tabelle!$B$5:$C$9,2,FALSE),5)))","v":""},null,null,null,null,null,null,null,{"$f":"IF(B639=\"\",0,IF(B639=B638,COUNTIF(B$9:B638,B639)+1,1))","v":627},0,0]
["632","-1900","-1900-628",null,null,null,null,null,null,null,null,null,null,null,null,null,null,null,null,null,{"$f":"IF(J$2019=1,\"\",IF(T640=\"\",\"\",RIGHT(VLOOKUP(T640,Tabelle!$B$5:$C$9,2,FALSE),5)))","v":""},null,null,null,null,null,null,null,{"$f":"IF(B640=\"\",0,IF(B640=B639,COUNTIF(B$9:B639,B640)+1,1))","v":628},0,0]
["633","-1900","-1900-629",null,null,null,null,null,null,null,null,null,null,null,null,null,null,null,null,null,{"$f":"IF(J$2019=1,\"\",IF(T641=\"\",\"\",RIGHT(VLOOKUP(T641,Tabelle!$B$5:$C$9,2,FALSE),5)))","v":""},null,null,null,null,null,null,null,{"$f":"IF(B641=\"\",0,IF(B641=B640,COUNTIF(B$9:B640,B641)+1,1))","v":629},0,0]
["634","-1900","-1900-630",null,null,null,null,null,null,null,null,null,null,null,null,null,null,null,null,null,{"$f":"IF(J$2019=1,\"\",IF(T642=\"\",\"\",RIGHT(VLOOKUP(T642,Tabelle!$B$5:$C$9,2,FALSE),5)))","v":""},null,null,null,null,null,null,null,{"$f":"IF(B642=\"\",0,IF(B642=B641,COUNTIF(B$9:B641,B642)+1,1))","v":630},0,0]
["635","-1900","-1900-631",null,null,null,null,null,null,null,null,null,null,null,null,null,null,null,null,null,{"$f":"IF(J$2019=1,\"\",IF(T643=\"\",\"\",RIGHT(VLOOKUP(T643,Tabelle!$B$5:$C$9,2,FALSE),5)))","v":""},null,null,null,null,null,null,null,{"$f":"IF(B643=\"\",0,IF(B643=B642,COUNTIF(B$9:B642,B643)+1,1))","v":631},0,0]
["636","-1900","-1900-632",null,null,null,null,null,null,null,null,null,null,null,null,null,null,null,null,null,{"$f":"IF(J$2019=1,\"\",IF(T644=\"\",\"\",RIGHT(VLOOKUP(T644,Tabelle!$B$5:$C$9,2,FALSE),5)))","v":""},null,null,null,null,null,null,null,{"$f":"IF(B644=\"\",0,IF(B644=B643,COUNTIF(B$9:B643,B644)+1,1))","v":632},0,0]
["637","-1900","-1900-633",null,null,null,null,null,null,null,null,null,null,null,null,null,null,null,null,null,{"$f":"IF(J$2019=1,\"\",IF(T645=\"\",\"\",RIGHT(VLOOKUP(T645,Tabelle!$B$5:$C$9,2,FALSE),5)))","v":""},null,null,null,null,null,null,null,{"$f":"IF(B645=\"\",0,IF(B645=B644,COUNTIF(B$9:B644,B645)+1,1))","v":633},0,0]
["638","-1900","-1900-634",null,null,null,null,null,null,null,null,null,null,null,null,null,null,null,null,null,{"$f":"IF(J$2019=1,\"\",IF(T646=\"\",\"\",RIGHT(VLOOKUP(T646,Tabelle!$B$5:$C$9,2,FALSE),5)))","v":""},null,null,null,null,null,null,null,{"$f":"IF(B646=\"\",0,IF(B646=B645,COUNTIF(B$9:B645,B646)+1,1))","v":634},0,0]
["639","-1900","-1900-635",null,null,null,null,null,null,null,null,null,null,null,null,null,null,null,null,null,{"$f":"IF(J$2019=1,\"\",IF(T647=\"\",\"\",RIGHT(VLOOKUP(T647,Tabelle!$B$5:$C$9,2,FALSE),5)))","v":""},null,null,null,null,null,null,null,{"$f":"IF(B647=\"\",0,IF(B647=B646,COUNTIF(B$9:B646,B647)+1,1))","v":635},0,0]
["640","-1900","-1900-636",null,null,null,null,null,null,null,null,null,null,null,null,null,null,null,null,null,{"$f":"IF(J$2019=1,\"\",IF(T648=\"\",\"\",RIGHT(VLOOKUP(T648,Tabelle!$B$5:$C$9,2,FALSE),5)))","v":""},null,null,null,null,null,null,null,{"$f":"IF(B648=\"\",0,IF(B648=B647,COUNTIF(B$9:B647,B648)+1,1))","v":636},0,0]
["641","-1900","-1900-637",null,null,null,null,null,null,null,null,null,null,null,null,null,null,null,null,null,{"$f":"IF(J$2019=1,\"\",IF(T649=\"\",\"\",RIGHT(VLOOKUP(T649,Tabelle!$B$5:$C$9,2,FALSE),5)))","v":""},null,null,null,null,null,null,null,{"$f":"IF(B649=\"\",0,IF(B649=B648,COUNTIF(B$9:B648,B649)+1,1))","v":637},0,0]
["642",{"$f":"IF(AE650=$AE$2013,0,IF(J$2019=1,0,D650&\"-\"&YEAR(E650)))","v":"-1900"},"-1900-638",null,null,null,null,null,null,null,null,null,null,null,null,null,null,null,null,null,{"$f":"IF(J$2019=1,\"\",IF(T650=\"\",\"\",RIGHT(VLOOKUP(T650,Tabelle!$B$5:$C$9,2,FALSE),5)))","v":""},null,null,null,null,null,null,null,{"$f":"IF(B650=\"\",0,IF(B650=B649,COUNTIF(B$9:B649,B650)+1,1))","v":638},0,{"$f":"IF(E650>0,IF(OR(MONTH(E650)<$J$2025,MONTH(E650)>$J$2026),AE$2013,0),0)","v":0}]
["643","-1900","-1900-639",null,null,null,null,null,null,null,null,null,null,null,null,null,null,null,null,null,{"$f":"IF(J$2019=1,\"\",IF(T651=\"\",\"\",RIGHT(VLOOKUP(T651,Tabelle!$B$5:$C$9,2,FALSE),5)))","v":""},null,null,null,null,null,null,null,{"$f":"IF(B651=\"\",0,IF(B651=B650,COUNTIF(B$9:B650,B651)+1,1))","v":639},0,0]
["644","-1900","-1900-640",null,null,null,null,null,null,null,null,null,null,null,null,null,null,null,null,null,{"$f":"IF(J$2019=1,\"\",IF(T652=\"\",\"\",RIGHT(VLOOKUP(T652,Tabelle!$B$5:$C$9,2,FALSE),5)))","v":""},null,null,null,null,null,null,null,{"$f":"IF(B652=\"\",0,IF(B652=B651,COUNTIF(B$9:B651,B652)+1,1))","v":640},0,0]
["645","-1900","-1900-641",null,null,null,null,null,null,null,null,null,null,null,null,null,null,null,null,null,{"$f":"IF(J$2019=1,\"\",IF(T653=\"\",\"\",RIGHT(VLOOKUP(T653,Tabelle!$B$5:$C$9,2,FALSE),5)))","v":""},null,null,null,null,null,null,null,{"$f":"IF(B653=\"\",0,IF(B653=B652,COUNTIF(B$9:B652,B653)+1,1))","v":641},0,0]
["646","-1900","-1900-642",null,null,null,null,null,null,null,null,null,null,null,null,null,null,null,null,null,{"$f":"IF(J$2019=1,\"\",IF(T654=\"\",\"\",RIGHT(VLOOKUP(T654,Tabelle!$B$5:$C$9,2,FALSE),5)))","v":""},null,null,null,null,null,null,null,{"$f":"IF(B654=\"\",0,IF(B654=B653,COUNTIF(B$9:B653,B654)+1,1))","v":642},0,0]
["647","-1900","-1900-643",null,null,null,null,null,null,null,null,null,null,null,null,null,null,null,null,null,{"$f":"IF(J$2019=1,\"\",IF(T655=\"\",\"\",RIGHT(VLOOKUP(T655,Tabelle!$B$5:$C$9,2,FALSE),5)))","v":""},null,null,null,null,null,null,null,{"$f":"IF(B655=\"\",0,IF(B655=B654,COUNTIF(B$9:B654,B655)+1,1))","v":643},0,0]
["648","-1900","-1900-644",null,null,null,null,null,null,null,null,null,null,null,null,null,null,null,null,null,{"$f":"IF(J$2019=1,\"\",IF(T656=\"\",\"\",RIGHT(VLOOKUP(T656,Tabelle!$B$5:$C$9,2,FALSE),5)))","v":""},null,null,null,null,null,null,null,{"$f":"IF(B656=\"\",0,IF(B656=B655,COUNTIF(B$9:B655,B656)+1,1))","v":644},0,0]
["649","-1900","-1900-645",null,null,null,null,null,null,null,null,null,null,null,null,null,null,null,null,null,{"$f":"IF(J$2019=1,\"\",IF(T657=\"\",\"\",RIGHT(VLOOKUP(T657,Tabelle!$B$5:$C$9,2,FALSE),5)))","v":""},null,null,null,null,null,null,null,{"$f":"IF(B657=\"\",0,IF(B657=B656,COUNTIF(B$9:B656,B657)+1,1))","v":645},0,0]
["650","-1900","-1900-646",null,null,null,null,null,null,null,null,null,null,null,null,null,null,null,null,null,{"$f":"IF(J$2019=1,\"\",IF(T658=\"\",\"\",RIGHT(VLOOKUP(T658,Tabelle!$B$5:$C$9,2,FALSE),5)))","v":""},null,null,null,null,null,null,null,{"$f":"IF(B658=\"\",0,IF(B658=B657,COUNTIF(B$9:B657,B658)+1,1))","v":646},0,0]
["651","-1900","-1900-647",null,null,null,null,null,null,null,null,null,null,null,null,null,null,null,null,null,{"$f":"IF(J$2019=1,\"\",IF(T659=\"\",\"\",RIGHT(VLOOKUP(T659,Tabelle!$B$5:$C$9,2,FALSE),5)))","v":""},null,null,null,null,null,null,null,{"$f":"IF(B659=\"\",0,IF(B659=B658,COUNTIF(B$9:B658,B659)+1,1))","v":647},0,0]
["652","-1900","-1900-648",null,null,null,null,null,null,null,null,null,null,null,null,null,null,null,null,null,{"$f":"IF(J$2019=1,\"\",IF(T660=\"\",\"\",RIGHT(VLOOKUP(T660,Tabelle!$B$5:$C$9,2,FALSE),5)))","v":""},null,null,null,null,null,null,null,{"$f":"IF(B660=\"\",0,IF(B660=B659,COUNTIF(B$9:B659,B660)+1,1))","v":648},0,0]
["653","-1900","-1900-649",null,null,null,null,null,null,null,null,null,null,null,null,null,null,null,null,null,{"$f":"IF(J$2019=1,\"\",IF(T661=\"\",\"\",RIGHT(VLOOKUP(T661,Tabelle!$B$5:$C$9,2,FALSE),5)))","v":""},null,null,null,null,null,null,null,{"$f":"IF(B661=\"\",0,IF(B661=B660,COUNTIF(B$9:B660,B661)+1,1))","v":649},{"$f":"IF(OR(D661=\"\",J$2019=1),0,IF(AC661=28,1,0))","v":0},0]
["654","-1900","-1900-650",null,null,null,null,null,null,null,null,null,null,null,null,null,null,null,null,null,{"$f":"IF(J$2019=1,\"\",IF(T662=\"\",\"\",RIGHT(VLOOKUP(T662,Tabelle!$B$5:$C$9,2,FALSE),5)))","v":""},null,null,null,null,null,null,null,{"$f":"IF(B662=\"\",0,IF(B662=B661,COUNTIF(B$9:B661,B662)+1,1))","v":650},0,0]
["655","-1900",{"$f":"IF(J$2019=1,0,B663&\"-\"&AC663)","v":"-1900-651"},null,null,null,null,null,null,null,null,null,null,null,null,null,null,null,null,null,{"$f":"IF(J$2019=1,\"\",IF(T663=\"\",\"\",RIGHT(VLOOKUP(T663,Tabelle!$B$5:$C$9,2,FALSE),5)))","v":""},null,null,null,null,null,null,null,{"$f":"IF(B663=\"\",0,IF(B663=B662,COUNTIF(B$9:B662,B663)+1,1))","v":651},0,0]
["656","-1900","-1900-652",null,null,null,null,null,null,null,null,null,null,null,null,null,null,null,null,null,{"$f":"IF(J$2019=1,\"\",IF(T664=\"\",\"\",RIGHT(VLOOKUP(T664,Tabelle!$B$5:$C$9,2,FALSE),5)))","v":""},null,null,null,null,null,null,null,{"$f":"IF(B664=\"\",0,IF(B664=B663,COUNTIF(B$9:B663,B664)+1,1))","v":652},0,0]
["657","-1900","-1900-653",null,null,null,null,null,null,null,null,null,null,null,null,null,null,null,null,null,{"$f":"IF(J$2019=1,\"\",IF(T665=\"\",\"\",RIGHT(VLOOKUP(T665,Tabelle!$B$5:$C$9,2,FALSE),5)))","v":""},null,null,null,null,null,null,null,{"$f":"IF(B665=\"\",0,IF(B665=B664,COUNTIF(B$9:B664,B665)+1,1))","v":653},0,0]
["658","-1900","-1900-654",null,null,null,null,null,null,null,null,null,null,null,null,null,null,null,null,null,{"$f":"IF(J$2019=1,\"\",IF(T666=\"\",\"\",RIGHT(VLOOKUP(T666,Tabelle!$B$5:$C$9,2,FALSE),5)))","v":""},null,null,null,null,null,null,null,{"$f":"IF(B666=\"\",0,IF(B666=B665,COUNTIF(B$9:B665,B666)+1,1))","v":654},0,0]
["659","-1900","-1900-655",null,null,null,null,null,null,null,null,null,null,null,null,null,null,null,null,null,{"$f":"IF(J$2019=1,\"\",IF(T667=\"\",\"\",RIGHT(VLOOKUP(T667,Tabelle!$B$5:$C$9,2,FALSE),5)))","v":""},null,null,null,null,null,null,null,{"$f":"IF(B667=\"\",0,IF(B667=B666,COUNTIF(B$9:B666,B667)+1,1))","v":655},0,0]
["660","-1900","-1900-656",null,null,null,null,null,null,null,null,null,null,null,null,null,null,null,null,null,{"$f":"IF(J$2019=1,\"\",IF(T668=\"\",\"\",RIGHT(VLOOKUP(T668,Tabelle!$B$5:$C$9,2,FALSE),5)))","v":""},null,null,null,null,null,null,null,{"$f":"IF(B668=\"\",0,IF(B668=B667,COUNTIF(B$9:B667,B668)+1,1))","v":656},0,0]
["661","-1900","-1900-657",null,null,null,null,null,null,null,null,null,null,null,null,null,null,null,null,null,{"$f":"IF(J$2019=1,\"\",IF(T669=\"\",\"\",RIGHT(VLOOKUP(T669,Tabelle!$B$5:$C$9,2,FALSE),5)))","v":""},null,null,null,null,null,null,null,{"$f":"IF(B669=\"\",0,IF(B669=B668,COUNTIF(B$9:B668,B669)+1,1))","v":657},0,0]
["662","-1900","-1900-658",null,null,null,null,null,null,null,null,null,null,null,null,null,null,null,null,null,{"$f":"IF(J$2019=1,\"\",IF(T670=\"\",\"\",RIGHT(VLOOKUP(T670,Tabelle!$B$5:$C$9,2,FALSE),5)))","v":""},null,null,null,null,null,null,null,{"$f":"IF(B670=\"\",0,IF(B670=B669,COUNTIF(B$9:B669,B670)+1,1))","v":658},0,0]
["663","-1900","-1900-659",null,null,null,null,null,null,null,null,null,null,null,null,null,null,null,null,null,{"$f":"IF(J$2019=1,\"\",IF(T671=\"\",\"\",RIGHT(VLOOKUP(T671,Tabelle!$B$5:$C$9,2,FALSE),5)))","v":""},null,null,null,null,null,null,null,{"$f":"IF(B671=\"\",0,IF(B671=B670,COUNTIF(B$9:B670,B671)+1,1))","v":659},0,0]
["664","-1900","-1900-660",null,null,null,null,null,null,null,null,null,null,null,null,null,null,null,null,null,{"$f":"IF(J$2019=1,\"\",IF(T672=\"\",\"\",RIGHT(VLOOKUP(T672,Tabelle!$B$5:$C$9,2,FALSE),5)))","v":""},null,null,null,null,null,null,null,{"$f":"IF(B672=\"\",0,IF(B672=B671,COUNTIF(B$9:B671,B672)+1,1))","v":660},0,0]
["665","-1900","-1900-661",null,null,null,null,null,null,null,null,null,null,null,null,null,null,null,null,null,{"$f":"IF(J$2019=1,\"\",IF(T673=\"\",\"\",RIGHT(VLOOKUP(T673,Tabelle!$B$5:$C$9,2,FALSE),5)))","v":""},null,null,null,null,null,null,null,{"$f":"IF(B673=\"\",0,IF(B673=B672,COUNTIF(B$9:B672,B673)+1,1))","v":661},0,0]
["666","-1900","-1900-662",null,null,null,null,null,null,null,null,null,null,null,null,null,null,null,null,null,{"$f":"IF(J$2019=1,\"\",IF(T674=\"\",\"\",RIGHT(VLOOKUP(T674,Tabelle!$B$5:$C$9,2,FALSE),5)))","v":""},null,null,null,null,null,null,null,{"$f":"IF(B674=\"\",0,IF(B674=B673,COUNTIF(B$9:B673,B674)+1,1))","v":662},0,0]
["667","-1900","-1900-663",null,null,null,null,null,null,null,null,null,null,null,null,null,null,null,null,null,{"$f":"IF(J$2019=1,\"\",IF(T675=\"\",\"\",RIGHT(VLOOKUP(T675,Tabelle!$B$5:$C$9,2,FALSE),5)))","v":""},null,null,null,null,null,null,null,{"$f":"IF(B675=\"\",0,IF(B675=B674,COUNTIF(B$9:B674,B675)+1,1))","v":663},0,0]
["668","-1900","-1900-664",null,null,null,null,null,null,null,null,null,null,null,null,null,null,null,null,null,{"$f":"IF(J$2019=1,\"\",IF(T676=\"\",\"\",RIGHT(VLOOKUP(T676,Tabelle!$B$5:$C$9,2,FALSE),5)))","v":""},null,null,null,null,null,null,null,{"$f":"IF(B676=\"\",0,IF(B676=B675,COUNTIF(B$9:B675,B676)+1,1))","v":664},0,0]
["669","-1900","-1900-665",null,null,null,null,null,null,null,null,null,null,null,null,null,null,null,null,null,{"$f":"IF(J$2019=1,\"\",IF(T677=\"\",\"\",RIGHT(VLOOKUP(T677,Tabelle!$B$5:$C$9,2,FALSE),5)))","v":""},null,null,null,null,null,null,null,{"$f":"IF(B677=\"\",0,IF(B677=B676,COUNTIF(B$9:B676,B677)+1,1))","v":665},0,0]
["670","-1900","-1900-666",null,null,null,null,null,null,null,null,null,null,null,null,null,null,null,null,null,{"$f":"IF(J$2019=1,\"\",IF(T678=\"\",\"\",RIGHT(VLOOKUP(T678,Tabelle!$B$5:$C$9,2,FALSE),5)))","v":""},null,null,null,null,null,null,null,{"$f":"IF(B678=\"\",0,IF(B678=B677,COUNTIF(B$9:B677,B678)+1,1))","v":666},0,0]
["671","-1900","-1900-667",null,null,null,null,null,null,null,null,null,null,null,null,null,null,null,null,null,{"$f":"IF(J$2019=1,\"\",IF(T679=\"\",\"\",RIGHT(VLOOKUP(T679,Tabelle!$B$5:$C$9,2,FALSE),5)))","v":""},null,null,null,null,null,null,null,{"$f":"IF(B679=\"\",0,IF(B679=B678,COUNTIF(B$9:B678,B679)+1,1))","v":667},0,0]
["672","-1900","-1900-668",null,null,null,null,null,null,null,null,null,null,null,null,null,null,null,null,null,{"$f":"IF(J$2019=1,\"\",IF(T680=\"\",\"\",RIGHT(VLOOKUP(T680,Tabelle!$B$5:$C$9,2,FALSE),5)))","v":""},null,null,null,null,null,null,null,{"$f":"IF(B680=\"\",0,IF(B680=B679,COUNTIF(B$9:B679,B680)+1,1))","v":668},0,0]
["673","-1900","-1900-669",null,null,null,null,null,null,null,null,null,null,null,null,null,null,null,null,null,{"$f":"IF(J$2019=1,\"\",IF(T681=\"\",\"\",RIGHT(VLOOKUP(T681,Tabelle!$B$5:$C$9,2,FALSE),5)))","v":""},null,null,null,null,null,null,null,{"$f":"IF(B681=\"\",0,IF(B681=B680,COUNTIF(B$9:B680,B681)+1,1))","v":669},0,0]
["674","-1900","-1900-670",null,null,null,null,null,null,null,null,null,null,null,null,null,null,null,null,null,{"$f":"IF(J$2019=1,\"\",IF(T682=\"\",\"\",RIGHT(VLOOKUP(T682,Tabelle!$B$5:$C$9,2,FALSE),5)))","v":""},null,null,null,null,null,null,null,{"$f":"IF(B682=\"\",0,IF(B682=B681,COUNTIF(B$9:B681,B682)+1,1))","v":670},0,0]
["675","-1900","-1900-671",null,null,null,null,null,null,null,null,null,null,null,null,null,null,null,null,null,{"$f":"IF(J$2019=1,\"\",IF(T683=\"\",\"\",RIGHT(VLOOKUP(T683,Tabelle!$B$5:$C$9,2,FALSE),5)))","v":""},null,null,null,null,null,null,null,{"$f":"IF(B683=\"\",0,IF(B683=B682,COUNTIF(B$9:B682,B683)+1,1))","v":671},0,0]
["676","-1900","-1900-672",null,null,null,null,null,null,null,null,null,null,null,null,null,null,null,null,null,{"$f":"IF(J$2019=1,\"\",IF(T684=\"\",\"\",RIGHT(VLOOKUP(T684,Tabelle!$B$5:$C$9,2,FALSE),5)))","v":""},null,null,null,null,null,null,null,{"$f":"IF(B684=\"\",0,IF(B684=B683,COUNTIF(B$9:B683,B684)+1,1))","v":672},0,0]
["677","-1900","-1900-673",null,null,null,null,null,null,null,null,null,null,null,null,null,null,null,null,null,{"$f":"IF(J$2019=1,\"\",IF(T685=\"\",\"\",RIGHT(VLOOKUP(T685,Tabelle!$B$5:$C$9,2,FALSE),5)))","v":""},null,null,null,null,null,null,null,{"$f":"IF(B685=\"\",0,IF(B685=B684,COUNTIF(B$9:B684,B685)+1,1))","v":673},0,0]
["678","-1900","-1900-674",null,null,null,null,null,null,null,null,null,null,null,null,null,null,null,null,null,{"$f":"IF(J$2019=1,\"\",IF(T686=\"\",\"\",RIGHT(VLOOKUP(T686,Tabelle!$B$5:$C$9,2,FALSE),5)))","v":""},null,null,null,null,null,null,null,{"$f":"IF(B686=\"\",0,IF(B686=B685,COUNTIF(B$9:B685,B686)+1,1))","v":674},0,0]
["679","-1900","-1900-675",null,null,null,null,null,null,null,null,null,null,null,null,null,null,null,null,null,{"$f":"IF(J$2019=1,\"\",IF(T687=\"\",\"\",RIGHT(VLOOKUP(T687,Tabelle!$B$5:$C$9,2,FALSE),5)))","v":""},null,null,null,null,null,null,null,{"$f":"IF(B687=\"\",0,IF(B687=B686,COUNTIF(B$9:B686,B687)+1,1))","v":675},0,0]
["680","-1900","-1900-676",null,null,null,null,null,null,null,null,null,null,null,null,null,null,null,null,null,{"$f":"IF(J$2019=1,\"\",IF(T688=\"\",\"\",RIGHT(VLOOKUP(T688,Tabelle!$B$5:$C$9,2,FALSE),5)))","v":""},null,null,null,null,null,null,null,{"$f":"IF(B688=\"\",0,IF(B688=B687,COUNTIF(B$9:B687,B688)+1,1))","v":676},0,0]
["681","-1900","-1900-677",null,null,null,null,null,null,null,null,null,null,null,null,null,null,null,null,null,{"$f":"IF(J$2019=1,\"\",IF(T689=\"\",\"\",RIGHT(VLOOKUP(T689,Tabelle!$B$5:$C$9,2,FALSE),5)))","v":""},null,null,null,null,null,null,null,{"$f":"IF(B689=\"\",0,IF(B689=B688,COUNTIF(B$9:B688,B689)+1,1))","v":677},0,0]
["682","-1900","-1900-678",null,null,null,null,null,null,null,null,null,null,null,null,null,null,null,null,null,{"$f":"IF(J$2019=1,\"\",IF(T690=\"\",\"\",RIGHT(VLOOKUP(T690,Tabelle!$B$5:$C$9,2,FALSE),5)))","v":""},null,null,null,null,null,null,null,{"$f":"IF(B690=\"\",0,IF(B690=B689,COUNTIF(B$9:B689,B690)+1,1))","v":678},0,0]
["683","-1900","-1900-679",null,null,null,null,null,null,null,null,null,null,null,null,null,null,null,null,null,{"$f":"IF(J$2019=1,\"\",IF(T691=\"\",\"\",RIGHT(VLOOKUP(T691,Tabelle!$B$5:$C$9,2,FALSE),5)))","v":""},null,null,null,null,null,null,null,{"$f":"IF(B691=\"\",0,IF(B691=B690,COUNTIF(B$9:B690,B691)+1,1))","v":679},0,0]
["684","-1900","-1900-680",null,null,null,null,null,null,null,null,null,null,null,null,null,null,null,null,null,{"$f":"IF(J$2019=1,\"\",IF(T692=\"\",\"\",RIGHT(VLOOKUP(T692,Tabelle!$B$5:$C$9,2,FALSE),5)))","v":""},null,null,null,null,null,null,null,{"$f":"IF(B692=\"\",0,IF(B692=B691,COUNTIF(B$9:B691,B692)+1,1))","v":680},0,0]
["685","-1900","-1900-681",null,null,null,null,null,null,null,null,null,null,null,null,null,null,null,null,null,{"$f":"IF(J$2019=1,\"\",IF(T693=\"\",\"\",RIGHT(VLOOKUP(T693,Tabelle!$B$5:$C$9,2,FALSE),5)))","v":""},null,null,null,null,null,null,null,{"$f":"IF(B693=\"\",0,IF(B693=B692,COUNTIF(B$9:B692,B693)+1,1))","v":681},0,0]
["686","-1900","-1900-682",null,null,null,null,null,null,null,null,null,null,null,null,null,null,null,null,null,{"$f":"IF(J$2019=1,\"\",IF(T694=\"\",\"\",RIGHT(VLOOKUP(T694,Tabelle!$B$5:$C$9,2,FALSE),5)))","v":""},null,null,null,null,null,null,null,{"$f":"IF(B694=\"\",0,IF(B694=B693,COUNTIF(B$9:B693,B694)+1,1))","v":682},0,0]
["687","-1900","-1900-683",null,null,null,null,null,null,null,null,null,null,null,null,null,null,null,null,null,{"$f":"IF(J$2019=1,\"\",IF(T695=\"\",\"\",RIGHT(VLOOKUP(T695,Tabelle!$B$5:$C$9,2,FALSE),5)))","v":""},null,null,null,null,null,null,null,{"$f":"IF(B695=\"\",0,IF(B695=B694,COUNTIF(B$9:B694,B695)+1,1))","v":683},0,0]
["688","-1900","-1900-684",null,null,null,null,null,null,null,null,null,null,null,null,null,null,null,null,null,{"$f":"IF(J$2019=1,\"\",IF(T696=\"\",\"\",RIGHT(VLOOKUP(T696,Tabelle!$B$5:$C$9,2,FALSE),5)))","v":""},null,null,null,null,null,null,null,{"$f":"IF(B696=\"\",0,IF(B696=B695,COUNTIF(B$9:B695,B696)+1,1))","v":684},0,0]
["689","-1900","-1900-685",null,null,null,null,null,null,null,null,null,null,null,null,null,null,null,null,null,{"$f":"IF(J$2019=1,\"\",IF(T697=\"\",\"\",RIGHT(VLOOKUP(T697,Tabelle!$B$5:$C$9,2,FALSE),5)))","v":""},null,null,null,null,null,null,null,{"$f":"IF(B697=\"\",0,IF(B697=B696,COUNTIF(B$9:B696,B697)+1,1))","v":685},0,0]
["690","-1900","-1900-686",null,null,null,null,null,null,null,null,null,null,null,null,null,null,null,null,null,{"$f":"IF(J$2019=1,\"\",IF(T698=\"\",\"\",RIGHT(VLOOKUP(T698,Tabelle!$B$5:$C$9,2,FALSE),5)))","v":""},null,null,null,null,null,null,null,{"$f":"IF(B698=\"\",0,IF(B698=B697,COUNTIF(B$9:B697,B698)+1,1))","v":686},0,0]
["691","-1900","-1900-687",null,null,null,null,null,null,null,null,null,null,null,null,null,null,null,null,null,{"$f":"IF(J$2019=1,\"\",IF(T699=\"\",\"\",RIGHT(VLOOKUP(T699,Tabelle!$B$5:$C$9,2,FALSE),5)))","v":""},null,null,null,null,null,null,null,{"$f":"IF(B699=\"\",0,IF(B699=B698,COUNTIF(B$9:B698,B699)+1,1))","v":687},0,0]
["692","-1900","-1900-688",null,null,null,null,null,null,null,null,null,null,null,null,null,null,null,null,null,{"$f":"IF(J$2019=1,\"\",IF(T700=\"\",\"\",RIGHT(VLOOKUP(T700,Tabelle!$B$5:$C$9,2,FALSE),5)))","v":""},null,null,null,null,null,null,null,{"$f":"IF(B700=\"\",0,IF(B700=B699,COUNTIF(B$9:B699,B700)+1,1))","v":688},0,0]
["693","-1900","-1900-689",null,null,null,null,null,null,null,null,null,null,null,null,null,null,null,null,null,{"$f":"IF(J$2019=1,\"\",IF(T701=\"\",\"\",RIGHT(VLOOKUP(T701,Tabelle!$B$5:$C$9,2,FALSE),5)))","v":""},null,null,null,null,null,null,null,{"$f":"IF(B701=\"\",0,IF(B701=B700,COUNTIF(B$9:B700,B701)+1,1))","v":689},0,0]
["694","-1900","-1900-690",null,null,null,null,null,null,null,null,null,null,null,null,null,null,null,null,null,{"$f":"IF(J$2019=1,\"\",IF(T702=\"\",\"\",RIGHT(VLOOKUP(T702,Tabelle!$B$5:$C$9,2,FALSE),5)))","v":""},null,null,null,null,null,null,null,{"$f":"IF(B702=\"\",0,IF(B702=B701,COUNTIF(B$9:B701,B702)+1,1))","v":690},0,0]
["695","-1900","-1900-691",null,null,null,null,null,null,null,null,null,null,null,null,null,null,null,null,null,{"$f":"IF(J$2019=1,\"\",IF(T703=\"\",\"\",RIGHT(VLOOKUP(T703,Tabelle!$B$5:$C$9,2,FALSE),5)))","v":""},null,null,null,null,null,null,null,{"$f":"IF(B703=\"\",0,IF(B703=B702,COUNTIF(B$9:B702,B703)+1,1))","v":691},0,0]
["696","-1900","-1900-692",null,null,null,null,null,null,null,null,null,null,null,null,null,null,null,null,null,{"$f":"IF(J$2019=1,\"\",IF(T704=\"\",\"\",RIGHT(VLOOKUP(T704,Tabelle!$B$5:$C$9,2,FALSE),5)))","v":""},null,null,null,null,null,null,null,{"$f":"IF(B704=\"\",0,IF(B704=B703,COUNTIF(B$9:B703,B704)+1,1))","v":692},0,0]
["697","-1900","-1900-693",null,null,null,null,null,null,null,null,null,null,null,null,null,null,null,null,null,{"$f":"IF(J$2019=1,\"\",IF(T705=\"\",\"\",RIGHT(VLOOKUP(T705,Tabelle!$B$5:$C$9,2,FALSE),5)))","v":""},null,null,null,null,null,null,null,{"$f":"IF(B705=\"\",0,IF(B705=B704,COUNTIF(B$9:B704,B705)+1,1))","v":693},0,0]
["698","-1900","-1900-694",null,null,null,null,null,null,null,null,null,null,null,null,null,null,null,null,null,{"$f":"IF(J$2019=1,\"\",IF(T706=\"\",\"\",RIGHT(VLOOKUP(T706,Tabelle!$B$5:$C$9,2,FALSE),5)))","v":""},null,null,null,null,null,null,null,{"$f":"IF(B706=\"\",0,IF(B706=B705,COUNTIF(B$9:B705,B706)+1,1))","v":694},0,0]
["699","-1900","-1900-695",null,null,null,null,null,null,null,null,null,null,null,null,null,null,null,null,null,{"$f":"IF(J$2019=1,\"\",IF(T707=\"\",\"\",RIGHT(VLOOKUP(T707,Tabelle!$B$5:$C$9,2,FALSE),5)))","v":""},null,null,null,null,null,null,null,{"$f":"IF(B707=\"\",0,IF(B707=B706,COUNTIF(B$9:B706,B707)+1,1))","v":695},0,0]
["700","-1900","-1900-696",null,null,null,null,null,null,null,null,null,null,null,null,null,null,null,null,null,{"$f":"IF(J$2019=1,\"\",IF(T708=\"\",\"\",RIGHT(VLOOKUP(T708,Tabelle!$B$5:$C$9,2,FALSE),5)))","v":""},null,null,null,null,null,null,null,{"$f":"IF(B708=\"\",0,IF(B708=B707,COUNTIF(B$9:B707,B708)+1,1))","v":696},0,0]
["701","-1900","-1900-697",null,null,null,null,null,null,null,null,null,null,null,null,null,null,null,null,null,{"$f":"IF(J$2019=1,\"\",IF(T709=\"\",\"\",RIGHT(VLOOKUP(T709,Tabelle!$B$5:$C$9,2,FALSE),5)))","v":""},null,null,null,null,null,null,null,{"$f":"IF(B709=\"\",0,IF(B709=B708,COUNTIF(B$9:B708,B709)+1,1))","v":697},0,0]
["702","-1900","-1900-698",null,null,null,null,null,null,null,null,null,null,null,null,null,null,null,null,null,{"$f":"IF(J$2019=1,\"\",IF(T710=\"\",\"\",RIGHT(VLOOKUP(T710,Tabelle!$B$5:$C$9,2,FALSE),5)))","v":""},null,null,null,null,null,null,null,{"$f":"IF(B710=\"\",0,IF(B710=B709,COUNTIF(B$9:B709,B710)+1,1))","v":698},0,0]
["703","-1900","-1900-699",null,null,null,null,null,null,null,null,null,null,null,null,null,null,null,null,null,{"$f":"IF(J$2019=1,\"\",IF(T711=\"\",\"\",RIGHT(VLOOKUP(T711,Tabelle!$B$5:$C$9,2,FALSE),5)))","v":""},null,null,null,null,null,null,null,{"$f":"IF(B711=\"\",0,IF(B711=B710,COUNTIF(B$9:B710,B711)+1,1))","v":699},0,0]
["704","-1900","-1900-700",null,null,null,null,null,null,null,null,null,null,null,null,null,null,null,null,null,{"$f":"IF(J$2019=1,\"\",IF(T712=\"\",\"\",RIGHT(VLOOKUP(T712,Tabelle!$B$5:$C$9,2,FALSE),5)))","v":""},null,null,null,null,null,null,null,{"$f":"IF(B712=\"\",0,IF(B712=B711,COUNTIF(B$9:B711,B712)+1,1))","v":700},0,0]
["705","-1900","-1900-701",null,null,null,null,null,null,null,null,null,null,null,null,null,null,null,null,null,{"$f":"IF(J$2019=1,\"\",IF(T713=\"\",\"\",RIGHT(VLOOKUP(T713,Tabelle!$B$5:$C$9,2,FALSE),5)))","v":""},null,null,null,null,null,null,null,{"$f":"IF(B713=\"\",0,IF(B713=B712,COUNTIF(B$9:B712,B713)+1,1))","v":701},0,0]
["706",{"$f":"IF(AE714=$AE$2013,0,IF(J$2019=1,0,D714&\"-\"&YEAR(E714)))","v":"-1900"},"-1900-702",null,null,null,null,null,null,null,null,null,null,null,null,null,null,null,null,null,{"$f":"IF(J$2019=1,\"\",IF(T714=\"\",\"\",RIGHT(VLOOKUP(T714,Tabelle!$B$5:$C$9,2,FALSE),5)))","v":""},null,null,null,null,null,null,null,{"$f":"IF(B714=\"\",0,IF(B714=B713,COUNTIF(B$9:B713,B714)+1,1))","v":702},0,{"$f":"IF(E714>0,IF(OR(MONTH(E714)<$J$2025,MONTH(E714)>$J$2026),AE$2013,0),0)","v":0}]
["707","-1900","-1900-703",null,null,null,null,null,null,null,null,null,null,null,null,null,null,null,null,null,{"$f":"IF(J$2019=1,\"\",IF(T715=\"\",\"\",RIGHT(VLOOKUP(T715,Tabelle!$B$5:$C$9,2,FALSE),5)))","v":""},null,null,null,null,null,null,null,{"$f":"IF(B715=\"\",0,IF(B715=B714,COUNTIF(B$9:B714,B715)+1,1))","v":703},0,0]
["708","-1900","-1900-704",null,null,null,null,null,null,null,null,null,null,null,null,null,null,null,null,null,{"$f":"IF(J$2019=1,\"\",IF(T716=\"\",\"\",RIGHT(VLOOKUP(T716,Tabelle!$B$5:$C$9,2,FALSE),5)))","v":""},null,null,null,null,null,null,null,{"$f":"IF(B716=\"\",0,IF(B716=B715,COUNTIF(B$9:B715,B716)+1,1))","v":704},0,0]
["709","-1900","-1900-705",null,null,null,null,null,null,null,null,null,null,null,null,null,null,null,null,null,{"$f":"IF(J$2019=1,\"\",IF(T717=\"\",\"\",RIGHT(VLOOKUP(T717,Tabelle!$B$5:$C$9,2,FALSE),5)))","v":""},null,null,null,null,null,null,null,{"$f":"IF(B717=\"\",0,IF(B717=B716,COUNTIF(B$9:B716,B717)+1,1))","v":705},0,0]
["710","-1900","-1900-706",null,null,null,null,null,null,null,null,null,null,null,null,null,null,null,null,null,{"$f":"IF(J$2019=1,\"\",IF(T718=\"\",\"\",RIGHT(VLOOKUP(T718,Tabelle!$B$5:$C$9,2,FALSE),5)))","v":""},null,null,null,null,null,null,null,{"$f":"IF(B718=\"\",0,IF(B718=B717,COUNTIF(B$9:B717,B718)+1,1))","v":706},0,0]
["711","-1900","-1900-707",null,null,null,null,null,null,null,null,null,null,null,null,null,null,null,null,null,{"$f":"IF(J$2019=1,\"\",IF(T719=\"\",\"\",RIGHT(VLOOKUP(T719,Tabelle!$B$5:$C$9,2,FALSE),5)))","v":""},null,null,null,null,null,null,null,{"$f":"IF(B719=\"\",0,IF(B719=B718,COUNTIF(B$9:B718,B719)+1,1))","v":707},0,0]
["712","-1900","-1900-708",null,null,null,null,null,null,null,null,null,null,null,null,null,null,null,null,null,{"$f":"IF(J$2019=1,\"\",IF(T720=\"\",\"\",RIGHT(VLOOKUP(T720,Tabelle!$B$5:$C$9,2,FALSE),5)))","v":""},null,null,null,null,null,null,null,{"$f":"IF(B720=\"\",0,IF(B720=B719,COUNTIF(B$9:B719,B720)+1,1))","v":708},0,0]
["713","-1900","-1900-709",null,null,null,null,null,null,null,null,null,null,null,null,null,null,null,null,null,{"$f":"IF(J$2019=1,\"\",IF(T721=\"\",\"\",RIGHT(VLOOKUP(T721,Tabelle!$B$5:$C$9,2,FALSE),5)))","v":""},null,null,null,null,null,null,null,{"$f":"IF(B721=\"\",0,IF(B721=B720,COUNTIF(B$9:B720,B721)+1,1))","v":709},0,0]
["714","-1900","-1900-710",null,null,null,null,null,null,null,null,null,null,null,null,null,null,null,null,null,{"$f":"IF(J$2019=1,\"\",IF(T722=\"\",\"\",RIGHT(VLOOKUP(T722,Tabelle!$B$5:$C$9,2,FALSE),5)))","v":""},null,null,null,null,null,null,null,{"$f":"IF(B722=\"\",0,IF(B722=B721,COUNTIF(B$9:B721,B722)+1,1))","v":710},0,0]
["715","-1900","-1900-711",null,null,null,null,null,null,null,null,null,null,null,null,null,null,null,null,null,{"$f":"IF(J$2019=1,\"\",IF(T723=\"\",\"\",RIGHT(VLOOKUP(T723,Tabelle!$B$5:$C$9,2,FALSE),5)))","v":""},null,null,null,null,null,null,null,{"$f":"IF(B723=\"\",0,IF(B723=B722,COUNTIF(B$9:B722,B723)+1,1))","v":711},0,0]
["716","-1900","-1900-712",null,null,null,null,null,null,null,null,null,null,null,null,null,null,null,null,null,{"$f":"IF(J$2019=1,\"\",IF(T724=\"\",\"\",RIGHT(VLOOKUP(T724,Tabelle!$B$5:$C$9,2,FALSE),5)))","v":""},null,null,null,null,null,null,null,{"$f":"IF(B724=\"\",0,IF(B724=B723,COUNTIF(B$9:B723,B724)+1,1))","v":712},0,0]
["717","-1900","-1900-713",null,null,null,null,null,null,null,null,null,null,null,null,null,null,null,null,null,{"$f":"IF(J$2019=1,\"\",IF(T725=\"\",\"\",RIGHT(VLOOKUP(T725,Tabelle!$B$5:$C$9,2,FALSE),5)))","v":""},null,null,null,null,null,null,null,{"$f":"IF(B725=\"\",0,IF(B725=B724,COUNTIF(B$9:B724,B725)+1,1))","v":713},{"$f":"IF(OR(D725=\"\",J$2019=1),0,IF(AC725=28,1,0))","v":0},0]
["718","-1900","-1900-714",null,null,null,null,null,null,null,null,null,null,null,null,null,null,null,null,null,{"$f":"IF(J$2019=1,\"\",IF(T726=\"\",\"\",RIGHT(VLOOKUP(T726,Tabelle!$B$5:$C$9,2,FALSE),5)))","v":""},null,null,null,null,null,null,null,{"$f":"IF(B726=\"\",0,IF(B726=B725,COUNTIF(B$9:B725,B726)+1,1))","v":714},0,0]
["719","-1900",{"$f":"IF(J$2019=1,0,B727&\"-\"&AC727)","v":"-1900-715"},null,null,null,null,null,null,null,null,null,null,null,null,null,null,null,null,null,{"$f":"IF(J$2019=1,\"\",IF(T727=\"\",\"\",RIGHT(VLOOKUP(T727,Tabelle!$B$5:$C$9,2,FALSE),5)))","v":""},null,null,null,null,null,null,null,{"$f":"IF(B727=\"\",0,IF(B727=B726,COUNTIF(B$9:B726,B727)+1,1))","v":715},0,0]
["720","-1900","-1900-716",null,null,null,null,null,null,null,null,null,null,null,null,null,null,null,null,null,{"$f":"IF(J$2019=1,\"\",IF(T728=\"\",\"\",RIGHT(VLOOKUP(T728,Tabelle!$B$5:$C$9,2,FALSE),5)))","v":""},null,null,null,null,null,null,null,{"$f":"IF(B728=\"\",0,IF(B728=B727,COUNTIF(B$9:B727,B728)+1,1))","v":716},0,0]
["721","-1900","-1900-717",null,null,null,null,null,null,null,null,null,null,null,null,null,null,null,null,null,{"$f":"IF(J$2019=1,\"\",IF(T729=\"\",\"\",RIGHT(VLOOKUP(T729,Tabelle!$B$5:$C$9,2,FALSE),5)))","v":""},null,null,null,null,null,null,null,{"$f":"IF(B729=\"\",0,IF(B729=B728,COUNTIF(B$9:B728,B729)+1,1))","v":717},0,0]
["722","-1900","-1900-718",null,null,null,null,null,null,null,null,null,null,null,null,null,null,null,null,null,{"$f":"IF(J$2019=1,\"\",IF(T730=\"\",\"\",RIGHT(VLOOKUP(T730,Tabelle!$B$5:$C$9,2,FALSE),5)))","v":""},null,null,null,null,null,null,null,{"$f":"IF(B730=\"\",0,IF(B730=B729,COUNTIF(B$9:B729,B730)+1,1))","v":718},0,0]
["723","-1900","-1900-719",null,null,null,null,null,null,null,null,null,null,null,null,null,null,null,null,null,{"$f":"IF(J$2019=1,\"\",IF(T731=\"\",\"\",RIGHT(VLOOKUP(T731,Tabelle!$B$5:$C$9,2,FALSE),5)))","v":""},null,null,null,null,null,null,null,{"$f":"IF(B731=\"\",0,IF(B731=B730,COUNTIF(B$9:B730,B731)+1,1))","v":719},0,0]
["724","-1900","-1900-720",null,null,null,null,null,null,null,null,null,null,null,null,null,null,null,null,null,{"$f":"IF(J$2019=1,\"\",IF(T732=\"\",\"\",RIGHT(VLOOKUP(T732,Tabelle!$B$5:$C$9,2,FALSE),5)))","v":""},null,null,null,null,null,null,null,{"$f":"IF(B732=\"\",0,IF(B732=B731,COUNTIF(B$9:B731,B732)+1,1))","v":720},0,0]
["725","-1900","-1900-721",null,null,null,null,null,null,null,null,null,null,null,null,null,null,null,null,null,{"$f":"IF(J$2019=1,\"\",IF(T733=\"\",\"\",RIGHT(VLOOKUP(T733,Tabelle!$B$5:$C$9,2,FALSE),5)))","v":""},null,null,null,null,null,null,null,{"$f":"IF(B733=\"\",0,IF(B733=B732,COUNTIF(B$9:B732,B733)+1,1))","v":721},0,0]
["726","-1900","-1900-722",null,null,null,null,null,null,null,null,null,null,null,null,null,null,null,null,null,{"$f":"IF(J$2019=1,\"\",IF(T734=\"\",\"\",RIGHT(VLOOKUP(T734,Tabelle!$B$5:$C$9,2,FALSE),5)))","v":""},null,null,null,null,null,null,null,{"$f":"IF(B734=\"\",0,IF(B734=B733,COUNTIF(B$9:B733,B734)+1,1))","v":722},0,0]
["727","-1900","-1900-723",null,null,null,null,null,null,null,null,null,null,null,null,null,null,null,null,null,{"$f":"IF(J$2019=1,\"\",IF(T735=\"\",\"\",RIGHT(VLOOKUP(T735,Tabelle!$B$5:$C$9,2,FALSE),5)))","v":""},null,null,null,null,null,null,null,{"$f":"IF(B735=\"\",0,IF(B735=B734,COUNTIF(B$9:B734,B735)+1,1))","v":723},0,0]
["728","-1900","-1900-724",null,null,null,null,null,null,null,null,null,null,null,null,null,null,null,null,null,{"$f":"IF(J$2019=1,\"\",IF(T736=\"\",\"\",RIGHT(VLOOKUP(T736,Tabelle!$B$5:$C$9,2,FALSE),5)))","v":""},null,null,null,null,null,null,null,{"$f":"IF(B736=\"\",0,IF(B736=B735,COUNTIF(B$9:B735,B736)+1,1))","v":724},0,0]
["729","-1900","-1900-725",null,null,null,null,null,null,null,null,null,null,null,null,null,null,null,null,null,{"$f":"IF(J$2019=1,\"\",IF(T737=\"\",\"\",RIGHT(VLOOKUP(T737,Tabelle!$B$5:$C$9,2,FALSE),5)))","v":""},null,null,null,null,null,null,null,{"$f":"IF(B737=\"\",0,IF(B737=B736,COUNTIF(B$9:B736,B737)+1,1))","v":725},0,0]
["730","-1900","-1900-726",null,null,null,null,null,null,null,null,null,null,null,null,null,null,null,null,null,{"$f":"IF(J$2019=1,\"\",IF(T738=\"\",\"\",RIGHT(VLOOKUP(T738,Tabelle!$B$5:$C$9,2,FALSE),5)))","v":""},null,null,null,null,null,null,null,{"$f":"IF(B738=\"\",0,IF(B738=B737,COUNTIF(B$9:B737,B738)+1,1))","v":726},0,0]
["731","-1900","-1900-727",null,null,null,null,null,null,null,null,null,null,null,null,null,null,null,null,null,{"$f":"IF(J$2019=1,\"\",IF(T739=\"\",\"\",RIGHT(VLOOKUP(T739,Tabelle!$B$5:$C$9,2,FALSE),5)))","v":""},null,null,null,null,null,null,null,{"$f":"IF(B739=\"\",0,IF(B739=B738,COUNTIF(B$9:B738,B739)+1,1))","v":727},0,0]
["732","-1900","-1900-728",null,null,null,null,null,null,null,null,null,null,null,null,null,null,null,null,null,{"$f":"IF(J$2019=1,\"\",IF(T740=\"\",\"\",RIGHT(VLOOKUP(T740,Tabelle!$B$5:$C$9,2,FALSE),5)))","v":""},null,null,null,null,null,null,null,{"$f":"IF(B740=\"\",0,IF(B740=B739,COUNTIF(B$9:B739,B740)+1,1))","v":728},0,0]
["733","-1900","-1900-729",null,null,null,null,null,null,null,null,null,null,null,null,null,null,null,null,null,{"$f":"IF(J$2019=1,\"\",IF(T741=\"\",\"\",RIGHT(VLOOKUP(T741,Tabelle!$B$5:$C$9,2,FALSE),5)))","v":""},null,null,null,null,null,null,null,{"$f":"IF(B741=\"\",0,IF(B741=B740,COUNTIF(B$9:B740,B741)+1,1))","v":729},0,0]
["734","-1900","-1900-730",null,null,null,null,null,null,null,null,null,null,null,null,null,null,null,null,null,{"$f":"IF(J$2019=1,\"\",IF(T742=\"\",\"\",RIGHT(VLOOKUP(T742,Tabelle!$B$5:$C$9,2,FALSE),5)))","v":""},null,null,null,null,null,null,null,{"$f":"IF(B742=\"\",0,IF(B742=B741,COUNTIF(B$9:B741,B742)+1,1))","v":730},0,0]
["735","-1900","-1900-731",null,null,null,null,null,null,null,null,null,null,null,null,null,null,null,null,null,{"$f":"IF(J$2019=1,\"\",IF(T743=\"\",\"\",RIGHT(VLOOKUP(T743,Tabelle!$B$5:$C$9,2,FALSE),5)))","v":""},null,null,null,null,null,null,null,{"$f":"IF(B743=\"\",0,IF(B743=B742,COUNTIF(B$9:B742,B743)+1,1))","v":731},0,0]
["736","-1900","-1900-732",null,null,null,null,null,null,null,null,null,null,null,null,null,null,null,null,null,{"$f":"IF(J$2019=1,\"\",IF(T744=\"\",\"\",RIGHT(VLOOKUP(T744,Tabelle!$B$5:$C$9,2,FALSE),5)))","v":""},null,null,null,null,null,null,null,{"$f":"IF(B744=\"\",0,IF(B744=B743,COUNTIF(B$9:B743,B744)+1,1))","v":732},0,0]
["737","-1900","-1900-733",null,null,null,null,null,null,null,null,null,null,null,null,null,null,null,null,null,{"$f":"IF(J$2019=1,\"\",IF(T745=\"\",\"\",RIGHT(VLOOKUP(T745,Tabelle!$B$5:$C$9,2,FALSE),5)))","v":""},null,null,null,null,null,null,null,{"$f":"IF(B745=\"\",0,IF(B745=B744,COUNTIF(B$9:B744,B745)+1,1))","v":733},0,0]
["738","-1900","-1900-734",null,null,null,null,null,null,null,null,null,null,null,null,null,null,null,null,null,{"$f":"IF(J$2019=1,\"\",IF(T746=\"\",\"\",RIGHT(VLOOKUP(T746,Tabelle!$B$5:$C$9,2,FALSE),5)))","v":""},null,null,null,null,null,null,null,{"$f":"IF(B746=\"\",0,IF(B746=B745,COUNTIF(B$9:B745,B746)+1,1))","v":734},0,0]
["739","-1900","-1900-735",null,null,null,null,null,null,null,null,null,null,null,null,null,null,null,null,null,{"$f":"IF(J$2019=1,\"\",IF(T747=\"\",\"\",RIGHT(VLOOKUP(T747,Tabelle!$B$5:$C$9,2,FALSE),5)))","v":""},null,null,null,null,null,null,null,{"$f":"IF(B747=\"\",0,IF(B747=B746,COUNTIF(B$9:B746,B747)+1,1))","v":735},0,0]
["740","-1900","-1900-736",null,null,null,null,null,null,null,null,null,null,null,null,null,null,null,null,null,{"$f":"IF(J$2019=1,\"\",IF(T748=\"\",\"\",RIGHT(VLOOKUP(T748,Tabelle!$B$5:$C$9,2,FALSE),5)))","v":""},null,null,null,null,null,null,null,{"$f":"IF(B748=\"\",0,IF(B748=B747,COUNTIF(B$9:B747,B748)+1,1))","v":736},0,0]
["741","-1900","-1900-737",null,null,null,null,null,null,null,null,null,null,null,null,null,null,null,null,null,{"$f":"IF(J$2019=1,\"\",IF(T749=\"\",\"\",RIGHT(VLOOKUP(T749,Tabelle!$B$5:$C$9,2,FALSE),5)))","v":""},null,null,null,null,null,null,null,{"$f":"IF(B749=\"\",0,IF(B749=B748,COUNTIF(B$9:B748,B749)+1,1))","v":737},0,0]
["742","-1900","-1900-738",null,null,null,null,null,null,null,null,null,null,null,null,null,null,null,null,null,{"$f":"IF(J$2019=1,\"\",IF(T750=\"\",\"\",RIGHT(VLOOKUP(T750,Tabelle!$B$5:$C$9,2,FALSE),5)))","v":""},null,null,null,null,null,null,null,{"$f":"IF(B750=\"\",0,IF(B750=B749,COUNTIF(B$9:B749,B750)+1,1))","v":738},0,0]
["743","-1900","-1900-739",null,null,null,null,null,null,null,null,null,null,null,null,null,null,null,null,null,{"$f":"IF(J$2019=1,\"\",IF(T751=\"\",\"\",RIGHT(VLOOKUP(T751,Tabelle!$B$5:$C$9,2,FALSE),5)))","v":""},null,null,null,null,null,null,null,{"$f":"IF(B751=\"\",0,IF(B751=B750,COUNTIF(B$9:B750,B751)+1,1))","v":739},0,0]
["744","-1900","-1900-740",null,null,null,null,null,null,null,null,null,null,null,null,null,null,null,null,null,{"$f":"IF(J$2019=1,\"\",IF(T752=\"\",\"\",RIGHT(VLOOKUP(T752,Tabelle!$B$5:$C$9,2,FALSE),5)))","v":""},null,null,null,null,null,null,null,{"$f":"IF(B752=\"\",0,IF(B752=B751,COUNTIF(B$9:B751,B752)+1,1))","v":740},0,0]
["745","-1900","-1900-741",null,null,null,null,null,null,null,null,null,null,null,null,null,null,null,null,null,{"$f":"IF(J$2019=1,\"\",IF(T753=\"\",\"\",RIGHT(VLOOKUP(T753,Tabelle!$B$5:$C$9,2,FALSE),5)))","v":""},null,null,null,null,null,null,null,{"$f":"IF(B753=\"\",0,IF(B753=B752,COUNTIF(B$9:B752,B753)+1,1))","v":741},0,0]
["746","-1900","-1900-742",null,null,null,null,null,null,null,null,null,null,null,null,null,null,null,null,null,{"$f":"IF(J$2019=1,\"\",IF(T754=\"\",\"\",RIGHT(VLOOKUP(T754,Tabelle!$B$5:$C$9,2,FALSE),5)))","v":""},null,null,null,null,null,null,null,{"$f":"IF(B754=\"\",0,IF(B754=B753,COUNTIF(B$9:B753,B754)+1,1))","v":742},0,0]
["747","-1900","-1900-743",null,null,null,null,null,null,null,null,null,null,null,null,null,null,null,null,null,{"$f":"IF(J$2019=1,\"\",IF(T755=\"\",\"\",RIGHT(VLOOKUP(T755,Tabelle!$B$5:$C$9,2,FALSE),5)))","v":""},null,null,null,null,null,null,null,{"$f":"IF(B755=\"\",0,IF(B755=B754,COUNTIF(B$9:B754,B755)+1,1))","v":743},0,0]
["748","-1900","-1900-744",null,null,null,null,null,null,null,null,null,null,null,null,null,null,null,null,null,{"$f":"IF(J$2019=1,\"\",IF(T756=\"\",\"\",RIGHT(VLOOKUP(T756,Tabelle!$B$5:$C$9,2,FALSE),5)))","v":""},null,null,null,null,null,null,null,{"$f":"IF(B756=\"\",0,IF(B756=B755,COUNTIF(B$9:B755,B756)+1,1))","v":744},0,0]
["749","-1900","-1900-745",null,null,null,null,null,null,null,null,null,null,null,null,null,null,null,null,null,{"$f":"IF(J$2019=1,\"\",IF(T757=\"\",\"\",RIGHT(VLOOKUP(T757,Tabelle!$B$5:$C$9,2,FALSE),5)))","v":""},null,null,null,null,null,null,null,{"$f":"IF(B757=\"\",0,IF(B757=B756,COUNTIF(B$9:B756,B757)+1,1))","v":745},0,0]
["750","-1900","-1900-746",null,null,null,null,null,null,null,null,null,null,null,null,null,null,null,null,null,{"$f":"IF(J$2019=1,\"\",IF(T758=\"\",\"\",RIGHT(VLOOKUP(T758,Tabelle!$B$5:$C$9,2,FALSE),5)))","v":""},null,null,null,null,null,null,null,{"$f":"IF(B758=\"\",0,IF(B758=B757,COUNTIF(B$9:B757,B758)+1,1))","v":746},0,0]
["751","-1900","-1900-747",null,null,null,null,null,null,null,null,null,null,null,null,null,null,null,null,null,{"$f":"IF(J$2019=1,\"\",IF(T759=\"\",\"\",RIGHT(VLOOKUP(T759,Tabelle!$B$5:$C$9,2,FALSE),5)))","v":""},null,null,null,null,null,null,null,{"$f":"IF(B759=\"\",0,IF(B759=B758,COUNTIF(B$9:B758,B759)+1,1))","v":747},0,0]
["752","-1900","-1900-748",null,null,null,null,null,null,null,null,null,null,null,null,null,null,null,null,null,{"$f":"IF(J$2019=1,\"\",IF(T760=\"\",\"\",RIGHT(VLOOKUP(T760,Tabelle!$B$5:$C$9,2,FALSE),5)))","v":""},null,null,null,null,null,null,null,{"$f":"IF(B760=\"\",0,IF(B760=B759,COUNTIF(B$9:B759,B760)+1,1))","v":748},0,0]
["753","-1900","-1900-749",null,null,null,null,null,null,null,null,null,null,null,null,null,null,null,null,null,{"$f":"IF(J$2019=1,\"\",IF(T761=\"\",\"\",RIGHT(VLOOKUP(T761,Tabelle!$B$5:$C$9,2,FALSE),5)))","v":""},null,null,null,null,null,null,null,{"$f":"IF(B761=\"\",0,IF(B761=B760,COUNTIF(B$9:B760,B761)+1,1))","v":749},0,0]
["754","-1900","-1900-750",null,null,null,null,null,null,null,null,null,null,null,null,null,null,null,null,null,{"$f":"IF(J$2019=1,\"\",IF(T762=\"\",\"\",RIGHT(VLOOKUP(T762,Tabelle!$B$5:$C$9,2,FALSE),5)))","v":""},null,null,null,null,null,null,null,{"$f":"IF(B762=\"\",0,IF(B762=B761,COUNTIF(B$9:B761,B762)+1,1))","v":750},0,0]
["755","-1900","-1900-751",null,null,null,null,null,null,null,null,null,null,null,null,null,null,null,null,null,{"$f":"IF(J$2019=1,\"\",IF(T763=\"\",\"\",RIGHT(VLOOKUP(T763,Tabelle!$B$5:$C$9,2,FALSE),5)))","v":""},null,null,null,null,null,null,null,{"$f":"IF(B763=\"\",0,IF(B763=B762,COUNTIF(B$9:B762,B763)+1,1))","v":751},0,0]
["756","-1900","-1900-752",null,null,null,null,null,null,null,null,null,null,null,null,null,null,null,null,null,{"$f":"IF(J$2019=1,\"\",IF(T764=\"\",\"\",RIGHT(VLOOKUP(T764,Tabelle!$B$5:$C$9,2,FALSE),5)))","v":""},null,null,null,null,null,null,null,{"$f":"IF(B764=\"\",0,IF(B764=B763,COUNTIF(B$9:B763,B764)+1,1))","v":752},0,0]
["757","-1900","-1900-753",null,null,null,null,null,null,null,null,null,null,null,null,null,null,null,null,null,{"$f":"IF(J$2019=1,\"\",IF(T765=\"\",\"\",RIGHT(VLOOKUP(T765,Tabelle!$B$5:$C$9,2,FALSE),5)))","v":""},null,null,null,null,null,null,null,{"$f":"IF(B765=\"\",0,IF(B765=B764,COUNTIF(B$9:B764,B765)+1,1))","v":753},0,0]
["758","-1900","-1900-754",null,null,null,null,null,null,null,null,null,null,null,null,null,null,null,null,null,{"$f":"IF(J$2019=1,\"\",IF(T766=\"\",\"\",RIGHT(VLOOKUP(T766,Tabelle!$B$5:$C$9,2,FALSE),5)))","v":""},null,null,null,null,null,null,null,{"$f":"IF(B766=\"\",0,IF(B766=B765,COUNTIF(B$9:B765,B766)+1,1))","v":754},0,0]
["759","-1900","-1900-755",null,null,null,null,null,null,null,null,null,null,null,null,null,null,null,null,null,{"$f":"IF(J$2019=1,\"\",IF(T767=\"\",\"\",RIGHT(VLOOKUP(T767,Tabelle!$B$5:$C$9,2,FALSE),5)))","v":""},null,null,null,null,null,null,null,{"$f":"IF(B767=\"\",0,IF(B767=B766,COUNTIF(B$9:B766,B767)+1,1))","v":755},0,0]
["760","-1900","-1900-756",null,null,null,null,null,null,null,null,null,null,null,null,null,null,null,null,null,{"$f":"IF(J$2019=1,\"\",IF(T768=\"\",\"\",RIGHT(VLOOKUP(T768,Tabelle!$B$5:$C$9,2,FALSE),5)))","v":""},null,null,null,null,null,null,null,{"$f":"IF(B768=\"\",0,IF(B768=B767,COUNTIF(B$9:B767,B768)+1,1))","v":756},0,0]
["761","-1900","-1900-757",null,null,null,null,null,null,null,null,null,null,null,null,null,null,null,null,null,{"$f":"IF(J$2019=1,\"\",IF(T769=\"\",\"\",RIGHT(VLOOKUP(T769,Tabelle!$B$5:$C$9,2,FALSE),5)))","v":""},null,null,null,null,null,null,null,{"$f":"IF(B769=\"\",0,IF(B769=B768,COUNTIF(B$9:B768,B769)+1,1))","v":757},0,0]
["762","-1900","-1900-758",null,null,null,null,null,null,null,null,null,null,null,null,null,null,null,null,null,{"$f":"IF(J$2019=1,\"\",IF(T770=\"\",\"\",RIGHT(VLOOKUP(T770,Tabelle!$B$5:$C$9,2,FALSE),5)))","v":""},null,null,null,null,null,null,null,{"$f":"IF(B770=\"\",0,IF(B770=B769,COUNTIF(B$9:B769,B770)+1,1))","v":758},0,0]
["763","-1900","-1900-759",null,null,null,null,null,null,null,null,null,null,null,null,null,null,null,null,null,{"$f":"IF(J$2019=1,\"\",IF(T771=\"\",\"\",RIGHT(VLOOKUP(T771,Tabelle!$B$5:$C$9,2,FALSE),5)))","v":""},null,null,null,null,null,null,null,{"$f":"IF(B771=\"\",0,IF(B771=B770,COUNTIF(B$9:B770,B771)+1,1))","v":759},0,0]
["764","-1900","-1900-760",null,null,null,null,null,null,null,null,null,null,null,null,null,null,null,null,null,{"$f":"IF(J$2019=1,\"\",IF(T772=\"\",\"\",RIGHT(VLOOKUP(T772,Tabelle!$B$5:$C$9,2,FALSE),5)))","v":""},null,null,null,null,null,null,null,{"$f":"IF(B772=\"\",0,IF(B772=B771,COUNTIF(B$9:B771,B772)+1,1))","v":760},0,0]
["765","-1900","-1900-761",null,null,null,null,null,null,null,null,null,null,null,null,null,null,null,null,null,{"$f":"IF(J$2019=1,\"\",IF(T773=\"\",\"\",RIGHT(VLOOKUP(T773,Tabelle!$B$5:$C$9,2,FALSE),5)))","v":""},null,null,null,null,null,null,null,{"$f":"IF(B773=\"\",0,IF(B773=B772,COUNTIF(B$9:B772,B773)+1,1))","v":761},0,0]
["766","-1900","-1900-762",null,null,null,null,null,null,null,null,null,null,null,null,null,null,null,null,null,{"$f":"IF(J$2019=1,\"\",IF(T774=\"\",\"\",RIGHT(VLOOKUP(T774,Tabelle!$B$5:$C$9,2,FALSE),5)))","v":""},null,null,null,null,null,null,null,{"$f":"IF(B774=\"\",0,IF(B774=B773,COUNTIF(B$9:B773,B774)+1,1))","v":762},0,0]
["767","-1900","-1900-763",null,null,null,null,null,null,null,null,null,null,null,null,null,null,null,null,null,{"$f":"IF(J$2019=1,\"\",IF(T775=\"\",\"\",RIGHT(VLOOKUP(T775,Tabelle!$B$5:$C$9,2,FALSE),5)))","v":""},null,null,null,null,null,null,null,{"$f":"IF(B775=\"\",0,IF(B775=B774,COUNTIF(B$9:B774,B775)+1,1))","v":763},0,0]
["768","-1900","-1900-764",null,null,null,null,null,null,null,null,null,null,null,null,null,null,null,null,null,{"$f":"IF(J$2019=1,\"\",IF(T776=\"\",\"\",RIGHT(VLOOKUP(T776,Tabelle!$B$5:$C$9,2,FALSE),5)))","v":""},null,null,null,null,null,null,null,{"$f":"IF(B776=\"\",0,IF(B776=B775,COUNTIF(B$9:B775,B776)+1,1))","v":764},0,0]
["769","-1900","-1900-765",null,null,null,null,null,null,null,null,null,null,null,null,null,null,null,null,null,{"$f":"IF(J$2019=1,\"\",IF(T777=\"\",\"\",RIGHT(VLOOKUP(T777,Tabelle!$B$5:$C$9,2,FALSE),5)))","v":""},null,null,null,null,null,null,null,{"$f":"IF(B777=\"\",0,IF(B777=B776,COUNTIF(B$9:B776,B777)+1,1))","v":765},0,0]
["770",{"$f":"IF(AE778=$AE$2013,0,IF(J$2019=1,0,D778&\"-\"&YEAR(E778)))","v":"-1900"},"-1900-766",null,null,null,null,null,null,null,null,null,null,null,null,null,null,null,null,null,{"$f":"IF(J$2019=1,\"\",IF(T778=\"\",\"\",RIGHT(VLOOKUP(T778,Tabelle!$B$5:$C$9,2,FALSE),5)))","v":""},null,null,null,null,null,null,null,{"$f":"IF(B778=\"\",0,IF(B778=B777,COUNTIF(B$9:B777,B778)+1,1))","v":766},0,{"$f":"IF(E778>0,IF(OR(MONTH(E778)<$J$2025,MONTH(E778)>$J$2026),AE$2013,0),0)","v":0}]
["771","-1900","-1900-767",null,null,null,null,null,null,null,null,null,null,null,null,null,null,null,null,null,{"$f":"IF(J$2019=1,\"\",IF(T779=\"\",\"\",RIGHT(VLOOKUP(T779,Tabelle!$B$5:$C$9,2,FALSE),5)))","v":""},null,null,null,null,null,null,null,{"$f":"IF(B779=\"\",0,IF(B779=B778,COUNTIF(B$9:B778,B779)+1,1))","v":767},0,0]
["772","-1900","-1900-768",null,null,null,null,null,null,null,null,null,null,null,null,null,null,null,null,null,{"$f":"IF(J$2019=1,\"\",IF(T780=\"\",\"\",RIGHT(VLOOKUP(T780,Tabelle!$B$5:$C$9,2,FALSE),5)))","v":""},null,null,null,null,null,null,null,{"$f":"IF(B780=\"\",0,IF(B780=B779,COUNTIF(B$9:B779,B780)+1,1))","v":768},0,0]
["773","-1900","-1900-769",null,null,null,null,null,null,null,null,null,null,null,null,null,null,null,null,null,{"$f":"IF(J$2019=1,\"\",IF(T781=\"\",\"\",RIGHT(VLOOKUP(T781,Tabelle!$B$5:$C$9,2,FALSE),5)))","v":""},null,null,null,null,null,null,null,{"$f":"IF(B781=\"\",0,IF(B781=B780,COUNTIF(B$9:B780,B781)+1,1))","v":769},0,0]
["774","-1900","-1900-770",null,null,null,null,null,null,null,null,null,null,null,null,null,null,null,null,null,{"$f":"IF(J$2019=1,\"\",IF(T782=\"\",\"\",RIGHT(VLOOKUP(T782,Tabelle!$B$5:$C$9,2,FALSE),5)))","v":""},null,null,null,null,null,null,null,{"$f":"IF(B782=\"\",0,IF(B782=B781,COUNTIF(B$9:B781,B782)+1,1))","v":770},0,0]
["775","-1900","-1900-771",null,null,null,null,null,null,null,null,null,null,null,null,null,null,null,null,null,{"$f":"IF(J$2019=1,\"\",IF(T783=\"\",\"\",RIGHT(VLOOKUP(T783,Tabelle!$B$5:$C$9,2,FALSE),5)))","v":""},null,null,null,null,null,null,null,{"$f":"IF(B783=\"\",0,IF(B783=B782,COUNTIF(B$9:B782,B783)+1,1))","v":771},0,0]
["776","-1900","-1900-772",null,null,null,null,null,null,null,null,null,null,null,null,null,null,null,null,null,{"$f":"IF(J$2019=1,\"\",IF(T784=\"\",\"\",RIGHT(VLOOKUP(T784,Tabelle!$B$5:$C$9,2,FALSE),5)))","v":""},null,null,null,null,null,null,null,{"$f":"IF(B784=\"\",0,IF(B784=B783,COUNTIF(B$9:B783,B784)+1,1))","v":772},0,0]
["777","-1900","-1900-773",null,null,null,null,null,null,null,null,null,null,null,null,null,null,null,null,null,{"$f":"IF(J$2019=1,\"\",IF(T785=\"\",\"\",RIGHT(VLOOKUP(T785,Tabelle!$B$5:$C$9,2,FALSE),5)))","v":""},null,null,null,null,null,null,null,{"$f":"IF(B785=\"\",0,IF(B785=B784,COUNTIF(B$9:B784,B785)+1,1))","v":773},0,0]
["778","-1900","-1900-774",null,null,null,null,null,null,null,null,null,null,null,null,null,null,null,null,null,{"$f":"IF(J$2019=1,\"\",IF(T786=\"\",\"\",RIGHT(VLOOKUP(T786,Tabelle!$B$5:$C$9,2,FALSE),5)))","v":""},null,null,null,null,null,null,null,{"$f":"IF(B786=\"\",0,IF(B786=B785,COUNTIF(B$9:B785,B786)+1,1))","v":774},0,0]
["779","-1900","-1900-775",null,null,null,null,null,null,null,null,null,null,null,null,null,null,null,null,null,{"$f":"IF(J$2019=1,\"\",IF(T787=\"\",\"\",RIGHT(VLOOKUP(T787,Tabelle!$B$5:$C$9,2,FALSE),5)))","v":""},null,null,null,null,null,null,null,{"$f":"IF(B787=\"\",0,IF(B787=B786,COUNTIF(B$9:B786,B787)+1,1))","v":775},0,0]
["780","-1900","-1900-776",null,null,null,null,null,null,null,null,null,null,null,null,null,null,null,null,null,{"$f":"IF(J$2019=1,\"\",IF(T788=\"\",\"\",RIGHT(VLOOKUP(T788,Tabelle!$B$5:$C$9,2,FALSE),5)))","v":""},null,null,null,null,null,null,null,{"$f":"IF(B788=\"\",0,IF(B788=B787,COUNTIF(B$9:B787,B788)+1,1))","v":776},0,0]
["781","-1900","-1900-777",null,null,null,null,null,null,null,null,null,null,null,null,null,null,null,null,null,{"$f":"IF(J$2019=1,\"\",IF(T789=\"\",\"\",RIGHT(VLOOKUP(T789,Tabelle!$B$5:$C$9,2,FALSE),5)))","v":""},null,null,null,null,null,null,null,{"$f":"IF(B789=\"\",0,IF(B789=B788,COUNTIF(B$9:B788,B789)+1,1))","v":777},{"$f":"IF(OR(D789=\"\",J$2019=1),0,IF(AC789=28,1,0))","v":0},0]
["782","-1900","-1900-778",null,null,null,null,null,null,null,null,null,null,null,null,null,null,null,null,null,{"$f":"IF(J$2019=1,\"\",IF(T790=\"\",\"\",RIGHT(VLOOKUP(T790,Tabelle!$B$5:$C$9,2,FALSE),5)))","v":""},null,null,null,null,null,null,null,{"$f":"IF(B790=\"\",0,IF(B790=B789,COUNTIF(B$9:B789,B790)+1,1))","v":778},0,0]
["783","-1900",{"$f":"IF(J$2019=1,0,B791&\"-\"&AC791)","v":"-1900-779"},null,null,null,null,null,null,null,null,null,null,null,null,null,null,null,null,null,{"$f":"IF(J$2019=1,\"\",IF(T791=\"\",\"\",RIGHT(VLOOKUP(T791,Tabelle!$B$5:$C$9,2,FALSE),5)))","v":""},null,null,null,null,null,null,null,{"$f":"IF(B791=\"\",0,IF(B791=B790,COUNTIF(B$9:B790,B791)+1,1))","v":779},0,0]
["784","-1900","-1900-780",null,null,null,null,null,null,null,null,null,null,null,null,null,null,null,null,null,{"$f":"IF(J$2019=1,\"\",IF(T792=\"\",\"\",RIGHT(VLOOKUP(T792,Tabelle!$B$5:$C$9,2,FALSE),5)))","v":""},null,null,null,null,null,null,null,{"$f":"IF(B792=\"\",0,IF(B792=B791,COUNTIF(B$9:B791,B792)+1,1))","v":780},0,0]
["785","-1900","-1900-781",null,null,null,null,null,null,null,null,null,null,null,null,null,null,null,null,null,{"$f":"IF(J$2019=1,\"\",IF(T793=\"\",\"\",RIGHT(VLOOKUP(T793,Tabelle!$B$5:$C$9,2,FALSE),5)))","v":""},null,null,null,null,null,null,null,{"$f":"IF(B793=\"\",0,IF(B793=B792,COUNTIF(B$9:B792,B793)+1,1))","v":781},0,0]
["786","-1900","-1900-782",null,null,null,null,null,null,null,null,null,null,null,null,null,null,null,null,null,{"$f":"IF(J$2019=1,\"\",IF(T794=\"\",\"\",RIGHT(VLOOKUP(T794,Tabelle!$B$5:$C$9,2,FALSE),5)))","v":""},null,null,null,null,null,null,null,{"$f":"IF(B794=\"\",0,IF(B794=B793,COUNTIF(B$9:B793,B794)+1,1))","v":782},0,0]
["787","-1900","-1900-783",null,null,null,null,null,null,null,null,null,null,null,null,null,null,null,null,null,{"$f":"IF(J$2019=1,\"\",IF(T795=\"\",\"\",RIGHT(VLOOKUP(T795,Tabelle!$B$5:$C$9,2,FALSE),5)))","v":""},null,null,null,null,null,null,null,{"$f":"IF(B795=\"\",0,IF(B795=B794,COUNTIF(B$9:B794,B795)+1,1))","v":783},0,0]
["788","-1900","-1900-784",null,null,null,null,null,null,null,null,null,null,null,null,null,null,null,null,null,{"$f":"IF(J$2019=1,\"\",IF(T796=\"\",\"\",RIGHT(VLOOKUP(T796,Tabelle!$B$5:$C$9,2,FALSE),5)))","v":""},null,null,null,null,null,null,null,{"$f":"IF(B796=\"\",0,IF(B796=B795,COUNTIF(B$9:B795,B796)+1,1))","v":784},0,0]
["789","-1900","-1900-785",null,null,null,null,null,null,null,null,null,null,null,null,null,null,null,null,null,{"$f":"IF(J$2019=1,\"\",IF(T797=\"\",\"\",RIGHT(VLOOKUP(T797,Tabelle!$B$5:$C$9,2,FALSE),5)))","v":""},null,null,null,null,null,null,null,{"$f":"IF(B797=\"\",0,IF(B797=B796,COUNTIF(B$9:B796,B797)+1,1))","v":785},0,0]
["790","-1900","-1900-786",null,null,null,null,null,null,null,null,null,null,null,null,null,null,null,null,null,{"$f":"IF(J$2019=1,\"\",IF(T798=\"\",\"\",RIGHT(VLOOKUP(T798,Tabelle!$B$5:$C$9,2,FALSE),5)))","v":""},null,null,null,null,null,null,null,{"$f":"IF(B798=\"\",0,IF(B798=B797,COUNTIF(B$9:B797,B798)+1,1))","v":786},0,0]
["791","-1900","-1900-787",null,null,null,null,null,null,null,null,null,null,null,null,null,null,null,null,null,{"$f":"IF(J$2019=1,\"\",IF(T799=\"\",\"\",RIGHT(VLOOKUP(T799,Tabelle!$B$5:$C$9,2,FALSE),5)))","v":""},null,null,null,null,null,null,null,{"$f":"IF(B799=\"\",0,IF(B799=B798,COUNTIF(B$9:B798,B799)+1,1))","v":787},0,0]
["792","-1900","-1900-788",null,null,null,null,null,null,null,null,null,null,null,null,null,null,null,null,null,{"$f":"IF(J$2019=1,\"\",IF(T800=\"\",\"\",RIGHT(VLOOKUP(T800,Tabelle!$B$5:$C$9,2,FALSE),5)))","v":""},null,null,null,null,null,null,null,{"$f":"IF(B800=\"\",0,IF(B800=B799,COUNTIF(B$9:B799,B800)+1,1))","v":788},0,0]
["793","-1900","-1900-789",null,null,null,null,null,null,null,null,null,null,null,null,null,null,null,null,null,{"$f":"IF(J$2019=1,\"\",IF(T801=\"\",\"\",RIGHT(VLOOKUP(T801,Tabelle!$B$5:$C$9,2,FALSE),5)))","v":""},null,null,null,null,null,null,null,{"$f":"IF(B801=\"\",0,IF(B801=B800,COUNTIF(B$9:B800,B801)+1,1))","v":789},0,0]
["794","-1900","-1900-790",null,null,null,null,null,null,null,null,null,null,null,null,null,null,null,null,null,{"$f":"IF(J$2019=1,\"\",IF(T802=\"\",\"\",RIGHT(VLOOKUP(T802,Tabelle!$B$5:$C$9,2,FALSE),5)))","v":""},null,null,null,null,null,null,null,{"$f":"IF(B802=\"\",0,IF(B802=B801,COUNTIF(B$9:B801,B802)+1,1))","v":790},0,0]
["795","-1900","-1900-791",null,null,null,null,null,null,null,null,null,null,null,null,null,null,null,null,null,{"$f":"IF(J$2019=1,\"\",IF(T803=\"\",\"\",RIGHT(VLOOKUP(T803,Tabelle!$B$5:$C$9,2,FALSE),5)))","v":""},null,null,null,null,null,null,null,{"$f":"IF(B803=\"\",0,IF(B803=B802,COUNTIF(B$9:B802,B803)+1,1))","v":791},0,0]
["796","-1900","-1900-792",null,null,null,null,null,null,null,null,null,null,null,null,null,null,null,null,null,{"$f":"IF(J$2019=1,\"\",IF(T804=\"\",\"\",RIGHT(VLOOKUP(T804,Tabelle!$B$5:$C$9,2,FALSE),5)))","v":""},null,null,null,null,null,null,null,{"$f":"IF(B804=\"\",0,IF(B804=B803,COUNTIF(B$9:B803,B804)+1,1))","v":792},0,0]
["797","-1900","-1900-793",null,null,null,null,null,null,null,null,null,null,null,null,null,null,null,null,null,{"$f":"IF(J$2019=1,\"\",IF(T805=\"\",\"\",RIGHT(VLOOKUP(T805,Tabelle!$B$5:$C$9,2,FALSE),5)))","v":""},null,null,null,null,null,null,null,{"$f":"IF(B805=\"\",0,IF(B805=B804,COUNTIF(B$9:B804,B805)+1,1))","v":793},0,0]
["798","-1900","-1900-794",null,null,null,null,null,null,null,null,null,null,null,null,null,null,null,null,null,{"$f":"IF(J$2019=1,\"\",IF(T806=\"\",\"\",RIGHT(VLOOKUP(T806,Tabelle!$B$5:$C$9,2,FALSE),5)))","v":""},null,null,null,null,null,null,null,{"$f":"IF(B806=\"\",0,IF(B806=B805,COUNTIF(B$9:B805,B806)+1,1))","v":794},0,0]
["799","-1900","-1900-795",null,null,null,null,null,null,null,null,null,null,null,null,null,null,null,null,null,{"$f":"IF(J$2019=1,\"\",IF(T807=\"\",\"\",RIGHT(VLOOKUP(T807,Tabelle!$B$5:$C$9,2,FALSE),5)))","v":""},null,null,null,null,null,null,null,{"$f":"IF(B807=\"\",0,IF(B807=B806,COUNTIF(B$9:B806,B807)+1,1))","v":795},0,0]
["800","-1900","-1900-796",null,null,null,null,null,null,null,null,null,null,null,null,null,null,null,null,null,{"$f":"IF(J$2019=1,\"\",IF(T808=\"\",\"\",RIGHT(VLOOKUP(T808,Tabelle!$B$5:$C$9,2,FALSE),5)))","v":""},null,null,null,null,null,null,null,{"$f":"IF(B808=\"\",0,IF(B808=B807,COUNTIF(B$9:B807,B808)+1,1))","v":796},0,0]
["801","-1900","-1900-797",null,null,null,null,null,null,null,null,null,null,null,null,null,null,null,null,null,{"$f":"IF(J$2019=1,\"\",IF(T809=\"\",\"\",RIGHT(VLOOKUP(T809,Tabelle!$B$5:$C$9,2,FALSE),5)))","v":""},null,null,null,null,null,null,null,{"$f":"IF(B809=\"\",0,IF(B809=B808,COUNTIF(B$9:B808,B809)+1,1))","v":797},0,0]
["802","-1900","-1900-798",null,null,null,null,null,null,null,null,null,null,null,null,null,null,null,null,null,{"$f":"IF(J$2019=1,\"\",IF(T810=\"\",\"\",RIGHT(VLOOKUP(T810,Tabelle!$B$5:$C$9,2,FALSE),5)))","v":""},null,null,null,null,null,null,null,{"$f":"IF(B810=\"\",0,IF(B810=B809,COUNTIF(B$9:B809,B810)+1,1))","v":798},0,0]
["803","-1900","-1900-799",null,null,null,null,null,null,null,null,null,null,null,null,null,null,null,null,null,{"$f":"IF(J$2019=1,\"\",IF(T811=\"\",\"\",RIGHT(VLOOKUP(T811,Tabelle!$B$5:$C$9,2,FALSE),5)))","v":""},null,null,null,null,null,null,null,{"$f":"IF(B811=\"\",0,IF(B811=B810,COUNTIF(B$9:B810,B811)+1,1))","v":799},0,0]
["804","-1900","-1900-800",null,null,null,null,null,null,null,null,null,null,null,null,null,null,null,null,null,{"$f":"IF(J$2019=1,\"\",IF(T812=\"\",\"\",RIGHT(VLOOKUP(T812,Tabelle!$B$5:$C$9,2,FALSE),5)))","v":""},null,null,null,null,null,null,null,{"$f":"IF(B812=\"\",0,IF(B812=B811,COUNTIF(B$9:B811,B812)+1,1))","v":800},0,0]
["805","-1900","-1900-801",null,null,null,null,null,null,null,null,null,null,null,null,null,null,null,null,null,{"$f":"IF(J$2019=1,\"\",IF(T813=\"\",\"\",RIGHT(VLOOKUP(T813,Tabelle!$B$5:$C$9,2,FALSE),5)))","v":""},null,null,null,null,null,null,null,{"$f":"IF(B813=\"\",0,IF(B813=B812,COUNTIF(B$9:B812,B813)+1,1))","v":801},0,0]
["806","-1900","-1900-802",null,null,null,null,null,null,null,null,null,null,null,null,null,null,null,null,null,{"$f":"IF(J$2019=1,\"\",IF(T814=\"\",\"\",RIGHT(VLOOKUP(T814,Tabelle!$B$5:$C$9,2,FALSE),5)))","v":""},null,null,null,null,null,null,null,{"$f":"IF(B814=\"\",0,IF(B814=B813,COUNTIF(B$9:B813,B814)+1,1))","v":802},0,0]
["807","-1900","-1900-803",null,null,null,null,null,null,null,null,null,null,null,null,null,null,null,null,null,{"$f":"IF(J$2019=1,\"\",IF(T815=\"\",\"\",RIGHT(VLOOKUP(T815,Tabelle!$B$5:$C$9,2,FALSE),5)))","v":""},null,null,null,null,null,null,null,{"$f":"IF(B815=\"\",0,IF(B815=B814,COUNTIF(B$9:B814,B815)+1,1))","v":803},0,0]
["808","-1900","-1900-804",null,null,null,null,null,null,null,null,null,null,null,null,null,null,null,null,null,{"$f":"IF(J$2019=1,\"\",IF(T816=\"\",\"\",RIGHT(VLOOKUP(T816,Tabelle!$B$5:$C$9,2,FALSE),5)))","v":""},null,null,null,null,null,null,null,{"$f":"IF(B816=\"\",0,IF(B816=B815,COUNTIF(B$9:B815,B816)+1,1))","v":804},0,0]
["809","-1900","-1900-805",null,null,null,null,null,null,null,null,null,null,null,null,null,null,null,null,null,{"$f":"IF(J$2019=1,\"\",IF(T817=\"\",\"\",RIGHT(VLOOKUP(T817,Tabelle!$B$5:$C$9,2,FALSE),5)))","v":""},null,null,null,null,null,null,null,{"$f":"IF(B817=\"\",0,IF(B817=B816,COUNTIF(B$9:B816,B817)+1,1))","v":805},0,0]
["810","-1900","-1900-806",null,null,null,null,null,null,null,null,null,null,null,null,null,null,null,null,null,{"$f":"IF(J$2019=1,\"\",IF(T818=\"\",\"\",RIGHT(VLOOKUP(T818,Tabelle!$B$5:$C$9,2,FALSE),5)))","v":""},null,null,null,null,null,null,null,{"$f":"IF(B818=\"\",0,IF(B818=B817,COUNTIF(B$9:B817,B818)+1,1))","v":806},0,0]
["811","-1900","-1900-807",null,null,null,null,null,null,null,null,null,null,null,null,null,null,null,null,null,{"$f":"IF(J$2019=1,\"\",IF(T819=\"\",\"\",RIGHT(VLOOKUP(T819,Tabelle!$B$5:$C$9,2,FALSE),5)))","v":""},null,null,null,null,null,null,null,{"$f":"IF(B819=\"\",0,IF(B819=B818,COUNTIF(B$9:B818,B819)+1,1))","v":807},0,0]
["812","-1900","-1900-808",null,null,null,null,null,null,null,null,null,null,null,null,null,null,null,null,null,{"$f":"IF(J$2019=1,\"\",IF(T820=\"\",\"\",RIGHT(VLOOKUP(T820,Tabelle!$B$5:$C$9,2,FALSE),5)))","v":""},null,null,null,null,null,null,null,{"$f":"IF(B820=\"\",0,IF(B820=B819,COUNTIF(B$9:B819,B820)+1,1))","v":808},0,0]
["813","-1900","-1900-809",null,null,null,null,null,null,null,null,null,null,null,null,null,null,null,null,null,{"$f":"IF(J$2019=1,\"\",IF(T821=\"\",\"\",RIGHT(VLOOKUP(T821,Tabelle!$B$5:$C$9,2,FALSE),5)))","v":""},null,null,null,null,null,null,null,{"$f":"IF(B821=\"\",0,IF(B821=B820,COUNTIF(B$9:B820,B821)+1,1))","v":809},0,0]
["814","-1900","-1900-810",null,null,null,null,null,null,null,null,null,null,null,null,null,null,null,null,null,{"$f":"IF(J$2019=1,\"\",IF(T822=\"\",\"\",RIGHT(VLOOKUP(T822,Tabelle!$B$5:$C$9,2,FALSE),5)))","v":""},null,null,null,null,null,null,null,{"$f":"IF(B822=\"\",0,IF(B822=B821,COUNTIF(B$9:B821,B822)+1,1))","v":810},0,0]
["815","-1900","-1900-811",null,null,null,null,null,null,null,null,null,null,null,null,null,null,null,null,null,{"$f":"IF(J$2019=1,\"\",IF(T823=\"\",\"\",RIGHT(VLOOKUP(T823,Tabelle!$B$5:$C$9,2,FALSE),5)))","v":""},null,null,null,null,null,null,null,{"$f":"IF(B823=\"\",0,IF(B823=B822,COUNTIF(B$9:B822,B823)+1,1))","v":811},0,0]
["816","-1900","-1900-812",null,null,null,null,null,null,null,null,null,null,null,null,null,null,null,null,null,{"$f":"IF(J$2019=1,\"\",IF(T824=\"\",\"\",RIGHT(VLOOKUP(T824,Tabelle!$B$5:$C$9,2,FALSE),5)))","v":""},null,null,null,null,null,null,null,{"$f":"IF(B824=\"\",0,IF(B824=B823,COUNTIF(B$9:B823,B824)+1,1))","v":812},0,0]
["817","-1900","-1900-813",null,null,null,null,null,null,null,null,null,null,null,null,null,null,null,null,null,{"$f":"IF(J$2019=1,\"\",IF(T825=\"\",\"\",RIGHT(VLOOKUP(T825,Tabelle!$B$5:$C$9,2,FALSE),5)))","v":""},null,null,null,null,null,null,null,{"$f":"IF(B825=\"\",0,IF(B825=B824,COUNTIF(B$9:B824,B825)+1,1))","v":813},0,0]
["818","-1900","-1900-814",null,null,null,null,null,null,null,null,null,null,null,null,null,null,null,null,null,{"$f":"IF(J$2019=1,\"\",IF(T826=\"\",\"\",RIGHT(VLOOKUP(T826,Tabelle!$B$5:$C$9,2,FALSE),5)))","v":""},null,null,null,null,null,null,null,{"$f":"IF(B826=\"\",0,IF(B826=B825,COUNTIF(B$9:B825,B826)+1,1))","v":814},0,0]
["819","-1900","-1900-815",null,null,null,null,null,null,null,null,null,null,null,null,null,null,null,null,null,{"$f":"IF(J$2019=1,\"\",IF(T827=\"\",\"\",RIGHT(VLOOKUP(T827,Tabelle!$B$5:$C$9,2,FALSE),5)))","v":""},null,null,null,null,null,null,null,{"$f":"IF(B827=\"\",0,IF(B827=B826,COUNTIF(B$9:B826,B827)+1,1))","v":815},0,0]
["820","-1900","-1900-816",null,null,null,null,null,null,null,null,null,null,null,null,null,null,null,null,null,{"$f":"IF(J$2019=1,\"\",IF(T828=\"\",\"\",RIGHT(VLOOKUP(T828,Tabelle!$B$5:$C$9,2,FALSE),5)))","v":""},null,null,null,null,null,null,null,{"$f":"IF(B828=\"\",0,IF(B828=B827,COUNTIF(B$9:B827,B828)+1,1))","v":816},0,0]
["821","-1900","-1900-817",null,null,null,null,null,null,null,null,null,null,null,null,null,null,null,null,null,{"$f":"IF(J$2019=1,\"\",IF(T829=\"\",\"\",RIGHT(VLOOKUP(T829,Tabelle!$B$5:$C$9,2,FALSE),5)))","v":""},null,null,null,null,null,null,null,{"$f":"IF(B829=\"\",0,IF(B829=B828,COUNTIF(B$9:B828,B829)+1,1))","v":817},0,0]
["822","-1900","-1900-818",null,null,null,null,null,null,null,null,null,null,null,null,null,null,null,null,null,{"$f":"IF(J$2019=1,\"\",IF(T830=\"\",\"\",RIGHT(VLOOKUP(T830,Tabelle!$B$5:$C$9,2,FALSE),5)))","v":""},null,null,null,null,null,null,null,{"$f":"IF(B830=\"\",0,IF(B830=B829,COUNTIF(B$9:B829,B830)+1,1))","v":818},0,0]
["823","-1900","-1900-819",null,null,null,null,null,null,null,null,null,null,null,null,null,null,null,null,null,{"$f":"IF(J$2019=1,\"\",IF(T831=\"\",\"\",RIGHT(VLOOKUP(T831,Tabelle!$B$5:$C$9,2,FALSE),5)))","v":""},null,null,null,null,null,null,null,{"$f":"IF(B831=\"\",0,IF(B831=B830,COUNTIF(B$9:B830,B831)+1,1))","v":819},0,0]
["824","-1900","-1900-820",null,null,null,null,null,null,null,null,null,null,null,null,null,null,null,null,null,{"$f":"IF(J$2019=1,\"\",IF(T832=\"\",\"\",RIGHT(VLOOKUP(T832,Tabelle!$B$5:$C$9,2,FALSE),5)))","v":""},null,null,null,null,null,null,null,{"$f":"IF(B832=\"\",0,IF(B832=B831,COUNTIF(B$9:B831,B832)+1,1))","v":820},0,0]
["825","-1900","-1900-821",null,null,null,null,null,null,null,null,null,null,null,null,null,null,null,null,null,{"$f":"IF(J$2019=1,\"\",IF(T833=\"\",\"\",RIGHT(VLOOKUP(T833,Tabelle!$B$5:$C$9,2,FALSE),5)))","v":""},null,null,null,null,null,null,null,{"$f":"IF(B833=\"\",0,IF(B833=B832,COUNTIF(B$9:B832,B833)+1,1))","v":821},0,0]
["826","-1900","-1900-822",null,null,null,null,null,null,null,null,null,null,null,null,null,null,null,null,null,{"$f":"IF(J$2019=1,\"\",IF(T834=\"\",\"\",RIGHT(VLOOKUP(T834,Tabelle!$B$5:$C$9,2,FALSE),5)))","v":""},null,null,null,null,null,null,null,{"$f":"IF(B834=\"\",0,IF(B834=B833,COUNTIF(B$9:B833,B834)+1,1))","v":822},0,0]
["827","-1900","-1900-823",null,null,null,null,null,null,null,null,null,null,null,null,null,null,null,null,null,{"$f":"IF(J$2019=1,\"\",IF(T835=\"\",\"\",RIGHT(VLOOKUP(T835,Tabelle!$B$5:$C$9,2,FALSE),5)))","v":""},null,null,null,null,null,null,null,{"$f":"IF(B835=\"\",0,IF(B835=B834,COUNTIF(B$9:B834,B835)+1,1))","v":823},0,0]
["828","-1900","-1900-824",null,null,null,null,null,null,null,null,null,null,null,null,null,null,null,null,null,{"$f":"IF(J$2019=1,\"\",IF(T836=\"\",\"\",RIGHT(VLOOKUP(T836,Tabelle!$B$5:$C$9,2,FALSE),5)))","v":""},null,null,null,null,null,null,null,{"$f":"IF(B836=\"\",0,IF(B836=B835,COUNTIF(B$9:B835,B836)+1,1))","v":824},0,0]
["829","-1900","-1900-825",null,null,null,null,null,null,null,null,null,null,null,null,null,null,null,null,null,{"$f":"IF(J$2019=1,\"\",IF(T837=\"\",\"\",RIGHT(VLOOKUP(T837,Tabelle!$B$5:$C$9,2,FALSE),5)))","v":""},null,null,null,null,null,null,null,{"$f":"IF(B837=\"\",0,IF(B837=B836,COUNTIF(B$9:B836,B837)+1,1))","v":825},0,0]
["830","-1900","-1900-826",null,null,null,null,null,null,null,null,null,null,null,null,null,null,null,null,null,{"$f":"IF(J$2019=1,\"\",IF(T838=\"\",\"\",RIGHT(VLOOKUP(T838,Tabelle!$B$5:$C$9,2,FALSE),5)))","v":""},null,null,null,null,null,null,null,{"$f":"IF(B838=\"\",0,IF(B838=B837,COUNTIF(B$9:B837,B838)+1,1))","v":826},0,0]
["831","-1900","-1900-827",null,null,null,null,null,null,null,null,null,null,null,null,null,null,null,null,null,{"$f":"IF(J$2019=1,\"\",IF(T839=\"\",\"\",RIGHT(VLOOKUP(T839,Tabelle!$B$5:$C$9,2,FALSE),5)))","v":""},null,null,null,null,null,null,null,{"$f":"IF(B839=\"\",0,IF(B839=B838,COUNTIF(B$9:B838,B839)+1,1))","v":827},0,0]
["832","-1900","-1900-828",null,null,null,null,null,null,null,null,null,null,null,null,null,null,null,null,null,{"$f":"IF(J$2019=1,\"\",IF(T840=\"\",\"\",RIGHT(VLOOKUP(T840,Tabelle!$B$5:$C$9,2,FALSE),5)))","v":""},null,null,null,null,null,null,null,{"$f":"IF(B840=\"\",0,IF(B840=B839,COUNTIF(B$9:B839,B840)+1,1))","v":828},0,0]
["833","-1900","-1900-829",null,null,null,null,null,null,null,null,null,null,null,null,null,null,null,null,null,{"$f":"IF(J$2019=1,\"\",IF(T841=\"\",\"\",RIGHT(VLOOKUP(T841,Tabelle!$B$5:$C$9,2,FALSE),5)))","v":""},null,null,null,null,null,null,null,{"$f":"IF(B841=\"\",0,IF(B841=B840,COUNTIF(B$9:B840,B841)+1,1))","v":829},0,0]
["834",{"$f":"IF(AE842=$AE$2013,0,IF(J$2019=1,0,D842&\"-\"&YEAR(E842)))","v":"-1900"},"-1900-830",null,null,null,null,null,null,null,null,null,null,null,null,null,null,null,null,null,{"$f":"IF(J$2019=1,\"\",IF(T842=\"\",\"\",RIGHT(VLOOKUP(T842,Tabelle!$B$5:$C$9,2,FALSE),5)))","v":""},null,null,null,null,null,null,null,{"$f":"IF(B842=\"\",0,IF(B842=B841,COUNTIF(B$9:B841,B842)+1,1))","v":830},0,{"$f":"IF(E842>0,IF(OR(MONTH(E842)<$J$2025,MONTH(E842)>$J$2026),AE$2013,0),0)","v":0}]
["835","-1900","-1900-831",null,null,null,null,null,null,null,null,null,null,null,null,null,null,null,null,null,{"$f":"IF(J$2019=1,\"\",IF(T843=\"\",\"\",RIGHT(VLOOKUP(T843,Tabelle!$B$5:$C$9,2,FALSE),5)))","v":""},null,null,null,null,null,null,null,{"$f":"IF(B843=\"\",0,IF(B843=B842,COUNTIF(B$9:B842,B843)+1,1))","v":831},0,0]
["836","-1900","-1900-832",null,null,null,null,null,null,null,null,null,null,null,null,null,null,null,null,null,{"$f":"IF(J$2019=1,\"\",IF(T844=\"\",\"\",RIGHT(VLOOKUP(T844,Tabelle!$B$5:$C$9,2,FALSE),5)))","v":""},null,null,null,null,null,null,null,{"$f":"IF(B844=\"\",0,IF(B844=B843,COUNTIF(B$9:B843,B844)+1,1))","v":832},0,0]
["837","-1900","-1900-833",null,null,null,null,null,null,null,null,null,null,null,null,null,null,null,null,null,{"$f":"IF(J$2019=1,\"\",IF(T845=\"\",\"\",RIGHT(VLOOKUP(T845,Tabelle!$B$5:$C$9,2,FALSE),5)))","v":""},null,null,null,null,null,null,null,{"$f":"IF(B845=\"\",0,IF(B845=B844,COUNTIF(B$9:B844,B845)+1,1))","v":833},0,0]
["838","-1900","-1900-834",null,null,null,null,null,null,null,null,null,null,null,null,null,null,null,null,null,{"$f":"IF(J$2019=1,\"\",IF(T846=\"\",\"\",RIGHT(VLOOKUP(T846,Tabelle!$B$5:$C$9,2,FALSE),5)))","v":""},null,null,null,null,null,null,null,{"$f":"IF(B846=\"\",0,IF(B846=B845,COUNTIF(B$9:B845,B846)+1,1))","v":834},0,0]
["839","-1900","-1900-835",null,null,null,null,null,null,null,null,null,null,null,null,null,null,null,null,null,{"$f":"IF(J$2019=1,\"\",IF(T847=\"\",\"\",RIGHT(VLOOKUP(T847,Tabelle!$B$5:$C$9,2,FALSE),5)))","v":""},null,null,null,null,null,null,null,{"$f":"IF(B847=\"\",0,IF(B847=B846,COUNTIF(B$9:B846,B847)+1,1))","v":835},0,0]
["840","-1900","-1900-836",null,null,null,null,null,null,null,null,null,null,null,null,null,null,null,null,null,{"$f":"IF(J$2019=1,\"\",IF(T848=\"\",\"\",RIGHT(VLOOKUP(T848,Tabelle!$B$5:$C$9,2,FALSE),5)))","v":""},null,null,null,null,null,null,null,{"$f":"IF(B848=\"\",0,IF(B848=B847,COUNTIF(B$9:B847,B848)+1,1))","v":836},0,0]
["841","-1900","-1900-837",null,null,null,null,null,null,null,null,null,null,null,null,null,null,null,null,null,{"$f":"IF(J$2019=1,\"\",IF(T849=\"\",\"\",RIGHT(VLOOKUP(T849,Tabelle!$B$5:$C$9,2,FALSE),5)))","v":""},null,null,null,null,null,null,null,{"$f":"IF(B849=\"\",0,IF(B849=B848,COUNTIF(B$9:B848,B849)+1,1))","v":837},0,0]
["842","-1900","-1900-838",null,null,null,null,null,null,null,null,null,null,null,null,null,null,null,null,null,{"$f":"IF(J$2019=1,\"\",IF(T850=\"\",\"\",RIGHT(VLOOKUP(T850,Tabelle!$B$5:$C$9,2,FALSE),5)))","v":""},null,null,null,null,null,null,null,{"$f":"IF(B850=\"\",0,IF(B850=B849,COUNTIF(B$9:B849,B850)+1,1))","v":838},0,0]
["843","-1900","-1900-839",null,null,null,null,null,null,null,null,null,null,null,null,null,null,null,null,null,{"$f":"IF(J$2019=1,\"\",IF(T851=\"\",\"\",RIGHT(VLOOKUP(T851,Tabelle!$B$5:$C$9,2,FALSE),5)))","v":""},null,null,null,null,null,null,null,{"$f":"IF(B851=\"\",0,IF(B851=B850,COUNTIF(B$9:B850,B851)+1,1))","v":839},0,0]
["844","-1900","-1900-840",null,null,null,null,null,null,null,null,null,null,null,null,null,null,null,null,null,{"$f":"IF(J$2019=1,\"\",IF(T852=\"\",\"\",RIGHT(VLOOKUP(T852,Tabelle!$B$5:$C$9,2,FALSE),5)))","v":""},null,null,null,null,null,null,null,{"$f":"IF(B852=\"\",0,IF(B852=B851,COUNTIF(B$9:B851,B852)+1,1))","v":840},0,0]
["845","-1900","-1900-841",null,null,null,null,null,null,null,null,null,null,null,null,null,null,null,null,null,{"$f":"IF(J$2019=1,\"\",IF(T853=\"\",\"\",RIGHT(VLOOKUP(T853,Tabelle!$B$5:$C$9,2,FALSE),5)))","v":""},null,null,null,null,null,null,null,{"$f":"IF(B853=\"\",0,IF(B853=B852,COUNTIF(B$9:B852,B853)+1,1))","v":841},{"$f":"IF(OR(D853=\"\",J$2019=1),0,IF(AC853=28,1,0))","v":0},0]
["846","-1900","-1900-842",null,null,null,null,null,null,null,null,null,null,null,null,null,null,null,null,null,{"$f":"IF(J$2019=1,\"\",IF(T854=\"\",\"\",RIGHT(VLOOKUP(T854,Tabelle!$B$5:$C$9,2,FALSE),5)))","v":""},null,null,null,null,null,null,null,{"$f":"IF(B854=\"\",0,IF(B854=B853,COUNTIF(B$9:B853,B854)+1,1))","v":842},0,0]
["847","-1900",{"$f":"IF(J$2019=1,0,B855&\"-\"&AC855)","v":"-1900-843"},null,null,null,null,null,null,null,null,null,null,null,null,null,null,null,null,null,{"$f":"IF(J$2019=1,\"\",IF(T855=\"\",\"\",RIGHT(VLOOKUP(T855,Tabelle!$B$5:$C$9,2,FALSE),5)))","v":""},null,null,null,null,null,null,null,{"$f":"IF(B855=\"\",0,IF(B855=B854,COUNTIF(B$9:B854,B855)+1,1))","v":843},0,0]
["848","-1900","-1900-844",null,null,null,null,null,null,null,null,null,null,null,null,null,null,null,null,null,{"$f":"IF(J$2019=1,\"\",IF(T856=\"\",\"\",RIGHT(VLOOKUP(T856,Tabelle!$B$5:$C$9,2,FALSE),5)))","v":""},null,null,null,null,null,null,null,{"$f":"IF(B856=\"\",0,IF(B856=B855,COUNTIF(B$9:B855,B856)+1,1))","v":844},0,0]
["849","-1900","-1900-845",null,null,null,null,null,null,null,null,null,null,null,null,null,null,null,null,null,{"$f":"IF(J$2019=1,\"\",IF(T857=\"\",\"\",RIGHT(VLOOKUP(T857,Tabelle!$B$5:$C$9,2,FALSE),5)))","v":""},null,null,null,null,null,null,null,{"$f":"IF(B857=\"\",0,IF(B857=B856,COUNTIF(B$9:B856,B857)+1,1))","v":845},0,0]
["850","-1900","-1900-846",null,null,null,null,null,null,null,null,null,null,null,null,null,null,null,null,null,{"$f":"IF(J$2019=1,\"\",IF(T858=\"\",\"\",RIGHT(VLOOKUP(T858,Tabelle!$B$5:$C$9,2,FALSE),5)))","v":""},null,null,null,null,null,null,null,{"$f":"IF(B858=\"\",0,IF(B858=B857,COUNTIF(B$9:B857,B858)+1,1))","v":846},0,0]
["851","-1900","-1900-847",null,null,null,null,null,null,null,null,null,null,null,null,null,null,null,null,null,{"$f":"IF(J$2019=1,\"\",IF(T859=\"\",\"\",RIGHT(VLOOKUP(T859,Tabelle!$B$5:$C$9,2,FALSE),5)))","v":""},null,null,null,null,null,null,null,{"$f":"IF(B859=\"\",0,IF(B859=B858,COUNTIF(B$9:B858,B859)+1,1))","v":847},0,0]
["852","-1900","-1900-848",null,null,null,null,null,null,null,null,null,null,null,null,null,null,null,null,null,{"$f":"IF(J$2019=1,\"\",IF(T860=\"\",\"\",RIGHT(VLOOKUP(T860,Tabelle!$B$5:$C$9,2,FALSE),5)))","v":""},null,null,null,null,null,null,null,{"$f":"IF(B860=\"\",0,IF(B860=B859,COUNTIF(B$9:B859,B860)+1,1))","v":848},0,0]
["853","-1900","-1900-849",null,null,null,null,null,null,null,null,null,null,null,null,null,null,null,null,null,{"$f":"IF(J$2019=1,\"\",IF(T861=\"\",\"\",RIGHT(VLOOKUP(T861,Tabelle!$B$5:$C$9,2,FALSE),5)))","v":""},null,null,null,null,null,null,null,{"$f":"IF(B861=\"\",0,IF(B861=B860,COUNTIF(B$9:B860,B861)+1,1))","v":849},0,0]
["854","-1900","-1900-850",null,null,null,null,null,null,null,null,null,null,null,null,null,null,null,null,null,{"$f":"IF(J$2019=1,\"\",IF(T862=\"\",\"\",RIGHT(VLOOKUP(T862,Tabelle!$B$5:$C$9,2,FALSE),5)))","v":""},null,null,null,null,null,null,null,{"$f":"IF(B862=\"\",0,IF(B862=B861,COUNTIF(B$9:B861,B862)+1,1))","v":850},0,0]
["855","-1900","-1900-851",null,null,null,null,null,null,null,null,null,null,null,null,null,null,null,null,null,{"$f":"IF(J$2019=1,\"\",IF(T863=\"\",\"\",RIGHT(VLOOKUP(T863,Tabelle!$B$5:$C$9,2,FALSE),5)))","v":""},null,null,null,null,null,null,null,{"$f":"IF(B863=\"\",0,IF(B863=B862,COUNTIF(B$9:B862,B863)+1,1))","v":851},0,0]
["856","-1900","-1900-852",null,null,null,null,null,null,null,null,null,null,null,null,null,null,null,null,null,{"$f":"IF(J$2019=1,\"\",IF(T864=\"\",\"\",RIGHT(VLOOKUP(T864,Tabelle!$B$5:$C$9,2,FALSE),5)))","v":""},null,null,null,null,null,null,null,{"$f":"IF(B864=\"\",0,IF(B864=B863,COUNTIF(B$9:B863,B864)+1,1))","v":852},0,0]
["857","-1900","-1900-853",null,null,null,null,null,null,null,null,null,null,null,null,null,null,null,null,null,{"$f":"IF(J$2019=1,\"\",IF(T865=\"\",\"\",RIGHT(VLOOKUP(T865,Tabelle!$B$5:$C$9,2,FALSE),5)))","v":""},null,null,null,null,null,null,null,{"$f":"IF(B865=\"\",0,IF(B865=B864,COUNTIF(B$9:B864,B865)+1,1))","v":853},0,0]
["858","-1900","-1900-854",null,null,null,null,null,null,null,null,null,null,null,null,null,null,null,null,null,{"$f":"IF(J$2019=1,\"\",IF(T866=\"\",\"\",RIGHT(VLOOKUP(T866,Tabelle!$B$5:$C$9,2,FALSE),5)))","v":""},null,null,null,null,null,null,null,{"$f":"IF(B866=\"\",0,IF(B866=B865,COUNTIF(B$9:B865,B866)+1,1))","v":854},0,0]
["859","-1900","-1900-855",null,null,null,null,null,null,null,null,null,null,null,null,null,null,null,null,null,{"$f":"IF(J$2019=1,\"\",IF(T867=\"\",\"\",RIGHT(VLOOKUP(T867,Tabelle!$B$5:$C$9,2,FALSE),5)))","v":""},null,null,null,null,null,null,null,{"$f":"IF(B867=\"\",0,IF(B867=B866,COUNTIF(B$9:B866,B867)+1,1))","v":855},0,0]
["860","-1900","-1900-856",null,null,null,null,null,null,null,null,null,null,null,null,null,null,null,null,null,{"$f":"IF(J$2019=1,\"\",IF(T868=\"\",\"\",RIGHT(VLOOKUP(T868,Tabelle!$B$5:$C$9,2,FALSE),5)))","v":""},null,null,null,null,null,null,null,{"$f":"IF(B868=\"\",0,IF(B868=B867,COUNTIF(B$9:B867,B868)+1,1))","v":856},0,0]
["861","-1900","-1900-857",null,null,null,null,null,null,null,null,null,null,null,null,null,null,null,null,null,{"$f":"IF(J$2019=1,\"\",IF(T869=\"\",\"\",RIGHT(VLOOKUP(T869,Tabelle!$B$5:$C$9,2,FALSE),5)))","v":""},null,null,null,null,null,null,null,{"$f":"IF(B869=\"\",0,IF(B869=B868,COUNTIF(B$9:B868,B869)+1,1))","v":857},0,0]
["862","-1900","-1900-858",null,null,null,null,null,null,null,null,null,null,null,null,null,null,null,null,null,{"$f":"IF(J$2019=1,\"\",IF(T870=\"\",\"\",RIGHT(VLOOKUP(T870,Tabelle!$B$5:$C$9,2,FALSE),5)))","v":""},null,null,null,null,null,null,null,{"$f":"IF(B870=\"\",0,IF(B870=B869,COUNTIF(B$9:B869,B870)+1,1))","v":858},0,0]
["863","-1900","-1900-859",null,null,null,null,null,null,null,null,null,null,null,null,null,null,null,null,null,{"$f":"IF(J$2019=1,\"\",IF(T871=\"\",\"\",RIGHT(VLOOKUP(T871,Tabelle!$B$5:$C$9,2,FALSE),5)))","v":""},null,null,null,null,null,null,null,{"$f":"IF(B871=\"\",0,IF(B871=B870,COUNTIF(B$9:B870,B871)+1,1))","v":859},0,0]
["864","-1900","-1900-860",null,null,null,null,null,null,null,null,null,null,null,null,null,null,null,null,null,{"$f":"IF(J$2019=1,\"\",IF(T872=\"\",\"\",RIGHT(VLOOKUP(T872,Tabelle!$B$5:$C$9,2,FALSE),5)))","v":""},null,null,null,null,null,null,null,{"$f":"IF(B872=\"\",0,IF(B872=B871,COUNTIF(B$9:B871,B872)+1,1))","v":860},0,0]
["865","-1900","-1900-861",null,null,null,null,null,null,null,null,null,null,null,null,null,null,null,null,null,{"$f":"IF(J$2019=1,\"\",IF(T873=\"\",\"\",RIGHT(VLOOKUP(T873,Tabelle!$B$5:$C$9,2,FALSE),5)))","v":""},null,null,null,null,null,null,null,{"$f":"IF(B873=\"\",0,IF(B873=B872,COUNTIF(B$9:B872,B873)+1,1))","v":861},0,0]
["866","-1900","-1900-862",null,null,null,null,null,null,null,null,null,null,null,null,null,null,null,null,null,{"$f":"IF(J$2019=1,\"\",IF(T874=\"\",\"\",RIGHT(VLOOKUP(T874,Tabelle!$B$5:$C$9,2,FALSE),5)))","v":""},null,null,null,null,null,null,null,{"$f":"IF(B874=\"\",0,IF(B874=B873,COUNTIF(B$9:B873,B874)+1,1))","v":862},0,0]
["867","-1900","-1900-863",null,null,null,null,null,null,null,null,null,null,null,null,null,null,null,null,null,{"$f":"IF(J$2019=1,\"\",IF(T875=\"\",\"\",RIGHT(VLOOKUP(T875,Tabelle!$B$5:$C$9,2,FALSE),5)))","v":""},null,null,null,null,null,null,null,{"$f":"IF(B875=\"\",0,IF(B875=B874,COUNTIF(B$9:B874,B875)+1,1))","v":863},0,0]
["868","-1900","-1900-864",null,null,null,null,null,null,null,null,null,null,null,null,null,null,null,null,null,{"$f":"IF(J$2019=1,\"\",IF(T876=\"\",\"\",RIGHT(VLOOKUP(T876,Tabelle!$B$5:$C$9,2,FALSE),5)))","v":""},null,null,null,null,null,null,null,{"$f":"IF(B876=\"\",0,IF(B876=B875,COUNTIF(B$9:B875,B876)+1,1))","v":864},0,0]
["869","-1900","-1900-865",null,null,null,null,null,null,null,null,null,null,null,null,null,null,null,null,null,{"$f":"IF(J$2019=1,\"\",IF(T877=\"\",\"\",RIGHT(VLOOKUP(T877,Tabelle!$B$5:$C$9,2,FALSE),5)))","v":""},null,null,null,null,null,null,null,{"$f":"IF(B877=\"\",0,IF(B877=B876,COUNTIF(B$9:B876,B877)+1,1))","v":865},0,0]
["870","-1900","-1900-866",null,null,null,null,null,null,null,null,null,null,null,null,null,null,null,null,null,{"$f":"IF(J$2019=1,\"\",IF(T878=\"\",\"\",RIGHT(VLOOKUP(T878,Tabelle!$B$5:$C$9,2,FALSE),5)))","v":""},null,null,null,null,null,null,null,{"$f":"IF(B878=\"\",0,IF(B878=B877,COUNTIF(B$9:B877,B878)+1,1))","v":866},0,0]
["871","-1900","-1900-867",null,null,null,null,null,null,null,null,null,null,null,null,null,null,null,null,null,{"$f":"IF(J$2019=1,\"\",IF(T879=\"\",\"\",RIGHT(VLOOKUP(T879,Tabelle!$B$5:$C$9,2,FALSE),5)))","v":""},null,null,null,null,null,null,null,{"$f":"IF(B879=\"\",0,IF(B879=B878,COUNTIF(B$9:B878,B879)+1,1))","v":867},0,0]
["872","-1900","-1900-868",null,null,null,null,null,null,null,null,null,null,null,null,null,null,null,null,null,{"$f":"IF(J$2019=1,\"\",IF(T880=\"\",\"\",RIGHT(VLOOKUP(T880,Tabelle!$B$5:$C$9,2,FALSE),5)))","v":""},null,null,null,null,null,null,null,{"$f":"IF(B880=\"\",0,IF(B880=B879,COUNTIF(B$9:B879,B880)+1,1))","v":868},0,0]
["873","-1900","-1900-869",null,null,null,null,null,null,null,null,null,null,null,null,null,null,null,null,null,{"$f":"IF(J$2019=1,\"\",IF(T881=\"\",\"\",RIGHT(VLOOKUP(T881,Tabelle!$B$5:$C$9,2,FALSE),5)))","v":""},null,null,null,null,null,null,null,{"$f":"IF(B881=\"\",0,IF(B881=B880,COUNTIF(B$9:B880,B881)+1,1))","v":869},0,0]
["874","-1900","-1900-870",null,null,null,null,null,null,null,null,null,null,null,null,null,null,null,null,null,{"$f":"IF(J$2019=1,\"\",IF(T882=\"\",\"\",RIGHT(VLOOKUP(T882,Tabelle!$B$5:$C$9,2,FALSE),5)))","v":""},null,null,null,null,null,null,null,{"$f":"IF(B882=\"\",0,IF(B882=B881,COUNTIF(B$9:B881,B882)+1,1))","v":870},0,0]
["875","-1900","-1900-871",null,null,null,null,null,null,null,null,null,null,null,null,null,null,null,null,null,{"$f":"IF(J$2019=1,\"\",IF(T883=\"\",\"\",RIGHT(VLOOKUP(T883,Tabelle!$B$5:$C$9,2,FALSE),5)))","v":""},null,null,null,null,null,null,null,{"$f":"IF(B883=\"\",0,IF(B883=B882,COUNTIF(B$9:B882,B883)+1,1))","v":871},0,0]
["876","-1900","-1900-872",null,null,null,null,null,null,null,null,null,null,null,null,null,null,null,null,null,{"$f":"IF(J$2019=1,\"\",IF(T884=\"\",\"\",RIGHT(VLOOKUP(T884,Tabelle!$B$5:$C$9,2,FALSE),5)))","v":""},null,null,null,null,null,null,null,{"$f":"IF(B884=\"\",0,IF(B884=B883,COUNTIF(B$9:B883,B884)+1,1))","v":872},0,0]
["877","-1900","-1900-873",null,null,null,null,null,null,null,null,null,null,null,null,null,null,null,null,null,{"$f":"IF(J$2019=1,\"\",IF(T885=\"\",\"\",RIGHT(VLOOKUP(T885,Tabelle!$B$5:$C$9,2,FALSE),5)))","v":""},null,null,null,null,null,null,null,{"$f":"IF(B885=\"\",0,IF(B885=B884,COUNTIF(B$9:B884,B885)+1,1))","v":873},0,0]
["878","-1900","-1900-874",null,null,null,null,null,null,null,null,null,null,null,null,null,null,null,null,null,{"$f":"IF(J$2019=1,\"\",IF(T886=\"\",\"\",RIGHT(VLOOKUP(T886,Tabelle!$B$5:$C$9,2,FALSE),5)))","v":""},null,null,null,null,null,null,null,{"$f":"IF(B886=\"\",0,IF(B886=B885,COUNTIF(B$9:B885,B886)+1,1))","v":874},0,0]
["879","-1900","-1900-875",null,null,null,null,null,null,null,null,null,null,null,null,null,null,null,null,null,{"$f":"IF(J$2019=1,\"\",IF(T887=\"\",\"\",RIGHT(VLOOKUP(T887,Tabelle!$B$5:$C$9,2,FALSE),5)))","v":""},null,null,null,null,null,null,null,{"$f":"IF(B887=\"\",0,IF(B887=B886,COUNTIF(B$9:B886,B887)+1,1))","v":875},0,0]
["880","-1900","-1900-876",null,null,null,null,null,null,null,null,null,null,null,null,null,null,null,null,null,{"$f":"IF(J$2019=1,\"\",IF(T888=\"\",\"\",RIGHT(VLOOKUP(T888,Tabelle!$B$5:$C$9,2,FALSE),5)))","v":""},null,null,null,null,null,null,null,{"$f":"IF(B888=\"\",0,IF(B888=B887,COUNTIF(B$9:B887,B888)+1,1))","v":876},0,0]
["881","-1900","-1900-877",null,null,null,null,null,null,null,null,null,null,null,null,null,null,null,null,null,{"$f":"IF(J$2019=1,\"\",IF(T889=\"\",\"\",RIGHT(VLOOKUP(T889,Tabelle!$B$5:$C$9,2,FALSE),5)))","v":""},null,null,null,null,null,null,null,{"$f":"IF(B889=\"\",0,IF(B889=B888,COUNTIF(B$9:B888,B889)+1,1))","v":877},0,0]
["882","-1900","-1900-878",null,null,null,null,null,null,null,null,null,null,null,null,null,null,null,null,null,{"$f":"IF(J$2019=1,\"\",IF(T890=\"\",\"\",RIGHT(VLOOKUP(T890,Tabelle!$B$5:$C$9,2,FALSE),5)))","v":""},null,null,null,null,null,null,null,{"$f":"IF(B890=\"\",0,IF(B890=B889,COUNTIF(B$9:B889,B890)+1,1))","v":878},0,0]
["883","-1900","-1900-879",null,null,null,null,null,null,null,null,null,null,null,null,null,null,null,null,null,{"$f":"IF(J$2019=1,\"\",IF(T891=\"\",\"\",RIGHT(VLOOKUP(T891,Tabelle!$B$5:$C$9,2,FALSE),5)))","v":""},null,null,null,null,null,null,null,{"$f":"IF(B891=\"\",0,IF(B891=B890,COUNTIF(B$9:B890,B891)+1,1))","v":879},0,0]
["884","-1900","-1900-880",null,null,null,null,null,null,null,null,null,null,null,null,null,null,null,null,null,{"$f":"IF(J$2019=1,\"\",IF(T892=\"\",\"\",RIGHT(VLOOKUP(T892,Tabelle!$B$5:$C$9,2,FALSE),5)))","v":""},null,null,null,null,null,null,null,{"$f":"IF(B892=\"\",0,IF(B892=B891,COUNTIF(B$9:B891,B892)+1,1))","v":880},0,0]
["885","-1900","-1900-881",null,null,null,null,null,null,null,null,null,null,null,null,null,null,null,null,null,{"$f":"IF(J$2019=1,\"\",IF(T893=\"\",\"\",RIGHT(VLOOKUP(T893,Tabelle!$B$5:$C$9,2,FALSE),5)))","v":""},null,null,null,null,null,null,null,{"$f":"IF(B893=\"\",0,IF(B893=B892,COUNTIF(B$9:B892,B893)+1,1))","v":881},0,0]
["886","-1900","-1900-882",null,null,null,null,null,null,null,null,null,null,null,null,null,null,null,null,null,{"$f":"IF(J$2019=1,\"\",IF(T894=\"\",\"\",RIGHT(VLOOKUP(T894,Tabelle!$B$5:$C$9,2,FALSE),5)))","v":""},null,null,null,null,null,null,null,{"$f":"IF(B894=\"\",0,IF(B894=B893,COUNTIF(B$9:B893,B894)+1,1))","v":882},0,0]
["887","-1900","-1900-883",null,null,null,null,null,null,null,null,null,null,null,null,null,null,null,null,null,{"$f":"IF(J$2019=1,\"\",IF(T895=\"\",\"\",RIGHT(VLOOKUP(T895,Tabelle!$B$5:$C$9,2,FALSE),5)))","v":""},null,null,null,null,null,null,null,{"$f":"IF(B895=\"\",0,IF(B895=B894,COUNTIF(B$9:B894,B895)+1,1))","v":883},0,0]
["888","-1900","-1900-884",null,null,null,null,null,null,null,null,null,null,null,null,null,null,null,null,null,{"$f":"IF(J$2019=1,\"\",IF(T896=\"\",\"\",RIGHT(VLOOKUP(T896,Tabelle!$B$5:$C$9,2,FALSE),5)))","v":""},null,null,null,null,null,null,null,{"$f":"IF(B896=\"\",0,IF(B896=B895,COUNTIF(B$9:B895,B896)+1,1))","v":884},0,0]
["889","-1900","-1900-885",null,null,null,null,null,null,null,null,null,null,null,null,null,null,null,null,null,{"$f":"IF(J$2019=1,\"\",IF(T897=\"\",\"\",RIGHT(VLOOKUP(T897,Tabelle!$B$5:$C$9,2,FALSE),5)))","v":""},null,null,null,null,null,null,null,{"$f":"IF(B897=\"\",0,IF(B897=B896,COUNTIF(B$9:B896,B897)+1,1))","v":885},0,0]
["890","-1900","-1900-886",null,null,null,null,null,null,null,null,null,null,null,null,null,null,null,null,null,{"$f":"IF(J$2019=1,\"\",IF(T898=\"\",\"\",RIGHT(VLOOKUP(T898,Tabelle!$B$5:$C$9,2,FALSE),5)))","v":""},null,null,null,null,null,null,null,{"$f":"IF(B898=\"\",0,IF(B898=B897,COUNTIF(B$9:B897,B898)+1,1))","v":886},0,0]
["891","-1900","-1900-887",null,null,null,null,null,null,null,null,null,null,null,null,null,null,null,null,null,{"$f":"IF(J$2019=1,\"\",IF(T899=\"\",\"\",RIGHT(VLOOKUP(T899,Tabelle!$B$5:$C$9,2,FALSE),5)))","v":""},null,null,null,null,null,null,null,{"$f":"IF(B899=\"\",0,IF(B899=B898,COUNTIF(B$9:B898,B899)+1,1))","v":887},0,0]
["892","-1900","-1900-888",null,null,null,null,null,null,null,null,null,null,null,null,null,null,null,null,null,{"$f":"IF(J$2019=1,\"\",IF(T900=\"\",\"\",RIGHT(VLOOKUP(T900,Tabelle!$B$5:$C$9,2,FALSE),5)))","v":""},null,null,null,null,null,null,null,{"$f":"IF(B900=\"\",0,IF(B900=B899,COUNTIF(B$9:B899,B900)+1,1))","v":888},0,0]
["893","-1900","-1900-889",null,null,null,null,null,null,null,null,null,null,null,null,null,null,null,null,null,{"$f":"IF(J$2019=1,\"\",IF(T901=\"\",\"\",RIGHT(VLOOKUP(T901,Tabelle!$B$5:$C$9,2,FALSE),5)))","v":""},null,null,null,null,null,null,null,{"$f":"IF(B901=\"\",0,IF(B901=B900,COUNTIF(B$9:B900,B901)+1,1))","v":889},0,0]
["894","-1900","-1900-890",null,null,null,null,null,null,null,null,null,null,null,null,null,null,null,null,null,{"$f":"IF(J$2019=1,\"\",IF(T902=\"\",\"\",RIGHT(VLOOKUP(T902,Tabelle!$B$5:$C$9,2,FALSE),5)))","v":""},null,null,null,null,null,null,null,{"$f":"IF(B902=\"\",0,IF(B902=B901,COUNTIF(B$9:B901,B902)+1,1))","v":890},0,0]
["895","-1900","-1900-891",null,null,null,null,null,null,null,null,null,null,null,null,null,null,null,null,null,{"$f":"IF(J$2019=1,\"\",IF(T903=\"\",\"\",RIGHT(VLOOKUP(T903,Tabelle!$B$5:$C$9,2,FALSE),5)))","v":""},null,null,null,null,null,null,null,{"$f":"IF(B903=\"\",0,IF(B903=B902,COUNTIF(B$9:B902,B903)+1,1))","v":891},0,0]
["896","-1900","-1900-892",null,null,null,null,null,null,null,null,null,null,null,null,null,null,null,null,null,{"$f":"IF(J$2019=1,\"\",IF(T904=\"\",\"\",RIGHT(VLOOKUP(T904,Tabelle!$B$5:$C$9,2,FALSE),5)))","v":""},null,null,null,null,null,null,null,{"$f":"IF(B904=\"\",0,IF(B904=B903,COUNTIF(B$9:B903,B904)+1,1))","v":892},0,0]
["897","-1900","-1900-893",null,null,null,null,null,null,null,null,null,null,null,null,null,null,null,null,null,{"$f":"IF(J$2019=1,\"\",IF(T905=\"\",\"\",RIGHT(VLOOKUP(T905,Tabelle!$B$5:$C$9,2,FALSE),5)))","v":""},null,null,null,null,null,null,null,{"$f":"IF(B905=\"\",0,IF(B905=B904,COUNTIF(B$9:B904,B905)+1,1))","v":893},0,0]
["898",{"$f":"IF(AE906=$AE$2013,0,IF(J$2019=1,0,D906&\"-\"&YEAR(E906)))","v":"-1900"},"-1900-894",null,null,null,null,null,null,null,null,null,null,null,null,null,null,null,null,null,{"$f":"IF(J$2019=1,\"\",IF(T906=\"\",\"\",RIGHT(VLOOKUP(T906,Tabelle!$B$5:$C$9,2,FALSE),5)))","v":""},null,null,null,null,null,null,null,{"$f":"IF(B906=\"\",0,IF(B906=B905,COUNTIF(B$9:B905,B906)+1,1))","v":894},0,{"$f":"IF(E906>0,IF(OR(MONTH(E906)<$J$2025,MONTH(E906)>$J$2026),AE$2013,0),0)","v":0}]
["899","-1900","-1900-895",null,null,null,null,null,null,null,null,null,null,null,null,null,null,null,null,null,{"$f":"IF(J$2019=1,\"\",IF(T907=\"\",\"\",RIGHT(VLOOKUP(T907,Tabelle!$B$5:$C$9,2,FALSE),5)))","v":""},null,null,null,null,null,null,null,{"$f":"IF(B907=\"\",0,IF(B907=B906,COUNTIF(B$9:B906,B907)+1,1))","v":895},0,0]
["900","-1900","-1900-896",null,null,null,null,null,null,null,null,null,null,null,null,null,null,null,null,null,{"$f":"IF(J$2019=1,\"\",IF(T908=\"\",\"\",RIGHT(VLOOKUP(T908,Tabelle!$B$5:$C$9,2,FALSE),5)))","v":""},null,null,null,null,null,null,null,{"$f":"IF(B908=\"\",0,IF(B908=B907,COUNTIF(B$9:B907,B908)+1,1))","v":896},0,0]
["901","-1900","-1900-897",null,null,null,null,null,null,null,null,null,null,null,null,null,null,null,null,null,{"$f":"IF(J$2019=1,\"\",IF(T909=\"\",\"\",RIGHT(VLOOKUP(T909,Tabelle!$B$5:$C$9,2,FALSE),5)))","v":""},null,null,null,null,null,null,null,{"$f":"IF(B909=\"\",0,IF(B909=B908,COUNTIF(B$9:B908,B909)+1,1))","v":897},0,0]
["902","-1900","-1900-898",null,null,null,null,null,null,null,null,null,null,null,null,null,null,null,null,null,{"$f":"IF(J$2019=1,\"\",IF(T910=\"\",\"\",RIGHT(VLOOKUP(T910,Tabelle!$B$5:$C$9,2,FALSE),5)))","v":""},null,null,null,null,null,null,null,{"$f":"IF(B910=\"\",0,IF(B910=B909,COUNTIF(B$9:B909,B910)+1,1))","v":898},0,0]
["903","-1900","-1900-899",null,null,null,null,null,null,null,null,null,null,null,null,null,null,null,null,null,{"$f":"IF(J$2019=1,\"\",IF(T911=\"\",\"\",RIGHT(VLOOKUP(T911,Tabelle!$B$5:$C$9,2,FALSE),5)))","v":""},null,null,null,null,null,null,null,{"$f":"IF(B911=\"\",0,IF(B911=B910,COUNTIF(B$9:B910,B911)+1,1))","v":899},0,0]
["904","-1900","-1900-900",null,null,null,null,null,null,null,null,null,null,null,null,null,null,null,null,null,{"$f":"IF(J$2019=1,\"\",IF(T912=\"\",\"\",RIGHT(VLOOKUP(T912,Tabelle!$B$5:$C$9,2,FALSE),5)))","v":""},null,null,null,null,null,null,null,{"$f":"IF(B912=\"\",0,IF(B912=B911,COUNTIF(B$9:B911,B912)+1,1))","v":900},0,0]
["905","-1900","-1900-901",null,null,null,null,null,null,null,null,null,null,null,null,null,null,null,null,null,{"$f":"IF(J$2019=1,\"\",IF(T913=\"\",\"\",RIGHT(VLOOKUP(T913,Tabelle!$B$5:$C$9,2,FALSE),5)))","v":""},null,null,null,null,null,null,null,{"$f":"IF(B913=\"\",0,IF(B913=B912,COUNTIF(B$9:B912,B913)+1,1))","v":901},0,0]
["906","-1900","-1900-902",null,null,null,null,null,null,null,null,null,null,null,null,null,null,null,null,null,{"$f":"IF(J$2019=1,\"\",IF(T914=\"\",\"\",RIGHT(VLOOKUP(T914,Tabelle!$B$5:$C$9,2,FALSE),5)))","v":""},null,null,null,null,null,null,null,{"$f":"IF(B914=\"\",0,IF(B914=B913,COUNTIF(B$9:B913,B914)+1,1))","v":902},0,0]
["907","-1900","-1900-903",null,null,null,null,null,null,null,null,null,null,null,null,null,null,null,null,null,{"$f":"IF(J$2019=1,\"\",IF(T915=\"\",\"\",RIGHT(VLOOKUP(T915,Tabelle!$B$5:$C$9,2,FALSE),5)))","v":""},null,null,null,null,null,null,null,{"$f":"IF(B915=\"\",0,IF(B915=B914,COUNTIF(B$9:B914,B915)+1,1))","v":903},0,0]
["908","-1900","-1900-904",null,null,null,null,null,null,null,null,null,null,null,null,null,null,null,null,null,{"$f":"IF(J$2019=1,\"\",IF(T916=\"\",\"\",RIGHT(VLOOKUP(T916,Tabelle!$B$5:$C$9,2,FALSE),5)))","v":""},null,null,null,null,null,null,null,{"$f":"IF(B916=\"\",0,IF(B916=B915,COUNTIF(B$9:B915,B916)+1,1))","v":904},0,0]
["909","-1900","-1900-905",null,null,null,null,null,null,null,null,null,null,null,null,null,null,null,null,null,{"$f":"IF(J$2019=1,\"\",IF(T917=\"\",\"\",RIGHT(VLOOKUP(T917,Tabelle!$B$5:$C$9,2,FALSE),5)))","v":""},null,null,null,null,null,null,null,{"$f":"IF(B917=\"\",0,IF(B917=B916,COUNTIF(B$9:B916,B917)+1,1))","v":905},{"$f":"IF(OR(D917=\"\",J$2019=1),0,IF(AC917=28,1,0))","v":0},0]
["910","-1900","-1900-906",null,null,null,null,null,null,null,null,null,null,null,null,null,null,null,null,null,{"$f":"IF(J$2019=1,\"\",IF(T918=\"\",\"\",RIGHT(VLOOKUP(T918,Tabelle!$B$5:$C$9,2,FALSE),5)))","v":""},null,null,null,null,null,null,null,{"$f":"IF(B918=\"\",0,IF(B918=B917,COUNTIF(B$9:B917,B918)+1,1))","v":906},0,0]
["911","-1900",{"$f":"IF(J$2019=1,0,B919&\"-\"&AC919)","v":"-1900-907"},null,null,null,null,null,null,null,null,null,null,null,null,null,null,null,null,null,{"$f":"IF(J$2019=1,\"\",IF(T919=\"\",\"\",RIGHT(VLOOKUP(T919,Tabelle!$B$5:$C$9,2,FALSE),5)))","v":""},null,null,null,null,null,null,null,{"$f":"IF(B919=\"\",0,IF(B919=B918,COUNTIF(B$9:B918,B919)+1,1))","v":907},0,0]
["912","-1900","-1900-908",null,null,null,null,null,null,null,null,null,null,null,null,null,null,null,null,null,{"$f":"IF(J$2019=1,\"\",IF(T920=\"\",\"\",RIGHT(VLOOKUP(T920,Tabelle!$B$5:$C$9,2,FALSE),5)))","v":""},null,null,null,null,null,null,null,{"$f":"IF(B920=\"\",0,IF(B920=B919,COUNTIF(B$9:B919,B920)+1,1))","v":908},0,0]
["913","-1900","-1900-909",null,null,null,null,null,null,null,null,null,null,null,null,null,null,null,null,null,{"$f":"IF(J$2019=1,\"\",IF(T921=\"\",\"\",RIGHT(VLOOKUP(T921,Tabelle!$B$5:$C$9,2,FALSE),5)))","v":""},null,null,null,null,null,null,null,{"$f":"IF(B921=\"\",0,IF(B921=B920,COUNTIF(B$9:B920,B921)+1,1))","v":909},0,0]
["914","-1900","-1900-910",null,null,null,null,null,null,null,null,null,null,null,null,null,null,null,null,null,{"$f":"IF(J$2019=1,\"\",IF(T922=\"\",\"\",RIGHT(VLOOKUP(T922,Tabelle!$B$5:$C$9,2,FALSE),5)))","v":""},null,null,null,null,null,null,null,{"$f":"IF(B922=\"\",0,IF(B922=B921,COUNTIF(B$9:B921,B922)+1,1))","v":910},0,0]
["915","-1900","-1900-911",null,null,null,null,null,null,null,null,null,null,null,null,null,null,null,null,null,{"$f":"IF(J$2019=1,\"\",IF(T923=\"\",\"\",RIGHT(VLOOKUP(T923,Tabelle!$B$5:$C$9,2,FALSE),5)))","v":""},null,null,null,null,null,null,null,{"$f":"IF(B923=\"\",0,IF(B923=B922,COUNTIF(B$9:B922,B923)+1,1))","v":911},0,0]
["916","-1900","-1900-912",null,null,null,null,null,null,null,null,null,null,null,null,null,null,null,null,null,{"$f":"IF(J$2019=1,\"\",IF(T924=\"\",\"\",RIGHT(VLOOKUP(T924,Tabelle!$B$5:$C$9,2,FALSE),5)))","v":""},null,null,null,null,null,null,null,{"$f":"IF(B924=\"\",0,IF(B924=B923,COUNTIF(B$9:B923,B924)+1,1))","v":912},0,0]
["917","-1900","-1900-913",null,null,null,null,null,null,null,null,null,null,null,null,null,null,null,null,null,{"$f":"IF(J$2019=1,\"\",IF(T925=\"\",\"\",RIGHT(VLOOKUP(T925,Tabelle!$B$5:$C$9,2,FALSE),5)))","v":""},null,null,null,null,null,null,null,{"$f":"IF(B925=\"\",0,IF(B925=B924,COUNTIF(B$9:B924,B925)+1,1))","v":913},0,0]
["918","-1900","-1900-914",null,null,null,null,null,null,null,null,null,null,null,null,null,null,null,null,null,{"$f":"IF(J$2019=1,\"\",IF(T926=\"\",\"\",RIGHT(VLOOKUP(T926,Tabelle!$B$5:$C$9,2,FALSE),5)))","v":""},null,null,null,null,null,null,null,{"$f":"IF(B926=\"\",0,IF(B926=B925,COUNTIF(B$9:B925,B926)+1,1))","v":914},0,0]
["919","-1900","-1900-915",null,null,null,null,null,null,null,null,null,null,null,null,null,null,null,null,null,{"$f":"IF(J$2019=1,\"\",IF(T927=\"\",\"\",RIGHT(VLOOKUP(T927,Tabelle!$B$5:$C$9,2,FALSE),5)))","v":""},null,null,null,null,null,null,null,{"$f":"IF(B927=\"\",0,IF(B927=B926,COUNTIF(B$9:B926,B927)+1,1))","v":915},0,0]
["920","-1900","-1900-916",null,null,null,null,null,null,null,null,null,null,null,null,null,null,null,null,null,{"$f":"IF(J$2019=1,\"\",IF(T928=\"\",\"\",RIGHT(VLOOKUP(T928,Tabelle!$B$5:$C$9,2,FALSE),5)))","v":""},null,null,null,null,null,null,null,{"$f":"IF(B928=\"\",0,IF(B928=B927,COUNTIF(B$9:B927,B928)+1,1))","v":916},0,0]
["921","-1900","-1900-917",null,null,null,null,null,null,null,null,null,null,null,null,null,null,null,null,null,{"$f":"IF(J$2019=1,\"\",IF(T929=\"\",\"\",RIGHT(VLOOKUP(T929,Tabelle!$B$5:$C$9,2,FALSE),5)))","v":""},null,null,null,null,null,null,null,{"$f":"IF(B929=\"\",0,IF(B929=B928,COUNTIF(B$9:B928,B929)+1,1))","v":917},0,0]
["922","-1900","-1900-918",null,null,null,null,null,null,null,null,null,null,null,null,null,null,null,null,null,{"$f":"IF(J$2019=1,\"\",IF(T930=\"\",\"\",RIGHT(VLOOKUP(T930,Tabelle!$B$5:$C$9,2,FALSE),5)))","v":""},null,null,null,null,null,null,null,{"$f":"IF(B930=\"\",0,IF(B930=B929,COUNTIF(B$9:B929,B930)+1,1))","v":918},0,0]
["923","-1900","-1900-919",null,null,null,null,null,null,null,null,null,null,null,null,null,null,null,null,null,{"$f":"IF(J$2019=1,\"\",IF(T931=\"\",\"\",RIGHT(VLOOKUP(T931,Tabelle!$B$5:$C$9,2,FALSE),5)))","v":""},null,null,null,null,null,null,null,{"$f":"IF(B931=\"\",0,IF(B931=B930,COUNTIF(B$9:B930,B931)+1,1))","v":919},0,0]
["924","-1900","-1900-920",null,null,null,null,null,null,null,null,null,null,null,null,null,null,null,null,null,{"$f":"IF(J$2019=1,\"\",IF(T932=\"\",\"\",RIGHT(VLOOKUP(T932,Tabelle!$B$5:$C$9,2,FALSE),5)))","v":""},null,null,null,null,null,null,null,{"$f":"IF(B932=\"\",0,IF(B932=B931,COUNTIF(B$9:B931,B932)+1,1))","v":920},0,0]
["925","-1900","-1900-921",null,null,null,null,null,null,null,null,null,null,null,null,null,null,null,null,null,{"$f":"IF(J$2019=1,\"\",IF(T933=\"\",\"\",RIGHT(VLOOKUP(T933,Tabelle!$B$5:$C$9,2,FALSE),5)))","v":""},null,null,null,null,null,null,null,{"$f":"IF(B933=\"\",0,IF(B933=B932,COUNTIF(B$9:B932,B933)+1,1))","v":921},0,0]
["926","-1900","-1900-922",null,null,null,null,null,null,null,null,null,null,null,null,null,null,null,null,null,{"$f":"IF(J$2019=1,\"\",IF(T934=\"\",\"\",RIGHT(VLOOKUP(T934,Tabelle!$B$5:$C$9,2,FALSE),5)))","v":""},null,null,null,null,null,null,null,{"$f":"IF(B934=\"\",0,IF(B934=B933,COUNTIF(B$9:B933,B934)+1,1))","v":922},0,0]
["927","-1900","-1900-923",null,null,null,null,null,null,null,null,null,null,null,null,null,null,null,null,null,{"$f":"IF(J$2019=1,\"\",IF(T935=\"\",\"\",RIGHT(VLOOKUP(T935,Tabelle!$B$5:$C$9,2,FALSE),5)))","v":""},null,null,null,null,null,null,null,{"$f":"IF(B935=\"\",0,IF(B935=B934,COUNTIF(B$9:B934,B935)+1,1))","v":923},0,0]
["928","-1900","-1900-924",null,null,null,null,null,null,null,null,null,null,null,null,null,null,null,null,null,{"$f":"IF(J$2019=1,\"\",IF(T936=\"\",\"\",RIGHT(VLOOKUP(T936,Tabelle!$B$5:$C$9,2,FALSE),5)))","v":""},null,null,null,null,null,null,null,{"$f":"IF(B936=\"\",0,IF(B936=B935,COUNTIF(B$9:B935,B936)+1,1))","v":924},0,0]
["929","-1900","-1900-925",null,null,null,null,null,null,null,null,null,null,null,null,null,null,null,null,null,{"$f":"IF(J$2019=1,\"\",IF(T937=\"\",\"\",RIGHT(VLOOKUP(T937,Tabelle!$B$5:$C$9,2,FALSE),5)))","v":""},null,null,null,null,null,null,null,{"$f":"IF(B937=\"\",0,IF(B937=B936,COUNTIF(B$9:B936,B937)+1,1))","v":925},0,0]
["930","-1900","-1900-926",null,null,null,null,null,null,null,null,null,null,null,null,null,null,null,null,null,{"$f":"IF(J$2019=1,\"\",IF(T938=\"\",\"\",RIGHT(VLOOKUP(T938,Tabelle!$B$5:$C$9,2,FALSE),5)))","v":""},null,null,null,null,null,null,null,{"$f":"IF(B938=\"\",0,IF(B938=B937,COUNTIF(B$9:B937,B938)+1,1))","v":926},0,0]
["931","-1900","-1900-927",null,null,null,null,null,null,null,null,null,null,null,null,null,null,null,null,null,{"$f":"IF(J$2019=1,\"\",IF(T939=\"\",\"\",RIGHT(VLOOKUP(T939,Tabelle!$B$5:$C$9,2,FALSE),5)))","v":""},null,null,null,null,null,null,null,{"$f":"IF(B939=\"\",0,IF(B939=B938,COUNTIF(B$9:B938,B939)+1,1))","v":927},0,0]
["932","-1900","-1900-928",null,null,null,null,null,null,null,null,null,null,null,null,null,null,null,null,null,{"$f":"IF(J$2019=1,\"\",IF(T940=\"\",\"\",RIGHT(VLOOKUP(T940,Tabelle!$B$5:$C$9,2,FALSE),5)))","v":""},null,null,null,null,null,null,null,{"$f":"IF(B940=\"\",0,IF(B940=B939,COUNTIF(B$9:B939,B940)+1,1))","v":928},0,0]
["933","-1900","-1900-929",null,null,null,null,null,null,null,null,null,null,null,null,null,null,null,null,null,{"$f":"IF(J$2019=1,\"\",IF(T941=\"\",\"\",RIGHT(VLOOKUP(T941,Tabelle!$B$5:$C$9,2,FALSE),5)))","v":""},null,null,null,null,null,null,null,{"$f":"IF(B941=\"\",0,IF(B941=B940,COUNTIF(B$9:B940,B941)+1,1))","v":929},0,0]
["934","-1900","-1900-930",null,null,null,null,null,null,null,null,null,null,null,null,null,null,null,null,null,{"$f":"IF(J$2019=1,\"\",IF(T942=\"\",\"\",RIGHT(VLOOKUP(T942,Tabelle!$B$5:$C$9,2,FALSE),5)))","v":""},null,null,null,null,null,null,null,{"$f":"IF(B942=\"\",0,IF(B942=B941,COUNTIF(B$9:B941,B942)+1,1))","v":930},0,0]
["935","-1900","-1900-931",null,null,null,null,null,null,null,null,null,null,null,null,null,null,null,null,null,{"$f":"IF(J$2019=1,\"\",IF(T943=\"\",\"\",RIGHT(VLOOKUP(T943,Tabelle!$B$5:$C$9,2,FALSE),5)))","v":""},null,null,null,null,null,null,null,{"$f":"IF(B943=\"\",0,IF(B943=B942,COUNTIF(B$9:B942,B943)+1,1))","v":931},0,0]
["936","-1900","-1900-932",null,null,null,null,null,null,null,null,null,null,null,null,null,null,null,null,null,{"$f":"IF(J$2019=1,\"\",IF(T944=\"\",\"\",RIGHT(VLOOKUP(T944,Tabelle!$B$5:$C$9,2,FALSE),5)))","v":""},null,null,null,null,null,null,null,{"$f":"IF(B944=\"\",0,IF(B944=B943,COUNTIF(B$9:B943,B944)+1,1))","v":932},0,0]
["937","-1900","-1900-933",null,null,null,null,null,null,null,null,null,null,null,null,null,null,null,null,null,{"$f":"IF(J$2019=1,\"\",IF(T945=\"\",\"\",RIGHT(VLOOKUP(T945,Tabelle!$B$5:$C$9,2,FALSE),5)))","v":""},null,null,null,null,null,null,null,{"$f":"IF(B945=\"\",0,IF(B945=B944,COUNTIF(B$9:B944,B945)+1,1))","v":933},0,0]
["938","-1900","-1900-934",null,null,null,null,null,null,null,null,null,null,null,null,null,null,null,null,null,{"$f":"IF(J$2019=1,\"\",IF(T946=\"\",\"\",RIGHT(VLOOKUP(T946,Tabelle!$B$5:$C$9,2,FALSE),5)))","v":""},null,null,null,null,null,null,null,{"$f":"IF(B946=\"\",0,IF(B946=B945,COUNTIF(B$9:B945,B946)+1,1))","v":934},0,0]
["939","-1900","-1900-935",null,null,null,null,null,null,null,null,null,null,null,null,null,null,null,null,null,{"$f":"IF(J$2019=1,\"\",IF(T947=\"\",\"\",RIGHT(VLOOKUP(T947,Tabelle!$B$5:$C$9,2,FALSE),5)))","v":""},null,null,null,null,null,null,null,{"$f":"IF(B947=\"\",0,IF(B947=B946,COUNTIF(B$9:B946,B947)+1,1))","v":935},0,0]
["940","-1900","-1900-936",null,null,null,null,null,null,null,null,null,null,null,null,null,null,null,null,null,{"$f":"IF(J$2019=1,\"\",IF(T948=\"\",\"\",RIGHT(VLOOKUP(T948,Tabelle!$B$5:$C$9,2,FALSE),5)))","v":""},null,null,null,null,null,null,null,{"$f":"IF(B948=\"\",0,IF(B948=B947,COUNTIF(B$9:B947,B948)+1,1))","v":936},0,0]
["941","-1900","-1900-937",null,null,null,null,null,null,null,null,null,null,null,null,null,null,null,null,null,{"$f":"IF(J$2019=1,\"\",IF(T949=\"\",\"\",RIGHT(VLOOKUP(T949,Tabelle!$B$5:$C$9,2,FALSE),5)))","v":""},null,null,null,null,null,null,null,{"$f":"IF(B949=\"\",0,IF(B949=B948,COUNTIF(B$9:B948,B949)+1,1))","v":937},0,0]
["942","-1900","-1900-938",null,null,null,null,null,null,null,null,null,null,null,null,null,null,null,null,null,{"$f":"IF(J$2019=1,\"\",IF(T950=\"\",\"\",RIGHT(VLOOKUP(T950,Tabelle!$B$5:$C$9,2,FALSE),5)))","v":""},null,null,null,null,null,null,null,{"$f":"IF(B950=\"\",0,IF(B950=B949,COUNTIF(B$9:B949,B950)+1,1))","v":938},0,0]
["943","-1900","-1900-939",null,null,null,null,null,null,null,null,null,null,null,null,null,null,null,null,null,{"$f":"IF(J$2019=1,\"\",IF(T951=\"\",\"\",RIGHT(VLOOKUP(T951,Tabelle!$B$5:$C$9,2,FALSE),5)))","v":""},null,null,null,null,null,null,null,{"$f":"IF(B951=\"\",0,IF(B951=B950,COUNTIF(B$9:B950,B951)+1,1))","v":939},0,0]
["944","-1900","-1900-940",null,null,null,null,null,null,null,null,null,null,null,null,null,null,null,null,null,{"$f":"IF(J$2019=1,\"\",IF(T952=\"\",\"\",RIGHT(VLOOKUP(T952,Tabelle!$B$5:$C$9,2,FALSE),5)))","v":""},null,null,null,null,null,null,null,{"$f":"IF(B952=\"\",0,IF(B952=B951,COUNTIF(B$9:B951,B952)+1,1))","v":940},0,0]
["945","-1900","-1900-941",null,null,null,null,null,null,null,null,null,null,null,null,null,null,null,null,null,{"$f":"IF(J$2019=1,\"\",IF(T953=\"\",\"\",RIGHT(VLOOKUP(T953,Tabelle!$B$5:$C$9,2,FALSE),5)))","v":""},null,null,null,null,null,null,null,{"$f":"IF(B953=\"\",0,IF(B953=B952,COUNTIF(B$9:B952,B953)+1,1))","v":941},0,0]
["946","-1900","-1900-942",null,null,null,null,null,null,null,null,null,null,null,null,null,null,null,null,null,{"$f":"IF(J$2019=1,\"\",IF(T954=\"\",\"\",RIGHT(VLOOKUP(T954,Tabelle!$B$5:$C$9,2,FALSE),5)))","v":""},null,null,null,null,null,null,null,{"$f":"IF(B954=\"\",0,IF(B954=B953,COUNTIF(B$9:B953,B954)+1,1))","v":942},0,0]
["947","-1900","-1900-943",null,null,null,null,null,null,null,null,null,null,null,null,null,null,null,null,null,{"$f":"IF(J$2019=1,\"\",IF(T955=\"\",\"\",RIGHT(VLOOKUP(T955,Tabelle!$B$5:$C$9,2,FALSE),5)))","v":""},null,null,null,null,null,null,null,{"$f":"IF(B955=\"\",0,IF(B955=B954,COUNTIF(B$9:B954,B955)+1,1))","v":943},0,0]
["948","-1900","-1900-944",null,null,null,null,null,null,null,null,null,null,null,null,null,null,null,null,null,{"$f":"IF(J$2019=1,\"\",IF(T956=\"\",\"\",RIGHT(VLOOKUP(T956,Tabelle!$B$5:$C$9,2,FALSE),5)))","v":""},null,null,null,null,null,null,null,{"$f":"IF(B956=\"\",0,IF(B956=B955,COUNTIF(B$9:B955,B956)+1,1))","v":944},0,0]
["949","-1900","-1900-945",null,null,null,null,null,null,null,null,null,null,null,null,null,null,null,null,null,{"$f":"IF(J$2019=1,\"\",IF(T957=\"\",\"\",RIGHT(VLOOKUP(T957,Tabelle!$B$5:$C$9,2,FALSE),5)))","v":""},null,null,null,null,null,null,null,{"$f":"IF(B957=\"\",0,IF(B957=B956,COUNTIF(B$9:B956,B957)+1,1))","v":945},0,0]
["950","-1900","-1900-946",null,null,null,null,null,null,null,null,null,null,null,null,null,null,null,null,null,{"$f":"IF(J$2019=1,\"\",IF(T958=\"\",\"\",RIGHT(VLOOKUP(T958,Tabelle!$B$5:$C$9,2,FALSE),5)))","v":""},null,null,null,null,null,null,null,{"$f":"IF(B958=\"\",0,IF(B958=B957,COUNTIF(B$9:B957,B958)+1,1))","v":946},0,0]
["951","-1900","-1900-947",null,null,null,null,null,null,null,null,null,null,null,null,null,null,null,null,null,{"$f":"IF(J$2019=1,\"\",IF(T959=\"\",\"\",RIGHT(VLOOKUP(T959,Tabelle!$B$5:$C$9,2,FALSE),5)))","v":""},null,null,null,null,null,null,null,{"$f":"IF(B959=\"\",0,IF(B959=B958,COUNTIF(B$9:B958,B959)+1,1))","v":947},0,0]
["952","-1900","-1900-948",null,null,null,null,null,null,null,null,null,null,null,null,null,null,null,null,null,{"$f":"IF(J$2019=1,\"\",IF(T960=\"\",\"\",RIGHT(VLOOKUP(T960,Tabelle!$B$5:$C$9,2,FALSE),5)))","v":""},null,null,null,null,null,null,null,{"$f":"IF(B960=\"\",0,IF(B960=B959,COUNTIF(B$9:B959,B960)+1,1))","v":948},0,0]
["953","-1900","-1900-949",null,null,null,null,null,null,null,null,null,null,null,null,null,null,null,null,null,{"$f":"IF(J$2019=1,\"\",IF(T961=\"\",\"\",RIGHT(VLOOKUP(T961,Tabelle!$B$5:$C$9,2,FALSE),5)))","v":""},null,null,null,null,null,null,null,{"$f":"IF(B961=\"\",0,IF(B961=B960,COUNTIF(B$9:B960,B961)+1,1))","v":949},0,0]
["954","-1900","-1900-950",null,null,null,null,null,null,null,null,null,null,null,null,null,null,null,null,null,{"$f":"IF(J$2019=1,\"\",IF(T962=\"\",\"\",RIGHT(VLOOKUP(T962,Tabelle!$B$5:$C$9,2,FALSE),5)))","v":""},null,null,null,null,null,null,null,{"$f":"IF(B962=\"\",0,IF(B962=B961,COUNTIF(B$9:B961,B962)+1,1))","v":950},0,0]
["955","-1900","-1900-951",null,null,null,null,null,null,null,null,null,null,null,null,null,null,null,null,null,{"$f":"IF(J$2019=1,\"\",IF(T963=\"\",\"\",RIGHT(VLOOKUP(T963,Tabelle!$B$5:$C$9,2,FALSE),5)))","v":""},null,null,null,null,null,null,null,{"$f":"IF(B963=\"\",0,IF(B963=B962,COUNTIF(B$9:B962,B963)+1,1))","v":951},0,0]
["956","-1900","-1900-952",null,null,null,null,null,null,null,null,null,null,null,null,null,null,null,null,null,{"$f":"IF(J$2019=1,\"\",IF(T964=\"\",\"\",RIGHT(VLOOKUP(T964,Tabelle!$B$5:$C$9,2,FALSE),5)))","v":""},null,null,null,null,null,null,null,{"$f":"IF(B964=\"\",0,IF(B964=B963,COUNTIF(B$9:B963,B964)+1,1))","v":952},0,0]
["957","-1900","-1900-953",null,null,null,null,null,null,null,null,null,null,null,null,null,null,null,null,null,{"$f":"IF(J$2019=1,\"\",IF(T965=\"\",\"\",RIGHT(VLOOKUP(T965,Tabelle!$B$5:$C$9,2,FALSE),5)))","v":""},null,null,null,null,null,null,null,{"$f":"IF(B965=\"\",0,IF(B965=B964,COUNTIF(B$9:B964,B965)+1,1))","v":953},0,0]
["958","-1900","-1900-954",null,null,null,null,null,null,null,null,null,null,null,null,null,null,null,null,null,{"$f":"IF(J$2019=1,\"\",IF(T966=\"\",\"\",RIGHT(VLOOKUP(T966,Tabelle!$B$5:$C$9,2,FALSE),5)))","v":""},null,null,null,null,null,null,null,{"$f":"IF(B966=\"\",0,IF(B966=B965,COUNTIF(B$9:B965,B966)+1,1))","v":954},0,0]
["959","-1900","-1900-955",null,null,null,null,null,null,null,null,null,null,null,null,null,null,null,null,null,{"$f":"IF(J$2019=1,\"\",IF(T967=\"\",\"\",RIGHT(VLOOKUP(T967,Tabelle!$B$5:$C$9,2,FALSE),5)))","v":""},null,null,null,null,null,null,null,{"$f":"IF(B967=\"\",0,IF(B967=B966,COUNTIF(B$9:B966,B967)+1,1))","v":955},0,0]
["960","-1900","-1900-956",null,null,null,null,null,null,null,null,null,null,null,null,null,null,null,null,null,{"$f":"IF(J$2019=1,\"\",IF(T968=\"\",\"\",RIGHT(VLOOKUP(T968,Tabelle!$B$5:$C$9,2,FALSE),5)))","v":""},null,null,null,null,null,null,null,{"$f":"IF(B968=\"\",0,IF(B968=B967,COUNTIF(B$9:B967,B968)+1,1))","v":956},0,0]
["961","-1900","-1900-957",null,null,null,null,null,null,null,null,null,null,null,null,null,null,null,null,null,{"$f":"IF(J$2019=1,\"\",IF(T969=\"\",\"\",RIGHT(VLOOKUP(T969,Tabelle!$B$5:$C$9,2,FALSE),5)))","v":""},null,null,null,null,null,null,null,{"$f":"IF(B969=\"\",0,IF(B969=B968,COUNTIF(B$9:B968,B969)+1,1))","v":957},0,0]
["962",{"$f":"IF(AE970=$AE$2013,0,IF(J$2019=1,0,D970&\"-\"&YEAR(E970)))","v":"-1900"},"-1900-958",null,null,null,null,null,null,null,null,null,null,null,null,null,null,null,null,null,{"$f":"IF(J$2019=1,\"\",IF(T970=\"\",\"\",RIGHT(VLOOKUP(T970,Tabelle!$B$5:$C$9,2,FALSE),5)))","v":""},null,null,null,null,null,null,null,{"$f":"IF(B970=\"\",0,IF(B970=B969,COUNTIF(B$9:B969,B970)+1,1))","v":958},0,{"$f":"IF(E970>0,IF(OR(MONTH(E970)<$J$2025,MONTH(E970)>$J$2026),AE$2013,0),0)","v":0}]
["963","-1900","-1900-959",null,null,null,null,null,null,null,null,null,null,null,null,null,null,null,null,null,{"$f":"IF(J$2019=1,\"\",IF(T971=\"\",\"\",RIGHT(VLOOKUP(T971,Tabelle!$B$5:$C$9,2,FALSE),5)))","v":""},null,null,null,null,null,null,null,{"$f":"IF(B971=\"\",0,IF(B971=B970,COUNTIF(B$9:B970,B971)+1,1))","v":959},0,0]
["964","-1900","-1900-960",null,null,null,null,null,null,null,null,null,null,null,null,null,null,null,null,null,{"$f":"IF(J$2019=1,\"\",IF(T972=\"\",\"\",RIGHT(VLOOKUP(T972,Tabelle!$B$5:$C$9,2,FALSE),5)))","v":""},null,null,null,null,null,null,null,{"$f":"IF(B972=\"\",0,IF(B972=B971,COUNTIF(B$9:B971,B972)+1,1))","v":960},0,0]
["965","-1900","-1900-961",null,null,null,null,null,null,null,null,null,null,null,null,null,null,null,null,null,{"$f":"IF(J$2019=1,\"\",IF(T973=\"\",\"\",RIGHT(VLOOKUP(T973,Tabelle!$B$5:$C$9,2,FALSE),5)))","v":""},null,null,null,null,null,null,null,{"$f":"IF(B973=\"\",0,IF(B973=B972,COUNTIF(B$9:B972,B973)+1,1))","v":961},0,0]
["966","-1900","-1900-962",null,null,null,null,null,null,null,null,null,null,null,null,null,null,null,null,null,{"$f":"IF(J$2019=1,\"\",IF(T974=\"\",\"\",RIGHT(VLOOKUP(T974,Tabelle!$B$5:$C$9,2,FALSE),5)))","v":""},null,null,null,null,null,null,null,{"$f":"IF(B974=\"\",0,IF(B974=B973,COUNTIF(B$9:B973,B974)+1,1))","v":962},0,0]
["967","-1900","-1900-963",null,null,null,null,null,null,null,null,null,null,null,null,null,null,null,null,null,{"$f":"IF(J$2019=1,\"\",IF(T975=\"\",\"\",RIGHT(VLOOKUP(T975,Tabelle!$B$5:$C$9,2,FALSE),5)))","v":""},null,null,null,null,null,null,null,{"$f":"IF(B975=\"\",0,IF(B975=B974,COUNTIF(B$9:B974,B975)+1,1))","v":963},0,0]
["968","-1900","-1900-964",null,null,null,null,null,null,null,null,null,null,null,null,null,null,null,null,null,{"$f":"IF(J$2019=1,\"\",IF(T976=\"\",\"\",RIGHT(VLOOKUP(T976,Tabelle!$B$5:$C$9,2,FALSE),5)))","v":""},null,null,null,null,null,null,null,{"$f":"IF(B976=\"\",0,IF(B976=B975,COUNTIF(B$9:B975,B976)+1,1))","v":964},0,0]
["969","-1900","-1900-965",null,null,null,null,null,null,null,null,null,null,null,null,null,null,null,null,null,{"$f":"IF(J$2019=1,\"\",IF(T977=\"\",\"\",RIGHT(VLOOKUP(T977,Tabelle!$B$5:$C$9,2,FALSE),5)))","v":""},null,null,null,null,null,null,null,{"$f":"IF(B977=\"\",0,IF(B977=B976,COUNTIF(B$9:B976,B977)+1,1))","v":965},0,0]
["970","-1900","-1900-966",null,null,null,null,null,null,null,null,null,null,null,null,null,null,null,null,null,{"$f":"IF(J$2019=1,\"\",IF(T978=\"\",\"\",RIGHT(VLOOKUP(T978,Tabelle!$B$5:$C$9,2,FALSE),5)))","v":""},null,null,null,null,null,null,null,{"$f":"IF(B978=\"\",0,IF(B978=B977,COUNTIF(B$9:B977,B978)+1,1))","v":966},0,0]
["971","-1900","-1900-967",null,null,null,null,null,null,null,null,null,null,null,null,null,null,null,null,null,{"$f":"IF(J$2019=1,\"\",IF(T979=\"\",\"\",RIGHT(VLOOKUP(T979,Tabelle!$B$5:$C$9,2,FALSE),5)))","v":""},null,null,null,null,null,null,null,{"$f":"IF(B979=\"\",0,IF(B979=B978,COUNTIF(B$9:B978,B979)+1,1))","v":967},0,0]
["972","-1900","-1900-968",null,null,null,null,null,null,null,null,null,null,null,null,null,null,null,null,null,{"$f":"IF(J$2019=1,\"\",IF(T980=\"\",\"\",RIGHT(VLOOKUP(T980,Tabelle!$B$5:$C$9,2,FALSE),5)))","v":""},null,null,null,null,null,null,null,{"$f":"IF(B980=\"\",0,IF(B980=B979,COUNTIF(B$9:B979,B980)+1,1))","v":968},0,0]
["973","-1900","-1900-969",null,null,null,null,null,null,null,null,null,null,null,null,null,null,null,null,null,{"$f":"IF(J$2019=1,\"\",IF(T981=\"\",\"\",RIGHT(VLOOKUP(T981,Tabelle!$B$5:$C$9,2,FALSE),5)))","v":""},null,null,null,null,null,null,null,{"$f":"IF(B981=\"\",0,IF(B981=B980,COUNTIF(B$9:B980,B981)+1,1))","v":969},{"$f":"IF(OR(D981=\"\",J$2019=1),0,IF(AC981=28,1,0))","v":0},0]
["974","-1900","-1900-970",null,null,null,null,null,null,null,null,null,null,null,null,null,null,null,null,null,{"$f":"IF(J$2019=1,\"\",IF(T982=\"\",\"\",RIGHT(VLOOKUP(T982,Tabelle!$B$5:$C$9,2,FALSE),5)))","v":""},null,null,null,null,null,null,null,{"$f":"IF(B982=\"\",0,IF(B982=B981,COUNTIF(B$9:B981,B982)+1,1))","v":970},0,0]
["975","-1900",{"$f":"IF(J$2019=1,0,B983&\"-\"&AC983)","v":"-1900-971"},null,null,null,null,null,null,null,null,null,null,null,null,null,null,null,null,null,{"$f":"IF(J$2019=1,\"\",IF(T983=\"\",\"\",RIGHT(VLOOKUP(T983,Tabelle!$B$5:$C$9,2,FALSE),5)))","v":""},null,null,null,null,null,null,null,{"$f":"IF(B983=\"\",0,IF(B983=B982,COUNTIF(B$9:B982,B983)+1,1))","v":971},0,0]
["976","-1900","-1900-972",null,null,null,null,null,null,null,null,null,null,null,null,null,null,null,null,null,{"$f":"IF(J$2019=1,\"\",IF(T984=\"\",\"\",RIGHT(VLOOKUP(T984,Tabelle!$B$5:$C$9,2,FALSE),5)))","v":""},null,null,null,null,null,null,null,{"$f":"IF(B984=\"\",0,IF(B984=B983,COUNTIF(B$9:B983,B984)+1,1))","v":972},0,0]
["977","-1900","-1900-973",null,null,null,null,null,null,null,null,null,null,null,null,null,null,null,null,null,{"$f":"IF(J$2019=1,\"\",IF(T985=\"\",\"\",RIGHT(VLOOKUP(T985,Tabelle!$B$5:$C$9,2,FALSE),5)))","v":""},null,null,null,null,null,null,null,{"$f":"IF(B985=\"\",0,IF(B985=B984,COUNTIF(B$9:B984,B985)+1,1))","v":973},0,0]
["978","-1900","-1900-974",null,null,null,null,null,null,null,null,null,null,null,null,null,null,null,null,null,{"$f":"IF(J$2019=1,\"\",IF(T986=\"\",\"\",RIGHT(VLOOKUP(T986,Tabelle!$B$5:$C$9,2,FALSE),5)))","v":""},null,null,null,null,null,null,null,{"$f":"IF(B986=\"\",0,IF(B986=B985,COUNTIF(B$9:B985,B986)+1,1))","v":974},0,0]
["979","-1900","-1900-975",null,null,null,null,null,null,null,null,null,null,null,null,null,null,null,null,null,{"$f":"IF(J$2019=1,\"\",IF(T987=\"\",\"\",RIGHT(VLOOKUP(T987,Tabelle!$B$5:$C$9,2,FALSE),5)))","v":""},null,null,null,null,null,null,null,{"$f":"IF(B987=\"\",0,IF(B987=B986,COUNTIF(B$9:B986,B987)+1,1))","v":975},0,0]
["980","-1900","-1900-976",null,null,null,null,null,null,null,null,null,null,null,null,null,null,null,null,null,{"$f":"IF(J$2019=1,\"\",IF(T988=\"\",\"\",RIGHT(VLOOKUP(T988,Tabelle!$B$5:$C$9,2,FALSE),5)))","v":""},null,null,null,null,null,null,null,{"$f":"IF(B988=\"\",0,IF(B988=B987,COUNTIF(B$9:B987,B988)+1,1))","v":976},0,0]
["981","-1900","-1900-977",null,null,null,null,null,null,null,null,null,null,null,null,null,null,null,null,null,{"$f":"IF(J$2019=1,\"\",IF(T989=\"\",\"\",RIGHT(VLOOKUP(T989,Tabelle!$B$5:$C$9,2,FALSE),5)))","v":""},null,null,null,null,null,null,null,{"$f":"IF(B989=\"\",0,IF(B989=B988,COUNTIF(B$9:B988,B989)+1,1))","v":977},0,0]
["982","-1900","-1900-978",null,null,null,null,null,null,null,null,null,null,null,null,null,null,null,null,null,{"$f":"IF(J$2019=1,\"\",IF(T990=\"\",\"\",RIGHT(VLOOKUP(T990,Tabelle!$B$5:$C$9,2,FALSE),5)))","v":""},null,null,null,null,null,null,null,{"$f":"IF(B990=\"\",0,IF(B990=B989,COUNTIF(B$9:B989,B990)+1,1))","v":978},0,0]
["983","-1900","-1900-979",null,null,null,null,null,null,null,null,null,null,null,null,null,null,null,null,null,{"$f":"IF(J$2019=1,\"\",IF(T991=\"\",\"\",RIGHT(VLOOKUP(T991,Tabelle!$B$5:$C$9,2,FALSE),5)))","v":""},null,null,null,null,null,null,null,{"$f":"IF(B991=\"\",0,IF(B991=B990,COUNTIF(B$9:B990,B991)+1,1))","v":979},0,0]
["984","-1900","-1900-980",null,null,null,null,null,null,null,null,null,null,null,null,null,null,null,null,null,{"$f":"IF(J$2019=1,\"\",IF(T992=\"\",\"\",RIGHT(VLOOKUP(T992,Tabelle!$B$5:$C$9,2,FALSE),5)))","v":""},null,null,null,null,null,null,null,{"$f":"IF(B992=\"\",0,IF(B992=B991,COUNTIF(B$9:B991,B992)+1,1))","v":980},0,0]
["985","-1900","-1900-981",null,null,null,null,null,null,null,null,null,null,null,null,null,null,null,null,null,{"$f":"IF(J$2019=1,\"\",IF(T993=\"\",\"\",RIGHT(VLOOKUP(T993,Tabelle!$B$5:$C$9,2,FALSE),5)))","v":""},null,null,null,null,null,null,null,{"$f":"IF(B993=\"\",0,IF(B993=B992,COUNTIF(B$9:B992,B993)+1,1))","v":981},0,0]
["986","-1900","-1900-982",null,null,null,null,null,null,null,null,null,null,null,null,null,null,null,null,null,{"$f":"IF(J$2019=1,\"\",IF(T994=\"\",\"\",RIGHT(VLOOKUP(T994,Tabelle!$B$5:$C$9,2,FALSE),5)))","v":""},null,null,null,null,null,null,null,{"$f":"IF(B994=\"\",0,IF(B994=B993,COUNTIF(B$9:B993,B994)+1,1))","v":982},0,0]
["987","-1900","-1900-983",null,null,null,null,null,null,null,null,null,null,null,null,null,null,null,null,null,{"$f":"IF(J$2019=1,\"\",IF(T995=\"\",\"\",RIGHT(VLOOKUP(T995,Tabelle!$B$5:$C$9,2,FALSE),5)))","v":""},null,null,null,null,null,null,null,{"$f":"IF(B995=\"\",0,IF(B995=B994,COUNTIF(B$9:B994,B995)+1,1))","v":983},0,0]
["988","-1900","-1900-984",null,null,null,null,null,null,null,null,null,null,null,null,null,null,null,null,null,{"$f":"IF(J$2019=1,\"\",IF(T996=\"\",\"\",RIGHT(VLOOKUP(T996,Tabelle!$B$5:$C$9,2,FALSE),5)))","v":""},null,null,null,null,null,null,null,{"$f":"IF(B996=\"\",0,IF(B996=B995,COUNTIF(B$9:B995,B996)+1,1))","v":984},0,0]
["989","-1900","-1900-985",null,null,null,null,null,null,null,null,null,null,null,null,null,null,null,null,null,{"$f":"IF(J$2019=1,\"\",IF(T997=\"\",\"\",RIGHT(VLOOKUP(T997,Tabelle!$B$5:$C$9,2,FALSE),5)))","v":""},null,null,null,null,null,null,null,{"$f":"IF(B997=\"\",0,IF(B997=B996,COUNTIF(B$9:B996,B997)+1,1))","v":985},0,0]
["990","-1900","-1900-986",null,null,null,null,null,null,null,null,null,null,null,null,null,null,null,null,null,{"$f":"IF(J$2019=1,\"\",IF(T998=\"\",\"\",RIGHT(VLOOKUP(T998,Tabelle!$B$5:$C$9,2,FALSE),5)))","v":""},null,null,null,null,null,null,null,{"$f":"IF(B998=\"\",0,IF(B998=B997,COUNTIF(B$9:B997,B998)+1,1))","v":986},0,0]
["991","-1900","-1900-987",null,null,null,null,null,null,null,null,null,null,null,null,null,null,null,null,null,{"$f":"IF(J$2019=1,\"\",IF(T999=\"\",\"\",RIGHT(VLOOKUP(T999,Tabelle!$B$5:$C$9,2,FALSE),5)))","v":""},null,null,null,null,null,null,null,{"$f":"IF(B999=\"\",0,IF(B999=B998,COUNTIF(B$9:B998,B999)+1,1))","v":987},0,0]
["992","-1900","-1900-988",null,null,null,null,null,null,null,null,null,null,null,null,null,null,null,null,null,{"$f":"IF(J$2019=1,\"\",IF(T1000=\"\",\"\",RIGHT(VLOOKUP(T1000,Tabelle!$B$5:$C$9,2,FALSE),5)))","v":""},null,null,null,null,null,null,null,{"$f":"IF(B1000=\"\",0,IF(B1000=B999,COUNTIF(B$9:B999,B1000)+1,1))","v":988},0,0]
["993","-1900","-1900-989",null,null,null,null,null,null,null,null,null,null,null,null,null,null,null,null,null,{"$f":"IF(J$2019=1,\"\",IF(T1001=\"\",\"\",RIGHT(VLOOKUP(T1001,Tabelle!$B$5:$C$9,2,FALSE),5)))","v":""},null,null,null,null,null,null,null,{"$f":"IF(B1001=\"\",0,IF(B1001=B1000,COUNTIF(B$9:B1000,B1001)+1,1))","v":989},0,0]
["994","-1900","-1900-990",null,null,null,null,null,null,null,null,null,null,null,null,null,null,null,null,null,{"$f":"IF(J$2019=1,\"\",IF(T1002=\"\",\"\",RIGHT(VLOOKUP(T1002,Tabelle!$B$5:$C$9,2,FALSE),5)))","v":""},null,null,null,null,null,null,null,{"$f":"IF(B1002=\"\",0,IF(B1002=B1001,COUNTIF(B$9:B1001,B1002)+1,1))","v":990},0,0]
["995","-1900","-1900-991",null,null,null,null,null,null,null,null,null,null,null,null,null,null,null,null,null,{"$f":"IF(J$2019=1,\"\",IF(T1003=\"\",\"\",RIGHT(VLOOKUP(T1003,Tabelle!$B$5:$C$9,2,FALSE),5)))","v":""},null,null,null,null,null,null,null,{"$f":"IF(B1003=\"\",0,IF(B1003=B1002,COUNTIF(B$9:B1002,B1003)+1,1))","v":991},0,0]
["996","-1900","-1900-992",null,null,null,null,null,null,null,null,null,null,null,null,null,null,null,null,null,{"$f":"IF(J$2019=1,\"\",IF(T1004=\"\",\"\",RIGHT(VLOOKUP(T1004,Tabelle!$B$5:$C$9,2,FALSE),5)))","v":""},null,null,null,null,null,null,null,{"$f":"IF(B1004=\"\",0,IF(B1004=B1003,COUNTIF(B$9:B1003,B1004)+1,1))","v":992},0,0]
["997","-1900","-1900-993",null,null,null,null,null,null,null,null,null,null,null,null,null,null,null,null,null,{"$f":"IF(J$2019=1,\"\",IF(T1005=\"\",\"\",RIGHT(VLOOKUP(T1005,Tabelle!$B$5:$C$9,2,FALSE),5)))","v":""},null,null,null,null,null,null,null,{"$f":"IF(B1005=\"\",0,IF(B1005=B1004,COUNTIF(B$9:B1004,B1005)+1,1))","v":993},0,0]
["998","-1900","-1900-994",null,null,null,null,null,null,null,null,null,null,null,null,null,null,null,null,null,{"$f":"IF(J$2019=1,\"\",IF(T1006=\"\",\"\",RIGHT(VLOOKUP(T1006,Tabelle!$B$5:$C$9,2,FALSE),5)))","v":""},null,null,null,null,null,null,null,{"$f":"IF(B1006=\"\",0,IF(B1006=B1005,COUNTIF(B$9:B1005,B1006)+1,1))","v":994},0,0]
["999","-1900","-1900-995",null,null,null,null,null,null,null,null,null,null,null,null,null,null,null,null,null,{"$f":"IF(J$2019=1,\"\",IF(T1007=\"\",\"\",RIGHT(VLOOKUP(T1007,Tabelle!$B$5:$C$9,2,FALSE),5)))","v":""},null,null,null,null,null,null,null,{"$f":"IF(B1007=\"\",0,IF(B1007=B1006,COUNTIF(B$9:B1006,B1007)+1,1))","v":995},0,0]
["1000 di 2000","-1900","-1900-996",null,null,null,null,null,null,null,null,null,null,null,null,null,null,null,null,null,{"$f":"IF(J$2019=1,\"\",IF(T1008=\"\",\"\",RIGHT(VLOOKUP(T1008,Tabelle!$B$5:$C$9,2,FALSE),5)))","v":""},null,null,null,null,null,null,null,{"$f":"IF(B1008=\"\",0,IF(B1008=B1007,COUNTIF(B$9:B1007,B1008)+1,1))","v":996},0,0]
["1001","-1900","-1900-997",null,null,null,null,null,null,null,null,null,null,null,null,null,null,null,null,null,{"$f":"IF(J$2019=1,\"\",IF(T1009=\"\",\"\",RIGHT(VLOOKUP(T1009,Tabelle!$B$5:$C$9,2,FALSE),5)))","v":""},null,null,null,null,null,null,null,{"$f":"IF(B1009=\"\",0,IF(B1009=B1008,COUNTIF(B$9:B1008,B1009)+1,1))","v":997},0,0]
["1002","-1900","-1900-998",null,null,null,null,null,null,null,null,null,null,null,null,null,null,null,null,null,{"$f":"IF(J$2019=1,\"\",IF(T1010=\"\",\"\",RIGHT(VLOOKUP(T1010,Tabelle!$B$5:$C$9,2,FALSE),5)))","v":""},null,null,null,null,null,null,null,{"$f":"IF(B1010=\"\",0,IF(B1010=B1009,COUNTIF(B$9:B1009,B1010)+1,1))","v":998},0,0]
["1003","-1900","-1900-999",null,null,null,null,null,null,null,null,null,null,null,null,null,null,null,null,null,{"$f":"IF(J$2019=1,\"\",IF(T1011=\"\",\"\",RIGHT(VLOOKUP(T1011,Tabelle!$B$5:$C$9,2,FALSE),5)))","v":""},null,null,null,null,null,null,null,{"$f":"IF(B1011=\"\",0,IF(B1011=B1010,COUNTIF(B$9:B1010,B1011)+1,1))","v":999},0,0]
["1004","-1900","-1900-1000",null,null,null,null,null,null,null,null,null,null,null,null,null,null,null,null,null,{"$f":"IF(J$2019=1,\"\",IF(T1012=\"\",\"\",RIGHT(VLOOKUP(T1012,Tabelle!$B$5:$C$9,2,FALSE),5)))","v":""},null,null,null,null,null,null,null,{"$f":"IF(B1012=\"\",0,IF(B1012=B1011,COUNTIF(B$9:B1011,B1012)+1,1))","v":1000},0,0]
["1005","-1900","-1900-1001",null,null,null,null,null,null,null,null,null,null,null,null,null,null,null,null,null,{"$f":"IF(J$2019=1,\"\",IF(T1013=\"\",\"\",RIGHT(VLOOKUP(T1013,Tabelle!$B$5:$C$9,2,FALSE),5)))","v":""},null,null,null,null,null,null,null,{"$f":"IF(B1013=\"\",0,IF(B1013=B1012,COUNTIF(B$9:B1012,B1013)+1,1))","v":1001},0,0]
["1006","-1900","-1900-1002",null,null,null,null,null,null,null,null,null,null,null,null,null,null,null,null,null,{"$f":"IF(J$2019=1,\"\",IF(T1014=\"\",\"\",RIGHT(VLOOKUP(T1014,Tabelle!$B$5:$C$9,2,FALSE),5)))","v":""},null,null,null,null,null,null,null,{"$f":"IF(B1014=\"\",0,IF(B1014=B1013,COUNTIF(B$9:B1013,B1014)+1,1))","v":1002},0,0]
["1007","-1900","-1900-1003",null,null,null,null,null,null,null,null,null,null,null,null,null,null,null,null,null,{"$f":"IF(J$2019=1,\"\",IF(T1015=\"\",\"\",RIGHT(VLOOKUP(T1015,Tabelle!$B$5:$C$9,2,FALSE),5)))","v":""},null,null,null,null,null,null,null,{"$f":"IF(B1015=\"\",0,IF(B1015=B1014,COUNTIF(B$9:B1014,B1015)+1,1))","v":1003},0,0]
["1008","-1900","-1900-1004",null,null,null,null,null,null,null,null,null,null,null,null,null,null,null,null,null,{"$f":"IF(J$2019=1,\"\",IF(T1016=\"\",\"\",RIGHT(VLOOKUP(T1016,Tabelle!$B$5:$C$9,2,FALSE),5)))","v":""},null,null,null,null,null,null,null,{"$f":"IF(B1016=\"\",0,IF(B1016=B1015,COUNTIF(B$9:B1015,B1016)+1,1))","v":1004},0,0]
["1009","-1900","-1900-1005",null,null,null,null,null,null,null,null,null,null,null,null,null,null,null,null,null,{"$f":"IF(J$2019=1,\"\",IF(T1017=\"\",\"\",RIGHT(VLOOKUP(T1017,Tabelle!$B$5:$C$9,2,FALSE),5)))","v":""},null,null,null,null,null,null,null,{"$f":"IF(B1017=\"\",0,IF(B1017=B1016,COUNTIF(B$9:B1016,B1017)+1,1))","v":1005},0,0]
["1010","-1900","-1900-1006",null,null,null,null,null,null,null,null,null,null,null,null,null,null,null,null,null,{"$f":"IF(J$2019=1,\"\",IF(T1018=\"\",\"\",RIGHT(VLOOKUP(T1018,Tabelle!$B$5:$C$9,2,FALSE),5)))","v":""},null,null,null,null,null,null,null,{"$f":"IF(B1018=\"\",0,IF(B1018=B1017,COUNTIF(B$9:B1017,B1018)+1,1))","v":1006},0,0]
["1011","-1900","-1900-1007",null,null,null,null,null,null,null,null,null,null,null,null,null,null,null,null,null,{"$f":"IF(J$2019=1,\"\",IF(T1019=\"\",\"\",RIGHT(VLOOKUP(T1019,Tabelle!$B$5:$C$9,2,FALSE),5)))","v":""},null,null,null,null,null,null,null,{"$f":"IF(B1019=\"\",0,IF(B1019=B1018,COUNTIF(B$9:B1018,B1019)+1,1))","v":1007},0,0]
["1012","-1900","-1900-1008",null,null,null,null,null,null,null,null,null,null,null,null,null,null,null,null,null,{"$f":"IF(J$2019=1,\"\",IF(T1020=\"\",\"\",RIGHT(VLOOKUP(T1020,Tabelle!$B$5:$C$9,2,FALSE),5)))","v":""},null,null,null,null,null,null,null,{"$f":"IF(B1020=\"\",0,IF(B1020=B1019,COUNTIF(B$9:B1019,B1020)+1,1))","v":1008},0,0]
["1013","-1900","-1900-1009",null,null,null,null,null,null,null,null,null,null,null,null,null,null,null,null,null,{"$f":"IF(J$2019=1,\"\",IF(T1021=\"\",\"\",RIGHT(VLOOKUP(T1021,Tabelle!$B$5:$C$9,2,FALSE),5)))","v":""},null,null,null,null,null,null,null,{"$f":"IF(B1021=\"\",0,IF(B1021=B1020,COUNTIF(B$9:B1020,B1021)+1,1))","v":1009},0,0]
["1014","-1900","-1900-1010",null,null,null,null,null,null,null,null,null,null,null,null,null,null,null,null,null,{"$f":"IF(J$2019=1,\"\",IF(T1022=\"\",\"\",RIGHT(VLOOKUP(T1022,Tabelle!$B$5:$C$9,2,FALSE),5)))","v":""},null,null,null,null,null,null,null,{"$f":"IF(B1022=\"\",0,IF(B1022=B1021,COUNTIF(B$9:B1021,B1022)+1,1))","v":1010},0,0]
["1015","-1900","-1900-1011",null,null,null,null,null,null,null,null,null,null,null,null,null,null,null,null,null,{"$f":"IF(J$2019=1,\"\",IF(T1023=\"\",\"\",RIGHT(VLOOKUP(T1023,Tabelle!$B$5:$C$9,2,FALSE),5)))","v":""},null,null,null,null,null,null,null,{"$f":"IF(B1023=\"\",0,IF(B1023=B1022,COUNTIF(B$9:B1022,B1023)+1,1))","v":1011},0,0]
["1016","-1900","-1900-1012",null,null,null,null,null,null,null,null,null,null,null,null,null,null,null,null,null,{"$f":"IF(J$2019=1,\"\",IF(T1024=\"\",\"\",RIGHT(VLOOKUP(T1024,Tabelle!$B$5:$C$9,2,FALSE),5)))","v":""},null,null,null,null,null,null,null,{"$f":"IF(B1024=\"\",0,IF(B1024=B1023,COUNTIF(B$9:B1023,B1024)+1,1))","v":1012},0,0]
["1017","-1900","-1900-1013",null,null,null,null,null,null,null,null,null,null,null,null,null,null,null,null,null,{"$f":"IF(J$2019=1,\"\",IF(T1025=\"\",\"\",RIGHT(VLOOKUP(T1025,Tabelle!$B$5:$C$9,2,FALSE),5)))","v":""},null,null,null,null,null,null,null,{"$f":"IF(B1025=\"\",0,IF(B1025=B1024,COUNTIF(B$9:B1024,B1025)+1,1))","v":1013},0,0]
["1018","-1900","-1900-1014",null,null,null,null,null,null,null,null,null,null,null,null,null,null,null,null,null,{"$f":"IF(J$2019=1,\"\",IF(T1026=\"\",\"\",RIGHT(VLOOKUP(T1026,Tabelle!$B$5:$C$9,2,FALSE),5)))","v":""},null,null,null,null,null,null,null,{"$f":"IF(B1026=\"\",0,IF(B1026=B1025,COUNTIF(B$9:B1025,B1026)+1,1))","v":1014},0,0]
["1019","-1900","-1900-1015",null,null,null,null,null,null,null,null,null,null,null,null,null,null,null,null,null,{"$f":"IF(J$2019=1,\"\",IF(T1027=\"\",\"\",RIGHT(VLOOKUP(T1027,Tabelle!$B$5:$C$9,2,FALSE),5)))","v":""},null,null,null,null,null,null,null,{"$f":"IF(B1027=\"\",0,IF(B1027=B1026,COUNTIF(B$9:B1026,B1027)+1,1))","v":1015},0,0]
["1020","-1900","-1900-1016",null,null,null,null,null,null,null,null,null,null,null,null,null,null,null,null,null,{"$f":"IF(J$2019=1,\"\",IF(T1028=\"\",\"\",RIGHT(VLOOKUP(T1028,Tabelle!$B$5:$C$9,2,FALSE),5)))","v":""},null,null,null,null,null,null,null,{"$f":"IF(B1028=\"\",0,IF(B1028=B1027,COUNTIF(B$9:B1027,B1028)+1,1))","v":1016},0,0]
["1021","-1900","-1900-1017",null,null,null,null,null,null,null,null,null,null,null,null,null,null,null,null,null,{"$f":"IF(J$2019=1,\"\",IF(T1029=\"\",\"\",RIGHT(VLOOKUP(T1029,Tabelle!$B$5:$C$9,2,FALSE),5)))","v":""},null,null,null,null,null,null,null,{"$f":"IF(B1029=\"\",0,IF(B1029=B1028,COUNTIF(B$9:B1028,B1029)+1,1))","v":1017},0,0]
["1022","-1900","-1900-1018",null,null,null,null,null,null,null,null,null,null,null,null,null,null,null,null,null,{"$f":"IF(J$2019=1,\"\",IF(T1030=\"\",\"\",RIGHT(VLOOKUP(T1030,Tabelle!$B$5:$C$9,2,FALSE),5)))","v":""},null,null,null,null,null,null,null,{"$f":"IF(B1030=\"\",0,IF(B1030=B1029,COUNTIF(B$9:B1029,B1030)+1,1))","v":1018},0,0]
["1023","-1900","-1900-1019",null,null,null,null,null,null,null,null,null,null,null,null,null,null,null,null,null,{"$f":"IF(J$2019=1,\"\",IF(T1031=\"\",\"\",RIGHT(VLOOKUP(T1031,Tabelle!$B$5:$C$9,2,FALSE),5)))","v":""},null,null,null,null,null,null,null,{"$f":"IF(B1031=\"\",0,IF(B1031=B1030,COUNTIF(B$9:B1030,B1031)+1,1))","v":1019},0,0]
["1024","-1900","-1900-1020",null,null,null,null,null,null,null,null,null,null,null,null,null,null,null,null,null,{"$f":"IF(J$2019=1,\"\",IF(T1032=\"\",\"\",RIGHT(VLOOKUP(T1032,Tabelle!$B$5:$C$9,2,FALSE),5)))","v":""},null,null,null,null,null,null,null,{"$f":"IF(B1032=\"\",0,IF(B1032=B1031,COUNTIF(B$9:B1031,B1032)+1,1))","v":1020},0,0]
["1025","-1900","-1900-1021",null,null,null,null,null,null,null,null,null,null,null,null,null,null,null,null,null,{"$f":"IF(J$2019=1,\"\",IF(T1033=\"\",\"\",RIGHT(VLOOKUP(T1033,Tabelle!$B$5:$C$9,2,FALSE),5)))","v":""},null,null,null,null,null,null,null,{"$f":"IF(B1033=\"\",0,IF(B1033=B1032,COUNTIF(B$9:B1032,B1033)+1,1))","v":1021},0,0]
["1026",{"$f":"IF(AE1034=$AE$2013,0,IF(J$2019=1,0,D1034&\"-\"&YEAR(E1034)))","v":"-1900"},"-1900-1022",null,null,null,null,null,null,null,null,null,null,null,null,null,null,null,null,null,{"$f":"IF(J$2019=1,\"\",IF(T1034=\"\",\"\",RIGHT(VLOOKUP(T1034,Tabelle!$B$5:$C$9,2,FALSE),5)))","v":""},null,null,null,null,null,null,null,{"$f":"IF(B1034=\"\",0,IF(B1034=B1033,COUNTIF(B$9:B1033,B1034)+1,1))","v":1022},0,{"$f":"IF(E1034>0,IF(OR(MONTH(E1034)<$J$2025,MONTH(E1034)>$J$2026),AE$2013,0),0)","v":0}]
["1027","-1900","-1900-1023",null,null,null,null,null,null,null,null,null,null,null,null,null,null,null,null,null,{"$f":"IF(J$2019=1,\"\",IF(T1035=\"\",\"\",RIGHT(VLOOKUP(T1035,Tabelle!$B$5:$C$9,2,FALSE),5)))","v":""},null,null,null,null,null,null,null,{"$f":"IF(B1035=\"\",0,IF(B1035=B1034,COUNTIF(B$9:B1034,B1035)+1,1))","v":1023},0,0]
["1028","-1900","-1900-1024",null,null,null,null,null,null,null,null,null,null,null,null,null,null,null,null,null,{"$f":"IF(J$2019=1,\"\",IF(T1036=\"\",\"\",RIGHT(VLOOKUP(T1036,Tabelle!$B$5:$C$9,2,FALSE),5)))","v":""},null,null,null,null,null,null,null,{"$f":"IF(B1036=\"\",0,IF(B1036=B1035,COUNTIF(B$9:B1035,B1036)+1,1))","v":1024},0,0]
["1029","-1900","-1900-1025",null,null,null,null,null,null,null,null,null,null,null,null,null,null,null,null,null,{"$f":"IF(J$2019=1,\"\",IF(T1037=\"\",\"\",RIGHT(VLOOKUP(T1037,Tabelle!$B$5:$C$9,2,FALSE),5)))","v":""},null,null,null,null,null,null,null,{"$f":"IF(B1037=\"\",0,IF(B1037=B1036,COUNTIF(B$9:B1036,B1037)+1,1))","v":1025},0,0]
["1030","-1900","-1900-1026",null,null,null,null,null,null,null,null,null,null,null,null,null,null,null,null,null,{"$f":"IF(J$2019=1,\"\",IF(T1038=\"\",\"\",RIGHT(VLOOKUP(T1038,Tabelle!$B$5:$C$9,2,FALSE),5)))","v":""},null,null,null,null,null,null,null,{"$f":"IF(B1038=\"\",0,IF(B1038=B1037,COUNTIF(B$9:B1037,B1038)+1,1))","v":1026},0,0]
["1031","-1900","-1900-1027",null,null,null,null,null,null,null,null,null,null,null,null,null,null,null,null,null,{"$f":"IF(J$2019=1,\"\",IF(T1039=\"\",\"\",RIGHT(VLOOKUP(T1039,Tabelle!$B$5:$C$9,2,FALSE),5)))","v":""},null,null,null,null,null,null,null,{"$f":"IF(B1039=\"\",0,IF(B1039=B1038,COUNTIF(B$9:B1038,B1039)+1,1))","v":1027},0,0]
["1032","-1900","-1900-1028",null,null,null,null,null,null,null,null,null,null,null,null,null,null,null,null,null,{"$f":"IF(J$2019=1,\"\",IF(T1040=\"\",\"\",RIGHT(VLOOKUP(T1040,Tabelle!$B$5:$C$9,2,FALSE),5)))","v":""},null,null,null,null,null,null,null,{"$f":"IF(B1040=\"\",0,IF(B1040=B1039,COUNTIF(B$9:B1039,B1040)+1,1))","v":1028},0,0]
["1033","-1900","-1900-1029",null,null,null,null,null,null,null,null,null,null,null,null,null,null,null,null,null,{"$f":"IF(J$2019=1,\"\",IF(T1041=\"\",\"\",RIGHT(VLOOKUP(T1041,Tabelle!$B$5:$C$9,2,FALSE),5)))","v":""},null,null,null,null,null,null,null,{"$f":"IF(B1041=\"\",0,IF(B1041=B1040,COUNTIF(B$9:B1040,B1041)+1,1))","v":1029},0,0]
["1034","-1900","-1900-1030",null,null,null,null,null,null,null,null,null,null,null,null,null,null,null,null,null,{"$f":"IF(J$2019=1,\"\",IF(T1042=\"\",\"\",RIGHT(VLOOKUP(T1042,Tabelle!$B$5:$C$9,2,FALSE),5)))","v":""},null,null,null,null,null,null,null,{"$f":"IF(B1042=\"\",0,IF(B1042=B1041,COUNTIF(B$9:B1041,B1042)+1,1))","v":1030},0,0]
["1035","-1900","-1900-1031",null,null,null,null,null,null,null,null,null,null,null,null,null,null,null,null,null,{"$f":"IF(J$2019=1,\"\",IF(T1043=\"\",\"\",RIGHT(VLOOKUP(T1043,Tabelle!$B$5:$C$9,2,FALSE),5)))","v":""},null,null,null,null,null,null,null,{"$f":"IF(B1043=\"\",0,IF(B1043=B1042,COUNTIF(B$9:B1042,B1043)+1,1))","v":1031},0,0]
["1036","-1900","-1900-1032",null,null,null,null,null,null,null,null,null,null,null,null,null,null,null,null,null,{"$f":"IF(J$2019=1,\"\",IF(T1044=\"\",\"\",RIGHT(VLOOKUP(T1044,Tabelle!$B$5:$C$9,2,FALSE),5)))","v":""},null,null,null,null,null,null,null,{"$f":"IF(B1044=\"\",0,IF(B1044=B1043,COUNTIF(B$9:B1043,B1044)+1,1))","v":1032},0,0]
["1037","-1900","-1900-1033",null,null,null,null,null,null,null,null,null,null,null,null,null,null,null,null,null,{"$f":"IF(J$2019=1,\"\",IF(T1045=\"\",\"\",RIGHT(VLOOKUP(T1045,Tabelle!$B$5:$C$9,2,FALSE),5)))","v":""},null,null,null,null,null,null,null,{"$f":"IF(B1045=\"\",0,IF(B1045=B1044,COUNTIF(B$9:B1044,B1045)+1,1))","v":1033},{"$f":"IF(OR(D1045=\"\",J$2019=1),0,IF(AC1045=28,1,0))","v":0},0]
["1038","-1900","-1900-1034",null,null,null,null,null,null,null,null,null,null,null,null,null,null,null,null,null,{"$f":"IF(J$2019=1,\"\",IF(T1046=\"\",\"\",RIGHT(VLOOKUP(T1046,Tabelle!$B$5:$C$9,2,FALSE),5)))","v":""},null,null,null,null,null,null,null,{"$f":"IF(B1046=\"\",0,IF(B1046=B1045,COUNTIF(B$9:B1045,B1046)+1,1))","v":1034},0,0]
["1039","-1900",{"$f":"IF(J$2019=1,0,B1047&\"-\"&AC1047)","v":"-1900-1035"},null,null,null,null,null,null,null,null,null,null,null,null,null,null,null,null,null,{"$f":"IF(J$2019=1,\"\",IF(T1047=\"\",\"\",RIGHT(VLOOKUP(T1047,Tabelle!$B$5:$C$9,2,FALSE),5)))","v":""},null,null,null,null,null,null,null,{"$f":"IF(B1047=\"\",0,IF(B1047=B1046,COUNTIF(B$9:B1046,B1047)+1,1))","v":1035},0,0]
["1040","-1900","-1900-1036",null,null,null,null,null,null,null,null,null,null,null,null,null,null,null,null,null,{"$f":"IF(J$2019=1,\"\",IF(T1048=\"\",\"\",RIGHT(VLOOKUP(T1048,Tabelle!$B$5:$C$9,2,FALSE),5)))","v":""},null,null,null,null,null,null,null,{"$f":"IF(B1048=\"\",0,IF(B1048=B1047,COUNTIF(B$9:B1047,B1048)+1,1))","v":1036},0,0]
["1041","-1900","-1900-1037",null,null,null,null,null,null,null,null,null,null,null,null,null,null,null,null,null,{"$f":"IF(J$2019=1,\"\",IF(T1049=\"\",\"\",RIGHT(VLOOKUP(T1049,Tabelle!$B$5:$C$9,2,FALSE),5)))","v":""},null,null,null,null,null,null,null,{"$f":"IF(B1049=\"\",0,IF(B1049=B1048,COUNTIF(B$9:B1048,B1049)+1,1))","v":1037},0,0]
["1042","-1900","-1900-1038",null,null,null,null,null,null,null,null,null,null,null,null,null,null,null,null,null,{"$f":"IF(J$2019=1,\"\",IF(T1050=\"\",\"\",RIGHT(VLOOKUP(T1050,Tabelle!$B$5:$C$9,2,FALSE),5)))","v":""},null,null,null,null,null,null,null,{"$f":"IF(B1050=\"\",0,IF(B1050=B1049,COUNTIF(B$9:B1049,B1050)+1,1))","v":1038},0,0]
["1043","-1900","-1900-1039",null,null,null,null,null,null,null,null,null,null,null,null,null,null,null,null,null,{"$f":"IF(J$2019=1,\"\",IF(T1051=\"\",\"\",RIGHT(VLOOKUP(T1051,Tabelle!$B$5:$C$9,2,FALSE),5)))","v":""},null,null,null,null,null,null,null,{"$f":"IF(B1051=\"\",0,IF(B1051=B1050,COUNTIF(B$9:B1050,B1051)+1,1))","v":1039},0,0]
["1044","-1900","-1900-1040",null,null,null,null,null,null,null,null,null,null,null,null,null,null,null,null,null,{"$f":"IF(J$2019=1,\"\",IF(T1052=\"\",\"\",RIGHT(VLOOKUP(T1052,Tabelle!$B$5:$C$9,2,FALSE),5)))","v":""},null,null,null,null,null,null,null,{"$f":"IF(B1052=\"\",0,IF(B1052=B1051,COUNTIF(B$9:B1051,B1052)+1,1))","v":1040},0,0]
["1045","-1900","-1900-1041",null,null,null,null,null,null,null,null,null,null,null,null,null,null,null,null,null,{"$f":"IF(J$2019=1,\"\",IF(T1053=\"\",\"\",RIGHT(VLOOKUP(T1053,Tabelle!$B$5:$C$9,2,FALSE),5)))","v":""},null,null,null,null,null,null,null,{"$f":"IF(B1053=\"\",0,IF(B1053=B1052,COUNTIF(B$9:B1052,B1053)+1,1))","v":1041},0,0]
["1046","-1900","-1900-1042",null,null,null,null,null,null,null,null,null,null,null,null,null,null,null,null,null,{"$f":"IF(J$2019=1,\"\",IF(T1054=\"\",\"\",RIGHT(VLOOKUP(T1054,Tabelle!$B$5:$C$9,2,FALSE),5)))","v":""},null,null,null,null,null,null,null,{"$f":"IF(B1054=\"\",0,IF(B1054=B1053,COUNTIF(B$9:B1053,B1054)+1,1))","v":1042},0,0]
["1047","-1900","-1900-1043",null,null,null,null,null,null,null,null,null,null,null,null,null,null,null,null,null,{"$f":"IF(J$2019=1,\"\",IF(T1055=\"\",\"\",RIGHT(VLOOKUP(T1055,Tabelle!$B$5:$C$9,2,FALSE),5)))","v":""},null,null,null,null,null,null,null,{"$f":"IF(B1055=\"\",0,IF(B1055=B1054,COUNTIF(B$9:B1054,B1055)+1,1))","v":1043},0,0]
["1048","-1900","-1900-1044",null,null,null,null,null,null,null,null,null,null,null,null,null,null,null,null,null,{"$f":"IF(J$2019=1,\"\",IF(T1056=\"\",\"\",RIGHT(VLOOKUP(T1056,Tabelle!$B$5:$C$9,2,FALSE),5)))","v":""},null,null,null,null,null,null,null,{"$f":"IF(B1056=\"\",0,IF(B1056=B1055,COUNTIF(B$9:B1055,B1056)+1,1))","v":1044},0,0]
["1049","-1900","-1900-1045",null,null,null,null,null,null,null,null,null,null,null,null,null,null,null,null,null,{"$f":"IF(J$2019=1,\"\",IF(T1057=\"\",\"\",RIGHT(VLOOKUP(T1057,Tabelle!$B$5:$C$9,2,FALSE),5)))","v":""},null,null,null,null,null,null,null,{"$f":"IF(B1057=\"\",0,IF(B1057=B1056,COUNTIF(B$9:B1056,B1057)+1,1))","v":1045},0,0]
["1050","-1900","-1900-1046",null,null,null,null,null,null,null,null,null,null,null,null,null,null,null,null,null,{"$f":"IF(J$2019=1,\"\",IF(T1058=\"\",\"\",RIGHT(VLOOKUP(T1058,Tabelle!$B$5:$C$9,2,FALSE),5)))","v":""},null,null,null,null,null,null,null,{"$f":"IF(B1058=\"\",0,IF(B1058=B1057,COUNTIF(B$9:B1057,B1058)+1,1))","v":1046},0,0]
["1051","-1900","-1900-1047",null,null,null,null,null,null,null,null,null,null,null,null,null,null,null,null,null,{"$f":"IF(J$2019=1,\"\",IF(T1059=\"\",\"\",RIGHT(VLOOKUP(T1059,Tabelle!$B$5:$C$9,2,FALSE),5)))","v":""},null,null,null,null,null,null,null,{"$f":"IF(B1059=\"\",0,IF(B1059=B1058,COUNTIF(B$9:B1058,B1059)+1,1))","v":1047},0,0]
["1052","-1900","-1900-1048",null,null,null,null,null,null,null,null,null,null,null,null,null,null,null,null,null,{"$f":"IF(J$2019=1,\"\",IF(T1060=\"\",\"\",RIGHT(VLOOKUP(T1060,Tabelle!$B$5:$C$9,2,FALSE),5)))","v":""},null,null,null,null,null,null,null,{"$f":"IF(B1060=\"\",0,IF(B1060=B1059,COUNTIF(B$9:B1059,B1060)+1,1))","v":1048},0,0]
["1053","-1900","-1900-1049",null,null,null,null,null,null,null,null,null,null,null,null,null,null,null,null,null,{"$f":"IF(J$2019=1,\"\",IF(T1061=\"\",\"\",RIGHT(VLOOKUP(T1061,Tabelle!$B$5:$C$9,2,FALSE),5)))","v":""},null,null,null,null,null,null,null,{"$f":"IF(B1061=\"\",0,IF(B1061=B1060,COUNTIF(B$9:B1060,B1061)+1,1))","v":1049},0,0]
["1054","-1900","-1900-1050",null,null,null,null,null,null,null,null,null,null,null,null,null,null,null,null,null,{"$f":"IF(J$2019=1,\"\",IF(T1062=\"\",\"\",RIGHT(VLOOKUP(T1062,Tabelle!$B$5:$C$9,2,FALSE),5)))","v":""},null,null,null,null,null,null,null,{"$f":"IF(B1062=\"\",0,IF(B1062=B1061,COUNTIF(B$9:B1061,B1062)+1,1))","v":1050},0,0]
["1055","-1900","-1900-1051",null,null,null,null,null,null,null,null,null,null,null,null,null,null,null,null,null,{"$f":"IF(J$2019=1,\"\",IF(T1063=\"\",\"\",RIGHT(VLOOKUP(T1063,Tabelle!$B$5:$C$9,2,FALSE),5)))","v":""},null,null,null,null,null,null,null,{"$f":"IF(B1063=\"\",0,IF(B1063=B1062,COUNTIF(B$9:B1062,B1063)+1,1))","v":1051},0,0]
["1056","-1900","-1900-1052",null,null,null,null,null,null,null,null,null,null,null,null,null,null,null,null,null,{"$f":"IF(J$2019=1,\"\",IF(T1064=\"\",\"\",RIGHT(VLOOKUP(T1064,Tabelle!$B$5:$C$9,2,FALSE),5)))","v":""},null,null,null,null,null,null,null,{"$f":"IF(B1064=\"\",0,IF(B1064=B1063,COUNTIF(B$9:B1063,B1064)+1,1))","v":1052},0,0]
["1057","-1900","-1900-1053",null,null,null,null,null,null,null,null,null,null,null,null,null,null,null,null,null,{"$f":"IF(J$2019=1,\"\",IF(T1065=\"\",\"\",RIGHT(VLOOKUP(T1065,Tabelle!$B$5:$C$9,2,FALSE),5)))","v":""},null,null,null,null,null,null,null,{"$f":"IF(B1065=\"\",0,IF(B1065=B1064,COUNTIF(B$9:B1064,B1065)+1,1))","v":1053},0,0]
["1058","-1900","-1900-1054",null,null,null,null,null,null,null,null,null,null,null,null,null,null,null,null,null,{"$f":"IF(J$2019=1,\"\",IF(T1066=\"\",\"\",RIGHT(VLOOKUP(T1066,Tabelle!$B$5:$C$9,2,FALSE),5)))","v":""},null,null,null,null,null,null,null,{"$f":"IF(B1066=\"\",0,IF(B1066=B1065,COUNTIF(B$9:B1065,B1066)+1,1))","v":1054},0,0]
["1059","-1900","-1900-1055",null,null,null,null,null,null,null,null,null,null,null,null,null,null,null,null,null,{"$f":"IF(J$2019=1,\"\",IF(T1067=\"\",\"\",RIGHT(VLOOKUP(T1067,Tabelle!$B$5:$C$9,2,FALSE),5)))","v":""},null,null,null,null,null,null,null,{"$f":"IF(B1067=\"\",0,IF(B1067=B1066,COUNTIF(B$9:B1066,B1067)+1,1))","v":1055},0,0]
["1060","-1900","-1900-1056",null,null,null,null,null,null,null,null,null,null,null,null,null,null,null,null,null,{"$f":"IF(J$2019=1,\"\",IF(T1068=\"\",\"\",RIGHT(VLOOKUP(T1068,Tabelle!$B$5:$C$9,2,FALSE),5)))","v":""},null,null,null,null,null,null,null,{"$f":"IF(B1068=\"\",0,IF(B1068=B1067,COUNTIF(B$9:B1067,B1068)+1,1))","v":1056},0,0]
["1061","-1900","-1900-1057",null,null,null,null,null,null,null,null,null,null,null,null,null,null,null,null,null,{"$f":"IF(J$2019=1,\"\",IF(T1069=\"\",\"\",RIGHT(VLOOKUP(T1069,Tabelle!$B$5:$C$9,2,FALSE),5)))","v":""},null,null,null,null,null,null,null,{"$f":"IF(B1069=\"\",0,IF(B1069=B1068,COUNTIF(B$9:B1068,B1069)+1,1))","v":1057},0,0]
["1062","-1900","-1900-1058",null,null,null,null,null,null,null,null,null,null,null,null,null,null,null,null,null,{"$f":"IF(J$2019=1,\"\",IF(T1070=\"\",\"\",RIGHT(VLOOKUP(T1070,Tabelle!$B$5:$C$9,2,FALSE),5)))","v":""},null,null,null,null,null,null,null,{"$f":"IF(B1070=\"\",0,IF(B1070=B1069,COUNTIF(B$9:B1069,B1070)+1,1))","v":1058},0,0]
["1063","-1900","-1900-1059",null,null,null,null,null,null,null,null,null,null,null,null,null,null,null,null,null,{"$f":"IF(J$2019=1,\"\",IF(T1071=\"\",\"\",RIGHT(VLOOKUP(T1071,Tabelle!$B$5:$C$9,2,FALSE),5)))","v":""},null,null,null,null,null,null,null,{"$f":"IF(B1071=\"\",0,IF(B1071=B1070,COUNTIF(B$9:B1070,B1071)+1,1))","v":1059},0,0]
["1064","-1900","-1900-1060",null,null,null,null,null,null,null,null,null,null,null,null,null,null,null,null,null,{"$f":"IF(J$2019=1,\"\",IF(T1072=\"\",\"\",RIGHT(VLOOKUP(T1072,Tabelle!$B$5:$C$9,2,FALSE),5)))","v":""},null,null,null,null,null,null,null,{"$f":"IF(B1072=\"\",0,IF(B1072=B1071,COUNTIF(B$9:B1071,B1072)+1,1))","v":1060},0,0]
["1065","-1900","-1900-1061",null,null,null,null,null,null,null,null,null,null,null,null,null,null,null,null,null,{"$f":"IF(J$2019=1,\"\",IF(T1073=\"\",\"\",RIGHT(VLOOKUP(T1073,Tabelle!$B$5:$C$9,2,FALSE),5)))","v":""},null,null,null,null,null,null,null,{"$f":"IF(B1073=\"\",0,IF(B1073=B1072,COUNTIF(B$9:B1072,B1073)+1,1))","v":1061},0,0]
["1066","-1900","-1900-1062",null,null,null,null,null,null,null,null,null,null,null,null,null,null,null,null,null,{"$f":"IF(J$2019=1,\"\",IF(T1074=\"\",\"\",RIGHT(VLOOKUP(T1074,Tabelle!$B$5:$C$9,2,FALSE),5)))","v":""},null,null,null,null,null,null,null,{"$f":"IF(B1074=\"\",0,IF(B1074=B1073,COUNTIF(B$9:B1073,B1074)+1,1))","v":1062},0,0]
["1067","-1900","-1900-1063",null,null,null,null,null,null,null,null,null,null,null,null,null,null,null,null,null,{"$f":"IF(J$2019=1,\"\",IF(T1075=\"\",\"\",RIGHT(VLOOKUP(T1075,Tabelle!$B$5:$C$9,2,FALSE),5)))","v":""},null,null,null,null,null,null,null,{"$f":"IF(B1075=\"\",0,IF(B1075=B1074,COUNTIF(B$9:B1074,B1075)+1,1))","v":1063},0,0]
["1068","-1900","-1900-1064",null,null,null,null,null,null,null,null,null,null,null,null,null,null,null,null,null,{"$f":"IF(J$2019=1,\"\",IF(T1076=\"\",\"\",RIGHT(VLOOKUP(T1076,Tabelle!$B$5:$C$9,2,FALSE),5)))","v":""},null,null,null,null,null,null,null,{"$f":"IF(B1076=\"\",0,IF(B1076=B1075,COUNTIF(B$9:B1075,B1076)+1,1))","v":1064},0,0]
["1069","-1900","-1900-1065",null,null,null,null,null,null,null,null,null,null,null,null,null,null,null,null,null,{"$f":"IF(J$2019=1,\"\",IF(T1077=\"\",\"\",RIGHT(VLOOKUP(T1077,Tabelle!$B$5:$C$9,2,FALSE),5)))","v":""},null,null,null,null,null,null,null,{"$f":"IF(B1077=\"\",0,IF(B1077=B1076,COUNTIF(B$9:B1076,B1077)+1,1))","v":1065},0,0]
["1070","-1900","-1900-1066",null,null,null,null,null,null,null,null,null,null,null,null,null,null,null,null,null,{"$f":"IF(J$2019=1,\"\",IF(T1078=\"\",\"\",RIGHT(VLOOKUP(T1078,Tabelle!$B$5:$C$9,2,FALSE),5)))","v":""},null,null,null,null,null,null,null,{"$f":"IF(B1078=\"\",0,IF(B1078=B1077,COUNTIF(B$9:B1077,B1078)+1,1))","v":1066},0,0]
["1071","-1900","-1900-1067",null,null,null,null,null,null,null,null,null,null,null,null,null,null,null,null,null,{"$f":"IF(J$2019=1,\"\",IF(T1079=\"\",\"\",RIGHT(VLOOKUP(T1079,Tabelle!$B$5:$C$9,2,FALSE),5)))","v":""},null,null,null,null,null,null,null,{"$f":"IF(B1079=\"\",0,IF(B1079=B1078,COUNTIF(B$9:B1078,B1079)+1,1))","v":1067},0,0]
["1072","-1900","-1900-1068",null,null,null,null,null,null,null,null,null,null,null,null,null,null,null,null,null,{"$f":"IF(J$2019=1,\"\",IF(T1080=\"\",\"\",RIGHT(VLOOKUP(T1080,Tabelle!$B$5:$C$9,2,FALSE),5)))","v":""},null,null,null,null,null,null,null,{"$f":"IF(B1080=\"\",0,IF(B1080=B1079,COUNTIF(B$9:B1079,B1080)+1,1))","v":1068},0,0]
["1073","-1900","-1900-1069",null,null,null,null,null,null,null,null,null,null,null,null,null,null,null,null,null,{"$f":"IF(J$2019=1,\"\",IF(T1081=\"\",\"\",RIGHT(VLOOKUP(T1081,Tabelle!$B$5:$C$9,2,FALSE),5)))","v":""},null,null,null,null,null,null,null,{"$f":"IF(B1081=\"\",0,IF(B1081=B1080,COUNTIF(B$9:B1080,B1081)+1,1))","v":1069},0,0]
["1074","-1900","-1900-1070",null,null,null,null,null,null,null,null,null,null,null,null,null,null,null,null,null,{"$f":"IF(J$2019=1,\"\",IF(T1082=\"\",\"\",RIGHT(VLOOKUP(T1082,Tabelle!$B$5:$C$9,2,FALSE),5)))","v":""},null,null,null,null,null,null,null,{"$f":"IF(B1082=\"\",0,IF(B1082=B1081,COUNTIF(B$9:B1081,B1082)+1,1))","v":1070},0,0]
["1075","-1900","-1900-1071",null,null,null,null,null,null,null,null,null,null,null,null,null,null,null,null,null,{"$f":"IF(J$2019=1,\"\",IF(T1083=\"\",\"\",RIGHT(VLOOKUP(T1083,Tabelle!$B$5:$C$9,2,FALSE),5)))","v":""},null,null,null,null,null,null,null,{"$f":"IF(B1083=\"\",0,IF(B1083=B1082,COUNTIF(B$9:B1082,B1083)+1,1))","v":1071},0,0]
["1076","-1900","-1900-1072",null,null,null,null,null,null,null,null,null,null,null,null,null,null,null,null,null,{"$f":"IF(J$2019=1,\"\",IF(T1084=\"\",\"\",RIGHT(VLOOKUP(T1084,Tabelle!$B$5:$C$9,2,FALSE),5)))","v":""},null,null,null,null,null,null,null,{"$f":"IF(B1084=\"\",0,IF(B1084=B1083,COUNTIF(B$9:B1083,B1084)+1,1))","v":1072},0,0]
["1077","-1900","-1900-1073",null,null,null,null,null,null,null,null,null,null,null,null,null,null,null,null,null,{"$f":"IF(J$2019=1,\"\",IF(T1085=\"\",\"\",RIGHT(VLOOKUP(T1085,Tabelle!$B$5:$C$9,2,FALSE),5)))","v":""},null,null,null,null,null,null,null,{"$f":"IF(B1085=\"\",0,IF(B1085=B1084,COUNTIF(B$9:B1084,B1085)+1,1))","v":1073},0,0]
["1078","-1900","-1900-1074",null,null,null,null,null,null,null,null,null,null,null,null,null,null,null,null,null,{"$f":"IF(J$2019=1,\"\",IF(T1086=\"\",\"\",RIGHT(VLOOKUP(T1086,Tabelle!$B$5:$C$9,2,FALSE),5)))","v":""},null,null,null,null,null,null,null,{"$f":"IF(B1086=\"\",0,IF(B1086=B1085,COUNTIF(B$9:B1085,B1086)+1,1))","v":1074},0,0]
["1079","-1900","-1900-1075",null,null,null,null,null,null,null,null,null,null,null,null,null,null,null,null,null,{"$f":"IF(J$2019=1,\"\",IF(T1087=\"\",\"\",RIGHT(VLOOKUP(T1087,Tabelle!$B$5:$C$9,2,FALSE),5)))","v":""},null,null,null,null,null,null,null,{"$f":"IF(B1087=\"\",0,IF(B1087=B1086,COUNTIF(B$9:B1086,B1087)+1,1))","v":1075},0,0]
["1080","-1900","-1900-1076",null,null,null,null,null,null,null,null,null,null,null,null,null,null,null,null,null,{"$f":"IF(J$2019=1,\"\",IF(T1088=\"\",\"\",RIGHT(VLOOKUP(T1088,Tabelle!$B$5:$C$9,2,FALSE),5)))","v":""},null,null,null,null,null,null,null,{"$f":"IF(B1088=\"\",0,IF(B1088=B1087,COUNTIF(B$9:B1087,B1088)+1,1))","v":1076},0,0]
["1081","-1900","-1900-1077",null,null,null,null,null,null,null,null,null,null,null,null,null,null,null,null,null,{"$f":"IF(J$2019=1,\"\",IF(T1089=\"\",\"\",RIGHT(VLOOKUP(T1089,Tabelle!$B$5:$C$9,2,FALSE),5)))","v":""},null,null,null,null,null,null,null,{"$f":"IF(B1089=\"\",0,IF(B1089=B1088,COUNTIF(B$9:B1088,B1089)+1,1))","v":1077},0,0]
["1082","-1900","-1900-1078",null,null,null,null,null,null,null,null,null,null,null,null,null,null,null,null,null,{"$f":"IF(J$2019=1,\"\",IF(T1090=\"\",\"\",RIGHT(VLOOKUP(T1090,Tabelle!$B$5:$C$9,2,FALSE),5)))","v":""},null,null,null,null,null,null,null,{"$f":"IF(B1090=\"\",0,IF(B1090=B1089,COUNTIF(B$9:B1089,B1090)+1,1))","v":1078},0,0]
["1083","-1900","-1900-1079",null,null,null,null,null,null,null,null,null,null,null,null,null,null,null,null,null,{"$f":"IF(J$2019=1,\"\",IF(T1091=\"\",\"\",RIGHT(VLOOKUP(T1091,Tabelle!$B$5:$C$9,2,FALSE),5)))","v":""},null,null,null,null,null,null,null,{"$f":"IF(B1091=\"\",0,IF(B1091=B1090,COUNTIF(B$9:B1090,B1091)+1,1))","v":1079},0,0]
["1084","-1900","-1900-1080",null,null,null,null,null,null,null,null,null,null,null,null,null,null,null,null,null,{"$f":"IF(J$2019=1,\"\",IF(T1092=\"\",\"\",RIGHT(VLOOKUP(T1092,Tabelle!$B$5:$C$9,2,FALSE),5)))","v":""},null,null,null,null,null,null,null,{"$f":"IF(B1092=\"\",0,IF(B1092=B1091,COUNTIF(B$9:B1091,B1092)+1,1))","v":1080},0,0]
["1085","-1900","-1900-1081",null,null,null,null,null,null,null,null,null,null,null,null,null,null,null,null,null,{"$f":"IF(J$2019=1,\"\",IF(T1093=\"\",\"\",RIGHT(VLOOKUP(T1093,Tabelle!$B$5:$C$9,2,FALSE),5)))","v":""},null,null,null,null,null,null,null,{"$f":"IF(B1093=\"\",0,IF(B1093=B1092,COUNTIF(B$9:B1092,B1093)+1,1))","v":1081},0,0]
["1086","-1900","-1900-1082",null,null,null,null,null,null,null,null,null,null,null,null,null,null,null,null,null,{"$f":"IF(J$2019=1,\"\",IF(T1094=\"\",\"\",RIGHT(VLOOKUP(T1094,Tabelle!$B$5:$C$9,2,FALSE),5)))","v":""},null,null,null,null,null,null,null,{"$f":"IF(B1094=\"\",0,IF(B1094=B1093,COUNTIF(B$9:B1093,B1094)+1,1))","v":1082},0,0]
["1087","-1900","-1900-1083",null,null,null,null,null,null,null,null,null,null,null,null,null,null,null,null,null,{"$f":"IF(J$2019=1,\"\",IF(T1095=\"\",\"\",RIGHT(VLOOKUP(T1095,Tabelle!$B$5:$C$9,2,FALSE),5)))","v":""},null,null,null,null,null,null,null,{"$f":"IF(B1095=\"\",0,IF(B1095=B1094,COUNTIF(B$9:B1094,B1095)+1,1))","v":1083},0,0]
["1088","-1900","-1900-1084",null,null,null,null,null,null,null,null,null,null,null,null,null,null,null,null,null,{"$f":"IF(J$2019=1,\"\",IF(T1096=\"\",\"\",RIGHT(VLOOKUP(T1096,Tabelle!$B$5:$C$9,2,FALSE),5)))","v":""},null,null,null,null,null,null,null,{"$f":"IF(B1096=\"\",0,IF(B1096=B1095,COUNTIF(B$9:B1095,B1096)+1,1))","v":1084},0,0]
["1089","-1900","-1900-1085",null,null,null,null,null,null,null,null,null,null,null,null,null,null,null,null,null,{"$f":"IF(J$2019=1,\"\",IF(T1097=\"\",\"\",RIGHT(VLOOKUP(T1097,Tabelle!$B$5:$C$9,2,FALSE),5)))","v":""},null,null,null,null,null,null,null,{"$f":"IF(B1097=\"\",0,IF(B1097=B1096,COUNTIF(B$9:B1096,B1097)+1,1))","v":1085},0,0]
["1090",{"$f":"IF(AE1098=$AE$2013,0,IF(J$2019=1,0,D1098&\"-\"&YEAR(E1098)))","v":"-1900"},"-1900-1086",null,null,null,null,null,null,null,null,null,null,null,null,null,null,null,null,null,{"$f":"IF(J$2019=1,\"\",IF(T1098=\"\",\"\",RIGHT(VLOOKUP(T1098,Tabelle!$B$5:$C$9,2,FALSE),5)))","v":""},null,null,null,null,null,null,null,{"$f":"IF(B1098=\"\",0,IF(B1098=B1097,COUNTIF(B$9:B1097,B1098)+1,1))","v":1086},0,{"$f":"IF(E1098>0,IF(OR(MONTH(E1098)<$J$2025,MONTH(E1098)>$J$2026),AE$2013,0),0)","v":0}]
["1091","-1900","-1900-1087",null,null,null,null,null,null,null,null,null,null,null,null,null,null,null,null,null,{"$f":"IF(J$2019=1,\"\",IF(T1099=\"\",\"\",RIGHT(VLOOKUP(T1099,Tabelle!$B$5:$C$9,2,FALSE),5)))","v":""},null,null,null,null,null,null,null,{"$f":"IF(B1099=\"\",0,IF(B1099=B1098,COUNTIF(B$9:B1098,B1099)+1,1))","v":1087},0,0]
["1092","-1900","-1900-1088",null,null,null,null,null,null,null,null,null,null,null,null,null,null,null,null,null,{"$f":"IF(J$2019=1,\"\",IF(T1100=\"\",\"\",RIGHT(VLOOKUP(T1100,Tabelle!$B$5:$C$9,2,FALSE),5)))","v":""},null,null,null,null,null,null,null,{"$f":"IF(B1100=\"\",0,IF(B1100=B1099,COUNTIF(B$9:B1099,B1100)+1,1))","v":1088},0,0]
["1093","-1900","-1900-1089",null,null,null,null,null,null,null,null,null,null,null,null,null,null,null,null,null,{"$f":"IF(J$2019=1,\"\",IF(T1101=\"\",\"\",RIGHT(VLOOKUP(T1101,Tabelle!$B$5:$C$9,2,FALSE),5)))","v":""},null,null,null,null,null,null,null,{"$f":"IF(B1101=\"\",0,IF(B1101=B1100,COUNTIF(B$9:B1100,B1101)+1,1))","v":1089},0,0]
["1094","-1900","-1900-1090",null,null,null,null,null,null,null,null,null,null,null,null,null,null,null,null,null,{"$f":"IF(J$2019=1,\"\",IF(T1102=\"\",\"\",RIGHT(VLOOKUP(T1102,Tabelle!$B$5:$C$9,2,FALSE),5)))","v":""},null,null,null,null,null,null,null,{"$f":"IF(B1102=\"\",0,IF(B1102=B1101,COUNTIF(B$9:B1101,B1102)+1,1))","v":1090},0,0]
["1095","-1900","-1900-1091",null,null,null,null,null,null,null,null,null,null,null,null,null,null,null,null,null,{"$f":"IF(J$2019=1,\"\",IF(T1103=\"\",\"\",RIGHT(VLOOKUP(T1103,Tabelle!$B$5:$C$9,2,FALSE),5)))","v":""},null,null,null,null,null,null,null,{"$f":"IF(B1103=\"\",0,IF(B1103=B1102,COUNTIF(B$9:B1102,B1103)+1,1))","v":1091},0,0]
["1096","-1900","-1900-1092",null,null,null,null,null,null,null,null,null,null,null,null,null,null,null,null,null,{"$f":"IF(J$2019=1,\"\",IF(T1104=\"\",\"\",RIGHT(VLOOKUP(T1104,Tabelle!$B$5:$C$9,2,FALSE),5)))","v":""},null,null,null,null,null,null,null,{"$f":"IF(B1104=\"\",0,IF(B1104=B1103,COUNTIF(B$9:B1103,B1104)+1,1))","v":1092},0,0]
["1097","-1900","-1900-1093",null,null,null,null,null,null,null,null,null,null,null,null,null,null,null,null,null,{"$f":"IF(J$2019=1,\"\",IF(T1105=\"\",\"\",RIGHT(VLOOKUP(T1105,Tabelle!$B$5:$C$9,2,FALSE),5)))","v":""},null,null,null,null,null,null,null,{"$f":"IF(B1105=\"\",0,IF(B1105=B1104,COUNTIF(B$9:B1104,B1105)+1,1))","v":1093},0,0]
["1098","-1900","-1900-1094",null,null,null,null,null,null,null,null,null,null,null,null,null,null,null,null,null,{"$f":"IF(J$2019=1,\"\",IF(T1106=\"\",\"\",RIGHT(VLOOKUP(T1106,Tabelle!$B$5:$C$9,2,FALSE),5)))","v":""},null,null,null,null,null,null,null,{"$f":"IF(B1106=\"\",0,IF(B1106=B1105,COUNTIF(B$9:B1105,B1106)+1,1))","v":1094},0,0]
["1099","-1900","-1900-1095",null,null,null,null,null,null,null,null,null,null,null,null,null,null,null,null,null,{"$f":"IF(J$2019=1,\"\",IF(T1107=\"\",\"\",RIGHT(VLOOKUP(T1107,Tabelle!$B$5:$C$9,2,FALSE),5)))","v":""},null,null,null,null,null,null,null,{"$f":"IF(B1107=\"\",0,IF(B1107=B1106,COUNTIF(B$9:B1106,B1107)+1,1))","v":1095},0,0]
["1100","-1900","-1900-1096",null,null,null,null,null,null,null,null,null,null,null,null,null,null,null,null,null,{"$f":"IF(J$2019=1,\"\",IF(T1108=\"\",\"\",RIGHT(VLOOKUP(T1108,Tabelle!$B$5:$C$9,2,FALSE),5)))","v":""},null,null,null,null,null,null,null,{"$f":"IF(B1108=\"\",0,IF(B1108=B1107,COUNTIF(B$9:B1107,B1108)+1,1))","v":1096},0,0]
["1101","-1900","-1900-1097",null,null,null,null,null,null,null,null,null,null,null,null,null,null,null,null,null,{"$f":"IF(J$2019=1,\"\",IF(T1109=\"\",\"\",RIGHT(VLOOKUP(T1109,Tabelle!$B$5:$C$9,2,FALSE),5)))","v":""},null,null,null,null,null,null,null,{"$f":"IF(B1109=\"\",0,IF(B1109=B1108,COUNTIF(B$9:B1108,B1109)+1,1))","v":1097},{"$f":"IF(OR(D1109=\"\",J$2019=1),0,IF(AC1109=28,1,0))","v":0},0]
["1102","-1900","-1900-1098",null,null,null,null,null,null,null,null,null,null,null,null,null,null,null,null,null,{"$f":"IF(J$2019=1,\"\",IF(T1110=\"\",\"\",RIGHT(VLOOKUP(T1110,Tabelle!$B$5:$C$9,2,FALSE),5)))","v":""},null,null,null,null,null,null,null,{"$f":"IF(B1110=\"\",0,IF(B1110=B1109,COUNTIF(B$9:B1109,B1110)+1,1))","v":1098},0,0]
["1103","-1900",{"$f":"IF(J$2019=1,0,B1111&\"-\"&AC1111)","v":"-1900-1099"},null,null,null,null,null,null,null,null,null,null,null,null,null,null,null,null,null,{"$f":"IF(J$2019=1,\"\",IF(T1111=\"\",\"\",RIGHT(VLOOKUP(T1111,Tabelle!$B$5:$C$9,2,FALSE),5)))","v":""},null,null,null,null,null,null,null,{"$f":"IF(B1111=\"\",0,IF(B1111=B1110,COUNTIF(B$9:B1110,B1111)+1,1))","v":1099},0,0]
["1104","-1900","-1900-1100",null,null,null,null,null,null,null,null,null,null,null,null,null,null,null,null,null,{"$f":"IF(J$2019=1,\"\",IF(T1112=\"\",\"\",RIGHT(VLOOKUP(T1112,Tabelle!$B$5:$C$9,2,FALSE),5)))","v":""},null,null,null,null,null,null,null,{"$f":"IF(B1112=\"\",0,IF(B1112=B1111,COUNTIF(B$9:B1111,B1112)+1,1))","v":1100},0,0]
["1105","-1900","-1900-1101",null,null,null,null,null,null,null,null,null,null,null,null,null,null,null,null,null,{"$f":"IF(J$2019=1,\"\",IF(T1113=\"\",\"\",RIGHT(VLOOKUP(T1113,Tabelle!$B$5:$C$9,2,FALSE),5)))","v":""},null,null,null,null,null,null,null,{"$f":"IF(B1113=\"\",0,IF(B1113=B1112,COUNTIF(B$9:B1112,B1113)+1,1))","v":1101},0,0]
["1106","-1900","-1900-1102",null,null,null,null,null,null,null,null,null,null,null,null,null,null,null,null,null,{"$f":"IF(J$2019=1,\"\",IF(T1114=\"\",\"\",RIGHT(VLOOKUP(T1114,Tabelle!$B$5:$C$9,2,FALSE),5)))","v":""},null,null,null,null,null,null,null,{"$f":"IF(B1114=\"\",0,IF(B1114=B1113,COUNTIF(B$9:B1113,B1114)+1,1))","v":1102},0,0]
["1107","-1900","-1900-1103",null,null,null,null,null,null,null,null,null,null,null,null,null,null,null,null,null,{"$f":"IF(J$2019=1,\"\",IF(T1115=\"\",\"\",RIGHT(VLOOKUP(T1115,Tabelle!$B$5:$C$9,2,FALSE),5)))","v":""},null,null,null,null,null,null,null,{"$f":"IF(B1115=\"\",0,IF(B1115=B1114,COUNTIF(B$9:B1114,B1115)+1,1))","v":1103},0,0]
["1108","-1900","-1900-1104",null,null,null,null,null,null,null,null,null,null,null,null,null,null,null,null,null,{"$f":"IF(J$2019=1,\"\",IF(T1116=\"\",\"\",RIGHT(VLOOKUP(T1116,Tabelle!$B$5:$C$9,2,FALSE),5)))","v":""},null,null,null,null,null,null,null,{"$f":"IF(B1116=\"\",0,IF(B1116=B1115,COUNTIF(B$9:B1115,B1116)+1,1))","v":1104},0,0]
["1109","-1900","-1900-1105",null,null,null,null,null,null,null,null,null,null,null,null,null,null,null,null,null,{"$f":"IF(J$2019=1,\"\",IF(T1117=\"\",\"\",RIGHT(VLOOKUP(T1117,Tabelle!$B$5:$C$9,2,FALSE),5)))","v":""},null,null,null,null,null,null,null,{"$f":"IF(B1117=\"\",0,IF(B1117=B1116,COUNTIF(B$9:B1116,B1117)+1,1))","v":1105},0,0]
["1110","-1900","-1900-1106",null,null,null,null,null,null,null,null,null,null,null,null,null,null,null,null,null,{"$f":"IF(J$2019=1,\"\",IF(T1118=\"\",\"\",RIGHT(VLOOKUP(T1118,Tabelle!$B$5:$C$9,2,FALSE),5)))","v":""},null,null,null,null,null,null,null,{"$f":"IF(B1118=\"\",0,IF(B1118=B1117,COUNTIF(B$9:B1117,B1118)+1,1))","v":1106},0,0]
["1111","-1900","-1900-1107",null,null,null,null,null,null,null,null,null,null,null,null,null,null,null,null,null,{"$f":"IF(J$2019=1,\"\",IF(T1119=\"\",\"\",RIGHT(VLOOKUP(T1119,Tabelle!$B$5:$C$9,2,FALSE),5)))","v":""},null,null,null,null,null,null,null,{"$f":"IF(B1119=\"\",0,IF(B1119=B1118,COUNTIF(B$9:B1118,B1119)+1,1))","v":1107},0,0]
["1112","-1900","-1900-1108",null,null,null,null,null,null,null,null,null,null,null,null,null,null,null,null,null,{"$f":"IF(J$2019=1,\"\",IF(T1120=\"\",\"\",RIGHT(VLOOKUP(T1120,Tabelle!$B$5:$C$9,2,FALSE),5)))","v":""},null,null,null,null,null,null,null,{"$f":"IF(B1120=\"\",0,IF(B1120=B1119,COUNTIF(B$9:B1119,B1120)+1,1))","v":1108},0,0]
["1113","-1900","-1900-1109",null,null,null,null,null,null,null,null,null,null,null,null,null,null,null,null,null,{"$f":"IF(J$2019=1,\"\",IF(T1121=\"\",\"\",RIGHT(VLOOKUP(T1121,Tabelle!$B$5:$C$9,2,FALSE),5)))","v":""},null,null,null,null,null,null,null,{"$f":"IF(B1121=\"\",0,IF(B1121=B1120,COUNTIF(B$9:B1120,B1121)+1,1))","v":1109},0,0]
["1114","-1900","-1900-1110",null,null,null,null,null,null,null,null,null,null,null,null,null,null,null,null,null,{"$f":"IF(J$2019=1,\"\",IF(T1122=\"\",\"\",RIGHT(VLOOKUP(T1122,Tabelle!$B$5:$C$9,2,FALSE),5)))","v":""},null,null,null,null,null,null,null,{"$f":"IF(B1122=\"\",0,IF(B1122=B1121,COUNTIF(B$9:B1121,B1122)+1,1))","v":1110},0,0]
["1115","-1900","-1900-1111",null,null,null,null,null,null,null,null,null,null,null,null,null,null,null,null,null,{"$f":"IF(J$2019=1,\"\",IF(T1123=\"\",\"\",RIGHT(VLOOKUP(T1123,Tabelle!$B$5:$C$9,2,FALSE),5)))","v":""},null,null,null,null,null,null,null,{"$f":"IF(B1123=\"\",0,IF(B1123=B1122,COUNTIF(B$9:B1122,B1123)+1,1))","v":1111},0,0]
["1116","-1900","-1900-1112",null,null,null,null,null,null,null,null,null,null,null,null,null,null,null,null,null,{"$f":"IF(J$2019=1,\"\",IF(T1124=\"\",\"\",RIGHT(VLOOKUP(T1124,Tabelle!$B$5:$C$9,2,FALSE),5)))","v":""},null,null,null,null,null,null,null,{"$f":"IF(B1124=\"\",0,IF(B1124=B1123,COUNTIF(B$9:B1123,B1124)+1,1))","v":1112},0,0]
["1117","-1900","-1900-1113",null,null,null,null,null,null,null,null,null,null,null,null,null,null,null,null,null,{"$f":"IF(J$2019=1,\"\",IF(T1125=\"\",\"\",RIGHT(VLOOKUP(T1125,Tabelle!$B$5:$C$9,2,FALSE),5)))","v":""},null,null,null,null,null,null,null,{"$f":"IF(B1125=\"\",0,IF(B1125=B1124,COUNTIF(B$9:B1124,B1125)+1,1))","v":1113},0,0]
["1118","-1900","-1900-1114",null,null,null,null,null,null,null,null,null,null,null,null,null,null,null,null,null,{"$f":"IF(J$2019=1,\"\",IF(T1126=\"\",\"\",RIGHT(VLOOKUP(T1126,Tabelle!$B$5:$C$9,2,FALSE),5)))","v":""},null,null,null,null,null,null,null,{"$f":"IF(B1126=\"\",0,IF(B1126=B1125,COUNTIF(B$9:B1125,B1126)+1,1))","v":1114},0,0]
["1119","-1900","-1900-1115",null,null,null,null,null,null,null,null,null,null,null,null,null,null,null,null,null,{"$f":"IF(J$2019=1,\"\",IF(T1127=\"\",\"\",RIGHT(VLOOKUP(T1127,Tabelle!$B$5:$C$9,2,FALSE),5)))","v":""},null,null,null,null,null,null,null,{"$f":"IF(B1127=\"\",0,IF(B1127=B1126,COUNTIF(B$9:B1126,B1127)+1,1))","v":1115},0,0]
["1120","-1900","-1900-1116",null,null,null,null,null,null,null,null,null,null,null,null,null,null,null,null,null,{"$f":"IF(J$2019=1,\"\",IF(T1128=\"\",\"\",RIGHT(VLOOKUP(T1128,Tabelle!$B$5:$C$9,2,FALSE),5)))","v":""},null,null,null,null,null,null,null,{"$f":"IF(B1128=\"\",0,IF(B1128=B1127,COUNTIF(B$9:B1127,B1128)+1,1))","v":1116},0,0]
["1121","-1900","-1900-1117",null,null,null,null,null,null,null,null,null,null,null,null,null,null,null,null,null,{"$f":"IF(J$2019=1,\"\",IF(T1129=\"\",\"\",RIGHT(VLOOKUP(T1129,Tabelle!$B$5:$C$9,2,FALSE),5)))","v":""},null,null,null,null,null,null,null,{"$f":"IF(B1129=\"\",0,IF(B1129=B1128,COUNTIF(B$9:B1128,B1129)+1,1))","v":1117},0,0]
["1122","-1900","-1900-1118",null,null,null,null,null,null,null,null,null,null,null,null,null,null,null,null,null,{"$f":"IF(J$2019=1,\"\",IF(T1130=\"\",\"\",RIGHT(VLOOKUP(T1130,Tabelle!$B$5:$C$9,2,FALSE),5)))","v":""},null,null,null,null,null,null,null,{"$f":"IF(B1130=\"\",0,IF(B1130=B1129,COUNTIF(B$9:B1129,B1130)+1,1))","v":1118},0,0]
["1123","-1900","-1900-1119",null,null,null,null,null,null,null,null,null,null,null,null,null,null,null,null,null,{"$f":"IF(J$2019=1,\"\",IF(T1131=\"\",\"\",RIGHT(VLOOKUP(T1131,Tabelle!$B$5:$C$9,2,FALSE),5)))","v":""},null,null,null,null,null,null,null,{"$f":"IF(B1131=\"\",0,IF(B1131=B1130,COUNTIF(B$9:B1130,B1131)+1,1))","v":1119},0,0]
["1124","-1900","-1900-1120",null,null,null,null,null,null,null,null,null,null,null,null,null,null,null,null,null,{"$f":"IF(J$2019=1,\"\",IF(T1132=\"\",\"\",RIGHT(VLOOKUP(T1132,Tabelle!$B$5:$C$9,2,FALSE),5)))","v":""},null,null,null,null,null,null,null,{"$f":"IF(B1132=\"\",0,IF(B1132=B1131,COUNTIF(B$9:B1131,B1132)+1,1))","v":1120},0,0]
["1125","-1900","-1900-1121",null,null,null,null,null,null,null,null,null,null,null,null,null,null,null,null,null,{"$f":"IF(J$2019=1,\"\",IF(T1133=\"\",\"\",RIGHT(VLOOKUP(T1133,Tabelle!$B$5:$C$9,2,FALSE),5)))","v":""},null,null,null,null,null,null,null,{"$f":"IF(B1133=\"\",0,IF(B1133=B1132,COUNTIF(B$9:B1132,B1133)+1,1))","v":1121},0,0]
["1126","-1900","-1900-1122",null,null,null,null,null,null,null,null,null,null,null,null,null,null,null,null,null,{"$f":"IF(J$2019=1,\"\",IF(T1134=\"\",\"\",RIGHT(VLOOKUP(T1134,Tabelle!$B$5:$C$9,2,FALSE),5)))","v":""},null,null,null,null,null,null,null,{"$f":"IF(B1134=\"\",0,IF(B1134=B1133,COUNTIF(B$9:B1133,B1134)+1,1))","v":1122},0,0]
["1127","-1900","-1900-1123",null,null,null,null,null,null,null,null,null,null,null,null,null,null,null,null,null,{"$f":"IF(J$2019=1,\"\",IF(T1135=\"\",\"\",RIGHT(VLOOKUP(T1135,Tabelle!$B$5:$C$9,2,FALSE),5)))","v":""},null,null,null,null,null,null,null,{"$f":"IF(B1135=\"\",0,IF(B1135=B1134,COUNTIF(B$9:B1134,B1135)+1,1))","v":1123},0,0]
["1128","-1900","-1900-1124",null,null,null,null,null,null,null,null,null,null,null,null,null,null,null,null,null,{"$f":"IF(J$2019=1,\"\",IF(T1136=\"\",\"\",RIGHT(VLOOKUP(T1136,Tabelle!$B$5:$C$9,2,FALSE),5)))","v":""},null,null,null,null,null,null,null,{"$f":"IF(B1136=\"\",0,IF(B1136=B1135,COUNTIF(B$9:B1135,B1136)+1,1))","v":1124},0,0]
["1129","-1900","-1900-1125",null,null,null,null,null,null,null,null,null,null,null,null,null,null,null,null,null,{"$f":"IF(J$2019=1,\"\",IF(T1137=\"\",\"\",RIGHT(VLOOKUP(T1137,Tabelle!$B$5:$C$9,2,FALSE),5)))","v":""},null,null,null,null,null,null,null,{"$f":"IF(B1137=\"\",0,IF(B1137=B1136,COUNTIF(B$9:B1136,B1137)+1,1))","v":1125},0,0]
["1130","-1900","-1900-1126",null,null,null,null,null,null,null,null,null,null,null,null,null,null,null,null,null,{"$f":"IF(J$2019=1,\"\",IF(T1138=\"\",\"\",RIGHT(VLOOKUP(T1138,Tabelle!$B$5:$C$9,2,FALSE),5)))","v":""},null,null,null,null,null,null,null,{"$f":"IF(B1138=\"\",0,IF(B1138=B1137,COUNTIF(B$9:B1137,B1138)+1,1))","v":1126},0,0]
["1131","-1900","-1900-1127",null,null,null,null,null,null,null,null,null,null,null,null,null,null,null,null,null,{"$f":"IF(J$2019=1,\"\",IF(T1139=\"\",\"\",RIGHT(VLOOKUP(T1139,Tabelle!$B$5:$C$9,2,FALSE),5)))","v":""},null,null,null,null,null,null,null,{"$f":"IF(B1139=\"\",0,IF(B1139=B1138,COUNTIF(B$9:B1138,B1139)+1,1))","v":1127},0,0]
["1132","-1900","-1900-1128",null,null,null,null,null,null,null,null,null,null,null,null,null,null,null,null,null,{"$f":"IF(J$2019=1,\"\",IF(T1140=\"\",\"\",RIGHT(VLOOKUP(T1140,Tabelle!$B$5:$C$9,2,FALSE),5)))","v":""},null,null,null,null,null,null,null,{"$f":"IF(B1140=\"\",0,IF(B1140=B1139,COUNTIF(B$9:B1139,B1140)+1,1))","v":1128},0,0]
["1133","-1900","-1900-1129",null,null,null,null,null,null,null,null,null,null,null,null,null,null,null,null,null,{"$f":"IF(J$2019=1,\"\",IF(T1141=\"\",\"\",RIGHT(VLOOKUP(T1141,Tabelle!$B$5:$C$9,2,FALSE),5)))","v":""},null,null,null,null,null,null,null,{"$f":"IF(B1141=\"\",0,IF(B1141=B1140,COUNTIF(B$9:B1140,B1141)+1,1))","v":1129},0,0]
["1134","-1900","-1900-1130",null,null,null,null,null,null,null,null,null,null,null,null,null,null,null,null,null,{"$f":"IF(J$2019=1,\"\",IF(T1142=\"\",\"\",RIGHT(VLOOKUP(T1142,Tabelle!$B$5:$C$9,2,FALSE),5)))","v":""},null,null,null,null,null,null,null,{"$f":"IF(B1142=\"\",0,IF(B1142=B1141,COUNTIF(B$9:B1141,B1142)+1,1))","v":1130},0,0]
["1135","-1900","-1900-1131",null,null,null,null,null,null,null,null,null,null,null,null,null,null,null,null,null,{"$f":"IF(J$2019=1,\"\",IF(T1143=\"\",\"\",RIGHT(VLOOKUP(T1143,Tabelle!$B$5:$C$9,2,FALSE),5)))","v":""},null,null,null,null,null,null,null,{"$f":"IF(B1143=\"\",0,IF(B1143=B1142,COUNTIF(B$9:B1142,B1143)+1,1))","v":1131},0,0]
["1136","-1900","-1900-1132",null,null,null,null,null,null,null,null,null,null,null,null,null,null,null,null,null,{"$f":"IF(J$2019=1,\"\",IF(T1144=\"\",\"\",RIGHT(VLOOKUP(T1144,Tabelle!$B$5:$C$9,2,FALSE),5)))","v":""},null,null,null,null,null,null,null,{"$f":"IF(B1144=\"\",0,IF(B1144=B1143,COUNTIF(B$9:B1143,B1144)+1,1))","v":1132},0,0]
["1137","-1900","-1900-1133",null,null,null,null,null,null,null,null,null,null,null,null,null,null,null,null,null,{"$f":"IF(J$2019=1,\"\",IF(T1145=\"\",\"\",RIGHT(VLOOKUP(T1145,Tabelle!$B$5:$C$9,2,FALSE),5)))","v":""},null,null,null,null,null,null,null,{"$f":"IF(B1145=\"\",0,IF(B1145=B1144,COUNTIF(B$9:B1144,B1145)+1,1))","v":1133},0,0]
["1138","-1900","-1900-1134",null,null,null,null,null,null,null,null,null,null,null,null,null,null,null,null,null,{"$f":"IF(J$2019=1,\"\",IF(T1146=\"\",\"\",RIGHT(VLOOKUP(T1146,Tabelle!$B$5:$C$9,2,FALSE),5)))","v":""},null,null,null,null,null,null,null,{"$f":"IF(B1146=\"\",0,IF(B1146=B1145,COUNTIF(B$9:B1145,B1146)+1,1))","v":1134},0,0]
["1139","-1900","-1900-1135",null,null,null,null,null,null,null,null,null,null,null,null,null,null,null,null,null,{"$f":"IF(J$2019=1,\"\",IF(T1147=\"\",\"\",RIGHT(VLOOKUP(T1147,Tabelle!$B$5:$C$9,2,FALSE),5)))","v":""},null,null,null,null,null,null,null,{"$f":"IF(B1147=\"\",0,IF(B1147=B1146,COUNTIF(B$9:B1146,B1147)+1,1))","v":1135},0,0]
["1140","-1900","-1900-1136",null,null,null,null,null,null,null,null,null,null,null,null,null,null,null,null,null,{"$f":"IF(J$2019=1,\"\",IF(T1148=\"\",\"\",RIGHT(VLOOKUP(T1148,Tabelle!$B$5:$C$9,2,FALSE),5)))","v":""},null,null,null,null,null,null,null,{"$f":"IF(B1148=\"\",0,IF(B1148=B1147,COUNTIF(B$9:B1147,B1148)+1,1))","v":1136},0,0]
["1141","-1900","-1900-1137",null,null,null,null,null,null,null,null,null,null,null,null,null,null,null,null,null,{"$f":"IF(J$2019=1,\"\",IF(T1149=\"\",\"\",RIGHT(VLOOKUP(T1149,Tabelle!$B$5:$C$9,2,FALSE),5)))","v":""},null,null,null,null,null,null,null,{"$f":"IF(B1149=\"\",0,IF(B1149=B1148,COUNTIF(B$9:B1148,B1149)+1,1))","v":1137},0,0]
["1142","-1900","-1900-1138",null,null,null,null,null,null,null,null,null,null,null,null,null,null,null,null,null,{"$f":"IF(J$2019=1,\"\",IF(T1150=\"\",\"\",RIGHT(VLOOKUP(T1150,Tabelle!$B$5:$C$9,2,FALSE),5)))","v":""},null,null,null,null,null,null,null,{"$f":"IF(B1150=\"\",0,IF(B1150=B1149,COUNTIF(B$9:B1149,B1150)+1,1))","v":1138},0,0]
["1143","-1900","-1900-1139",null,null,null,null,null,null,null,null,null,null,null,null,null,null,null,null,null,{"$f":"IF(J$2019=1,\"\",IF(T1151=\"\",\"\",RIGHT(VLOOKUP(T1151,Tabelle!$B$5:$C$9,2,FALSE),5)))","v":""},null,null,null,null,null,null,null,{"$f":"IF(B1151=\"\",0,IF(B1151=B1150,COUNTIF(B$9:B1150,B1151)+1,1))","v":1139},0,0]
["1144","-1900","-1900-1140",null,null,null,null,null,null,null,null,null,null,null,null,null,null,null,null,null,{"$f":"IF(J$2019=1,\"\",IF(T1152=\"\",\"\",RIGHT(VLOOKUP(T1152,Tabelle!$B$5:$C$9,2,FALSE),5)))","v":""},null,null,null,null,null,null,null,{"$f":"IF(B1152=\"\",0,IF(B1152=B1151,COUNTIF(B$9:B1151,B1152)+1,1))","v":1140},0,0]
["1145","-1900","-1900-1141",null,null,null,null,null,null,null,null,null,null,null,null,null,null,null,null,null,{"$f":"IF(J$2019=1,\"\",IF(T1153=\"\",\"\",RIGHT(VLOOKUP(T1153,Tabelle!$B$5:$C$9,2,FALSE),5)))","v":""},null,null,null,null,null,null,null,{"$f":"IF(B1153=\"\",0,IF(B1153=B1152,COUNTIF(B$9:B1152,B1153)+1,1))","v":1141},0,0]
["1146","-1900","-1900-1142",null,null,null,null,null,null,null,null,null,null,null,null,null,null,null,null,null,{"$f":"IF(J$2019=1,\"\",IF(T1154=\"\",\"\",RIGHT(VLOOKUP(T1154,Tabelle!$B$5:$C$9,2,FALSE),5)))","v":""},null,null,null,null,null,null,null,{"$f":"IF(B1154=\"\",0,IF(B1154=B1153,COUNTIF(B$9:B1153,B1154)+1,1))","v":1142},0,0]
["1147","-1900","-1900-1143",null,null,null,null,null,null,null,null,null,null,null,null,null,null,null,null,null,{"$f":"IF(J$2019=1,\"\",IF(T1155=\"\",\"\",RIGHT(VLOOKUP(T1155,Tabelle!$B$5:$C$9,2,FALSE),5)))","v":""},null,null,null,null,null,null,null,{"$f":"IF(B1155=\"\",0,IF(B1155=B1154,COUNTIF(B$9:B1154,B1155)+1,1))","v":1143},0,0]
["1148","-1900","-1900-1144",null,null,null,null,null,null,null,null,null,null,null,null,null,null,null,null,null,{"$f":"IF(J$2019=1,\"\",IF(T1156=\"\",\"\",RIGHT(VLOOKUP(T1156,Tabelle!$B$5:$C$9,2,FALSE),5)))","v":""},null,null,null,null,null,null,null,{"$f":"IF(B1156=\"\",0,IF(B1156=B1155,COUNTIF(B$9:B1155,B1156)+1,1))","v":1144},0,0]
["1149","-1900","-1900-1145",null,null,null,null,null,null,null,null,null,null,null,null,null,null,null,null,null,{"$f":"IF(J$2019=1,\"\",IF(T1157=\"\",\"\",RIGHT(VLOOKUP(T1157,Tabelle!$B$5:$C$9,2,FALSE),5)))","v":""},null,null,null,null,null,null,null,{"$f":"IF(B1157=\"\",0,IF(B1157=B1156,COUNTIF(B$9:B1156,B1157)+1,1))","v":1145},0,0]
["1150","-1900","-1900-1146",null,null,null,null,null,null,null,null,null,null,null,null,null,null,null,null,null,{"$f":"IF(J$2019=1,\"\",IF(T1158=\"\",\"\",RIGHT(VLOOKUP(T1158,Tabelle!$B$5:$C$9,2,FALSE),5)))","v":""},null,null,null,null,null,null,null,{"$f":"IF(B1158=\"\",0,IF(B1158=B1157,COUNTIF(B$9:B1157,B1158)+1,1))","v":1146},0,0]
["1151","-1900","-1900-1147",null,null,null,null,null,null,null,null,null,null,null,null,null,null,null,null,null,{"$f":"IF(J$2019=1,\"\",IF(T1159=\"\",\"\",RIGHT(VLOOKUP(T1159,Tabelle!$B$5:$C$9,2,FALSE),5)))","v":""},null,null,null,null,null,null,null,{"$f":"IF(B1159=\"\",0,IF(B1159=B1158,COUNTIF(B$9:B1158,B1159)+1,1))","v":1147},0,0]
["1152","-1900","-1900-1148",null,null,null,null,null,null,null,null,null,null,null,null,null,null,null,null,null,{"$f":"IF(J$2019=1,\"\",IF(T1160=\"\",\"\",RIGHT(VLOOKUP(T1160,Tabelle!$B$5:$C$9,2,FALSE),5)))","v":""},null,null,null,null,null,null,null,{"$f":"IF(B1160=\"\",0,IF(B1160=B1159,COUNTIF(B$9:B1159,B1160)+1,1))","v":1148},0,0]
["1153","-1900","-1900-1149",null,null,null,null,null,null,null,null,null,null,null,null,null,null,null,null,null,{"$f":"IF(J$2019=1,\"\",IF(T1161=\"\",\"\",RIGHT(VLOOKUP(T1161,Tabelle!$B$5:$C$9,2,FALSE),5)))","v":""},null,null,null,null,null,null,null,{"$f":"IF(B1161=\"\",0,IF(B1161=B1160,COUNTIF(B$9:B1160,B1161)+1,1))","v":1149},0,0]
["1154",{"$f":"IF(AE1162=$AE$2013,0,IF(J$2019=1,0,D1162&\"-\"&YEAR(E1162)))","v":"-1900"},"-1900-1150",null,null,null,null,null,null,null,null,null,null,null,null,null,null,null,null,null,{"$f":"IF(J$2019=1,\"\",IF(T1162=\"\",\"\",RIGHT(VLOOKUP(T1162,Tabelle!$B$5:$C$9,2,FALSE),5)))","v":""},null,null,null,null,null,null,null,{"$f":"IF(B1162=\"\",0,IF(B1162=B1161,COUNTIF(B$9:B1161,B1162)+1,1))","v":1150},0,{"$f":"IF(E1162>0,IF(OR(MONTH(E1162)<$J$2025,MONTH(E1162)>$J$2026),AE$2013,0),0)","v":0}]
["1155","-1900","-1900-1151",null,null,null,null,null,null,null,null,null,null,null,null,null,null,null,null,null,{"$f":"IF(J$2019=1,\"\",IF(T1163=\"\",\"\",RIGHT(VLOOKUP(T1163,Tabelle!$B$5:$C$9,2,FALSE),5)))","v":""},null,null,null,null,null,null,null,{"$f":"IF(B1163=\"\",0,IF(B1163=B1162,COUNTIF(B$9:B1162,B1163)+1,1))","v":1151},0,0]
["1156","-1900","-1900-1152",null,null,null,null,null,null,null,null,null,null,null,null,null,null,null,null,null,{"$f":"IF(J$2019=1,\"\",IF(T1164=\"\",\"\",RIGHT(VLOOKUP(T1164,Tabelle!$B$5:$C$9,2,FALSE),5)))","v":""},null,null,null,null,null,null,null,{"$f":"IF(B1164=\"\",0,IF(B1164=B1163,COUNTIF(B$9:B1163,B1164)+1,1))","v":1152},0,0]
["1157","-1900","-1900-1153",null,null,null,null,null,null,null,null,null,null,null,null,null,null,null,null,null,{"$f":"IF(J$2019=1,\"\",IF(T1165=\"\",\"\",RIGHT(VLOOKUP(T1165,Tabelle!$B$5:$C$9,2,FALSE),5)))","v":""},null,null,null,null,null,null,null,{"$f":"IF(B1165=\"\",0,IF(B1165=B1164,COUNTIF(B$9:B1164,B1165)+1,1))","v":1153},0,0]
["1158","-1900","-1900-1154",null,null,null,null,null,null,null,null,null,null,null,null,null,null,null,null,null,{"$f":"IF(J$2019=1,\"\",IF(T1166=\"\",\"\",RIGHT(VLOOKUP(T1166,Tabelle!$B$5:$C$9,2,FALSE),5)))","v":""},null,null,null,null,null,null,null,{"$f":"IF(B1166=\"\",0,IF(B1166=B1165,COUNTIF(B$9:B1165,B1166)+1,1))","v":1154},0,0]
["1159","-1900","-1900-1155",null,null,null,null,null,null,null,null,null,null,null,null,null,null,null,null,null,{"$f":"IF(J$2019=1,\"\",IF(T1167=\"\",\"\",RIGHT(VLOOKUP(T1167,Tabelle!$B$5:$C$9,2,FALSE),5)))","v":""},null,null,null,null,null,null,null,{"$f":"IF(B1167=\"\",0,IF(B1167=B1166,COUNTIF(B$9:B1166,B1167)+1,1))","v":1155},0,0]
["1160","-1900","-1900-1156",null,null,null,null,null,null,null,null,null,null,null,null,null,null,null,null,null,{"$f":"IF(J$2019=1,\"\",IF(T1168=\"\",\"\",RIGHT(VLOOKUP(T1168,Tabelle!$B$5:$C$9,2,FALSE),5)))","v":""},null,null,null,null,null,null,null,{"$f":"IF(B1168=\"\",0,IF(B1168=B1167,COUNTIF(B$9:B1167,B1168)+1,1))","v":1156},0,0]
["1161","-1900","-1900-1157",null,null,null,null,null,null,null,null,null,null,null,null,null,null,null,null,null,{"$f":"IF(J$2019=1,\"\",IF(T1169=\"\",\"\",RIGHT(VLOOKUP(T1169,Tabelle!$B$5:$C$9,2,FALSE),5)))","v":""},null,null,null,null,null,null,null,{"$f":"IF(B1169=\"\",0,IF(B1169=B1168,COUNTIF(B$9:B1168,B1169)+1,1))","v":1157},0,0]
["1162","-1900","-1900-1158",null,null,null,null,null,null,null,null,null,null,null,null,null,null,null,null,null,{"$f":"IF(J$2019=1,\"\",IF(T1170=\"\",\"\",RIGHT(VLOOKUP(T1170,Tabelle!$B$5:$C$9,2,FALSE),5)))","v":""},null,null,null,null,null,null,null,{"$f":"IF(B1170=\"\",0,IF(B1170=B1169,COUNTIF(B$9:B1169,B1170)+1,1))","v":1158},0,0]
["1163","-1900","-1900-1159",null,null,null,null,null,null,null,null,null,null,null,null,null,null,null,null,null,{"$f":"IF(J$2019=1,\"\",IF(T1171=\"\",\"\",RIGHT(VLOOKUP(T1171,Tabelle!$B$5:$C$9,2,FALSE),5)))","v":""},null,null,null,null,null,null,null,{"$f":"IF(B1171=\"\",0,IF(B1171=B1170,COUNTIF(B$9:B1170,B1171)+1,1))","v":1159},0,0]
["1164","-1900","-1900-1160",null,null,null,null,null,null,null,null,null,null,null,null,null,null,null,null,null,{"$f":"IF(J$2019=1,\"\",IF(T1172=\"\",\"\",RIGHT(VLOOKUP(T1172,Tabelle!$B$5:$C$9,2,FALSE),5)))","v":""},null,null,null,null,null,null,null,{"$f":"IF(B1172=\"\",0,IF(B1172=B1171,COUNTIF(B$9:B1171,B1172)+1,1))","v":1160},0,0]
["1165","-1900","-1900-1161",null,null,null,null,null,null,null,null,null,null,null,null,null,null,null,null,null,{"$f":"IF(J$2019=1,\"\",IF(T1173=\"\",\"\",RIGHT(VLOOKUP(T1173,Tabelle!$B$5:$C$9,2,FALSE),5)))","v":""},null,null,null,null,null,null,null,{"$f":"IF(B1173=\"\",0,IF(B1173=B1172,COUNTIF(B$9:B1172,B1173)+1,1))","v":1161},{"$f":"IF(OR(D1173=\"\",J$2019=1),0,IF(AC1173=28,1,0))","v":0},0]
["1166","-1900","-1900-1162",null,null,null,null,null,null,null,null,null,null,null,null,null,null,null,null,null,{"$f":"IF(J$2019=1,\"\",IF(T1174=\"\",\"\",RIGHT(VLOOKUP(T1174,Tabelle!$B$5:$C$9,2,FALSE),5)))","v":""},null,null,null,null,null,null,null,{"$f":"IF(B1174=\"\",0,IF(B1174=B1173,COUNTIF(B$9:B1173,B1174)+1,1))","v":1162},0,0]
["1167","-1900",{"$f":"IF(J$2019=1,0,B1175&\"-\"&AC1175)","v":"-1900-1163"},null,null,null,null,null,null,null,null,null,null,null,null,null,null,null,null,null,{"$f":"IF(J$2019=1,\"\",IF(T1175=\"\",\"\",RIGHT(VLOOKUP(T1175,Tabelle!$B$5:$C$9,2,FALSE),5)))","v":""},null,null,null,null,null,null,null,{"$f":"IF(B1175=\"\",0,IF(B1175=B1174,COUNTIF(B$9:B1174,B1175)+1,1))","v":1163},0,0]
["1168","-1900","-1900-1164",null,null,null,null,null,null,null,null,null,null,null,null,null,null,null,null,null,{"$f":"IF(J$2019=1,\"\",IF(T1176=\"\",\"\",RIGHT(VLOOKUP(T1176,Tabelle!$B$5:$C$9,2,FALSE),5)))","v":""},null,null,null,null,null,null,null,{"$f":"IF(B1176=\"\",0,IF(B1176=B1175,COUNTIF(B$9:B1175,B1176)+1,1))","v":1164},0,0]
["1169","-1900","-1900-1165",null,null,null,null,null,null,null,null,null,null,null,null,null,null,null,null,null,{"$f":"IF(J$2019=1,\"\",IF(T1177=\"\",\"\",RIGHT(VLOOKUP(T1177,Tabelle!$B$5:$C$9,2,FALSE),5)))","v":""},null,null,null,null,null,null,null,{"$f":"IF(B1177=\"\",0,IF(B1177=B1176,COUNTIF(B$9:B1176,B1177)+1,1))","v":1165},0,0]
["1170","-1900","-1900-1166",null,null,null,null,null,null,null,null,null,null,null,null,null,null,null,null,null,{"$f":"IF(J$2019=1,\"\",IF(T1178=\"\",\"\",RIGHT(VLOOKUP(T1178,Tabelle!$B$5:$C$9,2,FALSE),5)))","v":""},null,null,null,null,null,null,null,{"$f":"IF(B1178=\"\",0,IF(B1178=B1177,COUNTIF(B$9:B1177,B1178)+1,1))","v":1166},0,0]
["1171","-1900","-1900-1167",null,null,null,null,null,null,null,null,null,null,null,null,null,null,null,null,null,{"$f":"IF(J$2019=1,\"\",IF(T1179=\"\",\"\",RIGHT(VLOOKUP(T1179,Tabelle!$B$5:$C$9,2,FALSE),5)))","v":""},null,null,null,null,null,null,null,{"$f":"IF(B1179=\"\",0,IF(B1179=B1178,COUNTIF(B$9:B1178,B1179)+1,1))","v":1167},0,0]
["1172","-1900","-1900-1168",null,null,null,null,null,null,null,null,null,null,null,null,null,null,null,null,null,{"$f":"IF(J$2019=1,\"\",IF(T1180=\"\",\"\",RIGHT(VLOOKUP(T1180,Tabelle!$B$5:$C$9,2,FALSE),5)))","v":""},null,null,null,null,null,null,null,{"$f":"IF(B1180=\"\",0,IF(B1180=B1179,COUNTIF(B$9:B1179,B1180)+1,1))","v":1168},0,0]
["1173","-1900","-1900-1169",null,null,null,null,null,null,null,null,null,null,null,null,null,null,null,null,null,{"$f":"IF(J$2019=1,\"\",IF(T1181=\"\",\"\",RIGHT(VLOOKUP(T1181,Tabelle!$B$5:$C$9,2,FALSE),5)))","v":""},null,null,null,null,null,null,null,{"$f":"IF(B1181=\"\",0,IF(B1181=B1180,COUNTIF(B$9:B1180,B1181)+1,1))","v":1169},0,0]
["1174","-1900","-1900-1170",null,null,null,null,null,null,null,null,null,null,null,null,null,null,null,null,null,{"$f":"IF(J$2019=1,\"\",IF(T1182=\"\",\"\",RIGHT(VLOOKUP(T1182,Tabelle!$B$5:$C$9,2,FALSE),5)))","v":""},null,null,null,null,null,null,null,{"$f":"IF(B1182=\"\",0,IF(B1182=B1181,COUNTIF(B$9:B1181,B1182)+1,1))","v":1170},0,0]
["1175","-1900","-1900-1171",null,null,null,null,null,null,null,null,null,null,null,null,null,null,null,null,null,{"$f":"IF(J$2019=1,\"\",IF(T1183=\"\",\"\",RIGHT(VLOOKUP(T1183,Tabelle!$B$5:$C$9,2,FALSE),5)))","v":""},null,null,null,null,null,null,null,{"$f":"IF(B1183=\"\",0,IF(B1183=B1182,COUNTIF(B$9:B1182,B1183)+1,1))","v":1171},0,0]
["1176","-1900","-1900-1172",null,null,null,null,null,null,null,null,null,null,null,null,null,null,null,null,null,{"$f":"IF(J$2019=1,\"\",IF(T1184=\"\",\"\",RIGHT(VLOOKUP(T1184,Tabelle!$B$5:$C$9,2,FALSE),5)))","v":""},null,null,null,null,null,null,null,{"$f":"IF(B1184=\"\",0,IF(B1184=B1183,COUNTIF(B$9:B1183,B1184)+1,1))","v":1172},0,0]
["1177","-1900","-1900-1173",null,null,null,null,null,null,null,null,null,null,null,null,null,null,null,null,null,{"$f":"IF(J$2019=1,\"\",IF(T1185=\"\",\"\",RIGHT(VLOOKUP(T1185,Tabelle!$B$5:$C$9,2,FALSE),5)))","v":""},null,null,null,null,null,null,null,{"$f":"IF(B1185=\"\",0,IF(B1185=B1184,COUNTIF(B$9:B1184,B1185)+1,1))","v":1173},0,0]
["1178","-1900","-1900-1174",null,null,null,null,null,null,null,null,null,null,null,null,null,null,null,null,null,{"$f":"IF(J$2019=1,\"\",IF(T1186=\"\",\"\",RIGHT(VLOOKUP(T1186,Tabelle!$B$5:$C$9,2,FALSE),5)))","v":""},null,null,null,null,null,null,null,{"$f":"IF(B1186=\"\",0,IF(B1186=B1185,COUNTIF(B$9:B1185,B1186)+1,1))","v":1174},0,0]
["1179","-1900","-1900-1175",null,null,null,null,null,null,null,null,null,null,null,null,null,null,null,null,null,{"$f":"IF(J$2019=1,\"\",IF(T1187=\"\",\"\",RIGHT(VLOOKUP(T1187,Tabelle!$B$5:$C$9,2,FALSE),5)))","v":""},null,null,null,null,null,null,null,{"$f":"IF(B1187=\"\",0,IF(B1187=B1186,COUNTIF(B$9:B1186,B1187)+1,1))","v":1175},0,0]
["1180","-1900","-1900-1176",null,null,null,null,null,null,null,null,null,null,null,null,null,null,null,null,null,{"$f":"IF(J$2019=1,\"\",IF(T1188=\"\",\"\",RIGHT(VLOOKUP(T1188,Tabelle!$B$5:$C$9,2,FALSE),5)))","v":""},null,null,null,null,null,null,null,{"$f":"IF(B1188=\"\",0,IF(B1188=B1187,COUNTIF(B$9:B1187,B1188)+1,1))","v":1176},0,0]
["1181","-1900","-1900-1177",null,null,null,null,null,null,null,null,null,null,null,null,null,null,null,null,null,{"$f":"IF(J$2019=1,\"\",IF(T1189=\"\",\"\",RIGHT(VLOOKUP(T1189,Tabelle!$B$5:$C$9,2,FALSE),5)))","v":""},null,null,null,null,null,null,null,{"$f":"IF(B1189=\"\",0,IF(B1189=B1188,COUNTIF(B$9:B1188,B1189)+1,1))","v":1177},0,0]
["1182","-1900","-1900-1178",null,null,null,null,null,null,null,null,null,null,null,null,null,null,null,null,null,{"$f":"IF(J$2019=1,\"\",IF(T1190=\"\",\"\",RIGHT(VLOOKUP(T1190,Tabelle!$B$5:$C$9,2,FALSE),5)))","v":""},null,null,null,null,null,null,null,{"$f":"IF(B1190=\"\",0,IF(B1190=B1189,COUNTIF(B$9:B1189,B1190)+1,1))","v":1178},0,0]
["1183","-1900","-1900-1179",null,null,null,null,null,null,null,null,null,null,null,null,null,null,null,null,null,{"$f":"IF(J$2019=1,\"\",IF(T1191=\"\",\"\",RIGHT(VLOOKUP(T1191,Tabelle!$B$5:$C$9,2,FALSE),5)))","v":""},null,null,null,null,null,null,null,{"$f":"IF(B1191=\"\",0,IF(B1191=B1190,COUNTIF(B$9:B1190,B1191)+1,1))","v":1179},0,0]
["1184","-1900","-1900-1180",null,null,null,null,null,null,null,null,null,null,null,null,null,null,null,null,null,{"$f":"IF(J$2019=1,\"\",IF(T1192=\"\",\"\",RIGHT(VLOOKUP(T1192,Tabelle!$B$5:$C$9,2,FALSE),5)))","v":""},null,null,null,null,null,null,null,{"$f":"IF(B1192=\"\",0,IF(B1192=B1191,COUNTIF(B$9:B1191,B1192)+1,1))","v":1180},0,0]
["1185","-1900","-1900-1181",null,null,null,null,null,null,null,null,null,null,null,null,null,null,null,null,null,{"$f":"IF(J$2019=1,\"\",IF(T1193=\"\",\"\",RIGHT(VLOOKUP(T1193,Tabelle!$B$5:$C$9,2,FALSE),5)))","v":""},null,null,null,null,null,null,null,{"$f":"IF(B1193=\"\",0,IF(B1193=B1192,COUNTIF(B$9:B1192,B1193)+1,1))","v":1181},0,0]
["1186","-1900","-1900-1182",null,null,null,null,null,null,null,null,null,null,null,null,null,null,null,null,null,{"$f":"IF(J$2019=1,\"\",IF(T1194=\"\",\"\",RIGHT(VLOOKUP(T1194,Tabelle!$B$5:$C$9,2,FALSE),5)))","v":""},null,null,null,null,null,null,null,{"$f":"IF(B1194=\"\",0,IF(B1194=B1193,COUNTIF(B$9:B1193,B1194)+1,1))","v":1182},0,0]
["1187","-1900","-1900-1183",null,null,null,null,null,null,null,null,null,null,null,null,null,null,null,null,null,{"$f":"IF(J$2019=1,\"\",IF(T1195=\"\",\"\",RIGHT(VLOOKUP(T1195,Tabelle!$B$5:$C$9,2,FALSE),5)))","v":""},null,null,null,null,null,null,null,{"$f":"IF(B1195=\"\",0,IF(B1195=B1194,COUNTIF(B$9:B1194,B1195)+1,1))","v":1183},0,0]
["1188","-1900","-1900-1184",null,null,null,null,null,null,null,null,null,null,null,null,null,null,null,null,null,{"$f":"IF(J$2019=1,\"\",IF(T1196=\"\",\"\",RIGHT(VLOOKUP(T1196,Tabelle!$B$5:$C$9,2,FALSE),5)))","v":""},null,null,null,null,null,null,null,{"$f":"IF(B1196=\"\",0,IF(B1196=B1195,COUNTIF(B$9:B1195,B1196)+1,1))","v":1184},0,0]
["1189","-1900","-1900-1185",null,null,null,null,null,null,null,null,null,null,null,null,null,null,null,null,null,{"$f":"IF(J$2019=1,\"\",IF(T1197=\"\",\"\",RIGHT(VLOOKUP(T1197,Tabelle!$B$5:$C$9,2,FALSE),5)))","v":""},null,null,null,null,null,null,null,{"$f":"IF(B1197=\"\",0,IF(B1197=B1196,COUNTIF(B$9:B1196,B1197)+1,1))","v":1185},0,0]
["1190","-1900","-1900-1186",null,null,null,null,null,null,null,null,null,null,null,null,null,null,null,null,null,{"$f":"IF(J$2019=1,\"\",IF(T1198=\"\",\"\",RIGHT(VLOOKUP(T1198,Tabelle!$B$5:$C$9,2,FALSE),5)))","v":""},null,null,null,null,null,null,null,{"$f":"IF(B1198=\"\",0,IF(B1198=B1197,COUNTIF(B$9:B1197,B1198)+1,1))","v":1186},0,0]
["1191","-1900","-1900-1187",null,null,null,null,null,null,null,null,null,null,null,null,null,null,null,null,null,{"$f":"IF(J$2019=1,\"\",IF(T1199=\"\",\"\",RIGHT(VLOOKUP(T1199,Tabelle!$B$5:$C$9,2,FALSE),5)))","v":""},null,null,null,null,null,null,null,{"$f":"IF(B1199=\"\",0,IF(B1199=B1198,COUNTIF(B$9:B1198,B1199)+1,1))","v":1187},0,0]
["1192","-1900","-1900-1188",null,null,null,null,null,null,null,null,null,null,null,null,null,null,null,null,null,{"$f":"IF(J$2019=1,\"\",IF(T1200=\"\",\"\",RIGHT(VLOOKUP(T1200,Tabelle!$B$5:$C$9,2,FALSE),5)))","v":""},null,null,null,null,null,null,null,{"$f":"IF(B1200=\"\",0,IF(B1200=B1199,COUNTIF(B$9:B1199,B1200)+1,1))","v":1188},0,0]
["1193","-1900","-1900-1189",null,null,null,null,null,null,null,null,null,null,null,null,null,null,null,null,null,{"$f":"IF(J$2019=1,\"\",IF(T1201=\"\",\"\",RIGHT(VLOOKUP(T1201,Tabelle!$B$5:$C$9,2,FALSE),5)))","v":""},null,null,null,null,null,null,null,{"$f":"IF(B1201=\"\",0,IF(B1201=B1200,COUNTIF(B$9:B1200,B1201)+1,1))","v":1189},0,0]
["1194","-1900","-1900-1190",null,null,null,null,null,null,null,null,null,null,null,null,null,null,null,null,null,{"$f":"IF(J$2019=1,\"\",IF(T1202=\"\",\"\",RIGHT(VLOOKUP(T1202,Tabelle!$B$5:$C$9,2,FALSE),5)))","v":""},null,null,null,null,null,null,null,{"$f":"IF(B1202=\"\",0,IF(B1202=B1201,COUNTIF(B$9:B1201,B1202)+1,1))","v":1190},0,0]
["1195","-1900","-1900-1191",null,null,null,null,null,null,null,null,null,null,null,null,null,null,null,null,null,{"$f":"IF(J$2019=1,\"\",IF(T1203=\"\",\"\",RIGHT(VLOOKUP(T1203,Tabelle!$B$5:$C$9,2,FALSE),5)))","v":""},null,null,null,null,null,null,null,{"$f":"IF(B1203=\"\",0,IF(B1203=B1202,COUNTIF(B$9:B1202,B1203)+1,1))","v":1191},0,0]
["1196","-1900","-1900-1192",null,null,null,null,null,null,null,null,null,null,null,null,null,null,null,null,null,{"$f":"IF(J$2019=1,\"\",IF(T1204=\"\",\"\",RIGHT(VLOOKUP(T1204,Tabelle!$B$5:$C$9,2,FALSE),5)))","v":""},null,null,null,null,null,null,null,{"$f":"IF(B1204=\"\",0,IF(B1204=B1203,COUNTIF(B$9:B1203,B1204)+1,1))","v":1192},0,0]
["1197","-1900","-1900-1193",null,null,null,null,null,null,null,null,null,null,null,null,null,null,null,null,null,{"$f":"IF(J$2019=1,\"\",IF(T1205=\"\",\"\",RIGHT(VLOOKUP(T1205,Tabelle!$B$5:$C$9,2,FALSE),5)))","v":""},null,null,null,null,null,null,null,{"$f":"IF(B1205=\"\",0,IF(B1205=B1204,COUNTIF(B$9:B1204,B1205)+1,1))","v":1193},0,0]
["1198","-1900","-1900-1194",null,null,null,null,null,null,null,null,null,null,null,null,null,null,null,null,null,{"$f":"IF(J$2019=1,\"\",IF(T1206=\"\",\"\",RIGHT(VLOOKUP(T1206,Tabelle!$B$5:$C$9,2,FALSE),5)))","v":""},null,null,null,null,null,null,null,{"$f":"IF(B1206=\"\",0,IF(B1206=B1205,COUNTIF(B$9:B1205,B1206)+1,1))","v":1194},0,0]
["1199","-1900","-1900-1195",null,null,null,null,null,null,null,null,null,null,null,null,null,null,null,null,null,{"$f":"IF(J$2019=1,\"\",IF(T1207=\"\",\"\",RIGHT(VLOOKUP(T1207,Tabelle!$B$5:$C$9,2,FALSE),5)))","v":""},null,null,null,null,null,null,null,{"$f":"IF(B1207=\"\",0,IF(B1207=B1206,COUNTIF(B$9:B1206,B1207)+1,1))","v":1195},0,0]
["1200","-1900","-1900-1196",null,null,null,null,null,null,null,null,null,null,null,null,null,null,null,null,null,{"$f":"IF(J$2019=1,\"\",IF(T1208=\"\",\"\",RIGHT(VLOOKUP(T1208,Tabelle!$B$5:$C$9,2,FALSE),5)))","v":""},null,null,null,null,null,null,null,{"$f":"IF(B1208=\"\",0,IF(B1208=B1207,COUNTIF(B$9:B1207,B1208)+1,1))","v":1196},0,0]
["1201","-1900","-1900-1197",null,null,null,null,null,null,null,null,null,null,null,null,null,null,null,null,null,{"$f":"IF(J$2019=1,\"\",IF(T1209=\"\",\"\",RIGHT(VLOOKUP(T1209,Tabelle!$B$5:$C$9,2,FALSE),5)))","v":""},null,null,null,null,null,null,null,{"$f":"IF(B1209=\"\",0,IF(B1209=B1208,COUNTIF(B$9:B1208,B1209)+1,1))","v":1197},0,0]
["1202","-1900","-1900-1198",null,null,null,null,null,null,null,null,null,null,null,null,null,null,null,null,null,{"$f":"IF(J$2019=1,\"\",IF(T1210=\"\",\"\",RIGHT(VLOOKUP(T1210,Tabelle!$B$5:$C$9,2,FALSE),5)))","v":""},null,null,null,null,null,null,null,{"$f":"IF(B1210=\"\",0,IF(B1210=B1209,COUNTIF(B$9:B1209,B1210)+1,1))","v":1198},0,0]
["1203","-1900","-1900-1199",null,null,null,null,null,null,null,null,null,null,null,null,null,null,null,null,null,{"$f":"IF(J$2019=1,\"\",IF(T1211=\"\",\"\",RIGHT(VLOOKUP(T1211,Tabelle!$B$5:$C$9,2,FALSE),5)))","v":""},null,null,null,null,null,null,null,{"$f":"IF(B1211=\"\",0,IF(B1211=B1210,COUNTIF(B$9:B1210,B1211)+1,1))","v":1199},0,0]
["1204","-1900","-1900-1200",null,null,null,null,null,null,null,null,null,null,null,null,null,null,null,null,null,{"$f":"IF(J$2019=1,\"\",IF(T1212=\"\",\"\",RIGHT(VLOOKUP(T1212,Tabelle!$B$5:$C$9,2,FALSE),5)))","v":""},null,null,null,null,null,null,null,{"$f":"IF(B1212=\"\",0,IF(B1212=B1211,COUNTIF(B$9:B1211,B1212)+1,1))","v":1200},0,0]
["1205","-1900","-1900-1201",null,null,null,null,null,null,null,null,null,null,null,null,null,null,null,null,null,{"$f":"IF(J$2019=1,\"\",IF(T1213=\"\",\"\",RIGHT(VLOOKUP(T1213,Tabelle!$B$5:$C$9,2,FALSE),5)))","v":""},null,null,null,null,null,null,null,{"$f":"IF(B1213=\"\",0,IF(B1213=B1212,COUNTIF(B$9:B1212,B1213)+1,1))","v":1201},0,0]
["1206","-1900","-1900-1202",null,null,null,null,null,null,null,null,null,null,null,null,null,null,null,null,null,{"$f":"IF(J$2019=1,\"\",IF(T1214=\"\",\"\",RIGHT(VLOOKUP(T1214,Tabelle!$B$5:$C$9,2,FALSE),5)))","v":""},null,null,null,null,null,null,null,{"$f":"IF(B1214=\"\",0,IF(B1214=B1213,COUNTIF(B$9:B1213,B1214)+1,1))","v":1202},0,0]
["1207","-1900","-1900-1203",null,null,null,null,null,null,null,null,null,null,null,null,null,null,null,null,null,{"$f":"IF(J$2019=1,\"\",IF(T1215=\"\",\"\",RIGHT(VLOOKUP(T1215,Tabelle!$B$5:$C$9,2,FALSE),5)))","v":""},null,null,null,null,null,null,null,{"$f":"IF(B1215=\"\",0,IF(B1215=B1214,COUNTIF(B$9:B1214,B1215)+1,1))","v":1203},0,0]
["1208","-1900","-1900-1204",null,null,null,null,null,null,null,null,null,null,null,null,null,null,null,null,null,{"$f":"IF(J$2019=1,\"\",IF(T1216=\"\",\"\",RIGHT(VLOOKUP(T1216,Tabelle!$B$5:$C$9,2,FALSE),5)))","v":""},null,null,null,null,null,null,null,{"$f":"IF(B1216=\"\",0,IF(B1216=B1215,COUNTIF(B$9:B1215,B1216)+1,1))","v":1204},0,0]
["1209","-1900","-1900-1205",null,null,null,null,null,null,null,null,null,null,null,null,null,null,null,null,null,{"$f":"IF(J$2019=1,\"\",IF(T1217=\"\",\"\",RIGHT(VLOOKUP(T1217,Tabelle!$B$5:$C$9,2,FALSE),5)))","v":""},null,null,null,null,null,null,null,{"$f":"IF(B1217=\"\",0,IF(B1217=B1216,COUNTIF(B$9:B1216,B1217)+1,1))","v":1205},0,0]
["1210","-1900","-1900-1206",null,null,null,null,null,null,null,null,null,null,null,null,null,null,null,null,null,{"$f":"IF(J$2019=1,\"\",IF(T1218=\"\",\"\",RIGHT(VLOOKUP(T1218,Tabelle!$B$5:$C$9,2,FALSE),5)))","v":""},null,null,null,null,null,null,null,{"$f":"IF(B1218=\"\",0,IF(B1218=B1217,COUNTIF(B$9:B1217,B1218)+1,1))","v":1206},0,0]
["1211","-1900","-1900-1207",null,null,null,null,null,null,null,null,null,null,null,null,null,null,null,null,null,{"$f":"IF(J$2019=1,\"\",IF(T1219=\"\",\"\",RIGHT(VLOOKUP(T1219,Tabelle!$B$5:$C$9,2,FALSE),5)))","v":""},null,null,null,null,null,null,null,{"$f":"IF(B1219=\"\",0,IF(B1219=B1218,COUNTIF(B$9:B1218,B1219)+1,1))","v":1207},0,0]
["1212","-1900","-1900-1208",null,null,null,null,null,null,null,null,null,null,null,null,null,null,null,null,null,{"$f":"IF(J$2019=1,\"\",IF(T1220=\"\",\"\",RIGHT(VLOOKUP(T1220,Tabelle!$B$5:$C$9,2,FALSE),5)))","v":""},null,null,null,null,null,null,null,{"$f":"IF(B1220=\"\",0,IF(B1220=B1219,COUNTIF(B$9:B1219,B1220)+1,1))","v":1208},0,0]
["1213","-1900","-1900-1209",null,null,null,null,null,null,null,null,null,null,null,null,null,null,null,null,null,{"$f":"IF(J$2019=1,\"\",IF(T1221=\"\",\"\",RIGHT(VLOOKUP(T1221,Tabelle!$B$5:$C$9,2,FALSE),5)))","v":""},null,null,null,null,null,null,null,{"$f":"IF(B1221=\"\",0,IF(B1221=B1220,COUNTIF(B$9:B1220,B1221)+1,1))","v":1209},0,0]
["1214","-1900","-1900-1210",null,null,null,null,null,null,null,null,null,null,null,null,null,null,null,null,null,{"$f":"IF(J$2019=1,\"\",IF(T1222=\"\",\"\",RIGHT(VLOOKUP(T1222,Tabelle!$B$5:$C$9,2,FALSE),5)))","v":""},null,null,null,null,null,null,null,{"$f":"IF(B1222=\"\",0,IF(B1222=B1221,COUNTIF(B$9:B1221,B1222)+1,1))","v":1210},0,0]
["1215","-1900","-1900-1211",null,null,null,null,null,null,null,null,null,null,null,null,null,null,null,null,null,{"$f":"IF(J$2019=1,\"\",IF(T1223=\"\",\"\",RIGHT(VLOOKUP(T1223,Tabelle!$B$5:$C$9,2,FALSE),5)))","v":""},null,null,null,null,null,null,null,{"$f":"IF(B1223=\"\",0,IF(B1223=B1222,COUNTIF(B$9:B1222,B1223)+1,1))","v":1211},0,0]
["1216","-1900","-1900-1212",null,null,null,null,null,null,null,null,null,null,null,null,null,null,null,null,null,{"$f":"IF(J$2019=1,\"\",IF(T1224=\"\",\"\",RIGHT(VLOOKUP(T1224,Tabelle!$B$5:$C$9,2,FALSE),5)))","v":""},null,null,null,null,null,null,null,{"$f":"IF(B1224=\"\",0,IF(B1224=B1223,COUNTIF(B$9:B1223,B1224)+1,1))","v":1212},0,0]
["1217","-1900","-1900-1213",null,null,null,null,null,null,null,null,null,null,null,null,null,null,null,null,null,{"$f":"IF(J$2019=1,\"\",IF(T1225=\"\",\"\",RIGHT(VLOOKUP(T1225,Tabelle!$B$5:$C$9,2,FALSE),5)))","v":""},null,null,null,null,null,null,null,{"$f":"IF(B1225=\"\",0,IF(B1225=B1224,COUNTIF(B$9:B1224,B1225)+1,1))","v":1213},0,0]
["1218",{"$f":"IF(AE1226=$AE$2013,0,IF(J$2019=1,0,D1226&\"-\"&YEAR(E1226)))","v":"-1900"},"-1900-1214",null,null,null,null,null,null,null,null,null,null,null,null,null,null,null,null,null,{"$f":"IF(J$2019=1,\"\",IF(T1226=\"\",\"\",RIGHT(VLOOKUP(T1226,Tabelle!$B$5:$C$9,2,FALSE),5)))","v":""},null,null,null,null,null,null,null,{"$f":"IF(B1226=\"\",0,IF(B1226=B1225,COUNTIF(B$9:B1225,B1226)+1,1))","v":1214},0,{"$f":"IF(E1226>0,IF(OR(MONTH(E1226)<$J$2025,MONTH(E1226)>$J$2026),AE$2013,0),0)","v":0}]
["1219","-1900","-1900-1215",null,null,null,null,null,null,null,null,null,null,null,null,null,null,null,null,null,{"$f":"IF(J$2019=1,\"\",IF(T1227=\"\",\"\",RIGHT(VLOOKUP(T1227,Tabelle!$B$5:$C$9,2,FALSE),5)))","v":""},null,null,null,null,null,null,null,{"$f":"IF(B1227=\"\",0,IF(B1227=B1226,COUNTIF(B$9:B1226,B1227)+1,1))","v":1215},0,0]
["1220","-1900","-1900-1216",null,null,null,null,null,null,null,null,null,null,null,null,null,null,null,null,null,{"$f":"IF(J$2019=1,\"\",IF(T1228=\"\",\"\",RIGHT(VLOOKUP(T1228,Tabelle!$B$5:$C$9,2,FALSE),5)))","v":""},null,null,null,null,null,null,null,{"$f":"IF(B1228=\"\",0,IF(B1228=B1227,COUNTIF(B$9:B1227,B1228)+1,1))","v":1216},0,0]
["1221","-1900","-1900-1217",null,null,null,null,null,null,null,null,null,null,null,null,null,null,null,null,null,{"$f":"IF(J$2019=1,\"\",IF(T1229=\"\",\"\",RIGHT(VLOOKUP(T1229,Tabelle!$B$5:$C$9,2,FALSE),5)))","v":""},null,null,null,null,null,null,null,{"$f":"IF(B1229=\"\",0,IF(B1229=B1228,COUNTIF(B$9:B1228,B1229)+1,1))","v":1217},0,0]
["1222","-1900","-1900-1218",null,null,null,null,null,null,null,null,null,null,null,null,null,null,null,null,null,{"$f":"IF(J$2019=1,\"\",IF(T1230=\"\",\"\",RIGHT(VLOOKUP(T1230,Tabelle!$B$5:$C$9,2,FALSE),5)))","v":""},null,null,null,null,null,null,null,{"$f":"IF(B1230=\"\",0,IF(B1230=B1229,COUNTIF(B$9:B1229,B1230)+1,1))","v":1218},0,0]
["1223","-1900","-1900-1219",null,null,null,null,null,null,null,null,null,null,null,null,null,null,null,null,null,{"$f":"IF(J$2019=1,\"\",IF(T1231=\"\",\"\",RIGHT(VLOOKUP(T1231,Tabelle!$B$5:$C$9,2,FALSE),5)))","v":""},null,null,null,null,null,null,null,{"$f":"IF(B1231=\"\",0,IF(B1231=B1230,COUNTIF(B$9:B1230,B1231)+1,1))","v":1219},0,0]
["1224","-1900","-1900-1220",null,null,null,null,null,null,null,null,null,null,null,null,null,null,null,null,null,{"$f":"IF(J$2019=1,\"\",IF(T1232=\"\",\"\",RIGHT(VLOOKUP(T1232,Tabelle!$B$5:$C$9,2,FALSE),5)))","v":""},null,null,null,null,null,null,null,{"$f":"IF(B1232=\"\",0,IF(B1232=B1231,COUNTIF(B$9:B1231,B1232)+1,1))","v":1220},0,0]
["1225","-1900","-1900-1221",null,null,null,null,null,null,null,null,null,null,null,null,null,null,null,null,null,{"$f":"IF(J$2019=1,\"\",IF(T1233=\"\",\"\",RIGHT(VLOOKUP(T1233,Tabelle!$B$5:$C$9,2,FALSE),5)))","v":""},null,null,null,null,null,null,null,{"$f":"IF(B1233=\"\",0,IF(B1233=B1232,COUNTIF(B$9:B1232,B1233)+1,1))","v":1221},0,0]
["1226","-1900","-1900-1222",null,null,null,null,null,null,null,null,null,null,null,null,null,null,null,null,null,{"$f":"IF(J$2019=1,\"\",IF(T1234=\"\",\"\",RIGHT(VLOOKUP(T1234,Tabelle!$B$5:$C$9,2,FALSE),5)))","v":""},null,null,null,null,null,null,null,{"$f":"IF(B1234=\"\",0,IF(B1234=B1233,COUNTIF(B$9:B1233,B1234)+1,1))","v":1222},0,0]
["1227","-1900","-1900-1223",null,null,null,null,null,null,null,null,null,null,null,null,null,null,null,null,null,{"$f":"IF(J$2019=1,\"\",IF(T1235=\"\",\"\",RIGHT(VLOOKUP(T1235,Tabelle!$B$5:$C$9,2,FALSE),5)))","v":""},null,null,null,null,null,null,null,{"$f":"IF(B1235=\"\",0,IF(B1235=B1234,COUNTIF(B$9:B1234,B1235)+1,1))","v":1223},0,0]
["1228","-1900","-1900-1224",null,null,null,null,null,null,null,null,null,null,null,null,null,null,null,null,null,{"$f":"IF(J$2019=1,\"\",IF(T1236=\"\",\"\",RIGHT(VLOOKUP(T1236,Tabelle!$B$5:$C$9,2,FALSE),5)))","v":""},null,null,null,null,null,null,null,{"$f":"IF(B1236=\"\",0,IF(B1236=B1235,COUNTIF(B$9:B1235,B1236)+1,1))","v":1224},0,0]
["1229","-1900","-1900-1225",null,null,null,null,null,null,null,null,null,null,null,null,null,null,null,null,null,{"$f":"IF(J$2019=1,\"\",IF(T1237=\"\",\"\",RIGHT(VLOOKUP(T1237,Tabelle!$B$5:$C$9,2,FALSE),5)))","v":""},null,null,null,null,null,null,null,{"$f":"IF(B1237=\"\",0,IF(B1237=B1236,COUNTIF(B$9:B1236,B1237)+1,1))","v":1225},{"$f":"IF(OR(D1237=\"\",J$2019=1),0,IF(AC1237=28,1,0))","v":0},0]
["1230","-1900","-1900-1226",null,null,null,null,null,null,null,null,null,null,null,null,null,null,null,null,null,{"$f":"IF(J$2019=1,\"\",IF(T1238=\"\",\"\",RIGHT(VLOOKUP(T1238,Tabelle!$B$5:$C$9,2,FALSE),5)))","v":""},null,null,null,null,null,null,null,{"$f":"IF(B1238=\"\",0,IF(B1238=B1237,COUNTIF(B$9:B1237,B1238)+1,1))","v":1226},0,0]
["1231","-1900",{"$f":"IF(J$2019=1,0,B1239&\"-\"&AC1239)","v":"-1900-1227"},null,null,null,null,null,null,null,null,null,null,null,null,null,null,null,null,null,{"$f":"IF(J$2019=1,\"\",IF(T1239=\"\",\"\",RIGHT(VLOOKUP(T1239,Tabelle!$B$5:$C$9,2,FALSE),5)))","v":""},null,null,null,null,null,null,null,{"$f":"IF(B1239=\"\",0,IF(B1239=B1238,COUNTIF(B$9:B1238,B1239)+1,1))","v":1227},0,0]
["1232","-1900","-1900-1228",null,null,null,null,null,null,null,null,null,null,null,null,null,null,null,null,null,{"$f":"IF(J$2019=1,\"\",IF(T1240=\"\",\"\",RIGHT(VLOOKUP(T1240,Tabelle!$B$5:$C$9,2,FALSE),5)))","v":""},null,null,null,null,null,null,null,{"$f":"IF(B1240=\"\",0,IF(B1240=B1239,COUNTIF(B$9:B1239,B1240)+1,1))","v":1228},0,0]
["1233","-1900","-1900-1229",null,null,null,null,null,null,null,null,null,null,null,null,null,null,null,null,null,{"$f":"IF(J$2019=1,\"\",IF(T1241=\"\",\"\",RIGHT(VLOOKUP(T1241,Tabelle!$B$5:$C$9,2,FALSE),5)))","v":""},null,null,null,null,null,null,null,{"$f":"IF(B1241=\"\",0,IF(B1241=B1240,COUNTIF(B$9:B1240,B1241)+1,1))","v":1229},0,0]
["1234","-1900","-1900-1230",null,null,null,null,null,null,null,null,null,null,null,null,null,null,null,null,null,{"$f":"IF(J$2019=1,\"\",IF(T1242=\"\",\"\",RIGHT(VLOOKUP(T1242,Tabelle!$B$5:$C$9,2,FALSE),5)))","v":""},null,null,null,null,null,null,null,{"$f":"IF(B1242=\"\",0,IF(B1242=B1241,COUNTIF(B$9:B1241,B1242)+1,1))","v":1230},0,0]
["1235","-1900","-1900-1231",null,null,null,null,null,null,null,null,null,null,null,null,null,null,null,null,null,{"$f":"IF(J$2019=1,\"\",IF(T1243=\"\",\"\",RIGHT(VLOOKUP(T1243,Tabelle!$B$5:$C$9,2,FALSE),5)))","v":""},null,null,null,null,null,null,null,{"$f":"IF(B1243=\"\",0,IF(B1243=B1242,COUNTIF(B$9:B1242,B1243)+1,1))","v":1231},0,0]
["1236","-1900","-1900-1232",null,null,null,null,null,null,null,null,null,null,null,null,null,null,null,null,null,{"$f":"IF(J$2019=1,\"\",IF(T1244=\"\",\"\",RIGHT(VLOOKUP(T1244,Tabelle!$B$5:$C$9,2,FALSE),5)))","v":""},null,null,null,null,null,null,null,{"$f":"IF(B1244=\"\",0,IF(B1244=B1243,COUNTIF(B$9:B1243,B1244)+1,1))","v":1232},0,0]
["1237","-1900","-1900-1233",null,null,null,null,null,null,null,null,null,null,null,null,null,null,null,null,null,{"$f":"IF(J$2019=1,\"\",IF(T1245=\"\",\"\",RIGHT(VLOOKUP(T1245,Tabelle!$B$5:$C$9,2,FALSE),5)))","v":""},null,null,null,null,null,null,null,{"$f":"IF(B1245=\"\",0,IF(B1245=B1244,COUNTIF(B$9:B1244,B1245)+1,1))","v":1233},0,0]
["1238","-1900","-1900-1234",null,null,null,null,null,null,null,null,null,null,null,null,null,null,null,null,null,{"$f":"IF(J$2019=1,\"\",IF(T1246=\"\",\"\",RIGHT(VLOOKUP(T1246,Tabelle!$B$5:$C$9,2,FALSE),5)))","v":""},null,null,null,null,null,null,null,{"$f":"IF(B1246=\"\",0,IF(B1246=B1245,COUNTIF(B$9:B1245,B1246)+1,1))","v":1234},0,0]
["1239","-1900","-1900-1235",null,null,null,null,null,null,null,null,null,null,null,null,null,null,null,null,null,{"$f":"IF(J$2019=1,\"\",IF(T1247=\"\",\"\",RIGHT(VLOOKUP(T1247,Tabelle!$B$5:$C$9,2,FALSE),5)))","v":""},null,null,null,null,null,null,null,{"$f":"IF(B1247=\"\",0,IF(B1247=B1246,COUNTIF(B$9:B1246,B1247)+1,1))","v":1235},0,0]
["1240","-1900","-1900-1236",null,null,null,null,null,null,null,null,null,null,null,null,null,null,null,null,null,{"$f":"IF(J$2019=1,\"\",IF(T1248=\"\",\"\",RIGHT(VLOOKUP(T1248,Tabelle!$B$5:$C$9,2,FALSE),5)))","v":""},null,null,null,null,null,null,null,{"$f":"IF(B1248=\"\",0,IF(B1248=B1247,COUNTIF(B$9:B1247,B1248)+1,1))","v":1236},0,0]
["1241","-1900","-1900-1237",null,null,null,null,null,null,null,null,null,null,null,null,null,null,null,null,null,{"$f":"IF(J$2019=1,\"\",IF(T1249=\"\",\"\",RIGHT(VLOOKUP(T1249,Tabelle!$B$5:$C$9,2,FALSE),5)))","v":""},null,null,null,null,null,null,null,{"$f":"IF(B1249=\"\",0,IF(B1249=B1248,COUNTIF(B$9:B1248,B1249)+1,1))","v":1237},0,0]
["1242","-1900","-1900-1238",null,null,null,null,null,null,null,null,null,null,null,null,null,null,null,null,null,{"$f":"IF(J$2019=1,\"\",IF(T1250=\"\",\"\",RIGHT(VLOOKUP(T1250,Tabelle!$B$5:$C$9,2,FALSE),5)))","v":""},null,null,null,null,null,null,null,{"$f":"IF(B1250=\"\",0,IF(B1250=B1249,COUNTIF(B$9:B1249,B1250)+1,1))","v":1238},0,0]
["1243","-1900","-1900-1239",null,null,null,null,null,null,null,null,null,null,null,null,null,null,null,null,null,{"$f":"IF(J$2019=1,\"\",IF(T1251=\"\",\"\",RIGHT(VLOOKUP(T1251,Tabelle!$B$5:$C$9,2,FALSE),5)))","v":""},null,null,null,null,null,null,null,{"$f":"IF(B1251=\"\",0,IF(B1251=B1250,COUNTIF(B$9:B1250,B1251)+1,1))","v":1239},0,0]
["1244","-1900","-1900-1240",null,null,null,null,null,null,null,null,null,null,null,null,null,null,null,null,null,{"$f":"IF(J$2019=1,\"\",IF(T1252=\"\",\"\",RIGHT(VLOOKUP(T1252,Tabelle!$B$5:$C$9,2,FALSE),5)))","v":""},null,null,null,null,null,null,null,{"$f":"IF(B1252=\"\",0,IF(B1252=B1251,COUNTIF(B$9:B1251,B1252)+1,1))","v":1240},0,0]
["1245","-1900","-1900-1241",null,null,null,null,null,null,null,null,null,null,null,null,null,null,null,null,null,{"$f":"IF(J$2019=1,\"\",IF(T1253=\"\",\"\",RIGHT(VLOOKUP(T1253,Tabelle!$B$5:$C$9,2,FALSE),5)))","v":""},null,null,null,null,null,null,null,{"$f":"IF(B1253=\"\",0,IF(B1253=B1252,COUNTIF(B$9:B1252,B1253)+1,1))","v":1241},0,0]
["1246","-1900","-1900-1242",null,null,null,null,null,null,null,null,null,null,null,null,null,null,null,null,null,{"$f":"IF(J$2019=1,\"\",IF(T1254=\"\",\"\",RIGHT(VLOOKUP(T1254,Tabelle!$B$5:$C$9,2,FALSE),5)))","v":""},null,null,null,null,null,null,null,{"$f":"IF(B1254=\"\",0,IF(B1254=B1253,COUNTIF(B$9:B1253,B1254)+1,1))","v":1242},0,0]
["1247","-1900","-1900-1243",null,null,null,null,null,null,null,null,null,null,null,null,null,null,null,null,null,{"$f":"IF(J$2019=1,\"\",IF(T1255=\"\",\"\",RIGHT(VLOOKUP(T1255,Tabelle!$B$5:$C$9,2,FALSE),5)))","v":""},null,null,null,null,null,null,null,{"$f":"IF(B1255=\"\",0,IF(B1255=B1254,COUNTIF(B$9:B1254,B1255)+1,1))","v":1243},0,0]
["1248","-1900","-1900-1244",null,null,null,null,null,null,null,null,null,null,null,null,null,null,null,null,null,{"$f":"IF(J$2019=1,\"\",IF(T1256=\"\",\"\",RIGHT(VLOOKUP(T1256,Tabelle!$B$5:$C$9,2,FALSE),5)))","v":""},null,null,null,null,null,null,null,{"$f":"IF(B1256=\"\",0,IF(B1256=B1255,COUNTIF(B$9:B1255,B1256)+1,1))","v":1244},0,0]
["1249","-1900","-1900-1245",null,null,null,null,null,null,null,null,null,null,null,null,null,null,null,null,null,{"$f":"IF(J$2019=1,\"\",IF(T1257=\"\",\"\",RIGHT(VLOOKUP(T1257,Tabelle!$B$5:$C$9,2,FALSE),5)))","v":""},null,null,null,null,null,null,null,{"$f":"IF(B1257=\"\",0,IF(B1257=B1256,COUNTIF(B$9:B1256,B1257)+1,1))","v":1245},0,0]
["1250","-1900","-1900-1246",null,null,null,null,null,null,null,null,null,null,null,null,null,null,null,null,null,{"$f":"IF(J$2019=1,\"\",IF(T1258=\"\",\"\",RIGHT(VLOOKUP(T1258,Tabelle!$B$5:$C$9,2,FALSE),5)))","v":""},null,null,null,null,null,null,null,{"$f":"IF(B1258=\"\",0,IF(B1258=B1257,COUNTIF(B$9:B1257,B1258)+1,1))","v":1246},0,0]
["1251","-1900","-1900-1247",null,null,null,null,null,null,null,null,null,null,null,null,null,null,null,null,null,{"$f":"IF(J$2019=1,\"\",IF(T1259=\"\",\"\",RIGHT(VLOOKUP(T1259,Tabelle!$B$5:$C$9,2,FALSE),5)))","v":""},null,null,null,null,null,null,null,{"$f":"IF(B1259=\"\",0,IF(B1259=B1258,COUNTIF(B$9:B1258,B1259)+1,1))","v":1247},0,0]
["1252","-1900","-1900-1248",null,null,null,null,null,null,null,null,null,null,null,null,null,null,null,null,null,{"$f":"IF(J$2019=1,\"\",IF(T1260=\"\",\"\",RIGHT(VLOOKUP(T1260,Tabelle!$B$5:$C$9,2,FALSE),5)))","v":""},null,null,null,null,null,null,null,{"$f":"IF(B1260=\"\",0,IF(B1260=B1259,COUNTIF(B$9:B1259,B1260)+1,1))","v":1248},0,0]
["1253","-1900","-1900-1249",null,null,null,null,null,null,null,null,null,null,null,null,null,null,null,null,null,{"$f":"IF(J$2019=1,\"\",IF(T1261=\"\",\"\",RIGHT(VLOOKUP(T1261,Tabelle!$B$5:$C$9,2,FALSE),5)))","v":""},null,null,null,null,null,null,null,{"$f":"IF(B1261=\"\",0,IF(B1261=B1260,COUNTIF(B$9:B1260,B1261)+1,1))","v":1249},0,0]
["1254","-1900","-1900-1250",null,null,null,null,null,null,null,null,null,null,null,null,null,null,null,null,null,{"$f":"IF(J$2019=1,\"\",IF(T1262=\"\",\"\",RIGHT(VLOOKUP(T1262,Tabelle!$B$5:$C$9,2,FALSE),5)))","v":""},null,null,null,null,null,null,null,{"$f":"IF(B1262=\"\",0,IF(B1262=B1261,COUNTIF(B$9:B1261,B1262)+1,1))","v":1250},0,0]
["1255","-1900","-1900-1251",null,null,null,null,null,null,null,null,null,null,null,null,null,null,null,null,null,{"$f":"IF(J$2019=1,\"\",IF(T1263=\"\",\"\",RIGHT(VLOOKUP(T1263,Tabelle!$B$5:$C$9,2,FALSE),5)))","v":""},null,null,null,null,null,null,null,{"$f":"IF(B1263=\"\",0,IF(B1263=B1262,COUNTIF(B$9:B1262,B1263)+1,1))","v":1251},0,0]
["1256","-1900","-1900-1252",null,null,null,null,null,null,null,null,null,null,null,null,null,null,null,null,null,{"$f":"IF(J$2019=1,\"\",IF(T1264=\"\",\"\",RIGHT(VLOOKUP(T1264,Tabelle!$B$5:$C$9,2,FALSE),5)))","v":""},null,null,null,null,null,null,null,{"$f":"IF(B1264=\"\",0,IF(B1264=B1263,COUNTIF(B$9:B1263,B1264)+1,1))","v":1252},0,0]
["1257","-1900","-1900-1253",null,null,null,null,null,null,null,null,null,null,null,null,null,null,null,null,null,{"$f":"IF(J$2019=1,\"\",IF(T1265=\"\",\"\",RIGHT(VLOOKUP(T1265,Tabelle!$B$5:$C$9,2,FALSE),5)))","v":""},null,null,null,null,null,null,null,{"$f":"IF(B1265=\"\",0,IF(B1265=B1264,COUNTIF(B$9:B1264,B1265)+1,1))","v":1253},0,0]
["1258","-1900","-1900-1254",null,null,null,null,null,null,null,null,null,null,null,null,null,null,null,null,null,{"$f":"IF(J$2019=1,\"\",IF(T1266=\"\",\"\",RIGHT(VLOOKUP(T1266,Tabelle!$B$5:$C$9,2,FALSE),5)))","v":""},null,null,null,null,null,null,null,{"$f":"IF(B1266=\"\",0,IF(B1266=B1265,COUNTIF(B$9:B1265,B1266)+1,1))","v":1254},0,0]
["1259","-1900","-1900-1255",null,null,null,null,null,null,null,null,null,null,null,null,null,null,null,null,null,{"$f":"IF(J$2019=1,\"\",IF(T1267=\"\",\"\",RIGHT(VLOOKUP(T1267,Tabelle!$B$5:$C$9,2,FALSE),5)))","v":""},null,null,null,null,null,null,null,{"$f":"IF(B1267=\"\",0,IF(B1267=B1266,COUNTIF(B$9:B1266,B1267)+1,1))","v":1255},0,0]
["1260","-1900","-1900-1256",null,null,null,null,null,null,null,null,null,null,null,null,null,null,null,null,null,{"$f":"IF(J$2019=1,\"\",IF(T1268=\"\",\"\",RIGHT(VLOOKUP(T1268,Tabelle!$B$5:$C$9,2,FALSE),5)))","v":""},null,null,null,null,null,null,null,{"$f":"IF(B1268=\"\",0,IF(B1268=B1267,COUNTIF(B$9:B1267,B1268)+1,1))","v":1256},0,0]
["1261","-1900","-1900-1257",null,null,null,null,null,null,null,null,null,null,null,null,null,null,null,null,null,{"$f":"IF(J$2019=1,\"\",IF(T1269=\"\",\"\",RIGHT(VLOOKUP(T1269,Tabelle!$B$5:$C$9,2,FALSE),5)))","v":""},null,null,null,null,null,null,null,{"$f":"IF(B1269=\"\",0,IF(B1269=B1268,COUNTIF(B$9:B1268,B1269)+1,1))","v":1257},0,0]
["1262","-1900","-1900-1258",null,null,null,null,null,null,null,null,null,null,null,null,null,null,null,null,null,{"$f":"IF(J$2019=1,\"\",IF(T1270=\"\",\"\",RIGHT(VLOOKUP(T1270,Tabelle!$B$5:$C$9,2,FALSE),5)))","v":""},null,null,null,null,null,null,null,{"$f":"IF(B1270=\"\",0,IF(B1270=B1269,COUNTIF(B$9:B1269,B1270)+1,1))","v":1258},0,0]
["1263","-1900","-1900-1259",null,null,null,null,null,null,null,null,null,null,null,null,null,null,null,null,null,{"$f":"IF(J$2019=1,\"\",IF(T1271=\"\",\"\",RIGHT(VLOOKUP(T1271,Tabelle!$B$5:$C$9,2,FALSE),5)))","v":""},null,null,null,null,null,null,null,{"$f":"IF(B1271=\"\",0,IF(B1271=B1270,COUNTIF(B$9:B1270,B1271)+1,1))","v":1259},0,0]
["1264","-1900","-1900-1260",null,null,null,null,null,null,null,null,null,null,null,null,null,null,null,null,null,{"$f":"IF(J$2019=1,\"\",IF(T1272=\"\",\"\",RIGHT(VLOOKUP(T1272,Tabelle!$B$5:$C$9,2,FALSE),5)))","v":""},null,null,null,null,null,null,null,{"$f":"IF(B1272=\"\",0,IF(B1272=B1271,COUNTIF(B$9:B1271,B1272)+1,1))","v":1260},0,0]
["1265","-1900","-1900-1261",null,null,null,null,null,null,null,null,null,null,null,null,null,null,null,null,null,{"$f":"IF(J$2019=1,\"\",IF(T1273=\"\",\"\",RIGHT(VLOOKUP(T1273,Tabelle!$B$5:$C$9,2,FALSE),5)))","v":""},null,null,null,null,null,null,null,{"$f":"IF(B1273=\"\",0,IF(B1273=B1272,COUNTIF(B$9:B1272,B1273)+1,1))","v":1261},0,0]
["1266","-1900","-1900-1262",null,null,null,null,null,null,null,null,null,null,null,null,null,null,null,null,null,{"$f":"IF(J$2019=1,\"\",IF(T1274=\"\",\"\",RIGHT(VLOOKUP(T1274,Tabelle!$B$5:$C$9,2,FALSE),5)))","v":""},null,null,null,null,null,null,null,{"$f":"IF(B1274=\"\",0,IF(B1274=B1273,COUNTIF(B$9:B1273,B1274)+1,1))","v":1262},0,0]
["1267","-1900","-1900-1263",null,null,null,null,null,null,null,null,null,null,null,null,null,null,null,null,null,{"$f":"IF(J$2019=1,\"\",IF(T1275=\"\",\"\",RIGHT(VLOOKUP(T1275,Tabelle!$B$5:$C$9,2,FALSE),5)))","v":""},null,null,null,null,null,null,null,{"$f":"IF(B1275=\"\",0,IF(B1275=B1274,COUNTIF(B$9:B1274,B1275)+1,1))","v":1263},0,0]
["1268","-1900","-1900-1264",null,null,null,null,null,null,null,null,null,null,null,null,null,null,null,null,null,{"$f":"IF(J$2019=1,\"\",IF(T1276=\"\",\"\",RIGHT(VLOOKUP(T1276,Tabelle!$B$5:$C$9,2,FALSE),5)))","v":""},null,null,null,null,null,null,null,{"$f":"IF(B1276=\"\",0,IF(B1276=B1275,COUNTIF(B$9:B1275,B1276)+1,1))","v":1264},0,0]
["1269","-1900","-1900-1265",null,null,null,null,null,null,null,null,null,null,null,null,null,null,null,null,null,{"$f":"IF(J$2019=1,\"\",IF(T1277=\"\",\"\",RIGHT(VLOOKUP(T1277,Tabelle!$B$5:$C$9,2,FALSE),5)))","v":""},null,null,null,null,null,null,null,{"$f":"IF(B1277=\"\",0,IF(B1277=B1276,COUNTIF(B$9:B1276,B1277)+1,1))","v":1265},0,0]
["1270","-1900","-1900-1266",null,null,null,null,null,null,null,null,null,null,null,null,null,null,null,null,null,{"$f":"IF(J$2019=1,\"\",IF(T1278=\"\",\"\",RIGHT(VLOOKUP(T1278,Tabelle!$B$5:$C$9,2,FALSE),5)))","v":""},null,null,null,null,null,null,null,{"$f":"IF(B1278=\"\",0,IF(B1278=B1277,COUNTIF(B$9:B1277,B1278)+1,1))","v":1266},0,0]
["1271","-1900","-1900-1267",null,null,null,null,null,null,null,null,null,null,null,null,null,null,null,null,null,{"$f":"IF(J$2019=1,\"\",IF(T1279=\"\",\"\",RIGHT(VLOOKUP(T1279,Tabelle!$B$5:$C$9,2,FALSE),5)))","v":""},null,null,null,null,null,null,null,{"$f":"IF(B1279=\"\",0,IF(B1279=B1278,COUNTIF(B$9:B1278,B1279)+1,1))","v":1267},0,0]
["1272","-1900","-1900-1268",null,null,null,null,null,null,null,null,null,null,null,null,null,null,null,null,null,{"$f":"IF(J$2019=1,\"\",IF(T1280=\"\",\"\",RIGHT(VLOOKUP(T1280,Tabelle!$B$5:$C$9,2,FALSE),5)))","v":""},null,null,null,null,null,null,null,{"$f":"IF(B1280=\"\",0,IF(B1280=B1279,COUNTIF(B$9:B1279,B1280)+1,1))","v":1268},0,0]
["1273","-1900","-1900-1269",null,null,null,null,null,null,null,null,null,null,null,null,null,null,null,null,null,{"$f":"IF(J$2019=1,\"\",IF(T1281=\"\",\"\",RIGHT(VLOOKUP(T1281,Tabelle!$B$5:$C$9,2,FALSE),5)))","v":""},null,null,null,null,null,null,null,{"$f":"IF(B1281=\"\",0,IF(B1281=B1280,COUNTIF(B$9:B1280,B1281)+1,1))","v":1269},0,0]
["1274","-1900","-1900-1270",null,null,null,null,null,null,null,null,null,null,null,null,null,null,null,null,null,{"$f":"IF(J$2019=1,\"\",IF(T1282=\"\",\"\",RIGHT(VLOOKUP(T1282,Tabelle!$B$5:$C$9,2,FALSE),5)))","v":""},null,null,null,null,null,null,null,{"$f":"IF(B1282=\"\",0,IF(B1282=B1281,COUNTIF(B$9:B1281,B1282)+1,1))","v":1270},0,0]
["1275","-1900","-1900-1271",null,null,null,null,null,null,null,null,null,null,null,null,null,null,null,null,null,{"$f":"IF(J$2019=1,\"\",IF(T1283=\"\",\"\",RIGHT(VLOOKUP(T1283,Tabelle!$B$5:$C$9,2,FALSE),5)))","v":""},null,null,null,null,null,null,null,{"$f":"IF(B1283=\"\",0,IF(B1283=B1282,COUNTIF(B$9:B1282,B1283)+1,1))","v":1271},0,0]
["1276","-1900","-1900-1272",null,null,null,null,null,null,null,null,null,null,null,null,null,null,null,null,null,{"$f":"IF(J$2019=1,\"\",IF(T1284=\"\",\"\",RIGHT(VLOOKUP(T1284,Tabelle!$B$5:$C$9,2,FALSE),5)))","v":""},null,null,null,null,null,null,null,{"$f":"IF(B1284=\"\",0,IF(B1284=B1283,COUNTIF(B$9:B1283,B1284)+1,1))","v":1272},0,0]
["1277","-1900","-1900-1273",null,null,null,null,null,null,null,null,null,null,null,null,null,null,null,null,null,{"$f":"IF(J$2019=1,\"\",IF(T1285=\"\",\"\",RIGHT(VLOOKUP(T1285,Tabelle!$B$5:$C$9,2,FALSE),5)))","v":""},null,null,null,null,null,null,null,{"$f":"IF(B1285=\"\",0,IF(B1285=B1284,COUNTIF(B$9:B1284,B1285)+1,1))","v":1273},0,0]
["1278","-1900","-1900-1274",null,null,null,null,null,null,null,null,null,null,null,null,null,null,null,null,null,{"$f":"IF(J$2019=1,\"\",IF(T1286=\"\",\"\",RIGHT(VLOOKUP(T1286,Tabelle!$B$5:$C$9,2,FALSE),5)))","v":""},null,null,null,null,null,null,null,{"$f":"IF(B1286=\"\",0,IF(B1286=B1285,COUNTIF(B$9:B1285,B1286)+1,1))","v":1274},0,0]
["1279","-1900","-1900-1275",null,null,null,null,null,null,null,null,null,null,null,null,null,null,null,null,null,{"$f":"IF(J$2019=1,\"\",IF(T1287=\"\",\"\",RIGHT(VLOOKUP(T1287,Tabelle!$B$5:$C$9,2,FALSE),5)))","v":""},null,null,null,null,null,null,null,{"$f":"IF(B1287=\"\",0,IF(B1287=B1286,COUNTIF(B$9:B1286,B1287)+1,1))","v":1275},0,0]
["1280","-1900","-1900-1276",null,null,null,null,null,null,null,null,null,null,null,null,null,null,null,null,null,{"$f":"IF(J$2019=1,\"\",IF(T1288=\"\",\"\",RIGHT(VLOOKUP(T1288,Tabelle!$B$5:$C$9,2,FALSE),5)))","v":""},null,null,null,null,null,null,null,{"$f":"IF(B1288=\"\",0,IF(B1288=B1287,COUNTIF(B$9:B1287,B1288)+1,1))","v":1276},0,0]
["1281","-1900","-1900-1277",null,null,null,null,null,null,null,null,null,null,null,null,null,null,null,null,null,{"$f":"IF(J$2019=1,\"\",IF(T1289=\"\",\"\",RIGHT(VLOOKUP(T1289,Tabelle!$B$5:$C$9,2,FALSE),5)))","v":""},null,null,null,null,null,null,null,{"$f":"IF(B1289=\"\",0,IF(B1289=B1288,COUNTIF(B$9:B1288,B1289)+1,1))","v":1277},0,0]
["1282",{"$f":"IF(AE1290=$AE$2013,0,IF(J$2019=1,0,D1290&\"-\"&YEAR(E1290)))","v":"-1900"},"-1900-1278",null,null,null,null,null,null,null,null,null,null,null,null,null,null,null,null,null,{"$f":"IF(J$2019=1,\"\",IF(T1290=\"\",\"\",RIGHT(VLOOKUP(T1290,Tabelle!$B$5:$C$9,2,FALSE),5)))","v":""},null,null,null,null,null,null,null,{"$f":"IF(B1290=\"\",0,IF(B1290=B1289,COUNTIF(B$9:B1289,B1290)+1,1))","v":1278},0,{"$f":"IF(E1290>0,IF(OR(MONTH(E1290)<$J$2025,MONTH(E1290)>$J$2026),AE$2013,0),0)","v":0}]
["1283","-1900","-1900-1279",null,null,null,null,null,null,null,null,null,null,null,null,null,null,null,null,null,{"$f":"IF(J$2019=1,\"\",IF(T1291=\"\",\"\",RIGHT(VLOOKUP(T1291,Tabelle!$B$5:$C$9,2,FALSE),5)))","v":""},null,null,null,null,null,null,null,{"$f":"IF(B1291=\"\",0,IF(B1291=B1290,COUNTIF(B$9:B1290,B1291)+1,1))","v":1279},0,0]
["1284","-1900","-1900-1280",null,null,null,null,null,null,null,null,null,null,null,null,null,null,null,null,null,{"$f":"IF(J$2019=1,\"\",IF(T1292=\"\",\"\",RIGHT(VLOOKUP(T1292,Tabelle!$B$5:$C$9,2,FALSE),5)))","v":""},null,null,null,null,null,null,null,{"$f":"IF(B1292=\"\",0,IF(B1292=B1291,COUNTIF(B$9:B1291,B1292)+1,1))","v":1280},0,0]
["1285","-1900","-1900-1281",null,null,null,null,null,null,null,null,null,null,null,null,null,null,null,null,null,{"$f":"IF(J$2019=1,\"\",IF(T1293=\"\",\"\",RIGHT(VLOOKUP(T1293,Tabelle!$B$5:$C$9,2,FALSE),5)))","v":""},null,null,null,null,null,null,null,{"$f":"IF(B1293=\"\",0,IF(B1293=B1292,COUNTIF(B$9:B1292,B1293)+1,1))","v":1281},0,0]
["1286","-1900","-1900-1282",null,null,null,null,null,null,null,null,null,null,null,null,null,null,null,null,null,{"$f":"IF(J$2019=1,\"\",IF(T1294=\"\",\"\",RIGHT(VLOOKUP(T1294,Tabelle!$B$5:$C$9,2,FALSE),5)))","v":""},null,null,null,null,null,null,null,{"$f":"IF(B1294=\"\",0,IF(B1294=B1293,COUNTIF(B$9:B1293,B1294)+1,1))","v":1282},0,0]
["1287","-1900","-1900-1283",null,null,null,null,null,null,null,null,null,null,null,null,null,null,null,null,null,{"$f":"IF(J$2019=1,\"\",IF(T1295=\"\",\"\",RIGHT(VLOOKUP(T1295,Tabelle!$B$5:$C$9,2,FALSE),5)))","v":""},null,null,null,null,null,null,null,{"$f":"IF(B1295=\"\",0,IF(B1295=B1294,COUNTIF(B$9:B1294,B1295)+1,1))","v":1283},0,0]
["1288","-1900","-1900-1284",null,null,null,null,null,null,null,null,null,null,null,null,null,null,null,null,null,{"$f":"IF(J$2019=1,\"\",IF(T1296=\"\",\"\",RIGHT(VLOOKUP(T1296,Tabelle!$B$5:$C$9,2,FALSE),5)))","v":""},null,null,null,null,null,null,null,{"$f":"IF(B1296=\"\",0,IF(B1296=B1295,COUNTIF(B$9:B1295,B1296)+1,1))","v":1284},0,0]
["1289","-1900","-1900-1285",null,null,null,null,null,null,null,null,null,null,null,null,null,null,null,null,null,{"$f":"IF(J$2019=1,\"\",IF(T1297=\"\",\"\",RIGHT(VLOOKUP(T1297,Tabelle!$B$5:$C$9,2,FALSE),5)))","v":""},null,null,null,null,null,null,null,{"$f":"IF(B1297=\"\",0,IF(B1297=B1296,COUNTIF(B$9:B1296,B1297)+1,1))","v":1285},0,0]
["1290","-1900","-1900-1286",null,null,null,null,null,null,null,null,null,null,null,null,null,null,null,null,null,{"$f":"IF(J$2019=1,\"\",IF(T1298=\"\",\"\",RIGHT(VLOOKUP(T1298,Tabelle!$B$5:$C$9,2,FALSE),5)))","v":""},null,null,null,null,null,null,null,{"$f":"IF(B1298=\"\",0,IF(B1298=B1297,COUNTIF(B$9:B1297,B1298)+1,1))","v":1286},0,0]
["1291","-1900","-1900-1287",null,null,null,null,null,null,null,null,null,null,null,null,null,null,null,null,null,{"$f":"IF(J$2019=1,\"\",IF(T1299=\"\",\"\",RIGHT(VLOOKUP(T1299,Tabelle!$B$5:$C$9,2,FALSE),5)))","v":""},null,null,null,null,null,null,null,{"$f":"IF(B1299=\"\",0,IF(B1299=B1298,COUNTIF(B$9:B1298,B1299)+1,1))","v":1287},0,0]
["1292","-1900","-1900-1288",null,null,null,null,null,null,null,null,null,null,null,null,null,null,null,null,null,{"$f":"IF(J$2019=1,\"\",IF(T1300=\"\",\"\",RIGHT(VLOOKUP(T1300,Tabelle!$B$5:$C$9,2,FALSE),5)))","v":""},null,null,null,null,null,null,null,{"$f":"IF(B1300=\"\",0,IF(B1300=B1299,COUNTIF(B$9:B1299,B1300)+1,1))","v":1288},0,0]
["1293","-1900","-1900-1289",null,null,null,null,null,null,null,null,null,null,null,null,null,null,null,null,null,{"$f":"IF(J$2019=1,\"\",IF(T1301=\"\",\"\",RIGHT(VLOOKUP(T1301,Tabelle!$B$5:$C$9,2,FALSE),5)))","v":""},null,null,null,null,null,null,null,{"$f":"IF(B1301=\"\",0,IF(B1301=B1300,COUNTIF(B$9:B1300,B1301)+1,1))","v":1289},{"$f":"IF(OR(D1301=\"\",J$2019=1),0,IF(AC1301=28,1,0))","v":0},0]
["1294","-1900","-1900-1290",null,null,null,null,null,null,null,null,null,null,null,null,null,null,null,null,null,{"$f":"IF(J$2019=1,\"\",IF(T1302=\"\",\"\",RIGHT(VLOOKUP(T1302,Tabelle!$B$5:$C$9,2,FALSE),5)))","v":""},null,null,null,null,null,null,null,{"$f":"IF(B1302=\"\",0,IF(B1302=B1301,COUNTIF(B$9:B1301,B1302)+1,1))","v":1290},0,0]
["1295","-1900",{"$f":"IF(J$2019=1,0,B1303&\"-\"&AC1303)","v":"-1900-1291"},null,null,null,null,null,null,null,null,null,null,null,null,null,null,null,null,null,{"$f":"IF(J$2019=1,\"\",IF(T1303=\"\",\"\",RIGHT(VLOOKUP(T1303,Tabelle!$B$5:$C$9,2,FALSE),5)))","v":""},null,null,null,null,null,null,null,{"$f":"IF(B1303=\"\",0,IF(B1303=B1302,COUNTIF(B$9:B1302,B1303)+1,1))","v":1291},0,0]
["1296","-1900","-1900-1292",null,null,null,null,null,null,null,null,null,null,null,null,null,null,null,null,null,{"$f":"IF(J$2019=1,\"\",IF(T1304=\"\",\"\",RIGHT(VLOOKUP(T1304,Tabelle!$B$5:$C$9,2,FALSE),5)))","v":""},null,null,null,null,null,null,null,{"$f":"IF(B1304=\"\",0,IF(B1304=B1303,COUNTIF(B$9:B1303,B1304)+1,1))","v":1292},0,0]
["1297","-1900","-1900-1293",null,null,null,null,null,null,null,null,null,null,null,null,null,null,null,null,null,{"$f":"IF(J$2019=1,\"\",IF(T1305=\"\",\"\",RIGHT(VLOOKUP(T1305,Tabelle!$B$5:$C$9,2,FALSE),5)))","v":""},null,null,null,null,null,null,null,{"$f":"IF(B1305=\"\",0,IF(B1305=B1304,COUNTIF(B$9:B1304,B1305)+1,1))","v":1293},0,0]
["1298","-1900","-1900-1294",null,null,null,null,null,null,null,null,null,null,null,null,null,null,null,null,null,{"$f":"IF(J$2019=1,\"\",IF(T1306=\"\",\"\",RIGHT(VLOOKUP(T1306,Tabelle!$B$5:$C$9,2,FALSE),5)))","v":""},null,null,null,null,null,null,null,{"$f":"IF(B1306=\"\",0,IF(B1306=B1305,COUNTIF(B$9:B1305,B1306)+1,1))","v":1294},0,0]
["1299","-1900","-1900-1295",null,null,null,null,null,null,null,null,null,null,null,null,null,null,null,null,null,{"$f":"IF(J$2019=1,\"\",IF(T1307=\"\",\"\",RIGHT(VLOOKUP(T1307,Tabelle!$B$5:$C$9,2,FALSE),5)))","v":""},null,null,null,null,null,null,null,{"$f":"IF(B1307=\"\",0,IF(B1307=B1306,COUNTIF(B$9:B1306,B1307)+1,1))","v":1295},0,0]
["1300","-1900","-1900-1296",null,null,null,null,null,null,null,null,null,null,null,null,null,null,null,null,null,{"$f":"IF(J$2019=1,\"\",IF(T1308=\"\",\"\",RIGHT(VLOOKUP(T1308,Tabelle!$B$5:$C$9,2,FALSE),5)))","v":""},null,null,null,null,null,null,null,{"$f":"IF(B1308=\"\",0,IF(B1308=B1307,COUNTIF(B$9:B1307,B1308)+1,1))","v":1296},0,0]
["1301","-1900","-1900-1297",null,null,null,null,null,null,null,null,null,null,null,null,null,null,null,null,null,{"$f":"IF(J$2019=1,\"\",IF(T1309=\"\",\"\",RIGHT(VLOOKUP(T1309,Tabelle!$B$5:$C$9,2,FALSE),5)))","v":""},null,null,null,null,null,null,null,{"$f":"IF(B1309=\"\",0,IF(B1309=B1308,COUNTIF(B$9:B1308,B1309)+1,1))","v":1297},0,0]
["1302","-1900","-1900-1298",null,null,null,null,null,null,null,null,null,null,null,null,null,null,null,null,null,{"$f":"IF(J$2019=1,\"\",IF(T1310=\"\",\"\",RIGHT(VLOOKUP(T1310,Tabelle!$B$5:$C$9,2,FALSE),5)))","v":""},null,null,null,null,null,null,null,{"$f":"IF(B1310=\"\",0,IF(B1310=B1309,COUNTIF(B$9:B1309,B1310)+1,1))","v":1298},0,0]
["1303","-1900","-1900-1299",null,null,null,null,null,null,null,null,null,null,null,null,null,null,null,null,null,{"$f":"IF(J$2019=1,\"\",IF(T1311=\"\",\"\",RIGHT(VLOOKUP(T1311,Tabelle!$B$5:$C$9,2,FALSE),5)))","v":""},null,null,null,null,null,null,null,{"$f":"IF(B1311=\"\",0,IF(B1311=B1310,COUNTIF(B$9:B1310,B1311)+1,1))","v":1299},0,0]
["1304","-1900","-1900-1300",null,null,null,null,null,null,null,null,null,null,null,null,null,null,null,null,null,{"$f":"IF(J$2019=1,\"\",IF(T1312=\"\",\"\",RIGHT(VLOOKUP(T1312,Tabelle!$B$5:$C$9,2,FALSE),5)))","v":""},null,null,null,null,null,null,null,{"$f":"IF(B1312=\"\",0,IF(B1312=B1311,COUNTIF(B$9:B1311,B1312)+1,1))","v":1300},0,0]
["1305","-1900","-1900-1301",null,null,null,null,null,null,null,null,null,null,null,null,null,null,null,null,null,{"$f":"IF(J$2019=1,\"\",IF(T1313=\"\",\"\",RIGHT(VLOOKUP(T1313,Tabelle!$B$5:$C$9,2,FALSE),5)))","v":""},null,null,null,null,null,null,null,{"$f":"IF(B1313=\"\",0,IF(B1313=B1312,COUNTIF(B$9:B1312,B1313)+1,1))","v":1301},0,0]
["1306","-1900","-1900-1302",null,null,null,null,null,null,null,null,null,null,null,null,null,null,null,null,null,{"$f":"IF(J$2019=1,\"\",IF(T1314=\"\",\"\",RIGHT(VLOOKUP(T1314,Tabelle!$B$5:$C$9,2,FALSE),5)))","v":""},null,null,null,null,null,null,null,{"$f":"IF(B1314=\"\",0,IF(B1314=B1313,COUNTIF(B$9:B1313,B1314)+1,1))","v":1302},0,0]
["1307","-1900","-1900-1303",null,null,null,null,null,null,null,null,null,null,null,null,null,null,null,null,null,{"$f":"IF(J$2019=1,\"\",IF(T1315=\"\",\"\",RIGHT(VLOOKUP(T1315,Tabelle!$B$5:$C$9,2,FALSE),5)))","v":""},null,null,null,null,null,null,null,{"$f":"IF(B1315=\"\",0,IF(B1315=B1314,COUNTIF(B$9:B1314,B1315)+1,1))","v":1303},0,0]
["1308","-1900","-1900-1304",null,null,null,null,null,null,null,null,null,null,null,null,null,null,null,null,null,{"$f":"IF(J$2019=1,\"\",IF(T1316=\"\",\"\",RIGHT(VLOOKUP(T1316,Tabelle!$B$5:$C$9,2,FALSE),5)))","v":""},null,null,null,null,null,null,null,{"$f":"IF(B1316=\"\",0,IF(B1316=B1315,COUNTIF(B$9:B1315,B1316)+1,1))","v":1304},0,0]
["1309","-1900","-1900-1305",null,null,null,null,null,null,null,null,null,null,null,null,null,null,null,null,null,{"$f":"IF(J$2019=1,\"\",IF(T1317=\"\",\"\",RIGHT(VLOOKUP(T1317,Tabelle!$B$5:$C$9,2,FALSE),5)))","v":""},null,null,null,null,null,null,null,{"$f":"IF(B1317=\"\",0,IF(B1317=B1316,COUNTIF(B$9:B1316,B1317)+1,1))","v":1305},0,0]
["1310","-1900","-1900-1306",null,null,null,null,null,null,null,null,null,null,null,null,null,null,null,null,null,{"$f":"IF(J$2019=1,\"\",IF(T1318=\"\",\"\",RIGHT(VLOOKUP(T1318,Tabelle!$B$5:$C$9,2,FALSE),5)))","v":""},null,null,null,null,null,null,null,{"$f":"IF(B1318=\"\",0,IF(B1318=B1317,COUNTIF(B$9:B1317,B1318)+1,1))","v":1306},0,0]
["1311","-1900","-1900-1307",null,null,null,null,null,null,null,null,null,null,null,null,null,null,null,null,null,{"$f":"IF(J$2019=1,\"\",IF(T1319=\"\",\"\",RIGHT(VLOOKUP(T1319,Tabelle!$B$5:$C$9,2,FALSE),5)))","v":""},null,null,null,null,null,null,null,{"$f":"IF(B1319=\"\",0,IF(B1319=B1318,COUNTIF(B$9:B1318,B1319)+1,1))","v":1307},0,0]
["1312","-1900","-1900-1308",null,null,null,null,null,null,null,null,null,null,null,null,null,null,null,null,null,{"$f":"IF(J$2019=1,\"\",IF(T1320=\"\",\"\",RIGHT(VLOOKUP(T1320,Tabelle!$B$5:$C$9,2,FALSE),5)))","v":""},null,null,null,null,null,null,null,{"$f":"IF(B1320=\"\",0,IF(B1320=B1319,COUNTIF(B$9:B1319,B1320)+1,1))","v":1308},0,0]
["1313","-1900","-1900-1309",null,null,null,null,null,null,null,null,null,null,null,null,null,null,null,null,null,{"$f":"IF(J$2019=1,\"\",IF(T1321=\"\",\"\",RIGHT(VLOOKUP(T1321,Tabelle!$B$5:$C$9,2,FALSE),5)))","v":""},null,null,null,null,null,null,null,{"$f":"IF(B1321=\"\",0,IF(B1321=B1320,COUNTIF(B$9:B1320,B1321)+1,1))","v":1309},0,0]
["1314","-1900","-1900-1310",null,null,null,null,null,null,null,null,null,null,null,null,null,null,null,null,null,{"$f":"IF(J$2019=1,\"\",IF(T1322=\"\",\"\",RIGHT(VLOOKUP(T1322,Tabelle!$B$5:$C$9,2,FALSE),5)))","v":""},null,null,null,null,null,null,null,{"$f":"IF(B1322=\"\",0,IF(B1322=B1321,COUNTIF(B$9:B1321,B1322)+1,1))","v":1310},0,0]
["1315","-1900","-1900-1311",null,null,null,null,null,null,null,null,null,null,null,null,null,null,null,null,null,{"$f":"IF(J$2019=1,\"\",IF(T1323=\"\",\"\",RIGHT(VLOOKUP(T1323,Tabelle!$B$5:$C$9,2,FALSE),5)))","v":""},null,null,null,null,null,null,null,{"$f":"IF(B1323=\"\",0,IF(B1323=B1322,COUNTIF(B$9:B1322,B1323)+1,1))","v":1311},0,0]
["1316","-1900","-1900-1312",null,null,null,null,null,null,null,null,null,null,null,null,null,null,null,null,null,{"$f":"IF(J$2019=1,\"\",IF(T1324=\"\",\"\",RIGHT(VLOOKUP(T1324,Tabelle!$B$5:$C$9,2,FALSE),5)))","v":""},null,null,null,null,null,null,null,{"$f":"IF(B1324=\"\",0,IF(B1324=B1323,COUNTIF(B$9:B1323,B1324)+1,1))","v":1312},0,0]
["1317","-1900","-1900-1313",null,null,null,null,null,null,null,null,null,null,null,null,null,null,null,null,null,{"$f":"IF(J$2019=1,\"\",IF(T1325=\"\",\"\",RIGHT(VLOOKUP(T1325,Tabelle!$B$5:$C$9,2,FALSE),5)))","v":""},null,null,null,null,null,null,null,{"$f":"IF(B1325=\"\",0,IF(B1325=B1324,COUNTIF(B$9:B1324,B1325)+1,1))","v":1313},0,0]
["1318","-1900","-1900-1314",null,null,null,null,null,null,null,null,null,null,null,null,null,null,null,null,null,{"$f":"IF(J$2019=1,\"\",IF(T1326=\"\",\"\",RIGHT(VLOOKUP(T1326,Tabelle!$B$5:$C$9,2,FALSE),5)))","v":""},null,null,null,null,null,null,null,{"$f":"IF(B1326=\"\",0,IF(B1326=B1325,COUNTIF(B$9:B1325,B1326)+1,1))","v":1314},0,0]
["1319","-1900","-1900-1315",null,null,null,null,null,null,null,null,null,null,null,null,null,null,null,null,null,{"$f":"IF(J$2019=1,\"\",IF(T1327=\"\",\"\",RIGHT(VLOOKUP(T1327,Tabelle!$B$5:$C$9,2,FALSE),5)))","v":""},null,null,null,null,null,null,null,{"$f":"IF(B1327=\"\",0,IF(B1327=B1326,COUNTIF(B$9:B1326,B1327)+1,1))","v":1315},0,0]
["1320","-1900","-1900-1316",null,null,null,null,null,null,null,null,null,null,null,null,null,null,null,null,null,{"$f":"IF(J$2019=1,\"\",IF(T1328=\"\",\"\",RIGHT(VLOOKUP(T1328,Tabelle!$B$5:$C$9,2,FALSE),5)))","v":""},null,null,null,null,null,null,null,{"$f":"IF(B1328=\"\",0,IF(B1328=B1327,COUNTIF(B$9:B1327,B1328)+1,1))","v":1316},0,0]
["1321","-1900","-1900-1317",null,null,null,null,null,null,null,null,null,null,null,null,null,null,null,null,null,{"$f":"IF(J$2019=1,\"\",IF(T1329=\"\",\"\",RIGHT(VLOOKUP(T1329,Tabelle!$B$5:$C$9,2,FALSE),5)))","v":""},null,null,null,null,null,null,null,{"$f":"IF(B1329=\"\",0,IF(B1329=B1328,COUNTIF(B$9:B1328,B1329)+1,1))","v":1317},0,0]
["1322","-1900","-1900-1318",null,null,null,null,null,null,null,null,null,null,null,null,null,null,null,null,null,{"$f":"IF(J$2019=1,\"\",IF(T1330=\"\",\"\",RIGHT(VLOOKUP(T1330,Tabelle!$B$5:$C$9,2,FALSE),5)))","v":""},null,null,null,null,null,null,null,{"$f":"IF(B1330=\"\",0,IF(B1330=B1329,COUNTIF(B$9:B1329,B1330)+1,1))","v":1318},0,0]
["1323","-1900","-1900-1319",null,null,null,null,null,null,null,null,null,null,null,null,null,null,null,null,null,{"$f":"IF(J$2019=1,\"\",IF(T1331=\"\",\"\",RIGHT(VLOOKUP(T1331,Tabelle!$B$5:$C$9,2,FALSE),5)))","v":""},null,null,null,null,null,null,null,{"$f":"IF(B1331=\"\",0,IF(B1331=B1330,COUNTIF(B$9:B1330,B1331)+1,1))","v":1319},0,0]
["1324","-1900","-1900-1320",null,null,null,null,null,null,null,null,null,null,null,null,null,null,null,null,null,{"$f":"IF(J$2019=1,\"\",IF(T1332=\"\",\"\",RIGHT(VLOOKUP(T1332,Tabelle!$B$5:$C$9,2,FALSE),5)))","v":""},null,null,null,null,null,null,null,{"$f":"IF(B1332=\"\",0,IF(B1332=B1331,COUNTIF(B$9:B1331,B1332)+1,1))","v":1320},0,0]
["1325","-1900","-1900-1321",null,null,null,null,null,null,null,null,null,null,null,null,null,null,null,null,null,{"$f":"IF(J$2019=1,\"\",IF(T1333=\"\",\"\",RIGHT(VLOOKUP(T1333,Tabelle!$B$5:$C$9,2,FALSE),5)))","v":""},null,null,null,null,null,null,null,{"$f":"IF(B1333=\"\",0,IF(B1333=B1332,COUNTIF(B$9:B1332,B1333)+1,1))","v":1321},0,0]
["1326","-1900","-1900-1322",null,null,null,null,null,null,null,null,null,null,null,null,null,null,null,null,null,{"$f":"IF(J$2019=1,\"\",IF(T1334=\"\",\"\",RIGHT(VLOOKUP(T1334,Tabelle!$B$5:$C$9,2,FALSE),5)))","v":""},null,null,null,null,null,null,null,{"$f":"IF(B1334=\"\",0,IF(B1334=B1333,COUNTIF(B$9:B1333,B1334)+1,1))","v":1322},0,0]
["1327","-1900","-1900-1323",null,null,null,null,null,null,null,null,null,null,null,null,null,null,null,null,null,{"$f":"IF(J$2019=1,\"\",IF(T1335=\"\",\"\",RIGHT(VLOOKUP(T1335,Tabelle!$B$5:$C$9,2,FALSE),5)))","v":""},null,null,null,null,null,null,null,{"$f":"IF(B1335=\"\",0,IF(B1335=B1334,COUNTIF(B$9:B1334,B1335)+1,1))","v":1323},0,0]
["1328","-1900","-1900-1324",null,null,null,null,null,null,null,null,null,null,null,null,null,null,null,null,null,{"$f":"IF(J$2019=1,\"\",IF(T1336=\"\",\"\",RIGHT(VLOOKUP(T1336,Tabelle!$B$5:$C$9,2,FALSE),5)))","v":""},null,null,null,null,null,null,null,{"$f":"IF(B1336=\"\",0,IF(B1336=B1335,COUNTIF(B$9:B1335,B1336)+1,1))","v":1324},0,0]
["1329","-1900","-1900-1325",null,null,null,null,null,null,null,null,null,null,null,null,null,null,null,null,null,{"$f":"IF(J$2019=1,\"\",IF(T1337=\"\",\"\",RIGHT(VLOOKUP(T1337,Tabelle!$B$5:$C$9,2,FALSE),5)))","v":""},null,null,null,null,null,null,null,{"$f":"IF(B1337=\"\",0,IF(B1337=B1336,COUNTIF(B$9:B1336,B1337)+1,1))","v":1325},0,0]
["1330","-1900","-1900-1326",null,null,null,null,null,null,null,null,null,null,null,null,null,null,null,null,null,{"$f":"IF(J$2019=1,\"\",IF(T1338=\"\",\"\",RIGHT(VLOOKUP(T1338,Tabelle!$B$5:$C$9,2,FALSE),5)))","v":""},null,null,null,null,null,null,null,{"$f":"IF(B1338=\"\",0,IF(B1338=B1337,COUNTIF(B$9:B1337,B1338)+1,1))","v":1326},0,0]
["1331","-1900","-1900-1327",null,null,null,null,null,null,null,null,null,null,null,null,null,null,null,null,null,{"$f":"IF(J$2019=1,\"\",IF(T1339=\"\",\"\",RIGHT(VLOOKUP(T1339,Tabelle!$B$5:$C$9,2,FALSE),5)))","v":""},null,null,null,null,null,null,null,{"$f":"IF(B1339=\"\",0,IF(B1339=B1338,COUNTIF(B$9:B1338,B1339)+1,1))","v":1327},0,0]
["1332","-1900","-1900-1328",null,null,null,null,null,null,null,null,null,null,null,null,null,null,null,null,null,{"$f":"IF(J$2019=1,\"\",IF(T1340=\"\",\"\",RIGHT(VLOOKUP(T1340,Tabelle!$B$5:$C$9,2,FALSE),5)))","v":""},null,null,null,null,null,null,null,{"$f":"IF(B1340=\"\",0,IF(B1340=B1339,COUNTIF(B$9:B1339,B1340)+1,1))","v":1328},0,0]
["1333","-1900","-1900-1329",null,null,null,null,null,null,null,null,null,null,null,null,null,null,null,null,null,{"$f":"IF(J$2019=1,\"\",IF(T1341=\"\",\"\",RIGHT(VLOOKUP(T1341,Tabelle!$B$5:$C$9,2,FALSE),5)))","v":""},null,null,null,null,null,null,null,{"$f":"IF(B1341=\"\",0,IF(B1341=B1340,COUNTIF(B$9:B1340,B1341)+1,1))","v":1329},0,0]
["1334","-1900","-1900-1330",null,null,null,null,null,null,null,null,null,null,null,null,null,null,null,null,null,{"$f":"IF(J$2019=1,\"\",IF(T1342=\"\",\"\",RIGHT(VLOOKUP(T1342,Tabelle!$B$5:$C$9,2,FALSE),5)))","v":""},null,null,null,null,null,null,null,{"$f":"IF(B1342=\"\",0,IF(B1342=B1341,COUNTIF(B$9:B1341,B1342)+1,1))","v":1330},0,0]
["1335","-1900","-1900-1331",null,null,null,null,null,null,null,null,null,null,null,null,null,null,null,null,null,{"$f":"IF(J$2019=1,\"\",IF(T1343=\"\",\"\",RIGHT(VLOOKUP(T1343,Tabelle!$B$5:$C$9,2,FALSE),5)))","v":""},null,null,null,null,null,null,null,{"$f":"IF(B1343=\"\",0,IF(B1343=B1342,COUNTIF(B$9:B1342,B1343)+1,1))","v":1331},0,0]
["1336","-1900","-1900-1332",null,null,null,null,null,null,null,null,null,null,null,null,null,null,null,null,null,{"$f":"IF(J$2019=1,\"\",IF(T1344=\"\",\"\",RIGHT(VLOOKUP(T1344,Tabelle!$B$5:$C$9,2,FALSE),5)))","v":""},null,null,null,null,null,null,null,{"$f":"IF(B1344=\"\",0,IF(B1344=B1343,COUNTIF(B$9:B1343,B1344)+1,1))","v":1332},0,0]
["1337","-1900","-1900-1333",null,null,null,null,null,null,null,null,null,null,null,null,null,null,null,null,null,{"$f":"IF(J$2019=1,\"\",IF(T1345=\"\",\"\",RIGHT(VLOOKUP(T1345,Tabelle!$B$5:$C$9,2,FALSE),5)))","v":""},null,null,null,null,null,null,null,{"$f":"IF(B1345=\"\",0,IF(B1345=B1344,COUNTIF(B$9:B1344,B1345)+1,1))","v":1333},0,0]
["1338","-1900","-1900-1334",null,null,null,null,null,null,null,null,null,null,null,null,null,null,null,null,null,{"$f":"IF(J$2019=1,\"\",IF(T1346=\"\",\"\",RIGHT(VLOOKUP(T1346,Tabelle!$B$5:$C$9,2,FALSE),5)))","v":""},null,null,null,null,null,null,null,{"$f":"IF(B1346=\"\",0,IF(B1346=B1345,COUNTIF(B$9:B1345,B1346)+1,1))","v":1334},0,0]
["1339","-1900","-1900-1335",null,null,null,null,null,null,null,null,null,null,null,null,null,null,null,null,null,{"$f":"IF(J$2019=1,\"\",IF(T1347=\"\",\"\",RIGHT(VLOOKUP(T1347,Tabelle!$B$5:$C$9,2,FALSE),5)))","v":""},null,null,null,null,null,null,null,{"$f":"IF(B1347=\"\",0,IF(B1347=B1346,COUNTIF(B$9:B1346,B1347)+1,1))","v":1335},0,0]
["1340","-1900","-1900-1336",null,null,null,null,null,null,null,null,null,null,null,null,null,null,null,null,null,{"$f":"IF(J$2019=1,\"\",IF(T1348=\"\",\"\",RIGHT(VLOOKUP(T1348,Tabelle!$B$5:$C$9,2,FALSE),5)))","v":""},null,null,null,null,null,null,null,{"$f":"IF(B1348=\"\",0,IF(B1348=B1347,COUNTIF(B$9:B1347,B1348)+1,1))","v":1336},0,0]
["1341","-1900","-1900-1337",null,null,null,null,null,null,null,null,null,null,null,null,null,null,null,null,null,{"$f":"IF(J$2019=1,\"\",IF(T1349=\"\",\"\",RIGHT(VLOOKUP(T1349,Tabelle!$B$5:$C$9,2,FALSE),5)))","v":""},null,null,null,null,null,null,null,{"$f":"IF(B1349=\"\",0,IF(B1349=B1348,COUNTIF(B$9:B1348,B1349)+1,1))","v":1337},0,0]
["1342","-1900","-1900-1338",null,null,null,null,null,null,null,null,null,null,null,null,null,null,null,null,null,{"$f":"IF(J$2019=1,\"\",IF(T1350=\"\",\"\",RIGHT(VLOOKUP(T1350,Tabelle!$B$5:$C$9,2,FALSE),5)))","v":""},null,null,null,null,null,null,null,{"$f":"IF(B1350=\"\",0,IF(B1350=B1349,COUNTIF(B$9:B1349,B1350)+1,1))","v":1338},0,0]
["1343","-1900","-1900-1339",null,null,null,null,null,null,null,null,null,null,null,null,null,null,null,null,null,{"$f":"IF(J$2019=1,\"\",IF(T1351=\"\",\"\",RIGHT(VLOOKUP(T1351,Tabelle!$B$5:$C$9,2,FALSE),5)))","v":""},null,null,null,null,null,null,null,{"$f":"IF(B1351=\"\",0,IF(B1351=B1350,COUNTIF(B$9:B1350,B1351)+1,1))","v":1339},0,0]
["1344","-1900","-1900-1340",null,null,null,null,null,null,null,null,null,null,null,null,null,null,null,null,null,{"$f":"IF(J$2019=1,\"\",IF(T1352=\"\",\"\",RIGHT(VLOOKUP(T1352,Tabelle!$B$5:$C$9,2,FALSE),5)))","v":""},null,null,null,null,null,null,null,{"$f":"IF(B1352=\"\",0,IF(B1352=B1351,COUNTIF(B$9:B1351,B1352)+1,1))","v":1340},0,0]
["1345","-1900","-1900-1341",null,null,null,null,null,null,null,null,null,null,null,null,null,null,null,null,null,{"$f":"IF(J$2019=1,\"\",IF(T1353=\"\",\"\",RIGHT(VLOOKUP(T1353,Tabelle!$B$5:$C$9,2,FALSE),5)))","v":""},null,null,null,null,null,null,null,{"$f":"IF(B1353=\"\",0,IF(B1353=B1352,COUNTIF(B$9:B1352,B1353)+1,1))","v":1341},0,0]
["1346",{"$f":"IF(AE1354=$AE$2013,0,IF(J$2019=1,0,D1354&\"-\"&YEAR(E1354)))","v":"-1900"},"-1900-1342",null,null,null,null,null,null,null,null,null,null,null,null,null,null,null,null,null,{"$f":"IF(J$2019=1,\"\",IF(T1354=\"\",\"\",RIGHT(VLOOKUP(T1354,Tabelle!$B$5:$C$9,2,FALSE),5)))","v":""},null,null,null,null,null,null,null,{"$f":"IF(B1354=\"\",0,IF(B1354=B1353,COUNTIF(B$9:B1353,B1354)+1,1))","v":1342},0,{"$f":"IF(E1354>0,IF(OR(MONTH(E1354)<$J$2025,MONTH(E1354)>$J$2026),AE$2013,0),0)","v":0}]
["1347","-1900","-1900-1343",null,null,null,null,null,null,null,null,null,null,null,null,null,null,null,null,null,{"$f":"IF(J$2019=1,\"\",IF(T1355=\"\",\"\",RIGHT(VLOOKUP(T1355,Tabelle!$B$5:$C$9,2,FALSE),5)))","v":""},null,null,null,null,null,null,null,{"$f":"IF(B1355=\"\",0,IF(B1355=B1354,COUNTIF(B$9:B1354,B1355)+1,1))","v":1343},0,0]
["1348","-1900","-1900-1344",null,null,null,null,null,null,null,null,null,null,null,null,null,null,null,null,null,{"$f":"IF(J$2019=1,\"\",IF(T1356=\"\",\"\",RIGHT(VLOOKUP(T1356,Tabelle!$B$5:$C$9,2,FALSE),5)))","v":""},null,null,null,null,null,null,null,{"$f":"IF(B1356=\"\",0,IF(B1356=B1355,COUNTIF(B$9:B1355,B1356)+1,1))","v":1344},0,0]
["1349","-1900","-1900-1345",null,null,null,null,null,null,null,null,null,null,null,null,null,null,null,null,null,{"$f":"IF(J$2019=1,\"\",IF(T1357=\"\",\"\",RIGHT(VLOOKUP(T1357,Tabelle!$B$5:$C$9,2,FALSE),5)))","v":""},null,null,null,null,null,null,null,{"$f":"IF(B1357=\"\",0,IF(B1357=B1356,COUNTIF(B$9:B1356,B1357)+1,1))","v":1345},0,0]
["1350","-1900","-1900-1346",null,null,null,null,null,null,null,null,null,null,null,null,null,null,null,null,null,{"$f":"IF(J$2019=1,\"\",IF(T1358=\"\",\"\",RIGHT(VLOOKUP(T1358,Tabelle!$B$5:$C$9,2,FALSE),5)))","v":""},null,null,null,null,null,null,null,{"$f":"IF(B1358=\"\",0,IF(B1358=B1357,COUNTIF(B$9:B1357,B1358)+1,1))","v":1346},0,0]
["1351","-1900","-1900-1347",null,null,null,null,null,null,null,null,null,null,null,null,null,null,null,null,null,{"$f":"IF(J$2019=1,\"\",IF(T1359=\"\",\"\",RIGHT(VLOOKUP(T1359,Tabelle!$B$5:$C$9,2,FALSE),5)))","v":""},null,null,null,null,null,null,null,{"$f":"IF(B1359=\"\",0,IF(B1359=B1358,COUNTIF(B$9:B1358,B1359)+1,1))","v":1347},0,0]
["1352","-1900","-1900-1348",null,null,null,null,null,null,null,null,null,null,null,null,null,null,null,null,null,{"$f":"IF(J$2019=1,\"\",IF(T1360=\"\",\"\",RIGHT(VLOOKUP(T1360,Tabelle!$B$5:$C$9,2,FALSE),5)))","v":""},null,null,null,null,null,null,null,{"$f":"IF(B1360=\"\",0,IF(B1360=B1359,COUNTIF(B$9:B1359,B1360)+1,1))","v":1348},0,0]
["1353","-1900","-1900-1349",null,null,null,null,null,null,null,null,null,null,null,null,null,null,null,null,null,{"$f":"IF(J$2019=1,\"\",IF(T1361=\"\",\"\",RIGHT(VLOOKUP(T1361,Tabelle!$B$5:$C$9,2,FALSE),5)))","v":""},null,null,null,null,null,null,null,{"$f":"IF(B1361=\"\",0,IF(B1361=B1360,COUNTIF(B$9:B1360,B1361)+1,1))","v":1349},0,0]
["1354","-1900","-1900-1350",null,null,null,null,null,null,null,null,null,null,null,null,null,null,null,null,null,{"$f":"IF(J$2019=1,\"\",IF(T1362=\"\",\"\",RIGHT(VLOOKUP(T1362,Tabelle!$B$5:$C$9,2,FALSE),5)))","v":""},null,null,null,null,null,null,null,{"$f":"IF(B1362=\"\",0,IF(B1362=B1361,COUNTIF(B$9:B1361,B1362)+1,1))","v":1350},0,0]
["1355","-1900","-1900-1351",null,null,null,null,null,null,null,null,null,null,null,null,null,null,null,null,null,{"$f":"IF(J$2019=1,\"\",IF(T1363=\"\",\"\",RIGHT(VLOOKUP(T1363,Tabelle!$B$5:$C$9,2,FALSE),5)))","v":""},null,null,null,null,null,null,null,{"$f":"IF(B1363=\"\",0,IF(B1363=B1362,COUNTIF(B$9:B1362,B1363)+1,1))","v":1351},0,0]
["1356","-1900","-1900-1352",null,null,null,null,null,null,null,null,null,null,null,null,null,null,null,null,null,{"$f":"IF(J$2019=1,\"\",IF(T1364=\"\",\"\",RIGHT(VLOOKUP(T1364,Tabelle!$B$5:$C$9,2,FALSE),5)))","v":""},null,null,null,null,null,null,null,{"$f":"IF(B1364=\"\",0,IF(B1364=B1363,COUNTIF(B$9:B1363,B1364)+1,1))","v":1352},0,0]
["1357","-1900","-1900-1353",null,null,null,null,null,null,null,null,null,null,null,null,null,null,null,null,null,{"$f":"IF(J$2019=1,\"\",IF(T1365=\"\",\"\",RIGHT(VLOOKUP(T1365,Tabelle!$B$5:$C$9,2,FALSE),5)))","v":""},null,null,null,null,null,null,null,{"$f":"IF(B1365=\"\",0,IF(B1365=B1364,COUNTIF(B$9:B1364,B1365)+1,1))","v":1353},{"$f":"IF(OR(D1365=\"\",J$2019=1),0,IF(AC1365=28,1,0))","v":0},0]
["1358","-1900","-1900-1354",null,null,null,null,null,null,null,null,null,null,null,null,null,null,null,null,null,{"$f":"IF(J$2019=1,\"\",IF(T1366=\"\",\"\",RIGHT(VLOOKUP(T1366,Tabelle!$B$5:$C$9,2,FALSE),5)))","v":""},null,null,null,null,null,null,null,{"$f":"IF(B1366=\"\",0,IF(B1366=B1365,COUNTIF(B$9:B1365,B1366)+1,1))","v":1354},0,0]
["1359","-1900",{"$f":"IF(J$2019=1,0,B1367&\"-\"&AC1367)","v":"-1900-1355"},null,null,null,null,null,null,null,null,null,null,null,null,null,null,null,null,null,{"$f":"IF(J$2019=1,\"\",IF(T1367=\"\",\"\",RIGHT(VLOOKUP(T1367,Tabelle!$B$5:$C$9,2,FALSE),5)))","v":""},null,null,null,null,null,null,null,{"$f":"IF(B1367=\"\",0,IF(B1367=B1366,COUNTIF(B$9:B1366,B1367)+1,1))","v":1355},0,0]
["1360","-1900","-1900-1356",null,null,null,null,null,null,null,null,null,null,null,null,null,null,null,null,null,{"$f":"IF(J$2019=1,\"\",IF(T1368=\"\",\"\",RIGHT(VLOOKUP(T1368,Tabelle!$B$5:$C$9,2,FALSE),5)))","v":""},null,null,null,null,null,null,null,{"$f":"IF(B1368=\"\",0,IF(B1368=B1367,COUNTIF(B$9:B1367,B1368)+1,1))","v":1356},0,0]
["1361","-1900","-1900-1357",null,null,null,null,null,null,null,null,null,null,null,null,null,null,null,null,null,{"$f":"IF(J$2019=1,\"\",IF(T1369=\"\",\"\",RIGHT(VLOOKUP(T1369,Tabelle!$B$5:$C$9,2,FALSE),5)))","v":""},null,null,null,null,null,null,null,{"$f":"IF(B1369=\"\",0,IF(B1369=B1368,COUNTIF(B$9:B1368,B1369)+1,1))","v":1357},0,0]
["1362","-1900","-1900-1358",null,null,null,null,null,null,null,null,null,null,null,null,null,null,null,null,null,{"$f":"IF(J$2019=1,\"\",IF(T1370=\"\",\"\",RIGHT(VLOOKUP(T1370,Tabelle!$B$5:$C$9,2,FALSE),5)))","v":""},null,null,null,null,null,null,null,{"$f":"IF(B1370=\"\",0,IF(B1370=B1369,COUNTIF(B$9:B1369,B1370)+1,1))","v":1358},0,0]
["1363","-1900","-1900-1359",null,null,null,null,null,null,null,null,null,null,null,null,null,null,null,null,null,{"$f":"IF(J$2019=1,\"\",IF(T1371=\"\",\"\",RIGHT(VLOOKUP(T1371,Tabelle!$B$5:$C$9,2,FALSE),5)))","v":""},null,null,null,null,null,null,null,{"$f":"IF(B1371=\"\",0,IF(B1371=B1370,COUNTIF(B$9:B1370,B1371)+1,1))","v":1359},0,0]
["1364","-1900","-1900-1360",null,null,null,null,null,null,null,null,null,null,null,null,null,null,null,null,null,{"$f":"IF(J$2019=1,\"\",IF(T1372=\"\",\"\",RIGHT(VLOOKUP(T1372,Tabelle!$B$5:$C$9,2,FALSE),5)))","v":""},null,null,null,null,null,null,null,{"$f":"IF(B1372=\"\",0,IF(B1372=B1371,COUNTIF(B$9:B1371,B1372)+1,1))","v":1360},0,0]
["1365","-1900","-1900-1361",null,null,null,null,null,null,null,null,null,null,null,null,null,null,null,null,null,{"$f":"IF(J$2019=1,\"\",IF(T1373=\"\",\"\",RIGHT(VLOOKUP(T1373,Tabelle!$B$5:$C$9,2,FALSE),5)))","v":""},null,null,null,null,null,null,null,{"$f":"IF(B1373=\"\",0,IF(B1373=B1372,COUNTIF(B$9:B1372,B1373)+1,1))","v":1361},0,0]
["1366","-1900","-1900-1362",null,null,null,null,null,null,null,null,null,null,null,null,null,null,null,null,null,{"$f":"IF(J$2019=1,\"\",IF(T1374=\"\",\"\",RIGHT(VLOOKUP(T1374,Tabelle!$B$5:$C$9,2,FALSE),5)))","v":""},null,null,null,null,null,null,null,{"$f":"IF(B1374=\"\",0,IF(B1374=B1373,COUNTIF(B$9:B1373,B1374)+1,1))","v":1362},0,0]
["1367","-1900","-1900-1363",null,null,null,null,null,null,null,null,null,null,null,null,null,null,null,null,null,{"$f":"IF(J$2019=1,\"\",IF(T1375=\"\",\"\",RIGHT(VLOOKUP(T1375,Tabelle!$B$5:$C$9,2,FALSE),5)))","v":""},null,null,null,null,null,null,null,{"$f":"IF(B1375=\"\",0,IF(B1375=B1374,COUNTIF(B$9:B1374,B1375)+1,1))","v":1363},0,0]
["1368","-1900","-1900-1364",null,null,null,null,null,null,null,null,null,null,null,null,null,null,null,null,null,{"$f":"IF(J$2019=1,\"\",IF(T1376=\"\",\"\",RIGHT(VLOOKUP(T1376,Tabelle!$B$5:$C$9,2,FALSE),5)))","v":""},null,null,null,null,null,null,null,{"$f":"IF(B1376=\"\",0,IF(B1376=B1375,COUNTIF(B$9:B1375,B1376)+1,1))","v":1364},0,0]
["1369","-1900","-1900-1365",null,null,null,null,null,null,null,null,null,null,null,null,null,null,null,null,null,{"$f":"IF(J$2019=1,\"\",IF(T1377=\"\",\"\",RIGHT(VLOOKUP(T1377,Tabelle!$B$5:$C$9,2,FALSE),5)))","v":""},null,null,null,null,null,null,null,{"$f":"IF(B1377=\"\",0,IF(B1377=B1376,COUNTIF(B$9:B1376,B1377)+1,1))","v":1365},0,0]
["1370","-1900","-1900-1366",null,null,null,null,null,null,null,null,null,null,null,null,null,null,null,null,null,{"$f":"IF(J$2019=1,\"\",IF(T1378=\"\",\"\",RIGHT(VLOOKUP(T1378,Tabelle!$B$5:$C$9,2,FALSE),5)))","v":""},null,null,null,null,null,null,null,{"$f":"IF(B1378=\"\",0,IF(B1378=B1377,COUNTIF(B$9:B1377,B1378)+1,1))","v":1366},0,0]
["1371","-1900","-1900-1367",null,null,null,null,null,null,null,null,null,null,null,null,null,null,null,null,null,{"$f":"IF(J$2019=1,\"\",IF(T1379=\"\",\"\",RIGHT(VLOOKUP(T1379,Tabelle!$B$5:$C$9,2,FALSE),5)))","v":""},null,null,null,null,null,null,null,{"$f":"IF(B1379=\"\",0,IF(B1379=B1378,COUNTIF(B$9:B1378,B1379)+1,1))","v":1367},0,0]
["1372","-1900","-1900-1368",null,null,null,null,null,null,null,null,null,null,null,null,null,null,null,null,null,{"$f":"IF(J$2019=1,\"\",IF(T1380=\"\",\"\",RIGHT(VLOOKUP(T1380,Tabelle!$B$5:$C$9,2,FALSE),5)))","v":""},null,null,null,null,null,null,null,{"$f":"IF(B1380=\"\",0,IF(B1380=B1379,COUNTIF(B$9:B1379,B1380)+1,1))","v":1368},0,0]
["1373","-1900","-1900-1369",null,null,null,null,null,null,null,null,null,null,null,null,null,null,null,null,null,{"$f":"IF(J$2019=1,\"\",IF(T1381=\"\",\"\",RIGHT(VLOOKUP(T1381,Tabelle!$B$5:$C$9,2,FALSE),5)))","v":""},null,null,null,null,null,null,null,{"$f":"IF(B1381=\"\",0,IF(B1381=B1380,COUNTIF(B$9:B1380,B1381)+1,1))","v":1369},0,0]
["1374","-1900","-1900-1370",null,null,null,null,null,null,null,null,null,null,null,null,null,null,null,null,null,{"$f":"IF(J$2019=1,\"\",IF(T1382=\"\",\"\",RIGHT(VLOOKUP(T1382,Tabelle!$B$5:$C$9,2,FALSE),5)))","v":""},null,null,null,null,null,null,null,{"$f":"IF(B1382=\"\",0,IF(B1382=B1381,COUNTIF(B$9:B1381,B1382)+1,1))","v":1370},0,0]
["1375","-1900","-1900-1371",null,null,null,null,null,null,null,null,null,null,null,null,null,null,null,null,null,{"$f":"IF(J$2019=1,\"\",IF(T1383=\"\",\"\",RIGHT(VLOOKUP(T1383,Tabelle!$B$5:$C$9,2,FALSE),5)))","v":""},null,null,null,null,null,null,null,{"$f":"IF(B1383=\"\",0,IF(B1383=B1382,COUNTIF(B$9:B1382,B1383)+1,1))","v":1371},0,0]
["1376","-1900","-1900-1372",null,null,null,null,null,null,null,null,null,null,null,null,null,null,null,null,null,{"$f":"IF(J$2019=1,\"\",IF(T1384=\"\",\"\",RIGHT(VLOOKUP(T1384,Tabelle!$B$5:$C$9,2,FALSE),5)))","v":""},null,null,null,null,null,null,null,{"$f":"IF(B1384=\"\",0,IF(B1384=B1383,COUNTIF(B$9:B1383,B1384)+1,1))","v":1372},0,0]
["1377","-1900","-1900-1373",null,null,null,null,null,null,null,null,null,null,null,null,null,null,null,null,null,{"$f":"IF(J$2019=1,\"\",IF(T1385=\"\",\"\",RIGHT(VLOOKUP(T1385,Tabelle!$B$5:$C$9,2,FALSE),5)))","v":""},null,null,null,null,null,null,null,{"$f":"IF(B1385=\"\",0,IF(B1385=B1384,COUNTIF(B$9:B1384,B1385)+1,1))","v":1373},0,0]
["1378","-1900","-1900-1374",null,null,null,null,null,null,null,null,null,null,null,null,null,null,null,null,null,{"$f":"IF(J$2019=1,\"\",IF(T1386=\"\",\"\",RIGHT(VLOOKUP(T1386,Tabelle!$B$5:$C$9,2,FALSE),5)))","v":""},null,null,null,null,null,null,null,{"$f":"IF(B1386=\"\",0,IF(B1386=B1385,COUNTIF(B$9:B1385,B1386)+1,1))","v":1374},0,0]
["1379","-1900","-1900-1375",null,null,null,null,null,null,null,null,null,null,null,null,null,null,null,null,null,{"$f":"IF(J$2019=1,\"\",IF(T1387=\"\",\"\",RIGHT(VLOOKUP(T1387,Tabelle!$B$5:$C$9,2,FALSE),5)))","v":""},null,null,null,null,null,null,null,{"$f":"IF(B1387=\"\",0,IF(B1387=B1386,COUNTIF(B$9:B1386,B1387)+1,1))","v":1375},0,0]
["1380","-1900","-1900-1376",null,null,null,null,null,null,null,null,null,null,null,null,null,null,null,null,null,{"$f":"IF(J$2019=1,\"\",IF(T1388=\"\",\"\",RIGHT(VLOOKUP(T1388,Tabelle!$B$5:$C$9,2,FALSE),5)))","v":""},null,null,null,null,null,null,null,{"$f":"IF(B1388=\"\",0,IF(B1388=B1387,COUNTIF(B$9:B1387,B1388)+1,1))","v":1376},0,0]
["1381","-1900","-1900-1377",null,null,null,null,null,null,null,null,null,null,null,null,null,null,null,null,null,{"$f":"IF(J$2019=1,\"\",IF(T1389=\"\",\"\",RIGHT(VLOOKUP(T1389,Tabelle!$B$5:$C$9,2,FALSE),5)))","v":""},null,null,null,null,null,null,null,{"$f":"IF(B1389=\"\",0,IF(B1389=B1388,COUNTIF(B$9:B1388,B1389)+1,1))","v":1377},0,0]
["1382","-1900","-1900-1378",null,null,null,null,null,null,null,null,null,null,null,null,null,null,null,null,null,{"$f":"IF(J$2019=1,\"\",IF(T1390=\"\",\"\",RIGHT(VLOOKUP(T1390,Tabelle!$B$5:$C$9,2,FALSE),5)))","v":""},null,null,null,null,null,null,null,{"$f":"IF(B1390=\"\",0,IF(B1390=B1389,COUNTIF(B$9:B1389,B1390)+1,1))","v":1378},0,0]
["1383","-1900","-1900-1379",null,null,null,null,null,null,null,null,null,null,null,null,null,null,null,null,null,{"$f":"IF(J$2019=1,\"\",IF(T1391=\"\",\"\",RIGHT(VLOOKUP(T1391,Tabelle!$B$5:$C$9,2,FALSE),5)))","v":""},null,null,null,null,null,null,null,{"$f":"IF(B1391=\"\",0,IF(B1391=B1390,COUNTIF(B$9:B1390,B1391)+1,1))","v":1379},0,0]
["1384","-1900","-1900-1380",null,null,null,null,null,null,null,null,null,null,null,null,null,null,null,null,null,{"$f":"IF(J$2019=1,\"\",IF(T1392=\"\",\"\",RIGHT(VLOOKUP(T1392,Tabelle!$B$5:$C$9,2,FALSE),5)))","v":""},null,null,null,null,null,null,null,{"$f":"IF(B1392=\"\",0,IF(B1392=B1391,COUNTIF(B$9:B1391,B1392)+1,1))","v":1380},0,0]
["1385","-1900","-1900-1381",null,null,null,null,null,null,null,null,null,null,null,null,null,null,null,null,null,{"$f":"IF(J$2019=1,\"\",IF(T1393=\"\",\"\",RIGHT(VLOOKUP(T1393,Tabelle!$B$5:$C$9,2,FALSE),5)))","v":""},null,null,null,null,null,null,null,{"$f":"IF(B1393=\"\",0,IF(B1393=B1392,COUNTIF(B$9:B1392,B1393)+1,1))","v":1381},0,0]
["1386","-1900","-1900-1382",null,null,null,null,null,null,null,null,null,null,null,null,null,null,null,null,null,{"$f":"IF(J$2019=1,\"\",IF(T1394=\"\",\"\",RIGHT(VLOOKUP(T1394,Tabelle!$B$5:$C$9,2,FALSE),5)))","v":""},null,null,null,null,null,null,null,{"$f":"IF(B1394=\"\",0,IF(B1394=B1393,COUNTIF(B$9:B1393,B1394)+1,1))","v":1382},0,0]
["1387","-1900","-1900-1383",null,null,null,null,null,null,null,null,null,null,null,null,null,null,null,null,null,{"$f":"IF(J$2019=1,\"\",IF(T1395=\"\",\"\",RIGHT(VLOOKUP(T1395,Tabelle!$B$5:$C$9,2,FALSE),5)))","v":""},null,null,null,null,null,null,null,{"$f":"IF(B1395=\"\",0,IF(B1395=B1394,COUNTIF(B$9:B1394,B1395)+1,1))","v":1383},0,0]
["1388","-1900","-1900-1384",null,null,null,null,null,null,null,null,null,null,null,null,null,null,null,null,null,{"$f":"IF(J$2019=1,\"\",IF(T1396=\"\",\"\",RIGHT(VLOOKUP(T1396,Tabelle!$B$5:$C$9,2,FALSE),5)))","v":""},null,null,null,null,null,null,null,{"$f":"IF(B1396=\"\",0,IF(B1396=B1395,COUNTIF(B$9:B1395,B1396)+1,1))","v":1384},0,0]
["1389","-1900","-1900-1385",null,null,null,null,null,null,null,null,null,null,null,null,null,null,null,null,null,{"$f":"IF(J$2019=1,\"\",IF(T1397=\"\",\"\",RIGHT(VLOOKUP(T1397,Tabelle!$B$5:$C$9,2,FALSE),5)))","v":""},null,null,null,null,null,null,null,{"$f":"IF(B1397=\"\",0,IF(B1397=B1396,COUNTIF(B$9:B1396,B1397)+1,1))","v":1385},0,0]
["1390","-1900","-1900-1386",null,null,null,null,null,null,null,null,null,null,null,null,null,null,null,null,null,{"$f":"IF(J$2019=1,\"\",IF(T1398=\"\",\"\",RIGHT(VLOOKUP(T1398,Tabelle!$B$5:$C$9,2,FALSE),5)))","v":""},null,null,null,null,null,null,null,{"$f":"IF(B1398=\"\",0,IF(B1398=B1397,COUNTIF(B$9:B1397,B1398)+1,1))","v":1386},0,0]
["1391","-1900","-1900-1387",null,null,null,null,null,null,null,null,null,null,null,null,null,null,null,null,null,{"$f":"IF(J$2019=1,\"\",IF(T1399=\"\",\"\",RIGHT(VLOOKUP(T1399,Tabelle!$B$5:$C$9,2,FALSE),5)))","v":""},null,null,null,null,null,null,null,{"$f":"IF(B1399=\"\",0,IF(B1399=B1398,COUNTIF(B$9:B1398,B1399)+1,1))","v":1387},0,0]
["1392","-1900","-1900-1388",null,null,null,null,null,null,null,null,null,null,null,null,null,null,null,null,null,{"$f":"IF(J$2019=1,\"\",IF(T1400=\"\",\"\",RIGHT(VLOOKUP(T1400,Tabelle!$B$5:$C$9,2,FALSE),5)))","v":""},null,null,null,null,null,null,null,{"$f":"IF(B1400=\"\",0,IF(B1400=B1399,COUNTIF(B$9:B1399,B1400)+1,1))","v":1388},0,0]
["1393","-1900","-1900-1389",null,null,null,null,null,null,null,null,null,null,null,null,null,null,null,null,null,{"$f":"IF(J$2019=1,\"\",IF(T1401=\"\",\"\",RIGHT(VLOOKUP(T1401,Tabelle!$B$5:$C$9,2,FALSE),5)))","v":""},null,null,null,null,null,null,null,{"$f":"IF(B1401=\"\",0,IF(B1401=B1400,COUNTIF(B$9:B1400,B1401)+1,1))","v":1389},0,0]
["1394","-1900","-1900-1390",null,null,null,null,null,null,null,null,null,null,null,null,null,null,null,null,null,{"$f":"IF(J$2019=1,\"\",IF(T1402=\"\",\"\",RIGHT(VLOOKUP(T1402,Tabelle!$B$5:$C$9,2,FALSE),5)))","v":""},null,null,null,null,null,null,null,{"$f":"IF(B1402=\"\",0,IF(B1402=B1401,COUNTIF(B$9:B1401,B1402)+1,1))","v":1390},0,0]
["1395","-1900","-1900-1391",null,null,null,null,null,null,null,null,null,null,null,null,null,null,null,null,null,{"$f":"IF(J$2019=1,\"\",IF(T1403=\"\",\"\",RIGHT(VLOOKUP(T1403,Tabelle!$B$5:$C$9,2,FALSE),5)))","v":""},null,null,null,null,null,null,null,{"$f":"IF(B1403=\"\",0,IF(B1403=B1402,COUNTIF(B$9:B1402,B1403)+1,1))","v":1391},0,0]
["1396","-1900","-1900-1392",null,null,null,null,null,null,null,null,null,null,null,null,null,null,null,null,null,{"$f":"IF(J$2019=1,\"\",IF(T1404=\"\",\"\",RIGHT(VLOOKUP(T1404,Tabelle!$B$5:$C$9,2,FALSE),5)))","v":""},null,null,null,null,null,null,null,{"$f":"IF(B1404=\"\",0,IF(B1404=B1403,COUNTIF(B$9:B1403,B1404)+1,1))","v":1392},0,0]
["1397","-1900","-1900-1393",null,null,null,null,null,null,null,null,null,null,null,null,null,null,null,null,null,{"$f":"IF(J$2019=1,\"\",IF(T1405=\"\",\"\",RIGHT(VLOOKUP(T1405,Tabelle!$B$5:$C$9,2,FALSE),5)))","v":""},null,null,null,null,null,null,null,{"$f":"IF(B1405=\"\",0,IF(B1405=B1404,COUNTIF(B$9:B1404,B1405)+1,1))","v":1393},0,0]
["1398","-1900","-1900-1394",null,null,null,null,null,null,null,null,null,null,null,null,null,null,null,null,null,{"$f":"IF(J$2019=1,\"\",IF(T1406=\"\",\"\",RIGHT(VLOOKUP(T1406,Tabelle!$B$5:$C$9,2,FALSE),5)))","v":""},null,null,null,null,null,null,null,{"$f":"IF(B1406=\"\",0,IF(B1406=B1405,COUNTIF(B$9:B1405,B1406)+1,1))","v":1394},0,0]
["1399","-1900","-1900-1395",null,null,null,null,null,null,null,null,null,null,null,null,null,null,null,null,null,{"$f":"IF(J$2019=1,\"\",IF(T1407=\"\",\"\",RIGHT(VLOOKUP(T1407,Tabelle!$B$5:$C$9,2,FALSE),5)))","v":""},null,null,null,null,null,null,null,{"$f":"IF(B1407=\"\",0,IF(B1407=B1406,COUNTIF(B$9:B1406,B1407)+1,1))","v":1395},0,0]
["1400","-1900","-1900-1396",null,null,null,null,null,null,null,null,null,null,null,null,null,null,null,null,null,{"$f":"IF(J$2019=1,\"\",IF(T1408=\"\",\"\",RIGHT(VLOOKUP(T1408,Tabelle!$B$5:$C$9,2,FALSE),5)))","v":""},null,null,null,null,null,null,null,{"$f":"IF(B1408=\"\",0,IF(B1408=B1407,COUNTIF(B$9:B1407,B1408)+1,1))","v":1396},0,0]
["1401","-1900","-1900-1397",null,null,null,null,null,null,null,null,null,null,null,null,null,null,null,null,null,{"$f":"IF(J$2019=1,\"\",IF(T1409=\"\",\"\",RIGHT(VLOOKUP(T1409,Tabelle!$B$5:$C$9,2,FALSE),5)))","v":""},null,null,null,null,null,null,null,{"$f":"IF(B1409=\"\",0,IF(B1409=B1408,COUNTIF(B$9:B1408,B1409)+1,1))","v":1397},0,0]
["1402","-1900","-1900-1398",null,null,null,null,null,null,null,null,null,null,null,null,null,null,null,null,null,{"$f":"IF(J$2019=1,\"\",IF(T1410=\"\",\"\",RIGHT(VLOOKUP(T1410,Tabelle!$B$5:$C$9,2,FALSE),5)))","v":""},null,null,null,null,null,null,null,{"$f":"IF(B1410=\"\",0,IF(B1410=B1409,COUNTIF(B$9:B1409,B1410)+1,1))","v":1398},0,0]
["1403","-1900","-1900-1399",null,null,null,null,null,null,null,null,null,null,null,null,null,null,null,null,null,{"$f":"IF(J$2019=1,\"\",IF(T1411=\"\",\"\",RIGHT(VLOOKUP(T1411,Tabelle!$B$5:$C$9,2,FALSE),5)))","v":""},null,null,null,null,null,null,null,{"$f":"IF(B1411=\"\",0,IF(B1411=B1410,COUNTIF(B$9:B1410,B1411)+1,1))","v":1399},0,0]
["1404","-1900","-1900-1400",null,null,null,null,null,null,null,null,null,null,null,null,null,null,null,null,null,{"$f":"IF(J$2019=1,\"\",IF(T1412=\"\",\"\",RIGHT(VLOOKUP(T1412,Tabelle!$B$5:$C$9,2,FALSE),5)))","v":""},null,null,null,null,null,null,null,{"$f":"IF(B1412=\"\",0,IF(B1412=B1411,COUNTIF(B$9:B1411,B1412)+1,1))","v":1400},0,0]
["1405","-1900","-1900-1401",null,null,null,null,null,null,null,null,null,null,null,null,null,null,null,null,null,{"$f":"IF(J$2019=1,\"\",IF(T1413=\"\",\"\",RIGHT(VLOOKUP(T1413,Tabelle!$B$5:$C$9,2,FALSE),5)))","v":""},null,null,null,null,null,null,null,{"$f":"IF(B1413=\"\",0,IF(B1413=B1412,COUNTIF(B$9:B1412,B1413)+1,1))","v":1401},0,0]
["1406","-1900","-1900-1402",null,null,null,null,null,null,null,null,null,null,null,null,null,null,null,null,null,{"$f":"IF(J$2019=1,\"\",IF(T1414=\"\",\"\",RIGHT(VLOOKUP(T1414,Tabelle!$B$5:$C$9,2,FALSE),5)))","v":""},null,null,null,null,null,null,null,{"$f":"IF(B1414=\"\",0,IF(B1414=B1413,COUNTIF(B$9:B1413,B1414)+1,1))","v":1402},0,0]
["1407","-1900","-1900-1403",null,null,null,null,null,null,null,null,null,null,null,null,null,null,null,null,null,{"$f":"IF(J$2019=1,\"\",IF(T1415=\"\",\"\",RIGHT(VLOOKUP(T1415,Tabelle!$B$5:$C$9,2,FALSE),5)))","v":""},null,null,null,null,null,null,null,{"$f":"IF(B1415=\"\",0,IF(B1415=B1414,COUNTIF(B$9:B1414,B1415)+1,1))","v":1403},0,0]
["1408","-1900","-1900-1404",null,null,null,null,null,null,null,null,null,null,null,null,null,null,null,null,null,{"$f":"IF(J$2019=1,\"\",IF(T1416=\"\",\"\",RIGHT(VLOOKUP(T1416,Tabelle!$B$5:$C$9,2,FALSE),5)))","v":""},null,null,null,null,null,null,null,{"$f":"IF(B1416=\"\",0,IF(B1416=B1415,COUNTIF(B$9:B1415,B1416)+1,1))","v":1404},0,0]
["1409","-1900","-1900-1405",null,null,null,null,null,null,null,null,null,null,null,null,null,null,null,null,null,{"$f":"IF(J$2019=1,\"\",IF(T1417=\"\",\"\",RIGHT(VLOOKUP(T1417,Tabelle!$B$5:$C$9,2,FALSE),5)))","v":""},null,null,null,null,null,null,null,{"$f":"IF(B1417=\"\",0,IF(B1417=B1416,COUNTIF(B$9:B1416,B1417)+1,1))","v":1405},0,0]
["1410",{"$f":"IF(AE1418=$AE$2013,0,IF(J$2019=1,0,D1418&\"-\"&YEAR(E1418)))","v":"-1900"},"-1900-1406",null,null,null,null,null,null,null,null,null,null,null,null,null,null,null,null,null,{"$f":"IF(J$2019=1,\"\",IF(T1418=\"\",\"\",RIGHT(VLOOKUP(T1418,Tabelle!$B$5:$C$9,2,FALSE),5)))","v":""},null,null,null,null,null,null,null,{"$f":"IF(B1418=\"\",0,IF(B1418=B1417,COUNTIF(B$9:B1417,B1418)+1,1))","v":1406},0,{"$f":"IF(E1418>0,IF(OR(MONTH(E1418)<$J$2025,MONTH(E1418)>$J$2026),AE$2013,0),0)","v":0}]
["1411","-1900","-1900-1407",null,null,null,null,null,null,null,null,null,null,null,null,null,null,null,null,null,{"$f":"IF(J$2019=1,\"\",IF(T1419=\"\",\"\",RIGHT(VLOOKUP(T1419,Tabelle!$B$5:$C$9,2,FALSE),5)))","v":""},null,null,null,null,null,null,null,{"$f":"IF(B1419=\"\",0,IF(B1419=B1418,COUNTIF(B$9:B1418,B1419)+1,1))","v":1407},0,0]
["1412","-1900","-1900-1408",null,null,null,null,null,null,null,null,null,null,null,null,null,null,null,null,null,{"$f":"IF(J$2019=1,\"\",IF(T1420=\"\",\"\",RIGHT(VLOOKUP(T1420,Tabelle!$B$5:$C$9,2,FALSE),5)))","v":""},null,null,null,null,null,null,null,{"$f":"IF(B1420=\"\",0,IF(B1420=B1419,COUNTIF(B$9:B1419,B1420)+1,1))","v":1408},0,0]
["1413","-1900","-1900-1409",null,null,null,null,null,null,null,null,null,null,null,null,null,null,null,null,null,{"$f":"IF(J$2019=1,\"\",IF(T1421=\"\",\"\",RIGHT(VLOOKUP(T1421,Tabelle!$B$5:$C$9,2,FALSE),5)))","v":""},null,null,null,null,null,null,null,{"$f":"IF(B1421=\"\",0,IF(B1421=B1420,COUNTIF(B$9:B1420,B1421)+1,1))","v":1409},0,0]
["1414","-1900","-1900-1410",null,null,null,null,null,null,null,null,null,null,null,null,null,null,null,null,null,{"$f":"IF(J$2019=1,\"\",IF(T1422=\"\",\"\",RIGHT(VLOOKUP(T1422,Tabelle!$B$5:$C$9,2,FALSE),5)))","v":""},null,null,null,null,null,null,null,{"$f":"IF(B1422=\"\",0,IF(B1422=B1421,COUNTIF(B$9:B1421,B1422)+1,1))","v":1410},0,0]
["1415","-1900","-1900-1411",null,null,null,null,null,null,null,null,null,null,null,null,null,null,null,null,null,{"$f":"IF(J$2019=1,\"\",IF(T1423=\"\",\"\",RIGHT(VLOOKUP(T1423,Tabelle!$B$5:$C$9,2,FALSE),5)))","v":""},null,null,null,null,null,null,null,{"$f":"IF(B1423=\"\",0,IF(B1423=B1422,COUNTIF(B$9:B1422,B1423)+1,1))","v":1411},0,0]
["1416","-1900","-1900-1412",null,null,null,null,null,null,null,null,null,null,null,null,null,null,null,null,null,{"$f":"IF(J$2019=1,\"\",IF(T1424=\"\",\"\",RIGHT(VLOOKUP(T1424,Tabelle!$B$5:$C$9,2,FALSE),5)))","v":""},null,null,null,null,null,null,null,{"$f":"IF(B1424=\"\",0,IF(B1424=B1423,COUNTIF(B$9:B1423,B1424)+1,1))","v":1412},0,0]
["1417","-1900","-1900-1413",null,null,null,null,null,null,null,null,null,null,null,null,null,null,null,null,null,{"$f":"IF(J$2019=1,\"\",IF(T1425=\"\",\"\",RIGHT(VLOOKUP(T1425,Tabelle!$B$5:$C$9,2,FALSE),5)))","v":""},null,null,null,null,null,null,null,{"$f":"IF(B1425=\"\",0,IF(B1425=B1424,COUNTIF(B$9:B1424,B1425)+1,1))","v":1413},0,0]
["1418","-1900","-1900-1414",null,null,null,null,null,null,null,null,null,null,null,null,null,null,null,null,null,{"$f":"IF(J$2019=1,\"\",IF(T1426=\"\",\"\",RIGHT(VLOOKUP(T1426,Tabelle!$B$5:$C$9,2,FALSE),5)))","v":""},null,null,null,null,null,null,null,{"$f":"IF(B1426=\"\",0,IF(B1426=B1425,COUNTIF(B$9:B1425,B1426)+1,1))","v":1414},0,0]
["1419","-1900","-1900-1415",null,null,null,null,null,null,null,null,null,null,null,null,null,null,null,null,null,{"$f":"IF(J$2019=1,\"\",IF(T1427=\"\",\"\",RIGHT(VLOOKUP(T1427,Tabelle!$B$5:$C$9,2,FALSE),5)))","v":""},null,null,null,null,null,null,null,{"$f":"IF(B1427=\"\",0,IF(B1427=B1426,COUNTIF(B$9:B1426,B1427)+1,1))","v":1415},0,0]
["1420","-1900","-1900-1416",null,null,null,null,null,null,null,null,null,null,null,null,null,null,null,null,null,{"$f":"IF(J$2019=1,\"\",IF(T1428=\"\",\"\",RIGHT(VLOOKUP(T1428,Tabelle!$B$5:$C$9,2,FALSE),5)))","v":""},null,null,null,null,null,null,null,{"$f":"IF(B1428=\"\",0,IF(B1428=B1427,COUNTIF(B$9:B1427,B1428)+1,1))","v":1416},0,0]
["1421","-1900","-1900-1417",null,null,null,null,null,null,null,null,null,null,null,null,null,null,null,null,null,{"$f":"IF(J$2019=1,\"\",IF(T1429=\"\",\"\",RIGHT(VLOOKUP(T1429,Tabelle!$B$5:$C$9,2,FALSE),5)))","v":""},null,null,null,null,null,null,null,{"$f":"IF(B1429=\"\",0,IF(B1429=B1428,COUNTIF(B$9:B1428,B1429)+1,1))","v":1417},{"$f":"IF(OR(D1429=\"\",J$2019=1),0,IF(AC1429=28,1,0))","v":0},0]
["1422","-1900","-1900-1418",null,null,null,null,null,null,null,null,null,null,null,null,null,null,null,null,null,{"$f":"IF(J$2019=1,\"\",IF(T1430=\"\",\"\",RIGHT(VLOOKUP(T1430,Tabelle!$B$5:$C$9,2,FALSE),5)))","v":""},null,null,null,null,null,null,null,{"$f":"IF(B1430=\"\",0,IF(B1430=B1429,COUNTIF(B$9:B1429,B1430)+1,1))","v":1418},0,0]
["1423","-1900",{"$f":"IF(J$2019=1,0,B1431&\"-\"&AC1431)","v":"-1900-1419"},null,null,null,null,null,null,null,null,null,null,null,null,null,null,null,null,null,{"$f":"IF(J$2019=1,\"\",IF(T1431=\"\",\"\",RIGHT(VLOOKUP(T1431,Tabelle!$B$5:$C$9,2,FALSE),5)))","v":""},null,null,null,null,null,null,null,{"$f":"IF(B1431=\"\",0,IF(B1431=B1430,COUNTIF(B$9:B1430,B1431)+1,1))","v":1419},0,0]
["1424","-1900","-1900-1420",null,null,null,null,null,null,null,null,null,null,null,null,null,null,null,null,null,{"$f":"IF(J$2019=1,\"\",IF(T1432=\"\",\"\",RIGHT(VLOOKUP(T1432,Tabelle!$B$5:$C$9,2,FALSE),5)))","v":""},null,null,null,null,null,null,null,{"$f":"IF(B1432=\"\",0,IF(B1432=B1431,COUNTIF(B$9:B1431,B1432)+1,1))","v":1420},0,0]
["1425","-1900","-1900-1421",null,null,null,null,null,null,null,null,null,null,null,null,null,null,null,null,null,{"$f":"IF(J$2019=1,\"\",IF(T1433=\"\",\"\",RIGHT(VLOOKUP(T1433,Tabelle!$B$5:$C$9,2,FALSE),5)))","v":""},null,null,null,null,null,null,null,{"$f":"IF(B1433=\"\",0,IF(B1433=B1432,COUNTIF(B$9:B1432,B1433)+1,1))","v":1421},0,0]
["1426","-1900","-1900-1422",null,null,null,null,null,null,null,null,null,null,null,null,null,null,null,null,null,{"$f":"IF(J$2019=1,\"\",IF(T1434=\"\",\"\",RIGHT(VLOOKUP(T1434,Tabelle!$B$5:$C$9,2,FALSE),5)))","v":""},null,null,null,null,null,null,null,{"$f":"IF(B1434=\"\",0,IF(B1434=B1433,COUNTIF(B$9:B1433,B1434)+1,1))","v":1422},0,0]
["1427","-1900","-1900-1423",null,null,null,null,null,null,null,null,null,null,null,null,null,null,null,null,null,{"$f":"IF(J$2019=1,\"\",IF(T1435=\"\",\"\",RIGHT(VLOOKUP(T1435,Tabelle!$B$5:$C$9,2,FALSE),5)))","v":""},null,null,null,null,null,null,null,{"$f":"IF(B1435=\"\",0,IF(B1435=B1434,COUNTIF(B$9:B1434,B1435)+1,1))","v":1423},0,0]
["1428","-1900","-1900-1424",null,null,null,null,null,null,null,null,null,null,null,null,null,null,null,null,null,{"$f":"IF(J$2019=1,\"\",IF(T1436=\"\",\"\",RIGHT(VLOOKUP(T1436,Tabelle!$B$5:$C$9,2,FALSE),5)))","v":""},null,null,null,null,null,null,null,{"$f":"IF(B1436=\"\",0,IF(B1436=B1435,COUNTIF(B$9:B1435,B1436)+1,1))","v":1424},0,0]
["1429","-1900","-1900-1425",null,null,null,null,null,null,null,null,null,null,null,null,null,null,null,null,null,{"$f":"IF(J$2019=1,\"\",IF(T1437=\"\",\"\",RIGHT(VLOOKUP(T1437,Tabelle!$B$5:$C$9,2,FALSE),5)))","v":""},null,null,null,null,null,null,null,{"$f":"IF(B1437=\"\",0,IF(B1437=B1436,COUNTIF(B$9:B1436,B1437)+1,1))","v":1425},0,0]
["1430","-1900","-1900-1426",null,null,null,null,null,null,null,null,null,null,null,null,null,null,null,null,null,{"$f":"IF(J$2019=1,\"\",IF(T1438=\"\",\"\",RIGHT(VLOOKUP(T1438,Tabelle!$B$5:$C$9,2,FALSE),5)))","v":""},null,null,null,null,null,null,null,{"$f":"IF(B1438=\"\",0,IF(B1438=B1437,COUNTIF(B$9:B1437,B1438)+1,1))","v":1426},0,0]
["1431","-1900","-1900-1427",null,null,null,null,null,null,null,null,null,null,null,null,null,null,null,null,null,{"$f":"IF(J$2019=1,\"\",IF(T1439=\"\",\"\",RIGHT(VLOOKUP(T1439,Tabelle!$B$5:$C$9,2,FALSE),5)))","v":""},null,null,null,null,null,null,null,{"$f":"IF(B1439=\"\",0,IF(B1439=B1438,COUNTIF(B$9:B1438,B1439)+1,1))","v":1427},0,0]
["1432","-1900","-1900-1428",null,null,null,null,null,null,null,null,null,null,null,null,null,null,null,null,null,{"$f":"IF(J$2019=1,\"\",IF(T1440=\"\",\"\",RIGHT(VLOOKUP(T1440,Tabelle!$B$5:$C$9,2,FALSE),5)))","v":""},null,null,null,null,null,null,null,{"$f":"IF(B1440=\"\",0,IF(B1440=B1439,COUNTIF(B$9:B1439,B1440)+1,1))","v":1428},0,0]
["1433","-1900","-1900-1429",null,null,null,null,null,null,null,null,null,null,null,null,null,null,null,null,null,{"$f":"IF(J$2019=1,\"\",IF(T1441=\"\",\"\",RIGHT(VLOOKUP(T1441,Tabelle!$B$5:$C$9,2,FALSE),5)))","v":""},null,null,null,null,null,null,null,{"$f":"IF(B1441=\"\",0,IF(B1441=B1440,COUNTIF(B$9:B1440,B1441)+1,1))","v":1429},0,0]
["1434","-1900","-1900-1430",null,null,null,null,null,null,null,null,null,null,null,null,null,null,null,null,null,{"$f":"IF(J$2019=1,\"\",IF(T1442=\"\",\"\",RIGHT(VLOOKUP(T1442,Tabelle!$B$5:$C$9,2,FALSE),5)))","v":""},null,null,null,null,null,null,null,{"$f":"IF(B1442=\"\",0,IF(B1442=B1441,COUNTIF(B$9:B1441,B1442)+1,1))","v":1430},0,0]
["1435","-1900","-1900-1431",null,null,null,null,null,null,null,null,null,null,null,null,null,null,null,null,null,{"$f":"IF(J$2019=1,\"\",IF(T1443=\"\",\"\",RIGHT(VLOOKUP(T1443,Tabelle!$B$5:$C$9,2,FALSE),5)))","v":""},null,null,null,null,null,null,null,{"$f":"IF(B1443=\"\",0,IF(B1443=B1442,COUNTIF(B$9:B1442,B1443)+1,1))","v":1431},0,0]
["1436","-1900","-1900-1432",null,null,null,null,null,null,null,null,null,null,null,null,null,null,null,null,null,{"$f":"IF(J$2019=1,\"\",IF(T1444=\"\",\"\",RIGHT(VLOOKUP(T1444,Tabelle!$B$5:$C$9,2,FALSE),5)))","v":""},null,null,null,null,null,null,null,{"$f":"IF(B1444=\"\",0,IF(B1444=B1443,COUNTIF(B$9:B1443,B1444)+1,1))","v":1432},0,0]
["1437","-1900","-1900-1433",null,null,null,null,null,null,null,null,null,null,null,null,null,null,null,null,null,{"$f":"IF(J$2019=1,\"\",IF(T1445=\"\",\"\",RIGHT(VLOOKUP(T1445,Tabelle!$B$5:$C$9,2,FALSE),5)))","v":""},null,null,null,null,null,null,null,{"$f":"IF(B1445=\"\",0,IF(B1445=B1444,COUNTIF(B$9:B1444,B1445)+1,1))","v":1433},0,0]
["1438","-1900","-1900-1434",null,null,null,null,null,null,null,null,null,null,null,null,null,null,null,null,null,{"$f":"IF(J$2019=1,\"\",IF(T1446=\"\",\"\",RIGHT(VLOOKUP(T1446,Tabelle!$B$5:$C$9,2,FALSE),5)))","v":""},null,null,null,null,null,null,null,{"$f":"IF(B1446=\"\",0,IF(B1446=B1445,COUNTIF(B$9:B1445,B1446)+1,1))","v":1434},0,0]
["1439","-1900","-1900-1435",null,null,null,null,null,null,null,null,null,null,null,null,null,null,null,null,null,{"$f":"IF(J$2019=1,\"\",IF(T1447=\"\",\"\",RIGHT(VLOOKUP(T1447,Tabelle!$B$5:$C$9,2,FALSE),5)))","v":""},null,null,null,null,null,null,null,{"$f":"IF(B1447=\"\",0,IF(B1447=B1446,COUNTIF(B$9:B1446,B1447)+1,1))","v":1435},0,0]
["1440","-1900","-1900-1436",null,null,null,null,null,null,null,null,null,null,null,null,null,null,null,null,null,{"$f":"IF(J$2019=1,\"\",IF(T1448=\"\",\"\",RIGHT(VLOOKUP(T1448,Tabelle!$B$5:$C$9,2,FALSE),5)))","v":""},null,null,null,null,null,null,null,{"$f":"IF(B1448=\"\",0,IF(B1448=B1447,COUNTIF(B$9:B1447,B1448)+1,1))","v":1436},0,0]
["1441","-1900","-1900-1437",null,null,null,null,null,null,null,null,null,null,null,null,null,null,null,null,null,{"$f":"IF(J$2019=1,\"\",IF(T1449=\"\",\"\",RIGHT(VLOOKUP(T1449,Tabelle!$B$5:$C$9,2,FALSE),5)))","v":""},null,null,null,null,null,null,null,{"$f":"IF(B1449=\"\",0,IF(B1449=B1448,COUNTIF(B$9:B1448,B1449)+1,1))","v":1437},0,0]
["1442","-1900","-1900-1438",null,null,null,null,null,null,null,null,null,null,null,null,null,null,null,null,null,{"$f":"IF(J$2019=1,\"\",IF(T1450=\"\",\"\",RIGHT(VLOOKUP(T1450,Tabelle!$B$5:$C$9,2,FALSE),5)))","v":""},null,null,null,null,null,null,null,{"$f":"IF(B1450=\"\",0,IF(B1450=B1449,COUNTIF(B$9:B1449,B1450)+1,1))","v":1438},0,0]
["1443","-1900","-1900-1439",null,null,null,null,null,null,null,null,null,null,null,null,null,null,null,null,null,{"$f":"IF(J$2019=1,\"\",IF(T1451=\"\",\"\",RIGHT(VLOOKUP(T1451,Tabelle!$B$5:$C$9,2,FALSE),5)))","v":""},null,null,null,null,null,null,null,{"$f":"IF(B1451=\"\",0,IF(B1451=B1450,COUNTIF(B$9:B1450,B1451)+1,1))","v":1439},0,0]
["1444","-1900","-1900-1440",null,null,null,null,null,null,null,null,null,null,null,null,null,null,null,null,null,{"$f":"IF(J$2019=1,\"\",IF(T1452=\"\",\"\",RIGHT(VLOOKUP(T1452,Tabelle!$B$5:$C$9,2,FALSE),5)))","v":""},null,null,null,null,null,null,null,{"$f":"IF(B1452=\"\",0,IF(B1452=B1451,COUNTIF(B$9:B1451,B1452)+1,1))","v":1440},0,0]
["1445","-1900","-1900-1441",null,null,null,null,null,null,null,null,null,null,null,null,null,null,null,null,null,{"$f":"IF(J$2019=1,\"\",IF(T1453=\"\",\"\",RIGHT(VLOOKUP(T1453,Tabelle!$B$5:$C$9,2,FALSE),5)))","v":""},null,null,null,null,null,null,null,{"$f":"IF(B1453=\"\",0,IF(B1453=B1452,COUNTIF(B$9:B1452,B1453)+1,1))","v":1441},0,0]
["1446","-1900","-1900-1442",null,null,null,null,null,null,null,null,null,null,null,null,null,null,null,null,null,{"$f":"IF(J$2019=1,\"\",IF(T1454=\"\",\"\",RIGHT(VLOOKUP(T1454,Tabelle!$B$5:$C$9,2,FALSE),5)))","v":""},null,null,null,null,null,null,null,{"$f":"IF(B1454=\"\",0,IF(B1454=B1453,COUNTIF(B$9:B1453,B1454)+1,1))","v":1442},0,0]
["1447","-1900","-1900-1443",null,null,null,null,null,null,null,null,null,null,null,null,null,null,null,null,null,{"$f":"IF(J$2019=1,\"\",IF(T1455=\"\",\"\",RIGHT(VLOOKUP(T1455,Tabelle!$B$5:$C$9,2,FALSE),5)))","v":""},null,null,null,null,null,null,null,{"$f":"IF(B1455=\"\",0,IF(B1455=B1454,COUNTIF(B$9:B1454,B1455)+1,1))","v":1443},0,0]
["1448","-1900","-1900-1444",null,null,null,null,null,null,null,null,null,null,null,null,null,null,null,null,null,{"$f":"IF(J$2019=1,\"\",IF(T1456=\"\",\"\",RIGHT(VLOOKUP(T1456,Tabelle!$B$5:$C$9,2,FALSE),5)))","v":""},null,null,null,null,null,null,null,{"$f":"IF(B1456=\"\",0,IF(B1456=B1455,COUNTIF(B$9:B1455,B1456)+1,1))","v":1444},0,0]
["1449","-1900","-1900-1445",null,null,null,null,null,null,null,null,null,null,null,null,null,null,null,null,null,{"$f":"IF(J$2019=1,\"\",IF(T1457=\"\",\"\",RIGHT(VLOOKUP(T1457,Tabelle!$B$5:$C$9,2,FALSE),5)))","v":""},null,null,null,null,null,null,null,{"$f":"IF(B1457=\"\",0,IF(B1457=B1456,COUNTIF(B$9:B1456,B1457)+1,1))","v":1445},0,0]
["1450","-1900","-1900-1446",null,null,null,null,null,null,null,null,null,null,null,null,null,null,null,null,null,{"$f":"IF(J$2019=1,\"\",IF(T1458=\"\",\"\",RIGHT(VLOOKUP(T1458,Tabelle!$B$5:$C$9,2,FALSE),5)))","v":""},null,null,null,null,null,null,null,{"$f":"IF(B1458=\"\",0,IF(B1458=B1457,COUNTIF(B$9:B1457,B1458)+1,1))","v":1446},0,0]
["1451","-1900","-1900-1447",null,null,null,null,null,null,null,null,null,null,null,null,null,null,null,null,null,{"$f":"IF(J$2019=1,\"\",IF(T1459=\"\",\"\",RIGHT(VLOOKUP(T1459,Tabelle!$B$5:$C$9,2,FALSE),5)))","v":""},null,null,null,null,null,null,null,{"$f":"IF(B1459=\"\",0,IF(B1459=B1458,COUNTIF(B$9:B1458,B1459)+1,1))","v":1447},0,0]
["1452","-1900","-1900-1448",null,null,null,null,null,null,null,null,null,null,null,null,null,null,null,null,null,{"$f":"IF(J$2019=1,\"\",IF(T1460=\"\",\"\",RIGHT(VLOOKUP(T1460,Tabelle!$B$5:$C$9,2,FALSE),5)))","v":""},null,null,null,null,null,null,null,{"$f":"IF(B1460=\"\",0,IF(B1460=B1459,COUNTIF(B$9:B1459,B1460)+1,1))","v":1448},0,0]
["1453","-1900","-1900-1449",null,null,null,null,null,null,null,null,null,null,null,null,null,null,null,null,null,{"$f":"IF(J$2019=1,\"\",IF(T1461=\"\",\"\",RIGHT(VLOOKUP(T1461,Tabelle!$B$5:$C$9,2,FALSE),5)))","v":""},null,null,null,null,null,null,null,{"$f":"IF(B1461=\"\",0,IF(B1461=B1460,COUNTIF(B$9:B1460,B1461)+1,1))","v":1449},0,0]
["1454","-1900","-1900-1450",null,null,null,null,null,null,null,null,null,null,null,null,null,null,null,null,null,{"$f":"IF(J$2019=1,\"\",IF(T1462=\"\",\"\",RIGHT(VLOOKUP(T1462,Tabelle!$B$5:$C$9,2,FALSE),5)))","v":""},null,null,null,null,null,null,null,{"$f":"IF(B1462=\"\",0,IF(B1462=B1461,COUNTIF(B$9:B1461,B1462)+1,1))","v":1450},0,0]
["1455","-1900","-1900-1451",null,null,null,null,null,null,null,null,null,null,null,null,null,null,null,null,null,{"$f":"IF(J$2019=1,\"\",IF(T1463=\"\",\"\",RIGHT(VLOOKUP(T1463,Tabelle!$B$5:$C$9,2,FALSE),5)))","v":""},null,null,null,null,null,null,null,{"$f":"IF(B1463=\"\",0,IF(B1463=B1462,COUNTIF(B$9:B1462,B1463)+1,1))","v":1451},0,0]
["1456","-1900","-1900-1452",null,null,null,null,null,null,null,null,null,null,null,null,null,null,null,null,null,{"$f":"IF(J$2019=1,\"\",IF(T1464=\"\",\"\",RIGHT(VLOOKUP(T1464,Tabelle!$B$5:$C$9,2,FALSE),5)))","v":""},null,null,null,null,null,null,null,{"$f":"IF(B1464=\"\",0,IF(B1464=B1463,COUNTIF(B$9:B1463,B1464)+1,1))","v":1452},0,0]
["1457","-1900","-1900-1453",null,null,null,null,null,null,null,null,null,null,null,null,null,null,null,null,null,{"$f":"IF(J$2019=1,\"\",IF(T1465=\"\",\"\",RIGHT(VLOOKUP(T1465,Tabelle!$B$5:$C$9,2,FALSE),5)))","v":""},null,null,null,null,null,null,null,{"$f":"IF(B1465=\"\",0,IF(B1465=B1464,COUNTIF(B$9:B1464,B1465)+1,1))","v":1453},0,0]
["1458","-1900","-1900-1454",null,null,null,null,null,null,null,null,null,null,null,null,null,null,null,null,null,{"$f":"IF(J$2019=1,\"\",IF(T1466=\"\",\"\",RIGHT(VLOOKUP(T1466,Tabelle!$B$5:$C$9,2,FALSE),5)))","v":""},null,null,null,null,null,null,null,{"$f":"IF(B1466=\"\",0,IF(B1466=B1465,COUNTIF(B$9:B1465,B1466)+1,1))","v":1454},0,0]
["1459","-1900","-1900-1455",null,null,null,null,null,null,null,null,null,null,null,null,null,null,null,null,null,{"$f":"IF(J$2019=1,\"\",IF(T1467=\"\",\"\",RIGHT(VLOOKUP(T1467,Tabelle!$B$5:$C$9,2,FALSE),5)))","v":""},null,null,null,null,null,null,null,{"$f":"IF(B1467=\"\",0,IF(B1467=B1466,COUNTIF(B$9:B1466,B1467)+1,1))","v":1455},0,0]
["1460","-1900","-1900-1456",null,null,null,null,null,null,null,null,null,null,null,null,null,null,null,null,null,{"$f":"IF(J$2019=1,\"\",IF(T1468=\"\",\"\",RIGHT(VLOOKUP(T1468,Tabelle!$B$5:$C$9,2,FALSE),5)))","v":""},null,null,null,null,null,null,null,{"$f":"IF(B1468=\"\",0,IF(B1468=B1467,COUNTIF(B$9:B1467,B1468)+1,1))","v":1456},0,0]
["1461","-1900","-1900-1457",null,null,null,null,null,null,null,null,null,null,null,null,null,null,null,null,null,{"$f":"IF(J$2019=1,\"\",IF(T1469=\"\",\"\",RIGHT(VLOOKUP(T1469,Tabelle!$B$5:$C$9,2,FALSE),5)))","v":""},null,null,null,null,null,null,null,{"$f":"IF(B1469=\"\",0,IF(B1469=B1468,COUNTIF(B$9:B1468,B1469)+1,1))","v":1457},0,0]
["1462","-1900","-1900-1458",null,null,null,null,null,null,null,null,null,null,null,null,null,null,null,null,null,{"$f":"IF(J$2019=1,\"\",IF(T1470=\"\",\"\",RIGHT(VLOOKUP(T1470,Tabelle!$B$5:$C$9,2,FALSE),5)))","v":""},null,null,null,null,null,null,null,{"$f":"IF(B1470=\"\",0,IF(B1470=B1469,COUNTIF(B$9:B1469,B1470)+1,1))","v":1458},0,0]
["1463","-1900","-1900-1459",null,null,null,null,null,null,null,null,null,null,null,null,null,null,null,null,null,{"$f":"IF(J$2019=1,\"\",IF(T1471=\"\",\"\",RIGHT(VLOOKUP(T1471,Tabelle!$B$5:$C$9,2,FALSE),5)))","v":""},null,null,null,null,null,null,null,{"$f":"IF(B1471=\"\",0,IF(B1471=B1470,COUNTIF(B$9:B1470,B1471)+1,1))","v":1459},0,0]
["1464","-1900","-1900-1460",null,null,null,null,null,null,null,null,null,null,null,null,null,null,null,null,null,{"$f":"IF(J$2019=1,\"\",IF(T1472=\"\",\"\",RIGHT(VLOOKUP(T1472,Tabelle!$B$5:$C$9,2,FALSE),5)))","v":""},null,null,null,null,null,null,null,{"$f":"IF(B1472=\"\",0,IF(B1472=B1471,COUNTIF(B$9:B1471,B1472)+1,1))","v":1460},0,0]
["1465","-1900","-1900-1461",null,null,null,null,null,null,null,null,null,null,null,null,null,null,null,null,null,{"$f":"IF(J$2019=1,\"\",IF(T1473=\"\",\"\",RIGHT(VLOOKUP(T1473,Tabelle!$B$5:$C$9,2,FALSE),5)))","v":""},null,null,null,null,null,null,null,{"$f":"IF(B1473=\"\",0,IF(B1473=B1472,COUNTIF(B$9:B1472,B1473)+1,1))","v":1461},0,0]
["1466","-1900","-1900-1462",null,null,null,null,null,null,null,null,null,null,null,null,null,null,null,null,null,{"$f":"IF(J$2019=1,\"\",IF(T1474=\"\",\"\",RIGHT(VLOOKUP(T1474,Tabelle!$B$5:$C$9,2,FALSE),5)))","v":""},null,null,null,null,null,null,null,{"$f":"IF(B1474=\"\",0,IF(B1474=B1473,COUNTIF(B$9:B1473,B1474)+1,1))","v":1462},0,0]
["1467","-1900","-1900-1463",null,null,null,null,null,null,null,null,null,null,null,null,null,null,null,null,null,{"$f":"IF(J$2019=1,\"\",IF(T1475=\"\",\"\",RIGHT(VLOOKUP(T1475,Tabelle!$B$5:$C$9,2,FALSE),5)))","v":""},null,null,null,null,null,null,null,{"$f":"IF(B1475=\"\",0,IF(B1475=B1474,COUNTIF(B$9:B1474,B1475)+1,1))","v":1463},0,0]
["1468","-1900","-1900-1464",null,null,null,null,null,null,null,null,null,null,null,null,null,null,null,null,null,{"$f":"IF(J$2019=1,\"\",IF(T1476=\"\",\"\",RIGHT(VLOOKUP(T1476,Tabelle!$B$5:$C$9,2,FALSE),5)))","v":""},null,null,null,null,null,null,null,{"$f":"IF(B1476=\"\",0,IF(B1476=B1475,COUNTIF(B$9:B1475,B1476)+1,1))","v":1464},0,0]
["1469","-1900","-1900-1465",null,null,null,null,null,null,null,null,null,null,null,null,null,null,null,null,null,{"$f":"IF(J$2019=1,\"\",IF(T1477=\"\",\"\",RIGHT(VLOOKUP(T1477,Tabelle!$B$5:$C$9,2,FALSE),5)))","v":""},null,null,null,null,null,null,null,{"$f":"IF(B1477=\"\",0,IF(B1477=B1476,COUNTIF(B$9:B1476,B1477)+1,1))","v":1465},0,0]
["1470","-1900","-1900-1466",null,null,null,null,null,null,null,null,null,null,null,null,null,null,null,null,null,{"$f":"IF(J$2019=1,\"\",IF(T1478=\"\",\"\",RIGHT(VLOOKUP(T1478,Tabelle!$B$5:$C$9,2,FALSE),5)))","v":""},null,null,null,null,null,null,null,{"$f":"IF(B1478=\"\",0,IF(B1478=B1477,COUNTIF(B$9:B1477,B1478)+1,1))","v":1466},0,0]
["1471","-1900","-1900-1467",null,null,null,null,null,null,null,null,null,null,null,null,null,null,null,null,null,{"$f":"IF(J$2019=1,\"\",IF(T1479=\"\",\"\",RIGHT(VLOOKUP(T1479,Tabelle!$B$5:$C$9,2,FALSE),5)))","v":""},null,null,null,null,null,null,null,{"$f":"IF(B1479=\"\",0,IF(B1479=B1478,COUNTIF(B$9:B1478,B1479)+1,1))","v":1467},0,0]
["1472","-1900","-1900-1468",null,null,null,null,null,null,null,null,null,null,null,null,null,null,null,null,null,{"$f":"IF(J$2019=1,\"\",IF(T1480=\"\",\"\",RIGHT(VLOOKUP(T1480,Tabelle!$B$5:$C$9,2,FALSE),5)))","v":""},null,null,null,null,null,null,null,{"$f":"IF(B1480=\"\",0,IF(B1480=B1479,COUNTIF(B$9:B1479,B1480)+1,1))","v":1468},0,0]
["1473","-1900","-1900-1469",null,null,null,null,null,null,null,null,null,null,null,null,null,null,null,null,null,{"$f":"IF(J$2019=1,\"\",IF(T1481=\"\",\"\",RIGHT(VLOOKUP(T1481,Tabelle!$B$5:$C$9,2,FALSE),5)))","v":""},null,null,null,null,null,null,null,{"$f":"IF(B1481=\"\",0,IF(B1481=B1480,COUNTIF(B$9:B1480,B1481)+1,1))","v":1469},0,0]
["1474",{"$f":"IF(AE1482=$AE$2013,0,IF(J$2019=1,0,D1482&\"-\"&YEAR(E1482)))","v":"-1900"},"-1900-1470",null,null,null,null,null,null,null,null,null,null,null,null,null,null,null,null,null,{"$f":"IF(J$2019=1,\"\",IF(T1482=\"\",\"\",RIGHT(VLOOKUP(T1482,Tabelle!$B$5:$C$9,2,FALSE),5)))","v":""},null,null,null,null,null,null,null,{"$f":"IF(B1482=\"\",0,IF(B1482=B1481,COUNTIF(B$9:B1481,B1482)+1,1))","v":1470},0,{"$f":"IF(E1482>0,IF(OR(MONTH(E1482)<$J$2025,MONTH(E1482)>$J$2026),AE$2013,0),0)","v":0}]
["1475","-1900","-1900-1471",null,null,null,null,null,null,null,null,null,null,null,null,null,null,null,null,null,{"$f":"IF(J$2019=1,\"\",IF(T1483=\"\",\"\",RIGHT(VLOOKUP(T1483,Tabelle!$B$5:$C$9,2,FALSE),5)))","v":""},null,null,null,null,null,null,null,{"$f":"IF(B1483=\"\",0,IF(B1483=B1482,COUNTIF(B$9:B1482,B1483)+1,1))","v":1471},0,0]
["1476","-1900","-1900-1472",null,null,null,null,null,null,null,null,null,null,null,null,null,null,null,null,null,{"$f":"IF(J$2019=1,\"\",IF(T1484=\"\",\"\",RIGHT(VLOOKUP(T1484,Tabelle!$B$5:$C$9,2,FALSE),5)))","v":""},null,null,null,null,null,null,null,{"$f":"IF(B1484=\"\",0,IF(B1484=B1483,COUNTIF(B$9:B1483,B1484)+1,1))","v":1472},0,0]
["1477","-1900","-1900-1473",null,null,null,null,null,null,null,null,null,null,null,null,null,null,null,null,null,{"$f":"IF(J$2019=1,\"\",IF(T1485=\"\",\"\",RIGHT(VLOOKUP(T1485,Tabelle!$B$5:$C$9,2,FALSE),5)))","v":""},null,null,null,null,null,null,null,{"$f":"IF(B1485=\"\",0,IF(B1485=B1484,COUNTIF(B$9:B1484,B1485)+1,1))","v":1473},0,0]
["1478","-1900","-1900-1474",null,null,null,null,null,null,null,null,null,null,null,null,null,null,null,null,null,{"$f":"IF(J$2019=1,\"\",IF(T1486=\"\",\"\",RIGHT(VLOOKUP(T1486,Tabelle!$B$5:$C$9,2,FALSE),5)))","v":""},null,null,null,null,null,null,null,{"$f":"IF(B1486=\"\",0,IF(B1486=B1485,COUNTIF(B$9:B1485,B1486)+1,1))","v":1474},0,0]
["1479","-1900","-1900-1475",null,null,null,null,null,null,null,null,null,null,null,null,null,null,null,null,null,{"$f":"IF(J$2019=1,\"\",IF(T1487=\"\",\"\",RIGHT(VLOOKUP(T1487,Tabelle!$B$5:$C$9,2,FALSE),5)))","v":""},null,null,null,null,null,null,null,{"$f":"IF(B1487=\"\",0,IF(B1487=B1486,COUNTIF(B$9:B1486,B1487)+1,1))","v":1475},0,0]
["1480","-1900","-1900-1476",null,null,null,null,null,null,null,null,null,null,null,null,null,null,null,null,null,{"$f":"IF(J$2019=1,\"\",IF(T1488=\"\",\"\",RIGHT(VLOOKUP(T1488,Tabelle!$B$5:$C$9,2,FALSE),5)))","v":""},null,null,null,null,null,null,null,{"$f":"IF(B1488=\"\",0,IF(B1488=B1487,COUNTIF(B$9:B1487,B1488)+1,1))","v":1476},0,0]
["1481","-1900","-1900-1477",null,null,null,null,null,null,null,null,null,null,null,null,null,null,null,null,null,{"$f":"IF(J$2019=1,\"\",IF(T1489=\"\",\"\",RIGHT(VLOOKUP(T1489,Tabelle!$B$5:$C$9,2,FALSE),5)))","v":""},null,null,null,null,null,null,null,{"$f":"IF(B1489=\"\",0,IF(B1489=B1488,COUNTIF(B$9:B1488,B1489)+1,1))","v":1477},0,0]
["1482","-1900","-1900-1478",null,null,null,null,null,null,null,null,null,null,null,null,null,null,null,null,null,{"$f":"IF(J$2019=1,\"\",IF(T1490=\"\",\"\",RIGHT(VLOOKUP(T1490,Tabelle!$B$5:$C$9,2,FALSE),5)))","v":""},null,null,null,null,null,null,null,{"$f":"IF(B1490=\"\",0,IF(B1490=B1489,COUNTIF(B$9:B1489,B1490)+1,1))","v":1478},0,0]
["1483","-1900","-1900-1479",null,null,null,null,null,null,null,null,null,null,null,null,null,null,null,null,null,{"$f":"IF(J$2019=1,\"\",IF(T1491=\"\",\"\",RIGHT(VLOOKUP(T1491,Tabelle!$B$5:$C$9,2,FALSE),5)))","v":""},null,null,null,null,null,null,null,{"$f":"IF(B1491=\"\",0,IF(B1491=B1490,COUNTIF(B$9:B1490,B1491)+1,1))","v":1479},0,0]
["1484","-1900","-1900-1480",null,null,null,null,null,null,null,null,null,null,null,null,null,null,null,null,null,{"$f":"IF(J$2019=1,\"\",IF(T1492=\"\",\"\",RIGHT(VLOOKUP(T1492,Tabelle!$B$5:$C$9,2,FALSE),5)))","v":""},null,null,null,null,null,null,null,{"$f":"IF(B1492=\"\",0,IF(B1492=B1491,COUNTIF(B$9:B1491,B1492)+1,1))","v":1480},0,0]
["1485","-1900","-1900-1481",null,null,null,null,null,null,null,null,null,null,null,null,null,null,null,null,null,{"$f":"IF(J$2019=1,\"\",IF(T1493=\"\",\"\",RIGHT(VLOOKUP(T1493,Tabelle!$B$5:$C$9,2,FALSE),5)))","v":""},null,null,null,null,null,null,null,{"$f":"IF(B1493=\"\",0,IF(B1493=B1492,COUNTIF(B$9:B1492,B1493)+1,1))","v":1481},{"$f":"IF(OR(D1493=\"\",J$2019=1),0,IF(AC1493=28,1,0))","v":0},0]
["1486","-1900","-1900-1482",null,null,null,null,null,null,null,null,null,null,null,null,null,null,null,null,null,{"$f":"IF(J$2019=1,\"\",IF(T1494=\"\",\"\",RIGHT(VLOOKUP(T1494,Tabelle!$B$5:$C$9,2,FALSE),5)))","v":""},null,null,null,null,null,null,null,{"$f":"IF(B1494=\"\",0,IF(B1494=B1493,COUNTIF(B$9:B1493,B1494)+1,1))","v":1482},0,0]
["1487","-1900",{"$f":"IF(J$2019=1,0,B1495&\"-\"&AC1495)","v":"-1900-1483"},null,null,null,null,null,null,null,null,null,null,null,null,null,null,null,null,null,{"$f":"IF(J$2019=1,\"\",IF(T1495=\"\",\"\",RIGHT(VLOOKUP(T1495,Tabelle!$B$5:$C$9,2,FALSE),5)))","v":""},null,null,null,null,null,null,null,{"$f":"IF(B1495=\"\",0,IF(B1495=B1494,COUNTIF(B$9:B1494,B1495)+1,1))","v":1483},0,0]
["1488","-1900","-1900-1484",null,null,null,null,null,null,null,null,null,null,null,null,null,null,null,null,null,{"$f":"IF(J$2019=1,\"\",IF(T1496=\"\",\"\",RIGHT(VLOOKUP(T1496,Tabelle!$B$5:$C$9,2,FALSE),5)))","v":""},null,null,null,null,null,null,null,{"$f":"IF(B1496=\"\",0,IF(B1496=B1495,COUNTIF(B$9:B1495,B1496)+1,1))","v":1484},0,0]
["1489","-1900","-1900-1485",null,null,null,null,null,null,null,null,null,null,null,null,null,null,null,null,null,{"$f":"IF(J$2019=1,\"\",IF(T1497=\"\",\"\",RIGHT(VLOOKUP(T1497,Tabelle!$B$5:$C$9,2,FALSE),5)))","v":""},null,null,null,null,null,null,null,{"$f":"IF(B1497=\"\",0,IF(B1497=B1496,COUNTIF(B$9:B1496,B1497)+1,1))","v":1485},0,0]
["1490","-1900","-1900-1486",null,null,null,null,null,null,null,null,null,null,null,null,null,null,null,null,null,{"$f":"IF(J$2019=1,\"\",IF(T1498=\"\",\"\",RIGHT(VLOOKUP(T1498,Tabelle!$B$5:$C$9,2,FALSE),5)))","v":""},null,null,null,null,null,null,null,{"$f":"IF(B1498=\"\",0,IF(B1498=B1497,COUNTIF(B$9:B1497,B1498)+1,1))","v":1486},0,0]
["1491","-1900","-1900-1487",null,null,null,null,null,null,null,null,null,null,null,null,null,null,null,null,null,{"$f":"IF(J$2019=1,\"\",IF(T1499=\"\",\"\",RIGHT(VLOOKUP(T1499,Tabelle!$B$5:$C$9,2,FALSE),5)))","v":""},null,null,null,null,null,null,null,{"$f":"IF(B1499=\"\",0,IF(B1499=B1498,COUNTIF(B$9:B1498,B1499)+1,1))","v":1487},0,0]
["1492","-1900","-1900-1488",null,null,null,null,null,null,null,null,null,null,null,null,null,null,null,null,null,{"$f":"IF(J$2019=1,\"\",IF(T1500=\"\",\"\",RIGHT(VLOOKUP(T1500,Tabelle!$B$5:$C$9,2,FALSE),5)))","v":""},null,null,null,null,null,null,null,{"$f":"IF(B1500=\"\",0,IF(B1500=B1499,COUNTIF(B$9:B1499,B1500)+1,1))","v":1488},0,0]
["1493","-1900","-1900-1489",null,null,null,null,null,null,null,null,null,null,null,null,null,null,null,null,null,{"$f":"IF(J$2019=1,\"\",IF(T1501=\"\",\"\",RIGHT(VLOOKUP(T1501,Tabelle!$B$5:$C$9,2,FALSE),5)))","v":""},null,null,null,null,null,null,null,{"$f":"IF(B1501=\"\",0,IF(B1501=B1500,COUNTIF(B$9:B1500,B1501)+1,1))","v":1489},0,0]
["1494","-1900","-1900-1490",null,null,null,null,null,null,null,null,null,null,null,null,null,null,null,null,null,{"$f":"IF(J$2019=1,\"\",IF(T1502=\"\",\"\",RIGHT(VLOOKUP(T1502,Tabelle!$B$5:$C$9,2,FALSE),5)))","v":""},null,null,null,null,null,null,null,{"$f":"IF(B1502=\"\",0,IF(B1502=B1501,COUNTIF(B$9:B1501,B1502)+1,1))","v":1490},0,0]
["1495","-1900","-1900-1491",null,null,null,null,null,null,null,null,null,null,null,null,null,null,null,null,null,{"$f":"IF(J$2019=1,\"\",IF(T1503=\"\",\"\",RIGHT(VLOOKUP(T1503,Tabelle!$B$5:$C$9,2,FALSE),5)))","v":""},null,null,null,null,null,null,null,{"$f":"IF(B1503=\"\",0,IF(B1503=B1502,COUNTIF(B$9:B1502,B1503)+1,1))","v":1491},0,0]
["1496","-1900","-1900-1492",null,null,null,null,null,null,null,null,null,null,null,null,null,null,null,null,null,{"$f":"IF(J$2019=1,\"\",IF(T1504=\"\",\"\",RIGHT(VLOOKUP(T1504,Tabelle!$B$5:$C$9,2,FALSE),5)))","v":""},null,null,null,null,null,null,null,{"$f":"IF(B1504=\"\",0,IF(B1504=B1503,COUNTIF(B$9:B1503,B1504)+1,1))","v":1492},0,0]
["1497","-1900","-1900-1493",null,null,null,null,null,null,null,null,null,null,null,null,null,null,null,null,null,{"$f":"IF(J$2019=1,\"\",IF(T1505=\"\",\"\",RIGHT(VLOOKUP(T1505,Tabelle!$B$5:$C$9,2,FALSE),5)))","v":""},null,null,null,null,null,null,null,{"$f":"IF(B1505=\"\",0,IF(B1505=B1504,COUNTIF(B$9:B1504,B1505)+1,1))","v":1493},0,0]
["1498","-1900","-1900-1494",null,null,null,null,null,null,null,null,null,null,null,null,null,null,null,null,null,{"$f":"IF(J$2019=1,\"\",IF(T1506=\"\",\"\",RIGHT(VLOOKUP(T1506,Tabelle!$B$5:$C$9,2,FALSE),5)))","v":""},null,null,null,null,null,null,null,{"$f":"IF(B1506=\"\",0,IF(B1506=B1505,COUNTIF(B$9:B1505,B1506)+1,1))","v":1494},0,0]
["1499","-1900","-1900-1495",null,null,null,null,null,null,null,null,null,null,null,null,null,null,null,null,null,{"$f":"IF(J$2019=1,\"\",IF(T1507=\"\",\"\",RIGHT(VLOOKUP(T1507,Tabelle!$B$5:$C$9,2,FALSE),5)))","v":""},null,null,null,null,null,null,null,{"$f":"IF(B1507=\"\",0,IF(B1507=B1506,COUNTIF(B$9:B1506,B1507)+1,1))","v":1495},0,0]
["1500 di 2000","-1900","-1900-1496",null,null,null,null,null,null,null,null,null,null,null,null,null,null,null,null,null,{"$f":"IF(J$2019=1,\"\",IF(T1508=\"\",\"\",RIGHT(VLOOKUP(T1508,Tabelle!$B$5:$C$9,2,FALSE),5)))","v":""},null,null,null,null,null,null,null,{"$f":"IF(B1508=\"\",0,IF(B1508=B1507,COUNTIF(B$9:B1507,B1508)+1,1))","v":1496},0,0]
["1501","-1900","-1900-1497",null,null,null,null,null,null,null,null,null,null,null,null,null,null,null,null,null,{"$f":"IF(J$2019=1,\"\",IF(T1509=\"\",\"\",RIGHT(VLOOKUP(T1509,Tabelle!$B$5:$C$9,2,FALSE),5)))","v":""},null,null,null,null,null,null,null,{"$f":"IF(B1509=\"\",0,IF(B1509=B1508,COUNTIF(B$9:B1508,B1509)+1,1))","v":1497},0,0]
["1502","-1900","-1900-1498",null,null,null,null,null,null,null,null,null,null,null,null,null,null,null,null,null,{"$f":"IF(J$2019=1,\"\",IF(T1510=\"\",\"\",RIGHT(VLOOKUP(T1510,Tabelle!$B$5:$C$9,2,FALSE),5)))","v":""},null,null,null,null,null,null,null,{"$f":"IF(B1510=\"\",0,IF(B1510=B1509,COUNTIF(B$9:B1509,B1510)+1,1))","v":1498},0,0]
["1503","-1900","-1900-1499",null,null,null,null,null,null,null,null,null,null,null,null,null,null,null,null,null,{"$f":"IF(J$2019=1,\"\",IF(T1511=\"\",\"\",RIGHT(VLOOKUP(T1511,Tabelle!$B$5:$C$9,2,FALSE),5)))","v":""},null,null,null,null,null,null,null,{"$f":"IF(B1511=\"\",0,IF(B1511=B1510,COUNTIF(B$9:B1510,B1511)+1,1))","v":1499},0,0]
["1504","-1900","-1900-1500",null,null,null,null,null,null,null,null,null,null,null,null,null,null,null,null,null,{"$f":"IF(J$2019=1,\"\",IF(T1512=\"\",\"\",RIGHT(VLOOKUP(T1512,Tabelle!$B$5:$C$9,2,FALSE),5)))","v":""},null,null,null,null,null,null,null,{"$f":"IF(B1512=\"\",0,IF(B1512=B1511,COUNTIF(B$9:B1511,B1512)+1,1))","v":1500},0,0]
["1505","-1900","-1900-1501",null,null,null,null,null,null,null,null,null,null,null,null,null,null,null,null,null,{"$f":"IF(J$2019=1,\"\",IF(T1513=\"\",\"\",RIGHT(VLOOKUP(T1513,Tabelle!$B$5:$C$9,2,FALSE),5)))","v":""},null,null,null,null,null,null,null,{"$f":"IF(B1513=\"\",0,IF(B1513=B1512,COUNTIF(B$9:B1512,B1513)+1,1))","v":1501},0,0]
["1506","-1900","-1900-1502",null,null,null,null,null,null,null,null,null,null,null,null,null,null,null,null,null,{"$f":"IF(J$2019=1,\"\",IF(T1514=\"\",\"\",RIGHT(VLOOKUP(T1514,Tabelle!$B$5:$C$9,2,FALSE),5)))","v":""},null,null,null,null,null,null,null,{"$f":"IF(B1514=\"\",0,IF(B1514=B1513,COUNTIF(B$9:B1513,B1514)+1,1))","v":1502},0,0]
["1507","-1900","-1900-1503",null,null,null,null,null,null,null,null,null,null,null,null,null,null,null,null,null,{"$f":"IF(J$2019=1,\"\",IF(T1515=\"\",\"\",RIGHT(VLOOKUP(T1515,Tabelle!$B$5:$C$9,2,FALSE),5)))","v":""},null,null,null,null,null,null,null,{"$f":"IF(B1515=\"\",0,IF(B1515=B1514,COUNTIF(B$9:B1514,B1515)+1,1))","v":1503},0,0]
["1508","-1900","-1900-1504",null,null,null,null,null,null,null,null,null,null,null,null,null,null,null,null,null,{"$f":"IF(J$2019=1,\"\",IF(T1516=\"\",\"\",RIGHT(VLOOKUP(T1516,Tabelle!$B$5:$C$9,2,FALSE),5)))","v":""},null,null,null,null,null,null,null,{"$f":"IF(B1516=\"\",0,IF(B1516=B1515,COUNTIF(B$9:B1515,B1516)+1,1))","v":1504},0,0]
["1509","-1900","-1900-1505",null,null,null,null,null,null,null,null,null,null,null,null,null,null,null,null,null,{"$f":"IF(J$2019=1,\"\",IF(T1517=\"\",\"\",RIGHT(VLOOKUP(T1517,Tabelle!$B$5:$C$9,2,FALSE),5)))","v":""},null,null,null,null,null,null,null,{"$f":"IF(B1517=\"\",0,IF(B1517=B1516,COUNTIF(B$9:B1516,B1517)+1,1))","v":1505},0,0]
["1510","-1900","-1900-1506",null,null,null,null,null,null,null,null,null,null,null,null,null,null,null,null,null,{"$f":"IF(J$2019=1,\"\",IF(T1518=\"\",\"\",RIGHT(VLOOKUP(T1518,Tabelle!$B$5:$C$9,2,FALSE),5)))","v":""},null,null,null,null,null,null,null,{"$f":"IF(B1518=\"\",0,IF(B1518=B1517,COUNTIF(B$9:B1517,B1518)+1,1))","v":1506},0,0]
["1511","-1900","-1900-1507",null,null,null,null,null,null,null,null,null,null,null,null,null,null,null,null,null,{"$f":"IF(J$2019=1,\"\",IF(T1519=\"\",\"\",RIGHT(VLOOKUP(T1519,Tabelle!$B$5:$C$9,2,FALSE),5)))","v":""},null,null,null,null,null,null,null,{"$f":"IF(B1519=\"\",0,IF(B1519=B1518,COUNTIF(B$9:B1518,B1519)+1,1))","v":1507},0,0]
["1512","-1900","-1900-1508",null,null,null,null,null,null,null,null,null,null,null,null,null,null,null,null,null,{"$f":"IF(J$2019=1,\"\",IF(T1520=\"\",\"\",RIGHT(VLOOKUP(T1520,Tabelle!$B$5:$C$9,2,FALSE),5)))","v":""},null,null,null,null,null,null,null,{"$f":"IF(B1520=\"\",0,IF(B1520=B1519,COUNTIF(B$9:B1519,B1520)+1,1))","v":1508},0,0]
["1513","-1900","-1900-1509",null,null,null,null,null,null,null,null,null,null,null,null,null,null,null,null,null,{"$f":"IF(J$2019=1,\"\",IF(T1521=\"\",\"\",RIGHT(VLOOKUP(T1521,Tabelle!$B$5:$C$9,2,FALSE),5)))","v":""},null,null,null,null,null,null,null,{"$f":"IF(B1521=\"\",0,IF(B1521=B1520,COUNTIF(B$9:B1520,B1521)+1,1))","v":1509},0,0]
["1514","-1900","-1900-1510",null,null,null,null,null,null,null,null,null,null,null,null,null,null,null,null,null,{"$f":"IF(J$2019=1,\"\",IF(T1522=\"\",\"\",RIGHT(VLOOKUP(T1522,Tabelle!$B$5:$C$9,2,FALSE),5)))","v":""},null,null,null,null,null,null,null,{"$f":"IF(B1522=\"\",0,IF(B1522=B1521,COUNTIF(B$9:B1521,B1522)+1,1))","v":1510},0,0]
["1515","-1900","-1900-1511",null,null,null,null,null,null,null,null,null,null,null,null,null,null,null,null,null,{"$f":"IF(J$2019=1,\"\",IF(T1523=\"\",\"\",RIGHT(VLOOKUP(T1523,Tabelle!$B$5:$C$9,2,FALSE),5)))","v":""},null,null,null,null,null,null,null,{"$f":"IF(B1523=\"\",0,IF(B1523=B1522,COUNTIF(B$9:B1522,B1523)+1,1))","v":1511},0,0]
["1516","-1900","-1900-1512",null,null,null,null,null,null,null,null,null,null,null,null,null,null,null,null,null,{"$f":"IF(J$2019=1,\"\",IF(T1524=\"\",\"\",RIGHT(VLOOKUP(T1524,Tabelle!$B$5:$C$9,2,FALSE),5)))","v":""},null,null,null,null,null,null,null,{"$f":"IF(B1524=\"\",0,IF(B1524=B1523,COUNTIF(B$9:B1523,B1524)+1,1))","v":1512},0,0]
["1517","-1900","-1900-1513",null,null,null,null,null,null,null,null,null,null,null,null,null,null,null,null,null,{"$f":"IF(J$2019=1,\"\",IF(T1525=\"\",\"\",RIGHT(VLOOKUP(T1525,Tabelle!$B$5:$C$9,2,FALSE),5)))","v":""},null,null,null,null,null,null,null,{"$f":"IF(B1525=\"\",0,IF(B1525=B1524,COUNTIF(B$9:B1524,B1525)+1,1))","v":1513},0,0]
["1518","-1900","-1900-1514",null,null,null,null,null,null,null,null,null,null,null,null,null,null,null,null,null,{"$f":"IF(J$2019=1,\"\",IF(T1526=\"\",\"\",RIGHT(VLOOKUP(T1526,Tabelle!$B$5:$C$9,2,FALSE),5)))","v":""},null,null,null,null,null,null,null,{"$f":"IF(B1526=\"\",0,IF(B1526=B1525,COUNTIF(B$9:B1525,B1526)+1,1))","v":1514},0,0]
["1519","-1900","-1900-1515",null,null,null,null,null,null,null,null,null,null,null,null,null,null,null,null,null,{"$f":"IF(J$2019=1,\"\",IF(T1527=\"\",\"\",RIGHT(VLOOKUP(T1527,Tabelle!$B$5:$C$9,2,FALSE),5)))","v":""},null,null,null,null,null,null,null,{"$f":"IF(B1527=\"\",0,IF(B1527=B1526,COUNTIF(B$9:B1526,B1527)+1,1))","v":1515},0,0]
["1520","-1900","-1900-1516",null,null,null,null,null,null,null,null,null,null,null,null,null,null,null,null,null,{"$f":"IF(J$2019=1,\"\",IF(T1528=\"\",\"\",RIGHT(VLOOKUP(T1528,Tabelle!$B$5:$C$9,2,FALSE),5)))","v":""},null,null,null,null,null,null,null,{"$f":"IF(B1528=\"\",0,IF(B1528=B1527,COUNTIF(B$9:B1527,B1528)+1,1))","v":1516},0,0]
["1521","-1900","-1900-1517",null,null,null,null,null,null,null,null,null,null,null,null,null,null,null,null,null,{"$f":"IF(J$2019=1,\"\",IF(T1529=\"\",\"\",RIGHT(VLOOKUP(T1529,Tabelle!$B$5:$C$9,2,FALSE),5)))","v":""},null,null,null,null,null,null,null,{"$f":"IF(B1529=\"\",0,IF(B1529=B1528,COUNTIF(B$9:B1528,B1529)+1,1))","v":1517},0,0]
["1522","-1900","-1900-1518",null,null,null,null,null,null,null,null,null,null,null,null,null,null,null,null,null,{"$f":"IF(J$2019=1,\"\",IF(T1530=\"\",\"\",RIGHT(VLOOKUP(T1530,Tabelle!$B$5:$C$9,2,FALSE),5)))","v":""},null,null,null,null,null,null,null,{"$f":"IF(B1530=\"\",0,IF(B1530=B1529,COUNTIF(B$9:B1529,B1530)+1,1))","v":1518},0,0]
["1523","-1900","-1900-1519",null,null,null,null,null,null,null,null,null,null,null,null,null,null,null,null,null,{"$f":"IF(J$2019=1,\"\",IF(T1531=\"\",\"\",RIGHT(VLOOKUP(T1531,Tabelle!$B$5:$C$9,2,FALSE),5)))","v":""},null,null,null,null,null,null,null,{"$f":"IF(B1531=\"\",0,IF(B1531=B1530,COUNTIF(B$9:B1530,B1531)+1,1))","v":1519},0,0]
["1524","-1900","-1900-1520",null,null,null,null,null,null,null,null,null,null,null,null,null,null,null,null,null,{"$f":"IF(J$2019=1,\"\",IF(T1532=\"\",\"\",RIGHT(VLOOKUP(T1532,Tabelle!$B$5:$C$9,2,FALSE),5)))","v":""},null,null,null,null,null,null,null,{"$f":"IF(B1532=\"\",0,IF(B1532=B1531,COUNTIF(B$9:B1531,B1532)+1,1))","v":1520},0,0]
["1525","-1900","-1900-1521",null,null,null,null,null,null,null,null,null,null,null,null,null,null,null,null,null,{"$f":"IF(J$2019=1,\"\",IF(T1533=\"\",\"\",RIGHT(VLOOKUP(T1533,Tabelle!$B$5:$C$9,2,FALSE),5)))","v":""},null,null,null,null,null,null,null,{"$f":"IF(B1533=\"\",0,IF(B1533=B1532,COUNTIF(B$9:B1532,B1533)+1,1))","v":1521},0,0]
["1526","-1900","-1900-1522",null,null,null,null,null,null,null,null,null,null,null,null,null,null,null,null,null,{"$f":"IF(J$2019=1,\"\",IF(T1534=\"\",\"\",RIGHT(VLOOKUP(T1534,Tabelle!$B$5:$C$9,2,FALSE),5)))","v":""},null,null,null,null,null,null,null,{"$f":"IF(B1534=\"\",0,IF(B1534=B1533,COUNTIF(B$9:B1533,B1534)+1,1))","v":1522},0,0]
["1527","-1900","-1900-1523",null,null,null,null,null,null,null,null,null,null,null,null,null,null,null,null,null,{"$f":"IF(J$2019=1,\"\",IF(T1535=\"\",\"\",RIGHT(VLOOKUP(T1535,Tabelle!$B$5:$C$9,2,FALSE),5)))","v":""},null,null,null,null,null,null,null,{"$f":"IF(B1535=\"\",0,IF(B1535=B1534,COUNTIF(B$9:B1534,B1535)+1,1))","v":1523},0,0]
["1528","-1900","-1900-1524",null,null,null,null,null,null,null,null,null,null,null,null,null,null,null,null,null,{"$f":"IF(J$2019=1,\"\",IF(T1536=\"\",\"\",RIGHT(VLOOKUP(T1536,Tabelle!$B$5:$C$9,2,FALSE),5)))","v":""},null,null,null,null,null,null,null,{"$f":"IF(B1536=\"\",0,IF(B1536=B1535,COUNTIF(B$9:B1535,B1536)+1,1))","v":1524},0,0]
["1529","-1900","-1900-1525",null,null,null,null,null,null,null,null,null,null,null,null,null,null,null,null,null,{"$f":"IF(J$2019=1,\"\",IF(T1537=\"\",\"\",RIGHT(VLOOKUP(T1537,Tabelle!$B$5:$C$9,2,FALSE),5)))","v":""},null,null,null,null,null,null,null,{"$f":"IF(B1537=\"\",0,IF(B1537=B1536,COUNTIF(B$9:B1536,B1537)+1,1))","v":1525},0,0]
["1530","-1900","-1900-1526",null,null,null,null,null,null,null,null,null,null,null,null,null,null,null,null,null,{"$f":"IF(J$2019=1,\"\",IF(T1538=\"\",\"\",RIGHT(VLOOKUP(T1538,Tabelle!$B$5:$C$9,2,FALSE),5)))","v":""},null,null,null,null,null,null,null,{"$f":"IF(B1538=\"\",0,IF(B1538=B1537,COUNTIF(B$9:B1537,B1538)+1,1))","v":1526},0,0]
["1531","-1900","-1900-1527",null,null,null,null,null,null,null,null,null,null,null,null,null,null,null,null,null,{"$f":"IF(J$2019=1,\"\",IF(T1539=\"\",\"\",RIGHT(VLOOKUP(T1539,Tabelle!$B$5:$C$9,2,FALSE),5)))","v":""},null,null,null,null,null,null,null,{"$f":"IF(B1539=\"\",0,IF(B1539=B1538,COUNTIF(B$9:B1538,B1539)+1,1))","v":1527},0,0]
["1532","-1900","-1900-1528",null,null,null,null,null,null,null,null,null,null,null,null,null,null,null,null,null,{"$f":"IF(J$2019=1,\"\",IF(T1540=\"\",\"\",RIGHT(VLOOKUP(T1540,Tabelle!$B$5:$C$9,2,FALSE),5)))","v":""},null,null,null,null,null,null,null,{"$f":"IF(B1540=\"\",0,IF(B1540=B1539,COUNTIF(B$9:B1539,B1540)+1,1))","v":1528},0,0]
["1533","-1900","-1900-1529",null,null,null,null,null,null,null,null,null,null,null,null,null,null,null,null,null,{"$f":"IF(J$2019=1,\"\",IF(T1541=\"\",\"\",RIGHT(VLOOKUP(T1541,Tabelle!$B$5:$C$9,2,FALSE),5)))","v":""},null,null,null,null,null,null,null,{"$f":"IF(B1541=\"\",0,IF(B1541=B1540,COUNTIF(B$9:B1540,B1541)+1,1))","v":1529},0,0]
["1534","-1900","-1900-1530",null,null,null,null,null,null,null,null,null,null,null,null,null,null,null,null,null,{"$f":"IF(J$2019=1,\"\",IF(T1542=\"\",\"\",RIGHT(VLOOKUP(T1542,Tabelle!$B$5:$C$9,2,FALSE),5)))","v":""},null,null,null,null,null,null,null,{"$f":"IF(B1542=\"\",0,IF(B1542=B1541,COUNTIF(B$9:B1541,B1542)+1,1))","v":1530},0,0]
["1535","-1900","-1900-1531",null,null,null,null,null,null,null,null,null,null,null,null,null,null,null,null,null,{"$f":"IF(J$2019=1,\"\",IF(T1543=\"\",\"\",RIGHT(VLOOKUP(T1543,Tabelle!$B$5:$C$9,2,FALSE),5)))","v":""},null,null,null,null,null,null,null,{"$f":"IF(B1543=\"\",0,IF(B1543=B1542,COUNTIF(B$9:B1542,B1543)+1,1))","v":1531},0,0]
["1536","-1900","-1900-1532",null,null,null,null,null,null,null,null,null,null,null,null,null,null,null,null,null,{"$f":"IF(J$2019=1,\"\",IF(T1544=\"\",\"\",RIGHT(VLOOKUP(T1544,Tabelle!$B$5:$C$9,2,FALSE),5)))","v":""},null,null,null,null,null,null,null,{"$f":"IF(B1544=\"\",0,IF(B1544=B1543,COUNTIF(B$9:B1543,B1544)+1,1))","v":1532},0,0]
["1537","-1900","-1900-1533",null,null,null,null,null,null,null,null,null,null,null,null,null,null,null,null,null,{"$f":"IF(J$2019=1,\"\",IF(T1545=\"\",\"\",RIGHT(VLOOKUP(T1545,Tabelle!$B$5:$C$9,2,FALSE),5)))","v":""},null,null,null,null,null,null,null,{"$f":"IF(B1545=\"\",0,IF(B1545=B1544,COUNTIF(B$9:B1544,B1545)+1,1))","v":1533},0,0]
["1538",{"$f":"IF(AE1546=$AE$2013,0,IF(J$2019=1,0,D1546&\"-\"&YEAR(E1546)))","v":"-1900"},"-1900-1534",null,null,null,null,null,null,null,null,null,null,null,null,null,null,null,null,null,{"$f":"IF(J$2019=1,\"\",IF(T1546=\"\",\"\",RIGHT(VLOOKUP(T1546,Tabelle!$B$5:$C$9,2,FALSE),5)))","v":""},null,null,null,null,null,null,null,{"$f":"IF(B1546=\"\",0,IF(B1546=B1545,COUNTIF(B$9:B1545,B1546)+1,1))","v":1534},0,{"$f":"IF(E1546>0,IF(OR(MONTH(E1546)<$J$2025,MONTH(E1546)>$J$2026),AE$2013,0),0)","v":0}]
["1539","-1900","-1900-1535",null,null,null,null,null,null,null,null,null,null,null,null,null,null,null,null,null,{"$f":"IF(J$2019=1,\"\",IF(T1547=\"\",\"\",RIGHT(VLOOKUP(T1547,Tabelle!$B$5:$C$9,2,FALSE),5)))","v":""},null,null,null,null,null,null,null,{"$f":"IF(B1547=\"\",0,IF(B1547=B1546,COUNTIF(B$9:B1546,B1547)+1,1))","v":1535},0,0]
["1540","-1900","-1900-1536",null,null,null,null,null,null,null,null,null,null,null,null,null,null,null,null,null,{"$f":"IF(J$2019=1,\"\",IF(T1548=\"\",\"\",RIGHT(VLOOKUP(T1548,Tabelle!$B$5:$C$9,2,FALSE),5)))","v":""},null,null,null,null,null,null,null,{"$f":"IF(B1548=\"\",0,IF(B1548=B1547,COUNTIF(B$9:B1547,B1548)+1,1))","v":1536},0,0]
["1541","-1900","-1900-1537",null,null,null,null,null,null,null,null,null,null,null,null,null,null,null,null,null,{"$f":"IF(J$2019=1,\"\",IF(T1549=\"\",\"\",RIGHT(VLOOKUP(T1549,Tabelle!$B$5:$C$9,2,FALSE),5)))","v":""},null,null,null,null,null,null,null,{"$f":"IF(B1549=\"\",0,IF(B1549=B1548,COUNTIF(B$9:B1548,B1549)+1,1))","v":1537},0,0]
["1542","-1900","-1900-1538",null,null,null,null,null,null,null,null,null,null,null,null,null,null,null,null,null,{"$f":"IF(J$2019=1,\"\",IF(T1550=\"\",\"\",RIGHT(VLOOKUP(T1550,Tabelle!$B$5:$C$9,2,FALSE),5)))","v":""},null,null,null,null,null,null,null,{"$f":"IF(B1550=\"\",0,IF(B1550=B1549,COUNTIF(B$9:B1549,B1550)+1,1))","v":1538},0,0]
["1543","-1900","-1900-1539",null,null,null,null,null,null,null,null,null,null,null,null,null,null,null,null,null,{"$f":"IF(J$2019=1,\"\",IF(T1551=\"\",\"\",RIGHT(VLOOKUP(T1551,Tabelle!$B$5:$C$9,2,FALSE),5)))","v":""},null,null,null,null,null,null,null,{"$f":"IF(B1551=\"\",0,IF(B1551=B1550,COUNTIF(B$9:B1550,B1551)+1,1))","v":1539},0,0]
["1544","-1900","-1900-1540",null,null,null,null,null,null,null,null,null,null,null,null,null,null,null,null,null,{"$f":"IF(J$2019=1,\"\",IF(T1552=\"\",\"\",RIGHT(VLOOKUP(T1552,Tabelle!$B$5:$C$9,2,FALSE),5)))","v":""},null,null,null,null,null,null,null,{"$f":"IF(B1552=\"\",0,IF(B1552=B1551,COUNTIF(B$9:B1551,B1552)+1,1))","v":1540},0,0]
["1545","-1900","-1900-1541",null,null,null,null,null,null,null,null,null,null,null,null,null,null,null,null,null,{"$f":"IF(J$2019=1,\"\",IF(T1553=\"\",\"\",RIGHT(VLOOKUP(T1553,Tabelle!$B$5:$C$9,2,FALSE),5)))","v":""},null,null,null,null,null,null,null,{"$f":"IF(B1553=\"\",0,IF(B1553=B1552,COUNTIF(B$9:B1552,B1553)+1,1))","v":1541},0,0]
["1546","-1900","-1900-1542",null,null,null,null,null,null,null,null,null,null,null,null,null,null,null,null,null,{"$f":"IF(J$2019=1,\"\",IF(T1554=\"\",\"\",RIGHT(VLOOKUP(T1554,Tabelle!$B$5:$C$9,2,FALSE),5)))","v":""},null,null,null,null,null,null,null,{"$f":"IF(B1554=\"\",0,IF(B1554=B1553,COUNTIF(B$9:B1553,B1554)+1,1))","v":1542},0,0]
["1547","-1900","-1900-1543",null,null,null,null,null,null,null,null,null,null,null,null,null,null,null,null,null,{"$f":"IF(J$2019=1,\"\",IF(T1555=\"\",\"\",RIGHT(VLOOKUP(T1555,Tabelle!$B$5:$C$9,2,FALSE),5)))","v":""},null,null,null,null,null,null,null,{"$f":"IF(B1555=\"\",0,IF(B1555=B1554,COUNTIF(B$9:B1554,B1555)+1,1))","v":1543},0,0]
["1548","-1900","-1900-1544",null,null,null,null,null,null,null,null,null,null,null,null,null,null,null,null,null,{"$f":"IF(J$2019=1,\"\",IF(T1556=\"\",\"\",RIGHT(VLOOKUP(T1556,Tabelle!$B$5:$C$9,2,FALSE),5)))","v":""},null,null,null,null,null,null,null,{"$f":"IF(B1556=\"\",0,IF(B1556=B1555,COUNTIF(B$9:B1555,B1556)+1,1))","v":1544},0,0]
["1549","-1900","-1900-1545",null,null,null,null,null,null,null,null,null,null,null,null,null,null,null,null,null,{"$f":"IF(J$2019=1,\"\",IF(T1557=\"\",\"\",RIGHT(VLOOKUP(T1557,Tabelle!$B$5:$C$9,2,FALSE),5)))","v":""},null,null,null,null,null,null,null,{"$f":"IF(B1557=\"\",0,IF(B1557=B1556,COUNTIF(B$9:B1556,B1557)+1,1))","v":1545},{"$f":"IF(OR(D1557=\"\",J$2019=1),0,IF(AC1557=28,1,0))","v":0},0]
["1550","-1900","-1900-1546",null,null,null,null,null,null,null,null,null,null,null,null,null,null,null,null,null,{"$f":"IF(J$2019=1,\"\",IF(T1558=\"\",\"\",RIGHT(VLOOKUP(T1558,Tabelle!$B$5:$C$9,2,FALSE),5)))","v":""},null,null,null,null,null,null,null,{"$f":"IF(B1558=\"\",0,IF(B1558=B1557,COUNTIF(B$9:B1557,B1558)+1,1))","v":1546},0,0]
["1551","-1900",{"$f":"IF(J$2019=1,0,B1559&\"-\"&AC1559)","v":"-1900-1547"},null,null,null,null,null,null,null,null,null,null,null,null,null,null,null,null,null,{"$f":"IF(J$2019=1,\"\",IF(T1559=\"\",\"\",RIGHT(VLOOKUP(T1559,Tabelle!$B$5:$C$9,2,FALSE),5)))","v":""},null,null,null,null,null,null,null,{"$f":"IF(B1559=\"\",0,IF(B1559=B1558,COUNTIF(B$9:B1558,B1559)+1,1))","v":1547},0,0]
["1552","-1900","-1900-1548",null,null,null,null,null,null,null,null,null,null,null,null,null,null,null,null,null,{"$f":"IF(J$2019=1,\"\",IF(T1560=\"\",\"\",RIGHT(VLOOKUP(T1560,Tabelle!$B$5:$C$9,2,FALSE),5)))","v":""},null,null,null,null,null,null,null,{"$f":"IF(B1560=\"\",0,IF(B1560=B1559,COUNTIF(B$9:B1559,B1560)+1,1))","v":1548},0,0]
["1553","-1900","-1900-1549",null,null,null,null,null,null,null,null,null,null,null,null,null,null,null,null,null,{"$f":"IF(J$2019=1,\"\",IF(T1561=\"\",\"\",RIGHT(VLOOKUP(T1561,Tabelle!$B$5:$C$9,2,FALSE),5)))","v":""},null,null,null,null,null,null,null,{"$f":"IF(B1561=\"\",0,IF(B1561=B1560,COUNTIF(B$9:B1560,B1561)+1,1))","v":1549},0,0]
["1554","-1900","-1900-1550",null,null,null,null,null,null,null,null,null,null,null,null,null,null,null,null,null,{"$f":"IF(J$2019=1,\"\",IF(T1562=\"\",\"\",RIGHT(VLOOKUP(T1562,Tabelle!$B$5:$C$9,2,FALSE),5)))","v":""},null,null,null,null,null,null,null,{"$f":"IF(B1562=\"\",0,IF(B1562=B1561,COUNTIF(B$9:B1561,B1562)+1,1))","v":1550},0,0]
["1555","-1900","-1900-1551",null,null,null,null,null,null,null,null,null,null,null,null,null,null,null,null,null,{"$f":"IF(J$2019=1,\"\",IF(T1563=\"\",\"\",RIGHT(VLOOKUP(T1563,Tabelle!$B$5:$C$9,2,FALSE),5)))","v":""},null,null,null,null,null,null,null,{"$f":"IF(B1563=\"\",0,IF(B1563=B1562,COUNTIF(B$9:B1562,B1563)+1,1))","v":1551},0,0]
["1556","-1900","-1900-1552",null,null,null,null,null,null,null,null,null,null,null,null,null,null,null,null,null,{"$f":"IF(J$2019=1,\"\",IF(T1564=\"\",\"\",RIGHT(VLOOKUP(T1564,Tabelle!$B$5:$C$9,2,FALSE),5)))","v":""},null,null,null,null,null,null,null,{"$f":"IF(B1564=\"\",0,IF(B1564=B1563,COUNTIF(B$9:B1563,B1564)+1,1))","v":1552},0,0]
["1557","-1900","-1900-1553",null,null,null,null,null,null,null,null,null,null,null,null,null,null,null,null,null,{"$f":"IF(J$2019=1,\"\",IF(T1565=\"\",\"\",RIGHT(VLOOKUP(T1565,Tabelle!$B$5:$C$9,2,FALSE),5)))","v":""},null,null,null,null,null,null,null,{"$f":"IF(B1565=\"\",0,IF(B1565=B1564,COUNTIF(B$9:B1564,B1565)+1,1))","v":1553},0,0]
["1558","-1900","-1900-1554",null,null,null,null,null,null,null,null,null,null,null,null,null,null,null,null,null,{"$f":"IF(J$2019=1,\"\",IF(T1566=\"\",\"\",RIGHT(VLOOKUP(T1566,Tabelle!$B$5:$C$9,2,FALSE),5)))","v":""},null,null,null,null,null,null,null,{"$f":"IF(B1566=\"\",0,IF(B1566=B1565,COUNTIF(B$9:B1565,B1566)+1,1))","v":1554},0,0]
["1559","-1900","-1900-1555",null,null,null,null,null,null,null,null,null,null,null,null,null,null,null,null,null,{"$f":"IF(J$2019=1,\"\",IF(T1567=\"\",\"\",RIGHT(VLOOKUP(T1567,Tabelle!$B$5:$C$9,2,FALSE),5)))","v":""},null,null,null,null,null,null,null,{"$f":"IF(B1567=\"\",0,IF(B1567=B1566,COUNTIF(B$9:B1566,B1567)+1,1))","v":1555},0,0]
["1560","-1900","-1900-1556",null,null,null,null,null,null,null,null,null,null,null,null,null,null,null,null,null,{"$f":"IF(J$2019=1,\"\",IF(T1568=\"\",\"\",RIGHT(VLOOKUP(T1568,Tabelle!$B$5:$C$9,2,FALSE),5)))","v":""},null,null,null,null,null,null,null,{"$f":"IF(B1568=\"\",0,IF(B1568=B1567,COUNTIF(B$9:B1567,B1568)+1,1))","v":1556},0,0]
["1561","-1900","-1900-1557",null,null,null,null,null,null,null,null,null,null,null,null,null,null,null,null,null,{"$f":"IF(J$2019=1,\"\",IF(T1569=\"\",\"\",RIGHT(VLOOKUP(T1569,Tabelle!$B$5:$C$9,2,FALSE),5)))","v":""},null,null,null,null,null,null,null,{"$f":"IF(B1569=\"\",0,IF(B1569=B1568,COUNTIF(B$9:B1568,B1569)+1,1))","v":1557},0,0]
["1562","-1900","-1900-1558",null,null,null,null,null,null,null,null,null,null,null,null,null,null,null,null,null,{"$f":"IF(J$2019=1,\"\",IF(T1570=\"\",\"\",RIGHT(VLOOKUP(T1570,Tabelle!$B$5:$C$9,2,FALSE),5)))","v":""},null,null,null,null,null,null,null,{"$f":"IF(B1570=\"\",0,IF(B1570=B1569,COUNTIF(B$9:B1569,B1570)+1,1))","v":1558},0,0]
["1563","-1900","-1900-1559",null,null,null,null,null,null,null,null,null,null,null,null,null,null,null,null,null,{"$f":"IF(J$2019=1,\"\",IF(T1571=\"\",\"\",RIGHT(VLOOKUP(T1571,Tabelle!$B$5:$C$9,2,FALSE),5)))","v":""},null,null,null,null,null,null,null,{"$f":"IF(B1571=\"\",0,IF(B1571=B1570,COUNTIF(B$9:B1570,B1571)+1,1))","v":1559},0,0]
["1564","-1900","-1900-1560",null,null,null,null,null,null,null,null,null,null,null,null,null,null,null,null,null,{"$f":"IF(J$2019=1,\"\",IF(T1572=\"\",\"\",RIGHT(VLOOKUP(T1572,Tabelle!$B$5:$C$9,2,FALSE),5)))","v":""},null,null,null,null,null,null,null,{"$f":"IF(B1572=\"\",0,IF(B1572=B1571,COUNTIF(B$9:B1571,B1572)+1,1))","v":1560},0,0]
["1565","-1900","-1900-1561",null,null,null,null,null,null,null,null,null,null,null,null,null,null,null,null,null,{"$f":"IF(J$2019=1,\"\",IF(T1573=\"\",\"\",RIGHT(VLOOKUP(T1573,Tabelle!$B$5:$C$9,2,FALSE),5)))","v":""},null,null,null,null,null,null,null,{"$f":"IF(B1573=\"\",0,IF(B1573=B1572,COUNTIF(B$9:B1572,B1573)+1,1))","v":1561},0,0]
["1566","-1900","-1900-1562",null,null,null,null,null,null,null,null,null,null,null,null,null,null,null,null,null,{"$f":"IF(J$2019=1,\"\",IF(T1574=\"\",\"\",RIGHT(VLOOKUP(T1574,Tabelle!$B$5:$C$9,2,FALSE),5)))","v":""},null,null,null,null,null,null,null,{"$f":"IF(B1574=\"\",0,IF(B1574=B1573,COUNTIF(B$9:B1573,B1574)+1,1))","v":1562},0,0]
["1567","-1900","-1900-1563",null,null,null,null,null,null,null,null,null,null,null,null,null,null,null,null,null,{"$f":"IF(J$2019=1,\"\",IF(T1575=\"\",\"\",RIGHT(VLOOKUP(T1575,Tabelle!$B$5:$C$9,2,FALSE),5)))","v":""},null,null,null,null,null,null,null,{"$f":"IF(B1575=\"\",0,IF(B1575=B1574,COUNTIF(B$9:B1574,B1575)+1,1))","v":1563},0,0]
["1568","-1900","-1900-1564",null,null,null,null,null,null,null,null,null,null,null,null,null,null,null,null,null,{"$f":"IF(J$2019=1,\"\",IF(T1576=\"\",\"\",RIGHT(VLOOKUP(T1576,Tabelle!$B$5:$C$9,2,FALSE),5)))","v":""},null,null,null,null,null,null,null,{"$f":"IF(B1576=\"\",0,IF(B1576=B1575,COUNTIF(B$9:B1575,B1576)+1,1))","v":1564},0,0]
["1569","-1900","-1900-1565",null,null,null,null,null,null,null,null,null,null,null,null,null,null,null,null,null,{"$f":"IF(J$2019=1,\"\",IF(T1577=\"\",\"\",RIGHT(VLOOKUP(T1577,Tabelle!$B$5:$C$9,2,FALSE),5)))","v":""},null,null,null,null,null,null,null,{"$f":"IF(B1577=\"\",0,IF(B1577=B1576,COUNTIF(B$9:B1576,B1577)+1,1))","v":1565},0,0]
["1570","-1900","-1900-1566",null,null,null,null,null,null,null,null,null,null,null,null,null,null,null,null,null,{"$f":"IF(J$2019=1,\"\",IF(T1578=\"\",\"\",RIGHT(VLOOKUP(T1578,Tabelle!$B$5:$C$9,2,FALSE),5)))","v":""},null,null,null,null,null,null,null,{"$f":"IF(B1578=\"\",0,IF(B1578=B1577,COUNTIF(B$9:B1577,B1578)+1,1))","v":1566},0,0]
["1571","-1900","-1900-1567",null,null,null,null,null,null,null,null,null,null,null,null,null,null,null,null,null,{"$f":"IF(J$2019=1,\"\",IF(T1579=\"\",\"\",RIGHT(VLOOKUP(T1579,Tabelle!$B$5:$C$9,2,FALSE),5)))","v":""},null,null,null,null,null,null,null,{"$f":"IF(B1579=\"\",0,IF(B1579=B1578,COUNTIF(B$9:B1578,B1579)+1,1))","v":1567},0,0]
["1572","-1900","-1900-1568",null,null,null,null,null,null,null,null,null,null,null,null,null,null,null,null,null,{"$f":"IF(J$2019=1,\"\",IF(T1580=\"\",\"\",RIGHT(VLOOKUP(T1580,Tabelle!$B$5:$C$9,2,FALSE),5)))","v":""},null,null,null,null,null,null,null,{"$f":"IF(B1580=\"\",0,IF(B1580=B1579,COUNTIF(B$9:B1579,B1580)+1,1))","v":1568},0,0]
["1573","-1900","-1900-1569",null,null,null,null,null,null,null,null,null,null,null,null,null,null,null,null,null,{"$f":"IF(J$2019=1,\"\",IF(T1581=\"\",\"\",RIGHT(VLOOKUP(T1581,Tabelle!$B$5:$C$9,2,FALSE),5)))","v":""},null,null,null,null,null,null,null,{"$f":"IF(B1581=\"\",0,IF(B1581=B1580,COUNTIF(B$9:B1580,B1581)+1,1))","v":1569},0,0]
["1574","-1900","-1900-1570",null,null,null,null,null,null,null,null,null,null,null,null,null,null,null,null,null,{"$f":"IF(J$2019=1,\"\",IF(T1582=\"\",\"\",RIGHT(VLOOKUP(T1582,Tabelle!$B$5:$C$9,2,FALSE),5)))","v":""},null,null,null,null,null,null,null,{"$f":"IF(B1582=\"\",0,IF(B1582=B1581,COUNTIF(B$9:B1581,B1582)+1,1))","v":1570},0,0]
["1575","-1900","-1900-1571",null,null,null,null,null,null,null,null,null,null,null,null,null,null,null,null,null,{"$f":"IF(J$2019=1,\"\",IF(T1583=\"\",\"\",RIGHT(VLOOKUP(T1583,Tabelle!$B$5:$C$9,2,FALSE),5)))","v":""},null,null,null,null,null,null,null,{"$f":"IF(B1583=\"\",0,IF(B1583=B1582,COUNTIF(B$9:B1582,B1583)+1,1))","v":1571},0,0]
["1576","-1900","-1900-1572",null,null,null,null,null,null,null,null,null,null,null,null,null,null,null,null,null,{"$f":"IF(J$2019=1,\"\",IF(T1584=\"\",\"\",RIGHT(VLOOKUP(T1584,Tabelle!$B$5:$C$9,2,FALSE),5)))","v":""},null,null,null,null,null,null,null,{"$f":"IF(B1584=\"\",0,IF(B1584=B1583,COUNTIF(B$9:B1583,B1584)+1,1))","v":1572},0,0]
["1577","-1900","-1900-1573",null,null,null,null,null,null,null,null,null,null,null,null,null,null,null,null,null,{"$f":"IF(J$2019=1,\"\",IF(T1585=\"\",\"\",RIGHT(VLOOKUP(T1585,Tabelle!$B$5:$C$9,2,FALSE),5)))","v":""},null,null,null,null,null,null,null,{"$f":"IF(B1585=\"\",0,IF(B1585=B1584,COUNTIF(B$9:B1584,B1585)+1,1))","v":1573},0,0]
["1578","-1900","-1900-1574",null,null,null,null,null,null,null,null,null,null,null,null,null,null,null,null,null,{"$f":"IF(J$2019=1,\"\",IF(T1586=\"\",\"\",RIGHT(VLOOKUP(T1586,Tabelle!$B$5:$C$9,2,FALSE),5)))","v":""},null,null,null,null,null,null,null,{"$f":"IF(B1586=\"\",0,IF(B1586=B1585,COUNTIF(B$9:B1585,B1586)+1,1))","v":1574},0,0]
["1579","-1900","-1900-1575",null,null,null,null,null,null,null,null,null,null,null,null,null,null,null,null,null,{"$f":"IF(J$2019=1,\"\",IF(T1587=\"\",\"\",RIGHT(VLOOKUP(T1587,Tabelle!$B$5:$C$9,2,FALSE),5)))","v":""},null,null,null,null,null,null,null,{"$f":"IF(B1587=\"\",0,IF(B1587=B1586,COUNTIF(B$9:B1586,B1587)+1,1))","v":1575},0,0]
["1580","-1900","-1900-1576",null,null,null,null,null,null,null,null,null,null,null,null,null,null,null,null,null,{"$f":"IF(J$2019=1,\"\",IF(T1588=\"\",\"\",RIGHT(VLOOKUP(T1588,Tabelle!$B$5:$C$9,2,FALSE),5)))","v":""},null,null,null,null,null,null,null,{"$f":"IF(B1588=\"\",0,IF(B1588=B1587,COUNTIF(B$9:B1587,B1588)+1,1))","v":1576},0,0]
["1581","-1900","-1900-1577",null,null,null,null,null,null,null,null,null,null,null,null,null,null,null,null,null,{"$f":"IF(J$2019=1,\"\",IF(T1589=\"\",\"\",RIGHT(VLOOKUP(T1589,Tabelle!$B$5:$C$9,2,FALSE),5)))","v":""},null,null,null,null,null,null,null,{"$f":"IF(B1589=\"\",0,IF(B1589=B1588,COUNTIF(B$9:B1588,B1589)+1,1))","v":1577},0,0]
["1582","-1900","-1900-1578",null,null,null,null,null,null,null,null,null,null,null,null,null,null,null,null,null,{"$f":"IF(J$2019=1,\"\",IF(T1590=\"\",\"\",RIGHT(VLOOKUP(T1590,Tabelle!$B$5:$C$9,2,FALSE),5)))","v":""},null,null,null,null,null,null,null,{"$f":"IF(B1590=\"\",0,IF(B1590=B1589,COUNTIF(B$9:B1589,B1590)+1,1))","v":1578},0,0]
["1583","-1900","-1900-1579",null,null,null,null,null,null,null,null,null,null,null,null,null,null,null,null,null,{"$f":"IF(J$2019=1,\"\",IF(T1591=\"\",\"\",RIGHT(VLOOKUP(T1591,Tabelle!$B$5:$C$9,2,FALSE),5)))","v":""},null,null,null,null,null,null,null,{"$f":"IF(B1591=\"\",0,IF(B1591=B1590,COUNTIF(B$9:B1590,B1591)+1,1))","v":1579},0,0]
["1584","-1900","-1900-1580",null,null,null,null,null,null,null,null,null,null,null,null,null,null,null,null,null,{"$f":"IF(J$2019=1,\"\",IF(T1592=\"\",\"\",RIGHT(VLOOKUP(T1592,Tabelle!$B$5:$C$9,2,FALSE),5)))","v":""},null,null,null,null,null,null,null,{"$f":"IF(B1592=\"\",0,IF(B1592=B1591,COUNTIF(B$9:B1591,B1592)+1,1))","v":1580},0,0]
["1585","-1900","-1900-1581",null,null,null,null,null,null,null,null,null,null,null,null,null,null,null,null,null,{"$f":"IF(J$2019=1,\"\",IF(T1593=\"\",\"\",RIGHT(VLOOKUP(T1593,Tabelle!$B$5:$C$9,2,FALSE),5)))","v":""},null,null,null,null,null,null,null,{"$f":"IF(B1593=\"\",0,IF(B1593=B1592,COUNTIF(B$9:B1592,B1593)+1,1))","v":1581},0,0]
["1586","-1900","-1900-1582",null,null,null,null,null,null,null,null,null,null,null,null,null,null,null,null,null,{"$f":"IF(J$2019=1,\"\",IF(T1594=\"\",\"\",RIGHT(VLOOKUP(T1594,Tabelle!$B$5:$C$9,2,FALSE),5)))","v":""},null,null,null,null,null,null,null,{"$f":"IF(B1594=\"\",0,IF(B1594=B1593,COUNTIF(B$9:B1593,B1594)+1,1))","v":1582},0,0]
["1587","-1900","-1900-1583",null,null,null,null,null,null,null,null,null,null,null,null,null,null,null,null,null,{"$f":"IF(J$2019=1,\"\",IF(T1595=\"\",\"\",RIGHT(VLOOKUP(T1595,Tabelle!$B$5:$C$9,2,FALSE),5)))","v":""},null,null,null,null,null,null,null,{"$f":"IF(B1595=\"\",0,IF(B1595=B1594,COUNTIF(B$9:B1594,B1595)+1,1))","v":1583},0,0]
["1588","-1900","-1900-1584",null,null,null,null,null,null,null,null,null,null,null,null,null,null,null,null,null,{"$f":"IF(J$2019=1,\"\",IF(T1596=\"\",\"\",RIGHT(VLOOKUP(T1596,Tabelle!$B$5:$C$9,2,FALSE),5)))","v":""},null,null,null,null,null,null,null,{"$f":"IF(B1596=\"\",0,IF(B1596=B1595,COUNTIF(B$9:B1595,B1596)+1,1))","v":1584},0,0]
["1589","-1900","-1900-1585",null,null,null,null,null,null,null,null,null,null,null,null,null,null,null,null,null,{"$f":"IF(J$2019=1,\"\",IF(T1597=\"\",\"\",RIGHT(VLOOKUP(T1597,Tabelle!$B$5:$C$9,2,FALSE),5)))","v":""},null,null,null,null,null,null,null,{"$f":"IF(B1597=\"\",0,IF(B1597=B1596,COUNTIF(B$9:B1596,B1597)+1,1))","v":1585},0,0]
["1590","-1900","-1900-1586",null,null,null,null,null,null,null,null,null,null,null,null,null,null,null,null,null,{"$f":"IF(J$2019=1,\"\",IF(T1598=\"\",\"\",RIGHT(VLOOKUP(T1598,Tabelle!$B$5:$C$9,2,FALSE),5)))","v":""},null,null,null,null,null,null,null,{"$f":"IF(B1598=\"\",0,IF(B1598=B1597,COUNTIF(B$9:B1597,B1598)+1,1))","v":1586},0,0]
["1591","-1900","-1900-1587",null,null,null,null,null,null,null,null,null,null,null,null,null,null,null,null,null,{"$f":"IF(J$2019=1,\"\",IF(T1599=\"\",\"\",RIGHT(VLOOKUP(T1599,Tabelle!$B$5:$C$9,2,FALSE),5)))","v":""},null,null,null,null,null,null,null,{"$f":"IF(B1599=\"\",0,IF(B1599=B1598,COUNTIF(B$9:B1598,B1599)+1,1))","v":1587},0,0]
["1592","-1900","-1900-1588",null,null,null,null,null,null,null,null,null,null,null,null,null,null,null,null,null,{"$f":"IF(J$2019=1,\"\",IF(T1600=\"\",\"\",RIGHT(VLOOKUP(T1600,Tabelle!$B$5:$C$9,2,FALSE),5)))","v":""},null,null,null,null,null,null,null,{"$f":"IF(B1600=\"\",0,IF(B1600=B1599,COUNTIF(B$9:B1599,B1600)+1,1))","v":1588},0,0]
["1593","-1900","-1900-1589",null,null,null,null,null,null,null,null,null,null,null,null,null,null,null,null,null,{"$f":"IF(J$2019=1,\"\",IF(T1601=\"\",\"\",RIGHT(VLOOKUP(T1601,Tabelle!$B$5:$C$9,2,FALSE),5)))","v":""},null,null,null,null,null,null,null,{"$f":"IF(B1601=\"\",0,IF(B1601=B1600,COUNTIF(B$9:B1600,B1601)+1,1))","v":1589},0,0]
["1594","-1900","-1900-1590",null,null,null,null,null,null,null,null,null,null,null,null,null,null,null,null,null,{"$f":"IF(J$2019=1,\"\",IF(T1602=\"\",\"\",RIGHT(VLOOKUP(T1602,Tabelle!$B$5:$C$9,2,FALSE),5)))","v":""},null,null,null,null,null,null,null,{"$f":"IF(B1602=\"\",0,IF(B1602=B1601,COUNTIF(B$9:B1601,B1602)+1,1))","v":1590},0,0]
["1595","-1900","-1900-1591",null,null,null,null,null,null,null,null,null,null,null,null,null,null,null,null,null,{"$f":"IF(J$2019=1,\"\",IF(T1603=\"\",\"\",RIGHT(VLOOKUP(T1603,Tabelle!$B$5:$C$9,2,FALSE),5)))","v":""},null,null,null,null,null,null,null,{"$f":"IF(B1603=\"\",0,IF(B1603=B1602,COUNTIF(B$9:B1602,B1603)+1,1))","v":1591},0,0]
["1596","-1900","-1900-1592",null,null,null,null,null,null,null,null,null,null,null,null,null,null,null,null,null,{"$f":"IF(J$2019=1,\"\",IF(T1604=\"\",\"\",RIGHT(VLOOKUP(T1604,Tabelle!$B$5:$C$9,2,FALSE),5)))","v":""},null,null,null,null,null,null,null,{"$f":"IF(B1604=\"\",0,IF(B1604=B1603,COUNTIF(B$9:B1603,B1604)+1,1))","v":1592},0,0]
["1597","-1900","-1900-1593",null,null,null,null,null,null,null,null,null,null,null,null,null,null,null,null,null,{"$f":"IF(J$2019=1,\"\",IF(T1605=\"\",\"\",RIGHT(VLOOKUP(T1605,Tabelle!$B$5:$C$9,2,FALSE),5)))","v":""},null,null,null,null,null,null,null,{"$f":"IF(B1605=\"\",0,IF(B1605=B1604,COUNTIF(B$9:B1604,B1605)+1,1))","v":1593},0,0]
["1598","-1900","-1900-1594",null,null,null,null,null,null,null,null,null,null,null,null,null,null,null,null,null,{"$f":"IF(J$2019=1,\"\",IF(T1606=\"\",\"\",RIGHT(VLOOKUP(T1606,Tabelle!$B$5:$C$9,2,FALSE),5)))","v":""},null,null,null,null,null,null,null,{"$f":"IF(B1606=\"\",0,IF(B1606=B1605,COUNTIF(B$9:B1605,B1606)+1,1))","v":1594},0,0]
["1599","-1900","-1900-1595",null,null,null,null,null,null,null,null,null,null,null,null,null,null,null,null,null,{"$f":"IF(J$2019=1,\"\",IF(T1607=\"\",\"\",RIGHT(VLOOKUP(T1607,Tabelle!$B$5:$C$9,2,FALSE),5)))","v":""},null,null,null,null,null,null,null,{"$f":"IF(B1607=\"\",0,IF(B1607=B1606,COUNTIF(B$9:B1606,B1607)+1,1))","v":1595},0,0]
["1600","-1900","-1900-1596",null,null,null,null,null,null,null,null,null,null,null,null,null,null,null,null,null,{"$f":"IF(J$2019=1,\"\",IF(T1608=\"\",\"\",RIGHT(VLOOKUP(T1608,Tabelle!$B$5:$C$9,2,FALSE),5)))","v":""},null,null,null,null,null,null,null,{"$f":"IF(B1608=\"\",0,IF(B1608=B1607,COUNTIF(B$9:B1607,B1608)+1,1))","v":1596},0,0]
["1601","-1900","-1900-1597",null,null,null,null,null,null,null,null,null,null,null,null,null,null,null,null,null,{"$f":"IF(J$2019=1,\"\",IF(T1609=\"\",\"\",RIGHT(VLOOKUP(T1609,Tabelle!$B$5:$C$9,2,FALSE),5)))","v":""},null,null,null,null,null,null,null,{"$f":"IF(B1609=\"\",0,IF(B1609=B1608,COUNTIF(B$9:B1608,B1609)+1,1))","v":1597},0,0]
["1602",{"$f":"IF(AE1610=$AE$2013,0,IF(J$2019=1,0,D1610&\"-\"&YEAR(E1610)))","v":"-1900"},"-1900-1598",null,null,null,null,null,null,null,null,null,null,null,null,null,null,null,null,null,{"$f":"IF(J$2019=1,\"\",IF(T1610=\"\",\"\",RIGHT(VLOOKUP(T1610,Tabelle!$B$5:$C$9,2,FALSE),5)))","v":""},null,null,null,null,null,null,null,{"$f":"IF(B1610=\"\",0,IF(B1610=B1609,COUNTIF(B$9:B1609,B1610)+1,1))","v":1598},0,{"$f":"IF(E1610>0,IF(OR(MONTH(E1610)<$J$2025,MONTH(E1610)>$J$2026),AE$2013,0),0)","v":0}]
["1603","-1900","-1900-1599",null,null,null,null,null,null,null,null,null,null,null,null,null,null,null,null,null,{"$f":"IF(J$2019=1,\"\",IF(T1611=\"\",\"\",RIGHT(VLOOKUP(T1611,Tabelle!$B$5:$C$9,2,FALSE),5)))","v":""},null,null,null,null,null,null,null,{"$f":"IF(B1611=\"\",0,IF(B1611=B1610,COUNTIF(B$9:B1610,B1611)+1,1))","v":1599},0,0]
["1604","-1900","-1900-1600",null,null,null,null,null,null,null,null,null,null,null,null,null,null,null,null,null,{"$f":"IF(J$2019=1,\"\",IF(T1612=\"\",\"\",RIGHT(VLOOKUP(T1612,Tabelle!$B$5:$C$9,2,FALSE),5)))","v":""},null,null,null,null,null,null,null,{"$f":"IF(B1612=\"\",0,IF(B1612=B1611,COUNTIF(B$9:B1611,B1612)+1,1))","v":1600},0,0]
["1605","-1900","-1900-1601",null,null,null,null,null,null,null,null,null,null,null,null,null,null,null,null,null,{"$f":"IF(J$2019=1,\"\",IF(T1613=\"\",\"\",RIGHT(VLOOKUP(T1613,Tabelle!$B$5:$C$9,2,FALSE),5)))","v":""},null,null,null,null,null,null,null,{"$f":"IF(B1613=\"\",0,IF(B1613=B1612,COUNTIF(B$9:B1612,B1613)+1,1))","v":1601},0,0]
["1606","-1900","-1900-1602",null,null,null,null,null,null,null,null,null,null,null,null,null,null,null,null,null,{"$f":"IF(J$2019=1,\"\",IF(T1614=\"\",\"\",RIGHT(VLOOKUP(T1614,Tabelle!$B$5:$C$9,2,FALSE),5)))","v":""},null,null,null,null,null,null,null,{"$f":"IF(B1614=\"\",0,IF(B1614=B1613,COUNTIF(B$9:B1613,B1614)+1,1))","v":1602},0,0]
["1607","-1900","-1900-1603",null,null,null,null,null,null,null,null,null,null,null,null,null,null,null,null,null,{"$f":"IF(J$2019=1,\"\",IF(T1615=\"\",\"\",RIGHT(VLOOKUP(T1615,Tabelle!$B$5:$C$9,2,FALSE),5)))","v":""},null,null,null,null,null,null,null,{"$f":"IF(B1615=\"\",0,IF(B1615=B1614,COUNTIF(B$9:B1614,B1615)+1,1))","v":1603},0,0]
["1608","-1900","-1900-1604",null,null,null,null,null,null,null,null,null,null,null,null,null,null,null,null,null,{"$f":"IF(J$2019=1,\"\",IF(T1616=\"\",\"\",RIGHT(VLOOKUP(T1616,Tabelle!$B$5:$C$9,2,FALSE),5)))","v":""},null,null,null,null,null,null,null,{"$f":"IF(B1616=\"\",0,IF(B1616=B1615,COUNTIF(B$9:B1615,B1616)+1,1))","v":1604},0,0]
["1609","-1900","-1900-1605",null,null,null,null,null,null,null,null,null,null,null,null,null,null,null,null,null,{"$f":"IF(J$2019=1,\"\",IF(T1617=\"\",\"\",RIGHT(VLOOKUP(T1617,Tabelle!$B$5:$C$9,2,FALSE),5)))","v":""},null,null,null,null,null,null,null,{"$f":"IF(B1617=\"\",0,IF(B1617=B1616,COUNTIF(B$9:B1616,B1617)+1,1))","v":1605},0,0]
["1610","-1900","-1900-1606",null,null,null,null,null,null,null,null,null,null,null,null,null,null,null,null,null,{"$f":"IF(J$2019=1,\"\",IF(T1618=\"\",\"\",RIGHT(VLOOKUP(T1618,Tabelle!$B$5:$C$9,2,FALSE),5)))","v":""},null,null,null,null,null,null,null,{"$f":"IF(B1618=\"\",0,IF(B1618=B1617,COUNTIF(B$9:B1617,B1618)+1,1))","v":1606},0,0]
["1611","-1900","-1900-1607",null,null,null,null,null,null,null,null,null,null,null,null,null,null,null,null,null,{"$f":"IF(J$2019=1,\"\",IF(T1619=\"\",\"\",RIGHT(VLOOKUP(T1619,Tabelle!$B$5:$C$9,2,FALSE),5)))","v":""},null,null,null,null,null,null,null,{"$f":"IF(B1619=\"\",0,IF(B1619=B1618,COUNTIF(B$9:B1618,B1619)+1,1))","v":1607},0,0]
["1612","-1900","-1900-1608",null,null,null,null,null,null,null,null,null,null,null,null,null,null,null,null,null,{"$f":"IF(J$2019=1,\"\",IF(T1620=\"\",\"\",RIGHT(VLOOKUP(T1620,Tabelle!$B$5:$C$9,2,FALSE),5)))","v":""},null,null,null,null,null,null,null,{"$f":"IF(B1620=\"\",0,IF(B1620=B1619,COUNTIF(B$9:B1619,B1620)+1,1))","v":1608},0,0]
["1613","-1900","-1900-1609",null,null,null,null,null,null,null,null,null,null,null,null,null,null,null,null,null,{"$f":"IF(J$2019=1,\"\",IF(T1621=\"\",\"\",RIGHT(VLOOKUP(T1621,Tabelle!$B$5:$C$9,2,FALSE),5)))","v":""},null,null,null,null,null,null,null,{"$f":"IF(B1621=\"\",0,IF(B1621=B1620,COUNTIF(B$9:B1620,B1621)+1,1))","v":1609},{"$f":"IF(OR(D1621=\"\",J$2019=1),0,IF(AC1621=28,1,0))","v":0},0]
["1614","-1900","-1900-1610",null,null,null,null,null,null,null,null,null,null,null,null,null,null,null,null,null,{"$f":"IF(J$2019=1,\"\",IF(T1622=\"\",\"\",RIGHT(VLOOKUP(T1622,Tabelle!$B$5:$C$9,2,FALSE),5)))","v":""},null,null,null,null,null,null,null,{"$f":"IF(B1622=\"\",0,IF(B1622=B1621,COUNTIF(B$9:B1621,B1622)+1,1))","v":1610},0,0]
["1615","-1900",{"$f":"IF(J$2019=1,0,B1623&\"-\"&AC1623)","v":"-1900-1611"},null,null,null,null,null,null,null,null,null,null,null,null,null,null,null,null,null,{"$f":"IF(J$2019=1,\"\",IF(T1623=\"\",\"\",RIGHT(VLOOKUP(T1623,Tabelle!$B$5:$C$9,2,FALSE),5)))","v":""},null,null,null,null,null,null,null,{"$f":"IF(B1623=\"\",0,IF(B1623=B1622,COUNTIF(B$9:B1622,B1623)+1,1))","v":1611},0,0]
["1616","-1900","-1900-1612",null,null,null,null,null,null,null,null,null,null,null,null,null,null,null,null,null,{"$f":"IF(J$2019=1,\"\",IF(T1624=\"\",\"\",RIGHT(VLOOKUP(T1624,Tabelle!$B$5:$C$9,2,FALSE),5)))","v":""},null,null,null,null,null,null,null,{"$f":"IF(B1624=\"\",0,IF(B1624=B1623,COUNTIF(B$9:B1623,B1624)+1,1))","v":1612},0,0]
["1617","-1900","-1900-1613",null,null,null,null,null,null,null,null,null,null,null,null,null,null,null,null,null,{"$f":"IF(J$2019=1,\"\",IF(T1625=\"\",\"\",RIGHT(VLOOKUP(T1625,Tabelle!$B$5:$C$9,2,FALSE),5)))","v":""},null,null,null,null,null,null,null,{"$f":"IF(B1625=\"\",0,IF(B1625=B1624,COUNTIF(B$9:B1624,B1625)+1,1))","v":1613},0,0]
["1618","-1900","-1900-1614",null,null,null,null,null,null,null,null,null,null,null,null,null,null,null,null,null,{"$f":"IF(J$2019=1,\"\",IF(T1626=\"\",\"\",RIGHT(VLOOKUP(T1626,Tabelle!$B$5:$C$9,2,FALSE),5)))","v":""},null,null,null,null,null,null,null,{"$f":"IF(B1626=\"\",0,IF(B1626=B1625,COUNTIF(B$9:B1625,B1626)+1,1))","v":1614},0,0]
["1619","-1900","-1900-1615",null,null,null,null,null,null,null,null,null,null,null,null,null,null,null,null,null,{"$f":"IF(J$2019=1,\"\",IF(T1627=\"\",\"\",RIGHT(VLOOKUP(T1627,Tabelle!$B$5:$C$9,2,FALSE),5)))","v":""},null,null,null,null,null,null,null,{"$f":"IF(B1627=\"\",0,IF(B1627=B1626,COUNTIF(B$9:B1626,B1627)+1,1))","v":1615},0,0]
["1620","-1900","-1900-1616",null,null,null,null,null,null,null,null,null,null,null,null,null,null,null,null,null,{"$f":"IF(J$2019=1,\"\",IF(T1628=\"\",\"\",RIGHT(VLOOKUP(T1628,Tabelle!$B$5:$C$9,2,FALSE),5)))","v":""},null,null,null,null,null,null,null,{"$f":"IF(B1628=\"\",0,IF(B1628=B1627,COUNTIF(B$9:B1627,B1628)+1,1))","v":1616},0,0]
["1621","-1900","-1900-1617",null,null,null,null,null,null,null,null,null,null,null,null,null,null,null,null,null,{"$f":"IF(J$2019=1,\"\",IF(T1629=\"\",\"\",RIGHT(VLOOKUP(T1629,Tabelle!$B$5:$C$9,2,FALSE),5)))","v":""},null,null,null,null,null,null,null,{"$f":"IF(B1629=\"\",0,IF(B1629=B1628,COUNTIF(B$9:B1628,B1629)+1,1))","v":1617},0,0]
["1622","-1900","-1900-1618",null,null,null,null,null,null,null,null,null,null,null,null,null,null,null,null,null,{"$f":"IF(J$2019=1,\"\",IF(T1630=\"\",\"\",RIGHT(VLOOKUP(T1630,Tabelle!$B$5:$C$9,2,FALSE),5)))","v":""},null,null,null,null,null,null,null,{"$f":"IF(B1630=\"\",0,IF(B1630=B1629,COUNTIF(B$9:B1629,B1630)+1,1))","v":1618},0,0]
["1623","-1900","-1900-1619",null,null,null,null,null,null,null,null,null,null,null,null,null,null,null,null,null,{"$f":"IF(J$2019=1,\"\",IF(T1631=\"\",\"\",RIGHT(VLOOKUP(T1631,Tabelle!$B$5:$C$9,2,FALSE),5)))","v":""},null,null,null,null,null,null,null,{"$f":"IF(B1631=\"\",0,IF(B1631=B1630,COUNTIF(B$9:B1630,B1631)+1,1))","v":1619},0,0]
["1624","-1900","-1900-1620",null,null,null,null,null,null,null,null,null,null,null,null,null,null,null,null,null,{"$f":"IF(J$2019=1,\"\",IF(T1632=\"\",\"\",RIGHT(VLOOKUP(T1632,Tabelle!$B$5:$C$9,2,FALSE),5)))","v":""},null,null,null,null,null,null,null,{"$f":"IF(B1632=\"\",0,IF(B1632=B1631,COUNTIF(B$9:B1631,B1632)+1,1))","v":1620},0,0]
["1625","-1900","-1900-1621",null,null,null,null,null,null,null,null,null,null,null,null,null,null,null,null,null,{"$f":"IF(J$2019=1,\"\",IF(T1633=\"\",\"\",RIGHT(VLOOKUP(T1633,Tabelle!$B$5:$C$9,2,FALSE),5)))","v":""},null,null,null,null,null,null,null,{"$f":"IF(B1633=\"\",0,IF(B1633=B1632,COUNTIF(B$9:B1632,B1633)+1,1))","v":1621},0,0]
["1626","-1900","-1900-1622",null,null,null,null,null,null,null,null,null,null,null,null,null,null,null,null,null,{"$f":"IF(J$2019=1,\"\",IF(T1634=\"\",\"\",RIGHT(VLOOKUP(T1634,Tabelle!$B$5:$C$9,2,FALSE),5)))","v":""},null,null,null,null,null,null,null,{"$f":"IF(B1634=\"\",0,IF(B1634=B1633,COUNTIF(B$9:B1633,B1634)+1,1))","v":1622},0,0]
["1627","-1900","-1900-1623",null,null,null,null,null,null,null,null,null,null,null,null,null,null,null,null,null,{"$f":"IF(J$2019=1,\"\",IF(T1635=\"\",\"\",RIGHT(VLOOKUP(T1635,Tabelle!$B$5:$C$9,2,FALSE),5)))","v":""},null,null,null,null,null,null,null,{"$f":"IF(B1635=\"\",0,IF(B1635=B1634,COUNTIF(B$9:B1634,B1635)+1,1))","v":1623},0,0]
["1628","-1900","-1900-1624",null,null,null,null,null,null,null,null,null,null,null,null,null,null,null,null,null,{"$f":"IF(J$2019=1,\"\",IF(T1636=\"\",\"\",RIGHT(VLOOKUP(T1636,Tabelle!$B$5:$C$9,2,FALSE),5)))","v":""},null,null,null,null,null,null,null,{"$f":"IF(B1636=\"\",0,IF(B1636=B1635,COUNTIF(B$9:B1635,B1636)+1,1))","v":1624},0,0]
["1629","-1900","-1900-1625",null,null,null,null,null,null,null,null,null,null,null,null,null,null,null,null,null,{"$f":"IF(J$2019=1,\"\",IF(T1637=\"\",\"\",RIGHT(VLOOKUP(T1637,Tabelle!$B$5:$C$9,2,FALSE),5)))","v":""},null,null,null,null,null,null,null,{"$f":"IF(B1637=\"\",0,IF(B1637=B1636,COUNTIF(B$9:B1636,B1637)+1,1))","v":1625},0,0]
["1630","-1900","-1900-1626",null,null,null,null,null,null,null,null,null,null,null,null,null,null,null,null,null,{"$f":"IF(J$2019=1,\"\",IF(T1638=\"\",\"\",RIGHT(VLOOKUP(T1638,Tabelle!$B$5:$C$9,2,FALSE),5)))","v":""},null,null,null,null,null,null,null,{"$f":"IF(B1638=\"\",0,IF(B1638=B1637,COUNTIF(B$9:B1637,B1638)+1,1))","v":1626},0,0]
["1631","-1900","-1900-1627",null,null,null,null,null,null,null,null,null,null,null,null,null,null,null,null,null,{"$f":"IF(J$2019=1,\"\",IF(T1639=\"\",\"\",RIGHT(VLOOKUP(T1639,Tabelle!$B$5:$C$9,2,FALSE),5)))","v":""},null,null,null,null,null,null,null,{"$f":"IF(B1639=\"\",0,IF(B1639=B1638,COUNTIF(B$9:B1638,B1639)+1,1))","v":1627},0,0]
["1632","-1900","-1900-1628",null,null,null,null,null,null,null,null,null,null,null,null,null,null,null,null,null,{"$f":"IF(J$2019=1,\"\",IF(T1640=\"\",\"\",RIGHT(VLOOKUP(T1640,Tabelle!$B$5:$C$9,2,FALSE),5)))","v":""},null,null,null,null,null,null,null,{"$f":"IF(B1640=\"\",0,IF(B1640=B1639,COUNTIF(B$9:B1639,B1640)+1,1))","v":1628},0,0]
["1633","-1900","-1900-1629",null,null,null,null,null,null,null,null,null,null,null,null,null,null,null,null,null,{"$f":"IF(J$2019=1,\"\",IF(T1641=\"\",\"\",RIGHT(VLOOKUP(T1641,Tabelle!$B$5:$C$9,2,FALSE),5)))","v":""},null,null,null,null,null,null,null,{"$f":"IF(B1641=\"\",0,IF(B1641=B1640,COUNTIF(B$9:B1640,B1641)+1,1))","v":1629},0,0]
["1634","-1900","-1900-1630",null,null,null,null,null,null,null,null,null,null,null,null,null,null,null,null,null,{"$f":"IF(J$2019=1,\"\",IF(T1642=\"\",\"\",RIGHT(VLOOKUP(T1642,Tabelle!$B$5:$C$9,2,FALSE),5)))","v":""},null,null,null,null,null,null,null,{"$f":"IF(B1642=\"\",0,IF(B1642=B1641,COUNTIF(B$9:B1641,B1642)+1,1))","v":1630},0,0]
["1635","-1900","-1900-1631",null,null,null,null,null,null,null,null,null,null,null,null,null,null,null,null,null,{"$f":"IF(J$2019=1,\"\",IF(T1643=\"\",\"\",RIGHT(VLOOKUP(T1643,Tabelle!$B$5:$C$9,2,FALSE),5)))","v":""},null,null,null,null,null,null,null,{"$f":"IF(B1643=\"\",0,IF(B1643=B1642,COUNTIF(B$9:B1642,B1643)+1,1))","v":1631},0,0]
["1636","-1900","-1900-1632",null,null,null,null,null,null,null,null,null,null,null,null,null,null,null,null,null,{"$f":"IF(J$2019=1,\"\",IF(T1644=\"\",\"\",RIGHT(VLOOKUP(T1644,Tabelle!$B$5:$C$9,2,FALSE),5)))","v":""},null,null,null,null,null,null,null,{"$f":"IF(B1644=\"\",0,IF(B1644=B1643,COUNTIF(B$9:B1643,B1644)+1,1))","v":1632},0,0]
["1637","-1900","-1900-1633",null,null,null,null,null,null,null,null,null,null,null,null,null,null,null,null,null,{"$f":"IF(J$2019=1,\"\",IF(T1645=\"\",\"\",RIGHT(VLOOKUP(T1645,Tabelle!$B$5:$C$9,2,FALSE),5)))","v":""},null,null,null,null,null,null,null,{"$f":"IF(B1645=\"\",0,IF(B1645=B1644,COUNTIF(B$9:B1644,B1645)+1,1))","v":1633},0,0]
["1638","-1900","-1900-1634",null,null,null,null,null,null,null,null,null,null,null,null,null,null,null,null,null,{"$f":"IF(J$2019=1,\"\",IF(T1646=\"\",\"\",RIGHT(VLOOKUP(T1646,Tabelle!$B$5:$C$9,2,FALSE),5)))","v":""},null,null,null,null,null,null,null,{"$f":"IF(B1646=\"\",0,IF(B1646=B1645,COUNTIF(B$9:B1645,B1646)+1,1))","v":1634},0,0]
["1639","-1900","-1900-1635",null,null,null,null,null,null,null,null,null,null,null,null,null,null,null,null,null,{"$f":"IF(J$2019=1,\"\",IF(T1647=\"\",\"\",RIGHT(VLOOKUP(T1647,Tabelle!$B$5:$C$9,2,FALSE),5)))","v":""},null,null,null,null,null,null,null,{"$f":"IF(B1647=\"\",0,IF(B1647=B1646,COUNTIF(B$9:B1646,B1647)+1,1))","v":1635},0,0]
["1640","-1900","-1900-1636",null,null,null,null,null,null,null,null,null,null,null,null,null,null,null,null,null,{"$f":"IF(J$2019=1,\"\",IF(T1648=\"\",\"\",RIGHT(VLOOKUP(T1648,Tabelle!$B$5:$C$9,2,FALSE),5)))","v":""},null,null,null,null,null,null,null,{"$f":"IF(B1648=\"\",0,IF(B1648=B1647,COUNTIF(B$9:B1647,B1648)+1,1))","v":1636},0,0]
["1641","-1900","-1900-1637",null,null,null,null,null,null,null,null,null,null,null,null,null,null,null,null,null,{"$f":"IF(J$2019=1,\"\",IF(T1649=\"\",\"\",RIGHT(VLOOKUP(T1649,Tabelle!$B$5:$C$9,2,FALSE),5)))","v":""},null,null,null,null,null,null,null,{"$f":"IF(B1649=\"\",0,IF(B1649=B1648,COUNTIF(B$9:B1648,B1649)+1,1))","v":1637},0,0]
["1642","-1900","-1900-1638",null,null,null,null,null,null,null,null,null,null,null,null,null,null,null,null,null,{"$f":"IF(J$2019=1,\"\",IF(T1650=\"\",\"\",RIGHT(VLOOKUP(T1650,Tabelle!$B$5:$C$9,2,FALSE),5)))","v":""},null,null,null,null,null,null,null,{"$f":"IF(B1650=\"\",0,IF(B1650=B1649,COUNTIF(B$9:B1649,B1650)+1,1))","v":1638},0,0]
["1643","-1900","-1900-1639",null,null,null,null,null,null,null,null,null,null,null,null,null,null,null,null,null,{"$f":"IF(J$2019=1,\"\",IF(T1651=\"\",\"\",RIGHT(VLOOKUP(T1651,Tabelle!$B$5:$C$9,2,FALSE),5)))","v":""},null,null,null,null,null,null,null,{"$f":"IF(B1651=\"\",0,IF(B1651=B1650,COUNTIF(B$9:B1650,B1651)+1,1))","v":1639},0,0]
["1644","-1900","-1900-1640",null,null,null,null,null,null,null,null,null,null,null,null,null,null,null,null,null,{"$f":"IF(J$2019=1,\"\",IF(T1652=\"\",\"\",RIGHT(VLOOKUP(T1652,Tabelle!$B$5:$C$9,2,FALSE),5)))","v":""},null,null,null,null,null,null,null,{"$f":"IF(B1652=\"\",0,IF(B1652=B1651,COUNTIF(B$9:B1651,B1652)+1,1))","v":1640},0,0]
["1645","-1900","-1900-1641",null,null,null,null,null,null,null,null,null,null,null,null,null,null,null,null,null,{"$f":"IF(J$2019=1,\"\",IF(T1653=\"\",\"\",RIGHT(VLOOKUP(T1653,Tabelle!$B$5:$C$9,2,FALSE),5)))","v":""},null,null,null,null,null,null,null,{"$f":"IF(B1653=\"\",0,IF(B1653=B1652,COUNTIF(B$9:B1652,B1653)+1,1))","v":1641},0,0]
["1646","-1900","-1900-1642",null,null,null,null,null,null,null,null,null,null,null,null,null,null,null,null,null,{"$f":"IF(J$2019=1,\"\",IF(T1654=\"\",\"\",RIGHT(VLOOKUP(T1654,Tabelle!$B$5:$C$9,2,FALSE),5)))","v":""},null,null,null,null,null,null,null,{"$f":"IF(B1654=\"\",0,IF(B1654=B1653,COUNTIF(B$9:B1653,B1654)+1,1))","v":1642},0,0]
["1647","-1900","-1900-1643",null,null,null,null,null,null,null,null,null,null,null,null,null,null,null,null,null,{"$f":"IF(J$2019=1,\"\",IF(T1655=\"\",\"\",RIGHT(VLOOKUP(T1655,Tabelle!$B$5:$C$9,2,FALSE),5)))","v":""},null,null,null,null,null,null,null,{"$f":"IF(B1655=\"\",0,IF(B1655=B1654,COUNTIF(B$9:B1654,B1655)+1,1))","v":1643},0,0]
["1648","-1900","-1900-1644",null,null,null,null,null,null,null,null,null,null,null,null,null,null,null,null,null,{"$f":"IF(J$2019=1,\"\",IF(T1656=\"\",\"\",RIGHT(VLOOKUP(T1656,Tabelle!$B$5:$C$9,2,FALSE),5)))","v":""},null,null,null,null,null,null,null,{"$f":"IF(B1656=\"\",0,IF(B1656=B1655,COUNTIF(B$9:B1655,B1656)+1,1))","v":1644},0,0]
["1649","-1900","-1900-1645",null,null,null,null,null,null,null,null,null,null,null,null,null,null,null,null,null,{"$f":"IF(J$2019=1,\"\",IF(T1657=\"\",\"\",RIGHT(VLOOKUP(T1657,Tabelle!$B$5:$C$9,2,FALSE),5)))","v":""},null,null,null,null,null,null,null,{"$f":"IF(B1657=\"\",0,IF(B1657=B1656,COUNTIF(B$9:B1656,B1657)+1,1))","v":1645},0,0]
["1650","-1900","-1900-1646",null,null,null,null,null,null,null,null,null,null,null,null,null,null,null,null,null,{"$f":"IF(J$2019=1,\"\",IF(T1658=\"\",\"\",RIGHT(VLOOKUP(T1658,Tabelle!$B$5:$C$9,2,FALSE),5)))","v":""},null,null,null,null,null,null,null,{"$f":"IF(B1658=\"\",0,IF(B1658=B1657,COUNTIF(B$9:B1657,B1658)+1,1))","v":1646},0,0]
["1651","-1900","-1900-1647",null,null,null,null,null,null,null,null,null,null,null,null,null,null,null,null,null,{"$f":"IF(J$2019=1,\"\",IF(T1659=\"\",\"\",RIGHT(VLOOKUP(T1659,Tabelle!$B$5:$C$9,2,FALSE),5)))","v":""},null,null,null,null,null,null,null,{"$f":"IF(B1659=\"\",0,IF(B1659=B1658,COUNTIF(B$9:B1658,B1659)+1,1))","v":1647},0,0]
["1652","-1900","-1900-1648",null,null,null,null,null,null,null,null,null,null,null,null,null,null,null,null,null,{"$f":"IF(J$2019=1,\"\",IF(T1660=\"\",\"\",RIGHT(VLOOKUP(T1660,Tabelle!$B$5:$C$9,2,FALSE),5)))","v":""},null,null,null,null,null,null,null,{"$f":"IF(B1660=\"\",0,IF(B1660=B1659,COUNTIF(B$9:B1659,B1660)+1,1))","v":1648},0,0]
["1653","-1900","-1900-1649",null,null,null,null,null,null,null,null,null,null,null,null,null,null,null,null,null,{"$f":"IF(J$2019=1,\"\",IF(T1661=\"\",\"\",RIGHT(VLOOKUP(T1661,Tabelle!$B$5:$C$9,2,FALSE),5)))","v":""},null,null,null,null,null,null,null,{"$f":"IF(B1661=\"\",0,IF(B1661=B1660,COUNTIF(B$9:B1660,B1661)+1,1))","v":1649},0,0]
["1654","-1900","-1900-1650",null,null,null,null,null,null,null,null,null,null,null,null,null,null,null,null,null,{"$f":"IF(J$2019=1,\"\",IF(T1662=\"\",\"\",RIGHT(VLOOKUP(T1662,Tabelle!$B$5:$C$9,2,FALSE),5)))","v":""},null,null,null,null,null,null,null,{"$f":"IF(B1662=\"\",0,IF(B1662=B1661,COUNTIF(B$9:B1661,B1662)+1,1))","v":1650},0,0]
["1655","-1900","-1900-1651",null,null,null,null,null,null,null,null,null,null,null,null,null,null,null,null,null,{"$f":"IF(J$2019=1,\"\",IF(T1663=\"\",\"\",RIGHT(VLOOKUP(T1663,Tabelle!$B$5:$C$9,2,FALSE),5)))","v":""},null,null,null,null,null,null,null,{"$f":"IF(B1663=\"\",0,IF(B1663=B1662,COUNTIF(B$9:B1662,B1663)+1,1))","v":1651},0,0]
["1656","-1900","-1900-1652",null,null,null,null,null,null,null,null,null,null,null,null,null,null,null,null,null,{"$f":"IF(J$2019=1,\"\",IF(T1664=\"\",\"\",RIGHT(VLOOKUP(T1664,Tabelle!$B$5:$C$9,2,FALSE),5)))","v":""},null,null,null,null,null,null,null,{"$f":"IF(B1664=\"\",0,IF(B1664=B1663,COUNTIF(B$9:B1663,B1664)+1,1))","v":1652},0,0]
["1657","-1900","-1900-1653",null,null,null,null,null,null,null,null,null,null,null,null,null,null,null,null,null,{"$f":"IF(J$2019=1,\"\",IF(T1665=\"\",\"\",RIGHT(VLOOKUP(T1665,Tabelle!$B$5:$C$9,2,FALSE),5)))","v":""},null,null,null,null,null,null,null,{"$f":"IF(B1665=\"\",0,IF(B1665=B1664,COUNTIF(B$9:B1664,B1665)+1,1))","v":1653},0,0]
["1658","-1900","-1900-1654",null,null,null,null,null,null,null,null,null,null,null,null,null,null,null,null,null,{"$f":"IF(J$2019=1,\"\",IF(T1666=\"\",\"\",RIGHT(VLOOKUP(T1666,Tabelle!$B$5:$C$9,2,FALSE),5)))","v":""},null,null,null,null,null,null,null,{"$f":"IF(B1666=\"\",0,IF(B1666=B1665,COUNTIF(B$9:B1665,B1666)+1,1))","v":1654},0,0]
["1659","-1900","-1900-1655",null,null,null,null,null,null,null,null,null,null,null,null,null,null,null,null,null,{"$f":"IF(J$2019=1,\"\",IF(T1667=\"\",\"\",RIGHT(VLOOKUP(T1667,Tabelle!$B$5:$C$9,2,FALSE),5)))","v":""},null,null,null,null,null,null,null,{"$f":"IF(B1667=\"\",0,IF(B1667=B1666,COUNTIF(B$9:B1666,B1667)+1,1))","v":1655},0,0]
["1660","-1900","-1900-1656",null,null,null,null,null,null,null,null,null,null,null,null,null,null,null,null,null,{"$f":"IF(J$2019=1,\"\",IF(T1668=\"\",\"\",RIGHT(VLOOKUP(T1668,Tabelle!$B$5:$C$9,2,FALSE),5)))","v":""},null,null,null,null,null,null,null,{"$f":"IF(B1668=\"\",0,IF(B1668=B1667,COUNTIF(B$9:B1667,B1668)+1,1))","v":1656},0,0]
["1661","-1900","-1900-1657",null,null,null,null,null,null,null,null,null,null,null,null,null,null,null,null,null,{"$f":"IF(J$2019=1,\"\",IF(T1669=\"\",\"\",RIGHT(VLOOKUP(T1669,Tabelle!$B$5:$C$9,2,FALSE),5)))","v":""},null,null,null,null,null,null,null,{"$f":"IF(B1669=\"\",0,IF(B1669=B1668,COUNTIF(B$9:B1668,B1669)+1,1))","v":1657},0,0]
["1662","-1900","-1900-1658",null,null,null,null,null,null,null,null,null,null,null,null,null,null,null,null,null,{"$f":"IF(J$2019=1,\"\",IF(T1670=\"\",\"\",RIGHT(VLOOKUP(T1670,Tabelle!$B$5:$C$9,2,FALSE),5)))","v":""},null,null,null,null,null,null,null,{"$f":"IF(B1670=\"\",0,IF(B1670=B1669,COUNTIF(B$9:B1669,B1670)+1,1))","v":1658},0,0]
["1663","-1900","-1900-1659",null,null,null,null,null,null,null,null,null,null,null,null,null,null,null,null,null,{"$f":"IF(J$2019=1,\"\",IF(T1671=\"\",\"\",RIGHT(VLOOKUP(T1671,Tabelle!$B$5:$C$9,2,FALSE),5)))","v":""},null,null,null,null,null,null,null,{"$f":"IF(B1671=\"\",0,IF(B1671=B1670,COUNTIF(B$9:B1670,B1671)+1,1))","v":1659},0,0]
["1664","-1900","-1900-1660",null,null,null,null,null,null,null,null,null,null,null,null,null,null,null,null,null,{"$f":"IF(J$2019=1,\"\",IF(T1672=\"\",\"\",RIGHT(VLOOKUP(T1672,Tabelle!$B$5:$C$9,2,FALSE),5)))","v":""},null,null,null,null,null,null,null,{"$f":"IF(B1672=\"\",0,IF(B1672=B1671,COUNTIF(B$9:B1671,B1672)+1,1))","v":1660},0,0]
["1665","-1900","-1900-1661",null,null,null,null,null,null,null,null,null,null,null,null,null,null,null,null,null,{"$f":"IF(J$2019=1,\"\",IF(T1673=\"\",\"\",RIGHT(VLOOKUP(T1673,Tabelle!$B$5:$C$9,2,FALSE),5)))","v":""},null,null,null,null,null,null,null,{"$f":"IF(B1673=\"\",0,IF(B1673=B1672,COUNTIF(B$9:B1672,B1673)+1,1))","v":1661},0,0]
["1666",{"$f":"IF(AE1674=$AE$2013,0,IF(J$2019=1,0,D1674&\"-\"&YEAR(E1674)))","v":"-1900"},"-1900-1662",null,null,null,null,null,null,null,null,null,null,null,null,null,null,null,null,null,{"$f":"IF(J$2019=1,\"\",IF(T1674=\"\",\"\",RIGHT(VLOOKUP(T1674,Tabelle!$B$5:$C$9,2,FALSE),5)))","v":""},null,null,null,null,null,null,null,{"$f":"IF(B1674=\"\",0,IF(B1674=B1673,COUNTIF(B$9:B1673,B1674)+1,1))","v":1662},0,{"$f":"IF(E1674>0,IF(OR(MONTH(E1674)<$J$2025,MONTH(E1674)>$J$2026),AE$2013,0),0)","v":0}]
["1667","-1900","-1900-1663",null,null,null,null,null,null,null,null,null,null,null,null,null,null,null,null,null,{"$f":"IF(J$2019=1,\"\",IF(T1675=\"\",\"\",RIGHT(VLOOKUP(T1675,Tabelle!$B$5:$C$9,2,FALSE),5)))","v":""},null,null,null,null,null,null,null,{"$f":"IF(B1675=\"\",0,IF(B1675=B1674,COUNTIF(B$9:B1674,B1675)+1,1))","v":1663},0,0]
["1668","-1900","-1900-1664",null,null,null,null,null,null,null,null,null,null,null,null,null,null,null,null,null,{"$f":"IF(J$2019=1,\"\",IF(T1676=\"\",\"\",RIGHT(VLOOKUP(T1676,Tabelle!$B$5:$C$9,2,FALSE),5)))","v":""},null,null,null,null,null,null,null,{"$f":"IF(B1676=\"\",0,IF(B1676=B1675,COUNTIF(B$9:B1675,B1676)+1,1))","v":1664},0,0]
["1669","-1900","-1900-1665",null,null,null,null,null,null,null,null,null,null,null,null,null,null,null,null,null,{"$f":"IF(J$2019=1,\"\",IF(T1677=\"\",\"\",RIGHT(VLOOKUP(T1677,Tabelle!$B$5:$C$9,2,FALSE),5)))","v":""},null,null,null,null,null,null,null,{"$f":"IF(B1677=\"\",0,IF(B1677=B1676,COUNTIF(B$9:B1676,B1677)+1,1))","v":1665},0,0]
["1670","-1900","-1900-1666",null,null,null,null,null,null,null,null,null,null,null,null,null,null,null,null,null,{"$f":"IF(J$2019=1,\"\",IF(T1678=\"\",\"\",RIGHT(VLOOKUP(T1678,Tabelle!$B$5:$C$9,2,FALSE),5)))","v":""},null,null,null,null,null,null,null,{"$f":"IF(B1678=\"\",0,IF(B1678=B1677,COUNTIF(B$9:B1677,B1678)+1,1))","v":1666},0,0]
["1671","-1900","-1900-1667",null,null,null,null,null,null,null,null,null,null,null,null,null,null,null,null,null,{"$f":"IF(J$2019=1,\"\",IF(T1679=\"\",\"\",RIGHT(VLOOKUP(T1679,Tabelle!$B$5:$C$9,2,FALSE),5)))","v":""},null,null,null,null,null,null,null,{"$f":"IF(B1679=\"\",0,IF(B1679=B1678,COUNTIF(B$9:B1678,B1679)+1,1))","v":1667},0,0]
["1672","-1900","-1900-1668",null,null,null,null,null,null,null,null,null,null,null,null,null,null,null,null,null,{"$f":"IF(J$2019=1,\"\",IF(T1680=\"\",\"\",RIGHT(VLOOKUP(T1680,Tabelle!$B$5:$C$9,2,FALSE),5)))","v":""},null,null,null,null,null,null,null,{"$f":"IF(B1680=\"\",0,IF(B1680=B1679,COUNTIF(B$9:B1679,B1680)+1,1))","v":1668},0,0]
["1673","-1900","-1900-1669",null,null,null,null,null,null,null,null,null,null,null,null,null,null,null,null,null,{"$f":"IF(J$2019=1,\"\",IF(T1681=\"\",\"\",RIGHT(VLOOKUP(T1681,Tabelle!$B$5:$C$9,2,FALSE),5)))","v":""},null,null,null,null,null,null,null,{"$f":"IF(B1681=\"\",0,IF(B1681=B1680,COUNTIF(B$9:B1680,B1681)+1,1))","v":1669},0,0]
["1674","-1900","-1900-1670",null,null,null,null,null,null,null,null,null,null,null,null,null,null,null,null,null,{"$f":"IF(J$2019=1,\"\",IF(T1682=\"\",\"\",RIGHT(VLOOKUP(T1682,Tabelle!$B$5:$C$9,2,FALSE),5)))","v":""},null,null,null,null,null,null,null,{"$f":"IF(B1682=\"\",0,IF(B1682=B1681,COUNTIF(B$9:B1681,B1682)+1,1))","v":1670},0,0]
["1675","-1900","-1900-1671",null,null,null,null,null,null,null,null,null,null,null,null,null,null,null,null,null,{"$f":"IF(J$2019=1,\"\",IF(T1683=\"\",\"\",RIGHT(VLOOKUP(T1683,Tabelle!$B$5:$C$9,2,FALSE),5)))","v":""},null,null,null,null,null,null,null,{"$f":"IF(B1683=\"\",0,IF(B1683=B1682,COUNTIF(B$9:B1682,B1683)+1,1))","v":1671},0,0]
["1676","-1900","-1900-1672",null,null,null,null,null,null,null,null,null,null,null,null,null,null,null,null,null,{"$f":"IF(J$2019=1,\"\",IF(T1684=\"\",\"\",RIGHT(VLOOKUP(T1684,Tabelle!$B$5:$C$9,2,FALSE),5)))","v":""},null,null,null,null,null,null,null,{"$f":"IF(B1684=\"\",0,IF(B1684=B1683,COUNTIF(B$9:B1683,B1684)+1,1))","v":1672},0,0]
["1677","-1900","-1900-1673",null,null,null,null,null,null,null,null,null,null,null,null,null,null,null,null,null,{"$f":"IF(J$2019=1,\"\",IF(T1685=\"\",\"\",RIGHT(VLOOKUP(T1685,Tabelle!$B$5:$C$9,2,FALSE),5)))","v":""},null,null,null,null,null,null,null,{"$f":"IF(B1685=\"\",0,IF(B1685=B1684,COUNTIF(B$9:B1684,B1685)+1,1))","v":1673},{"$f":"IF(OR(D1685=\"\",J$2019=1),0,IF(AC1685=28,1,0))","v":0},0]
["1678","-1900","-1900-1674",null,null,null,null,null,null,null,null,null,null,null,null,null,null,null,null,null,{"$f":"IF(J$2019=1,\"\",IF(T1686=\"\",\"\",RIGHT(VLOOKUP(T1686,Tabelle!$B$5:$C$9,2,FALSE),5)))","v":""},null,null,null,null,null,null,null,{"$f":"IF(B1686=\"\",0,IF(B1686=B1685,COUNTIF(B$9:B1685,B1686)+1,1))","v":1674},0,0]
["1679","-1900",{"$f":"IF(J$2019=1,0,B1687&\"-\"&AC1687)","v":"-1900-1675"},null,null,null,null,null,null,null,null,null,null,null,null,null,null,null,null,null,{"$f":"IF(J$2019=1,\"\",IF(T1687=\"\",\"\",RIGHT(VLOOKUP(T1687,Tabelle!$B$5:$C$9,2,FALSE),5)))","v":""},null,null,null,null,null,null,null,{"$f":"IF(B1687=\"\",0,IF(B1687=B1686,COUNTIF(B$9:B1686,B1687)+1,1))","v":1675},0,0]
["1680","-1900","-1900-1676",null,null,null,null,null,null,null,null,null,null,null,null,null,null,null,null,null,{"$f":"IF(J$2019=1,\"\",IF(T1688=\"\",\"\",RIGHT(VLOOKUP(T1688,Tabelle!$B$5:$C$9,2,FALSE),5)))","v":""},null,null,null,null,null,null,null,{"$f":"IF(B1688=\"\",0,IF(B1688=B1687,COUNTIF(B$9:B1687,B1688)+1,1))","v":1676},0,0]
["1681","-1900","-1900-1677",null,null,null,null,null,null,null,null,null,null,null,null,null,null,null,null,null,{"$f":"IF(J$2019=1,\"\",IF(T1689=\"\",\"\",RIGHT(VLOOKUP(T1689,Tabelle!$B$5:$C$9,2,FALSE),5)))","v":""},null,null,null,null,null,null,null,{"$f":"IF(B1689=\"\",0,IF(B1689=B1688,COUNTIF(B$9:B1688,B1689)+1,1))","v":1677},0,0]
["1682","-1900","-1900-1678",null,null,null,null,null,null,null,null,null,null,null,null,null,null,null,null,null,{"$f":"IF(J$2019=1,\"\",IF(T1690=\"\",\"\",RIGHT(VLOOKUP(T1690,Tabelle!$B$5:$C$9,2,FALSE),5)))","v":""},null,null,null,null,null,null,null,{"$f":"IF(B1690=\"\",0,IF(B1690=B1689,COUNTIF(B$9:B1689,B1690)+1,1))","v":1678},0,0]
["1683","-1900","-1900-1679",null,null,null,null,null,null,null,null,null,null,null,null,null,null,null,null,null,{"$f":"IF(J$2019=1,\"\",IF(T1691=\"\",\"\",RIGHT(VLOOKUP(T1691,Tabelle!$B$5:$C$9,2,FALSE),5)))","v":""},null,null,null,null,null,null,null,{"$f":"IF(B1691=\"\",0,IF(B1691=B1690,COUNTIF(B$9:B1690,B1691)+1,1))","v":1679},0,0]
["1684","-1900","-1900-1680",null,null,null,null,null,null,null,null,null,null,null,null,null,null,null,null,null,{"$f":"IF(J$2019=1,\"\",IF(T1692=\"\",\"\",RIGHT(VLOOKUP(T1692,Tabelle!$B$5:$C$9,2,FALSE),5)))","v":""},null,null,null,null,null,null,null,{"$f":"IF(B1692=\"\",0,IF(B1692=B1691,COUNTIF(B$9:B1691,B1692)+1,1))","v":1680},0,0]
["1685","-1900","-1900-1681",null,null,null,null,null,null,null,null,null,null,null,null,null,null,null,null,null,{"$f":"IF(J$2019=1,\"\",IF(T1693=\"\",\"\",RIGHT(VLOOKUP(T1693,Tabelle!$B$5:$C$9,2,FALSE),5)))","v":""},null,null,null,null,null,null,null,{"$f":"IF(B1693=\"\",0,IF(B1693=B1692,COUNTIF(B$9:B1692,B1693)+1,1))","v":1681},0,0]
["1686","-1900","-1900-1682",null,null,null,null,null,null,null,null,null,null,null,null,null,null,null,null,null,{"$f":"IF(J$2019=1,\"\",IF(T1694=\"\",\"\",RIGHT(VLOOKUP(T1694,Tabelle!$B$5:$C$9,2,FALSE),5)))","v":""},null,null,null,null,null,null,null,{"$f":"IF(B1694=\"\",0,IF(B1694=B1693,COUNTIF(B$9:B1693,B1694)+1,1))","v":1682},0,0]
["1687","-1900","-1900-1683",null,null,null,null,null,null,null,null,null,null,null,null,null,null,null,null,null,{"$f":"IF(J$2019=1,\"\",IF(T1695=\"\",\"\",RIGHT(VLOOKUP(T1695,Tabelle!$B$5:$C$9,2,FALSE),5)))","v":""},null,null,null,null,null,null,null,{"$f":"IF(B1695=\"\",0,IF(B1695=B1694,COUNTIF(B$9:B1694,B1695)+1,1))","v":1683},0,0]
["1688","-1900","-1900-1684",null,null,null,null,null,null,null,null,null,null,null,null,null,null,null,null,null,{"$f":"IF(J$2019=1,\"\",IF(T1696=\"\",\"\",RIGHT(VLOOKUP(T1696,Tabelle!$B$5:$C$9,2,FALSE),5)))","v":""},null,null,null,null,null,null,null,{"$f":"IF(B1696=\"\",0,IF(B1696=B1695,COUNTIF(B$9:B1695,B1696)+1,1))","v":1684},0,0]
["1689","-1900","-1900-1685",null,null,null,null,null,null,null,null,null,null,null,null,null,null,null,null,null,{"$f":"IF(J$2019=1,\"\",IF(T1697=\"\",\"\",RIGHT(VLOOKUP(T1697,Tabelle!$B$5:$C$9,2,FALSE),5)))","v":""},null,null,null,null,null,null,null,{"$f":"IF(B1697=\"\",0,IF(B1697=B1696,COUNTIF(B$9:B1696,B1697)+1,1))","v":1685},0,0]
["1690","-1900","-1900-1686",null,null,null,null,null,null,null,null,null,null,null,null,null,null,null,null,null,{"$f":"IF(J$2019=1,\"\",IF(T1698=\"\",\"\",RIGHT(VLOOKUP(T1698,Tabelle!$B$5:$C$9,2,FALSE),5)))","v":""},null,null,null,null,null,null,null,{"$f":"IF(B1698=\"\",0,IF(B1698=B1697,COUNTIF(B$9:B1697,B1698)+1,1))","v":1686},0,0]
["1691","-1900","-1900-1687",null,null,null,null,null,null,null,null,null,null,null,null,null,null,null,null,null,{"$f":"IF(J$2019=1,\"\",IF(T1699=\"\",\"\",RIGHT(VLOOKUP(T1699,Tabelle!$B$5:$C$9,2,FALSE),5)))","v":""},null,null,null,null,null,null,null,{"$f":"IF(B1699=\"\",0,IF(B1699=B1698,COUNTIF(B$9:B1698,B1699)+1,1))","v":1687},0,0]
["1692","-1900","-1900-1688",null,null,null,null,null,null,null,null,null,null,null,null,null,null,null,null,null,{"$f":"IF(J$2019=1,\"\",IF(T1700=\"\",\"\",RIGHT(VLOOKUP(T1700,Tabelle!$B$5:$C$9,2,FALSE),5)))","v":""},null,null,null,null,null,null,null,{"$f":"IF(B1700=\"\",0,IF(B1700=B1699,COUNTIF(B$9:B1699,B1700)+1,1))","v":1688},0,0]
["1693","-1900","-1900-1689",null,null,null,null,null,null,null,null,null,null,null,null,null,null,null,null,null,{"$f":"IF(J$2019=1,\"\",IF(T1701=\"\",\"\",RIGHT(VLOOKUP(T1701,Tabelle!$B$5:$C$9,2,FALSE),5)))","v":""},null,null,null,null,null,null,null,{"$f":"IF(B1701=\"\",0,IF(B1701=B1700,COUNTIF(B$9:B1700,B1701)+1,1))","v":1689},0,0]
["1694","-1900","-1900-1690",null,null,null,null,null,null,null,null,null,null,null,null,null,null,null,null,null,{"$f":"IF(J$2019=1,\"\",IF(T1702=\"\",\"\",RIGHT(VLOOKUP(T1702,Tabelle!$B$5:$C$9,2,FALSE),5)))","v":""},null,null,null,null,null,null,null,{"$f":"IF(B1702=\"\",0,IF(B1702=B1701,COUNTIF(B$9:B1701,B1702)+1,1))","v":1690},0,0]
["1695","-1900","-1900-1691",null,null,null,null,null,null,null,null,null,null,null,null,null,null,null,null,null,{"$f":"IF(J$2019=1,\"\",IF(T1703=\"\",\"\",RIGHT(VLOOKUP(T1703,Tabelle!$B$5:$C$9,2,FALSE),5)))","v":""},null,null,null,null,null,null,null,{"$f":"IF(B1703=\"\",0,IF(B1703=B1702,COUNTIF(B$9:B1702,B1703)+1,1))","v":1691},0,0]
["1696","-1900","-1900-1692",null,null,null,null,null,null,null,null,null,null,null,null,null,null,null,null,null,{"$f":"IF(J$2019=1,\"\",IF(T1704=\"\",\"\",RIGHT(VLOOKUP(T1704,Tabelle!$B$5:$C$9,2,FALSE),5)))","v":""},null,null,null,null,null,null,null,{"$f":"IF(B1704=\"\",0,IF(B1704=B1703,COUNTIF(B$9:B1703,B1704)+1,1))","v":1692},0,0]
["1697","-1900","-1900-1693",null,null,null,null,null,null,null,null,null,null,null,null,null,null,null,null,null,{"$f":"IF(J$2019=1,\"\",IF(T1705=\"\",\"\",RIGHT(VLOOKUP(T1705,Tabelle!$B$5:$C$9,2,FALSE),5)))","v":""},null,null,null,null,null,null,null,{"$f":"IF(B1705=\"\",0,IF(B1705=B1704,COUNTIF(B$9:B1704,B1705)+1,1))","v":1693},0,0]
["1698","-1900","-1900-1694",null,null,null,null,null,null,null,null,null,null,null,null,null,null,null,null,null,{"$f":"IF(J$2019=1,\"\",IF(T1706=\"\",\"\",RIGHT(VLOOKUP(T1706,Tabelle!$B$5:$C$9,2,FALSE),5)))","v":""},null,null,null,null,null,null,null,{"$f":"IF(B1706=\"\",0,IF(B1706=B1705,COUNTIF(B$9:B1705,B1706)+1,1))","v":1694},0,0]
["1699","-1900","-1900-1695",null,null,null,null,null,null,null,null,null,null,null,null,null,null,null,null,null,{"$f":"IF(J$2019=1,\"\",IF(T1707=\"\",\"\",RIGHT(VLOOKUP(T1707,Tabelle!$B$5:$C$9,2,FALSE),5)))","v":""},null,null,null,null,null,null,null,{"$f":"IF(B1707=\"\",0,IF(B1707=B1706,COUNTIF(B$9:B1706,B1707)+1,1))","v":1695},0,0]
["1700","-1900","-1900-1696",null,null,null,null,null,null,null,null,null,null,null,null,null,null,null,null,null,{"$f":"IF(J$2019=1,\"\",IF(T1708=\"\",\"\",RIGHT(VLOOKUP(T1708,Tabelle!$B$5:$C$9,2,FALSE),5)))","v":""},null,null,null,null,null,null,null,{"$f":"IF(B1708=\"\",0,IF(B1708=B1707,COUNTIF(B$9:B1707,B1708)+1,1))","v":1696},0,0]
["1701","-1900","-1900-1697",null,null,null,null,null,null,null,null,null,null,null,null,null,null,null,null,null,{"$f":"IF(J$2019=1,\"\",IF(T1709=\"\",\"\",RIGHT(VLOOKUP(T1709,Tabelle!$B$5:$C$9,2,FALSE),5)))","v":""},null,null,null,null,null,null,null,{"$f":"IF(B1709=\"\",0,IF(B1709=B1708,COUNTIF(B$9:B1708,B1709)+1,1))","v":1697},0,0]
["1702","-1900","-1900-1698",null,null,null,null,null,null,null,null,null,null,null,null,null,null,null,null,null,{"$f":"IF(J$2019=1,\"\",IF(T1710=\"\",\"\",RIGHT(VLOOKUP(T1710,Tabelle!$B$5:$C$9,2,FALSE),5)))","v":""},null,null,null,null,null,null,null,{"$f":"IF(B1710=\"\",0,IF(B1710=B1709,COUNTIF(B$9:B1709,B1710)+1,1))","v":1698},0,0]
["1703","-1900","-1900-1699",null,null,null,null,null,null,null,null,null,null,null,null,null,null,null,null,null,{"$f":"IF(J$2019=1,\"\",IF(T1711=\"\",\"\",RIGHT(VLOOKUP(T1711,Tabelle!$B$5:$C$9,2,FALSE),5)))","v":""},null,null,null,null,null,null,null,{"$f":"IF(B1711=\"\",0,IF(B1711=B1710,COUNTIF(B$9:B1710,B1711)+1,1))","v":1699},0,0]
["1704","-1900","-1900-1700",null,null,null,null,null,null,null,null,null,null,null,null,null,null,null,null,null,{"$f":"IF(J$2019=1,\"\",IF(T1712=\"\",\"\",RIGHT(VLOOKUP(T1712,Tabelle!$B$5:$C$9,2,FALSE),5)))","v":""},null,null,null,null,null,null,null,{"$f":"IF(B1712=\"\",0,IF(B1712=B1711,COUNTIF(B$9:B1711,B1712)+1,1))","v":1700},0,0]
["1705","-1900","-1900-1701",null,null,null,null,null,null,null,null,null,null,null,null,null,null,null,null,null,{"$f":"IF(J$2019=1,\"\",IF(T1713=\"\",\"\",RIGHT(VLOOKUP(T1713,Tabelle!$B$5:$C$9,2,FALSE),5)))","v":""},null,null,null,null,null,null,null,{"$f":"IF(B1713=\"\",0,IF(B1713=B1712,COUNTIF(B$9:B1712,B1713)+1,1))","v":1701},0,0]
["1706","-1900","-1900-1702",null,null,null,null,null,null,null,null,null,null,null,null,null,null,null,null,null,{"$f":"IF(J$2019=1,\"\",IF(T1714=\"\",\"\",RIGHT(VLOOKUP(T1714,Tabelle!$B$5:$C$9,2,FALSE),5)))","v":""},null,null,null,null,null,null,null,{"$f":"IF(B1714=\"\",0,IF(B1714=B1713,COUNTIF(B$9:B1713,B1714)+1,1))","v":1702},0,0]
["1707","-1900","-1900-1703",null,null,null,null,null,null,null,null,null,null,null,null,null,null,null,null,null,{"$f":"IF(J$2019=1,\"\",IF(T1715=\"\",\"\",RIGHT(VLOOKUP(T1715,Tabelle!$B$5:$C$9,2,FALSE),5)))","v":""},null,null,null,null,null,null,null,{"$f":"IF(B1715=\"\",0,IF(B1715=B1714,COUNTIF(B$9:B1714,B1715)+1,1))","v":1703},0,0]
["1708","-1900","-1900-1704",null,null,null,null,null,null,null,null,null,null,null,null,null,null,null,null,null,{"$f":"IF(J$2019=1,\"\",IF(T1716=\"\",\"\",RIGHT(VLOOKUP(T1716,Tabelle!$B$5:$C$9,2,FALSE),5)))","v":""},null,null,null,null,null,null,null,{"$f":"IF(B1716=\"\",0,IF(B1716=B1715,COUNTIF(B$9:B1715,B1716)+1,1))","v":1704},0,0]
["1709","-1900","-1900-1705",null,null,null,null,null,null,null,null,null,null,null,null,null,null,null,null,null,{"$f":"IF(J$2019=1,\"\",IF(T1717=\"\",\"\",RIGHT(VLOOKUP(T1717,Tabelle!$B$5:$C$9,2,FALSE),5)))","v":""},null,null,null,null,null,null,null,{"$f":"IF(B1717=\"\",0,IF(B1717=B1716,COUNTIF(B$9:B1716,B1717)+1,1))","v":1705},0,0]
["1710","-1900","-1900-1706",null,null,null,null,null,null,null,null,null,null,null,null,null,null,null,null,null,{"$f":"IF(J$2019=1,\"\",IF(T1718=\"\",\"\",RIGHT(VLOOKUP(T1718,Tabelle!$B$5:$C$9,2,FALSE),5)))","v":""},null,null,null,null,null,null,null,{"$f":"IF(B1718=\"\",0,IF(B1718=B1717,COUNTIF(B$9:B1717,B1718)+1,1))","v":1706},0,0]
["1711","-1900","-1900-1707",null,null,null,null,null,null,null,null,null,null,null,null,null,null,null,null,null,{"$f":"IF(J$2019=1,\"\",IF(T1719=\"\",\"\",RIGHT(VLOOKUP(T1719,Tabelle!$B$5:$C$9,2,FALSE),5)))","v":""},null,null,null,null,null,null,null,{"$f":"IF(B1719=\"\",0,IF(B1719=B1718,COUNTIF(B$9:B1718,B1719)+1,1))","v":1707},0,0]
["1712","-1900","-1900-1708",null,null,null,null,null,null,null,null,null,null,null,null,null,null,null,null,null,{"$f":"IF(J$2019=1,\"\",IF(T1720=\"\",\"\",RIGHT(VLOOKUP(T1720,Tabelle!$B$5:$C$9,2,FALSE),5)))","v":""},null,null,null,null,null,null,null,{"$f":"IF(B1720=\"\",0,IF(B1720=B1719,COUNTIF(B$9:B1719,B1720)+1,1))","v":1708},0,0]
["1713","-1900","-1900-1709",null,null,null,null,null,null,null,null,null,null,null,null,null,null,null,null,null,{"$f":"IF(J$2019=1,\"\",IF(T1721=\"\",\"\",RIGHT(VLOOKUP(T1721,Tabelle!$B$5:$C$9,2,FALSE),5)))","v":""},null,null,null,null,null,null,null,{"$f":"IF(B1721=\"\",0,IF(B1721=B1720,COUNTIF(B$9:B1720,B1721)+1,1))","v":1709},0,0]
["1714","-1900","-1900-1710",null,null,null,null,null,null,null,null,null,null,null,null,null,null,null,null,null,{"$f":"IF(J$2019=1,\"\",IF(T1722=\"\",\"\",RIGHT(VLOOKUP(T1722,Tabelle!$B$5:$C$9,2,FALSE),5)))","v":""},null,null,null,null,null,null,null,{"$f":"IF(B1722=\"\",0,IF(B1722=B1721,COUNTIF(B$9:B1721,B1722)+1,1))","v":1710},0,0]
["1715","-1900","-1900-1711",null,null,null,null,null,null,null,null,null,null,null,null,null,null,null,null,null,{"$f":"IF(J$2019=1,\"\",IF(T1723=\"\",\"\",RIGHT(VLOOKUP(T1723,Tabelle!$B$5:$C$9,2,FALSE),5)))","v":""},null,null,null,null,null,null,null,{"$f":"IF(B1723=\"\",0,IF(B1723=B1722,COUNTIF(B$9:B1722,B1723)+1,1))","v":1711},0,0]
["1716","-1900","-1900-1712",null,null,null,null,null,null,null,null,null,null,null,null,null,null,null,null,null,{"$f":"IF(J$2019=1,\"\",IF(T1724=\"\",\"\",RIGHT(VLOOKUP(T1724,Tabelle!$B$5:$C$9,2,FALSE),5)))","v":""},null,null,null,null,null,null,null,{"$f":"IF(B1724=\"\",0,IF(B1724=B1723,COUNTIF(B$9:B1723,B1724)+1,1))","v":1712},0,0]
["1717","-1900","-1900-1713",null,null,null,null,null,null,null,null,null,null,null,null,null,null,null,null,null,{"$f":"IF(J$2019=1,\"\",IF(T1725=\"\",\"\",RIGHT(VLOOKUP(T1725,Tabelle!$B$5:$C$9,2,FALSE),5)))","v":""},null,null,null,null,null,null,null,{"$f":"IF(B1725=\"\",0,IF(B1725=B1724,COUNTIF(B$9:B1724,B1725)+1,1))","v":1713},0,0]
["1718","-1900","-1900-1714",null,null,null,null,null,null,null,null,null,null,null,null,null,null,null,null,null,{"$f":"IF(J$2019=1,\"\",IF(T1726=\"\",\"\",RIGHT(VLOOKUP(T1726,Tabelle!$B$5:$C$9,2,FALSE),5)))","v":""},null,null,null,null,null,null,null,{"$f":"IF(B1726=\"\",0,IF(B1726=B1725,COUNTIF(B$9:B1725,B1726)+1,1))","v":1714},0,0]
["1719","-1900","-1900-1715",null,null,null,null,null,null,null,null,null,null,null,null,null,null,null,null,null,{"$f":"IF(J$2019=1,\"\",IF(T1727=\"\",\"\",RIGHT(VLOOKUP(T1727,Tabelle!$B$5:$C$9,2,FALSE),5)))","v":""},null,null,null,null,null,null,null,{"$f":"IF(B1727=\"\",0,IF(B1727=B1726,COUNTIF(B$9:B1726,B1727)+1,1))","v":1715},0,0]
["1720","-1900","-1900-1716",null,null,null,null,null,null,null,null,null,null,null,null,null,null,null,null,null,{"$f":"IF(J$2019=1,\"\",IF(T1728=\"\",\"\",RIGHT(VLOOKUP(T1728,Tabelle!$B$5:$C$9,2,FALSE),5)))","v":""},null,null,null,null,null,null,null,{"$f":"IF(B1728=\"\",0,IF(B1728=B1727,COUNTIF(B$9:B1727,B1728)+1,1))","v":1716},0,0]
["1721","-1900","-1900-1717",null,null,null,null,null,null,null,null,null,null,null,null,null,null,null,null,null,{"$f":"IF(J$2019=1,\"\",IF(T1729=\"\",\"\",RIGHT(VLOOKUP(T1729,Tabelle!$B$5:$C$9,2,FALSE),5)))","v":""},null,null,null,null,null,null,null,{"$f":"IF(B1729=\"\",0,IF(B1729=B1728,COUNTIF(B$9:B1728,B1729)+1,1))","v":1717},0,0]
["1722","-1900","-1900-1718",null,null,null,null,null,null,null,null,null,null,null,null,null,null,null,null,null,{"$f":"IF(J$2019=1,\"\",IF(T1730=\"\",\"\",RIGHT(VLOOKUP(T1730,Tabelle!$B$5:$C$9,2,FALSE),5)))","v":""},null,null,null,null,null,null,null,{"$f":"IF(B1730=\"\",0,IF(B1730=B1729,COUNTIF(B$9:B1729,B1730)+1,1))","v":1718},0,0]
["1723","-1900","-1900-1719",null,null,null,null,null,null,null,null,null,null,null,null,null,null,null,null,null,{"$f":"IF(J$2019=1,\"\",IF(T1731=\"\",\"\",RIGHT(VLOOKUP(T1731,Tabelle!$B$5:$C$9,2,FALSE),5)))","v":""},null,null,null,null,null,null,null,{"$f":"IF(B1731=\"\",0,IF(B1731=B1730,COUNTIF(B$9:B1730,B1731)+1,1))","v":1719},0,0]
["1724","-1900","-1900-1720",null,null,null,null,null,null,null,null,null,null,null,null,null,null,null,null,null,{"$f":"IF(J$2019=1,\"\",IF(T1732=\"\",\"\",RIGHT(VLOOKUP(T1732,Tabelle!$B$5:$C$9,2,FALSE),5)))","v":""},null,null,null,null,null,null,null,{"$f":"IF(B1732=\"\",0,IF(B1732=B1731,COUNTIF(B$9:B1731,B1732)+1,1))","v":1720},0,0]
["1725","-1900","-1900-1721",null,null,null,null,null,null,null,null,null,null,null,null,null,null,null,null,null,{"$f":"IF(J$2019=1,\"\",IF(T1733=\"\",\"\",RIGHT(VLOOKUP(T1733,Tabelle!$B$5:$C$9,2,FALSE),5)))","v":""},null,null,null,null,null,null,null,{"$f":"IF(B1733=\"\",0,IF(B1733=B1732,COUNTIF(B$9:B1732,B1733)+1,1))","v":1721},0,0]
["1726","-1900","-1900-1722",null,null,null,null,null,null,null,null,null,null,null,null,null,null,null,null,null,{"$f":"IF(J$2019=1,\"\",IF(T1734=\"\",\"\",RIGHT(VLOOKUP(T1734,Tabelle!$B$5:$C$9,2,FALSE),5)))","v":""},null,null,null,null,null,null,null,{"$f":"IF(B1734=\"\",0,IF(B1734=B1733,COUNTIF(B$9:B1733,B1734)+1,1))","v":1722},0,0]
["1727","-1900","-1900-1723",null,null,null,null,null,null,null,null,null,null,null,null,null,null,null,null,null,{"$f":"IF(J$2019=1,\"\",IF(T1735=\"\",\"\",RIGHT(VLOOKUP(T1735,Tabelle!$B$5:$C$9,2,FALSE),5)))","v":""},null,null,null,null,null,null,null,{"$f":"IF(B1735=\"\",0,IF(B1735=B1734,COUNTIF(B$9:B1734,B1735)+1,1))","v":1723},0,0]
["1728","-1900","-1900-1724",null,null,null,null,null,null,null,null,null,null,null,null,null,null,null,null,null,{"$f":"IF(J$2019=1,\"\",IF(T1736=\"\",\"\",RIGHT(VLOOKUP(T1736,Tabelle!$B$5:$C$9,2,FALSE),5)))","v":""},null,null,null,null,null,null,null,{"$f":"IF(B1736=\"\",0,IF(B1736=B1735,COUNTIF(B$9:B1735,B1736)+1,1))","v":1724},0,0]
["1729","-1900","-1900-1725",null,null,null,null,null,null,null,null,null,null,null,null,null,null,null,null,null,{"$f":"IF(J$2019=1,\"\",IF(T1737=\"\",\"\",RIGHT(VLOOKUP(T1737,Tabelle!$B$5:$C$9,2,FALSE),5)))","v":""},null,null,null,null,null,null,null,{"$f":"IF(B1737=\"\",0,IF(B1737=B1736,COUNTIF(B$9:B1736,B1737)+1,1))","v":1725},0,0]
["1730",{"$f":"IF(AE1738=$AE$2013,0,IF(J$2019=1,0,D1738&\"-\"&YEAR(E1738)))","v":"-1900"},"-1900-1726",null,null,null,null,null,null,null,null,null,null,null,null,null,null,null,null,null,{"$f":"IF(J$2019=1,\"\",IF(T1738=\"\",\"\",RIGHT(VLOOKUP(T1738,Tabelle!$B$5:$C$9,2,FALSE),5)))","v":""},null,null,null,null,null,null,null,{"$f":"IF(B1738=\"\",0,IF(B1738=B1737,COUNTIF(B$9:B1737,B1738)+1,1))","v":1726},0,{"$f":"IF(E1738>0,IF(OR(MONTH(E1738)<$J$2025,MONTH(E1738)>$J$2026),AE$2013,0),0)","v":0}]
["1731","-1900","-1900-1727",null,null,null,null,null,null,null,null,null,null,null,null,null,null,null,null,null,{"$f":"IF(J$2019=1,\"\",IF(T1739=\"\",\"\",RIGHT(VLOOKUP(T1739,Tabelle!$B$5:$C$9,2,FALSE),5)))","v":""},null,null,null,null,null,null,null,{"$f":"IF(B1739=\"\",0,IF(B1739=B1738,COUNTIF(B$9:B1738,B1739)+1,1))","v":1727},0,0]
["1732","-1900","-1900-1728",null,null,null,null,null,null,null,null,null,null,null,null,null,null,null,null,null,{"$f":"IF(J$2019=1,\"\",IF(T1740=\"\",\"\",RIGHT(VLOOKUP(T1740,Tabelle!$B$5:$C$9,2,FALSE),5)))","v":""},null,null,null,null,null,null,null,{"$f":"IF(B1740=\"\",0,IF(B1740=B1739,COUNTIF(B$9:B1739,B1740)+1,1))","v":1728},0,0]
["1733","-1900","-1900-1729",null,null,null,null,null,null,null,null,null,null,null,null,null,null,null,null,null,{"$f":"IF(J$2019=1,\"\",IF(T1741=\"\",\"\",RIGHT(VLOOKUP(T1741,Tabelle!$B$5:$C$9,2,FALSE),5)))","v":""},null,null,null,null,null,null,null,{"$f":"IF(B1741=\"\",0,IF(B1741=B1740,COUNTIF(B$9:B1740,B1741)+1,1))","v":1729},0,0]
["1734","-1900","-1900-1730",null,null,null,null,null,null,null,null,null,null,null,null,null,null,null,null,null,{"$f":"IF(J$2019=1,\"\",IF(T1742=\"\",\"\",RIGHT(VLOOKUP(T1742,Tabelle!$B$5:$C$9,2,FALSE),5)))","v":""},null,null,null,null,null,null,null,{"$f":"IF(B1742=\"\",0,IF(B1742=B1741,COUNTIF(B$9:B1741,B1742)+1,1))","v":1730},0,0]
["1735","-1900","-1900-1731",null,null,null,null,null,null,null,null,null,null,null,null,null,null,null,null,null,{"$f":"IF(J$2019=1,\"\",IF(T1743=\"\",\"\",RIGHT(VLOOKUP(T1743,Tabelle!$B$5:$C$9,2,FALSE),5)))","v":""},null,null,null,null,null,null,null,{"$f":"IF(B1743=\"\",0,IF(B1743=B1742,COUNTIF(B$9:B1742,B1743)+1,1))","v":1731},0,0]
["1736","-1900","-1900-1732",null,null,null,null,null,null,null,null,null,null,null,null,null,null,null,null,null,{"$f":"IF(J$2019=1,\"\",IF(T1744=\"\",\"\",RIGHT(VLOOKUP(T1744,Tabelle!$B$5:$C$9,2,FALSE),5)))","v":""},null,null,null,null,null,null,null,{"$f":"IF(B1744=\"\",0,IF(B1744=B1743,COUNTIF(B$9:B1743,B1744)+1,1))","v":1732},0,0]
["1737","-1900","-1900-1733",null,null,null,null,null,null,null,null,null,null,null,null,null,null,null,null,null,{"$f":"IF(J$2019=1,\"\",IF(T1745=\"\",\"\",RIGHT(VLOOKUP(T1745,Tabelle!$B$5:$C$9,2,FALSE),5)))","v":""},null,null,null,null,null,null,null,{"$f":"IF(B1745=\"\",0,IF(B1745=B1744,COUNTIF(B$9:B1744,B1745)+1,1))","v":1733},0,0]
["1738","-1900","-1900-1734",null,null,null,null,null,null,null,null,null,null,null,null,null,null,null,null,null,{"$f":"IF(J$2019=1,\"\",IF(T1746=\"\",\"\",RIGHT(VLOOKUP(T1746,Tabelle!$B$5:$C$9,2,FALSE),5)))","v":""},null,null,null,null,null,null,null,{"$f":"IF(B1746=\"\",0,IF(B1746=B1745,COUNTIF(B$9:B1745,B1746)+1,1))","v":1734},0,0]
["1739","-1900","-1900-1735",null,null,null,null,null,null,null,null,null,null,null,null,null,null,null,null,null,{"$f":"IF(J$2019=1,\"\",IF(T1747=\"\",\"\",RIGHT(VLOOKUP(T1747,Tabelle!$B$5:$C$9,2,FALSE),5)))","v":""},null,null,null,null,null,null,null,{"$f":"IF(B1747=\"\",0,IF(B1747=B1746,COUNTIF(B$9:B1746,B1747)+1,1))","v":1735},0,0]
["1740","-1900","-1900-1736",null,null,null,null,null,null,null,null,null,null,null,null,null,null,null,null,null,{"$f":"IF(J$2019=1,\"\",IF(T1748=\"\",\"\",RIGHT(VLOOKUP(T1748,Tabelle!$B$5:$C$9,2,FALSE),5)))","v":""},null,null,null,null,null,null,null,{"$f":"IF(B1748=\"\",0,IF(B1748=B1747,COUNTIF(B$9:B1747,B1748)+1,1))","v":1736},0,0]
["1741","-1900","-1900-1737",null,null,null,null,null,null,null,null,null,null,null,null,null,null,null,null,null,{"$f":"IF(J$2019=1,\"\",IF(T1749=\"\",\"\",RIGHT(VLOOKUP(T1749,Tabelle!$B$5:$C$9,2,FALSE),5)))","v":""},null,null,null,null,null,null,null,{"$f":"IF(B1749=\"\",0,IF(B1749=B1748,COUNTIF(B$9:B1748,B1749)+1,1))","v":1737},{"$f":"IF(OR(D1749=\"\",J$2019=1),0,IF(AC1749=28,1,0))","v":0},0]
["1742","-1900","-1900-1738",null,null,null,null,null,null,null,null,null,null,null,null,null,null,null,null,null,{"$f":"IF(J$2019=1,\"\",IF(T1750=\"\",\"\",RIGHT(VLOOKUP(T1750,Tabelle!$B$5:$C$9,2,FALSE),5)))","v":""},null,null,null,null,null,null,null,{"$f":"IF(B1750=\"\",0,IF(B1750=B1749,COUNTIF(B$9:B1749,B1750)+1,1))","v":1738},0,0]
["1743","-1900",{"$f":"IF(J$2019=1,0,B1751&\"-\"&AC1751)","v":"-1900-1739"},null,null,null,null,null,null,null,null,null,null,null,null,null,null,null,null,null,{"$f":"IF(J$2019=1,\"\",IF(T1751=\"\",\"\",RIGHT(VLOOKUP(T1751,Tabelle!$B$5:$C$9,2,FALSE),5)))","v":""},null,null,null,null,null,null,null,{"$f":"IF(B1751=\"\",0,IF(B1751=B1750,COUNTIF(B$9:B1750,B1751)+1,1))","v":1739},0,0]
["1744","-1900","-1900-1740",null,null,null,null,null,null,null,null,null,null,null,null,null,null,null,null,null,{"$f":"IF(J$2019=1,\"\",IF(T1752=\"\",\"\",RIGHT(VLOOKUP(T1752,Tabelle!$B$5:$C$9,2,FALSE),5)))","v":""},null,null,null,null,null,null,null,{"$f":"IF(B1752=\"\",0,IF(B1752=B1751,COUNTIF(B$9:B1751,B1752)+1,1))","v":1740},0,0]
["1745","-1900","-1900-1741",null,null,null,null,null,null,null,null,null,null,null,null,null,null,null,null,null,{"$f":"IF(J$2019=1,\"\",IF(T1753=\"\",\"\",RIGHT(VLOOKUP(T1753,Tabelle!$B$5:$C$9,2,FALSE),5)))","v":""},null,null,null,null,null,null,null,{"$f":"IF(B1753=\"\",0,IF(B1753=B1752,COUNTIF(B$9:B1752,B1753)+1,1))","v":1741},0,0]
["1746","-1900","-1900-1742",null,null,null,null,null,null,null,null,null,null,null,null,null,null,null,null,null,{"$f":"IF(J$2019=1,\"\",IF(T1754=\"\",\"\",RIGHT(VLOOKUP(T1754,Tabelle!$B$5:$C$9,2,FALSE),5)))","v":""},null,null,null,null,null,null,null,{"$f":"IF(B1754=\"\",0,IF(B1754=B1753,COUNTIF(B$9:B1753,B1754)+1,1))","v":1742},0,0]
["1747","-1900","-1900-1743",null,null,null,null,null,null,null,null,null,null,null,null,null,null,null,null,null,{"$f":"IF(J$2019=1,\"\",IF(T1755=\"\",\"\",RIGHT(VLOOKUP(T1755,Tabelle!$B$5:$C$9,2,FALSE),5)))","v":""},null,null,null,null,null,null,null,{"$f":"IF(B1755=\"\",0,IF(B1755=B1754,COUNTIF(B$9:B1754,B1755)+1,1))","v":1743},0,0]
["1748","-1900","-1900-1744",null,null,null,null,null,null,null,null,null,null,null,null,null,null,null,null,null,{"$f":"IF(J$2019=1,\"\",IF(T1756=\"\",\"\",RIGHT(VLOOKUP(T1756,Tabelle!$B$5:$C$9,2,FALSE),5)))","v":""},null,null,null,null,null,null,null,{"$f":"IF(B1756=\"\",0,IF(B1756=B1755,COUNTIF(B$9:B1755,B1756)+1,1))","v":1744},0,0]
["1749","-1900","-1900-1745",null,null,null,null,null,null,null,null,null,null,null,null,null,null,null,null,null,{"$f":"IF(J$2019=1,\"\",IF(T1757=\"\",\"\",RIGHT(VLOOKUP(T1757,Tabelle!$B$5:$C$9,2,FALSE),5)))","v":""},null,null,null,null,null,null,null,{"$f":"IF(B1757=\"\",0,IF(B1757=B1756,COUNTIF(B$9:B1756,B1757)+1,1))","v":1745},0,0]
["1750","-1900","-1900-1746",null,null,null,null,null,null,null,null,null,null,null,null,null,null,null,null,null,{"$f":"IF(J$2019=1,\"\",IF(T1758=\"\",\"\",RIGHT(VLOOKUP(T1758,Tabelle!$B$5:$C$9,2,FALSE),5)))","v":""},null,null,null,null,null,null,null,{"$f":"IF(B1758=\"\",0,IF(B1758=B1757,COUNTIF(B$9:B1757,B1758)+1,1))","v":1746},0,0]
["1751","-1900","-1900-1747",null,null,null,null,null,null,null,null,null,null,null,null,null,null,null,null,null,{"$f":"IF(J$2019=1,\"\",IF(T1759=\"\",\"\",RIGHT(VLOOKUP(T1759,Tabelle!$B$5:$C$9,2,FALSE),5)))","v":""},null,null,null,null,null,null,null,{"$f":"IF(B1759=\"\",0,IF(B1759=B1758,COUNTIF(B$9:B1758,B1759)+1,1))","v":1747},0,0]
["1752","-1900","-1900-1748",null,null,null,null,null,null,null,null,null,null,null,null,null,null,null,null,null,{"$f":"IF(J$2019=1,\"\",IF(T1760=\"\",\"\",RIGHT(VLOOKUP(T1760,Tabelle!$B$5:$C$9,2,FALSE),5)))","v":""},null,null,null,null,null,null,null,{"$f":"IF(B1760=\"\",0,IF(B1760=B1759,COUNTIF(B$9:B1759,B1760)+1,1))","v":1748},0,0]
["1753","-1900","-1900-1749",null,null,null,null,null,null,null,null,null,null,null,null,null,null,null,null,null,{"$f":"IF(J$2019=1,\"\",IF(T1761=\"\",\"\",RIGHT(VLOOKUP(T1761,Tabelle!$B$5:$C$9,2,FALSE),5)))","v":""},null,null,null,null,null,null,null,{"$f":"IF(B1761=\"\",0,IF(B1761=B1760,COUNTIF(B$9:B1760,B1761)+1,1))","v":1749},0,0]
["1754","-1900","-1900-1750",null,null,null,null,null,null,null,null,null,null,null,null,null,null,null,null,null,{"$f":"IF(J$2019=1,\"\",IF(T1762=\"\",\"\",RIGHT(VLOOKUP(T1762,Tabelle!$B$5:$C$9,2,FALSE),5)))","v":""},null,null,null,null,null,null,null,{"$f":"IF(B1762=\"\",0,IF(B1762=B1761,COUNTIF(B$9:B1761,B1762)+1,1))","v":1750},0,0]
["1755","-1900","-1900-1751",null,null,null,null,null,null,null,null,null,null,null,null,null,null,null,null,null,{"$f":"IF(J$2019=1,\"\",IF(T1763=\"\",\"\",RIGHT(VLOOKUP(T1763,Tabelle!$B$5:$C$9,2,FALSE),5)))","v":""},null,null,null,null,null,null,null,{"$f":"IF(B1763=\"\",0,IF(B1763=B1762,COUNTIF(B$9:B1762,B1763)+1,1))","v":1751},0,0]
["1756","-1900","-1900-1752",null,null,null,null,null,null,null,null,null,null,null,null,null,null,null,null,null,{"$f":"IF(J$2019=1,\"\",IF(T1764=\"\",\"\",RIGHT(VLOOKUP(T1764,Tabelle!$B$5:$C$9,2,FALSE),5)))","v":""},null,null,null,null,null,null,null,{"$f":"IF(B1764=\"\",0,IF(B1764=B1763,COUNTIF(B$9:B1763,B1764)+1,1))","v":1752},0,0]
["1757","-1900","-1900-1753",null,null,null,null,null,null,null,null,null,null,null,null,null,null,null,null,null,{"$f":"IF(J$2019=1,\"\",IF(T1765=\"\",\"\",RIGHT(VLOOKUP(T1765,Tabelle!$B$5:$C$9,2,FALSE),5)))","v":""},null,null,null,null,null,null,null,{"$f":"IF(B1765=\"\",0,IF(B1765=B1764,COUNTIF(B$9:B1764,B1765)+1,1))","v":1753},0,0]
["1758","-1900","-1900-1754",null,null,null,null,null,null,null,null,null,null,null,null,null,null,null,null,null,{"$f":"IF(J$2019=1,\"\",IF(T1766=\"\",\"\",RIGHT(VLOOKUP(T1766,Tabelle!$B$5:$C$9,2,FALSE),5)))","v":""},null,null,null,null,null,null,null,{"$f":"IF(B1766=\"\",0,IF(B1766=B1765,COUNTIF(B$9:B1765,B1766)+1,1))","v":1754},0,0]
["1759","-1900","-1900-1755",null,null,null,null,null,null,null,null,null,null,null,null,null,null,null,null,null,{"$f":"IF(J$2019=1,\"\",IF(T1767=\"\",\"\",RIGHT(VLOOKUP(T1767,Tabelle!$B$5:$C$9,2,FALSE),5)))","v":""},null,null,null,null,null,null,null,{"$f":"IF(B1767=\"\",0,IF(B1767=B1766,COUNTIF(B$9:B1766,B1767)+1,1))","v":1755},0,0]
["1760","-1900","-1900-1756",null,null,null,null,null,null,null,null,null,null,null,null,null,null,null,null,null,{"$f":"IF(J$2019=1,\"\",IF(T1768=\"\",\"\",RIGHT(VLOOKUP(T1768,Tabelle!$B$5:$C$9,2,FALSE),5)))","v":""},null,null,null,null,null,null,null,{"$f":"IF(B1768=\"\",0,IF(B1768=B1767,COUNTIF(B$9:B1767,B1768)+1,1))","v":1756},0,0]
["1761","-1900","-1900-1757",null,null,null,null,null,null,null,null,null,null,null,null,null,null,null,null,null,{"$f":"IF(J$2019=1,\"\",IF(T1769=\"\",\"\",RIGHT(VLOOKUP(T1769,Tabelle!$B$5:$C$9,2,FALSE),5)))","v":""},null,null,null,null,null,null,null,{"$f":"IF(B1769=\"\",0,IF(B1769=B1768,COUNTIF(B$9:B1768,B1769)+1,1))","v":1757},0,0]
["1762","-1900","-1900-1758",null,null,null,null,null,null,null,null,null,null,null,null,null,null,null,null,null,{"$f":"IF(J$2019=1,\"\",IF(T1770=\"\",\"\",RIGHT(VLOOKUP(T1770,Tabelle!$B$5:$C$9,2,FALSE),5)))","v":""},null,null,null,null,null,null,null,{"$f":"IF(B1770=\"\",0,IF(B1770=B1769,COUNTIF(B$9:B1769,B1770)+1,1))","v":1758},0,0]
["1763","-1900","-1900-1759",null,null,null,null,null,null,null,null,null,null,null,null,null,null,null,null,null,{"$f":"IF(J$2019=1,\"\",IF(T1771=\"\",\"\",RIGHT(VLOOKUP(T1771,Tabelle!$B$5:$C$9,2,FALSE),5)))","v":""},null,null,null,null,null,null,null,{"$f":"IF(B1771=\"\",0,IF(B1771=B1770,COUNTIF(B$9:B1770,B1771)+1,1))","v":1759},0,0]
["1764","-1900","-1900-1760",null,null,null,null,null,null,null,null,null,null,null,null,null,null,null,null,null,{"$f":"IF(J$2019=1,\"\",IF(T1772=\"\",\"\",RIGHT(VLOOKUP(T1772,Tabelle!$B$5:$C$9,2,FALSE),5)))","v":""},null,null,null,null,null,null,null,{"$f":"IF(B1772=\"\",0,IF(B1772=B1771,COUNTIF(B$9:B1771,B1772)+1,1))","v":1760},0,0]
["1765","-1900","-1900-1761",null,null,null,null,null,null,null,null,null,null,null,null,null,null,null,null,null,{"$f":"IF(J$2019=1,\"\",IF(T1773=\"\",\"\",RIGHT(VLOOKUP(T1773,Tabelle!$B$5:$C$9,2,FALSE),5)))","v":""},null,null,null,null,null,null,null,{"$f":"IF(B1773=\"\",0,IF(B1773=B1772,COUNTIF(B$9:B1772,B1773)+1,1))","v":1761},0,0]
["1766","-1900","-1900-1762",null,null,null,null,null,null,null,null,null,null,null,null,null,null,null,null,null,{"$f":"IF(J$2019=1,\"\",IF(T1774=\"\",\"\",RIGHT(VLOOKUP(T1774,Tabelle!$B$5:$C$9,2,FALSE),5)))","v":""},null,null,null,null,null,null,null,{"$f":"IF(B1774=\"\",0,IF(B1774=B1773,COUNTIF(B$9:B1773,B1774)+1,1))","v":1762},0,0]
["1767","-1900","-1900-1763",null,null,null,null,null,null,null,null,null,null,null,null,null,null,null,null,null,{"$f":"IF(J$2019=1,\"\",IF(T1775=\"\",\"\",RIGHT(VLOOKUP(T1775,Tabelle!$B$5:$C$9,2,FALSE),5)))","v":""},null,null,null,null,null,null,null,{"$f":"IF(B1775=\"\",0,IF(B1775=B1774,COUNTIF(B$9:B1774,B1775)+1,1))","v":1763},0,0]
["1768","-1900","-1900-1764",null,null,null,null,null,null,null,null,null,null,null,null,null,null,null,null,null,{"$f":"IF(J$2019=1,\"\",IF(T1776=\"\",\"\",RIGHT(VLOOKUP(T1776,Tabelle!$B$5:$C$9,2,FALSE),5)))","v":""},null,null,null,null,null,null,null,{"$f":"IF(B1776=\"\",0,IF(B1776=B1775,COUNTIF(B$9:B1775,B1776)+1,1))","v":1764},0,0]
["1769","-1900","-1900-1765",null,null,null,null,null,null,null,null,null,null,null,null,null,null,null,null,null,{"$f":"IF(J$2019=1,\"\",IF(T1777=\"\",\"\",RIGHT(VLOOKUP(T1777,Tabelle!$B$5:$C$9,2,FALSE),5)))","v":""},null,null,null,null,null,null,null,{"$f":"IF(B1777=\"\",0,IF(B1777=B1776,COUNTIF(B$9:B1776,B1777)+1,1))","v":1765},0,0]
["1770","-1900","-1900-1766",null,null,null,null,null,null,null,null,null,null,null,null,null,null,null,null,null,{"$f":"IF(J$2019=1,\"\",IF(T1778=\"\",\"\",RIGHT(VLOOKUP(T1778,Tabelle!$B$5:$C$9,2,FALSE),5)))","v":""},null,null,null,null,null,null,null,{"$f":"IF(B1778=\"\",0,IF(B1778=B1777,COUNTIF(B$9:B1777,B1778)+1,1))","v":1766},0,0]
["1771","-1900","-1900-1767",null,null,null,null,null,null,null,null,null,null,null,null,null,null,null,null,null,{"$f":"IF(J$2019=1,\"\",IF(T1779=\"\",\"\",RIGHT(VLOOKUP(T1779,Tabelle!$B$5:$C$9,2,FALSE),5)))","v":""},null,null,null,null,null,null,null,{"$f":"IF(B1779=\"\",0,IF(B1779=B1778,COUNTIF(B$9:B1778,B1779)+1,1))","v":1767},0,0]
["1772","-1900","-1900-1768",null,null,null,null,null,null,null,null,null,null,null,null,null,null,null,null,null,{"$f":"IF(J$2019=1,\"\",IF(T1780=\"\",\"\",RIGHT(VLOOKUP(T1780,Tabelle!$B$5:$C$9,2,FALSE),5)))","v":""},null,null,null,null,null,null,null,{"$f":"IF(B1780=\"\",0,IF(B1780=B1779,COUNTIF(B$9:B1779,B1780)+1,1))","v":1768},0,0]
["1773","-1900","-1900-1769",null,null,null,null,null,null,null,null,null,null,null,null,null,null,null,null,null,{"$f":"IF(J$2019=1,\"\",IF(T1781=\"\",\"\",RIGHT(VLOOKUP(T1781,Tabelle!$B$5:$C$9,2,FALSE),5)))","v":""},null,null,null,null,null,null,null,{"$f":"IF(B1781=\"\",0,IF(B1781=B1780,COUNTIF(B$9:B1780,B1781)+1,1))","v":1769},0,0]
["1774","-1900","-1900-1770",null,null,null,null,null,null,null,null,null,null,null,null,null,null,null,null,null,{"$f":"IF(J$2019=1,\"\",IF(T1782=\"\",\"\",RIGHT(VLOOKUP(T1782,Tabelle!$B$5:$C$9,2,FALSE),5)))","v":""},null,null,null,null,null,null,null,{"$f":"IF(B1782=\"\",0,IF(B1782=B1781,COUNTIF(B$9:B1781,B1782)+1,1))","v":1770},0,0]
["1775","-1900","-1900-1771",null,null,null,null,null,null,null,null,null,null,null,null,null,null,null,null,null,{"$f":"IF(J$2019=1,\"\",IF(T1783=\"\",\"\",RIGHT(VLOOKUP(T1783,Tabelle!$B$5:$C$9,2,FALSE),5)))","v":""},null,null,null,null,null,null,null,{"$f":"IF(B1783=\"\",0,IF(B1783=B1782,COUNTIF(B$9:B1782,B1783)+1,1))","v":1771},0,0]
["1776","-1900","-1900-1772",null,null,null,null,null,null,null,null,null,null,null,null,null,null,null,null,null,{"$f":"IF(J$2019=1,\"\",IF(T1784=\"\",\"\",RIGHT(VLOOKUP(T1784,Tabelle!$B$5:$C$9,2,FALSE),5)))","v":""},null,null,null,null,null,null,null,{"$f":"IF(B1784=\"\",0,IF(B1784=B1783,COUNTIF(B$9:B1783,B1784)+1,1))","v":1772},0,0]
["1777","-1900","-1900-1773",null,null,null,null,null,null,null,null,null,null,null,null,null,null,null,null,null,{"$f":"IF(J$2019=1,\"\",IF(T1785=\"\",\"\",RIGHT(VLOOKUP(T1785,Tabelle!$B$5:$C$9,2,FALSE),5)))","v":""},null,null,null,null,null,null,null,{"$f":"IF(B1785=\"\",0,IF(B1785=B1784,COUNTIF(B$9:B1784,B1785)+1,1))","v":1773},0,0]
["1778","-1900","-1900-1774",null,null,null,null,null,null,null,null,null,null,null,null,null,null,null,null,null,{"$f":"IF(J$2019=1,\"\",IF(T1786=\"\",\"\",RIGHT(VLOOKUP(T1786,Tabelle!$B$5:$C$9,2,FALSE),5)))","v":""},null,null,null,null,null,null,null,{"$f":"IF(B1786=\"\",0,IF(B1786=B1785,COUNTIF(B$9:B1785,B1786)+1,1))","v":1774},0,0]
["1779","-1900","-1900-1775",null,null,null,null,null,null,null,null,null,null,null,null,null,null,null,null,null,{"$f":"IF(J$2019=1,\"\",IF(T1787=\"\",\"\",RIGHT(VLOOKUP(T1787,Tabelle!$B$5:$C$9,2,FALSE),5)))","v":""},null,null,null,null,null,null,null,{"$f":"IF(B1787=\"\",0,IF(B1787=B1786,COUNTIF(B$9:B1786,B1787)+1,1))","v":1775},0,0]
["1780","-1900","-1900-1776",null,null,null,null,null,null,null,null,null,null,null,null,null,null,null,null,null,{"$f":"IF(J$2019=1,\"\",IF(T1788=\"\",\"\",RIGHT(VLOOKUP(T1788,Tabelle!$B$5:$C$9,2,FALSE),5)))","v":""},null,null,null,null,null,null,null,{"$f":"IF(B1788=\"\",0,IF(B1788=B1787,COUNTIF(B$9:B1787,B1788)+1,1))","v":1776},0,0]
["1781","-1900","-1900-1777",null,null,null,null,null,null,null,null,null,null,null,null,null,null,null,null,null,{"$f":"IF(J$2019=1,\"\",IF(T1789=\"\",\"\",RIGHT(VLOOKUP(T1789,Tabelle!$B$5:$C$9,2,FALSE),5)))","v":""},null,null,null,null,null,null,null,{"$f":"IF(B1789=\"\",0,IF(B1789=B1788,COUNTIF(B$9:B1788,B1789)+1,1))","v":1777},0,0]
["1782","-1900","-1900-1778",null,null,null,null,null,null,null,null,null,null,null,null,null,null,null,null,null,{"$f":"IF(J$2019=1,\"\",IF(T1790=\"\",\"\",RIGHT(VLOOKUP(T1790,Tabelle!$B$5:$C$9,2,FALSE),5)))","v":""},null,null,null,null,null,null,null,{"$f":"IF(B1790=\"\",0,IF(B1790=B1789,COUNTIF(B$9:B1789,B1790)+1,1))","v":1778},0,0]
["1783","-1900","-1900-1779",null,null,null,null,null,null,null,null,null,null,null,null,null,null,null,null,null,{"$f":"IF(J$2019=1,\"\",IF(T1791=\"\",\"\",RIGHT(VLOOKUP(T1791,Tabelle!$B$5:$C$9,2,FALSE),5)))","v":""},null,null,null,null,null,null,null,{"$f":"IF(B1791=\"\",0,IF(B1791=B1790,COUNTIF(B$9:B1790,B1791)+1,1))","v":1779},0,0]
["1784","-1900","-1900-1780",null,null,null,null,null,null,null,null,null,null,null,null,null,null,null,null,null,{"$f":"IF(J$2019=1,\"\",IF(T1792=\"\",\"\",RIGHT(VLOOKUP(T1792,Tabelle!$B$5:$C$9,2,FALSE),5)))","v":""},null,null,null,null,null,null,null,{"$f":"IF(B1792=\"\",0,IF(B1792=B1791,COUNTIF(B$9:B1791,B1792)+1,1))","v":1780},0,0]
["1785","-1900","-1900-1781",null,null,null,null,null,null,null,null,null,null,null,null,null,null,null,null,null,{"$f":"IF(J$2019=1,\"\",IF(T1793=\"\",\"\",RIGHT(VLOOKUP(T1793,Tabelle!$B$5:$C$9,2,FALSE),5)))","v":""},null,null,null,null,null,null,null,{"$f":"IF(B1793=\"\",0,IF(B1793=B1792,COUNTIF(B$9:B1792,B1793)+1,1))","v":1781},0,0]
["1786","-1900","-1900-1782",null,null,null,null,null,null,null,null,null,null,null,null,null,null,null,null,null,{"$f":"IF(J$2019=1,\"\",IF(T1794=\"\",\"\",RIGHT(VLOOKUP(T1794,Tabelle!$B$5:$C$9,2,FALSE),5)))","v":""},null,null,null,null,null,null,null,{"$f":"IF(B1794=\"\",0,IF(B1794=B1793,COUNTIF(B$9:B1793,B1794)+1,1))","v":1782},0,0]
["1787","-1900","-1900-1783",null,null,null,null,null,null,null,null,null,null,null,null,null,null,null,null,null,{"$f":"IF(J$2019=1,\"\",IF(T1795=\"\",\"\",RIGHT(VLOOKUP(T1795,Tabelle!$B$5:$C$9,2,FALSE),5)))","v":""},null,null,null,null,null,null,null,{"$f":"IF(B1795=\"\",0,IF(B1795=B1794,COUNTIF(B$9:B1794,B1795)+1,1))","v":1783},0,0]
["1788","-1900","-1900-1784",null,null,null,null,null,null,null,null,null,null,null,null,null,null,null,null,null,{"$f":"IF(J$2019=1,\"\",IF(T1796=\"\",\"\",RIGHT(VLOOKUP(T1796,Tabelle!$B$5:$C$9,2,FALSE),5)))","v":""},null,null,null,null,null,null,null,{"$f":"IF(B1796=\"\",0,IF(B1796=B1795,COUNTIF(B$9:B1795,B1796)+1,1))","v":1784},0,0]
["1789","-1900","-1900-1785",null,null,null,null,null,null,null,null,null,null,null,null,null,null,null,null,null,{"$f":"IF(J$2019=1,\"\",IF(T1797=\"\",\"\",RIGHT(VLOOKUP(T1797,Tabelle!$B$5:$C$9,2,FALSE),5)))","v":""},null,null,null,null,null,null,null,{"$f":"IF(B1797=\"\",0,IF(B1797=B1796,COUNTIF(B$9:B1796,B1797)+1,1))","v":1785},0,0]
["1790","-1900","-1900-1786",null,null,null,null,null,null,null,null,null,null,null,null,null,null,null,null,null,{"$f":"IF(J$2019=1,\"\",IF(T1798=\"\",\"\",RIGHT(VLOOKUP(T1798,Tabelle!$B$5:$C$9,2,FALSE),5)))","v":""},null,null,null,null,null,null,null,{"$f":"IF(B1798=\"\",0,IF(B1798=B1797,COUNTIF(B$9:B1797,B1798)+1,1))","v":1786},0,0]
["1791","-1900","-1900-1787",null,null,null,null,null,null,null,null,null,null,null,null,null,null,null,null,null,{"$f":"IF(J$2019=1,\"\",IF(T1799=\"\",\"\",RIGHT(VLOOKUP(T1799,Tabelle!$B$5:$C$9,2,FALSE),5)))","v":""},null,null,null,null,null,null,null,{"$f":"IF(B1799=\"\",0,IF(B1799=B1798,COUNTIF(B$9:B1798,B1799)+1,1))","v":1787},0,0]
["1792","-1900","-1900-1788",null,null,null,null,null,null,null,null,null,null,null,null,null,null,null,null,null,{"$f":"IF(J$2019=1,\"\",IF(T1800=\"\",\"\",RIGHT(VLOOKUP(T1800,Tabelle!$B$5:$C$9,2,FALSE),5)))","v":""},null,null,null,null,null,null,null,{"$f":"IF(B1800=\"\",0,IF(B1800=B1799,COUNTIF(B$9:B1799,B1800)+1,1))","v":1788},0,0]
["1793","-1900","-1900-1789",null,null,null,null,null,null,null,null,null,null,null,null,null,null,null,null,null,{"$f":"IF(J$2019=1,\"\",IF(T1801=\"\",\"\",RIGHT(VLOOKUP(T1801,Tabelle!$B$5:$C$9,2,FALSE),5)))","v":""},null,null,null,null,null,null,null,{"$f":"IF(B1801=\"\",0,IF(B1801=B1800,COUNTIF(B$9:B1800,B1801)+1,1))","v":1789},0,0]
["1794",{"$f":"IF(AE1802=$AE$2013,0,IF(J$2019=1,0,D1802&\"-\"&YEAR(E1802)))","v":"-1900"},"-1900-1790",null,null,null,null,null,null,null,null,null,null,null,null,null,null,null,null,null,{"$f":"IF(J$2019=1,\"\",IF(T1802=\"\",\"\",RIGHT(VLOOKUP(T1802,Tabelle!$B$5:$C$9,2,FALSE),5)))","v":""},null,null,null,null,null,null,null,{"$f":"IF(B1802=\"\",0,IF(B1802=B1801,COUNTIF(B$9:B1801,B1802)+1,1))","v":1790},0,{"$f":"IF(E1802>0,IF(OR(MONTH(E1802)<$J$2025,MONTH(E1802)>$J$2026),AE$2013,0),0)","v":0}]
["1795","-1900","-1900-1791",null,null,null,null,null,null,null,null,null,null,null,null,null,null,null,null,null,{"$f":"IF(J$2019=1,\"\",IF(T1803=\"\",\"\",RIGHT(VLOOKUP(T1803,Tabelle!$B$5:$C$9,2,FALSE),5)))","v":""},null,null,null,null,null,null,null,{"$f":"IF(B1803=\"\",0,IF(B1803=B1802,COUNTIF(B$9:B1802,B1803)+1,1))","v":1791},0,0]
["1796","-1900","-1900-1792",null,null,null,null,null,null,null,null,null,null,null,null,null,null,null,null,null,{"$f":"IF(J$2019=1,\"\",IF(T1804=\"\",\"\",RIGHT(VLOOKUP(T1804,Tabelle!$B$5:$C$9,2,FALSE),5)))","v":""},null,null,null,null,null,null,null,{"$f":"IF(B1804=\"\",0,IF(B1804=B1803,COUNTIF(B$9:B1803,B1804)+1,1))","v":1792},0,0]
["1797","-1900","-1900-1793",null,null,null,null,null,null,null,null,null,null,null,null,null,null,null,null,null,{"$f":"IF(J$2019=1,\"\",IF(T1805=\"\",\"\",RIGHT(VLOOKUP(T1805,Tabelle!$B$5:$C$9,2,FALSE),5)))","v":""},null,null,null,null,null,null,null,{"$f":"IF(B1805=\"\",0,IF(B1805=B1804,COUNTIF(B$9:B1804,B1805)+1,1))","v":1793},0,0]
["1798","-1900","-1900-1794",null,null,null,null,null,null,null,null,null,null,null,null,null,null,null,null,null,{"$f":"IF(J$2019=1,\"\",IF(T1806=\"\",\"\",RIGHT(VLOOKUP(T1806,Tabelle!$B$5:$C$9,2,FALSE),5)))","v":""},null,null,null,null,null,null,null,{"$f":"IF(B1806=\"\",0,IF(B1806=B1805,COUNTIF(B$9:B1805,B1806)+1,1))","v":1794},0,0]
["1799","-1900","-1900-1795",null,null,null,null,null,null,null,null,null,null,null,null,null,null,null,null,null,{"$f":"IF(J$2019=1,\"\",IF(T1807=\"\",\"\",RIGHT(VLOOKUP(T1807,Tabelle!$B$5:$C$9,2,FALSE),5)))","v":""},null,null,null,null,null,null,null,{"$f":"IF(B1807=\"\",0,IF(B1807=B1806,COUNTIF(B$9:B1806,B1807)+1,1))","v":1795},0,0]
["1800","-1900","-1900-1796",null,null,null,null,null,null,null,null,null,null,null,null,null,null,null,null,null,{"$f":"IF(J$2019=1,\"\",IF(T1808=\"\",\"\",RIGHT(VLOOKUP(T1808,Tabelle!$B$5:$C$9,2,FALSE),5)))","v":""},null,null,null,null,null,null,null,{"$f":"IF(B1808=\"\",0,IF(B1808=B1807,COUNTIF(B$9:B1807,B1808)+1,1))","v":1796},0,0]
["1801","-1900","-1900-1797",null,null,null,null,null,null,null,null,null,null,null,null,null,null,null,null,null,{"$f":"IF(J$2019=1,\"\",IF(T1809=\"\",\"\",RIGHT(VLOOKUP(T1809,Tabelle!$B$5:$C$9,2,FALSE),5)))","v":""},null,null,null,null,null,null,null,{"$f":"IF(B1809=\"\",0,IF(B1809=B1808,COUNTIF(B$9:B1808,B1809)+1,1))","v":1797},0,0]
["1802","-1900","-1900-1798",null,null,null,null,null,null,null,null,null,null,null,null,null,null,null,null,null,{"$f":"IF(J$2019=1,\"\",IF(T1810=\"\",\"\",RIGHT(VLOOKUP(T1810,Tabelle!$B$5:$C$9,2,FALSE),5)))","v":""},null,null,null,null,null,null,null,{"$f":"IF(B1810=\"\",0,IF(B1810=B1809,COUNTIF(B$9:B1809,B1810)+1,1))","v":1798},0,0]
["1803","-1900","-1900-1799",null,null,null,null,null,null,null,null,null,null,null,null,null,null,null,null,null,{"$f":"IF(J$2019=1,\"\",IF(T1811=\"\",\"\",RIGHT(VLOOKUP(T1811,Tabelle!$B$5:$C$9,2,FALSE),5)))","v":""},null,null,null,null,null,null,null,{"$f":"IF(B1811=\"\",0,IF(B1811=B1810,COUNTIF(B$9:B1810,B1811)+1,1))","v":1799},0,0]
["1804","-1900","-1900-1800",null,null,null,null,null,null,null,null,null,null,null,null,null,null,null,null,null,{"$f":"IF(J$2019=1,\"\",IF(T1812=\"\",\"\",RIGHT(VLOOKUP(T1812,Tabelle!$B$5:$C$9,2,FALSE),5)))","v":""},null,null,null,null,null,null,null,{"$f":"IF(B1812=\"\",0,IF(B1812=B1811,COUNTIF(B$9:B1811,B1812)+1,1))","v":1800},0,0]
["1805","-1900","-1900-1801",null,null,null,null,null,null,null,null,null,null,null,null,null,null,null,null,null,{"$f":"IF(J$2019=1,\"\",IF(T1813=\"\",\"\",RIGHT(VLOOKUP(T1813,Tabelle!$B$5:$C$9,2,FALSE),5)))","v":""},null,null,null,null,null,null,null,{"$f":"IF(B1813=\"\",0,IF(B1813=B1812,COUNTIF(B$9:B1812,B1813)+1,1))","v":1801},{"$f":"IF(OR(D1813=\"\",J$2019=1),0,IF(AC1813=28,1,0))","v":0},0]
["1806","-1900","-1900-1802",null,null,null,null,null,null,null,null,null,null,null,null,null,null,null,null,null,{"$f":"IF(J$2019=1,\"\",IF(T1814=\"\",\"\",RIGHT(VLOOKUP(T1814,Tabelle!$B$5:$C$9,2,FALSE),5)))","v":""},null,null,null,null,null,null,null,{"$f":"IF(B1814=\"\",0,IF(B1814=B1813,COUNTIF(B$9:B1813,B1814)+1,1))","v":1802},0,0]
["1807","-1900",{"$f":"IF(J$2019=1,0,B1815&\"-\"&AC1815)","v":"-1900-1803"},null,null,null,null,null,null,null,null,null,null,null,null,null,null,null,null,null,{"$f":"IF(J$2019=1,\"\",IF(T1815=\"\",\"\",RIGHT(VLOOKUP(T1815,Tabelle!$B$5:$C$9,2,FALSE),5)))","v":""},null,null,null,null,null,null,null,{"$f":"IF(B1815=\"\",0,IF(B1815=B1814,COUNTIF(B$9:B1814,B1815)+1,1))","v":1803},0,0]
["1808","-1900","-1900-1804",null,null,null,null,null,null,null,null,null,null,null,null,null,null,null,null,null,{"$f":"IF(J$2019=1,\"\",IF(T1816=\"\",\"\",RIGHT(VLOOKUP(T1816,Tabelle!$B$5:$C$9,2,FALSE),5)))","v":""},null,null,null,null,null,null,null,{"$f":"IF(B1816=\"\",0,IF(B1816=B1815,COUNTIF(B$9:B1815,B1816)+1,1))","v":1804},0,0]
["1809","-1900","-1900-1805",null,null,null,null,null,null,null,null,null,null,null,null,null,null,null,null,null,{"$f":"IF(J$2019=1,\"\",IF(T1817=\"\",\"\",RIGHT(VLOOKUP(T1817,Tabelle!$B$5:$C$9,2,FALSE),5)))","v":""},null,null,null,null,null,null,null,{"$f":"IF(B1817=\"\",0,IF(B1817=B1816,COUNTIF(B$9:B1816,B1817)+1,1))","v":1805},0,0]
["1810","-1900","-1900-1806",null,null,null,null,null,null,null,null,null,null,null,null,null,null,null,null,null,{"$f":"IF(J$2019=1,\"\",IF(T1818=\"\",\"\",RIGHT(VLOOKUP(T1818,Tabelle!$B$5:$C$9,2,FALSE),5)))","v":""},null,null,null,null,null,null,null,{"$f":"IF(B1818=\"\",0,IF(B1818=B1817,COUNTIF(B$9:B1817,B1818)+1,1))","v":1806},0,0]
["1811","-1900","-1900-1807",null,null,null,null,null,null,null,null,null,null,null,null,null,null,null,null,null,{"$f":"IF(J$2019=1,\"\",IF(T1819=\"\",\"\",RIGHT(VLOOKUP(T1819,Tabelle!$B$5:$C$9,2,FALSE),5)))","v":""},null,null,null,null,null,null,null,{"$f":"IF(B1819=\"\",0,IF(B1819=B1818,COUNTIF(B$9:B1818,B1819)+1,1))","v":1807},0,0]
["1812","-1900","-1900-1808",null,null,null,null,null,null,null,null,null,null,null,null,null,null,null,null,null,{"$f":"IF(J$2019=1,\"\",IF(T1820=\"\",\"\",RIGHT(VLOOKUP(T1820,Tabelle!$B$5:$C$9,2,FALSE),5)))","v":""},null,null,null,null,null,null,null,{"$f":"IF(B1820=\"\",0,IF(B1820=B1819,COUNTIF(B$9:B1819,B1820)+1,1))","v":1808},0,0]
["1813","-1900","-1900-1809",null,null,null,null,null,null,null,null,null,null,null,null,null,null,null,null,null,{"$f":"IF(J$2019=1,\"\",IF(T1821=\"\",\"\",RIGHT(VLOOKUP(T1821,Tabelle!$B$5:$C$9,2,FALSE),5)))","v":""},null,null,null,null,null,null,null,{"$f":"IF(B1821=\"\",0,IF(B1821=B1820,COUNTIF(B$9:B1820,B1821)+1,1))","v":1809},0,0]
["1814","-1900","-1900-1810",null,null,null,null,null,null,null,null,null,null,null,null,null,null,null,null,null,{"$f":"IF(J$2019=1,\"\",IF(T1822=\"\",\"\",RIGHT(VLOOKUP(T1822,Tabelle!$B$5:$C$9,2,FALSE),5)))","v":""},null,null,null,null,null,null,null,{"$f":"IF(B1822=\"\",0,IF(B1822=B1821,COUNTIF(B$9:B1821,B1822)+1,1))","v":1810},0,0]
["1815","-1900","-1900-1811",null,null,null,null,null,null,null,null,null,null,null,null,null,null,null,null,null,{"$f":"IF(J$2019=1,\"\",IF(T1823=\"\",\"\",RIGHT(VLOOKUP(T1823,Tabelle!$B$5:$C$9,2,FALSE),5)))","v":""},null,null,null,null,null,null,null,{"$f":"IF(B1823=\"\",0,IF(B1823=B1822,COUNTIF(B$9:B1822,B1823)+1,1))","v":1811},0,0]
["1816","-1900","-1900-1812",null,null,null,null,null,null,null,null,null,null,null,null,null,null,null,null,null,{"$f":"IF(J$2019=1,\"\",IF(T1824=\"\",\"\",RIGHT(VLOOKUP(T1824,Tabelle!$B$5:$C$9,2,FALSE),5)))","v":""},null,null,null,null,null,null,null,{"$f":"IF(B1824=\"\",0,IF(B1824=B1823,COUNTIF(B$9:B1823,B1824)+1,1))","v":1812},0,0]
["1817","-1900","-1900-1813",null,null,null,null,null,null,null,null,null,null,null,null,null,null,null,null,null,{"$f":"IF(J$2019=1,\"\",IF(T1825=\"\",\"\",RIGHT(VLOOKUP(T1825,Tabelle!$B$5:$C$9,2,FALSE),5)))","v":""},null,null,null,null,null,null,null,{"$f":"IF(B1825=\"\",0,IF(B1825=B1824,COUNTIF(B$9:B1824,B1825)+1,1))","v":1813},0,0]
["1818","-1900","-1900-1814",null,null,null,null,null,null,null,null,null,null,null,null,null,null,null,null,null,{"$f":"IF(J$2019=1,\"\",IF(T1826=\"\",\"\",RIGHT(VLOOKUP(T1826,Tabelle!$B$5:$C$9,2,FALSE),5)))","v":""},null,null,null,null,null,null,null,{"$f":"IF(B1826=\"\",0,IF(B1826=B1825,COUNTIF(B$9:B1825,B1826)+1,1))","v":1814},0,0]
["1819","-1900","-1900-1815",null,null,null,null,null,null,null,null,null,null,null,null,null,null,null,null,null,{"$f":"IF(J$2019=1,\"\",IF(T1827=\"\",\"\",RIGHT(VLOOKUP(T1827,Tabelle!$B$5:$C$9,2,FALSE),5)))","v":""},null,null,null,null,null,null,null,{"$f":"IF(B1827=\"\",0,IF(B1827=B1826,COUNTIF(B$9:B1826,B1827)+1,1))","v":1815},0,0]
["1820","-1900","-1900-1816",null,null,null,null,null,null,null,null,null,null,null,null,null,null,null,null,null,{"$f":"IF(J$2019=1,\"\",IF(T1828=\"\",\"\",RIGHT(VLOOKUP(T1828,Tabelle!$B$5:$C$9,2,FALSE),5)))","v":""},null,null,null,null,null,null,null,{"$f":"IF(B1828=\"\",0,IF(B1828=B1827,COUNTIF(B$9:B1827,B1828)+1,1))","v":1816},0,0]
["1821","-1900","-1900-1817",null,null,null,null,null,null,null,null,null,null,null,null,null,null,null,null,null,{"$f":"IF(J$2019=1,\"\",IF(T1829=\"\",\"\",RIGHT(VLOOKUP(T1829,Tabelle!$B$5:$C$9,2,FALSE),5)))","v":""},null,null,null,null,null,null,null,{"$f":"IF(B1829=\"\",0,IF(B1829=B1828,COUNTIF(B$9:B1828,B1829)+1,1))","v":1817},0,0]
["1822","-1900","-1900-1818",null,null,null,null,null,null,null,null,null,null,null,null,null,null,null,null,null,{"$f":"IF(J$2019=1,\"\",IF(T1830=\"\",\"\",RIGHT(VLOOKUP(T1830,Tabelle!$B$5:$C$9,2,FALSE),5)))","v":""},null,null,null,null,null,null,null,{"$f":"IF(B1830=\"\",0,IF(B1830=B1829,COUNTIF(B$9:B1829,B1830)+1,1))","v":1818},0,0]
["1823","-1900","-1900-1819",null,null,null,null,null,null,null,null,null,null,null,null,null,null,null,null,null,{"$f":"IF(J$2019=1,\"\",IF(T1831=\"\",\"\",RIGHT(VLOOKUP(T1831,Tabelle!$B$5:$C$9,2,FALSE),5)))","v":""},null,null,null,null,null,null,null,{"$f":"IF(B1831=\"\",0,IF(B1831=B1830,COUNTIF(B$9:B1830,B1831)+1,1))","v":1819},0,0]
["1824","-1900","-1900-1820",null,null,null,null,null,null,null,null,null,null,null,null,null,null,null,null,null,{"$f":"IF(J$2019=1,\"\",IF(T1832=\"\",\"\",RIGHT(VLOOKUP(T1832,Tabelle!$B$5:$C$9,2,FALSE),5)))","v":""},null,null,null,null,null,null,null,{"$f":"IF(B1832=\"\",0,IF(B1832=B1831,COUNTIF(B$9:B1831,B1832)+1,1))","v":1820},0,0]
["1825","-1900","-1900-1821",null,null,null,null,null,null,null,null,null,null,null,null,null,null,null,null,null,{"$f":"IF(J$2019=1,\"\",IF(T1833=\"\",\"\",RIGHT(VLOOKUP(T1833,Tabelle!$B$5:$C$9,2,FALSE),5)))","v":""},null,null,null,null,null,null,null,{"$f":"IF(B1833=\"\",0,IF(B1833=B1832,COUNTIF(B$9:B1832,B1833)+1,1))","v":1821},0,0]
["1826","-1900","-1900-1822",null,null,null,null,null,null,null,null,null,null,null,null,null,null,null,null,null,{"$f":"IF(J$2019=1,\"\",IF(T1834=\"\",\"\",RIGHT(VLOOKUP(T1834,Tabelle!$B$5:$C$9,2,FALSE),5)))","v":""},null,null,null,null,null,null,null,{"$f":"IF(B1834=\"\",0,IF(B1834=B1833,COUNTIF(B$9:B1833,B1834)+1,1))","v":1822},0,0]
["1827","-1900","-1900-1823",null,null,null,null,null,null,null,null,null,null,null,null,null,null,null,null,null,{"$f":"IF(J$2019=1,\"\",IF(T1835=\"\",\"\",RIGHT(VLOOKUP(T1835,Tabelle!$B$5:$C$9,2,FALSE),5)))","v":""},null,null,null,null,null,null,null,{"$f":"IF(B1835=\"\",0,IF(B1835=B1834,COUNTIF(B$9:B1834,B1835)+1,1))","v":1823},0,0]
["1828","-1900","-1900-1824",null,null,null,null,null,null,null,null,null,null,null,null,null,null,null,null,null,{"$f":"IF(J$2019=1,\"\",IF(T1836=\"\",\"\",RIGHT(VLOOKUP(T1836,Tabelle!$B$5:$C$9,2,FALSE),5)))","v":""},null,null,null,null,null,null,null,{"$f":"IF(B1836=\"\",0,IF(B1836=B1835,COUNTIF(B$9:B1835,B1836)+1,1))","v":1824},0,0]
["1829","-1900","-1900-1825",null,null,null,null,null,null,null,null,null,null,null,null,null,null,null,null,null,{"$f":"IF(J$2019=1,\"\",IF(T1837=\"\",\"\",RIGHT(VLOOKUP(T1837,Tabelle!$B$5:$C$9,2,FALSE),5)))","v":""},null,null,null,null,null,null,null,{"$f":"IF(B1837=\"\",0,IF(B1837=B1836,COUNTIF(B$9:B1836,B1837)+1,1))","v":1825},0,0]
["1830","-1900","-1900-1826",null,null,null,null,null,null,null,null,null,null,null,null,null,null,null,null,null,{"$f":"IF(J$2019=1,\"\",IF(T1838=\"\",\"\",RIGHT(VLOOKUP(T1838,Tabelle!$B$5:$C$9,2,FALSE),5)))","v":""},null,null,null,null,null,null,null,{"$f":"IF(B1838=\"\",0,IF(B1838=B1837,COUNTIF(B$9:B1837,B1838)+1,1))","v":1826},0,0]
["1831","-1900","-1900-1827",null,null,null,null,null,null,null,null,null,null,null,null,null,null,null,null,null,{"$f":"IF(J$2019=1,\"\",IF(T1839=\"\",\"\",RIGHT(VLOOKUP(T1839,Tabelle!$B$5:$C$9,2,FALSE),5)))","v":""},null,null,null,null,null,null,null,{"$f":"IF(B1839=\"\",0,IF(B1839=B1838,COUNTIF(B$9:B1838,B1839)+1,1))","v":1827},0,0]
["1832","-1900","-1900-1828",null,null,null,null,null,null,null,null,null,null,null,null,null,null,null,null,null,{"$f":"IF(J$2019=1,\"\",IF(T1840=\"\",\"\",RIGHT(VLOOKUP(T1840,Tabelle!$B$5:$C$9,2,FALSE),5)))","v":""},null,null,null,null,null,null,null,{"$f":"IF(B1840=\"\",0,IF(B1840=B1839,COUNTIF(B$9:B1839,B1840)+1,1))","v":1828},0,0]
["1833","-1900","-1900-1829",null,null,null,null,null,null,null,null,null,null,null,null,null,null,null,null,null,{"$f":"IF(J$2019=1,\"\",IF(T1841=\"\",\"\",RIGHT(VLOOKUP(T1841,Tabelle!$B$5:$C$9,2,FALSE),5)))","v":""},null,null,null,null,null,null,null,{"$f":"IF(B1841=\"\",0,IF(B1841=B1840,COUNTIF(B$9:B1840,B1841)+1,1))","v":1829},0,0]
["1834","-1900","-1900-1830",null,null,null,null,null,null,null,null,null,null,null,null,null,null,null,null,null,{"$f":"IF(J$2019=1,\"\",IF(T1842=\"\",\"\",RIGHT(VLOOKUP(T1842,Tabelle!$B$5:$C$9,2,FALSE),5)))","v":""},null,null,null,null,null,null,null,{"$f":"IF(B1842=\"\",0,IF(B1842=B1841,COUNTIF(B$9:B1841,B1842)+1,1))","v":1830},0,0]
["1835","-1900","-1900-1831",null,null,null,null,null,null,null,null,null,null,null,null,null,null,null,null,null,{"$f":"IF(J$2019=1,\"\",IF(T1843=\"\",\"\",RIGHT(VLOOKUP(T1843,Tabelle!$B$5:$C$9,2,FALSE),5)))","v":""},null,null,null,null,null,null,null,{"$f":"IF(B1843=\"\",0,IF(B1843=B1842,COUNTIF(B$9:B1842,B1843)+1,1))","v":1831},0,0]
["1836","-1900","-1900-1832",null,null,null,null,null,null,null,null,null,null,null,null,null,null,null,null,null,{"$f":"IF(J$2019=1,\"\",IF(T1844=\"\",\"\",RIGHT(VLOOKUP(T1844,Tabelle!$B$5:$C$9,2,FALSE),5)))","v":""},null,null,null,null,null,null,null,{"$f":"IF(B1844=\"\",0,IF(B1844=B1843,COUNTIF(B$9:B1843,B1844)+1,1))","v":1832},0,0]
["1837","-1900","-1900-1833",null,null,null,null,null,null,null,null,null,null,null,null,null,null,null,null,null,{"$f":"IF(J$2019=1,\"\",IF(T1845=\"\",\"\",RIGHT(VLOOKUP(T1845,Tabelle!$B$5:$C$9,2,FALSE),5)))","v":""},null,null,null,null,null,null,null,{"$f":"IF(B1845=\"\",0,IF(B1845=B1844,COUNTIF(B$9:B1844,B1845)+1,1))","v":1833},0,0]
["1838","-1900","-1900-1834",null,null,null,null,null,null,null,null,null,null,null,null,null,null,null,null,null,{"$f":"IF(J$2019=1,\"\",IF(T1846=\"\",\"\",RIGHT(VLOOKUP(T1846,Tabelle!$B$5:$C$9,2,FALSE),5)))","v":""},null,null,null,null,null,null,null,{"$f":"IF(B1846=\"\",0,IF(B1846=B1845,COUNTIF(B$9:B1845,B1846)+1,1))","v":1834},0,0]
["1839","-1900","-1900-1835",null,null,null,null,null,null,null,null,null,null,null,null,null,null,null,null,null,{"$f":"IF(J$2019=1,\"\",IF(T1847=\"\",\"\",RIGHT(VLOOKUP(T1847,Tabelle!$B$5:$C$9,2,FALSE),5)))","v":""},null,null,null,null,null,null,null,{"$f":"IF(B1847=\"\",0,IF(B1847=B1846,COUNTIF(B$9:B1846,B1847)+1,1))","v":1835},0,0]
["1840","-1900","-1900-1836",null,null,null,null,null,null,null,null,null,null,null,null,null,null,null,null,null,{"$f":"IF(J$2019=1,\"\",IF(T1848=\"\",\"\",RIGHT(VLOOKUP(T1848,Tabelle!$B$5:$C$9,2,FALSE),5)))","v":""},null,null,null,null,null,null,null,{"$f":"IF(B1848=\"\",0,IF(B1848=B1847,COUNTIF(B$9:B1847,B1848)+1,1))","v":1836},0,0]
["1841","-1900","-1900-1837",null,null,null,null,null,null,null,null,null,null,null,null,null,null,null,null,null,{"$f":"IF(J$2019=1,\"\",IF(T1849=\"\",\"\",RIGHT(VLOOKUP(T1849,Tabelle!$B$5:$C$9,2,FALSE),5)))","v":""},null,null,null,null,null,null,null,{"$f":"IF(B1849=\"\",0,IF(B1849=B1848,COUNTIF(B$9:B1848,B1849)+1,1))","v":1837},0,0]
["1842","-1900","-1900-1838",null,null,null,null,null,null,null,null,null,null,null,null,null,null,null,null,null,{"$f":"IF(J$2019=1,\"\",IF(T1850=\"\",\"\",RIGHT(VLOOKUP(T1850,Tabelle!$B$5:$C$9,2,FALSE),5)))","v":""},null,null,null,null,null,null,null,{"$f":"IF(B1850=\"\",0,IF(B1850=B1849,COUNTIF(B$9:B1849,B1850)+1,1))","v":1838},0,0]
["1843","-1900","-1900-1839",null,null,null,null,null,null,null,null,null,null,null,null,null,null,null,null,null,{"$f":"IF(J$2019=1,\"\",IF(T1851=\"\",\"\",RIGHT(VLOOKUP(T1851,Tabelle!$B$5:$C$9,2,FALSE),5)))","v":""},null,null,null,null,null,null,null,{"$f":"IF(B1851=\"\",0,IF(B1851=B1850,COUNTIF(B$9:B1850,B1851)+1,1))","v":1839},0,0]
["1844","-1900","-1900-1840",null,null,null,null,null,null,null,null,null,null,null,null,null,null,null,null,null,{"$f":"IF(J$2019=1,\"\",IF(T1852=\"\",\"\",RIGHT(VLOOKUP(T1852,Tabelle!$B$5:$C$9,2,FALSE),5)))","v":""},null,null,null,null,null,null,null,{"$f":"IF(B1852=\"\",0,IF(B1852=B1851,COUNTIF(B$9:B1851,B1852)+1,1))","v":1840},0,0]
["1845","-1900","-1900-1841",null,null,null,null,null,null,null,null,null,null,null,null,null,null,null,null,null,{"$f":"IF(J$2019=1,\"\",IF(T1853=\"\",\"\",RIGHT(VLOOKUP(T1853,Tabelle!$B$5:$C$9,2,FALSE),5)))","v":""},null,null,null,null,null,null,null,{"$f":"IF(B1853=\"\",0,IF(B1853=B1852,COUNTIF(B$9:B1852,B1853)+1,1))","v":1841},0,0]
["1846","-1900","-1900-1842",null,null,null,null,null,null,null,null,null,null,null,null,null,null,null,null,null,{"$f":"IF(J$2019=1,\"\",IF(T1854=\"\",\"\",RIGHT(VLOOKUP(T1854,Tabelle!$B$5:$C$9,2,FALSE),5)))","v":""},null,null,null,null,null,null,null,{"$f":"IF(B1854=\"\",0,IF(B1854=B1853,COUNTIF(B$9:B1853,B1854)+1,1))","v":1842},0,0]
["1847","-1900","-1900-1843",null,null,null,null,null,null,null,null,null,null,null,null,null,null,null,null,null,{"$f":"IF(J$2019=1,\"\",IF(T1855=\"\",\"\",RIGHT(VLOOKUP(T1855,Tabelle!$B$5:$C$9,2,FALSE),5)))","v":""},null,null,null,null,null,null,null,{"$f":"IF(B1855=\"\",0,IF(B1855=B1854,COUNTIF(B$9:B1854,B1855)+1,1))","v":1843},0,0]
["1848","-1900","-1900-1844",null,null,null,null,null,null,null,null,null,null,null,null,null,null,null,null,null,{"$f":"IF(J$2019=1,\"\",IF(T1856=\"\",\"\",RIGHT(VLOOKUP(T1856,Tabelle!$B$5:$C$9,2,FALSE),5)))","v":""},null,null,null,null,null,null,null,{"$f":"IF(B1856=\"\",0,IF(B1856=B1855,COUNTIF(B$9:B1855,B1856)+1,1))","v":1844},0,0]
["1849","-1900","-1900-1845",null,null,null,null,null,null,null,null,null,null,null,null,null,null,null,null,null,{"$f":"IF(J$2019=1,\"\",IF(T1857=\"\",\"\",RIGHT(VLOOKUP(T1857,Tabelle!$B$5:$C$9,2,FALSE),5)))","v":""},null,null,null,null,null,null,null,{"$f":"IF(B1857=\"\",0,IF(B1857=B1856,COUNTIF(B$9:B1856,B1857)+1,1))","v":1845},0,0]
["1850","-1900","-1900-1846",null,null,null,null,null,null,null,null,null,null,null,null,null,null,null,null,null,{"$f":"IF(J$2019=1,\"\",IF(T1858=\"\",\"\",RIGHT(VLOOKUP(T1858,Tabelle!$B$5:$C$9,2,FALSE),5)))","v":""},null,null,null,null,null,null,null,{"$f":"IF(B1858=\"\",0,IF(B1858=B1857,COUNTIF(B$9:B1857,B1858)+1,1))","v":1846},0,0]
["1851","-1900","-1900-1847",null,null,null,null,null,null,null,null,null,null,null,null,null,null,null,null,null,{"$f":"IF(J$2019=1,\"\",IF(T1859=\"\",\"\",RIGHT(VLOOKUP(T1859,Tabelle!$B$5:$C$9,2,FALSE),5)))","v":""},null,null,null,null,null,null,null,{"$f":"IF(B1859=\"\",0,IF(B1859=B1858,COUNTIF(B$9:B1858,B1859)+1,1))","v":1847},0,0]
["1852","-1900","-1900-1848",null,null,null,null,null,null,null,null,null,null,null,null,null,null,null,null,null,{"$f":"IF(J$2019=1,\"\",IF(T1860=\"\",\"\",RIGHT(VLOOKUP(T1860,Tabelle!$B$5:$C$9,2,FALSE),5)))","v":""},null,null,null,null,null,null,null,{"$f":"IF(B1860=\"\",0,IF(B1860=B1859,COUNTIF(B$9:B1859,B1860)+1,1))","v":1848},0,0]
["1853","-1900","-1900-1849",null,null,null,null,null,null,null,null,null,null,null,null,null,null,null,null,null,{"$f":"IF(J$2019=1,\"\",IF(T1861=\"\",\"\",RIGHT(VLOOKUP(T1861,Tabelle!$B$5:$C$9,2,FALSE),5)))","v":""},null,null,null,null,null,null,null,{"$f":"IF(B1861=\"\",0,IF(B1861=B1860,COUNTIF(B$9:B1860,B1861)+1,1))","v":1849},0,0]
["1854","-1900","-1900-1850",null,null,null,null,null,null,null,null,null,null,null,null,null,null,null,null,null,{"$f":"IF(J$2019=1,\"\",IF(T1862=\"\",\"\",RIGHT(VLOOKUP(T1862,Tabelle!$B$5:$C$9,2,FALSE),5)))","v":""},null,null,null,null,null,null,null,{"$f":"IF(B1862=\"\",0,IF(B1862=B1861,COUNTIF(B$9:B1861,B1862)+1,1))","v":1850},0,0]
["1855","-1900","-1900-1851",null,null,null,null,null,null,null,null,null,null,null,null,null,null,null,null,null,{"$f":"IF(J$2019=1,\"\",IF(T1863=\"\",\"\",RIGHT(VLOOKUP(T1863,Tabelle!$B$5:$C$9,2,FALSE),5)))","v":""},null,null,null,null,null,null,null,{"$f":"IF(B1863=\"\",0,IF(B1863=B1862,COUNTIF(B$9:B1862,B1863)+1,1))","v":1851},0,0]
["1856","-1900","-1900-1852",null,null,null,null,null,null,null,null,null,null,null,null,null,null,null,null,null,{"$f":"IF(J$2019=1,\"\",IF(T1864=\"\",\"\",RIGHT(VLOOKUP(T1864,Tabelle!$B$5:$C$9,2,FALSE),5)))","v":""},null,null,null,null,null,null,null,{"$f":"IF(B1864=\"\",0,IF(B1864=B1863,COUNTIF(B$9:B1863,B1864)+1,1))","v":1852},0,0]
["1857","-1900","-1900-1853",null,null,null,null,null,null,null,null,null,null,null,null,null,null,null,null,null,{"$f":"IF(J$2019=1,\"\",IF(T1865=\"\",\"\",RIGHT(VLOOKUP(T1865,Tabelle!$B$5:$C$9,2,FALSE),5)))","v":""},null,null,null,null,null,null,null,{"$f":"IF(B1865=\"\",0,IF(B1865=B1864,COUNTIF(B$9:B1864,B1865)+1,1))","v":1853},0,0]
["1858",{"$f":"IF(AE1866=$AE$2013,0,IF(J$2019=1,0,D1866&\"-\"&YEAR(E1866)))","v":"-1900"},"-1900-1854",null,null,null,null,null,null,null,null,null,null,null,null,null,null,null,null,null,{"$f":"IF(J$2019=1,\"\",IF(T1866=\"\",\"\",RIGHT(VLOOKUP(T1866,Tabelle!$B$5:$C$9,2,FALSE),5)))","v":""},null,null,null,null,null,null,null,{"$f":"IF(B1866=\"\",0,IF(B1866=B1865,COUNTIF(B$9:B1865,B1866)+1,1))","v":1854},0,{"$f":"IF(E1866>0,IF(OR(MONTH(E1866)<$J$2025,MONTH(E1866)>$J$2026),AE$2013,0),0)","v":0}]
["1859","-1900","-1900-1855",null,null,null,null,null,null,null,null,null,null,null,null,null,null,null,null,null,{"$f":"IF(J$2019=1,\"\",IF(T1867=\"\",\"\",RIGHT(VLOOKUP(T1867,Tabelle!$B$5:$C$9,2,FALSE),5)))","v":""},null,null,null,null,null,null,null,{"$f":"IF(B1867=\"\",0,IF(B1867=B1866,COUNTIF(B$9:B1866,B1867)+1,1))","v":1855},0,0]
["1860","-1900","-1900-1856",null,null,null,null,null,null,null,null,null,null,null,null,null,null,null,null,null,{"$f":"IF(J$2019=1,\"\",IF(T1868=\"\",\"\",RIGHT(VLOOKUP(T1868,Tabelle!$B$5:$C$9,2,FALSE),5)))","v":""},null,null,null,null,null,null,null,{"$f":"IF(B1868=\"\",0,IF(B1868=B1867,COUNTIF(B$9:B1867,B1868)+1,1))","v":1856},0,0]
["1861","-1900","-1900-1857",null,null,null,null,null,null,null,null,null,null,null,null,null,null,null,null,null,{"$f":"IF(J$2019=1,\"\",IF(T1869=\"\",\"\",RIGHT(VLOOKUP(T1869,Tabelle!$B$5:$C$9,2,FALSE),5)))","v":""},null,null,null,null,null,null,null,{"$f":"IF(B1869=\"\",0,IF(B1869=B1868,COUNTIF(B$9:B1868,B1869)+1,1))","v":1857},0,0]
["1862","-1900","-1900-1858",null,null,null,null,null,null,null,null,null,null,null,null,null,null,null,null,null,{"$f":"IF(J$2019=1,\"\",IF(T1870=\"\",\"\",RIGHT(VLOOKUP(T1870,Tabelle!$B$5:$C$9,2,FALSE),5)))","v":""},null,null,null,null,null,null,null,{"$f":"IF(B1870=\"\",0,IF(B1870=B1869,COUNTIF(B$9:B1869,B1870)+1,1))","v":1858},0,0]
["1863","-1900","-1900-1859",null,null,null,null,null,null,null,null,null,null,null,null,null,null,null,null,null,{"$f":"IF(J$2019=1,\"\",IF(T1871=\"\",\"\",RIGHT(VLOOKUP(T1871,Tabelle!$B$5:$C$9,2,FALSE),5)))","v":""},null,null,null,null,null,null,null,{"$f":"IF(B1871=\"\",0,IF(B1871=B1870,COUNTIF(B$9:B1870,B1871)+1,1))","v":1859},0,0]
["1864","-1900","-1900-1860",null,null,null,null,null,null,null,null,null,null,null,null,null,null,null,null,null,{"$f":"IF(J$2019=1,\"\",IF(T1872=\"\",\"\",RIGHT(VLOOKUP(T1872,Tabelle!$B$5:$C$9,2,FALSE),5)))","v":""},null,null,null,null,null,null,null,{"$f":"IF(B1872=\"\",0,IF(B1872=B1871,COUNTIF(B$9:B1871,B1872)+1,1))","v":1860},0,0]
["1865","-1900","-1900-1861",null,null,null,null,null,null,null,null,null,null,null,null,null,null,null,null,null,{"$f":"IF(J$2019=1,\"\",IF(T1873=\"\",\"\",RIGHT(VLOOKUP(T1873,Tabelle!$B$5:$C$9,2,FALSE),5)))","v":""},null,null,null,null,null,null,null,{"$f":"IF(B1873=\"\",0,IF(B1873=B1872,COUNTIF(B$9:B1872,B1873)+1,1))","v":1861},0,0]
["1866","-1900","-1900-1862",null,null,null,null,null,null,null,null,null,null,null,null,null,null,null,null,null,{"$f":"IF(J$2019=1,\"\",IF(T1874=\"\",\"\",RIGHT(VLOOKUP(T1874,Tabelle!$B$5:$C$9,2,FALSE),5)))","v":""},null,null,null,null,null,null,null,{"$f":"IF(B1874=\"\",0,IF(B1874=B1873,COUNTIF(B$9:B1873,B1874)+1,1))","v":1862},0,0]
["1867","-1900","-1900-1863",null,null,null,null,null,null,null,null,null,null,null,null,null,null,null,null,null,{"$f":"IF(J$2019=1,\"\",IF(T1875=\"\",\"\",RIGHT(VLOOKUP(T1875,Tabelle!$B$5:$C$9,2,FALSE),5)))","v":""},null,null,null,null,null,null,null,{"$f":"IF(B1875=\"\",0,IF(B1875=B1874,COUNTIF(B$9:B1874,B1875)+1,1))","v":1863},0,0]
["1868","-1900","-1900-1864",null,null,null,null,null,null,null,null,null,null,null,null,null,null,null,null,null,{"$f":"IF(J$2019=1,\"\",IF(T1876=\"\",\"\",RIGHT(VLOOKUP(T1876,Tabelle!$B$5:$C$9,2,FALSE),5)))","v":""},null,null,null,null,null,null,null,{"$f":"IF(B1876=\"\",0,IF(B1876=B1875,COUNTIF(B$9:B1875,B1876)+1,1))","v":1864},0,0]
["1869","-1900","-1900-1865",null,null,null,null,null,null,null,null,null,null,null,null,null,null,null,null,null,{"$f":"IF(J$2019=1,\"\",IF(T1877=\"\",\"\",RIGHT(VLOOKUP(T1877,Tabelle!$B$5:$C$9,2,FALSE),5)))","v":""},null,null,null,null,null,null,null,{"$f":"IF(B1877=\"\",0,IF(B1877=B1876,COUNTIF(B$9:B1876,B1877)+1,1))","v":1865},{"$f":"IF(OR(D1877=\"\",J$2019=1),0,IF(AC1877=28,1,0))","v":0},0]
["1870","-1900","-1900-1866",null,null,null,null,null,null,null,null,null,null,null,null,null,null,null,null,null,{"$f":"IF(J$2019=1,\"\",IF(T1878=\"\",\"\",RIGHT(VLOOKUP(T1878,Tabelle!$B$5:$C$9,2,FALSE),5)))","v":""},null,null,null,null,null,null,null,{"$f":"IF(B1878=\"\",0,IF(B1878=B1877,COUNTIF(B$9:B1877,B1878)+1,1))","v":1866},0,0]
["1871","-1900",{"$f":"IF(J$2019=1,0,B1879&\"-\"&AC1879)","v":"-1900-1867"},null,null,null,null,null,null,null,null,null,null,null,null,null,null,null,null,null,{"$f":"IF(J$2019=1,\"\",IF(T1879=\"\",\"\",RIGHT(VLOOKUP(T1879,Tabelle!$B$5:$C$9,2,FALSE),5)))","v":""},null,null,null,null,null,null,null,{"$f":"IF(B1879=\"\",0,IF(B1879=B1878,COUNTIF(B$9:B1878,B1879)+1,1))","v":1867},0,0]
["1872","-1900","-1900-1868",null,null,null,null,null,null,null,null,null,null,null,null,null,null,null,null,null,{"$f":"IF(J$2019=1,\"\",IF(T1880=\"\",\"\",RIGHT(VLOOKUP(T1880,Tabelle!$B$5:$C$9,2,FALSE),5)))","v":""},null,null,null,null,null,null,null,{"$f":"IF(B1880=\"\",0,IF(B1880=B1879,COUNTIF(B$9:B1879,B1880)+1,1))","v":1868},0,0]
["1873","-1900","-1900-1869",null,null,null,null,null,null,null,null,null,null,null,null,null,null,null,null,null,{"$f":"IF(J$2019=1,\"\",IF(T1881=\"\",\"\",RIGHT(VLOOKUP(T1881,Tabelle!$B$5:$C$9,2,FALSE),5)))","v":""},null,null,null,null,null,null,null,{"$f":"IF(B1881=\"\",0,IF(B1881=B1880,COUNTIF(B$9:B1880,B1881)+1,1))","v":1869},0,0]
["1874","-1900","-1900-1870",null,null,null,null,null,null,null,null,null,null,null,null,null,null,null,null,null,{"$f":"IF(J$2019=1,\"\",IF(T1882=\"\",\"\",RIGHT(VLOOKUP(T1882,Tabelle!$B$5:$C$9,2,FALSE),5)))","v":""},null,null,null,null,null,null,null,{"$f":"IF(B1882=\"\",0,IF(B1882=B1881,COUNTIF(B$9:B1881,B1882)+1,1))","v":1870},0,0]
["1875","-1900","-1900-1871",null,null,null,null,null,null,null,null,null,null,null,null,null,null,null,null,null,{"$f":"IF(J$2019=1,\"\",IF(T1883=\"\",\"\",RIGHT(VLOOKUP(T1883,Tabelle!$B$5:$C$9,2,FALSE),5)))","v":""},null,null,null,null,null,null,null,{"$f":"IF(B1883=\"\",0,IF(B1883=B1882,COUNTIF(B$9:B1882,B1883)+1,1))","v":1871},0,0]
["1876","-1900","-1900-1872",null,null,null,null,null,null,null,null,null,null,null,null,null,null,null,null,null,{"$f":"IF(J$2019=1,\"\",IF(T1884=\"\",\"\",RIGHT(VLOOKUP(T1884,Tabelle!$B$5:$C$9,2,FALSE),5)))","v":""},null,null,null,null,null,null,null,{"$f":"IF(B1884=\"\",0,IF(B1884=B1883,COUNTIF(B$9:B1883,B1884)+1,1))","v":1872},0,0]
["1877","-1900","-1900-1873",null,null,null,null,null,null,null,null,null,null,null,null,null,null,null,null,null,{"$f":"IF(J$2019=1,\"\",IF(T1885=\"\",\"\",RIGHT(VLOOKUP(T1885,Tabelle!$B$5:$C$9,2,FALSE),5)))","v":""},null,null,null,null,null,null,null,{"$f":"IF(B1885=\"\",0,IF(B1885=B1884,COUNTIF(B$9:B1884,B1885)+1,1))","v":1873},0,0]
["1878","-1900","-1900-1874",null,null,null,null,null,null,null,null,null,null,null,null,null,null,null,null,null,{"$f":"IF(J$2019=1,\"\",IF(T1886=\"\",\"\",RIGHT(VLOOKUP(T1886,Tabelle!$B$5:$C$9,2,FALSE),5)))","v":""},null,null,null,null,null,null,null,{"$f":"IF(B1886=\"\",0,IF(B1886=B1885,COUNTIF(B$9:B1885,B1886)+1,1))","v":1874},0,0]
["1879","-1900","-1900-1875",null,null,null,null,null,null,null,null,null,null,null,null,null,null,null,null,null,{"$f":"IF(J$2019=1,\"\",IF(T1887=\"\",\"\",RIGHT(VLOOKUP(T1887,Tabelle!$B$5:$C$9,2,FALSE),5)))","v":""},null,null,null,null,null,null,null,{"$f":"IF(B1887=\"\",0,IF(B1887=B1886,COUNTIF(B$9:B1886,B1887)+1,1))","v":1875},0,0]
["1880","-1900","-1900-1876",null,null,null,null,null,null,null,null,null,null,null,null,null,null,null,null,null,{"$f":"IF(J$2019=1,\"\",IF(T1888=\"\",\"\",RIGHT(VLOOKUP(T1888,Tabelle!$B$5:$C$9,2,FALSE),5)))","v":""},null,null,null,null,null,null,null,{"$f":"IF(B1888=\"\",0,IF(B1888=B1887,COUNTIF(B$9:B1887,B1888)+1,1))","v":1876},0,0]
["1881","-1900","-1900-1877",null,null,null,null,null,null,null,null,null,null,null,null,null,null,null,null,null,{"$f":"IF(J$2019=1,\"\",IF(T1889=\"\",\"\",RIGHT(VLOOKUP(T1889,Tabelle!$B$5:$C$9,2,FALSE),5)))","v":""},null,null,null,null,null,null,null,{"$f":"IF(B1889=\"\",0,IF(B1889=B1888,COUNTIF(B$9:B1888,B1889)+1,1))","v":1877},0,0]
["1882","-1900","-1900-1878",null,null,null,null,null,null,null,null,null,null,null,null,null,null,null,null,null,{"$f":"IF(J$2019=1,\"\",IF(T1890=\"\",\"\",RIGHT(VLOOKUP(T1890,Tabelle!$B$5:$C$9,2,FALSE),5)))","v":""},null,null,null,null,null,null,null,{"$f":"IF(B1890=\"\",0,IF(B1890=B1889,COUNTIF(B$9:B1889,B1890)+1,1))","v":1878},0,0]
["1883","-1900","-1900-1879",null,null,null,null,null,null,null,null,null,null,null,null,null,null,null,null,null,{"$f":"IF(J$2019=1,\"\",IF(T1891=\"\",\"\",RIGHT(VLOOKUP(T1891,Tabelle!$B$5:$C$9,2,FALSE),5)))","v":""},null,null,null,null,null,null,null,{"$f":"IF(B1891=\"\",0,IF(B1891=B1890,COUNTIF(B$9:B1890,B1891)+1,1))","v":1879},0,0]
["1884","-1900","-1900-1880",null,null,null,null,null,null,null,null,null,null,null,null,null,null,null,null,null,{"$f":"IF(J$2019=1,\"\",IF(T1892=\"\",\"\",RIGHT(VLOOKUP(T1892,Tabelle!$B$5:$C$9,2,FALSE),5)))","v":""},null,null,null,null,null,null,null,{"$f":"IF(B1892=\"\",0,IF(B1892=B1891,COUNTIF(B$9:B1891,B1892)+1,1))","v":1880},0,0]
["1885","-1900","-1900-1881",null,null,null,null,null,null,null,null,null,null,null,null,null,null,null,null,null,{"$f":"IF(J$2019=1,\"\",IF(T1893=\"\",\"\",RIGHT(VLOOKUP(T1893,Tabelle!$B$5:$C$9,2,FALSE),5)))","v":""},null,null,null,null,null,null,null,{"$f":"IF(B1893=\"\",0,IF(B1893=B1892,COUNTIF(B$9:B1892,B1893)+1,1))","v":1881},0,0]
["1886","-1900","-1900-1882",null,null,null,null,null,null,null,null,null,null,null,null,null,null,null,null,null,{"$f":"IF(J$2019=1,\"\",IF(T1894=\"\",\"\",RIGHT(VLOOKUP(T1894,Tabelle!$B$5:$C$9,2,FALSE),5)))","v":""},null,null,null,null,null,null,null,{"$f":"IF(B1894=\"\",0,IF(B1894=B1893,COUNTIF(B$9:B1893,B1894)+1,1))","v":1882},0,0]
["1887","-1900","-1900-1883",null,null,null,null,null,null,null,null,null,null,null,null,null,null,null,null,null,{"$f":"IF(J$2019=1,\"\",IF(T1895=\"\",\"\",RIGHT(VLOOKUP(T1895,Tabelle!$B$5:$C$9,2,FALSE),5)))","v":""},null,null,null,null,null,null,null,{"$f":"IF(B1895=\"\",0,IF(B1895=B1894,COUNTIF(B$9:B1894,B1895)+1,1))","v":1883},0,0]
["1888","-1900","-1900-1884",null,null,null,null,null,null,null,null,null,null,null,null,null,null,null,null,null,{"$f":"IF(J$2019=1,\"\",IF(T1896=\"\",\"\",RIGHT(VLOOKUP(T1896,Tabelle!$B$5:$C$9,2,FALSE),5)))","v":""},null,null,null,null,null,null,null,{"$f":"IF(B1896=\"\",0,IF(B1896=B1895,COUNTIF(B$9:B1895,B1896)+1,1))","v":1884},0,0]
["1889","-1900","-1900-1885",null,null,null,null,null,null,null,null,null,null,null,null,null,null,null,null,null,{"$f":"IF(J$2019=1,\"\",IF(T1897=\"\",\"\",RIGHT(VLOOKUP(T1897,Tabelle!$B$5:$C$9,2,FALSE),5)))","v":""},null,null,null,null,null,null,null,{"$f":"IF(B1897=\"\",0,IF(B1897=B1896,COUNTIF(B$9:B1896,B1897)+1,1))","v":1885},0,0]
["1890","-1900","-1900-1886",null,null,null,null,null,null,null,null,null,null,null,null,null,null,null,null,null,{"$f":"IF(J$2019=1,\"\",IF(T1898=\"\",\"\",RIGHT(VLOOKUP(T1898,Tabelle!$B$5:$C$9,2,FALSE),5)))","v":""},null,null,null,null,null,null,null,{"$f":"IF(B1898=\"\",0,IF(B1898=B1897,COUNTIF(B$9:B1897,B1898)+1,1))","v":1886},0,0]
["1891","-1900","-1900-1887",null,null,null,null,null,null,null,null,null,null,null,null,null,null,null,null,null,{"$f":"IF(J$2019=1,\"\",IF(T1899=\"\",\"\",RIGHT(VLOOKUP(T1899,Tabelle!$B$5:$C$9,2,FALSE),5)))","v":""},null,null,null,null,null,null,null,{"$f":"IF(B1899=\"\",0,IF(B1899=B1898,COUNTIF(B$9:B1898,B1899)+1,1))","v":1887},0,0]
["1892","-1900","-1900-1888",null,null,null,null,null,null,null,null,null,null,null,null,null,null,null,null,null,{"$f":"IF(J$2019=1,\"\",IF(T1900=\"\",\"\",RIGHT(VLOOKUP(T1900,Tabelle!$B$5:$C$9,2,FALSE),5)))","v":""},null,null,null,null,null,null,null,{"$f":"IF(B1900=\"\",0,IF(B1900=B1899,COUNTIF(B$9:B1899,B1900)+1,1))","v":1888},0,0]
["1893","-1900","-1900-1889",null,null,null,null,null,null,null,null,null,null,null,null,null,null,null,null,null,{"$f":"IF(J$2019=1,\"\",IF(T1901=\"\",\"\",RIGHT(VLOOKUP(T1901,Tabelle!$B$5:$C$9,2,FALSE),5)))","v":""},null,null,null,null,null,null,null,{"$f":"IF(B1901=\"\",0,IF(B1901=B1900,COUNTIF(B$9:B1900,B1901)+1,1))","v":1889},0,0]
["1894","-1900","-1900-1890",null,null,null,null,null,null,null,null,null,null,null,null,null,null,null,null,null,{"$f":"IF(J$2019=1,\"\",IF(T1902=\"\",\"\",RIGHT(VLOOKUP(T1902,Tabelle!$B$5:$C$9,2,FALSE),5)))","v":""},null,null,null,null,null,null,null,{"$f":"IF(B1902=\"\",0,IF(B1902=B1901,COUNTIF(B$9:B1901,B1902)+1,1))","v":1890},0,0]
["1895","-1900","-1900-1891",null,null,null,null,null,null,null,null,null,null,null,null,null,null,null,null,null,{"$f":"IF(J$2019=1,\"\",IF(T1903=\"\",\"\",RIGHT(VLOOKUP(T1903,Tabelle!$B$5:$C$9,2,FALSE),5)))","v":""},null,null,null,null,null,null,null,{"$f":"IF(B1903=\"\",0,IF(B1903=B1902,COUNTIF(B$9:B1902,B1903)+1,1))","v":1891},0,0]
["1896","-1900","-1900-1892",null,null,null,null,null,null,null,null,null,null,null,null,null,null,null,null,null,{"$f":"IF(J$2019=1,\"\",IF(T1904=\"\",\"\",RIGHT(VLOOKUP(T1904,Tabelle!$B$5:$C$9,2,FALSE),5)))","v":""},null,null,null,null,null,null,null,{"$f":"IF(B1904=\"\",0,IF(B1904=B1903,COUNTIF(B$9:B1903,B1904)+1,1))","v":1892},0,0]
["1897","-1900","-1900-1893",null,null,null,null,null,null,null,null,null,null,null,null,null,null,null,null,null,{"$f":"IF(J$2019=1,\"\",IF(T1905=\"\",\"\",RIGHT(VLOOKUP(T1905,Tabelle!$B$5:$C$9,2,FALSE),5)))","v":""},null,null,null,null,null,null,null,{"$f":"IF(B1905=\"\",0,IF(B1905=B1904,COUNTIF(B$9:B1904,B1905)+1,1))","v":1893},0,0]
["1898","-1900","-1900-1894",null,null,null,null,null,null,null,null,null,null,null,null,null,null,null,null,null,{"$f":"IF(J$2019=1,\"\",IF(T1906=\"\",\"\",RIGHT(VLOOKUP(T1906,Tabelle!$B$5:$C$9,2,FALSE),5)))","v":""},null,null,null,null,null,null,null,{"$f":"IF(B1906=\"\",0,IF(B1906=B1905,COUNTIF(B$9:B1905,B1906)+1,1))","v":1894},0,0]
["1899","-1900","-1900-1895",null,null,null,null,null,null,null,null,null,null,null,null,null,null,null,null,null,{"$f":"IF(J$2019=1,\"\",IF(T1907=\"\",\"\",RIGHT(VLOOKUP(T1907,Tabelle!$B$5:$C$9,2,FALSE),5)))","v":""},null,null,null,null,null,null,null,{"$f":"IF(B1907=\"\",0,IF(B1907=B1906,COUNTIF(B$9:B1906,B1907)+1,1))","v":1895},0,0]
["1900 di 2000","-1900","-1900-1896",null,null,null,null,null,null,null,null,null,null,null,null,null,null,null,null,null,{"$f":"IF(J$2019=1,\"\",IF(T1908=\"\",\"\",RIGHT(VLOOKUP(T1908,Tabelle!$B$5:$C$9,2,FALSE),5)))","v":""},null,null,null,null,null,null,null,{"$f":"IF(B1908=\"\",0,IF(B1908=B1907,COUNTIF(B$9:B1907,B1908)+1,1))","v":1896},0,0]
["1901","-1900","-1900-1897",null,null,null,null,null,null,null,null,null,null,null,null,null,null,null,null,null,{"$f":"IF(J$2019=1,\"\",IF(T1909=\"\",\"\",RIGHT(VLOOKUP(T1909,Tabelle!$B$5:$C$9,2,FALSE),5)))","v":""},null,null,null,null,null,null,null,{"$f":"IF(B1909=\"\",0,IF(B1909=B1908,COUNTIF(B$9:B1908,B1909)+1,1))","v":1897},0,0]
["1902","-1900","-1900-1898",null,null,null,null,null,null,null,null,null,null,null,null,null,null,null,null,null,{"$f":"IF(J$2019=1,\"\",IF(T1910=\"\",\"\",RIGHT(VLOOKUP(T1910,Tabelle!$B$5:$C$9,2,FALSE),5)))","v":""},null,null,null,null,null,null,null,{"$f":"IF(B1910=\"\",0,IF(B1910=B1909,COUNTIF(B$9:B1909,B1910)+1,1))","v":1898},0,0]
["1903","-1900","-1900-1899",null,null,null,null,null,null,null,null,null,null,null,null,null,null,null,null,null,{"$f":"IF(J$2019=1,\"\",IF(T1911=\"\",\"\",RIGHT(VLOOKUP(T1911,Tabelle!$B$5:$C$9,2,FALSE),5)))","v":""},null,null,null,null,null,null,null,{"$f":"IF(B1911=\"\",0,IF(B1911=B1910,COUNTIF(B$9:B1910,B1911)+1,1))","v":1899},0,0]
["1904","-1900","-1900-1900",null,null,null,null,null,null,null,null,null,null,null,null,null,null,null,null,null,{"$f":"IF(J$2019=1,\"\",IF(T1912=\"\",\"\",RIGHT(VLOOKUP(T1912,Tabelle!$B$5:$C$9,2,FALSE),5)))","v":""},null,null,null,null,null,null,null,{"$f":"IF(B1912=\"\",0,IF(B1912=B1911,COUNTIF(B$9:B1911,B1912)+1,1))","v":1900},0,0]
["1905","-1900","-1900-1901",null,null,null,null,null,null,null,null,null,null,null,null,null,null,null,null,null,{"$f":"IF(J$2019=1,\"\",IF(T1913=\"\",\"\",RIGHT(VLOOKUP(T1913,Tabelle!$B$5:$C$9,2,FALSE),5)))","v":""},null,null,null,null,null,null,null,{"$f":"IF(B1913=\"\",0,IF(B1913=B1912,COUNTIF(B$9:B1912,B1913)+1,1))","v":1901},0,0]
["1906","-1900","-1900-1902",null,null,null,null,null,null,null,null,null,null,null,null,null,null,null,null,null,{"$f":"IF(J$2019=1,\"\",IF(T1914=\"\",\"\",RIGHT(VLOOKUP(T1914,Tabelle!$B$5:$C$9,2,FALSE),5)))","v":""},null,null,null,null,null,null,null,{"$f":"IF(B1914=\"\",0,IF(B1914=B1913,COUNTIF(B$9:B1913,B1914)+1,1))","v":1902},0,0]
["1907","-1900","-1900-1903",null,null,null,null,null,null,null,null,null,null,null,null,null,null,null,null,null,{"$f":"IF(J$2019=1,\"\",IF(T1915=\"\",\"\",RIGHT(VLOOKUP(T1915,Tabelle!$B$5:$C$9,2,FALSE),5)))","v":""},null,null,null,null,null,null,null,{"$f":"IF(B1915=\"\",0,IF(B1915=B1914,COUNTIF(B$9:B1914,B1915)+1,1))","v":1903},0,0]
["1908","-1900","-1900-1904",null,null,null,null,null,null,null,null,null,null,null,null,null,null,null,null,null,{"$f":"IF(J$2019=1,\"\",IF(T1916=\"\",\"\",RIGHT(VLOOKUP(T1916,Tabelle!$B$5:$C$9,2,FALSE),5)))","v":""},null,null,null,null,null,null,null,{"$f":"IF(B1916=\"\",0,IF(B1916=B1915,COUNTIF(B$9:B1915,B1916)+1,1))","v":1904},0,0]
["1909","-1900","-1900-1905",null,null,null,null,null,null,null,null,null,null,null,null,null,null,null,null,null,{"$f":"IF(J$2019=1,\"\",IF(T1917=\"\",\"\",RIGHT(VLOOKUP(T1917,Tabelle!$B$5:$C$9,2,FALSE),5)))","v":""},null,null,null,null,null,null,null,{"$f":"IF(B1917=\"\",0,IF(B1917=B1916,COUNTIF(B$9:B1916,B1917)+1,1))","v":1905},0,0]
["1910","-1900","-1900-1906",null,null,null,null,null,null,null,null,null,null,null,null,null,null,null,null,null,{"$f":"IF(J$2019=1,\"\",IF(T1918=\"\",\"\",RIGHT(VLOOKUP(T1918,Tabelle!$B$5:$C$9,2,FALSE),5)))","v":""},null,null,null,null,null,null,null,{"$f":"IF(B1918=\"\",0,IF(B1918=B1917,COUNTIF(B$9:B1917,B1918)+1,1))","v":1906},0,0]
["1911","-1900","-1900-1907",null,null,null,null,null,null,null,null,null,null,null,null,null,null,null,null,null,{"$f":"IF(J$2019=1,\"\",IF(T1919=\"\",\"\",RIGHT(VLOOKUP(T1919,Tabelle!$B$5:$C$9,2,FALSE),5)))","v":""},null,null,null,null,null,null,null,{"$f":"IF(B1919=\"\",0,IF(B1919=B1918,COUNTIF(B$9:B1918,B1919)+1,1))","v":1907},0,0]
["1912","-1900","-1900-1908",null,null,null,null,null,null,null,null,null,null,null,null,null,null,null,null,null,{"$f":"IF(J$2019=1,\"\",IF(T1920=\"\",\"\",RIGHT(VLOOKUP(T1920,Tabelle!$B$5:$C$9,2,FALSE),5)))","v":""},null,null,null,null,null,null,null,{"$f":"IF(B1920=\"\",0,IF(B1920=B1919,COUNTIF(B$9:B1919,B1920)+1,1))","v":1908},0,0]
["1913","-1900","-1900-1909",null,null,null,null,null,null,null,null,null,null,null,null,null,null,null,null,null,{"$f":"IF(J$2019=1,\"\",IF(T1921=\"\",\"\",RIGHT(VLOOKUP(T1921,Tabelle!$B$5:$C$9,2,FALSE),5)))","v":""},null,null,null,null,null,null,null,{"$f":"IF(B1921=\"\",0,IF(B1921=B1920,COUNTIF(B$9:B1920,B1921)+1,1))","v":1909},0,0]
["1914","-1900","-1900-1910",null,null,null,null,null,null,null,null,null,null,null,null,null,null,null,null,null,{"$f":"IF(J$2019=1,\"\",IF(T1922=\"\",\"\",RIGHT(VLOOKUP(T1922,Tabelle!$B$5:$C$9,2,FALSE),5)))","v":""},null,null,null,null,null,null,null,{"$f":"IF(B1922=\"\",0,IF(B1922=B1921,COUNTIF(B$9:B1921,B1922)+1,1))","v":1910},0,0]
["1915","-1900","-1900-1911",null,null,null,null,null,null,null,null,null,null,null,null,null,null,null,null,null,{"$f":"IF(J$2019=1,\"\",IF(T1923=\"\",\"\",RIGHT(VLOOKUP(T1923,Tabelle!$B$5:$C$9,2,FALSE),5)))","v":""},null,null,null,null,null,null,null,{"$f":"IF(B1923=\"\",0,IF(B1923=B1922,COUNTIF(B$9:B1922,B1923)+1,1))","v":1911},0,0]
["1916","-1900","-1900-1912",null,null,null,null,null,null,null,null,null,null,null,null,null,null,null,null,null,{"$f":"IF(J$2019=1,\"\",IF(T1924=\"\",\"\",RIGHT(VLOOKUP(T1924,Tabelle!$B$5:$C$9,2,FALSE),5)))","v":""},null,null,null,null,null,null,null,{"$f":"IF(B1924=\"\",0,IF(B1924=B1923,COUNTIF(B$9:B1923,B1924)+1,1))","v":1912},0,0]
["1917","-1900","-1900-1913",null,null,null,null,null,null,null,null,null,null,null,null,null,null,null,null,null,{"$f":"IF(J$2019=1,\"\",IF(T1925=\"\",\"\",RIGHT(VLOOKUP(T1925,Tabelle!$B$5:$C$9,2,FALSE),5)))","v":""},null,null,null,null,null,null,null,{"$f":"IF(B1925=\"\",0,IF(B1925=B1924,COUNTIF(B$9:B1924,B1925)+1,1))","v":1913},0,0]
["1918","-1900","-1900-1914",null,null,null,null,null,null,null,null,null,null,null,null,null,null,null,null,null,{"$f":"IF(J$2019=1,\"\",IF(T1926=\"\",\"\",RIGHT(VLOOKUP(T1926,Tabelle!$B$5:$C$9,2,FALSE),5)))","v":""},null,null,null,null,null,null,null,{"$f":"IF(B1926=\"\",0,IF(B1926=B1925,COUNTIF(B$9:B1925,B1926)+1,1))","v":1914},0,0]
["1919","-1900","-1900-1915",null,null,null,null,null,null,null,null,null,null,null,null,null,null,null,null,null,{"$f":"IF(J$2019=1,\"\",IF(T1927=\"\",\"\",RIGHT(VLOOKUP(T1927,Tabelle!$B$5:$C$9,2,FALSE),5)))","v":""},null,null,null,null,null,null,null,{"$f":"IF(B1927=\"\",0,IF(B1927=B1926,COUNTIF(B$9:B1926,B1927)+1,1))","v":1915},0,0]
["1920","-1900","-1900-1916",null,null,null,null,null,null,null,null,null,null,null,null,null,null,null,null,null,{"$f":"IF(J$2019=1,\"\",IF(T1928=\"\",\"\",RIGHT(VLOOKUP(T1928,Tabelle!$B$5:$C$9,2,FALSE),5)))","v":""},null,null,null,null,null,null,null,{"$f":"IF(B1928=\"\",0,IF(B1928=B1927,COUNTIF(B$9:B1927,B1928)+1,1))","v":1916},0,0]
["1921","-1900","-1900-1917",null,null,null,null,null,null,null,null,null,null,null,null,null,null,null,null,null,{"$f":"IF(J$2019=1,\"\",IF(T1929=\"\",\"\",RIGHT(VLOOKUP(T1929,Tabelle!$B$5:$C$9,2,FALSE),5)))","v":""},null,null,null,null,null,null,null,{"$f":"IF(B1929=\"\",0,IF(B1929=B1928,COUNTIF(B$9:B1928,B1929)+1,1))","v":1917},0,0]
["1922",{"$f":"IF(AE1930=$AE$2013,0,IF(J$2019=1,0,D1930&\"-\"&YEAR(E1930)))","v":"-1900"},"-1900-1918",null,null,null,null,null,null,null,null,null,null,null,null,null,null,null,null,null,{"$f":"IF(J$2019=1,\"\",IF(T1930=\"\",\"\",RIGHT(VLOOKUP(T1930,Tabelle!$B$5:$C$9,2,FALSE),5)))","v":""},null,null,null,null,null,null,null,{"$f":"IF(B1930=\"\",0,IF(B1930=B1929,COUNTIF(B$9:B1929,B1930)+1,1))","v":1918},0,{"$f":"IF(E1930>0,IF(OR(MONTH(E1930)<$J$2025,MONTH(E1930)>$J$2026),AE$2013,0),0)","v":0}]
["1923","-1900","-1900-1919",null,null,null,null,null,null,null,null,null,null,null,null,null,null,null,null,null,{"$f":"IF(J$2019=1,\"\",IF(T1931=\"\",\"\",RIGHT(VLOOKUP(T1931,Tabelle!$B$5:$C$9,2,FALSE),5)))","v":""},null,null,null,null,null,null,null,{"$f":"IF(B1931=\"\",0,IF(B1931=B1930,COUNTIF(B$9:B1930,B1931)+1,1))","v":1919},0,0]
["1924","-1900","-1900-1920",null,null,null,null,null,null,null,null,null,null,null,null,null,null,null,null,null,{"$f":"IF(J$2019=1,\"\",IF(T1932=\"\",\"\",RIGHT(VLOOKUP(T1932,Tabelle!$B$5:$C$9,2,FALSE),5)))","v":""},null,null,null,null,null,null,null,{"$f":"IF(B1932=\"\",0,IF(B1932=B1931,COUNTIF(B$9:B1931,B1932)+1,1))","v":1920},0,0]
["1925","-1900","-1900-1921",null,null,null,null,null,null,null,null,null,null,null,null,null,null,null,null,null,{"$f":"IF(J$2019=1,\"\",IF(T1933=\"\",\"\",RIGHT(VLOOKUP(T1933,Tabelle!$B$5:$C$9,2,FALSE),5)))","v":""},null,null,null,null,null,null,null,{"$f":"IF(B1933=\"\",0,IF(B1933=B1932,COUNTIF(B$9:B1932,B1933)+1,1))","v":1921},0,0]
["1926","-1900","-1900-1922",null,null,null,null,null,null,null,null,null,null,null,null,null,null,null,null,null,{"$f":"IF(J$2019=1,\"\",IF(T1934=\"\",\"\",RIGHT(VLOOKUP(T1934,Tabelle!$B$5:$C$9,2,FALSE),5)))","v":""},null,null,null,null,null,null,null,{"$f":"IF(B1934=\"\",0,IF(B1934=B1933,COUNTIF(B$9:B1933,B1934)+1,1))","v":1922},0,0]
["1927","-1900","-1900-1923",null,null,null,null,null,null,null,null,null,null,null,null,null,null,null,null,null,{"$f":"IF(J$2019=1,\"\",IF(T1935=\"\",\"\",RIGHT(VLOOKUP(T1935,Tabelle!$B$5:$C$9,2,FALSE),5)))","v":""},null,null,null,null,null,null,null,{"$f":"IF(B1935=\"\",0,IF(B1935=B1934,COUNTIF(B$9:B1934,B1935)+1,1))","v":1923},0,0]
["1928","-1900","-1900-1924",null,null,null,null,null,null,null,null,null,null,null,null,null,null,null,null,null,{"$f":"IF(J$2019=1,\"\",IF(T1936=\"\",\"\",RIGHT(VLOOKUP(T1936,Tabelle!$B$5:$C$9,2,FALSE),5)))","v":""},null,null,null,null,null,null,null,{"$f":"IF(B1936=\"\",0,IF(B1936=B1935,COUNTIF(B$9:B1935,B1936)+1,1))","v":1924},0,0]
["1929","-1900","-1900-1925",null,null,null,null,null,null,null,null,null,null,null,null,null,null,null,null,null,{"$f":"IF(J$2019=1,\"\",IF(T1937=\"\",\"\",RIGHT(VLOOKUP(T1937,Tabelle!$B$5:$C$9,2,FALSE),5)))","v":""},null,null,null,null,null,null,null,{"$f":"IF(B1937=\"\",0,IF(B1937=B1936,COUNTIF(B$9:B1936,B1937)+1,1))","v":1925},0,0]
["1930","-1900","-1900-1926",null,null,null,null,null,null,null,null,null,null,null,null,null,null,null,null,null,{"$f":"IF(J$2019=1,\"\",IF(T1938=\"\",\"\",RIGHT(VLOOKUP(T1938,Tabelle!$B$5:$C$9,2,FALSE),5)))","v":""},null,null,null,null,null,null,null,{"$f":"IF(B1938=\"\",0,IF(B1938=B1937,COUNTIF(B$9:B1937,B1938)+1,1))","v":1926},0,0]
["1931","-1900","-1900-1927",null,null,null,null,null,null,null,null,null,null,null,null,null,null,null,null,null,{"$f":"IF(J$2019=1,\"\",IF(T1939=\"\",\"\",RIGHT(VLOOKUP(T1939,Tabelle!$B$5:$C$9,2,FALSE),5)))","v":""},null,null,null,null,null,null,null,{"$f":"IF(B1939=\"\",0,IF(B1939=B1938,COUNTIF(B$9:B1938,B1939)+1,1))","v":1927},0,0]
["1932","-1900","-1900-1928",null,null,null,null,null,null,null,null,null,null,null,null,null,null,null,null,null,{"$f":"IF(J$2019=1,\"\",IF(T1940=\"\",\"\",RIGHT(VLOOKUP(T1940,Tabelle!$B$5:$C$9,2,FALSE),5)))","v":""},null,null,null,null,null,null,null,{"$f":"IF(B1940=\"\",0,IF(B1940=B1939,COUNTIF(B$9:B1939,B1940)+1,1))","v":1928},0,0]
["1933","-1900","-1900-1929",null,null,null,null,null,null,null,null,null,null,null,null,null,null,null,null,null,{"$f":"IF(J$2019=1,\"\",IF(T1941=\"\",\"\",RIGHT(VLOOKUP(T1941,Tabelle!$B$5:$C$9,2,FALSE),5)))","v":""},null,null,null,null,null,null,null,{"$f":"IF(B1941=\"\",0,IF(B1941=B1940,COUNTIF(B$9:B1940,B1941)+1,1))","v":1929},{"$f":"IF(OR(D1941=\"\",J$2019=1),0,IF(AC1941=28,1,0))","v":0},0]
["1934","-1900","-1900-1930",null,null,null,null,null,null,null,null,null,null,null,null,null,null,null,null,null,{"$f":"IF(J$2019=1,\"\",IF(T1942=\"\",\"\",RIGHT(VLOOKUP(T1942,Tabelle!$B$5:$C$9,2,FALSE),5)))","v":""},null,null,null,null,null,null,null,{"$f":"IF(B1942=\"\",0,IF(B1942=B1941,COUNTIF(B$9:B1941,B1942)+1,1))","v":1930},0,0]
["1935","-1900",{"$f":"IF(J$2019=1,0,B1943&\"-\"&AC1943)","v":"-1900-1931"},null,null,null,null,null,null,null,null,null,null,null,null,null,null,null,null,null,{"$f":"IF(J$2019=1,\"\",IF(T1943=\"\",\"\",RIGHT(VLOOKUP(T1943,Tabelle!$B$5:$C$9,2,FALSE),5)))","v":""},null,null,null,null,null,null,null,{"$f":"IF(B1943=\"\",0,IF(B1943=B1942,COUNTIF(B$9:B1942,B1943)+1,1))","v":1931},0,0]
["1936","-1900","-1900-1932",null,null,null,null,null,null,null,null,null,null,null,null,null,null,null,null,null,{"$f":"IF(J$2019=1,\"\",IF(T1944=\"\",\"\",RIGHT(VLOOKUP(T1944,Tabelle!$B$5:$C$9,2,FALSE),5)))","v":""},null,null,null,null,null,null,null,{"$f":"IF(B1944=\"\",0,IF(B1944=B1943,COUNTIF(B$9:B1943,B1944)+1,1))","v":1932},0,0]
["1937","-1900","-1900-1933",null,null,null,null,null,null,null,null,null,null,null,null,null,null,null,null,null,{"$f":"IF(J$2019=1,\"\",IF(T1945=\"\",\"\",RIGHT(VLOOKUP(T1945,Tabelle!$B$5:$C$9,2,FALSE),5)))","v":""},null,null,null,null,null,null,null,{"$f":"IF(B1945=\"\",0,IF(B1945=B1944,COUNTIF(B$9:B1944,B1945)+1,1))","v":1933},0,0]
["1938","-1900","-1900-1934",null,null,null,null,null,null,null,null,null,null,null,null,null,null,null,null,null,{"$f":"IF(J$2019=1,\"\",IF(T1946=\"\",\"\",RIGHT(VLOOKUP(T1946,Tabelle!$B$5:$C$9,2,FALSE),5)))","v":""},null,null,null,null,null,null,null,{"$f":"IF(B1946=\"\",0,IF(B1946=B1945,COUNTIF(B$9:B1945,B1946)+1,1))","v":1934},0,0]
["1939","-1900","-1900-1935",null,null,null,null,null,null,null,null,null,null,null,null,null,null,null,null,null,{"$f":"IF(J$2019=1,\"\",IF(T1947=\"\",\"\",RIGHT(VLOOKUP(T1947,Tabelle!$B$5:$C$9,2,FALSE),5)))","v":""},null,null,null,null,null,null,null,{"$f":"IF(B1947=\"\",0,IF(B1947=B1946,COUNTIF(B$9:B1946,B1947)+1,1))","v":1935},0,0]
["1940","-1900","-1900-1936",null,null,null,null,null,null,null,null,null,null,null,null,null,null,null,null,null,{"$f":"IF(J$2019=1,\"\",IF(T1948=\"\",\"\",RIGHT(VLOOKUP(T1948,Tabelle!$B$5:$C$9,2,FALSE),5)))","v":""},null,null,null,null,null,null,null,{"$f":"IF(B1948=\"\",0,IF(B1948=B1947,COUNTIF(B$9:B1947,B1948)+1,1))","v":1936},0,0]
["1941","-1900","-1900-1937",null,null,null,null,null,null,null,null,null,null,null,null,null,null,null,null,null,{"$f":"IF(J$2019=1,\"\",IF(T1949=\"\",\"\",RIGHT(VLOOKUP(T1949,Tabelle!$B$5:$C$9,2,FALSE),5)))","v":""},null,null,null,null,null,null,null,{"$f":"IF(B1949=\"\",0,IF(B1949=B1948,COUNTIF(B$9:B1948,B1949)+1,1))","v":1937},0,0]
["1942","-1900","-1900-1938",null,null,null,null,null,null,null,null,null,null,null,null,null,null,null,null,null,{"$f":"IF(J$2019=1,\"\",IF(T1950=\"\",\"\",RIGHT(VLOOKUP(T1950,Tabelle!$B$5:$C$9,2,FALSE),5)))","v":""},null,null,null,null,null,null,null,{"$f":"IF(B1950=\"\",0,IF(B1950=B1949,COUNTIF(B$9:B1949,B1950)+1,1))","v":1938},0,0]
["1943","-1900","-1900-1939",null,null,null,null,null,null,null,null,null,null,null,null,null,null,null,null,null,{"$f":"IF(J$2019=1,\"\",IF(T1951=\"\",\"\",RIGHT(VLOOKUP(T1951,Tabelle!$B$5:$C$9,2,FALSE),5)))","v":""},null,null,null,null,null,null,null,{"$f":"IF(B1951=\"\",0,IF(B1951=B1950,COUNTIF(B$9:B1950,B1951)+1,1))","v":1939},0,0]
["1944","-1900","-1900-1940",null,null,null,null,null,null,null,null,null,null,null,null,null,null,null,null,null,{"$f":"IF(J$2019=1,\"\",IF(T1952=\"\",\"\",RIGHT(VLOOKUP(T1952,Tabelle!$B$5:$C$9,2,FALSE),5)))","v":""},null,null,null,null,null,null,null,{"$f":"IF(B1952=\"\",0,IF(B1952=B1951,COUNTIF(B$9:B1951,B1952)+1,1))","v":1940},0,0]
["1945","-1900","-1900-1941",null,null,null,null,null,null,null,null,null,null,null,null,null,null,null,null,null,{"$f":"IF(J$2019=1,\"\",IF(T1953=\"\",\"\",RIGHT(VLOOKUP(T1953,Tabelle!$B$5:$C$9,2,FALSE),5)))","v":""},null,null,null,null,null,null,null,{"$f":"IF(B1953=\"\",0,IF(B1953=B1952,COUNTIF(B$9:B1952,B1953)+1,1))","v":1941},0,0]
["1946","-1900","-1900-1942",null,null,null,null,null,null,null,null,null,null,null,null,null,null,null,null,null,{"$f":"IF(J$2019=1,\"\",IF(T1954=\"\",\"\",RIGHT(VLOOKUP(T1954,Tabelle!$B$5:$C$9,2,FALSE),5)))","v":""},null,null,null,null,null,null,null,{"$f":"IF(B1954=\"\",0,IF(B1954=B1953,COUNTIF(B$9:B1953,B1954)+1,1))","v":1942},0,0]
["1947","-1900","-1900-1943",null,null,null,null,null,null,null,null,null,null,null,null,null,null,null,null,null,{"$f":"IF(J$2019=1,\"\",IF(T1955=\"\",\"\",RIGHT(VLOOKUP(T1955,Tabelle!$B$5:$C$9,2,FALSE),5)))","v":""},null,null,null,null,null,null,null,{"$f":"IF(B1955=\"\",0,IF(B1955=B1954,COUNTIF(B$9:B1954,B1955)+1,1))","v":1943},0,0]
["1948","-1900","-1900-1944",null,null,null,null,null,null,null,null,null,null,null,null,null,null,null,null,null,{"$f":"IF(J$2019=1,\"\",IF(T1956=\"\",\"\",RIGHT(VLOOKUP(T1956,Tabelle!$B$5:$C$9,2,FALSE),5)))","v":""},null,null,null,null,null,null,null,{"$f":"IF(B1956=\"\",0,IF(B1956=B1955,COUNTIF(B$9:B1955,B1956)+1,1))","v":1944},0,0]
["1949","-1900","-1900-1945",null,null,null,null,null,null,null,null,null,null,null,null,null,null,null,null,null,{"$f":"IF(J$2019=1,\"\",IF(T1957=\"\",\"\",RIGHT(VLOOKUP(T1957,Tabelle!$B$5:$C$9,2,FALSE),5)))","v":""},null,null,null,null,null,null,null,{"$f":"IF(B1957=\"\",0,IF(B1957=B1956,COUNTIF(B$9:B1956,B1957)+1,1))","v":1945},0,0]
["1950","-1900","-1900-1946",null,null,null,null,null,null,null,null,null,null,null,null,null,null,null,null,null,{"$f":"IF(J$2019=1,\"\",IF(T1958=\"\",\"\",RIGHT(VLOOKUP(T1958,Tabelle!$B$5:$C$9,2,FALSE),5)))","v":""},null,null,null,null,null,null,null,{"$f":"IF(B1958=\"\",0,IF(B1958=B1957,COUNTIF(B$9:B1957,B1958)+1,1))","v":1946},0,0]
["1951","-1900","-1900-1947",null,null,null,null,null,null,null,null,null,null,null,null,null,null,null,null,null,{"$f":"IF(J$2019=1,\"\",IF(T1959=\"\",\"\",RIGHT(VLOOKUP(T1959,Tabelle!$B$5:$C$9,2,FALSE),5)))","v":""},null,null,null,null,null,null,null,{"$f":"IF(B1959=\"\",0,IF(B1959=B1958,COUNTIF(B$9:B1958,B1959)+1,1))","v":1947},0,0]
["1952","-1900","-1900-1948",null,null,null,null,null,null,null,null,null,null,null,null,null,null,null,null,null,{"$f":"IF(J$2019=1,\"\",IF(T1960=\"\",\"\",RIGHT(VLOOKUP(T1960,Tabelle!$B$5:$C$9,2,FALSE),5)))","v":""},null,null,null,null,null,null,null,{"$f":"IF(B1960=\"\",0,IF(B1960=B1959,COUNTIF(B$9:B1959,B1960)+1,1))","v":1948},0,0]
["1953","-1900","-1900-1949",null,null,null,null,null,null,null,null,null,null,null,null,null,null,null,null,null,{"$f":"IF(J$2019=1,\"\",IF(T1961=\"\",\"\",RIGHT(VLOOKUP(T1961,Tabelle!$B$5:$C$9,2,FALSE),5)))","v":""},null,null,null,null,null,null,null,{"$f":"IF(B1961=\"\",0,IF(B1961=B1960,COUNTIF(B$9:B1960,B1961)+1,1))","v":1949},0,0]
["1954","-1900","-1900-1950",null,null,null,null,null,null,null,null,null,null,null,null,null,null,null,null,null,{"$f":"IF(J$2019=1,\"\",IF(T1962=\"\",\"\",RIGHT(VLOOKUP(T1962,Tabelle!$B$5:$C$9,2,FALSE),5)))","v":""},null,null,null,null,null,null,null,{"$f":"IF(B1962=\"\",0,IF(B1962=B1961,COUNTIF(B$9:B1961,B1962)+1,1))","v":1950},0,0]
["1955","-1900","-1900-1951",null,null,null,null,null,null,null,null,null,null,null,null,null,null,null,null,null,{"$f":"IF(J$2019=1,\"\",IF(T1963=\"\",\"\",RIGHT(VLOOKUP(T1963,Tabelle!$B$5:$C$9,2,FALSE),5)))","v":""},null,null,null,null,null,null,null,{"$f":"IF(B1963=\"\",0,IF(B1963=B1962,COUNTIF(B$9:B1962,B1963)+1,1))","v":1951},0,0]
["1956","-1900","-1900-1952",null,null,null,null,null,null,null,null,null,null,null,null,null,null,null,null,null,{"$f":"IF(J$2019=1,\"\",IF(T1964=\"\",\"\",RIGHT(VLOOKUP(T1964,Tabelle!$B$5:$C$9,2,FALSE),5)))","v":""},null,null,null,null,null,null,null,{"$f":"IF(B1964=\"\",0,IF(B1964=B1963,COUNTIF(B$9:B1963,B1964)+1,1))","v":1952},0,0]
["1957","-1900","-1900-1953",null,null,null,null,null,null,null,null,null,null,null,null,null,null,null,null,null,{"$f":"IF(J$2019=1,\"\",IF(T1965=\"\",\"\",RIGHT(VLOOKUP(T1965,Tabelle!$B$5:$C$9,2,FALSE),5)))","v":""},null,null,null,null,null,null,null,{"$f":"IF(B1965=\"\",0,IF(B1965=B1964,COUNTIF(B$9:B1964,B1965)+1,1))","v":1953},0,0]
["1958","-1900","-1900-1954",null,null,null,null,null,null,null,null,null,null,null,null,null,null,null,null,null,{"$f":"IF(J$2019=1,\"\",IF(T1966=\"\",\"\",RIGHT(VLOOKUP(T1966,Tabelle!$B$5:$C$9,2,FALSE),5)))","v":""},null,null,null,null,null,null,null,{"$f":"IF(B1966=\"\",0,IF(B1966=B1965,COUNTIF(B$9:B1965,B1966)+1,1))","v":1954},0,0]
["1959","-1900","-1900-1955",null,null,null,null,null,null,null,null,null,null,null,null,null,null,null,null,null,{"$f":"IF(J$2019=1,\"\",IF(T1967=\"\",\"\",RIGHT(VLOOKUP(T1967,Tabelle!$B$5:$C$9,2,FALSE),5)))","v":""},null,null,null,null,null,null,null,{"$f":"IF(B1967=\"\",0,IF(B1967=B1966,COUNTIF(B$9:B1966,B1967)+1,1))","v":1955},0,0]
["1960","-1900","-1900-1956",null,null,null,null,null,null,null,null,null,null,null,null,null,null,null,null,null,{"$f":"IF(J$2019=1,\"\",IF(T1968=\"\",\"\",RIGHT(VLOOKUP(T1968,Tabelle!$B$5:$C$9,2,FALSE),5)))","v":""},null,null,null,null,null,null,null,{"$f":"IF(B1968=\"\",0,IF(B1968=B1967,COUNTIF(B$9:B1967,B1968)+1,1))","v":1956},0,0]
["1961","-1900","-1900-1957",null,null,null,null,null,null,null,null,null,null,null,null,null,null,null,null,null,{"$f":"IF(J$2019=1,\"\",IF(T1969=\"\",\"\",RIGHT(VLOOKUP(T1969,Tabelle!$B$5:$C$9,2,FALSE),5)))","v":""},null,null,null,null,null,null,null,{"$f":"IF(B1969=\"\",0,IF(B1969=B1968,COUNTIF(B$9:B1968,B1969)+1,1))","v":1957},0,0]
["1962","-1900","-1900-1958",null,null,null,null,null,null,null,null,null,null,null,null,null,null,null,null,null,{"$f":"IF(J$2019=1,\"\",IF(T1970=\"\",\"\",RIGHT(VLOOKUP(T1970,Tabelle!$B$5:$C$9,2,FALSE),5)))","v":""},null,null,null,null,null,null,null,{"$f":"IF(B1970=\"\",0,IF(B1970=B1969,COUNTIF(B$9:B1969,B1970)+1,1))","v":1958},0,0]
["1963","-1900","-1900-1959",null,null,null,null,null,null,null,null,null,null,null,null,null,null,null,null,null,{"$f":"IF(J$2019=1,\"\",IF(T1971=\"\",\"\",RIGHT(VLOOKUP(T1971,Tabelle!$B$5:$C$9,2,FALSE),5)))","v":""},null,null,null,null,null,null,null,{"$f":"IF(B1971=\"\",0,IF(B1971=B1970,COUNTIF(B$9:B1970,B1971)+1,1))","v":1959},0,0]
["1964","-1900","-1900-1960",null,null,null,null,null,null,null,null,null,null,null,null,null,null,null,null,null,{"$f":"IF(J$2019=1,\"\",IF(T1972=\"\",\"\",RIGHT(VLOOKUP(T1972,Tabelle!$B$5:$C$9,2,FALSE),5)))","v":""},null,null,null,null,null,null,null,{"$f":"IF(B1972=\"\",0,IF(B1972=B1971,COUNTIF(B$9:B1971,B1972)+1,1))","v":1960},0,0]
["1965","-1900","-1900-1961",null,null,null,null,null,null,null,null,null,null,null,null,null,null,null,null,null,{"$f":"IF(J$2019=1,\"\",IF(T1973=\"\",\"\",RIGHT(VLOOKUP(T1973,Tabelle!$B$5:$C$9,2,FALSE),5)))","v":""},null,null,null,null,null,null,null,{"$f":"IF(B1973=\"\",0,IF(B1973=B1972,COUNTIF(B$9:B1972,B1973)+1,1))","v":1961},0,0]
["1966","-1900","-1900-1962",null,null,null,null,null,null,null,null,null,null,null,null,null,null,null,null,null,{"$f":"IF(J$2019=1,\"\",IF(T1974=\"\",\"\",RIGHT(VLOOKUP(T1974,Tabelle!$B$5:$C$9,2,FALSE),5)))","v":""},null,null,null,null,null,null,null,{"$f":"IF(B1974=\"\",0,IF(B1974=B1973,COUNTIF(B$9:B1973,B1974)+1,1))","v":1962},0,0]
["1967","-1900","-1900-1963",null,null,null,null,null,null,null,null,null,null,null,null,null,null,null,null,null,{"$f":"IF(J$2019=1,\"\",IF(T1975=\"\",\"\",RIGHT(VLOOKUP(T1975,Tabelle!$B$5:$C$9,2,FALSE),5)))","v":""},null,null,null,null,null,null,null,{"$f":"IF(B1975=\"\",0,IF(B1975=B1974,COUNTIF(B$9:B1974,B1975)+1,1))","v":1963},0,0]
["1968","-1900","-1900-1964",null,null,null,null,null,null,null,null,null,null,null,null,null,null,null,null,null,{"$f":"IF(J$2019=1,\"\",IF(T1976=\"\",\"\",RIGHT(VLOOKUP(T1976,Tabelle!$B$5:$C$9,2,FALSE),5)))","v":""},null,null,null,null,null,null,null,{"$f":"IF(B1976=\"\",0,IF(B1976=B1975,COUNTIF(B$9:B1975,B1976)+1,1))","v":1964},0,0]
["1969","-1900","-1900-1965",null,null,null,null,null,null,null,null,null,null,null,null,null,null,null,null,null,{"$f":"IF(J$2019=1,\"\",IF(T1977=\"\",\"\",RIGHT(VLOOKUP(T1977,Tabelle!$B$5:$C$9,2,FALSE),5)))","v":""},null,null,null,null,null,null,null,{"$f":"IF(B1977=\"\",0,IF(B1977=B1976,COUNTIF(B$9:B1976,B1977)+1,1))","v":1965},0,0]
["1970","-1900","-1900-1966",null,null,null,null,null,null,null,null,null,null,null,null,null,null,null,null,null,{"$f":"IF(J$2019=1,\"\",IF(T1978=\"\",\"\",RIGHT(VLOOKUP(T1978,Tabelle!$B$5:$C$9,2,FALSE),5)))","v":""},null,null,null,null,null,null,null,{"$f":"IF(B1978=\"\",0,IF(B1978=B1977,COUNTIF(B$9:B1977,B1978)+1,1))","v":1966},0,0]
["1971","-1900","-1900-1967",null,null,null,null,null,null,null,null,null,null,null,null,null,null,null,null,null,{"$f":"IF(J$2019=1,\"\",IF(T1979=\"\",\"\",RIGHT(VLOOKUP(T1979,Tabelle!$B$5:$C$9,2,FALSE),5)))","v":""},null,null,null,null,null,null,null,{"$f":"IF(B1979=\"\",0,IF(B1979=B1978,COUNTIF(B$9:B1978,B1979)+1,1))","v":1967},0,0]
["1972","-1900","-1900-1968",null,null,null,null,null,null,null,null,null,null,null,null,null,null,null,null,null,{"$f":"IF(J$2019=1,\"\",IF(T1980=\"\",\"\",RIGHT(VLOOKUP(T1980,Tabelle!$B$5:$C$9,2,FALSE),5)))","v":""},null,null,null,null,null,null,null,{"$f":"IF(B1980=\"\",0,IF(B1980=B1979,COUNTIF(B$9:B1979,B1980)+1,1))","v":1968},0,0]
["1973","-1900","-1900-1969",null,null,null,null,null,null,null,null,null,null,null,null,null,null,null,null,null,{"$f":"IF(J$2019=1,\"\",IF(T1981=\"\",\"\",RIGHT(VLOOKUP(T1981,Tabelle!$B$5:$C$9,2,FALSE),5)))","v":""},null,null,null,null,null,null,null,{"$f":"IF(B1981=\"\",0,IF(B1981=B1980,COUNTIF(B$9:B1980,B1981)+1,1))","v":1969},0,0]
["1974","-1900","-1900-1970",null,null,null,null,null,null,null,null,null,null,null,null,null,null,null,null,null,{"$f":"IF(J$2019=1,\"\",IF(T1982=\"\",\"\",RIGHT(VLOOKUP(T1982,Tabelle!$B$5:$C$9,2,FALSE),5)))","v":""},null,null,null,null,null,null,null,{"$f":"IF(B1982=\"\",0,IF(B1982=B1981,COUNTIF(B$9:B1981,B1982)+1,1))","v":1970},0,0]
["1975","-1900","-1900-1971",null,null,null,null,null,null,null,null,null,null,null,null,null,null,null,null,null,{"$f":"IF(J$2019=1,\"\",IF(T1983=\"\",\"\",RIGHT(VLOOKUP(T1983,Tabelle!$B$5:$C$9,2,FALSE),5)))","v":""},null,null,null,null,null,null,null,{"$f":"IF(B1983=\"\",0,IF(B1983=B1982,COUNTIF(B$9:B1982,B1983)+1,1))","v":1971},0,0]
["1976","-1900","-1900-1972",null,null,null,null,null,null,null,null,null,null,null,null,null,null,null,null,null,{"$f":"IF(J$2019=1,\"\",IF(T1984=\"\",\"\",RIGHT(VLOOKUP(T1984,Tabelle!$B$5:$C$9,2,FALSE),5)))","v":""},null,null,null,null,null,null,null,{"$f":"IF(B1984=\"\",0,IF(B1984=B1983,COUNTIF(B$9:B1983,B1984)+1,1))","v":1972},0,0]
["1977","-1900","-1900-1973",null,null,null,null,null,null,null,null,null,null,null,null,null,null,null,null,null,{"$f":"IF(J$2019=1,\"\",IF(T1985=\"\",\"\",RIGHT(VLOOKUP(T1985,Tabelle!$B$5:$C$9,2,FALSE),5)))","v":""},null,null,null,null,null,null,null,{"$f":"IF(B1985=\"\",0,IF(B1985=B1984,COUNTIF(B$9:B1984,B1985)+1,1))","v":1973},0,0]
["1978","-1900","-1900-1974",null,null,null,null,null,null,null,null,null,null,null,null,null,null,null,null,null,{"$f":"IF(J$2019=1,\"\",IF(T1986=\"\",\"\",RIGHT(VLOOKUP(T1986,Tabelle!$B$5:$C$9,2,FALSE),5)))","v":""},null,null,null,null,null,null,null,{"$f":"IF(B1986=\"\",0,IF(B1986=B1985,COUNTIF(B$9:B1985,B1986)+1,1))","v":1974},0,0]
["1979","-1900","-1900-1975",null,null,null,null,null,null,null,null,null,null,null,null,null,null,null,null,null,{"$f":"IF(J$2019=1,\"\",IF(T1987=\"\",\"\",RIGHT(VLOOKUP(T1987,Tabelle!$B$5:$C$9,2,FALSE),5)))","v":""},null,null,null,null,null,null,null,{"$f":"IF(B1987=\"\",0,IF(B1987=B1986,COUNTIF(B$9:B1986,B1987)+1,1))","v":1975},0,0]
["1980","-1900","-1900-1976",null,null,null,null,null,null,null,null,null,null,null,null,null,null,null,null,null,{"$f":"IF(J$2019=1,\"\",IF(T1988=\"\",\"\",RIGHT(VLOOKUP(T1988,Tabelle!$B$5:$C$9,2,FALSE),5)))","v":""},null,null,null,null,null,null,null,{"$f":"IF(B1988=\"\",0,IF(B1988=B1987,COUNTIF(B$9:B1987,B1988)+1,1))","v":1976},0,0]
["1981","-1900","-1900-1977",null,null,null,null,null,null,null,null,null,null,null,null,null,null,null,null,null,{"$f":"IF(J$2019=1,\"\",IF(T1989=\"\",\"\",RIGHT(VLOOKUP(T1989,Tabelle!$B$5:$C$9,2,FALSE),5)))","v":""},null,null,null,null,null,null,null,{"$f":"IF(B1989=\"\",0,IF(B1989=B1988,COUNTIF(B$9:B1988,B1989)+1,1))","v":1977},0,0]
["1982","-1900","-1900-1978",null,null,null,null,null,null,null,null,null,null,null,null,null,null,null,null,null,{"$f":"IF(J$2019=1,\"\",IF(T1990=\"\",\"\",RIGHT(VLOOKUP(T1990,Tabelle!$B$5:$C$9,2,FALSE),5)))","v":""},null,null,null,null,null,null,null,{"$f":"IF(B1990=\"\",0,IF(B1990=B1989,COUNTIF(B$9:B1989,B1990)+1,1))","v":1978},0,0]
["1983","-1900","-1900-1979",null,null,null,null,null,null,null,null,null,null,null,null,null,null,null,null,null,{"$f":"IF(J$2019=1,\"\",IF(T1991=\"\",\"\",RIGHT(VLOOKUP(T1991,Tabelle!$B$5:$C$9,2,FALSE),5)))","v":""},null,null,null,null,null,null,null,{"$f":"IF(B1991=\"\",0,IF(B1991=B1990,COUNTIF(B$9:B1990,B1991)+1,1))","v":1979},0,0]
["1984","-1900","-1900-1980",null,null,null,null,null,null,null,null,null,null,null,null,null,null,null,null,null,{"$f":"IF(J$2019=1,\"\",IF(T1992=\"\",\"\",RIGHT(VLOOKUP(T1992,Tabelle!$B$5:$C$9,2,FALSE),5)))","v":""},null,null,null,null,null,null,null,{"$f":"IF(B1992=\"\",0,IF(B1992=B1991,COUNTIF(B$9:B1991,B1992)+1,1))","v":1980},0,0]
["1985","-1900","-1900-1981",null,null,null,null,null,null,null,null,null,null,null,null,null,null,null,null,null,{"$f":"IF(J$2019=1,\"\",IF(T1993=\"\",\"\",RIGHT(VLOOKUP(T1993,Tabelle!$B$5:$C$9,2,FALSE),5)))","v":""},null,null,null,null,null,null,null,{"$f":"IF(B1993=\"\",0,IF(B1993=B1992,COUNTIF(B$9:B1992,B1993)+1,1))","v":1981},0,0]
["1986",{"$f":"IF(AE1994=$AE$2013,0,IF(J$2019=1,0,D1994&\"-\"&YEAR(E1994)))","v":"-1900"},"-1900-1982",null,null,null,null,null,null,null,null,null,null,null,null,null,null,null,null,null,{"$f":"IF(J$2019=1,\"\",IF(T1994=\"\",\"\",RIGHT(VLOOKUP(T1994,Tabelle!$B$5:$C$9,2,FALSE),5)))","v":""},null,null,null,null,null,null,null,{"$f":"IF(B1994=\"\",0,IF(B1994=B1993,COUNTIF(B$9:B1993,B1994)+1,1))","v":1982},0,{"$f":"IF(E1994>0,IF(OR(MONTH(E1994)<$J$2025,MONTH(E1994)>$J$2026),AE$2013,0),0)","v":0}]
["1987","-1900","-1900-1983",null,null,null,null,null,null,null,null,null,null,null,null,null,null,null,null,null,{"$f":"IF(J$2019=1,\"\",IF(T1995=\"\",\"\",RIGHT(VLOOKUP(T1995,Tabelle!$B$5:$C$9,2,FALSE),5)))","v":""},null,null,null,null,null,null,null,{"$f":"IF(B1995=\"\",0,IF(B1995=B1994,COUNTIF(B$9:B1994,B1995)+1,1))","v":1983},0,0]
["1988","-1900","-1900-1984",null,null,null,null,null,null,null,null,null,null,null,null,null,null,null,null,null,{"$f":"IF(J$2019=1,\"\",IF(T1996=\"\",\"\",RIGHT(VLOOKUP(T1996,Tabelle!$B$5:$C$9,2,FALSE),5)))","v":""},null,null,null,null,null,null,null,{"$f":"IF(B1996=\"\",0,IF(B1996=B1995,COUNTIF(B$9:B1995,B1996)+1,1))","v":1984},0,0]
["1989","-1900","-1900-1985",null,null,null,null,null,null,null,null,null,null,null,null,null,null,null,null,null,{"$f":"IF(J$2019=1,\"\",IF(T1997=\"\",\"\",RIGHT(VLOOKUP(T1997,Tabelle!$B$5:$C$9,2,FALSE),5)))","v":""},null,null,null,null,null,null,null,{"$f":"IF(B1997=\"\",0,IF(B1997=B1996,COUNTIF(B$9:B1996,B1997)+1,1))","v":1985},0,0]
["1990","-1900","-1900-1986",null,null,null,null,null,null,null,null,null,null,null,null,null,null,null,null,null,{"$f":"IF(J$2019=1,\"\",IF(T1998=\"\",\"\",RIGHT(VLOOKUP(T1998,Tabelle!$B$5:$C$9,2,FALSE),5)))","v":""},null,null,null,null,null,null,null,{"$f":"IF(B1998=\"\",0,IF(B1998=B1997,COUNTIF(B$9:B1997,B1998)+1,1))","v":1986},0,0]
["1991","-1900","-1900-1987",null,null,null,null,null,null,null,null,null,null,null,null,null,null,null,null,null,{"$f":"IF(J$2019=1,\"\",IF(T1999=\"\",\"\",RIGHT(VLOOKUP(T1999,Tabelle!$B$5:$C$9,2,FALSE),5)))","v":""},null,null,null,null,null,null,null,{"$f":"IF(B1999=\"\",0,IF(B1999=B1998,COUNTIF(B$9:B1998,B1999)+1,1))","v":1987},0,0]
["1992","-1900","-1900-1988",null,null,null,null,null,null,null,null,null,null,null,null,null,null,null,null,null,{"$f":"IF(J$2019=1,\"\",IF(T2000=\"\",\"\",RIGHT(VLOOKUP(T2000,Tabelle!$B$5:$C$9,2,FALSE),5)))","v":""},null,null,null,null,null,null,null,{"$f":"IF(B2000=\"\",0,IF(B2000=B1999,COUNTIF(B$9:B1999,B2000)+1,1))","v":1988},0,0]
["1993","-1900","-1900-1989",null,null,null,null,null,null,null,null,null,null,null,null,null,null,null,null,null,{"$f":"IF(J$2019=1,\"\",IF(T2001=\"\",\"\",RIGHT(VLOOKUP(T2001,Tabelle!$B$5:$C$9,2,FALSE),5)))","v":""},null,null,null,null,null,null,null,{"$f":"IF(B2001=\"\",0,IF(B2001=B2000,COUNTIF(B$9:B2000,B2001)+1,1))","v":1989},0,0]
["1994","-1900","-1900-1990",null,null,null,null,null,null,null,null,null,null,null,null,null,null,null,null,null,{"$f":"IF(J$2019=1,\"\",IF(T2002=\"\",\"\",RIGHT(VLOOKUP(T2002,Tabelle!$B$5:$C$9,2,FALSE),5)))","v":""},null,null,null,null,null,null,null,{"$f":"IF(B2002=\"\",0,IF(B2002=B2001,COUNTIF(B$9:B2001,B2002)+1,1))","v":1990},0,0]
["1995","-1900","-1900-1991",null,null,null,null,null,null,null,null,null,null,null,null,null,null,null,null,null,{"$f":"IF(J$2019=1,\"\",IF(T2003=\"\",\"\",RIGHT(VLOOKUP(T2003,Tabelle!$B$5:$C$9,2,FALSE),5)))","v":""},null,null,null,null,null,null,null,{"$f":"IF(B2003=\"\",0,IF(B2003=B2002,COUNTIF(B$9:B2002,B2003)+1,1))","v":1991},0,0]
["1996","-1900","-1900-1992",null,null,null,null,null,null,null,null,null,null,null,null,null,null,null,null,null,{"$f":"IF(J$2019=1,\"\",IF(T2004=\"\",\"\",RIGHT(VLOOKUP(T2004,Tabelle!$B$5:$C$9,2,FALSE),5)))","v":""},null,null,null,null,null,null,null,{"$f":"IF(B2004=\"\",0,IF(B2004=B2003,COUNTIF(B$9:B2003,B2004)+1,1))","v":1992},0,0]
["1997","-1900","-1900-1993",null,null,null,null,null,null,null,null,null,null,null,null,null,null,null,null,null,{"$f":"IF(J$2019=1,\"\",IF(T2005=\"\",\"\",RIGHT(VLOOKUP(T2005,Tabelle!$B$5:$C$9,2,FALSE),5)))","v":""},null,null,null,null,null,null,null,{"$f":"IF(B2005=\"\",0,IF(B2005=B2004,COUNTIF(B$9:B2004,B2005)+1,1))","v":1993},{"$f":"IF(OR(D2005=\"\",J$2019=1),0,IF(AC2005=28,1,0))","v":0},0]
["1998","-1900","-1900-1994",null,null,null,null,null,null,null,null,null,null,null,null,null,null,null,null,null,{"$f":"IF(J$2019=1,\"\",IF(T2006=\"\",\"\",RIGHT(VLOOKUP(T2006,Tabelle!$B$5:$C$9,2,FALSE),5)))","v":""},null,null,null,null,null,null,null,{"$f":"IF(B2006=\"\",0,IF(B2006=B2005,COUNTIF(B$9:B2005,B2006)+1,1))","v":1994},{"$f":"IF(OR(D2006=\"\",J$2019=1),0,IF(AC2006=28,1,0))","v":0},0]
["1999","-1900",{"$f":"IF(J$2019=1,0,B2007&\"-\"&AC2007)","v":"-1900-1995"},null,null,null,null,null,null,null,null,null,null,null,null,null,null,null,null,null,{"$f":"IF(J$2019=1,\"\",IF(T2007=\"\",\"\",RIGHT(VLOOKUP(T2007,Tabelle!$B$5:$C$9,2,FALSE),5)))","v":""},null,null,null,null,null,null,null,{"$f":"IF(B2007=\"\",0,IF(B2007=B2006,COUNTIF(B$9:B2006,B2007)+1,1))","v":1995},{"$f":"IF(OR(D2007=\"\",J$2019=1),0,IF(AC2007=28,1,0))","v":0},0]
["2000","-1900",{"$f":"IF(J$2019=1,0,B2008&\"-\"&AC2008)","v":"-1900-1996"},null,null,null,null,null,null,null,null,null,null,null,null,null,null,null,null,null,{"$f":"IF(J$2019=1,\"\",IF(T2008=\"\",\"\",RIGHT(VLOOKUP(T2008,Tabelle!$B$5:$C$9,2,FALSE),5)))","v":""},null,null,null,null,null,null,null,{"$f":"IF(B2008=\"\",0,IF(B2008=B2007,COUNTIF(B$9:B2007,B2008)+1,1))","v":1996},{"$f":"IF(OR(D2008=\"\",J$2019=1),0,IF(AC2008=28,1,0))","v":0},0]
[]
[]
[null,null,null,null,null,null,"Righe di Prot.",{"$f":"SUBTOTAL(3,D9:D2008)","v":4},"Subtotali",null,"Saldo FINALE",null,{"$f":"SUBTOTAL(9,M9:M2008)","v":36889.96}]
[]
[null,null,null,null,null,null,null,null,{"$f":"CONTRIBUENTE!G13","v":""},null,null,null,null,null,null,null,null,null,null,null,null,null,null,null,null,null,"Hai dei PROTOCOLLI BLOCCATI nelle date di un trimestre al momento non attivato.",null,null,null,"P. B."]
[null,null,null,{"$f":"CONCATENATE(CONTRIBUENTE!I27,\"   -   www.marcopiccoli.it\")","v":"F24 Enti Pubblici 1.6 per Excel .xlsm   -   www.marcopiccoli.it"},null,null,null,null,{"$f":"IF(CONTRIBUENTE!J144=CONTRIBUENTE!K64,CONCATENATE(CONTRIBUENTE!F58,\"   -   \",\"P.I./C.F \",CONTRIBUENTE!K60),CONTRIBUENTE!J136)","v":"Sistema attivato dal 01/01 al 31/03. Modifica il trimestre dal foglio Presentazione."},null,null,null,null,null,null,null,null,null,null,null,null,null,null,null,null,null,"Modifica il trimestre dal foglio CONTRIBUENTE oppure richiedi il tuo codice di proprietà per l' attivazione illimitata.",null,null,null,{"$f":"COUNTIF(AE9:AE2008,AE2013)","v":0}]
[]
[]
[]
[null,null,null,null,null,null,null,"Integrità",null,"File scaduto","Proprietà",null,"Codice integrità"]
[null,null,null,{"$f":"Tabelle!E5","v":"B1"},{"$f":"Tabelle!B5","v":"C1"},null,null,{"$f":"CONTRIBUENTE!K138","v":4},null,{"$f":"CONTRIBUENTE!$H$138","v":0},{"$f":"CONTRIBUENTE!E139","v":0},null,1]
[null,null,null,{"$f":"Tabelle!E6","v":"B2"},{"$f":"Tabelle!B6","v":"C2"}]
[null,null,null,{"$f":"Tabelle!E7","v":"B3"},{"$f":"Tabelle!B7","v":"C3"}]
[null,null,null,null,{"$f":"Tabelle!B8","v":"C4"},null,"Protocolli",1]
[null,null,null,null,{"$f":"Tabelle!B9","v":"C5"},null,"disponibili",9999]
[]
[null,null,null,null,"1900-01-01","convalida START",null,null,null,{"$f":"IF(K2019=1,MONTH(E2025),MONTH(CONTRIBUENTE!$T$13))","v":1},"convalida Protocollo START MESE"]
[null,null,null,null,"2999-12-31","convalida END",null,null,null,{"$f":"IF(K2019=1,MONTH(E2026),MONTH(CONTRIBUENTE!$U$13))","v":3},"convalida Protocollo END MESE"]

{"sheet":"F24 Enti Pubblici","index":2,"n_rows":63,"n_cols":66,"rows_kept":63,"cut":false,"hidden":false,"merged":[[43,61,43,62],[44,61,44,62],[29,49,29,60],[30,49,30,60],[33,49,33,60],[34,49,34,60],[41,61,41,62],[42,61,42,62],[54,1,54,5],[39,49,39,60],[48,57,48,58],[48,59,48,61],[43,49,43,60],[48,49,48,50],[48,51,48,52],[48,53,48,54],[48,55,48,56],[44,35,44,41],[44,42,44,47],[48,35,48,36],[48,37,48,38],[48,39,48,40],[48,41,48,42],[48,43,48,44],[64,41,64,42],[61,12,61,18],[58,34,58,61],[59,12,59,18],[60,12,60,18],[62,12,62,18],[59,34,59,40],[61,19,61,25],[62,43,62,44],[60,34,60,38],[35,61,35,62],[36,61,36,62],[37,61,37,62],[38,61,38,62],[39,61,39,62],[40,61,40,62],[17,49,17,60],[18,49,18,60],[19,49,19,60],[20,49,20,60],[30,61,30,62],[31,61,31,62],[21,49,21,60],[22,49,22,60],[31,49,31,60],[22,61,22,62],[33,61,33,62],[34,61,34,62],[48,45,48,46],[48,47,48,48],[41,35,41,41],[41,42,41,47],[38,42,38,47],[39,35,39,41],[3,30,3,63],[40,49,40,60],[41,49,41,60],[42,49,42,60],[12,30,12,31],[14,46,14,47],[42,35,42,41],[42,42,42,47],[37,42,37,47],[38,35,38,41],[23,61,23,62],[24,61,24,62],[25,61,25,62],[14,30,14,31],[14,32,14,34],[14,44,14,45],[14,39,14,40],[18,21,18,34],[30,42,30,47],[10,13,10,14],[10,17,10,62],[12,34,12,35],[12,36,12,37],[12,38,12,39],[12,56,12,57],[12,58,12,59],[12,48,12,49],[12,50,12,51],[12,52,12,53],[12,54,12,55],[30,15,30,17],[23,21,23,34],[24,21,24,34],[25,21,25,34],[27,49,27,60],[28,49,28,60],[19,21,19,34],[20,21,20,34],[21,21,21,34],[22,21,22,34],[15,56,15,57],[15,40,15,41],[6,13,6,14],[8,13,8,62],[12,40,12,41],[12,42,12,43],[12,44,12,45],[12,46,12,47],[29,42,29,47],[27,35,27,41],[27,42,27,47],[28,35,28,41],[26,42,26,47],[22,42,22,47],[23,35,23,41],[23,42,23,47],[24,35,24,41],[24,42,24,47],[25,35,25,41],[25,42,25,47],[29,2,29,13],[18,18,18,20],[19,18,19,20],[20,18,20,20],[21,18,21,20],[22,18,22,20],[31,42,31,47],[32,42,32,47],[14,26,14,27],[32,61,32,62],[26,61,26,62],[27,61,27,62],[28,61,28,62],[29,61,29,62],[18,61,18,62],[19,61,19,62],[20,61,20,62],[21,61,21,62],[32,49,32,60],[23,49,23,60],[24,49,24,60],[25,49,25,60],[26,49,26,60],[15,34,15,35],[15,36,15,37],[15,38,15,39],[21,35,21,41],[21,42,21,47],[22,35,22,41],[26,35,26,41],[43,21,43,34],[38,21,38,34],[39,21,39,34],[30,2,30,13],[31,2,31,13],[36,21,36,34],[37,21,37,34],[29,21,29,34],[32,2,32,13],[33,21,33,34],[29,15,29,17],[34,18,34,20],[35,18,35,20],[30,18,30,20],[31,18,31,20],[32,18,32,20],[33,18,33,20],[34,21,34,34],[30,21,30,34],[31,21,31,34],[32,21,32,34],[31,15,31,17],[33,2,33,13],[35,2,35,13],[30,35,30,41],[31,35,31,41],[32,35,32,41],[33,35,33,41],[34,35,34,41],[26,21,26,34],[27,21,27,34],[28,21,28,34],[27,15,27,17],[28,15,28,17],[29,35,29,41],[44,18,44,20],[36,2,36,13],[37,2,37,13],[36,18,36,20],[37,18,37,20],[40,18,40,20],[41,18,41,20],[42,18,42,20],[43,18,43,20],[38,18,38,20],[38,15,38,17],[44,15,44,17],[25,18,25,20],[26,18,26,20],[27,18,27,20],[29,18,29,20],[34,2,34,13],[27,2,27,13],[28,2,28,13],[44,2,44,13],[12,32,12,33],[39,15,39,17],[42,2,42,13],[40,15,40,17],[41,15,41,17],[42,15,42,17],[43,15,43,17],[23,18,23,20],[39,18,39,20],[43,2,43,13],[32,15,32,17],[33,15,33,17],[34,15,34,17],[35,15,35,17],[36,15,36,17],[37,15,37,17],[22,15,22,17],[18,15,18,17],[19,15,19,17],[20,15,20,17],[21,15,21,17],[21,2,21,13],[22,2,22,13],[26,15,26,17],[23,2,23,13],[23,15,23,17],[15,3,15,4],[15,5,15,6],[15,7,15,8],[15,13,15,14],[15,26,15,27],[15,28,15,29],[15,30,15,31],[15,52,15,53],[15,54,15,55],[17,42,17,47],[17,61,17,62],[15,32,15,33],[15,50,15,51],[48,33,48,34],[40,21,40,34],[35,21,35,34],[48,27,48,28],[48,29,48,30],[48,31,48,32],[15,42,15,43],[15,44,15,45],[15,46,15,47],[15,48,15,49],[15,60,15,62],[41,21,41,34],[42,21,42,34],[44,21,44,34],[18,35,18,41],[18,42,18,47],[19,35,19,41],[19,42,19,47],[20,35,20,41],[20,42,20,47],[17,2,17,13],[17,15,17,17],[17,18,17,20],[17,21,17,34],[17,35,17,41],[48,2,48,3],[48,4,48,5],[48,6,48,7],[48,8,48,9],[48,13,48,14],[41,2,41,13],[38,2,38,13],[39,2,39,13],[40,2,40,13],[24,15,24,17],[25,15,25,17],[24,18,24,20],[28,18,28,20],[24,2,24,13],[25,2,25,13],[26,2,26,13],[18,2,18,13],[19,2,19,13],[20,2,20,13],[11,65,12,65],[62,51,62,53],[44,49,44,60],[46,41,46,60],[46,61,46,62],[35,49,35,60],[36,49,36,60],[37,49,37,60],[38,49,38,60],[15,58,15,59],[12,60,12,62],[28,42,28,47],[36,35,36,41],[36,42,36,47],[35,35,35,41],[33,42,33,47],[39,42,39,47],[34,42,34,47],[35,42,35,47],[37,35,37,41],[43,35,43,41],[43,42,43,47],[40,35,40,41],[40,42,40,47],[59,7,59,11],[60,7,60,11],[51,1,51,5],[52,6,52,17],[53,6,53,17],[54,6,54,17],[55,6,55,17],[60,3,60,5],[52,1,52,5],[53,1,53,5],[59,3,59,5]]}
[]
[null,null,null,null,null,null,null,null,null,null,null,null,null,null,null,null,null,null,null,null,null,null,null,null,null,null,null,null,null,null,null,null,null,null,null,null,null,null,null,null,null,null,null,null,null,null,null,null,null,null,null,null,null,null,null,null,null,null,null,null,null,null,null,null,null,"ANNO"]
[null,null,null,null,null,null,null,null,null,null,null,null,null,null,null,null,null,null,null,null,null,null,null,null,null,null,null,null,null,null,null,null,null,null,null,null,null,null,null,null,null,null,null,null,null,null,null,null,null,null,null,null,null,null,null,null,null,null,null,null,null,null,null,null,null,2024]
[null,null,null,null,null,null,null,null,null,null,null,null,null,null,null,null,null,null,null,null,null,null,null,null,null,null,null,null,null,null,{"$f":"VLOOKUP(VLOOKUP(BN5&\"-\"&BN3,'DETTAGLIO VERSAMENTO'!B9:W2008,22,FALSE),Tabelle!E5:F7,2,FALSE)","v":"NOME 1"},null,null,null,null,null,null,null,null,null,null,null,null,null,null,null,null,null,null,null,null,null,null,null,null,null,null,null,null,null,null,null,null,null,null,"Protocollo DOC."]
[null,null,null,null,null,null,null,null,null,null,null,null,null,null,null,null,null,null,null,null,null,null,null,null,null,null,null,null,null,null,null,null,null,null,null,null,null,null,null,null,null,null,null,null,null,null,null,null,null,null,null,null,null,null,null,null,null,null,null,null,null,null,null,null,null,1]
[]
[null,null,null,null,null,null,null,null,null,null,null,null,null,{"$f":"MID(CONTRIBUENTE!$E34,1,1)","v":"0"},null,{"$f":"MID(CONTRIBUENTE!$E34,2,1)","v":"1"},{"$f":"MID(CONTRIBUENTE!$E34,3,1)","v":"2"},{"$f":"MID(CONTRIBUENTE!$E34,4,1)","v":"3"},{"$f":"MID(CONTRIBUENTE!$E34,5,1)","v":"4"},{"$f":"MID(CONTRIBUENTE!$E34,6,1)","v":"5"},{"$f":"MID(CONTRIBUENTE!$E34,7,1)","v":"6"},{"$f":"MID(CONTRIBUENTE!$E34,8,1)","v":"7"},{"$f":"MID(CONTRIBUENTE!$E34,9,1)","v":"8"},{"$f":"MID(CONTRIBUENTE!$E34,10,1)","v":"9"},{"$f":"MID(CONTRIBUENTE!$E34,11,1)","v":"1"}]
[]
[null,null,null,null,null,null,null,null,null,null,null,null,null,{"$f":"CONTRIBUENTE!E36","v":"Anagrafica CONTRIBUENTE"}]
[]
[null,null,null,null,null,null,null,null,null,null,null,null,null,{"$f":"LEFT(CONTRIBUENTE!E39,1)","v":""},null,{"$f":"RIGHT(CONTRIBUENTE!E39,1)","v":""},null,{"$f":"CONTRIBUENTE!F39","v":0},null,null,null,null,null,null,null,null,null,null,null,null,null,null,null,null,null,null,null,null,null,null,null,null,null,null,null,null,null,null,null,null,null,null,null,null,null,null,null,null,null,null,null,null,null,null,null,"Alfanumerico"]
[null,null,null,null,null,null,null,null,null,null,null,null,null,null,null,null,null,null,null,null,null,null,null,null,null,null,null,null,null,null,null,null,null,null,null,null,null,null,null,null,null,null,null,null,null,null,null,null,null,null,null,null,null,null,null,null,null,null,null,null,null,null,null,null,null,{"$f":"VLOOKUP($BN$5&\"-\"&$BN$3,'DETTAGLIO VERSAMENTO'!$B$9:$Y$2008,24,FALSE)","v":"AB 000"}]
[null,null,null,null,null,null,null,null,null,null,null,null,null,null,null,null,null,null,null,null,null,null,null,null,null,null,null,null,null,null,{"$f":"MID(CONTRIBUENTE!$E42,1,1)","v":""},null,{"$f":"MID(CONTRIBUENTE!$E42,2,1)","v":""},null,{"$f":"MID(CONTRIBUENTE!$E42,3,1)","v":""},null,{"$f":"MID(CONTRIBUENTE!$E42,4,1)","v":""},null,{"$f":"MID(CONTRIBUENTE!$E42,5,1)","v":""},null,{"$f":"MID(CONTRIBUENTE!$E42,6,1)","v":""},null,{"$f":"MID(CONTRIBUENTE!$E42,7,1)","v":""},null,{"$f":"MID(CONTRIBUENTE!$E42,8,1)","v":""},null,{"$f":"MID(CONTRIBUENTE!$E42,9,1)","v":""},null,{"$f":"MID(CONTRIBUENTE!$E42,10,1)","v":""},null,{"$f":"MID(CONTRIBUENTE!$E42,11,1)","v":""},null,{"$f":"MID(CONTRIBUENTE!$E42,12,1)","v":""},null,{"$f":"MID(CONTRIBUENTE!$E42,13,1)","v":""},null,{"$f":"MID(CONTRIBUENTE!$E42,14,1)","v":""},null,{"$f":"MID(CONTRIBUENTE!$E42,15,1)","v":""},null,{"$f":"MID(CONTRIBUENTE!$E42,16,1)","v":""}]
[]
[null,null,null,null,null,null,null,null,null,null,null,null,null,null,null,null,null,null,null,null,null,null,null,null,null,null,null,null,null,null,null,null,null,null,null,null,null,null,null,null,null,null,null,null,null,null,null,null,null,null,null,null,null,null,null,null,null,null,null,null,null,null,null,null,null,{"$f":"T62","v":""}]
[null,null,null,{"$f":"IF(MID(TEXT(VLOOKUP($BN$5&\"-\"&$BN$3,'DETTAGLIO VERSAMENTO'!$B$9:$O$2008,14,FALSE),\"???\"),1,1)=\" \",0,MID(TEXT(VLOOKUP($BN$5&\"-\"&$BN$3,'DETTAGLIO VERSAMENTO'!$B$9:$O$2008,14,FALSE),\"???\"),1,1))","v":"A"},null,{"$f":"IF(MID(TEXT(VLOOKUP($BN$5&\"-\"&$BN$3,'DETTAGLIO VERSAMENTO'!$B$9:$O$2008,14,FALSE),\"???\"),2,1)=\" \",0,MID(TEXT(VLOOKUP($BN$5&\"-\"&$BN$3,'DETTAGLIO VERSAMENTO'!$B$9:$O$2008,14,FALSE),\"???\"),2,1))","v":"A"},null,{"$f":"IF(MID(TEXT(VLOOKUP($BN$5&\"-\"&$BN$3,'DETTAGLIO VERSAMENTO'!$B$9:$O$2008,14,FALSE),\"???\"),3,1)=\" \",0,MID(TEXT(VLOOKUP($BN$5&\"-\"&$BN$3,'DETTAGLIO VERSAMENTO'!$B$9:$O$2008,14,FALSE),\"???\"),3,1))","v":"A"},null,null,{"$f":"IF(MID(TEXT(VLOOKUP($BN$5&\"-\"&$BN$3,'DETTAGLIO VERSAMENTO'!$B$9:$P$2008,15,FALSE),\"???????????\"),1,1)=\" \",0,MID(TEXT(VLOOKUP($BN$5&\"-\"&$BN$3,'DETTAGLIO VERSAMENTO'!$B$9:$P$2008,15,FALSE),\"???????????\"),1,1))","v":0},{"$f":"IF(MID(TEXT(VLOOKUP($BN$5&\"-\"&$BN$3,'DETTAGLIO VERSAMENTO'!$B$9:$P$2008,15,FALSE),\"???????????\"),2,1)=\" \",0,MID(TEXT(VLOOKUP($BN$5&\"-\"&$BN$3,'DETTAGLIO VERSAMENTO'!$B$9:$P$2008,15,FALSE),\"???????????\"),2,1))","v":0},{"$f":"IF(MID(TEXT(VLOOKUP($BN$5&\"-\"&$BN$3,'DETTAGLIO VERSAMENTO'!$B$9:$P$2008,15,FALSE),\"???????????\"),3,1)=\" \",0,MID(TEXT(VLOOKUP($BN$5&\"-\"&$BN$3,'DETTAGLIO VERSAMENTO'!$B$9:$P$2008,15,FALSE),\"???????????\"),3,1))","v":0},{"$f":"IF(MID(TEXT(VLOOKUP($BN$5&\"-\"&$BN$3,'DETTAGLIO VERSAMENTO'!$B$9:$P$2008,15,FALSE),\"???????????\"),4,1)=\" \",0,MID(TEXT(VLOOKUP($BN$5&\"-\"&$BN$3,'DETTAGLIO VERSAMENTO'!$B$9:$P$2008,15,FALSE),\"???????????\"),4,1))","v":0},null,{"$f":"IF(MID(TEXT(VLOOKUP($BN$5&\"-\"&$BN$3,'DETTAGLIO VERSAMENTO'!$B$9:$P$2008,15,FALSE),\"???????????\"),5,1)=\" \",0,MID(TEXT(VLOOKUP($BN$5&\"-\"&$BN$3,'DETTAGLIO VERSAMENTO'!$B$9:$P$2008,15,FALSE),\"???????????\"),5,1))","v":0},{"$f":"IF(MID(TEXT(VLOOKUP($BN$5&\"-\"&$BN$3,'DETTAGLIO VERSAMENTO'!$B$9:$P$2008,15,FALSE),\"???????????\"),6,1)=\" \",0,MID(TEXT(VLOOKUP($BN$5&\"-\"&$BN$3,'DETTAGLIO VERSAMENTO'!$B$9:$P$2008,15,FALSE),\"???????????\"),6,1))","v":"1"},{"$f":"IF(MID(TEXT(VLOOKUP($BN$5&\"-\"&$BN$3,'DETTAGLIO VERSAMENTO'!$B$9:$P$2008,15,FALSE),\"???????????\"),7,1)=\" \",0,MID(TEXT(VLOOKUP($BN$5&\"-\"&$BN$3,'DETTAGLIO VERSAMENTO'!$B$9:$P$2008,15,FALSE),\"???????????\"),7,1))","v":"2"},{"$f":"IF(MID(TEXT(VLOOKUP($BN$5&\"-\"&$BN$3,'DETTAGLIO VERSAMENTO'!$B$9:$P$2008,15,FALSE),\"???????????\"),8,1)=\" \",0,MID(TEXT(VLOOKUP($BN$5&\"-\"&$BN$3,'DETTAGLIO VERSAMENTO'!$B$9:$P$2008,15,FALSE),\"???????????\"),8,1))","v":"3"},{"$f":"IF(MID(TEXT(VLOOKUP($BN$5&\"-\"&$BN$3,'DETTAGLIO VERSAMENTO'!$B$9:$P$2008,15,FALSE),\"???????????\"),9,1)=\" \",0,MID(TEXT(VLOOKUP($BN$5&\"-\"&$BN$3,'DETTAGLIO VERSAMENTO'!$B$9:$P$2008,15,FALSE),\"???????????\"),9,1))","v":"4"},{"$f":"IF(MID(TEXT(VLOOKUP($BN$5&\"-\"&$BN$3,'DETTAGLIO VERSAMENTO'!$B$9:$P$2008,15,FALSE),\"???????????\"),10,1)=\" \",0,MID(TEXT(VLOOKUP($BN$5&\"-\"&$BN$3,'DETTAGLIO VERSAMENTO'!$B$9:$P$2008,15,FALSE),\"???????????\"),10,1))","v":"5"},{"$f":"IF(MID(TEXT(VLOOKUP($BN$5&\"-\"&$BN$3,'DETTAGLIO VERSAMENTO'!$B$9:$P$2008,15,FALSE),\"???????????\"),11,1)=\" \",0,MID(TEXT(VLOOKUP($BN$5&\"-\"&$BN$3,'DETTAGLIO VERSAMENTO'!$B$9:$P$2008,15,FALSE),\"???????????\"),11,1))","v":"6"},null,null,null,null,{"$f":"MID(VLOOKUP($BN$5&\"-\"&$BN$3,'DETTAGLIO VERSAMENTO'!$B$9:$R$2008,17,FALSE),1,1)","v":"Z"},null,{"$f":"MID(VLOOKUP($BN$5&\"-\"&$BN$3,'DETTAGLIO VERSAMENTO'!$B$9:$R$2008,17,FALSE),2,1)","v":"Z"},null,{"$f":"MID(VLOOKUP($BN$5&\"-\"&$BN$3,'DETTAGLIO VERSAMENTO'!$B$9:$R$2008,17,FALSE),3,1)","v":"Z"},null,{"$f":"MID(VLOOKUP($BN$5&\"-\"&$BN$3,'DETTAGLIO VERSAMENTO'!$B$9:$R$2008,17,FALSE),4,1)","v":"9"},null,{"$f":"MID(VLOOKUP($BN$5&\"-\"&$BN$3,'DETTAGLIO VERSAMENTO'!$B$9:$R$2008,17,FALSE),5,1)","v":"9"},null,{"$f":"MID(VLOOKUP($BN$5&\"-\"&$BN$3,'DETTAGLIO VERSAMENTO'!$B$9:$R$2008,17,FALSE),6,1)","v":"9"},null,{"$f":"MID(VLOOKUP($BN$5&\"-\"&$BN$3,'DETTAGLIO VERSAMENTO'!$B$9:$R$2008,17,FALSE),7,1)","v":"X"},null,{"$f":"MID(VLOOKUP($BN$5&\"-\"&$BN$3,'DETTAGLIO VERSAMENTO'!$B$9:$R$2008,17,FALSE),8,1)","v":"X"},null,{"$f":"MID(VLOOKUP($BN$5&\"-\"&$BN$3,'DETTAGLIO VERSAMENTO'!$B$9:$R$2008,17,FALSE),9,1)","v":"X"},null,{"$f":"MID(VLOOKUP($BN$5&\"-\"&$BN$3,'DETTAGLIO VERSAMENTO'!$B$9:$R$2008,17,FALSE),10,1)","v":""},null,{"$f":"MID(VLOOKUP($BN$5&\"-\"&$BN$3,'DETTAGLIO VERSAMENTO'!$B$9:$R$2008,17,FALSE),11,1)","v":""},null,{"$f":"MID(VLOOKUP($BN$5&\"-\"&$BN$3,'DETTAGLIO VERSAMENTO'!$B$9:$R$2008,17,FALSE),12,1)","v":""},null,{"$f":"MID(VLOOKUP($BN$5&\"-\"&$BN$3,'DETTAGLIO VERSAMENTO'!$B$9:$R$2008,17,FALSE),13,1)","v":""},null,{"$f":"MID(VLOOKUP($BN$5&\"-\"&$BN$3,'DETTAGLIO VERSAMENTO'!$B$9:$R$2008,17,FALSE),14,1)","v":""},null,{"$f":"MID(VLOOKUP($BN$5&\"-\"&$BN$3,'DETTAGLIO VERSAMENTO'!$B$9:$R$2008,17,FALSE),15,1)","v":""},null,{"$f":"MID(VLOOKUP($BN$5&\"-\"&$BN$3,'DETTAGLIO VERSAMENTO'!$B$9:$R$2008,17,FALSE),16,1)","v":""},null,{"$f":"MID(VLOOKUP($BN$5&\"-\"&$BN$3,'DETTAGLIO VERSAMENTO'!$B$9:$R$2008,17,FALSE),17,1)","v":""},null,{"$f":"MID(VLOOKUP($BN$5&\"-\"&$BN$3,'DETTAGLIO VERSAMENTO'!$B$9:$R$2008,17,FALSE),18,1)","v":""}]
[null,null,null,null,null,null,null,null,null,null,null,null,null,null,null,null,null,null,null,null,null,null,null,null,null,null,null,null,null,null,null,null,null,null,null,null,null,null,null,null,null,null,null,null,null,null,null,null,null,null,null,null,null,null,null,null,null,null,null,null,null,null,null,null,null,"Note"]
[1,null,{"$f":"VLOOKUP($BN$5&\"-\"&$BN$3&\"-\"&A18,'DETTAGLIO VERSAMENTO'!$C$9:$G$2008,5,FALSE)","v":"0003"},null,null,null,null,null,null,null,null,null,null,null,null,{"$f":"VLOOKUP($BN$5&\"-\"&$BN$3&\"-\"&A18,'DETTAGLIO VERSAMENTO'!$C$9:$H$2008,6,FALSE)","v":"01 01"},null,null,{"$f":"VLOOKUP($BN$5&\"-\"&$BN$3&\"-\"&A18,'DETTAGLIO VERSAMENTO'!$C$9:$I$2008,7,FALSE)","v":2020},null,null,{"$f":"VLOOKUP($BN$5&\"-\"&$BN$3&\"-\"&A18,'DETTAGLIO VERSAMENTO'!$C$9:$J$2008,8,FALSE)","v":12345678},null,null,null,null,null,null,null,null,null,null,null,null,null,{"$f":"VLOOKUP($BN$5&\"-\"&$BN$3&\"-\"&A18,'DETTAGLIO VERSAMENTO'!$C$9:$K$2008,9,FALSE)","v":51487},null,null,null,null,null,null,{"$f":"VLOOKUP($BN$5&\"-\"&$BN$3&\"-\"&A18,'DETTAGLIO VERSAMENTO'!$C$9:$L$2008,10,FALSE)","v":125},null,null,null,null,null,null,{"$f":"FLOOR(VLOOKUP($BN$5&\"-\"&$BN$3&\"-\"&A18,'DETTAGLIO VERSAMENTO'!$C$9:$M$2008,11,FALSE),1)","v":12345},null,null,null,null,null,null,null,null,null,null,null,{"$f":"LEFT(RIGHT(TEXT(VLOOKUP($BN$5&\"-\"&$BN$3&\"-\"&A18,'DETTAGLIO VERSAMENTO'!$C$9:$M$2008,11,FALSE),\"0,00\"),2),1)","v":"9"},null,{"$f":"RIGHT(TEXT(VLOOKUP($BN$5&\"-\"&$BN$3&\"-\"&A18,'DETTAGLIO VERSAMENTO'!$C$9:$M$2008,11,FALSE),\"0,00\"),1)","v":"8"},null,{"$f":"VLOOKUP($BN$5&\"-\"&$BN$3&\"-\"&A18,'DETTAGLIO VERSAMENTO'!$C$9:$AA$2008,25,FALSE)","v":"Testo Libero"}]
[2,null,{"$f":"VLOOKUP($BN$5&\"-\"&$BN$3&\"-\"&A19,'DETTAGLIO VERSAMENTO'!$C$9:$G$2008,5,FALSE)","v":{"$error":"#N/A"}},null,null,null,null,null,null,null,null,null,null,null,null,{"$f":"VLOOKUP($BN$5&\"-\"&$BN$3&\"-\"&A19,'DETTAGLIO VERSAMENTO'!$C$9:$H$2008,6,FALSE)","v":{"$error":"#N/A"}},null,null,{"$f":"VLOOKUP($BN$5&\"-\"&$BN$3&\"-\"&A19,'DETTAGLIO VERSAMENTO'!$C$9:$I$2008,7,FALSE)","v":{"$error":"#N/A"}},null,null,{"$f":"VLOOKUP($BN$5&\"-\"&$BN$3&\"-\"&A19,'DETTAGLIO VERSAMENTO'!$C$9:$J$2008,8,FALSE)","v":{"$error":"#N/A"}},null,null,null,null,null,null,null,null,null,null,null,null,null,{"$f":"VLOOKUP($BN$5&\"-\"&$BN$3&\"-\"&A19,'DETTAGLIO VERSAMENTO'!$C$9:$K$2008,9,FALSE)","v":{"$error":"#N/A"}},null,null,null,null,null,null,{"$f":"VLOOKUP($BN$5&\"-\"&$BN$3&\"-\"&A19,'DETTAGLIO VERSAMENTO'!$C$9:$L$2008,10,FALSE)","v":{"$error":"#N/A"}},null,null,null,null,null,null,{"$f":"FLOOR(VLOOKUP($BN$5&\"-\"&$BN$3&\"-\"&A19,'DETTAGLIO VERSAMENTO'!$C$9:$M$2008,11,FALSE),1)","v":{"$error":"#N/A"}},null,null,null,null,null,null,null,null,null,null,null,{"$f":"LEFT(RIGHT(TEXT(VLOOKUP($BN$5&\"-\"&$BN$3&\"-\"&A19,'DETTAGLIO VERSAMENTO'!$C$9:$M$2008,11,FALSE),\"0,00\"),2),1)","v":{"$error":"#N/A"}},null,{"$f":"RIGHT(TEXT(VLOOKUP($BN$5&\"-\"&$BN$3&\"-\"&A19,'DETTAGLIO VERSAMENTO'!$C$9:$M$2008,11,FALSE),\"0,00\"),1)","v":{"$error":"#N/A"}},null,{"$f":"VLOOKUP($BN$5&\"-\"&$BN$3&\"-\"&A19,'DETTAGLIO VERSAMENTO'!$C$9:$AA$2008,25,FALSE)","v":{"$error":"#N/A"}}]
[3,null,{"$f":"VLOOKUP($BN$5&\"-\"&$BN$3&\"-\"&A20,'DETTAGLIO VERSAMENTO'!$C$9:$G$2008,5,FALSE)","v":{"$error":"#N/A"}},null,null,null,null,null,null,null,null,null,null,null,null,{"$f":"VLOOKUP($BN$5&\"-\"&$BN$3&\"-\"&A20,'DETTAGLIO VERSAMENTO'!$C$9:$H$2008,6,FALSE)","v":{"$error":"#N/A"}},null,null,{"$f":"VLOOKUP($BN$5&\"-\"&$BN$3&\"-\"&A20,'DETTAGLIO VERSAMENTO'!$C$9:$I$2008,7,FALSE)","v":{"$error":"#N/A"}},null,null,{"$f":"VLOOKUP($BN$5&\"-\"&$BN$3&\"-\"&A20,'DETTAGLIO VERSAMENTO'!$C$9:$J$2008,8,FALSE)","v":{"$error":"#N/A"}},null,null,null,null,null,null,null,null,null,null,null,null,null,{"$f":"VLOOKUP($BN$5&\"-\"&$BN$3&\"-\"&A20,'DETTAGLIO VERSAMENTO'!$C$9:$K$2008,9,FALSE)","v":{"$error":"#N/A"}},null,null,null,null,null,null,{"$f":"VLOOKUP($BN$5&\"-\"&$BN$3&\"-\"&A20,'DETTAGLIO VERSAMENTO'!$C$9:$L$2008,10,FALSE)","v":{"$error":"#N/A"}},null,null,null,null,null,null,{"$f":"FLOOR(VLOOKUP($BN$5&\"-\"&$BN$3&\"-\"&A20,'DETTAGLIO VERSAMENTO'!$C$9:$M$2008,11,FALSE),1)","v":{"$error":"#N/A"}},null,null,null,null,null,null,null,null,null,null,null,{"$f":"LEFT(RIGHT(TEXT(VLOOKUP($BN$5&\"-\"&$BN$3&\"-\"&A20,'DETTAGLIO VERSAMENTO'!$C$9:$M$2008,11,FALSE),\"0,00\"),2),1)","v":{"$error":"#N/A"}},null,{"$f":"RIGHT(TEXT(VLOOKUP($BN$5&\"-\"&$BN$3&\"-\"&A20,'DETTAGLIO VERSAMENTO'!$C$9:$M$2008,11,FALSE),\"0,00\"),1)","v":{"$error":"#N/A"}},null,{"$f":"VLOOKUP($BN$5&\"-\"&$BN$3&\"-\"&A20,'DETTAGLIO VERSAMENTO'!$C$9:$AA$2008,25,FALSE)","v":{"$error":"#N/A"}}]
[4,null,{"$f":"VLOOKUP($BN$5&\"-\"&$BN$3&\"-\"&A21,'DETTAGLIO VERSAMENTO'!$C$9:$G$2008,5,FALSE)","v":{"$error":"#N/A"}},null,null,null,null,null,null,null,null,null,null,null,null,{"$f":"VLOOKUP($BN$5&\"-\"&$BN$3&\"-\"&A21,'DETTAGLIO VERSAMENTO'!$C$9:$H$2008,6,FALSE)","v":{"$error":"#N/A"}},null,null,{"$f":"VLOOKUP($BN$5&\"-\"&$BN$3&\"-\"&A21,'DETTAGLIO VERSAMENTO'!$C$9:$I$2008,7,FALSE)","v":{"$error":"#N/A"}},null,null,{"$f":"VLOOKUP($BN$5&\"-\"&$BN$3&\"-\"&A21,'DETTAGLIO VERSAMENTO'!$C$9:$J$2008,8,FALSE)","v":{"$error":"#N/A"}},null,null,null,null,null,null,null,null,null,null,null,null,null,{"$f":"VLOOKUP($BN$5&\"-\"&$BN$3&\"-\"&A21,'DETTAGLIO VERSAMENTO'!$C$9:$K$2008,9,FALSE)","v":{"$error":"#N/A"}},null,null,null,null,null,null,{"$f":"VLOOKUP($BN$5&\"-\"&$BN$3&\"-\"&A21,'DETTAGLIO VERSAMENTO'!$C$9:$L$2008,10,FALSE)","v":{"$error":"#N/A"}},null,null,null,null,null,null,{"$f":"FLOOR(VLOOKUP($BN$5&\"-\"&$BN$3&\"-\"&A21,'DETTAGLIO VERSAMENTO'!$C$9:$M$2008,11,FALSE),1)","v":{"$error":"#N/A"}},null,null,null,null,null,null,null,null,null,null,null,{"$f":"LEFT(RIGHT(TEXT(VLOOKUP($BN$5&\"-\"&$BN$3&\"-\"&A21,'DETTAGLIO VERSAMENTO'!$C$9:$M$2008,11,FALSE),\"0,00\"),2),1)","v":{"$error":"#N/A"}},null,{"$f":"RIGHT(TEXT(VLOOKUP($BN$5&\"-\"&$BN$3&\"-\"&A21,'DETTAGLIO VERSAMENTO'!$C$9:$M$2008,11,FALSE),\"0,00\"),1)","v":{"$error":"#N/A"}},null,{"$f":"VLOOKUP($BN$5&\"-\"&$BN$3&\"-\"&A21,'DETTAGLIO VERSAMENTO'!$C$9:$AA$2008,25,FALSE)","v":{"$error":"#N/A"}}]
[5,null,{"$f":"VLOOKUP($BN$5&\"-\"&$BN$3&\"-\"&A22,'DETTAGLIO VERSAMENTO'!$C$9:$G$2008,5,FALSE)","v":{"$error":"#N/A"}},null,null,null,null,null,null,null,null,null,null,null,null,{"$f":"VLOOKUP($BN$5&\"-\"&$BN$3&\"-\"&A22,'DETTAGLIO VERSAMENTO'!$C$9:$H$2008,6,FALSE)","v":{"$error":"#N/A"}},null,null,{"$f":"VLOOKUP($BN$5&\"-\"&$BN$3&\"-\"&A22,'DETTAGLIO VERSAMENTO'!$C$9:$I$2008,7,FALSE)","v":{"$error":"#N/A"}},null,null,{"$f":"VLOOKUP($BN$5&\"-\"&$BN$3&\"-\"&A22,'DETTAGLIO VERSAMENTO'!$C$9:$J$2008,8,FALSE)","v":{"$error":"#N/A"}},null,null,null,null,null,null,null,null,null,null,null,null,null,{"$f":"VLOOKUP($BN$5&\"-\"&$BN$3&\"-\"&A22,'DETTAGLIO VERSAMENTO'!$C$9:$K$2008,9,FALSE)","v":{"$error":"#N/A"}},null,null,null,null,null,null,{"$f":"VLOOKUP($BN$5&\"-\"&$BN$3&\"-\"&A22,'DETTAGLIO VERSAMENTO'!$C$9:$L$2008,10,FALSE)","v":{"$error":"#N/A"}},null,null,null,null,null,null,{"$f":"FLOOR(VLOOKUP($BN$5&\"-\"&$BN$3&\"-\"&A22,'DETTAGLIO VERSAMENTO'!$C$9:$M$2008,11,FALSE),1)","v":{"$error":"#N/A"}},null,null,null,null,null,null,null,null,null,null,null,{"$f":"LEFT(RIGHT(TEXT(VLOOKUP($BN$5&\"-\"&$BN$3&\"-\"&A22,'DETTAGLIO VERSAMENTO'!$C$9:$M$2008,11,FALSE),\"0,00\"),2),1)","v":{"$error":"#N/A"}},null,{"$f":"RIGHT(TEXT(VLOOKUP($BN$5&\"-\"&$BN$3&\"-\"&A22,'DETTAGLIO VERSAMENTO'!$C$9:$M$2008,11,FALSE),\"0,00\"),1)","v":{"$error":"#N/A"}},null,{"$f":"VLOOKUP($BN$5&\"-\"&$BN$3&\"-\"&A22,'DETTAGLIO VERSAMENTO'!$C$9:$AA$2008,25,FALSE)","v":{"$error":"#N/A"}}]
[6,null,{"$f":"VLOOKUP($BN$5&\"-\"&$BN$3&\"-\"&A23,'DETTAGLIO VERSAMENTO'!$C$9:$G$2008,5,FALSE)","v":{"$error":"#N/A"}},null,null,null,null,null,null,null,null,null,null,null,null,{"$f":"VLOOKUP($BN$5&\"-\"&$BN$3&\"-\"&A23,'DETTAGLIO VERSAMENTO'!$C$9:$H$2008,6,FALSE)","v":{"$error":"#N/A"}},null,null,{"$f":"VLOOKUP($BN$5&\"-\"&$BN$3&\"-\"&A23,'DETTAGLIO VERSAMENTO'!$C$9:$I$2008,7,FALSE)","v":{"$error":"#N/A"}},null,null,{"$f":"VLOOKUP($BN$5&\"-\"&$BN$3&\"-\"&A23,'DETTAGLIO VERSAMENTO'!$C$9:$J$2008,8,FALSE)","v":{"$error":"#N/A"}},null,null,null,null,null,null,null,null,null,null,null,null,null,{"$f":"VLOOKUP($BN$5&\"-\"&$BN$3&\"-\"&A23,'DETTAGLIO VERSAMENTO'!$C$9:$K$2008,9,FALSE)","v":{"$error":"#N/A"}},null,null,null,null,null,null,{"$f":"VLOOKUP($BN$5&\"-\"&$BN$3&\"-\"&A23,'DETTAGLIO VERSAMENTO'!$C$9:$L$2008,10,FALSE)","v":{"$error":"#N/A"}},null,null,null,null,null,null,{"$f":"FLOOR(VLOOKUP($BN$5&\"-\"&$BN$3&\"-\"&A23,'DETTAGLIO VERSAMENTO'!$C$9:$M$2008,11,FALSE),1)","v":{"$error":"#N/A"}},null,null,null,null,null,null,null,null,null,null,null,{"$f":"LEFT(RIGHT(TEXT(VLOOKUP($BN$5&\"-\"&$BN$3&\"-\"&A23,'DETTAGLIO VERSAMENTO'!$C$9:$M$2008,11,FALSE),\"0,00\"),2),1)","v":{"$error":"#N/A"}},null,{"$f":"RIGHT(TEXT(VLOOKUP($BN$5&\"-\"&$BN$3&\"-\"&A23,'DETTAGLIO VERSAMENTO'!$C$9:$M$2008,11,FALSE),\"0,00\"),1)","v":{"$error":"#N/A"}},null,{"$f":"VLOOKUP($BN$5&\"-\"&$BN$3&\"-\"&A23,'DETTAGLIO VERSAMENTO'!$C$9:$AA$2008,25,FALSE)","v":{"$error":"#N/A"}}]
[7,null,{"$f":"VLOOKUP($BN$5&\"-\"&$BN$3&\"-\"&A24,'DETTAGLIO VERSAMENTO'!$C$9:$G$2008,5,FALSE)","v":{"$error":"#N/A"}},null,null,null,null,null,null,null,null,null,null,null,null,{"$f":"VLOOKUP($BN$5&\"-\"&$BN$3&\"-\"&A24,'DETTAGLIO VERSAMENTO'!$C$9:$H$2008,6,FALSE)","v":{"$error":"#N/A"}},null,null,{"$f":"VLOOKUP($BN$5&\"-\"&$BN$3&\"-\"&A24,'DETTAGLIO VERSAMENTO'!$C$9:$I$2008,7,FALSE)","v":{"$error":"#N/A"}},null,null,{"$f":"VLOOKUP($BN$5&\"-\"&$BN$3&\"-\"&A24,'DETTAGLIO VERSAMENTO'!$C$9:$J$2008,8,FALSE)","v":{"$error":"#N/A"}},null,null,null,null,null,null,null,null,null,null,null,null,null,{"$f":"VLOOKUP($BN$5&\"-\"&$BN$3&\"-\"&A24,'DETTAGLIO VERSAMENTO'!$C$9:$K$2008,9,FALSE)","v":{"$error":"#N/A"}},null,null,null,null,null,null,{"$f":"VLOOKUP($BN$5&\"-\"&$BN$3&\"-\"&A24,'DETTAGLIO VERSAMENTO'!$C$9:$L$2008,10,FALSE)","v":{"$error":"#N/A"}},null,null,null,null,null,null,{"$f":"FLOOR(VLOOKUP($BN$5&\"-\"&$BN$3&\"-\"&A24,'DETTAGLIO VERSAMENTO'!$C$9:$M$2008,11,FALSE),1)","v":{"$error":"#N/A"}},null,null,null,null,null,null,null,null,null,null,null,{"$f":"LEFT(RIGHT(TEXT(VLOOKUP($BN$5&\"-\"&$BN$3&\"-\"&A24,'DETTAGLIO VERSAMENTO'!$C$9:$M$2008,11,FALSE),\"0,00\"),2),1)","v":{"$error":"#N/A"}},null,{"$f":"RIGHT(TEXT(VLOOKUP($BN$5&\"-\"&$BN$3&\"-\"&A24,'DETTAGLIO VERSAMENTO'!$C$9:$M$2008,11,FALSE),\"0,00\"),1)","v":{"$error":"#N/A"}},null,{"$f":"VLOOKUP($BN$5&\"-\"&$BN$3&\"-\"&A24,'DETTAGLIO VERSAMENTO'!$C$9:$AA$2008,25,FALSE)","v":{"$error":"#N/A"}}]
[8,null,{"$f":"VLOOKUP($BN$5&\"-\"&$BN$3&\"-\"&A25,'DETTAGLIO VERSAMENTO'!$C$9:$G$2008,5,FALSE)","v":{"$error":"#N/A"}},null,null,null,null,null,null,null,null,null,null,null,null,{"$f":"VLOOKUP($BN$5&\"-\"&$BN$3&\"-\"&A25,'DETTAGLIO VERSAMENTO'!$C$9:$H$2008,6,FALSE)","v":{"$error":"#N/A"}},null,null,{"$f":"VLOOKUP($BN$5&\"-\"&$BN$3&\"-\"&A25,'DETTAGLIO VERSAMENTO'!$C$9:$I$2008,7,FALSE)","v":{"$error":"#N/A"}},null,null,{"$f":"VLOOKUP($BN$5&\"-\"&$BN$3&\"-\"&A25,'DETTAGLIO VERSAMENTO'!$C$9:$J$2008,8,FALSE)","v":{"$error":"#N/A"}},null,null,null,null,null,null,null,null,null,null,null,null,null,{"$f":"VLOOKUP($BN$5&\"-\"&$BN$3&\"-\"&A25,'DETTAGLIO VERSAMENTO'!$C$9:$K$2008,9,FALSE)","v":{"$error":"#N/A"}},null,null,null,null,null,null,{"$f":"VLOOKUP($BN$5&\"-\"&$BN$3&\"-\"&A25,'DETTAGLIO VERSAMENTO'!$C$9:$L$2008,10,FALSE)","v":{"$error":"#N/A"}},null,null,null,null,null,null,{"$f":"FLOOR(VLOOKUP($BN$5&\"-\"&$BN$3&\"-\"&A25,'DETTAGLIO VERSAMENTO'!$C$9:$M$2008,11,FALSE),1)","v":{"$error":"#N/A"}},null,null,null,null,null,null,null,null,null,null,null,{"$f":"LEFT(RIGHT(TEXT(VLOOKUP($BN$5&\"-\"&$BN$3&\"-\"&A25,'DETTAGLIO VERSAMENTO'!$C$9:$M$2008,11,FALSE),\"0,00\"),2),1)","v":{"$error":"#N/A"}},null,{"$f":"RIGHT(TEXT(VLOOKUP($BN$5&\"-\"&$BN$3&\"-\"&A25,'DETTAGLIO VERSAMENTO'!$C$9:$M$2008,11,FALSE),\"0,00\"),1)","v":{"$error":"#N/A"}},null,{"$f":"VLOOKUP($BN$5&\"-\"&$BN$3&\"-\"&A25,'DETTAGLIO VERSAMENTO'!$C$9:$AA$2008,25,FALSE)","v":{"$error":"#N/A"}}]
[9,null,{"$f":"VLOOKUP($BN$5&\"-\"&$BN$3&\"-\"&A26,'DETTAGLIO VERSAMENTO'!$C$9:$G$2008,5,FALSE)","v":{"$error":"#N/A"}},null,null,null,null,null,null,null,null,null,null,null,null,{"$f":"VLOOKUP($BN$5&\"-\"&$BN$3&\"-\"&A26,'DETTAGLIO VERSAMENTO'!$C$9:$H$2008,6,FALSE)","v":{"$error":"#N/A"}},null,null,{"$f":"VLOOKUP($BN$5&\"-\"&$BN$3&\"-\"&A26,'DETTAGLIO VERSAMENTO'!$C$9:$I$2008,7,FALSE)","v":{"$error":"#N/A"}},null,null,{"$f":"VLOOKUP($BN$5&\"-\"&$BN$3&\"-\"&A26,'DETTAGLIO VERSAMENTO'!$C$9:$J$2008,8,FALSE)","v":{"$error":"#N/A"}},null,null,null,null,null,null,null,null,null,null,null,null,null,{"$f":"VLOOKUP($BN$5&\"-\"&$BN$3&\"-\"&A26,'DETTAGLIO VERSAMENTO'!$C$9:$K$2008,9,FALSE)","v":{"$error":"#N/A"}},null,null,null,null,null,null,{"$f":"VLOOKUP($BN$5&\"-\"&$BN$3&\"-\"&A26,'DETTAGLIO VERSAMENTO'!$C$9:$L$2008,10,FALSE)","v":{"$error":"#N/A"}},null,null,null,null,null,null,{"$f":"FLOOR(VLOOKUP($BN$5&\"-\"&$BN$3&\"-\"&A26,'DETTAGLIO VERSAMENTO'!$C$9:$M$2008,11,FALSE),1)","v":{"$error":"#N/A"}},null,null,null,null,null,null,null,null,null,null,null,{"$f":"LEFT(RIGHT(TEXT(VLOOKUP($BN$5&\"-\"&$BN$3&\"-\"&A26,'DETTAGLIO VERSAMENTO'!$C$9:$M$2008,11,FALSE),\"0,00\"),2),1)","v":{"$error":"#N/A"}},null,{"$f":"RIGHT(TEXT(VLOOKUP($BN$5&\"-\"&$BN$3&\"-\"&A26,'DETTAGLIO VERSAMENTO'!$C$9:$M$2008,11,FALSE),\"0,00\"),1)","v":{"$error":"#N/A"}},null,{"$f":"VLOOKUP($BN$5&\"-\"&$BN$3&\"-\"&A26,'DETTAGLIO VERSAMENTO'!$C$9:$AA$2008,25,FALSE)","v":{"$error":"#N/A"}}]
[10,null,{"$f":"VLOOKUP($BN$5&\"-\"&$BN$3&\"-\"&A27,'DETTAGLIO VERSAMENTO'!$C$9:$G$2008,5,FALSE)","v":{"$error":"#N/A"}},null,null,null,null,null,null,null,null,null,null,null,null,{"$f":"VLOOKUP($BN$5&\"-\"&$BN$3&\"-\"&A27,'DETTAGLIO VERSAMENTO'!$C$9:$H$2008,6,FALSE)","v":{"$error":"#N/A"}},null,null,{"$f":"VLOOKUP($BN$5&\"-\"&$BN$3&\"-\"&A27,'DETTAGLIO VERSAMENTO'!$C$9:$I$2008,7,FALSE)","v":{"$error":"#N/A"}},null,null,{"$f":"VLOOKUP($BN$5&\"-\"&$BN$3&\"-\"&A27,'DETTAGLIO VERSAMENTO'!$C$9:$J$2008,8,FALSE)","v":{"$error":"#N/A"}},null,null,null,null,null,null,null,null,null,null,null,null,null,{"$f":"VLOOKUP($BN$5&\"-\"&$BN$3&\"-\"&A27,'DETTAGLIO VERSAMENTO'!$C$9:$K$2008,9,FALSE)","v":{"$error":"#N/A"}},null,null,null,null,null,null,{"$f":"VLOOKUP($BN$5&\"-\"&$BN$3&\"-\"&A27,'DETTAGLIO VERSAMENTO'!$C$9:$L$2008,10,FALSE)","v":{"$error":"#N/A"}},null,null,null,null,null,null,{"$f":"FLOOR(VLOOKUP($BN$5&\"-\"&$BN$3&\"-\"&A27,'DETTAGLIO VERSAMENTO'!$C$9:$M$2008,11,FALSE),1)","v":{"$error":"#N/A"}},null,null,null,null,null,null,null,null,null,null,null,{"$f":"LEFT(RIGHT(TEXT(VLOOKUP($BN$5&\"-\"&$BN$3&\"-\"&A27,'DETTAGLIO VERSAMENTO'!$C$9:$M$2008,11,FALSE),\"0,00\"),2),1)","v":{"$error":"#N/A"}},null,{"$f":"RIGHT(TEXT(VLOOKUP($BN$5&\"-\"&$BN$3&\"-\"&A27,'DETTAGLIO VERSAMENTO'!$C$9:$M$2008,11,FALSE),\"0,00\"),1)","v":{"$error":"#N/A"}},null,{"$f":"VLOOKUP($BN$5&\"-\"&$BN$3&\"-\"&A27,'DETTAGLIO VERSAMENTO'!$C$9:$AA$2008,25,FALSE)","v":{"$error":"#N/A"}}]
[11,null,{"$f":"VLOOKUP($BN$5&\"-\"&$BN$3&\"-\"&A28,'DETTAGLIO VERSAMENTO'!$C$9:$G$2008,5,FALSE)","v":{"$error":"#N/A"}},null,null,null,null,null,null,null,null,null,null,null,null,{"$f":"VLOOKUP($BN$5&\"-\"&$BN$3&\"-\"&A28,'DETTAGLIO VERSAMENTO'!$C$9:$H$2008,6,FALSE)","v":{"$error":"#N/A"}},null,null,{"$f":"VLOOKUP($BN$5&\"-\"&$BN$3&\"-\"&A28,'DETTAGLIO VERSAMENTO'!$C$9:$I$2008,7,FALSE)","v":{"$error":"#N/A"}},null,null,{"$f":"VLOOKUP($BN$5&\"-\"&$BN$3&\"-\"&A28,'DETTAGLIO VERSAMENTO'!$C$9:$J$2008,8,FALSE)","v":{"$error":"#N/A"}},null,null,null,null,null,null,null,null,null,null,null,null,null,{"$f":"VLOOKUP($BN$5&\"-\"&$BN$3&\"-\"&A28,'DETTAGLIO VERSAMENTO'!$C$9:$K$2008,9,FALSE)","v":{"$error":"#N/A"}},null,null,null,null,null,null,{"$f":"VLOOKUP($BN$5&\"-\"&$BN$3&\"-\"&A28,'DETTAGLIO VERSAMENTO'!$C$9:$L$2008,10,FALSE)","v":{"$error":"#N/A"}},null,null,null,null,null,null,{"$f":"FLOOR(VLOOKUP($BN$5&\"-\"&$BN$3&\"-\"&A28,'DETTAGLIO VERSAMENTO'!$C$9:$M$2008,11,FALSE),1)","v":{"$error":"#N/A"}},null,null,null,null,null,null,null,null,null,null,null,{"$f":"LEFT(RIGHT(TEXT(VLOOKUP($BN$5&\"-\"&$BN$3&\"-\"&A28,'DETTAGLIO VERSAMENTO'!$C$9:$M$2008,11,FALSE),\"0,00\"),2),1)","v":{"$error":"#N/A"}},null,{"$f":"RIGHT(TEXT(VLOOKUP($BN$5&\"-\"&$BN$3&\"-\"&A28,'DETTAGLIO VERSAMENTO'!$C$9:$M$2008,11,FALSE),\"0,00\"),1)","v":{"$error":"#N/A"}},null,{"$f":"VLOOKUP($BN$5&\"-\"&$BN$3&\"-\"&A28,'DETTAGLIO VERSAMENTO'!$C$9:$AA$2008,25,FALSE)","v":{"$error":"#N/A"}}]
[12,null,{"$f":"VLOOKUP($BN$5&\"-\"&$BN$3&\"-\"&A29,'DETTAGLIO VERSAMENTO'!$C$9:$G$2008,5,FALSE)","v":{"$error":"#N/A"}},null,null,null,null,null,null,null,null,null,null,null,null,{"$f":"VLOOKUP($BN$5&\"-\"&$BN$3&\"-\"&A29,'DETTAGLIO VERSAMENTO'!$C$9:$H$2008,6,FALSE)","v":{"$error":"#N/A"}},null,null,{"$f":"VLOOKUP($BN$5&\"-\"&$BN$3&\"-\"&A29,'DETTAGLIO VERSAMENTO'!$C$9:$I$2008,7,FALSE)","v":{"$error":"#N/A"}},null,null,{"$f":"VLOOKUP($BN$5&\"-\"&$BN$3&\"-\"&A29,'DETTAGLIO VERSAMENTO'!$C$9:$J$2008,8,FALSE)","v":{"$error":"#N/A"}},null,null,null,null,null,null,null,null,null,null,null,null,null,{"$f":"VLOOKUP($BN$5&\"-\"&$BN$3&\"-\"&A29,'DETTAGLIO VERSAMENTO'!$C$9:$K$2008,9,FALSE)","v":{"$error":"#N/A"}},null,null,null,null,null,null,{"$f":"VLOOKUP($BN$5&\"-\"&$BN$3&\"-\"&A29,'DETTAGLIO VERSAMENTO'!$C$9:$L$2008,10,FALSE)","v":{"$error":"#N/A"}},null,null,null,null,null,null,{"$f":"FLOOR(VLOOKUP($BN$5&\"-\"&$BN$3&\"-\"&A29,'DETTAGLIO VERSAMENTO'!$C$9:$M$2008,11,FALSE),1)","v":{"$error":"#N/A"}},null,null,null,null,null,null,null,null,null,null,null,{"$f":"LEFT(RIGHT(TEXT(VLOOKUP($BN$5&\"-\"&$BN$3&\"-\"&A29,'DETTAGLIO VERSAMENTO'!$C$9:$M$2008,11,FALSE),\"0,00\"),2),1)","v":{"$error":"#N/A"}},null,{"$f":"RIGHT(TEXT(VLOOKUP($BN$5&\"-\"&$BN$3&\"-\"&A29,'DETTAGLIO VERSAMENTO'!$C$9:$M$2008,11,FALSE),\"0,00\"),1)","v":{"$error":"#N/A"}},null,{"$f":"VLOOKUP($BN$5&\"-\"&$BN$3&\"-\"&A29,'DETTAGLIO VERSAMENTO'!$C$9:$AA$2008,25,FALSE)","v":{"$error":"#N/A"}}]
[13,null,{"$f":"VLOOKUP($BN$5&\"-\"&$BN$3&\"-\"&A30,'DETTAGLIO VERSAMENTO'!$C$9:$G$2008,5,FALSE)","v":{"$error":"#N/A"}},null,null,null,null,null,null,null,null,null,null,null,null,{"$f":"VLOOKUP($BN$5&\"-\"&$BN$3&\"-\"&A30,'DETTAGLIO VERSAMENTO'!$C$9:$H$2008,6,FALSE)","v":{"$error":"#N/A"}},null,null,{"$f":"VLOOKUP($BN$5&\"-\"&$BN$3&\"-\"&A30,'DETTAGLIO VERSAMENTO'!$C$9:$I$2008,7,FALSE)","v":{"$error":"#N/A"}},null,null,{"$f":"VLOOKUP($BN$5&\"-\"&$BN$3&\"-\"&A30,'DETTAGLIO VERSAMENTO'!$C$9:$J$2008,8,FALSE)","v":{"$error":"#N/A"}},null,null,null,null,null,null,null,null,null,null,null,null,null,{"$f":"VLOOKUP($BN$5&\"-\"&$BN$3&\"-\"&A30,'DETTAGLIO VERSAMENTO'!$C$9:$K$2008,9,FALSE)","v":{"$error":"#N/A"}},null,null,null,null,null,null,{"$f":"VLOOKUP($BN$5&\"-\"&$BN$3&\"-\"&A30,'DETTAGLIO VERSAMENTO'!$C$9:$L$2008,10,FALSE)","v":{"$error":"#N/A"}},null,null,null,null,null,null,{"$f":"FLOOR(VLOOKUP($BN$5&\"-\"&$BN$3&\"-\"&A30,'DETTAGLIO VERSAMENTO'!$C$9:$M$2008,11,FALSE),1)","v":{"$error":"#N/A"}},null,null,null,null,null,null,null,null,null,null,null,{"$f":"LEFT(RIGHT(TEXT(VLOOKUP($BN$5&\"-\"&$BN$3&\"-\"&A30,'DETTAGLIO VERSAMENTO'!$C$9:$M$2008,11,FALSE),\"0,00\"),2),1)","v":{"$error":"#N/A"}},null,{"$f":"RIGHT(TEXT(VLOOKUP($BN$5&\"-\"&$BN$3&\"-\"&A30,'DETTAGLIO VERSAMENTO'!$C$9:$M$2008,11,FALSE),\"0,00\"),1)","v":{"$error":"#N/A"}},null,{"$f":"VLOOKUP($BN$5&\"-\"&$BN$3&\"-\"&A30,'DETTAGLIO VERSAMENTO'!$C$9:$AA$2008,25,FALSE)","v":{"$error":"#N/A"}}]
[14,null,{"$f":"VLOOKUP($BN$5&\"-\"&$BN$3&\"-\"&A31,'DETTAGLIO VERSAMENTO'!$C$9:$G$2008,5,FALSE)","v":{"$error":"#N/A"}},null,null,null,null,null,null,null,null,null,null,null,null,{"$f":"VLOOKUP($BN$5&\"-\"&$BN$3&\"-\"&A31,'DETTAGLIO VERSAMENTO'!$C$9:$H$2008,6,FALSE)","v":{"$error":"#N/A"}},null,null,{"$f":"VLOOKUP($BN$5&\"-\"&$BN$3&\"-\"&A31,'DETTAGLIO VERSAMENTO'!$C$9:$I$2008,7,FALSE)","v":{"$error":"#N/A"}},null,null,{"$f":"VLOOKUP($BN$5&\"-\"&$BN$3&\"-\"&A31,'DETTAGLIO VERSAMENTO'!$C$9:$J$2008,8,FALSE)","v":{"$error":"#N/A"}},null,null,null,null,null,null,null,null,null,null,null,null,null,{"$f":"VLOOKUP($BN$5&\"-\"&$BN$3&\"-\"&A31,'DETTAGLIO VERSAMENTO'!$C$9:$K$2008,9,FALSE)","v":{"$error":"#N/A"}},null,null,null,null,null,null,{"$f":"VLOOKUP($BN$5&\"-\"&$BN$3&\"-\"&A31,'DETTAGLIO VERSAMENTO'!$C$9:$L$2008,10,FALSE)","v":{"$error":"#N/A"}},null,null,null,null,null,null,{"$f":"FLOOR(VLOOKUP($BN$5&\"-\"&$BN$3&\"-\"&A31,'DETTAGLIO VERSAMENTO'!$C$9:$M$2008,11,FALSE),1)","v":{"$error":"#N/A"}},null,null,null,null,null,null,null,null,null,null,null,{"$f":"LEFT(RIGHT(TEXT(VLOOKUP($BN$5&\"-\"&$BN$3&\"-\"&A31,'DETTAGLIO VERSAMENTO'!$C$9:$M$2008,11,FALSE),\"0,00\"),2),1)","v":{"$error":"#N/A"}},null,{"$f":"RIGHT(TEXT(VLOOKUP($BN$5&\"-\"&$BN$3&\"-\"&A31,'DETTAGLIO VERSAMENTO'!$C$9:$M$2008,11,FALSE),\"0,00\"),1)","v":{"$error":"#N/A"}},null,{"$f":"VLOOKUP($BN$5&\"-\"&$BN$3&\"-\"&A31,'DETTAGLIO VERSAMENTO'!$C$9:$AA$2008,25,FALSE)","v":{"$error":"#N/A"}}]
[15,null,{"$f":"VLOOKUP($BN$5&\"-\"&$BN$3&\"-\"&A32,'DETTAGLIO VERSAMENTO'!$C$9:$G$2008,5,FALSE)","v":{"$error":"#N/A"}},null,null,null,null,null,null,null,null,null,null,null,null,{"$f":"VLOOKUP($BN$5&\"-\"&$BN$3&\"-\"&A32,'DETTAGLIO VERSAMENTO'!$C$9:$H$2008,6,FALSE)","v":{"$error":"#N/A"}},null,null,{"$f":"VLOOKUP($BN$5&\"-\"&$BN$3&\"-\"&A32,'DETTAGLIO VERSAMENTO'!$C$9:$I$2008,7,FALSE)","v":{"$error":"#N/A"}},null,null,{"$f":"VLOOKUP($BN$5&\"-\"&$BN$3&\"-\"&A32,'DETTAGLIO VERSAMENTO'!$C$9:$J$2008,8,FALSE)","v":{"$error":"#N/A"}},null,null,null,null,null,null,null,null,null,null,null,null,null,{"$f":"VLOOKUP($BN$5&\"-\"&$BN$3&\"-\"&A32,'DETTAGLIO VERSAMENTO'!$C$9:$K$2008,9,FALSE)","v":{"$error":"#N/A"}},null,null,null,null,null,null,{"$f":"VLOOKUP($BN$5&\"-\"&$BN$3&\"-\"&A32,'DETTAGLIO VERSAMENTO'!$C$9:$L$2008,10,FALSE)","v":{"$error":"#N/A"}},null,null,null,null,null,null,{"$f":"FLOOR(VLOOKUP($BN$5&\"-\"&$BN$3&\"-\"&A32,'DETTAGLIO VERSAMENTO'!$C$9:$M$2008,11,FALSE),1)","v":{"$error":"#N/A"}},null,null,null,null,null,null,null,null,null,null,null,{"$f":"LEFT(RIGHT(TEXT(VLOOKUP($BN$5&\"-\"&$BN$3&\"-\"&A32,'DETTAGLIO VERSAMENTO'!$C$9:$M$2008,11,FALSE),\"0,00\"),2),1)","v":{"$error":"#N/A"}},null,{"$f":"RIGHT(TEXT(VLOOKUP($BN$5&\"-\"&$BN$3&\"-\"&A32,'DETTAGLIO VERSAMENTO'!$C$9:$M$2008,11,FALSE),\"0,00\"),1)","v":{"$error":"#N/A"}},null,{"$f":"VLOOKUP($BN$5&\"-\"&$BN$3&\"-\"&A32,'DETTAGLIO VERSAMENTO'!$C$9:$AA$2008,25,FALSE)","v":{"$error":"#N/A"}}]
[16,null,{"$f":"VLOOKUP($BN$5&\"-\"&$BN$3&\"-\"&A33,'DETTAGLIO VERSAMENTO'!$C$9:$G$2008,5,FALSE)","v":{"$error":"#N/A"}},null,null,null,null,null,null,null,null,null,null,null,null,{"$f":"VLOOKUP($BN$5&\"-\"&$BN$3&\"-\"&A33,'DETTAGLIO VERSAMENTO'!$C$9:$H$2008,6,FALSE)","v":{"$error":"#N/A"}},null,null,{"$f":"VLOOKUP($BN$5&\"-\"&$BN$3&\"-\"&A33,'DETTAGLIO VERSAMENTO'!$C$9:$I$2008,7,FALSE)","v":{"$error":"#N/A"}},null,null,{"$f":"VLOOKUP($BN$5&\"-\"&$BN$3&\"-\"&A33,'DETTAGLIO VERSAMENTO'!$C$9:$J$2008,8,FALSE)","v":{"$error":"#N/A"}},null,null,null,null,null,null,null,null,null,null,null,null,null,{"$f":"VLOOKUP($BN$5&\"-\"&$BN$3&\"-\"&A33,'DETTAGLIO VERSAMENTO'!$C$9:$K$2008,9,FALSE)","v":{"$error":"#N/A"}},null,null,null,null,null,null,{"$f":"VLOOKUP($BN$5&\"-\"&$BN$3&\"-\"&A33,'DETTAGLIO VERSAMENTO'!$C$9:$L$2008,10,FALSE)","v":{"$error":"#N/A"}},null,null,null,null,null,null,{"$f":"FLOOR(VLOOKUP($BN$5&\"-\"&$BN$3&\"-\"&A33,'DETTAGLIO VERSAMENTO'!$C$9:$M$2008,11,FALSE),1)","v":{"$error":"#N/A"}},null,null,null,null,null,null,null,null,null,null,null,{"$f":"LEFT(RIGHT(TEXT(VLOOKUP($BN$5&\"-\"&$BN$3&\"-\"&A33,'DETTAGLIO VERSAMENTO'!$C$9:$M$2008,11,FALSE),\"0,00\"),2),1)","v":{"$error":"#N/A"}},null,{"$f":"RIGHT(TEXT(VLOOKUP($BN$5&\"-\"&$BN$3&\"-\"&A33,'DETTAGLIO VERSAMENTO'!$C$9:$M$2008,11,FALSE),\"0,00\"),1)","v":{"$error":"#N/A"}},null,{"$f":"VLOOKUP($BN$5&\"-\"&$BN$3&\"-\"&A33,'DETTAGLIO VERSAMENTO'!$C$9:$AA$2008,25,FALSE)","v":{"$error":"#N/A"}}]
[17,null,{"$f":"VLOOKUP($BN$5&\"-\"&$BN$3&\"-\"&A34,'DETTAGLIO VERSAMENTO'!$C$9:$G$2008,5,FALSE)","v":{"$error":"#N/A"}},null,null,null,null,null,null,null,null,null,null,null,null,{"$f":"VLOOKUP($BN$5&\"-\"&$BN$3&\"-\"&A34,'DETTAGLIO VERSAMENTO'!$C$9:$H$2008,6,FALSE)","v":{"$error":"#N/A"}},null,null,{"$f":"VLOOKUP($BN$5&\"-\"&$BN$3&\"-\"&A34,'DETTAGLIO VERSAMENTO'!$C$9:$I$2008,7,FALSE)","v":{"$error":"#N/A"}},null,null,{"$f":"VLOOKUP($BN$5&\"-\"&$BN$3&\"-\"&A34,'DETTAGLIO VERSAMENTO'!$C$9:$J$2008,8,FALSE)","v":{"$error":"#N/A"}},null,null,null,null,null,null,null,null,null,null,null,null,null,{"$f":"VLOOKUP($BN$5&\"-\"&$BN$3&\"-\"&A34,'DETTAGLIO VERSAMENTO'!$C$9:$K$2008,9,FALSE)","v":{"$error":"#N/A"}},null,null,null,null,null,null,{"$f":"VLOOKUP($BN$5&\"-\"&$BN$3&\"-\"&A34,'DETTAGLIO VERSAMENTO'!$C$9:$L$2008,10,FALSE)","v":{"$error":"#N/A"}},null,null,null,null,null,null,{"$f":"FLOOR(VLOOKUP($BN$5&\"-\"&$BN$3&\"-\"&A34,'DETTAGLIO VERSAMENTO'!$C$9:$M$2008,11,FALSE),1)","v":{"$error":"#N/A"}},null,null,null,null,null,null,null,null,null,null,null,{"$f":"LEFT(RIGHT(TEXT(VLOOKUP($BN$5&\"-\"&$BN$3&\"-\"&A34,'DETTAGLIO VERSAMENTO'!$C$9:$M$2008,11,FALSE),\"0,00\"),2),1)","v":{"$error":"#N/A"}},null,{"$f":"RIGHT(TEXT(VLOOKUP($BN$5&\"-\"&$BN$3&\"-\"&A34,'DETTAGLIO VERSAMENTO'!$C$9:$M$2008,11,FALSE),\"0,00\"),1)","v":{"$error":"#N/A"}},null,{"$f":"VLOOKUP($BN$5&\"-\"&$BN$3&\"-\"&A34,'DETTAGLIO VERSAMENTO'!$C$9:$AA$2008,25,FALSE)","v":{"$error":"#N/A"}}]
[18,null,{"$f":"VLOOKUP($BN$5&\"-\"&$BN$3&\"-\"&A35,'DETTAGLIO VERSAMENTO'!$C$9:$G$2008,5,FALSE)","v":{"$error":"#N/A"}},null,null,null,null,null,null,null,null,null,null,null,null,{"$f":"VLOOKUP($BN$5&\"-\"&$BN$3&\"-\"&A35,'DETTAGLIO VERSAMENTO'!$C$9:$H$2008,6,FALSE)","v":{"$error":"#N/A"}},null,null,{"$f":"VLOOKUP($BN$5&\"-\"&$BN$3&\"-\"&A35,'DETTAGLIO VERSAMENTO'!$C$9:$I$2008,7,FALSE)","v":{"$error":"#N/A"}},null,null,{"$f":"VLOOKUP($BN$5&\"-\"&$BN$3&\"-\"&A35,'DETTAGLIO VERSAMENTO'!$C$9:$J$2008,8,FALSE)","v":{"$error":"#N/A"}},null,null,null,null,null,null,null,null,null,null,null,null,null,{"$f":"VLOOKUP($BN$5&\"-\"&$BN$3&\"-\"&A35,'DETTAGLIO VERSAMENTO'!$C$9:$K$2008,9,FALSE)","v":{"$error":"#N/A"}},null,null,null,null,null,null,{"$f":"VLOOKUP($BN$5&\"-\"&$BN$3&\"-\"&A35,'DETTAGLIO VERSAMENTO'!$C$9:$L$2008,10,FALSE)","v":{"$error":"#N/A"}},null,null,null,null,null,null,{"$f":"FLOOR(VLOOKUP($BN$5&\"-\"&$BN$3&\"-\"&A35,'DETTAGLIO VERSAMENTO'!$C$9:$M$2008,11,FALSE),1)","v":{"$error":"#N/A"}},null,null,null,null,null,null,null,null,null,null,null,{"$f":"LEFT(RIGHT(TEXT(VLOOKUP($BN$5&\"-\"&$BN$3&\"-\"&A35,'DETTAGLIO VERSAMENTO'!$C$9:$M$2008,11,FALSE),\"0,00\"),2),1)","v":{"$error":"#N/A"}},null,{"$f":"RIGHT(TEXT(VLOOKUP($BN$5&\"-\"&$BN$3&\"-\"&A35,'DETTAGLIO VERSAMENTO'!$C$9:$M$2008,11,FALSE),\"0,00\"),1)","v":{"$error":"#N/A"}},null,{"$f":"VLOOKUP($BN$5&\"-\"&$BN$3&\"-\"&A35,'DETTAGLIO VERSAMENTO'!$C$9:$AA$2008,25,FALSE)","v":{"$error":"#N/A"}}]
[19,null,{"$f":"VLOOKUP($BN$5&\"-\"&$BN$3&\"-\"&A36,'DETTAGLIO VERSAMENTO'!$C$9:$G$2008,5,FALSE)","v":{"$error":"#N/A"}},null,null,null,null,null,null,null,null,null,null,null,null,{"$f":"VLOOKUP($BN$5&\"-\"&$BN$3&\"-\"&A36,'DETTAGLIO VERSAMENTO'!$C$9:$H$2008,6,FALSE)","v":{"$error":"#N/A"}},null,null,{"$f":"VLOOKUP($BN$5&\"-\"&$BN$3&\"-\"&A36,'DETTAGLIO VERSAMENTO'!$C$9:$I$2008,7,FALSE)","v":{"$error":"#N/A"}},null,null,{"$f":"VLOOKUP($BN$5&\"-\"&$BN$3&\"-\"&A36,'DETTAGLIO VERSAMENTO'!$C$9:$J$2008,8,FALSE)","v":{"$error":"#N/A"}},null,null,null,null,null,null,null,null,null,null,null,null,null,{"$f":"VLOOKUP($BN$5&\"-\"&$BN$3&\"-\"&A36,'DETTAGLIO VERSAMENTO'!$C$9:$K$2008,9,FALSE)","v":{"$error":"#N/A"}},null,null,null,null,null,null,{"$f":"VLOOKUP($BN$5&\"-\"&$BN$3&\"-\"&A36,'DETTAGLIO VERSAMENTO'!$C$9:$L$2008,10,FALSE)","v":{"$error":"#N/A"}},null,null,null,null,null,null,{"$f":"FLOOR(VLOOKUP($BN$5&\"-\"&$BN$3&\"-\"&A36,'DETTAGLIO VERSAMENTO'!$C$9:$M$2008,11,FALSE),1)","v":{"$error":"#N/A"}},null,null,null,null,null,null,null,null,null,null,null,{"$f":"LEFT(RIGHT(TEXT(VLOOKUP($BN$5&\"-\"&$BN$3&\"-\"&A36,'DETTAGLIO VERSAMENTO'!$C$9:$M$2008,11,FALSE),\"0,00\"),2),1)","v":{"$error":"#N/A"}},null,{"$f":"RIGHT(TEXT(VLOOKUP($BN$5&\"-\"&$BN$3&\"-\"&A36,'DETTAGLIO VERSAMENTO'!$C$9:$M$2008,11,FALSE),\"0,00\"),1)","v":{"$error":"#N/A"}},null,{"$f":"VLOOKUP($BN$5&\"-\"&$BN$3&\"-\"&A36,'DETTAGLIO VERSAMENTO'!$C$9:$AA$2008,25,FALSE)","v":{"$error":"#N/A"}}]
[20,null,{"$f":"VLOOKUP($BN$5&\"-\"&$BN$3&\"-\"&A37,'DETTAGLIO VERSAMENTO'!$C$9:$G$2008,5,FALSE)","v":{"$error":"#N/A"}},null,null,null,null,null,null,null,null,null,null,null,null,{"$f":"VLOOKUP($BN$5&\"-\"&$BN$3&\"-\"&A37,'DETTAGLIO VERSAMENTO'!$C$9:$H$2008,6,FALSE)","v":{"$error":"#N/A"}},null,null,{"$f":"VLOOKUP($BN$5&\"-\"&$BN$3&\"-\"&A37,'DETTAGLIO VERSAMENTO'!$C$9:$I$2008,7,FALSE)","v":{"$error":"#N/A"}},null,null,{"$f":"VLOOKUP($BN$5&\"-\"&$BN$3&\"-\"&A37,'DETTAGLIO VERSAMENTO'!$C$9:$J$2008,8,FALSE)","v":{"$error":"#N/A"}},null,null,null,null,null,null,null,null,null,null,null,null,null,{"$f":"VLOOKUP($BN$5&\"-\"&$BN$3&\"-\"&A37,'DETTAGLIO VERSAMENTO'!$C$9:$K$2008,9,FALSE)","v":{"$error":"#N/A"}},null,null,null,null,null,null,{"$f":"VLOOKUP($BN$5&\"-\"&$BN$3&\"-\"&A37,'DETTAGLIO VERSAMENTO'!$C$9:$L$2008,10,FALSE)","v":{"$error":"#N/A"}},null,null,null,null,null,null,{"$f":"FLOOR(VLOOKUP($BN$5&\"-\"&$BN$3&\"-\"&A37,'DETTAGLIO VERSAMENTO'!$C$9:$M$2008,11,FALSE),1)","v":{"$error":"#N/A"}},null,null,null,null,null,null,null,null,null,null,null,{"$f":"LEFT(RIGHT(TEXT(VLOOKUP($BN$5&\"-\"&$BN$3&\"-\"&A37,'DETTAGLIO VERSAMENTO'!$C$9:$M$2008,11,FALSE),\"0,00\"),2),1)","v":{"$error":"#N/A"}},null,{"$f":"RIGHT(TEXT(VLOOKUP($BN$5&\"-\"&$BN$3&\"-\"&A37,'DETTAGLIO VERSAMENTO'!$C$9:$M$2008,11,FALSE),\"0,00\"),1)","v":{"$error":"#N/A"}},null,{"$f":"VLOOKUP($BN$5&\"-\"&$BN$3&\"-\"&A37,'DETTAGLIO VERSAMENTO'!$C$9:$AA$2008,25,FALSE)","v":{"$error":"#N/A"}}]
[21,null,{"$f":"VLOOKUP($BN$5&\"-\"&$BN$3&\"-\"&A38,'DETTAGLIO VERSAMENTO'!$C$9:$G$2008,5,FALSE)","v":{"$error":"#N/A"}},null,null,null,null,null,null,null,null,null,null,null,null,{"$f":"VLOOKUP($BN$5&\"-\"&$BN$3&\"-\"&A38,'DETTAGLIO VERSAMENTO'!$C$9:$H$2008,6,FALSE)","v":{"$error":"#N/A"}},null,null,{"$f":"VLOOKUP($BN$5&\"-\"&$BN$3&\"-\"&A38,'DETTAGLIO VERSAMENTO'!$C$9:$I$2008,7,FALSE)","v":{"$error":"#N/A"}},null,null,{"$f":"VLOOKUP($BN$5&\"-\"&$BN$3&\"-\"&A38,'DETTAGLIO VERSAMENTO'!$C$9:$J$2008,8,FALSE)","v":{"$error":"#N/A"}},null,null,null,null,null,null,null,null,null,null,null,null,null,{"$f":"VLOOKUP($BN$5&\"-\"&$BN$3&\"-\"&A38,'DETTAGLIO VERSAMENTO'!$C$9:$K$2008,9,FALSE)","v":{"$error":"#N/A"}},null,null,null,null,null,null,{"$f":"VLOOKUP($BN$5&\"-\"&$BN$3&\"-\"&A38,'DETTAGLIO VERSAMENTO'!$C$9:$L$2008,10,FALSE)","v":{"$error":"#N/A"}},null,null,null,null,null,null,{"$f":"FLOOR(VLOOKUP($BN$5&\"-\"&$BN$3&\"-\"&A38,'DETTAGLIO VERSAMENTO'!$C$9:$M$2008,11,FALSE),1)","v":{"$error":"#N/A"}},null,null,null,null,null,null,null,null,null,null,null,{"$f":"LEFT(RIGHT(TEXT(VLOOKUP($BN$5&\"-\"&$BN$3&\"-\"&A38,'DETTAGLIO VERSAMENTO'!$C$9:$M$2008,11,FALSE),\"0,00\"),2),1)","v":{"$error":"#N/A"}},null,{"$f":"RIGHT(TEXT(VLOOKUP($BN$5&\"-\"&$BN$3&\"-\"&A38,'DETTAGLIO VERSAMENTO'!$C$9:$M$2008,11,FALSE),\"0,00\"),1)","v":{"$error":"#N/A"}},null,{"$f":"VLOOKUP($BN$5&\"-\"&$BN$3&\"-\"&A38,'DETTAGLIO VERSAMENTO'!$C$9:$AA$2008,25,FALSE)","v":{"$error":"#N/A"}}]
[22,null,{"$f":"VLOOKUP($BN$5&\"-\"&$BN$3&\"-\"&A39,'DETTAGLIO VERSAMENTO'!$C$9:$G$2008,5,FALSE)","v":{"$error":"#N/A"}},null,null,null,null,null,null,null,null,null,null,null,null,{"$f":"VLOOKUP($BN$5&\"-\"&$BN$3&\"-\"&A39,'DETTAGLIO VERSAMENTO'!$C$9:$H$2008,6,FALSE)","v":{"$error":"#N/A"}},null,null,{"$f":"VLOOKUP($BN$5&\"-\"&$BN$3&\"-\"&A39,'DETTAGLIO VERSAMENTO'!$C$9:$I$2008,7,FALSE)","v":{"$error":"#N/A"}},null,null,{"$f":"VLOOKUP($BN$5&\"-\"&$BN$3&\"-\"&A39,'DETTAGLIO VERSAMENTO'!$C$9:$J$2008,8,FALSE)","v":{"$error":"#N/A"}},null,null,null,null,null,null,null,null,null,null,null,null,null,{"$f":"VLOOKUP($BN$5&\"-\"&$BN$3&\"-\"&A39,'DETTAGLIO VERSAMENTO'!$C$9:$K$2008,9,FALSE)","v":{"$error":"#N/A"}},null,null,null,null,null,null,{"$f":"VLOOKUP($BN$5&\"-\"&$BN$3&\"-\"&A39,'DETTAGLIO VERSAMENTO'!$C$9:$L$2008,10,FALSE)","v":{"$error":"#N/A"}},null,null,null,null,null,null,{"$f":"FLOOR(VLOOKUP($BN$5&\"-\"&$BN$3&\"-\"&A39,'DETTAGLIO VERSAMENTO'!$C$9:$M$2008,11,FALSE),1)","v":{"$error":"#N/A"}},null,null,null,null,null,null,null,null,null,null,null,{"$f":"LEFT(RIGHT(TEXT(VLOOKUP($BN$5&\"-\"&$BN$3&\"-\"&A39,'DETTAGLIO VERSAMENTO'!$C$9:$M$2008,11,FALSE),\"0,00\"),2),1)","v":{"$error":"#N/A"}},null,{"$f":"RIGHT(TEXT(VLOOKUP($BN$5&\"-\"&$BN$3&\"-\"&A39,'DETTAGLIO VERSAMENTO'!$C$9:$M$2008,11,FALSE),\"0,00\"),1)","v":{"$error":"#N/A"}},null,{"$f":"VLOOKUP($BN$5&\"-\"&$BN$3&\"-\"&A39,'DETTAGLIO VERSAMENTO'!$C$9:$AA$2008,25,FALSE)","v":{"$error":"#N/A"}}]
[23,null,{"$f":"VLOOKUP($BN$5&\"-\"&$BN$3&\"-\"&A40,'DETTAGLIO VERSAMENTO'!$C$9:$G$2008,5,FALSE)","v":{"$error":"#N/A"}},null,null,null,null,null,null,null,null,null,null,null,null,{"$f":"VLOOKUP($BN$5&\"-\"&$BN$3&\"-\"&A40,'DETTAGLIO VERSAMENTO'!$C$9:$H$2008,6,FALSE)","v":{"$error":"#N/A"}},null,null,{"$f":"VLOOKUP($BN$5&\"-\"&$BN$3&\"-\"&A40,'DETTAGLIO VERSAMENTO'!$C$9:$I$2008,7,FALSE)","v":{"$error":"#N/A"}},null,null,{"$f":"VLOOKUP($BN$5&\"-\"&$BN$3&\"-\"&A40,'DETTAGLIO VERSAMENTO'!$C$9:$J$2008,8,FALSE)","v":{"$error":"#N/A"}},null,null,null,null,null,null,null,null,null,null,null,null,null,{"$f":"VLOOKUP($BN$5&\"-\"&$BN$3&\"-\"&A40,'DETTAGLIO VERSAMENTO'!$C$9:$K$2008,9,FALSE)","v":{"$error":"#N/A"}},null,null,null,null,null,null,{"$f":"VLOOKUP($BN$5&\"-\"&$BN$3&\"-\"&A40,'DETTAGLIO VERSAMENTO'!$C$9:$L$2008,10,FALSE)","v":{"$error":"#N/A"}},null,null,null,null,null,null,{"$f":"FLOOR(VLOOKUP($BN$5&\"-\"&$BN$3&\"-\"&A40,'DETTAGLIO VERSAMENTO'!$C$9:$M$2008,11,FALSE),1)","v":{"$error":"#N/A"}},null,null,null,null,null,null,null,null,null,null,null,{"$f":"LEFT(RIGHT(TEXT(VLOOKUP($BN$5&\"-\"&$BN$3&\"-\"&A40,'DETTAGLIO VERSAMENTO'!$C$9:$M$2008,11,FALSE),\"0,00\"),2),1)","v":{"$error":"#N/A"}},null,{"$f":"RIGHT(TEXT(VLOOKUP($BN$5&\"-\"&$BN$3&\"-\"&A40,'DETTAGLIO VERSAMENTO'!$C$9:$M$2008,11,FALSE),\"0,00\"),1)","v":{"$error":"#N/A"}},null,{"$f":"VLOOKUP($BN$5&\"-\"&$BN$3&\"-\"&A40,'DETTAGLIO VERSAMENTO'!$C$9:$AA$2008,25,FALSE)","v":{"$error":"#N/A"}}]
[24,null,{"$f":"VLOOKUP($BN$5&\"-\"&$BN$3&\"-\"&A41,'DETTAGLIO VERSAMENTO'!$C$9:$G$2008,5,FALSE)","v":{"$error":"#N/A"}},null,null,null,null,null,null,null,null,null,null,null,null,{"$f":"VLOOKUP($BN$5&\"-\"&$BN$3&\"-\"&A41,'DETTAGLIO VERSAMENTO'!$C$9:$H$2008,6,FALSE)","v":{"$error":"#N/A"}},null,null,{"$f":"VLOOKUP($BN$5&\"-\"&$BN$3&\"-\"&A41,'DETTAGLIO VERSAMENTO'!$C$9:$I$2008,7,FALSE)","v":{"$error":"#N/A"}},null,null,{"$f":"VLOOKUP($BN$5&\"-\"&$BN$3&\"-\"&A41,'DETTAGLIO VERSAMENTO'!$C$9:$J$2008,8,FALSE)","v":{"$error":"#N/A"}},null,null,null,null,null,null,null,null,null,null,null,null,null,{"$f":"VLOOKUP($BN$5&\"-\"&$BN$3&\"-\"&A41,'DETTAGLIO VERSAMENTO'!$C$9:$K$2008,9,FALSE)","v":{"$error":"#N/A"}},null,null,null,null,null,null,{"$f":"VLOOKUP($BN$5&\"-\"&$BN$3&\"-\"&A41,'DETTAGLIO VERSAMENTO'!$C$9:$L$2008,10,FALSE)","v":{"$error":"#N/A"}},null,null,null,null,null,null,{"$f":"FLOOR(VLOOKUP($BN$5&\"-\"&$BN$3&\"-\"&A41,'DETTAGLIO VERSAMENTO'!$C$9:$M$2008,11,FALSE),1)","v":{"$error":"#N/A"}},null,null,null,null,null,null,null,null,null,null,null,{"$f":"LEFT(RIGHT(TEXT(VLOOKUP($BN$5&\"-\"&$BN$3&\"-\"&A41,'DETTAGLIO VERSAMENTO'!$C$9:$M$2008,11,FALSE),\"0,00\"),2),1)","v":{"$error":"#N/A"}},null,{"$f":"RIGHT(TEXT(VLOOKUP($BN$5&\"-\"&$BN$3&\"-\"&A41,'DETTAGLIO VERSAMENTO'!$C$9:$M$2008,11,FALSE),\"0,00\"),1)","v":{"$error":"#N/A"}},null,{"$f":"VLOOKUP($BN$5&\"-\"&$BN$3&\"-\"&A41,'DETTAGLIO VERSAMENTO'!$C$9:$AA$2008,25,FALSE)","v":{"$error":"#N/A"}}]
[25,null,{"$f":"VLOOKUP($BN$5&\"-\"&$BN$3&\"-\"&A42,'DETTAGLIO VERSAMENTO'!$C$9:$G$2008,5,FALSE)","v":{"$error":"#N/A"}},null,null,null,null,null,null,null,null,null,null,null,null,{"$f":"VLOOKUP($BN$5&\"-\"&$BN$3&\"-\"&A42,'DETTAGLIO VERSAMENTO'!$C$9:$H$2008,6,FALSE)","v":{"$error":"#N/A"}},null,null,{"$f":"VLOOKUP($BN$5&\"-\"&$BN$3&\"-\"&A42,'DETTAGLIO VERSAMENTO'!$C$9:$I$2008,7,FALSE)","v":{"$error":"#N/A"}},null,null,{"$f":"VLOOKUP($BN$5&\"-\"&$BN$3&\"-\"&A42,'DETTAGLIO VERSAMENTO'!$C$9:$J$2008,8,FALSE)","v":{"$error":"#N/A"}},null,null,null,null,null,null,null,null,null,null,null,null,null,{"$f":"VLOOKUP($BN$5&\"-\"&$BN$3&\"-\"&A42,'DETTAGLIO VERSAMENTO'!$C$9:$K$2008,9,FALSE)","v":{"$error":"#N/A"}},null,null,null,null,null,null,{"$f":"VLOOKUP($BN$5&\"-\"&$BN$3&\"-\"&A42,'DETTAGLIO VERSAMENTO'!$C$9:$L$2008,10,FALSE)","v":{"$error":"#N/A"}},null,null,null,null,null,null,{"$f":"FLOOR(VLOOKUP($BN$5&\"-\"&$BN$3&\"-\"&A42,'DETTAGLIO VERSAMENTO'!$C$9:$M$2008,11,FALSE),1)","v":{"$error":"#N/A"}},null,null,null,null,null,null,null,null,null,null,null,{"$f":"LEFT(RIGHT(TEXT(VLOOKUP($BN$5&\"-\"&$BN$3&\"-\"&A42,'DETTAGLIO VERSAMENTO'!$C$9:$M$2008,11,FALSE),\"0,00\"),2),1)","v":{"$error":"#N/A"}},null,{"$f":"RIGHT(TEXT(VLOOKUP($BN$5&\"-\"&$BN$3&\"-\"&A42,'DETTAGLIO VERSAMENTO'!$C$9:$M$2008,11,FALSE),\"0,00\"),1)","v":{"$error":"#N/A"}},null,{"$f":"VLOOKUP($BN$5&\"-\"&$BN$3&\"-\"&A42,'DETTAGLIO VERSAMENTO'!$C$9:$AA$2008,25,FALSE)","v":{"$error":"#N/A"}}]
[26,null,{"$f":"VLOOKUP($BN$5&\"-\"&$BN$3&\"-\"&A43,'DETTAGLIO VERSAMENTO'!$C$9:$G$2008,5,FALSE)","v":{"$error":"#N/A"}},null,null,null,null,null,null,null,null,null,null,null,null,{"$f":"VLOOKUP($BN$5&\"-\"&$BN$3&\"-\"&A43,'DETTAGLIO VERSAMENTO'!$C$9:$H$2008,6,FALSE)","v":{"$error":"#N/A"}},null,null,{"$f":"VLOOKUP($BN$5&\"-\"&$BN$3&\"-\"&A43,'DETTAGLIO VERSAMENTO'!$C$9:$I$2008,7,FALSE)","v":{"$error":"#N/A"}},null,null,{"$f":"VLOOKUP($BN$5&\"-\"&$BN$3&\"-\"&A43,'DETTAGLIO VERSAMENTO'!$C$9:$J$2008,8,FALSE)","v":{"$error":"#N/A"}},null,null,null,null,null,null,null,null,null,null,null,null,null,{"$f":"VLOOKUP($BN$5&\"-\"&$BN$3&\"-\"&A43,'DETTAGLIO VERSAMENTO'!$C$9:$K$2008,9,FALSE)","v":{"$error":"#N/A"}},null,null,null,null,null,null,{"$f":"VLOOKUP($BN$5&\"-\"&$BN$3&\"-\"&A43,'DETTAGLIO VERSAMENTO'!$C$9:$L$2008,10,FALSE)","v":{"$error":"#N/A"}},null,null,null,null,null,null,{"$f":"FLOOR(VLOOKUP($BN$5&\"-\"&$BN$3&\"-\"&A43,'DETTAGLIO VERSAMENTO'!$C$9:$M$2008,11,FALSE),1)","v":{"$error":"#N/A"}},null,null,null,null,null,null,null,null,null,null,null,{"$f":"LEFT(RIGHT(TEXT(VLOOKUP($BN$5&\"-\"&$BN$3&\"-\"&A43,'DETTAGLIO VERSAMENTO'!$C$9:$M$2008,11,FALSE),\"0,00\"),2),1)","v":{"$error":"#N/A"}},null,{"$f":"RIGHT(TEXT(VLOOKUP($BN$5&\"-\"&$BN$3&\"-\"&A43,'DETTAGLIO VERSAMENTO'!$C$9:$M$2008,11,FALSE),\"0,00\"),1)","v":{"$error":"#N/A"}},null,{"$f":"VLOOKUP($BN$5&\"-\"&$BN$3&\"-\"&A43,'DETTAGLIO VERSAMENTO'!$C$9:$AA$2008,25,FALSE)","v":{"$error":"#N/A"}}]
[27,null,{"$f":"VLOOKUP($BN$5&\"-\"&$BN$3&\"-\"&A44,'DETTAGLIO VERSAMENTO'!$C$9:$G$2008,5,FALSE)","v":{"$error":"#N/A"}},null,null,null,null,null,null,null,null,null,null,null,null,{"$f":"VLOOKUP($BN$5&\"-\"&$BN$3&\"-\"&A44,'DETTAGLIO VERSAMENTO'!$C$9:$H$2008,6,FALSE)","v":{"$error":"#N/A"}},null,null,{"$f":"VLOOKUP($BN$5&\"-\"&$BN$3&\"-\"&A44,'DETTAGLIO VERSAMENTO'!$C$9:$I$2008,7,FALSE)","v":{"$error":"#N/A"}},null,null,{"$f":"VLOOKUP($BN$5&\"-\"&$BN$3&\"-\"&A44,'DETTAGLIO VERSAMENTO'!$C$9:$J$2008,8,FALSE)","v":{"$error":"#N/A"}},null,null,null,null,null,null,null,null,null,null,null,null,null,{"$f":"VLOOKUP($BN$5&\"-\"&$BN$3&\"-\"&A44,'DETTAGLIO VERSAMENTO'!$C$9:$K$2008,9,FALSE)","v":{"$error":"#N/A"}},null,null,null,null,null,null,{"$f":"VLOOKUP($BN$5&\"-\"&$BN$3&\"-\"&A44,'DETTAGLIO VERSAMENTO'!$C$9:$L$2008,10,FALSE)","v":{"$error":"#N/A"}},null,null,null,null,null,null,{"$f":"FLOOR(VLOOKUP($BN$5&\"-\"&$BN$3&\"-\"&A44,'DETTAGLIO VERSAMENTO'!$C$9:$M$2008,11,FALSE),1)","v":{"$error":"#N/A"}},null,null,null,null,null,null,null,null,null,null,null,{"$f":"LEFT(RIGHT(TEXT(VLOOKUP($BN$5&\"-\"&$BN$3&\"-\"&A44,'DETTAGLIO VERSAMENTO'!$C$9:$M$2008,11,FALSE),\"0,00\"),2),1)","v":{"$error":"#N/A"}},null,{"$f":"RIGHT(TEXT(VLOOKUP($BN$5&\"-\"&$BN$3&\"-\"&A44,'DETTAGLIO VERSAMENTO'!$C$9:$M$2008,11,FALSE),\"0,00\"),1)","v":{"$error":"#N/A"}},null,{"$f":"VLOOKUP($BN$5&\"-\"&$BN$3&\"-\"&A44,'DETTAGLIO VERSAMENTO'!$C$9:$AA$2008,25,FALSE)","v":{"$error":"#N/A"}}]
[28,null,{"$f":"VLOOKUP($BN$5&\"-\"&$BN$3&\"-\"&A45,'DETTAGLIO VERSAMENTO'!$C$9:$G$2008,5,FALSE)","v":{"$error":"#N/A"}},null,null,null,null,null,null,null,null,null,null,null,null,{"$f":"VLOOKUP($BN$5&\"-\"&$BN$3&\"-\"&A45,'DETTAGLIO VERSAMENTO'!$C$9:$H$2008,6,FALSE)","v":{"$error":"#N/A"}},null,null,{"$f":"VLOOKUP($BN$5&\"-\"&$BN$3&\"-\"&A45,'DETTAGLIO VERSAMENTO'!$C$9:$I$2008,7,FALSE)","v":{"$error":"#N/A"}},null,null,{"$f":"VLOOKUP($BN$5&\"-\"&$BN$3&\"-\"&A45,'DETTAGLIO VERSAMENTO'!$C$9:$J$2008,8,FALSE)","v":{"$error":"#N/A"}},null,null,null,null,null,null,null,null,null,null,null,null,null,{"$f":"VLOOKUP($BN$5&\"-\"&$BN$3&\"-\"&A45,'DETTAGLIO VERSAMENTO'!$C$9:$K$2008,9,FALSE)","v":{"$error":"#N/A"}},null,null,null,null,null,null,{"$f":"VLOOKUP($BN$5&\"-\"&$BN$3&\"-\"&A45,'DETTAGLIO VERSAMENTO'!$C$9:$L$2008,10,FALSE)","v":{"$error":"#N/A"}},null,null,null,null,null,null,{"$f":"FLOOR(VLOOKUP($BN$5&\"-\"&$BN$3&\"-\"&A45,'DETTAGLIO VERSAMENTO'!$C$9:$M$2008,11,FALSE),1)","v":{"$error":"#N/A"}},null,null,null,null,null,null,null,null,null,null,null,{"$f":"LEFT(RIGHT(TEXT(VLOOKUP($BN$5&\"-\"&$BN$3&\"-\"&A45,'DETTAGLIO VERSAMENTO'!$C$9:$M$2008,11,FALSE),\"0,00\"),2),1)","v":{"$error":"#N/A"}},null,{"$f":"RIGHT(TEXT(VLOOKUP($BN$5&\"-\"&$BN$3&\"-\"&A45,'DETTAGLIO VERSAMENTO'!$C$9:$M$2008,11,FALSE),\"0,00\"),1)","v":{"$error":"#N/A"}},null,{"$f":"VLOOKUP($BN$5&\"-\"&$BN$3&\"-\"&A45,'DETTAGLIO VERSAMENTO'!$C$9:$AA$2008,25,FALSE)","v":{"$error":"#N/A"}}]
[]
[null,null,null,null,null,null,null,null,null,null,null,null,null,null,null,null,null,null,null,null,null,null,null,null,null,null,null,null,null,null,null,null,null,null,null,null,null,null,null,null,null,{"$f":"FLOOR(SUMIF('DETTAGLIO VERSAMENTO'!B9:B2008,$BN$5&\"-\"&$BN$3,'DETTAGLIO VERSAMENTO'!M9:M2008),1)","v":12345},null,null,null,null,null,null,null,null,null,null,null,null,null,null,null,null,null,null,null,{"$f":"LEFT(RIGHT(TEXT(SUMIF('DETTAGLIO VERSAMENTO'!B9:B2008,$BN$5&\"-\"&$BN$3,'DETTAGLIO VERSAMENTO'!M9:M2008),\"0,00\"),2),1)","v":"9"},null,{"$f":"RIGHT(TEXT(SUMIF('DETTAGLIO VERSAMENTO'!B9:B2008,$BN$5&\"-\"&$BN$3,'DETTAGLIO VERSAMENTO'!M9:M2008),\"0,00\"),1)","v":"8"}]
[]
[null,null,{"$f":"MID(TEXT(AI60,\"gg/mm/aaaa\"),1,1)","v":"0"},null,{"$f":"MID(TEXT(AI60,\"gg/mm/aaaa\"),2,1)","v":"1"},null,{"$f":"MID(TEXT(AI60,\"gg/mm/aaaa\"),4,1)","v":"0"},null,{"$f":"MID(TEXT(AI60,\"gg/mm/aaaa\"),5,1)","v":"1"},null,{"$f":"MID(TEXT(AI60,\"gg/mm/aaaa\"),7,1)","v":"2"},{"$f":"MID(TEXT(AI60,\"gg/mm/aaaa\"),8,1)","v":"0"},{"$f":"MID(TEXT(AI60,\"gg/mm/aaaa\"),9,1)","v":"2"},{"$f":"MID(TEXT(AI60,\"gg/mm/aaaa\"),10,1)","v":"4"},null,null,null,{"$f":"MID(AI59,1,1)","v":"A"},{"$f":"MID(AI59,2,1)","v":"B"},{"$f":"MID(AI59,3,1)","v":"C"},{"$f":"MID(AI59,4,1)","v":"."},{"$f":"MID(AI59,5,1)","v":"."},{"$f":"MID(AI59,6,1)","v":"."},{"$f":"MID(AI59,7,1)","v":"."},{"$f":"MID(AI59,8,1)","v":"."},{"$f":"MID(AI59,9,1)","v":"."},{"$f":"MID(AI59,10,1)","v":"."},{"$f":"MID(AI59,11,1)","v":"."},null,{"$f":"MID(AI59,12,1)","v":"."},null,{"$f":"MID(AI59,13,1)","v":"."},null,{"$f":"MID(AI59,14,1)","v":"."},null,{"$f":"MID(AI59,15,1)","v":"c"},null,{"$f":"MID(AI59,16,1)","v":"a"},null,{"$f":"MID(AI59,17,1)","v":"r"},null,{"$f":"MID(AI59,18,1)","v":"a"},null,{"$f":"MID(AI59,19,1)","v":"t"},null,{"$f":"MID(AI59,20,1)","v":"t"},null,{"$f":"MID(AI59,21,1)","v":"e"},null,{"$f":"MID(AI59,22,1)","v":"r"},null,{"$f":"MID(AI59,23,1)","v":"i"},null,{"$f":"MID(AI59,24,1)","v":" "},null,{"$f":"MID(AI59,25,1)","v":" "},null,{"$f":"MID(AI59,26,1)","v":"2"},null,{"$f":"MID(AI59,27,1)","v":"7"},null,null,null,null,null,{"$f":"BN5","v":1}]
[]
[]
[null,"Oscura"]
[null,null,null,null,null,null,"Data",null,null,null,null,null,null,null,null,null,null,null,null,null,null,null,null,null,null,null,null,null,null,null,null,null,null,null,null,null,null,null,null,null,null,null,null,null,null,null,null,null,null,null,null,null,null,null,null,null,null,null,null,null,null,null,null,{"$f":"CONTRIBUENTE!$G$13","v":""}]
[null,null,null,null,null,null,"Conto di tesoreria"]
[null,null,null,null,null,null,"Delega Irrevocabile"]
[]
[]
[]
[null,null,null,null,null,null,null,null,null,null,null,null,null,null,null,null,null,null,null,null,null,null,null,null,null,null,null,null,null,null,null,null,null,null,{"$f":"VLOOKUP(VLOOKUP($BN$5&\"-\"&$BN$3,'DETTAGLIO VERSAMENTO'!$B$9:$T$2008,19,FALSE),Tabelle!B5:C9,2,FALSE)","v":"ABC...........caratteri  27"}]
[null,null,null,{"$f":"COUNTIF(D16:I16,0)","v":0},null,null,null,null,null,null,null,null,{"$f":"IF(B53=$H$61,TRUE,FALSE)","v":false},null,null,null,null,null,null,null,null,null,null,null,null,null,null,null,null,null,null,null,null,null,{"$f":"IF(ISERROR(VLOOKUP($BN$5&\"-\"&$BN$3,'DETTAGLIO VERSAMENTO'!$B$9:$E$2008,4,FALSE)),0,VLOOKUP($BN$5&\"-\"&$BN$3,'DETTAGLIO VERSAMENTO'!$B$9:$E$2008,4,FALSE))","v":"2024-01-01"}]
[null,null,null,{"$f":"COUNTIF(K16:V16,0)","v":5},null,null,null,"Oscura",null,null,null,null,{"$f":"IF(B54=$H$61,TRUE,FALSE)","v":false}]
[null,null,null,null,null,null,null,null,null,null,null,null,{"$f":"IF(B55=$H$61,TRUE,FALSE)","v":false},null,null,null,null,null,null,{"$f":"IF(ISERROR(AR63),\"File danneggiato\",IF(AZ63=0,\"File scaduto\",\"\"))","v":""},null,null,null,null,null,null,null,null,null,null,null,null,null,"Codice integrità",null,null,null,null,null,null,null,null,null,"Integrità",null,null,null,null,null,null,null,"File scaduto / INVERTITO"]
[null,null,null,null,null,null,null,null,null,null,null,null,null,null,null,null,null,null,null,null,null,null,null,null,null,null,null,null,null,null,null,null,null,1,null,null,null,null,null,null,null,null,null,{"$f":"CONTRIBUENTE!K138","v":4},null,null,null,null,null,null,null,{"$f":"IF(CONTRIBUENTE!$H$138=1,0,1)","v":1}]

{"sheet":"Tabelle","index":3,"n_rows":21,"n_cols":7,"rows_kept":21,"cut":false,"hidden":false,"merged":[[2,2,2,6]]}
[]
[]
[]
[null,"SIGLA","Addebito su Conti di Tesoreria",null,"SIGLA","Delega irrevocabile"]
[null,"C1","ABC...........caratteri  27",null,"B1","NOME 1"]
[null,"C2",null,null,"B2"]
[null,"C3",null,null,"B3"]
[null,"C4"]
[null,"C5"]
[]
[null,null,"Personalizza tutti i campi liberi."]
[]
[]
[]
[]
[]
[]
[null,null,null,null,null,null,"www.marcopiccoli.it"]
[]
[null,null,"Codice integrità",null,null,null,"Integrità"]
[null,null,1,null,null,null,{"$f":"CONTRIBUENTE!K138","v":4}]