{"text_format":"1","workbook":"xlsx","n_sheets":4,"sheets":["CONTRIBUENTE","Motivo del pagamento","F24 Semplificato","Tabelle"],"not_rendered":{"charts":0,"images":11,"macros":1,"external_links":0,"defined_names":6,"comments":0,"pivot_tables":0},"unopened":[],"bounds":{"document_bytes":16777216,"sheet_cells":100000,"rows_first":2000,"rows_last":500,"rows_between":2000,"halvings":0,"cell_chars":16384,"cell_head_chars":4096},"cells_cut":0,"cells_raw":0,"read":"whole","date_system":"1900"}

{"sheet":"CONTRIBUENTE","index":0,"n_rows":162,"n_cols":107,"rows_kept":162,"cut":false,"hidden":false,"merged":[[69,7,69,15],[72,2,72,15],[78,2,78,15],[79,2,79,15],[49,2,49,15],[65,10,65,15],[69,2,69,6],[68,1,68,15],[52,2,52,14],[57,2,57,15],[58,5,58,15],[55,2,55,15],[54,2,54,6],[56,2,56,15],[63,3,63,4],[59,3,59,4],[67,8,67,15],[63,5,63,15],[66,10,66,15],[61,10,61,15],[59,5,59,15],[20,2,20,12],[31,4,31,14],[33,4,33,6],[18,8,18,14],[33,2,33,3],[30,2,30,15],[11,19,11,20],[50,3,50,14],[26,9,26,15],[42,2,42,3],[39,2,39,3],[16,2,16,7],[18,2,18,6],[17,2,17,6],[25,12,25,15],[42,10,42,12],[47,2,47,15],[48,2,48,15],[42,4,42,6],[45,2,45,15],[46,2,46,15],[19,8,19,14],[86,12,87,12],[87,4,87,6],[70,11,70,15],[70,2,70,10],[83,8,83,10],[80,12,80,15],[84,2,84,15],[73,2,73,15],[74,2,74,15],[108,11,108,15],[108,1,108,7],[88,4,88,7],[98,2,98,15],[100,2,100,12],[107,2,107,15],[101,2,101,15],[106,2,106,15],[105,2,105,15],[102,2,102,15],[104,2,104,15],[103,2,103,15],[51,2,51,14],[38,9,38,10],[29,2,29,14],[31,2,31,3],[28,2,28,14],[37,9,37,10],[35,4,35,12],[39,4,39,10],[44,2,44,15],[40,9,40,10],[40,4,40,7],[38,4,38,7],[37,4,37,7],[36,4,36,14],[35,2,35,3],[37,2,37,3],[9,9,9,12],[1,2,1,15],[2,2,2,15],[3,2,3,11],[24,2,24,6],[12,2,12,4],[15,9,15,11],[5,2,5,15],[6,2,6,15],[9,2,9,7],[17,8,17,14],[13,1,13,15],[14,1,14,15],[19,2,19,6],[12,6,12,15],[15,2,15,8]]}
[]
[null,null,"Questo file contiene UNA MACRO (non indispensabile) nel foglio F24 Semplificato.  Puoi attivarla anche in un secondo momento, quando"]
[null,null,"riapri il file. Per utilizzarla assicurati di salvare il file nel formato con macro ATTIVE. Le macro sono COMANDI automatici che completano"]
[null,null,"le funzionalità di questo strumento, non contengono virus o altro.  Qui trovi la spiegazione di Microsoft:",null,null,null,null,null,null,null,null,null,"MACRO"]
[null,null,"Sistema interamente originale. Non necessita di aggiornamenti."]
[null,null,"di Marco Piccoli - P. IVA 01151800313"]
[null,null,"Monfalcone - GO - Tel. 333 46 39 497"]
[null,null,null,null,null,null,null,null,null,null,null,null,null,null,null,"Professionista Web di cui alla legge nr. 4/2013"]
[null,null,"Leggi attentamente questa presentazione, osserva le \"Note pratiche\" e richiedi liberamente informazioni via mail."]
[null,null,"Una copia di questo file è sempre disponibile al sito www.marcopiccoli.it:",null,null,null,null,null,null,"Area Download .xlsx / xlsm"]
[]
[null,null,"Puoi usare questo file per annotare i tuoi F24 di TUTTI i MESI di OGNI ANNO. Al momento il trimestre selezionato è:",null,null,null,null,null,null,null,null,null,null,null,null,null,null,null,null,"DAL  - GG/MM -  AL"]
[null,null,{"$f":"I84","v":"1° TRIMESTRE"},null,null,null,{"$f":"IF(J141=\"\",IF(E140=1,B137,\"\"),J141)","v":""},null,null,null,null,null,null,null,null,null,null,null,null,{"$f":"IF(I84=\"\",F158,VLOOKUP(I84,C158:G161,4,FALSE))","v":"2024-01-01"},{"$f":"IF(I84=\"\",G158,VLOOKUP(I84,C158:G161,5,FALSE))","v":"2024-03-31"}]
[null,"Questo strumento è liberamente utilizzabile DA TUTTI. Funziona integralmente per OGNI TRIMESTRE di ogni"]
[null,"ANNO. Puoi sbloccarlo in qualsiasi momento per l' INTERO ANNO. I valori che inserisci sono sempre disponibili."]
[null,null,{"$f":"IF(K66=J145,B128,B127)","v":"Richiedi via mail il TUO CODICE di PROPRIETA' per EXCEL:"},null,null,null,null,null,null,"info@marcopiccoli.it"]
[null,null,"Note pratiche:"]
[null,null,"USA IL TASTO - TAB - PER MUOVERE IL CURSORE NELLE",null,null,null,null,null,"USA IL TASTO - Canc - PER RIMUOVERE IL"]
[null,null,"CELLE LIBERE. TUTTE LE ALTRE SONO BLOCCATE E NON",null,null,null,null,null,"CONTENUTO DI UNA CELLA. PER MAC USA"]
[null,null,"TI SERVONO PER IL CORRETTO USO DI QUESTO FILE.",null,null,null,null,null,"- doppio tasto -   NON TAGLIARE LE CELLE."]
[]
[null,null,null,null,null,null,"per OpenOffice non disponibile"]
[]
[]
[null,null,"Il file contiene 1 Selettore MACRO."]
[null,null,null,null,null,null,null,null,null,null,null,null,"Questo è il sistema"]
[null,null,null,null,null,null,null,null,null,"F24 Semplificato 1.6 per Excel .xlsm"]
[]
[null,null,{"$f":"CONCATENATE(J27,\" è un sistema elettronico UNIVERSALE con il quale puoi creare e memorizzare molteplici modelli in 1 anno ed in più anni, identificandoli con\")","v":"F24 Semplificato 1.6 per Excel .xlsm è un sistema elettronico UNIVERSALE con il quale puoi creare e memorizzare molteplici modelli in 1 anno ed in più anni, identificandoli con"}]
[null,null,"1 numero di protocollo progressivo."]
[null,null,"Il documento si edita una riga sotto l' altra progressivamente e si stampa a scelta nel foglio del  \\ MODELLO Elettronico /."]
[null,null,"CONTRIBUENTE"]
[]
[null,null,"CODICE FISCALE",null,"01234567891"]
[]
[null,null,"Dati Anagrafici",null,"Anagrafica CONTRIBUENTE"]
[null,null,null,null,"Cognome, denominazione o ragione sociale"]
[null,null,null,null,"Nome CONTRIBUENTE",null,null,null,null,"2000-01-01"]
[null,null,null,null,"Nome",null,null,null,null,"Data di nascita",null,null,"Sesso"]
[null,null,null,null,null,null,null,null,null,null,null,null,"Provincia"]
[null,null,null,null,"Comune (o Stato estero) di nascita"]
[]
[null,null,"Codice fiscale",null,null,null,null,null,null,null,"Codice identificativo"]
[]
[null,null,"Dopo aver compilato il quadro CONTRIBUENTE, utilizza il foglio  \\ Motivo del pagamento /"]
[null,null,"per generare i tuoi singoli documenti inserendo gli elementi specifici riga per riga."]
[null,null,"Assegna:  1 numero di protocollo progressivo  per creare ogni singolo documento.   Stesso nr. di prot. =  stesso DOC."]
[]
[null,null,{"$f":"IF(H139=1,G13,IF(ISERROR(K139),J136,J135))","v":"Questo file risulta al momento completamente funzionante ed il sistema rileva tutti i suoi fogli."}]
[]
[null,null,"Note:"]
[]
[]
[]
[null,null,"PROPRIETA' illimitata del file"]
[null,null,"Questo sistema può funzionare in enne copie rinominate a piacere. Funziona con calendario PERPETUO."]
[null,null,"Per attivarlo nella totalità dell' ANNO inserisci in qualsiasi momento il tuo codice di proprietà nell' apposito spazio. Puoi"]
[null,null,"usare contemporaneamente più di un file. Salva un file IN BIANCO con le tue IMPOSTAZIONI da tenere come MATRICE."]
[null,null,null,null,null,{"$f":"IF(K66=J145,B137,\"\")","v":""}]
[null,null,null,"Anagrafica:",null,{"$f":"E36","v":"Anagrafica CONTRIBUENTE"}]
[]
[null,null,null,null,null,null,null,null,null,"Partita IVA / C.F:",{"$f":"E34","v":"01234567891"}]
[]
[null,null,null,"Indirizzo:"]
[]
[null,null,"QUI",null,null,null,null,null,null,"Inserisci qui il tuo codice di proprietà  --->",null,null,null,null,null,null,{"$f":"IF(ISBLANK(K66),0,1)","v":0}]
[null,null,{"$f":"IF(K66=$J$145,\"ora è disattivato\",\"cambi trimestre\")","v":"cambi trimestre"}]
[null,null,{"$f":"C153","v":89},"giorni al","primo mese disattivato",null,null,null,{"$f":"IF(K66=\"\",\"\",IF(J145=K66,B135,B136))","v":""},null,null,null,null,null,null,null,null,null,"Il codice che hai inserito nel sistema non è stato riconosciuto."]
[null,{"$f":"IF(K66=J145,B131,IF(I68=B136,B132,IF(C68<0,\"\",\"\")))","v":""},null,null,null,null,null,null,null,null,null,null,null,null,null,null,null,null,"Le cause possono essere le seguenti:"]
[null,null,"PREZZO per 1 codice di proprietà € 39,00",null,null,null,null,"Questo sistema utilizza il codice ID: Contabilità #2"]
[null,null,{"$f":"J27","v":"F24 Semplificato 1.6 per Excel .xlsm"},null,null,null,null,null,null,null,null,"www.marcopiccoli.it",null,null,null,null,null,null,"1) La Ragione Sociale inserita non coincide con il testo in mio possesso."]
[null,null,null,null,null,null,null,null,null,null,null,null,null,null,null,null,null,null,"Verifica la punteggiatura e l' assenza di spazi iniziali / finali. Controlla la P.E.C. ricevuta."]
[null,null,"Questo file funziona solo se lasciato integro in tutte le sue parti. E' garantito il funzionamento con PC - Excel .xls o sup.",null,null,null,null,null,null,null,null,null,null,null,null,null,null,null,"2) La Partita IVA inserita non coincide con il numero in mio possesso."]
[null,null,"Il sistema conta 4 fogli compreso il presente. I fogli NON POSSONO ESSERE ELIMINATI altrimenti l' intero sistema",null,null,null,null,null,null,null,null,null,null,null,null,null,null,null,"3) Il codice che ti ho fornito non è stato correttamente inserito."]
[null,null,"non funzionerà. Se succede involontariamente NON SALVARE IL FILE ma chiudilo e riaprilo nuovamente.",null,null,null,null,null,null,null,null,null,null,null,null,null,null,null,"4) Hai inserito un numero a caso?"]
[null,null,null,"Pagina WEB del sistema",null,null,"Sezione info",null,null,null,"I tuoi",null,null,null,null,null,null,null,"Contattami liberamente via mail in qualsiasi momento per ulteriori informazioni sul codice."]
[null,null,null,"QUI",null,null,"F.A.Q.","About me",null,null,"COMMENTI",null,null,null,null,null,null,null,"5) Hai cambiato Ragione Sociale o Partita IVA? Contattami, il codice è una monoutenza specifica."]
[null,null,null,null,null,null,null,null,null,null,null,null,null,null,null,null,null,null,"6) Hai usato il codice di un altro sistema? Non tutti i sistemi hanno lo stesso codice."]
[null,null,"Se desideri attivare questo sistema per l' INTERO ANNO e per OGNI ANNO, richiedi via mail il tuo Codice di Proprietà ed",null,null,null,null,null,null,null,null,null,null,null,null,null,null,null,"Questo file utilizza il codice di proprietà ID: Contabilità #2."]
[null,null,"inseriscilo direttamente nel file che stai già usando. Il codice ti viene inviato con regolare fattura. Chiedi istruzioni via mail."]
[null,null,null,null,null,null,null,null,null,null,null,null,"info@marcopiccoli.it",null,null,null,null,null,"Per qualsiasi altra cosa, contattami dopo aver considerato questi punti."]
[null,null,null,"SELEZIONA da qui il TRIMESTRE per il quale ATTIVARE questo sistema."]
[null,null,null,"I valori che via via inserisci sono sempre disponibili."]
[null,null,null,null,null,null,null,"---->","1° TRIMESTRE"]
[]
[]
[null,null,null,null,null,null,null,null,null,null,null,"Con  \"OK\"  accetti le regole","OK"]
[null,null,null,null,"A.C. cell di Marco Piccoli",null,null,null,null,null,null,"sull' utilizzo di questo file"]
[null,null,null,null,"34074 Monfalcone, GO - P. IVA 01151800313"]
[null,null,null,null,"INFORMA CHIUNQUE ENTRI IN POSSESSO DI QUESTO FILE, CHE NON E'"]
[null,null,null,null,"POSSIBILE UTILIZZARLO SENZA PROTEZIONI ORIGINALI e CHE SI ATTIVA"]
[null,null,null,null,"ILLIMITATAMENTE SOLO CON REGOLARE CODICE DI PROPRIETA'."]
[null,null,null,null,"Questo strumento è interamente originale ed è distribuito professionalmente."]
[null,null,null,null,"E' coperto da diritti d' autore dal momento della sua pubblicazione sul sito"]
[null,null,null,null,"www.marcopiccoli.it."]
[null,null,null,null,"L' inserimento del Codice di Proprietà, che viene inviato via P.E.C., estende tutti"]
[null,null,null,null,"i diritti anche al Titolare del Sistema individuato nell' ANAGRAFICA di questo file.",null,null,null,null,null,null,null,null,null,"QUI"]
[null,null,null,null,"Per qualsiasi altra informazione contattami liberamente via mail."]
[]
[]
[null,null,{"$f":"CONCATENATE(J27,\"   /   Sistema originale, nessuna riproduzione è permessa.\")","v":"F24 Semplificato 1.6 per Excel .xlsm   /   Sistema originale, nessuna riproduzione è permessa."}]
[null,null,"Rimuovere le protezioni originali, far circolare una parte del sistema o qualsiasi altro utilizzo (anche parziale, anche dei"]
[null,null,"testi, anche a titolo gratuito) diverso dalle disposizioni originarie del file, sarà considerata violazione delle norme sulle"]
[null,null,"opere d' ingegno. Il sistema originale privo di virus e malware si scarica al sito www.marcopiccoli.it."]
[]
[]
[null,null,null,null,null,null,null,null,null,null,null,null,null,null,null,null,null,"Torna su"]
[]
[null,{"$f":"J27","v":"F24 Semplificato 1.6 per Excel .xlsm"},null,null,null,null,null,null,null,null,null,"www.marcopiccoli.it"]
[]
[]
[]
[null,null,null,null,null,null,null,null,null,null,null,null,null,null,null,{"$f":"Tabelle!M5","v":"02"}]
[null,null,null,null,null,null,null,null,null,null,null,null,null,null,null,{"$f":"Tabelle!M6","v":"03"}]
[null,null,null,null,null,null,null,null,null,null,null,null,null,null,null,{"$f":"Tabelle!M7","v":"07"}]
[null,null,null,null,null,null,null,null,null,null,null,null,null,null,null,{"$f":"Tabelle!M8","v":"50"}]
[null,null,null,null,null,null,null,null,null,null,null,null,null,null,null,{"$f":"Tabelle!M9","v":"51"}]
[null,null,null,null,null,null,null,null,null,null,null,null,null,null,null,{"$f":"Tabelle!M10","v":"60"}]
[null,null,null,null,null,null,null,null,null,null,null,null,null,null,null,{"$f":"Tabelle!M11","v":"61"}]
[null,null,null,null,null,null,null,null,null,null,null,null,null,null,null,{"$f":"Tabelle!M12","v":"62"}]
[null,null,null,null,null,null,null,null,null,null,null,null,null,null,null,{"$f":"Tabelle!M13","v":"70"}]
[null,null,null,null,null,null,null,null,null,null,null,null,null,null,null,{"$f":"Tabelle!M14","v":"71"}]
[null,null,null,"X","Maschile","M",null,null,null,null,null,null,null,null,null,{"$f":"Tabelle!M15","v":"."}]
[null,null,null,null,"Femminile","F",null,null,null,null,null,null,null,null,null,{"$f":"Tabelle!M16","v":"."}]
[]
[]
[null,"Richiedi via mail il TUO CODICE di PROPRIETA' per EXCEL:",null,null,null,null,null,"Il codice che hai inserito nel sistema non è stato riconosciuto."]
[null,"Contatta A.C. cell",null,null,null,null,null,"Le cause possono essere le seguenti:"]
[null,"Questo file contiene delle MACRO. Leggi le istruzioni e completa il foglio  \\ IMPOSTAZIONI /  prima di utilizzare il file."]
[null,"Questo file contiene delle MACRO.",null,null,null,null,null,null,null,null,"disattivato"]
[null,"Questo sistema appartiene al TITOLARE in anagrafica. Qualsiasi altro uso non è permesso.",null,null,null,null,null,null,null,"Questo file si considera funzionante al momento della richiesta del codice."]
[null,"Verifica le NOTE che trovi a fondo pagina.",null,null,null,null,null,null,null,"Tieni costantemente una copia di sicurezza ed una MATRICE in bianco per gli anni successivi."]
[]
[]
[null,"OK ! Codice corretto.",null,null,"OK","Sistema scaduto",null,null,null,"Questo file risulta al momento completamente funzionante ed il sistema rileva tutti i suoi fogli."]
[null,"CODICE NON VALIDO",null,null,"NO",{"$f":"IF(M87=E135,TRUE,FALSE)","v":true},null,null,null,"SISTEMA DANNEGGIATO !!! Chiudere senza salvare!"]
[null,"TITOLARE DEL SISTEMA",null,null,null,null,null,null,null,{"$f":"IF(C153=0,\"Sistema parzialmente attivato. Inserisci il tuo CODICE di PROPRIETA' nel foglio Presentazione.\",CONCATENATE(\"Sistema attivato dal \",TEXT(T13,\"GG/MM\"),\" al \",TEXT(U13,\"GG/MM\"),\". Modifica il trimestre dal foglio Presentazione.\"))","v":"Sistema attivato dal 01/01 al 31/03. Modifica il trimestre dal foglio Presentazione."}]
[]
[null,1,"BIT INTEGRITA'",null,{"$f":"IF(AND(F136=TRUE,K66=J145),1,0)","v":0},"PROPRIETA'",null,{"$f":"IF(G13=F135,1,IF(F136=FALSE,1,0))","v":0},"SCADENZA",null,{"$f":"B139+'Motivo del pagamento'!H2021+'F24 Semplificato'!AN76+Tabelle!B22","v":4},"INTEGRITA'"]
[null,null,null,null,{"$f":"IF(K66=J145,1,0)","v":0},"PROPRIETA'"]
[null,null,null,null,null,null,null,null,null,{"$f":"IF(F136=FALSE,\"ERRORE: manca l' OK sulle regole di utilizzo del file.\",IF(K66=J145,\"\",IF(C68<0,F135,\"\")))","v":""}]
[]
[null,"Nome del Titolare",null,null,null,null,"P. IVA o Cod. Fiscale",null,null,null,null,null,1,2,3,4,5,6,7,8,9,10,11,null,null,{"$f":"M145","v":0},{"$f":"ROUND((Z143+AC143)*3,1)","v":3},61,{"$f":"N145","v":1},{"$f":"ROUND((AC143+AF143)*3,1)","v":9},{"$f":"AB143-5","v":56},{"$f":"O145","v":2},{"$f":"ROUND((AF143+AI143)*3,1)","v":15},{"$f":"AE143-5","v":51},{"$f":"P145","v":3},{"$f":"ROUND((AI143+AL143)*3,1)","v":21},{"$f":"AH143-5","v":46},{"$f":"Q145","v":4},{"$f":"ROUND((AL143+AO143)*3,1)","v":27},{"$f":"AK143-5","v":41},{"$f":"R145","v":5},{"$f":"ROUND((AO143+AR143)*3,1)","v":33},{"$f":"AN143-5","v":36},{"$f":"S145","v":6},{"$f":"ROUND((AR143+AU143)*3,1)","v":39},{"$f":"AQ143-5","v":31},{"$f":"T145","v":7},{"$f":"ROUND((AU143+AX143)*3,1)","v":45},{"$f":"AT143-5","v":26},{"$f":"U145","v":8},{"$f":"ROUND((AX143+BA143)*3,1)","v":51},{"$f":"AW143-5","v":21},{"$f":"V145","v":9},{"$f":"ROUND((BA143+BD143)*3,1)","v":30},{"$f":"AZ143-5","v":16},{"$f":"W145","v":1},{"$f":"ROUND((BD143+Z143)*3,1)","v":3},{"$f":"BC143-5","v":11},null,null,"A","B","C","D","F","E","I","G","H","K","J","N","L","M","P","O","S","Q","R","U","T","X","V","W","Z","Y","ù","à","è","ì","ò","/","","\"","-",".","3","1","2","5","4","8","6","7","0","9"," "]
[]
[null,{"$f":"E36","v":"Anagrafica CONTRIBUENTE"},null,null,null,null,{"$f":"E34","v":"01234567891"},null,null,{"$f":"CONCATENATE(J149,\"-\",J150,\"-\",J151)","v":"223-BKBCC-823"},null,null,{"$f":"IF(ISERROR(VALUE(MID($G145,M143,1))),M143,IF(M143<($H146+1),VALUE(MID($G145,M143,1)),0))","v":0},1,2,3,4,5,6,7,8,9,1,null,null,{"$f":"HLOOKUP(MID($B145,Z143,1),$BI143:$DC145,3,FALSE)","v":{"$error":"#VALUE!"}},1,33,1,3,33,12,21,33,1,12,33,8,33,33,19,33,33,1,33,33,5,33,33,7,33,12,3,33,19,1,1,47,null,null,1,2,3,4,5,6,7,8,9,10,11,12,13,14,15,16,17,18,19,20,21,22,23,24,25,26,27,28,29,30,31,32,33,34,35,36,37,38,39,40,41,42,43,44,45,46,47]
[null,null,null,null,null,null,"LUNG. Txt",{"$f":"LEN(G145)","v":11},null,null,null,null,null,null,null,null,null,null,null,null,null,null,null,null,null,null,null,null,null,null,null,null,null,null,null,null,null,null,null,null,null,null,null,null,null,null,null,null,null,null,null,null,null,null,null,null,null,null,null,null,"A","B","C","D","E","F","G","H","I","J","K","L","M","N","O","P","Q","R","S","T","U","V","W","X","Y","Z",null,null,null,null,null,null,null,null,null,null,{"$f":"COUNTIF($Z143:$BF143,CS143)","v":3},2,1,1,1,1,1,1,1,2," "]
[null,12,null,null,null,null,null,null,null,null,null,null,null,null,null,null,null,null,null,null,null,null,null,{"$f":"IF(X150<0,X150*-1,X150)","v":227},null,null,null,null,null,null,null,null,null,null,null,null,null,null,null,null,null,null,null,null,null,null,null,null,null,null,null,null,null,null,null,null,null,null,{"$f":"IF(BG150<0,BG150*-1,BG150)","v":3734},null,null,null,null,null,null,null,null,null,null,null,null,null,null,null,null,null,null,null,null,null,null,null,null,null,null,null,null,null,null,null,null,null,null,null,15,null,{"$f":"IF(ISERROR(HLOOKUP(SMALL($Z143:$BF143,CS143),$BI145:$CH146,2,FALSE)),HLOOKUP(SMALL($Z143:$BF143,CS143),$BI145:$CH146,2,TRUE),HLOOKUP(SMALL($Z143:$BF143,CS143),$BI145:$CH146,2,FALSE))","v":"A"},{"$f":"IF(ISERROR(HLOOKUP(SMALL($Z143:$BF143,CT143+SUM($CS146:CS146)),$BI145:$CH146,2,FALSE)),HLOOKUP(SMALL($Z143:$BF143,CT143+SUM($CS146:CS146)),$BI145:$CH146,2,TRUE),HLOOKUP(SMALL($Z143:$BF143,CT143+SUM($CS146:CS146)),$BI145:$CH146,2,FALSE))","v":"B"},{"$f":"IF(ISERROR(HLOOKUP(SMALL($Z143:$BF143,CU143+SUM($CS146:CT146)),$BI145:$CH146,2,FALSE)),HLOOKUP(SMALL($Z143:$BF143,CU143+SUM($CS146:CT146)),$BI145:$CH146,2,TRUE),HLOOKUP(SMALL($Z143:$BF143,CU143+SUM($CS146:CT146)),$BI145:$CH146,2,FALSE))","v":"C"},{"$f":"IF(ISERROR(HLOOKUP(SMALL($Z143:$BF143,CV143+SUM($CS146:CU146)),$BI145:$CH146,2,FALSE)),HLOOKUP(SMALL($Z143:$BF143,CV143+SUM($CS146:CU146)),$BI145:$CH146,2,TRUE),HLOOKUP(SMALL($Z143:$BF143,CV143+SUM($CS146:CU146)),$BI145:$CH146,2,FALSE))","v":"G"},{"$f":"IF(ISERROR(HLOOKUP(SMALL($Z143:$BF143,CW143+SUM($CS146:CV146)),$BI145:$CH146,2,FALSE)),HLOOKUP(SMALL($Z143:$BF143,CW143+SUM($CS146:CV146)),$BI145:$CH146,2,TRUE),HLOOKUP(SMALL($Z143:$BF143,CW143+SUM($CS146:CV146)),$BI145:$CH146,2,FALSE))","v":"G"},{"$f":"IF(ISERROR(HLOOKUP(SMALL($Z143:$BF143,CX143+SUM($CS146:CW146)),$BI145:$CH146,2,FALSE)),HLOOKUP(SMALL($Z143:$BF143,CX143+SUM($CS146:CW146)),$BI145:$CH146,2,TRUE),HLOOKUP(SMALL($Z143:$BF143,CX143+SUM($CS146:CW146)),$BI145:$CH146,2,FALSE))","v":"O"},{"$f":"IF(ISERROR(HLOOKUP(SMALL($Z143:$BF143,CY143+SUM($CS146:CX146)),$BI145:$CH146,2,FALSE)),HLOOKUP(SMALL($Z143:$BF143,CY143+SUM($CS146:CX146)),$BI145:$CH146,2,TRUE),HLOOKUP(SMALL($Z143:$BF143,CY143+SUM($CS146:CX146)),$BI145:$CH146,2,FALSE))","v":"K"},{"$f":"IF(ISERROR(HLOOKUP(SMALL($Z143:$BF143,CZ143+SUM($CS146:CY146)),$BI145:$CH146,2,FALSE)),HLOOKUP(SMALL($Z143:$BF143,CZ143+SUM($CS146:CY146)),$BI145:$CH146,2,TRUE),HLOOKUP(SMALL($Z143:$BF143,CZ143+SUM($CS146:CY146)),$BI145:$CH146,2,FALSE))","v":"P"},{"$f":"IF(ISERROR(HLOOKUP(SMALL($Z143:$BF143,DA143+SUM($CS146:CZ146)),$BI145:$CH146,2,FALSE)),HLOOKUP(SMALL($Z143:$BF143,DA143+SUM($CS146:CZ146)),$BI145:$CH146,2,TRUE),HLOOKUP(SMALL($Z143:$BF143,DA143+SUM($CS146:CZ146)),$BI145:$CH146,2,FALSE))","v":"G"},{"$f":"IF(ISERROR(HLOOKUP(SMALL($Z143:$BF143,CQ147),$BI145:$CH146,2,FALSE)),HLOOKUP(SMALL($Z143:$BF143,CQ147),$BI145:$CH146,2,TRUE),HLOOKUP(SMALL($Z143:$BF143,CQ147),$BI145:$CH146,2,FALSE))","v":"K"}]
[null,null,null,null,null,null,null,null,null,null,null,null,{"$f":"M145*$B147","v":0},null,{"$f":"O145*$B147","v":24},null,{"$f":"Q145*$B147","v":48},null,{"$f":"S145*$B147","v":72},null,{"$f":"U145*$B147","v":96},null,{"$f":"W145*$B147","v":12},{"$f":"IF(X151<0,X151*-1,X151)","v":280},null,{"$f":"Z145*$B147","v":{"$error":"#VALUE!"}},null,{"$f":"AB145*$B147","v":396},null,{"$f":"AD145*$B147","v":36},null,{"$f":"AF145*$B147","v":144},null,{"$f":"AH145*$B147","v":396},null,{"$f":"AJ145*$B147","v":144},null,{"$f":"AL145*$B147","v":96},null,{"$f":"AN145*$B147","v":396},null,{"$f":"AP145*$B147","v":396},null,{"$f":"AR145*$B147","v":12},null,{"$f":"AT145*$B147","v":396},null,{"$f":"AV145*$B147","v":396},null,{"$f":"AX145*$B147","v":84},null,{"$f":"AZ145*$B147","v":144},null,{"$f":"BB145*$B147","v":396},null,{"$f":"BD145*$B147","v":12},null,{"$f":"BF145*$B147","v":564},{"$f":"IF(BG151<0,BG151*-1,BG151)","v":3346},null,null,null,null,null,null,null,null,null,null,null,null,null,null,null,null,null,null,null,null,null,null,null,null,null,null,null,null,null,null,null,null,null,null,null,null,null,{"$f":"IF(ISERROR(CS147),0,CS147)","v":"A"},"B","C","G","G","O","K","P","G","K"]
[null,null,null,null,null,null,null,null,null,{"$f":"CONCATENATE(AE154,AF154,AG154)","v":"223"},null,null,null,{"$f":"N145*$B147","v":12},null,{"$f":"P145*$B147","v":36},null,{"$f":"R145*$B147","v":60},null,{"$f":"T145*$B147","v":84},null,{"$f":"V145*$B147","v":108},null,{"$f":"IF(X152<0,X152*-1,X152)","v":1105},null,null,{"$f":"AA145*$B147","v":12},null,{"$f":"AC145*$B147","v":12},null,{"$f":"AE145*$B147","v":396},null,{"$f":"AG145*$B147","v":252},null,{"$f":"AI145*$B147","v":12},null,{"$f":"AK145*$B147","v":396},null,{"$f":"AM145*$B147","v":396},null,{"$f":"AO145*$B147","v":228},null,{"$f":"AQ145*$B147","v":396},null,{"$f":"AS145*$B147","v":396},null,{"$f":"AU145*$B147","v":60},null,{"$f":"AW145*$B147","v":396},null,{"$f":"AY145*$B147","v":396},null,{"$f":"BA145*$B147","v":36},null,{"$f":"BC145*$B147","v":228},null,{"$f":"BE145*$B147","v":12},null,{"$f":"IF(BG152<0,BG152*-1,BG152)","v":15302}]
[null,{"$f":"DAY(E150)","v":31},{"$f":"MONTH(E150)","v":3},{"$f":"YEAR(E150)","v":2024},{"$f":"U13","v":45382},null,null,null,null,{"$f":"CONCATENATE(R154,S154,T154,U154,V154)","v":"BKBCC"},null,null,{"$f":"M148-N145","v":-1},null,{"$f":"O148-P145","v":21},null,{"$f":"Q148-R145","v":43},null,{"$f":"S148-T145","v":65},null,{"$f":"U148-V145","v":87},null,{"$f":"W148-M145","v":12},{"$f":"SUM(M150:W150)","v":227},null,{"$f":"Z148-BF145","v":{"$error":"#VALUE!"}},null,{"$f":"AB148-AA145","v":395},null,{"$f":"AD148-AC145","v":35},null,{"$f":"AF148-AE145","v":111},null,{"$f":"AH148-AG145","v":375},null,{"$f":"AJ148-AI145","v":143},null,{"$f":"AL148-AK145","v":63},null,{"$f":"AN148-AM145","v":363},null,{"$f":"AP148-AO145","v":377},null,{"$f":"AR148-AQ145","v":-21},null,{"$f":"AT148-AS145","v":363},null,{"$f":"AV148-AU145","v":391},null,{"$f":"AX148-AW145","v":51},null,{"$f":"AZ148-AY145","v":111},null,{"$f":"BB148-BA145","v":393},null,{"$f":"BD148-BC145","v":-7},null,{"$f":"BF148-BE145","v":563},{"$f":"SUMIF(Z150:BF150,\">0\")","v":3734},null,null,null,null,null,null,null,null,null,null,null,null,null,null,null,null,null,null,null,null,null,null,null,null,null,null,null,null,null,null,null,null,null,null,null,null,null,"A","D","E","G","O","P","R","R","S","U"]
[null,{"$f":"DAY(E151)","v":2},{"$f":"MONTH(E151)","v":1},{"$f":"YEAR(E150)","v":2024},{"$f":"TODAY()","v":45293},null,null,null,null,{"$f":"CONCATENATE(AH154,AI154,AJ154)","v":"823"},null,null,null,{"$f":"N149-M145","v":12},null,{"$f":"P149-O145","v":34},null,{"$f":"R149-Q145","v":56},null,{"$f":"T149-S145","v":78},null,{"$f":"V149-U145","v":100},null,{"$f":"SUM(M151:W151)","v":280},null,null,{"$f":"AA149-AB145","v":-21},null,{"$f":"AC149-AD145","v":9},null,{"$f":"AE149-AF145","v":384},null,{"$f":"AG149-AH145","v":219},null,{"$f":"AI149-AJ145","v":0},null,{"$f":"AK149-AL145","v":388},null,{"$f":"AM149-AN145","v":363},null,{"$f":"AO149-AP145","v":195},null,{"$f":"AQ149-AR145","v":395},null,{"$f":"AS149-AT145","v":363},null,{"$f":"AU149-AV145","v":27},null,{"$f":"AW149-AX145","v":389},null,{"$f":"AY149-AZ145","v":384},null,{"$f":"BA149-BB145","v":3},null,{"$f":"BC149-BD145","v":227},null,{"$f":"BE149-BF145","v":-35},null,{"$f":"SUMIF(Z151:BF151,\">0\")","v":3346},null,null,null,null,null,null,null,null,null,null,null,null,null,null,null,null,null,null,null,null,null,null,null,null,null,null,null,null,null,null,null,null,null,null,null,null,null,{"$f":"IF(CS148=0,CS150,CS147)","v":"A"},"B","C","G","G","O","K","P","G","K"]
[null,null,null,null,null,null,null,null,null,null,null,null,{"$f":"M145+M148+M150","v":-1},{"$f":"N145+N149+N151","v":25},{"$f":"O145+O148+O150","v":47},{"$f":"P145+P149+P151","v":73},{"$f":"Q145+Q148+Q150","v":95},{"$f":"R145+R149+R151","v":121},{"$f":"S145+S148+S150","v":143},{"$f":"T145+T149+T151","v":169},{"$f":"U145+U148+U150","v":191},{"$f":"V145+V149+V151","v":217},{"$f":"W145+W148+W150","v":25},{"$f":"SUM(M152:W152)","v":1105},null,{"$f":"Z145+Z148+Z150","v":{"$error":"#VALUE!"}},{"$f":"AA145+AA149+AA151","v":-8},{"$f":"AB145+AB148+AB150","v":824},{"$f":"AC145+AC149+AC151","v":22},{"$f":"AD145+AD148+AD150","v":74},{"$f":"AE145+AE149+AE151","v":813},{"$f":"AF145+AF148+AF150","v":267},{"$f":"AG145+AG149+AG151","v":492},{"$f":"AH145+AH148+AH150","v":804},{"$f":"AI145+AI149+AI151","v":13},{"$f":"AJ145+AJ148+AJ150","v":299},{"$f":"AK145+AK149+AK151","v":817},{"$f":"AL145+AL148+AL150","v":167},{"$f":"AM145+AM149+AM151","v":792},{"$f":"AN145+AN148+AN150","v":792},{"$f":"AO145+AO149+AO151","v":442},{"$f":"AP145+AP148+AP150","v":806},{"$f":"AQ145+AQ149+AQ151","v":824},{"$f":"AR145+AR148+AR150","v":-8},{"$f":"AS145+AS149+AS151","v":792},{"$f":"AT145+AT148+AT150","v":792},{"$f":"AU145+AU149+AU151","v":92},{"$f":"AV145+AV148+AV150","v":820},{"$f":"AW145+AW149+AW151","v":818},{"$f":"AX145+AX148+AX150","v":142},{"$f":"AY145+AY149+AY151","v":813},{"$f":"AZ145+AZ148+AZ150","v":267},{"$f":"BA145+BA149+BA151","v":42},{"$f":"BB145+BB148+BB150","v":822},{"$f":"BC145+BC149+BC151","v":474},{"$f":"BD145+BD148+BD150","v":6},{"$f":"BE145+BE149+BE151","v":-22},{"$f":"BF145+BF148+BF150","v":1174},{"$f":"SUMIF(Z152:BF152,\">0\")","v":15302}]
[null,{"$f":"DATE(D150,C150,B150)","v":45382},{"$f":"IF((B153-B154)<0,0,B153-B154)","v":89}]
[null,{"$f":"DATE(D151,C151,B151)","v":45293},null,null,null,null,null,null,null,null,null,null,{"$f":"SUM(X150:X152)","v":1612},null,null,null,{"$f":"LEN(TEXT(M154,\"@\"))","v":4},{"$f":"IF(Q154>0,HLOOKUP(MID(TEXT($M154,\"@\"),1,1),$CS143:$DB151,9,FALSE),\"\")","v":"B"},{"$f":"IF($Q154>1,HLOOKUP(MID(TEXT($M154,\"@\"),2,1),$CS143:$DB151,9,FALSE),HLOOKUP(MID(TEXT($X154,\"@\"),1,1),$CS143:$DB151,9,FALSE))","v":"K"},{"$f":"IF($Q154>2,HLOOKUP(MID(TEXT($M154,\"@\"),3,1),$CS143:$DB151,9,FALSE),HLOOKUP(MID(TEXT($X154,\"@\"),2,1),$CS143:$DB151,9,FALSE))","v":"B"},{"$f":"IF($Q154>3,HLOOKUP(MID(TEXT($M154,\"@\"),4,1),$CS143:$DB151,9,FALSE),HLOOKUP(MID(TEXT($X154,\"@\"),3,1),$CS143:$DB151,9,FALSE))","v":"C"},{"$f":"IF($Q154>4,HLOOKUP(MID(TEXT($M154,\"@\"),5,1),$CS143:$DB151,9,FALSE),HLOOKUP(MID(TEXT($X154,\"@\"),4,1),$CS143:$DB151,9,FALSE))","v":"C"},{"$f":"LEN(TEXT(CONCATENATE(TEXT(X147,\"@\"),TEXT(X148,\"@\"),TEXT(X149,\"@\")),\"@\"))","v":10},{"$f":"IF(W154<4,CONCATENATE(TEXT(CQ147,\"@\"),TEXT(X147,\"@\"),TEXT(X148,\"@\"),TEXT(X149,\"@\")),CONCATENATE(TEXT(X147,\"@\"),TEXT(X148,\"@\"),TEXT(X149,\"@\")))","v":"2272801105"},null,{"$f":"SUM(BG150:BG152)","v":22382},null,null,null,{"$f":"LEN(TEXT(Z154,\"@\"))","v":5},{"$f":"IF(AD154>0,MID(TEXT($Z154,\"@\"),1,1),\"\")","v":"2"},{"$f":"IF($AD154>1,MID(TEXT($Z154,\"@\"),2,1),MID(TEXT($BG154,\"@\"),1,1))","v":"2"},{"$f":"IF($AD154>2,MID(TEXT($Z154,\"@\"),3,1),MID(TEXT($BG154,\"@\"),2,1))","v":"3"},{"$f":"IF($AD154>3,MID(TEXT($Z154,\"@\"),4,1),MID(TEXT($BG154,\"@\"),3,1))","v":"8"},{"$f":"IF($AD154>4,MID(TEXT($Z154,\"@\"),5,1),MID(TEXT($BG154,\"@\"),4,1))","v":"2"},{"$f":"IF($AD154>5,MID(TEXT($Z154,\"@\"),6,1),MID(TEXT($BG154,\"@\"),5,1))","v":"3"},{"$f":"LEN(TEXT(CONCATENATE(TEXT(BG147,\"@\"),TEXT(BG148,\"@\")),\"@\"))","v":8},null,null,null,null,null,null,null,null,null,null,null,null,null,null,null,null,null,null,null,null,null,{"$f":"IF(AK154<5,CONCATENATE(TEXT(BG149,\"@\"),TEXT(BG147,\"@\"),TEXT(BG148,\"@\")),CONCATENATE(TEXT(BG147,\"@\"),TEXT(BG148,\"@\")))","v":"37343346"}]
[]
[]
[null,null,null,null,null,"ANNO",{"$f":"'F24 Semplificato'!BU5","v":2024}]
[null,null,"1° TRIMESTRE",null,1,{"$f":"DATE(G157,E158,1)","v":"2024-01-01"},{"$f":"F159-1","v":"2024-03-31"}]
[null,null,"2° TRIMESTRE",null,4,{"$f":"DATE(G157,E159,1)","v":"2024-04-01"},{"$f":"F160-1","v":"2024-06-30"}]
[null,null,"3° TRIMESTRE",null,7,{"$f":"DATE(G157,E160,1)","v":"2024-07-01"},{"$f":"F161-1","v":"2024-09-30"}]
[null,null,"4° TRIMESTRE",null,10,{"$f":"DATE(G157,E161,1)","v":"2024-10-01"},{"$f":"DATE(G157,E162,31)","v":"2024-12-31"}]
[null,null,null,null,12]

{"sheet":"Motivo del pagamento","index":1,"n_rows":2028,"n_cols":37,"rows_kept":2028,"cut":false,"hidden":false,"merged":[[5,32,6,32],[2023,12,2024,12],[5,9,6,9],[5,12,6,12],[2,3,2,4],[4,9,4,11],[4,20,4,22],[2011,3,2011,4],[2012,3,2012,4],[5,4,6,4],[2010,3,2010,4],[2010,9,2010,10],[5,16,6,16],[5,20,5,22],[4,3,4,4],[1,9,1,17],[2,9,2,17],[3,9,3,13],[3,3,3,4],[1,3,1,4]]}
[]
[null,null,null,"Contribuente:",null,null,null,null,null,"Compila le righe di questa sezione una sotto l' altra, assegnando un numero di protocollo progressivo e la data"]
[null,null,null,{"$f":"CONTRIBUENTE!E34","v":"01234567891"},null,null,null,null,null,"in ogni riga. Nel foglio \\ F24 Semplificato / potrai richiamare e stampare tutti i documenti così generati."]
[null,null,null,"Stesso nr. di PROT. =",null,null,null,null,null,"MOTIVO DEL PAGAMENTO"]
[null,null,null,"stesso DOCUMENTO",null,null,null,null,null,{"$f":"IF(M2021=0,\"\",CONTRIBUENTE!$F$135)","v":""},null,null,null,null,null,null,null,null,null,null,"Vedi foglio  \\ Tabelle /"]
[null,null,null,"NR.","DATA",null,"Codice","Codice",null,"SEZ.","codice","codice","TIPO","num.","Rateazione","anno di","DETRAZIONI","importi a debito","importi a credito",null,"Delega irrevocabile a",null,null,null,"Protocollo",null,"Pagamento con","bancario","circ. o",null,null,null,"N O T E"]
[null,null,null,"Prot.",null,null,"UFFICIO","ATTO",null,null,"tributo","ente",null,"immob.","mese rif.","riferimento",null,"VERSATI","COMPENSATI",null,null,"ABI","CAB",null,"alfanumerico","opz.","assegno nr.","postale","vaglia","ABI","CAB"]
[]
["1 di 2000",{"$f":"IF(AK9=$AK$2015,0,IF(M$2021=1,0,D9&\"-\"&YEAR(E9)))","v":"1-2024"},{"$f":"IF(M$2021=1,0,B9&\"-\"&AI9)","v":"1-2024-1"},1,"2024-01-01",null,"123","01234567891",null,"---- Inserisci","0101","0000","Saldo",1,"01 01","2020",null,1,null,null,"B1",{"$f":"IF(M$2021=1,\"\",IF(U9=\"\",\"\",VLOOKUP(U9,Tabelle!$D$5:$H$7,5,FALSE)))","v":"00001"},{"$f":"IF(M$2021=1,\"\",IF(U9=\"\",\"\",VLOOKUP(U9,Tabelle!$D$5:$I$7,6,FALSE)))","v":"10000"},null,"AAA","compila","0123456789","X"," ","01234","56789",null,"Testo Libero",null,1,null,{"$f":"IF(E9>0,IF(OR(MONTH(E9)<$J$2027,MONTH(E9)>$J$2028),AK$2015,0),0)","v":0}]
["2",{"$f":"IF(AK10=$AK$2015,0,IF(M$2021=1,0,D10&\"-\"&YEAR(E10)))","v":"2-2024"},"2-2024-1",2,"2024-01-01",null,"321","19876543210",null,"---- Inserisci","1010","0001","Ravvedimento",10,"10 10","2020",null,10,null,null,"B2",{"$f":"IF(M$2021=1,\"\",IF(U10=\"\",\"\",VLOOKUP(U10,Tabelle!$D$5:$H$7,5,FALSE)))","v":"00002"},{"$f":"IF(M$2021=1,\"\",IF(U10=\"\",\"\",VLOOKUP(U10,Tabelle!$D$5:$I$7,6,FALSE)))","v":"20000"},null,"BBB","compila",null,null,null,null,null,null,"Testo Libero riga 1",null,{"$f":"IF(B10=\"\",0,IF(B10=B9,COUNTIF(B$9:B9,B10)+1,1))","v":1},{"$f":"IF(OR(D10=\"\",M$2021=1),0,IF(AI10=10,1,0))","v":0},{"$f":"IF(E10>0,IF(OR(MONTH(E10)<$J$2027,MONTH(E10)>$J$2028),AK$2015,0),0)","v":0}]
["3","2-2024","2-2024-2",2,"2024-01-01",null,null,null,null,"Erario","A111","0002","Imm.li Variati",null,null,null,null,null,null,null,null,{"$f":"IF(M$2021=1,\"\",IF(U11=\"\",\"\",VLOOKUP(U11,Tabelle!$D$5:$H$7,5,FALSE)))","v":""},{"$f":"IF(M$2021=1,\"\",IF(U11=\"\",\"\",VLOOKUP(U11,Tabelle!$D$5:$I$7,6,FALSE)))","v":""},null,null,null,null,null,null,null,null,null,"Testo Libero riga 2",null,{"$f":"IF(B11=\"\",0,IF(B11=B10,COUNTIF(B$9:B10,B11)+1,1))","v":2},0,0]
["4","2-2024","2-2024-3",2,"2024-01-01",null,null,null,null,"Ente Locale","B222","0003","Acconto",null,null,null,null,null,null,null,null,{"$f":"IF(M$2021=1,\"\",IF(U12=\"\",\"\",VLOOKUP(U12,Tabelle!$D$5:$H$7,5,FALSE)))","v":""},{"$f":"IF(M$2021=1,\"\",IF(U12=\"\",\"\",VLOOKUP(U12,Tabelle!$D$5:$I$7,6,FALSE)))","v":""},null,null,null,null,null,null,null,null,null,"Righe di esempio",null,{"$f":"IF(B12=\"\",0,IF(B12=B11,COUNTIF(B$9:B11,B12)+1,1))","v":3},0,0]
["5","-1900","-1900-1",null,null,null,null,null,null,null,null,null,null,null,null,null,null,null,null,null,null,{"$f":"IF(M$2021=1,\"\",IF(U13=\"\",\"\",VLOOKUP(U13,Tabelle!$D$5:$H$7,5,FALSE)))","v":""},{"$f":"IF(M$2021=1,\"\",IF(U13=\"\",\"\",VLOOKUP(U13,Tabelle!$D$5:$I$7,6,FALSE)))","v":""},null,null,null,null,null,null,null,null,null,null,null,{"$f":"IF(B13=\"\",0,IF(B13=B12,COUNTIF(B$9:B12,B13)+1,1))","v":1},0,0]
["6","-1900","-1900-2",null,null,null,null,null,null,null,null,null,null,null,null,null,null,null,null,null,null,{"$f":"IF(M$2021=1,\"\",IF(U14=\"\",\"\",VLOOKUP(U14,Tabelle!$D$5:$H$7,5,FALSE)))","v":""},{"$f":"IF(M$2021=1,\"\",IF(U14=\"\",\"\",VLOOKUP(U14,Tabelle!$D$5:$I$7,6,FALSE)))","v":""},null,null,null,null,null,null,null,null,null,null,null,{"$f":"IF(B14=\"\",0,IF(B14=B13,COUNTIF(B$9:B13,B14)+1,1))","v":2},0,0]
["7","-1900","-1900-3",null,null,null,null,null,null,null,null,null,null,null,null,null,null,null,null,null,null,{"$f":"IF(M$2021=1,\"\",IF(U15=\"\",\"\",VLOOKUP(U15,Tabelle!$D$5:$H$7,5,FALSE)))","v":""},{"$f":"IF(M$2021=1,\"\",IF(U15=\"\",\"\",VLOOKUP(U15,Tabelle!$D$5:$I$7,6,FALSE)))","v":""},null,null,null,null,null,null,null,null,null,null,null,{"$f":"IF(B15=\"\",0,IF(B15=B14,COUNTIF(B$9:B14,B15)+1,1))","v":3},0,0]
["8","-1900","-1900-4",null,null,null,null,null,null,null,null,null,null,null,null,null,null,null,null,null,null,{"$f":"IF(M$2021=1,\"\",IF(U16=\"\",\"\",VLOOKUP(U16,Tabelle!$D$5:$H$7,5,FALSE)))","v":""},{"$f":"IF(M$2021=1,\"\",IF(U16=\"\",\"\",VLOOKUP(U16,Tabelle!$D$5:$I$7,6,FALSE)))","v":""},null,null,null,null,null,null,null,null,null,null,null,{"$f":"IF(B16=\"\",0,IF(B16=B15,COUNTIF(B$9:B15,B16)+1,1))","v":4},0,0]
["9","-1900","-1900-5",null,null,null,null,null,null,null,null,null,null,null,null,null,null,null,null,null,null,{"$f":"IF(M$2021=1,\"\",IF(U17=\"\",\"\",VLOOKUP(U17,Tabelle!$D$5:$H$7,5,FALSE)))","v":""},{"$f":"IF(M$2021=1,\"\",IF(U17=\"\",\"\",VLOOKUP(U17,Tabelle!$D$5:$I$7,6,FALSE)))","v":""},null,null,null,null,null,null,null,null,null,null,null,{"$f":"IF(B17=\"\",0,IF(B17=B16,COUNTIF(B$9:B16,B17)+1,1))","v":5},0,0]
["10","-1900","-1900-6",null,null,null,null,null,null,null,null,null,null,null,null,null,null,null,null,null,null,{"$f":"IF(M$2021=1,\"\",IF(U18=\"\",\"\",VLOOKUP(U18,Tabelle!$D$5:$H$7,5,FALSE)))","v":""},{"$f":"IF(M$2021=1,\"\",IF(U18=\"\",\"\",VLOOKUP(U18,Tabelle!$D$5:$I$7,6,FALSE)))","v":""},null,null,null,null,null,null,null,null,null,null,null,{"$f":"IF(B18=\"\",0,IF(B18=B17,COUNTIF(B$9:B17,B18)+1,1))","v":6},0,0]
["11","-1900","-1900-7",null,null,null,null,null,null,null,null,null,null,null,null,null,null,null,null,null,null,{"$f":"IF(M$2021=1,\"\",IF(U19=\"\",\"\",VLOOKUP(U19,Tabelle!$D$5:$H$7,5,FALSE)))","v":""},{"$f":"IF(M$2021=1,\"\",IF(U19=\"\",\"\",VLOOKUP(U19,Tabelle!$D$5:$I$7,6,FALSE)))","v":""},null,null,null,null,null,null,null,null,null,null,null,{"$f":"IF(B19=\"\",0,IF(B19=B18,COUNTIF(B$9:B18,B19)+1,1))","v":7},0,0]
["12","-1900","-1900-8",null,null,null,null,null,null,null,null,null,null,null,null,null,null,null,null,null,null,{"$f":"IF(M$2021=1,\"\",IF(U20=\"\",\"\",VLOOKUP(U20,Tabelle!$D$5:$H$7,5,FALSE)))","v":""},{"$f":"IF(M$2021=1,\"\",IF(U20=\"\",\"\",VLOOKUP(U20,Tabelle!$D$5:$I$7,6,FALSE)))","v":""},null,null,null,null,null,null,null,null,null,null,null,{"$f":"IF(B20=\"\",0,IF(B20=B19,COUNTIF(B$9:B19,B20)+1,1))","v":8},0,0]
["13","-1900","-1900-9",null,null,null,null,null,null,null,null,null,null,null,null,null,null,null,null,null,null,{"$f":"IF(M$2021=1,\"\",IF(U21=\"\",\"\",VLOOKUP(U21,Tabelle!$D$5:$H$7,5,FALSE)))","v":""},{"$f":"IF(M$2021=1,\"\",IF(U21=\"\",\"\",VLOOKUP(U21,Tabelle!$D$5:$I$7,6,FALSE)))","v":""},null,null,null,null,null,null,null,null,null,null,null,{"$f":"IF(B21=\"\",0,IF(B21=B20,COUNTIF(B$9:B20,B21)+1,1))","v":9},0,0]
["14","-1900","-1900-10",null,null,null,null,null,null,null,null,null,null,null,null,null,null,null,null,null,null,{"$f":"IF(M$2021=1,\"\",IF(U22=\"\",\"\",VLOOKUP(U22,Tabelle!$D$5:$H$7,5,FALSE)))","v":""},{"$f":"IF(M$2021=1,\"\",IF(U22=\"\",\"\",VLOOKUP(U22,Tabelle!$D$5:$I$7,6,FALSE)))","v":""},null,null,null,null,null,null,null,null,null,null,null,{"$f":"IF(B22=\"\",0,IF(B22=B21,COUNTIF(B$9:B21,B22)+1,1))","v":10},0,0]
["15","-1900","-1900-11",null,null,null,null,null,null,null,null,null,null,null,null,null,null,null,null,null,null,{"$f":"IF(M$2021=1,\"\",IF(U23=\"\",\"\",VLOOKUP(U23,Tabelle!$D$5:$H$7,5,FALSE)))","v":""},{"$f":"IF(M$2021=1,\"\",IF(U23=\"\",\"\",VLOOKUP(U23,Tabelle!$D$5:$I$7,6,FALSE)))","v":""},null,null,null,null,null,null,null,null,null,null,null,{"$f":"IF(B23=\"\",0,IF(B23=B22,COUNTIF(B$9:B22,B23)+1,1))","v":11},0,0]
["16","-1900","-1900-12",null,null,null,null,null,null,null,null,null,null,null,null,null,null,null,null,null,null,{"$f":"IF(M$2021=1,\"\",IF(U24=\"\",\"\",VLOOKUP(U24,Tabelle!$D$5:$H$7,5,FALSE)))","v":""},{"$f":"IF(M$2021=1,\"\",IF(U24=\"\",\"\",VLOOKUP(U24,Tabelle!$D$5:$I$7,6,FALSE)))","v":""},null,null,null,null,null,null,null,null,null,null,null,{"$f":"IF(B24=\"\",0,IF(B24=B23,COUNTIF(B$9:B23,B24)+1,1))","v":12},0,0]
["17","-1900","-1900-13",null,null,null,null,null,null,null,null,null,null,null,null,null,null,null,null,null,null,{"$f":"IF(M$2021=1,\"\",IF(U25=\"\",\"\",VLOOKUP(U25,Tabelle!$D$5:$H$7,5,FALSE)))","v":""},{"$f":"IF(M$2021=1,\"\",IF(U25=\"\",\"\",VLOOKUP(U25,Tabelle!$D$5:$I$7,6,FALSE)))","v":""},null,null,null,null,null,null,null,null,null,null,null,{"$f":"IF(B25=\"\",0,IF(B25=B24,COUNTIF(B$9:B24,B25)+1,1))","v":13},0,0]
["18","-1900","-1900-14",null,null,null,null,null,null,null,null,null,null,null,null,null,null,null,null,null,null,{"$f":"IF(M$2021=1,\"\",IF(U26=\"\",\"\",VLOOKUP(U26,Tabelle!$D$5:$H$7,5,FALSE)))","v":""},{"$f":"IF(M$2021=1,\"\",IF(U26=\"\",\"\",VLOOKUP(U26,Tabelle!$D$5:$I$7,6,FALSE)))","v":""},null,null,null,null,null,null,null,null,null,null,null,{"$f":"IF(B26=\"\",0,IF(B26=B25,COUNTIF(B$9:B25,B26)+1,1))","v":14},0,0]
["19","-1900","-1900-15",null,null,null,null,null,null,null,null,null,null,null,null,null,null,null,null,null,null,{"$f":"IF(M$2021=1,\"\",IF(U27=\"\",\"\",VLOOKUP(U27,Tabelle!$D$5:$H$7,5,FALSE)))","v":""},{"$f":"IF(M$2021=1,\"\",IF(U27=\"\",\"\",VLOOKUP(U27,Tabelle!$D$5:$I$7,6,FALSE)))","v":""},null,null,null,null,null,null,null,null,null,null,null,{"$f":"IF(B27=\"\",0,IF(B27=B26,COUNTIF(B$9:B26,B27)+1,1))","v":15},0,0]
["20","-1900","-1900-16",null,null,null,null,null,null,null,null,null,null,null,null,null,null,null,null,null,null,{"$f":"IF(M$2021=1,\"\",IF(U28=\"\",\"\",VLOOKUP(U28,Tabelle!$D$5:$H$7,5,FALSE)))","v":""},{"$f":"IF(M$2021=1,\"\",IF(U28=\"\",\"\",VLOOKUP(U28,Tabelle!$D$5:$I$7,6,FALSE)))","v":""},null,null,null,null,null,null,null,null,null,null,null,{"$f":"IF(B28=\"\",0,IF(B28=B27,COUNTIF(B$9:B27,B28)+1,1))","v":16},0,0]
["21","-1900","-1900-17",null,null,null,null,null,null,null,null,null,null,null,null,null,null,null,null,null,null,{"$f":"IF(M$2021=1,\"\",IF(U29=\"\",\"\",VLOOKUP(U29,Tabelle!$D$5:$H$7,5,FALSE)))","v":""},{"$f":"IF(M$2021=1,\"\",IF(U29=\"\",\"\",VLOOKUP(U29,Tabelle!$D$5:$I$7,6,FALSE)))","v":""},null,null,null,null,null,null,null,null,null,null,null,{"$f":"IF(B29=\"\",0,IF(B29=B28,COUNTIF(B$9:B28,B29)+1,1))","v":17},0,0]
["22","-1900","-1900-18",null,null,null,null,null,null,null,null,null,null,null,null,null,null,null,null,null,null,{"$f":"IF(M$2021=1,\"\",IF(U30=\"\",\"\",VLOOKUP(U30,Tabelle!$D$5:$H$7,5,FALSE)))","v":""},{"$f":"IF(M$2021=1,\"\",IF(U30=\"\",\"\",VLOOKUP(U30,Tabelle!$D$5:$I$7,6,FALSE)))","v":""},null,null,null,null,null,null,null,null,null,null,null,{"$f":"IF(B30=\"\",0,IF(B30=B29,COUNTIF(B$9:B29,B30)+1,1))","v":18},0,0]
["23","-1900","-1900-19",null,null,null,null,null,null,null,null,null,null,null,null,null,null,null,null,null,null,{"$f":"IF(M$2021=1,\"\",IF(U31=\"\",\"\",VLOOKUP(U31,Tabelle!$D$5:$H$7,5,FALSE)))","v":""},{"$f":"IF(M$2021=1,\"\",IF(U31=\"\",\"\",VLOOKUP(U31,Tabelle!$D$5:$I$7,6,FALSE)))","v":""},null,null,null,null,null,null,null,null,null,null,null,{"$f":"IF(B31=\"\",0,IF(B31=B30,COUNTIF(B$9:B30,B31)+1,1))","v":19},0,0]
["24","-1900","-1900-20",null,null,null,null,null,null,null,null,null,null,null,null,null,null,null,null,null,null,{"$f":"IF(M$2021=1,\"\",IF(U32=\"\",\"\",VLOOKUP(U32,Tabelle!$D$5:$H$7,5,FALSE)))","v":""},{"$f":"IF(M$2021=1,\"\",IF(U32=\"\",\"\",VLOOKUP(U32,Tabelle!$D$5:$I$7,6,FALSE)))","v":""},null,null,null,null,null,null,null,null,null,null,null,{"$f":"IF(B32=\"\",0,IF(B32=B31,COUNTIF(B$9:B31,B32)+1,1))","v":20},0,0]
["25","-1900","-1900-21",null,null,null,null,null,null,null,null,null,null,null,null,null,null,null,null,null,null,{"$f":"IF(M$2021=1,\"\",IF(U33=\"\",\"\",VLOOKUP(U33,Tabelle!$D$5:$H$7,5,FALSE)))","v":""},{"$f":"IF(M$2021=1,\"\",IF(U33=\"\",\"\",VLOOKUP(U33,Tabelle!$D$5:$I$7,6,FALSE)))","v":""},null,null,null,null,null,null,null,null,null,null,null,{"$f":"IF(B33=\"\",0,IF(B33=B32,COUNTIF(B$9:B32,B33)+1,1))","v":21},0,0]
["26","-1900","-1900-22",null,null,null,null,null,null,null,null,null,null,null,null,null,null,null,null,null,null,{"$f":"IF(M$2021=1,\"\",IF(U34=\"\",\"\",VLOOKUP(U34,Tabelle!$D$5:$H$7,5,FALSE)))","v":""},{"$f":"IF(M$2021=1,\"\",IF(U34=\"\",\"\",VLOOKUP(U34,Tabelle!$D$5:$I$7,6,FALSE)))","v":""},null,null,null,null,null,null,null,null,null,null,null,{"$f":"IF(B34=\"\",0,IF(B34=B33,COUNTIF(B$9:B33,B34)+1,1))","v":22},0,0]
["27","-1900","-1900-23",null,null,null,null,null,null,null,null,null,null,null,null,null,null,null,null,null,null,{"$f":"IF(M$2021=1,\"\",IF(U35=\"\",\"\",VLOOKUP(U35,Tabelle!$D$5:$H$7,5,FALSE)))","v":""},{"$f":"IF(M$2021=1,\"\",IF(U35=\"\",\"\",VLOOKUP(U35,Tabelle!$D$5:$I$7,6,FALSE)))","v":""},null,null,null,null,null,null,null,null,null,null,null,{"$f":"IF(B35=\"\",0,IF(B35=B34,COUNTIF(B$9:B34,B35)+1,1))","v":23},0,0]
["28","-1900","-1900-24",null,null,null,null,null,null,null,null,null,null,null,null,null,null,null,null,null,null,{"$f":"IF(M$2021=1,\"\",IF(U36=\"\",\"\",VLOOKUP(U36,Tabelle!$D$5:$H$7,5,FALSE)))","v":""},{"$f":"IF(M$2021=1,\"\",IF(U36=\"\",\"\",VLOOKUP(U36,Tabelle!$D$5:$I$7,6,FALSE)))","v":""},null,null,null,null,null,null,null,null,null,null,null,{"$f":"IF(B36=\"\",0,IF(B36=B35,COUNTIF(B$9:B35,B36)+1,1))","v":24},0,0]
["29","-1900","-1900-25",null,null,null,null,null,null,null,null,null,null,null,null,null,null,null,null,null,null,{"$f":"IF(M$2021=1,\"\",IF(U37=\"\",\"\",VLOOKUP(U37,Tabelle!$D$5:$H$7,5,FALSE)))","v":""},{"$f":"IF(M$2021=1,\"\",IF(U37=\"\",\"\",VLOOKUP(U37,Tabelle!$D$5:$I$7,6,FALSE)))","v":""},null,null,null,null,null,null,null,null,null,null,null,{"$f":"IF(B37=\"\",0,IF(B37=B36,COUNTIF(B$9:B36,B37)+1,1))","v":25},0,0]
["30","-1900","-1900-26",null,null,null,null,null,null,null,null,null,null,null,null,null,null,null,null,null,null,{"$f":"IF(M$2021=1,\"\",IF(U38=\"\",\"\",VLOOKUP(U38,Tabelle!$D$5:$H$7,5,FALSE)))","v":""},{"$f":"IF(M$2021=1,\"\",IF(U38=\"\",\"\",VLOOKUP(U38,Tabelle!$D$5:$I$7,6,FALSE)))","v":""},null,null,null,null,null,null,null,null,null,null,null,{"$f":"IF(B38=\"\",0,IF(B38=B37,COUNTIF(B$9:B37,B38)+1,1))","v":26},0,0]
["31","-1900","-1900-27",null,null,null,null,null,null,null,null,null,null,null,null,null,null,null,null,null,null,{"$f":"IF(M$2021=1,\"\",IF(U39=\"\",\"\",VLOOKUP(U39,Tabelle!$D$5:$H$7,5,FALSE)))","v":""},{"$f":"IF(M$2021=1,\"\",IF(U39=\"\",\"\",VLOOKUP(U39,Tabelle!$D$5:$I$7,6,FALSE)))","v":""},null,null,null,null,null,null,null,null,null,null,null,{"$f":"IF(B39=\"\",0,IF(B39=B38,COUNTIF(B$9:B38,B39)+1,1))","v":27},0,0]
["32","-1900","-1900-28",null,null,null,null,null,null,null,null,null,null,null,null,null,null,null,null,null,null,{"$f":"IF(M$2021=1,\"\",IF(U40=\"\",\"\",VLOOKUP(U40,Tabelle!$D$5:$H$7,5,FALSE)))","v":""},{"$f":"IF(M$2021=1,\"\",IF(U40=\"\",\"\",VLOOKUP(U40,Tabelle!$D$5:$I$7,6,FALSE)))","v":""},null,null,null,null,null,null,null,null,null,null,null,{"$f":"IF(B40=\"\",0,IF(B40=B39,COUNTIF(B$9:B39,B40)+1,1))","v":28},0,0]
["33","-1900","-1900-29",null,null,null,null,null,null,null,null,null,null,null,null,null,null,null,null,null,null,{"$f":"IF(M$2021=1,\"\",IF(U41=\"\",\"\",VLOOKUP(U41,Tabelle!$D$5:$H$7,5,FALSE)))","v":""},{"$f":"IF(M$2021=1,\"\",IF(U41=\"\",\"\",VLOOKUP(U41,Tabelle!$D$5:$I$7,6,FALSE)))","v":""},null,null,null,null,null,null,null,null,null,null,null,{"$f":"IF(B41=\"\",0,IF(B41=B40,COUNTIF(B$9:B40,B41)+1,1))","v":29},0,0]
["34","-1900","-1900-30",null,null,null,null,null,null,null,null,null,null,null,null,null,null,null,null,null,null,{"$f":"IF(M$2021=1,\"\",IF(U42=\"\",\"\",VLOOKUP(U42,Tabelle!$D$5:$H$7,5,FALSE)))","v":""},{"$f":"IF(M$2021=1,\"\",IF(U42=\"\",\"\",VLOOKUP(U42,Tabelle!$D$5:$I$7,6,FALSE)))","v":""},null,null,null,null,null,null,null,null,null,null,null,{"$f":"IF(B42=\"\",0,IF(B42=B41,COUNTIF(B$9:B41,B42)+1,1))","v":30},0,0]
["35","-1900","-1900-31",null,null,null,null,null,null,null,null,null,null,null,null,null,null,null,null,null,null,{"$f":"IF(M$2021=1,\"\",IF(U43=\"\",\"\",VLOOKUP(U43,Tabelle!$D$5:$H$7,5,FALSE)))","v":""},{"$f":"IF(M$2021=1,\"\",IF(U43=\"\",\"\",VLOOKUP(U43,Tabelle!$D$5:$I$7,6,FALSE)))","v":""},null,null,null,null,null,null,null,null,null,null,null,{"$f":"IF(B43=\"\",0,IF(B43=B42,COUNTIF(B$9:B42,B43)+1,1))","v":31},0,0]
["36","-1900","-1900-32",null,null,null,null,null,null,null,null,null,null,null,null,null,null,null,null,null,null,{"$f":"IF(M$2021=1,\"\",IF(U44=\"\",\"\",VLOOKUP(U44,Tabelle!$D$5:$H$7,5,FALSE)))","v":""},{"$f":"IF(M$2021=1,\"\",IF(U44=\"\",\"\",VLOOKUP(U44,Tabelle!$D$5:$I$7,6,FALSE)))","v":""},null,null,null,null,null,null,null,null,null,null,null,{"$f":"IF(B44=\"\",0,IF(B44=B43,COUNTIF(B$9:B43,B44)+1,1))","v":32},0,0]
["37","-1900","-1900-33",null,null,null,null,null,null,null,null,null,null,null,null,null,null,null,null,null,null,{"$f":"IF(M$2021=1,\"\",IF(U45=\"\",\"\",VLOOKUP(U45,Tabelle!$D$5:$H$7,5,FALSE)))","v":""},{"$f":"IF(M$2021=1,\"\",IF(U45=\"\",\"\",VLOOKUP(U45,Tabelle!$D$5:$I$7,6,FALSE)))","v":""},null,null,null,null,null,null,null,null,null,null,null,{"$f":"IF(B45=\"\",0,IF(B45=B44,COUNTIF(B$9:B44,B45)+1,1))","v":33},0,0]
["38","-1900","-1900-34",null,null,null,null,null,null,null,null,null,null,null,null,null,null,null,null,null,null,{"$f":"IF(M$2021=1,\"\",IF(U46=\"\",\"\",VLOOKUP(U46,Tabelle!$D$5:$H$7,5,FALSE)))","v":""},{"$f":"IF(M$2021=1,\"\",IF(U46=\"\",\"\",VLOOKUP(U46,Tabelle!$D$5:$I$7,6,FALSE)))","v":""},null,null,null,null,null,null,null,null,null,null,null,{"$f":"IF(B46=\"\",0,IF(B46=B45,COUNTIF(B$9:B45,B46)+1,1))","v":34},0,0]
["39","-1900","-1900-35",null,null,null,null,null,null,null,null,null,null,null,null,null,null,null,null,null,null,{"$f":"IF(M$2021=1,\"\",IF(U47=\"\",\"\",VLOOKUP(U47,Tabelle!$D$5:$H$7,5,FALSE)))","v":""},{"$f":"IF(M$2021=1,\"\",IF(U47=\"\",\"\",VLOOKUP(U47,Tabelle!$D$5:$I$7,6,FALSE)))","v":""},null,null,null,null,null,null,null,null,null,null,null,{"$f":"IF(B47=\"\",0,IF(B47=B46,COUNTIF(B$9:B46,B47)+1,1))","v":35},0,0]
["40","-1900","-1900-36",null,null,null,null,null,null,null,null,null,null,null,null,null,null,null,null,null,null,{"$f":"IF(M$2021=1,\"\",IF(U48=\"\",\"\",VLOOKUP(U48,Tabelle!$D$5:$H$7,5,FALSE)))","v":""},{"$f":"IF(M$2021=1,\"\",IF(U48=\"\",\"\",VLOOKUP(U48,Tabelle!$D$5:$I$7,6,FALSE)))","v":""},null,null,null,null,null,null,null,null,null,null,null,{"$f":"IF(B48=\"\",0,IF(B48=B47,COUNTIF(B$9:B47,B48)+1,1))","v":36},0,0]
["41","-1900","-1900-37",null,null,null,null,null,null,null,null,null,null,null,null,null,null,null,null,null,null,{"$f":"IF(M$2021=1,\"\",IF(U49=\"\",\"\",VLOOKUP(U49,Tabelle!$D$5:$H$7,5,FALSE)))","v":""},{"$f":"IF(M$2021=1,\"\",IF(U49=\"\",\"\",VLOOKUP(U49,Tabelle!$D$5:$I$7,6,FALSE)))","v":""},null,null,null,null,null,null,null,null,null,null,null,{"$f":"IF(B49=\"\",0,IF(B49=B48,COUNTIF(B$9:B48,B49)+1,1))","v":37},0,0]
["42","-1900","-1900-38",null,null,null,null,null,null,null,null,null,null,null,null,null,null,null,null,null,null,{"$f":"IF(M$2021=1,\"\",IF(U50=\"\",\"\",VLOOKUP(U50,Tabelle!$D$5:$H$7,5,FALSE)))","v":""},{"$f":"IF(M$2021=1,\"\",IF(U50=\"\",\"\",VLOOKUP(U50,Tabelle!$D$5:$I$7,6,FALSE)))","v":""},null,null,null,null,null,null,null,null,null,null,null,{"$f":"IF(B50=\"\",0,IF(B50=B49,COUNTIF(B$9:B49,B50)+1,1))","v":38},0,0]
["43","-1900","-1900-39",null,null,null,null,null,null,null,null,null,null,null,null,null,null,null,null,null,null,{"$f":"IF(M$2021=1,\"\",IF(U51=\"\",\"\",VLOOKUP(U51,Tabelle!$D$5:$H$7,5,FALSE)))","v":""},{"$f":"IF(M$2021=1,\"\",IF(U51=\"\",\"\",VLOOKUP(U51,Tabelle!$D$5:$I$7,6,FALSE)))","v":""},null,null,null,null,null,null,null,null,null,null,null,{"$f":"IF(B51=\"\",0,IF(B51=B50,COUNTIF(B$9:B50,B51)+1,1))","v":39},0,0]
["44","-1900","-1900-40",null,null,null,null,null,null,null,null,null,null,null,null,null,null,null,null,null,null,{"$f":"IF(M$2021=1,\"\",IF(U52=\"\",\"\",VLOOKUP(U52,Tabelle!$D$5:$H$7,5,FALSE)))","v":""},{"$f":"IF(M$2021=1,\"\",IF(U52=\"\",\"\",VLOOKUP(U52,Tabelle!$D$5:$I$7,6,FALSE)))","v":""},null,null,null,null,null,null,null,null,null,null,null,{"$f":"IF(B52=\"\",0,IF(B52=B51,COUNTIF(B$9:B51,B52)+1,1))","v":40},0,0]
["45","-1900","-1900-41",null,null,null,null,null,null,null,null,null,null,null,null,null,null,null,null,null,null,{"$f":"IF(M$2021=1,\"\",IF(U53=\"\",\"\",VLOOKUP(U53,Tabelle!$D$5:$H$7,5,FALSE)))","v":""},{"$f":"IF(M$2021=1,\"\",IF(U53=\"\",\"\",VLOOKUP(U53,Tabelle!$D$5:$I$7,6,FALSE)))","v":""},null,null,null,null,null,null,null,null,null,null,null,{"$f":"IF(B53=\"\",0,IF(B53=B52,COUNTIF(B$9:B52,B53)+1,1))","v":41},0,0]
["46","-1900","-1900-42",null,null,null,null,null,null,null,null,null,null,null,null,null,null,null,null,null,null,{"$f":"IF(M$2021=1,\"\",IF(U54=\"\",\"\",VLOOKUP(U54,Tabelle!$D$5:$H$7,5,FALSE)))","v":""},{"$f":"IF(M$2021=1,\"\",IF(U54=\"\",\"\",VLOOKUP(U54,Tabelle!$D$5:$I$7,6,FALSE)))","v":""},null,null,null,null,null,null,null,null,null,null,null,{"$f":"IF(B54=\"\",0,IF(B54=B53,COUNTIF(B$9:B53,B54)+1,1))","v":42},0,0]
["47","-1900","-1900-43",null,null,null,null,null,null,null,null,null,null,null,null,null,null,null,null,null,null,{"$f":"IF(M$2021=1,\"\",IF(U55=\"\",\"\",VLOOKUP(U55,Tabelle!$D$5:$H$7,5,FALSE)))","v":""},{"$f":"IF(M$2021=1,\"\",IF(U55=\"\",\"\",VLOOKUP(U55,Tabelle!$D$5:$I$7,6,FALSE)))","v":""},null,null,null,null,null,null,null,null,null,null,null,{"$f":"IF(B55=\"\",0,IF(B55=B54,COUNTIF(B$9:B54,B55)+1,1))","v":43},0,0]
["48","-1900","-1900-44",null,null,null,null,null,null,null,null,null,null,null,null,null,null,null,null,null,null,{"$f":"IF(M$2021=1,\"\",IF(U56=\"\",\"\",VLOOKUP(U56,Tabelle!$D$5:$H$7,5,FALSE)))","v":""},{"$f":"IF(M$2021=1,\"\",IF(U56=\"\",\"\",VLOOKUP(U56,Tabelle!$D$5:$I$7,6,FALSE)))","v":""},null,null,null,null,null,null,null,null,null,null,null,{"$f":"IF(B56=\"\",0,IF(B56=B55,COUNTIF(B$9:B55,B56)+1,1))","v":44},0,0]
["49","-1900","-1900-45",null,null,null,null,null,null,null,null,null,null,null,null,null,null,null,null,null,null,{"$f":"IF(M$2021=1,\"\",IF(U57=\"\",\"\",VLOOKUP(U57,Tabelle!$D$5:$H$7,5,FALSE)))","v":""},{"$f":"IF(M$2021=1,\"\",IF(U57=\"\",\"\",VLOOKUP(U57,Tabelle!$D$5:$I$7,6,FALSE)))","v":""},null,null,null,null,null,null,null,null,null,null,null,{"$f":"IF(B57=\"\",0,IF(B57=B56,COUNTIF(B$9:B56,B57)+1,1))","v":45},0,0]
["50","-1900","-1900-46",null,null,null,null,null,null,null,null,null,null,null,null,null,null,null,null,null,null,{"$f":"IF(M$2021=1,\"\",IF(U58=\"\",\"\",VLOOKUP(U58,Tabelle!$D$5:$H$7,5,FALSE)))","v":""},{"$f":"IF(M$2021=1,\"\",IF(U58=\"\",\"\",VLOOKUP(U58,Tabelle!$D$5:$I$7,6,FALSE)))","v":""},null,null,null,null,null,null,null,null,null,null,null,{"$f":"IF(B58=\"\",0,IF(B58=B57,COUNTIF(B$9:B57,B58)+1,1))","v":46},0,0]
["51","-1900","-1900-47",null,null,null,null,null,null,null,null,null,null,null,null,null,null,null,null,null,null,{"$f":"IF(M$2021=1,\"\",IF(U59=\"\",\"\",VLOOKUP(U59,Tabelle!$D$5:$H$7,5,FALSE)))","v":""},{"$f":"IF(M$2021=1,\"\",IF(U59=\"\",\"\",VLOOKUP(U59,Tabelle!$D$5:$I$7,6,FALSE)))","v":""},null,null,null,null,null,null,null,null,null,null,null,{"$f":"IF(B59=\"\",0,IF(B59=B58,COUNTIF(B$9:B58,B59)+1,1))","v":47},0,0]
["52","-1900","-1900-48",null,null,null,null,null,null,null,null,null,null,null,null,null,null,null,null,null,null,{"$f":"IF(M$2021=1,\"\",IF(U60=\"\",\"\",VLOOKUP(U60,Tabelle!$D$5:$H$7,5,FALSE)))","v":""},{"$f":"IF(M$2021=1,\"\",IF(U60=\"\",\"\",VLOOKUP(U60,Tabelle!$D$5:$I$7,6,FALSE)))","v":""},null,null,null,null,null,null,null,null,null,null,null,{"$f":"IF(B60=\"\",0,IF(B60=B59,COUNTIF(B$9:B59,B60)+1,1))","v":48},0,0]
["53","-1900","-1900-49",null,null,null,null,null,null,null,null,null,null,null,null,null,null,null,null,null,null,{"$f":"IF(M$2021=1,\"\",IF(U61=\"\",\"\",VLOOKUP(U61,Tabelle!$D$5:$H$7,5,FALSE)))","v":""},{"$f":"IF(M$2021=1,\"\",IF(U61=\"\",\"\",VLOOKUP(U61,Tabelle!$D$5:$I$7,6,FALSE)))","v":""},null,null,null,null,null,null,null,null,null,null,null,{"$f":"IF(B61=\"\",0,IF(B61=B60,COUNTIF(B$9:B60,B61)+1,1))","v":49},0,0]
["54","-1900","-1900-50",null,null,null,null,null,null,null,null,null,null,null,null,null,null,null,null,null,null,{"$f":"IF(M$2021=1,\"\",IF(U62=\"\",\"\",VLOOKUP(U62,Tabelle!$D$5:$H$7,5,FALSE)))","v":""},{"$f":"IF(M$2021=1,\"\",IF(U62=\"\",\"\",VLOOKUP(U62,Tabelle!$D$5:$I$7,6,FALSE)))","v":""},null,null,null,null,null,null,null,null,null,null,null,{"$f":"IF(B62=\"\",0,IF(B62=B61,COUNTIF(B$9:B61,B62)+1,1))","v":50},0,0]
["55","-1900","-1900-51",null,null,null,null,null,null,null,null,null,null,null,null,null,null,null,null,null,null,{"$f":"IF(M$2021=1,\"\",IF(U63=\"\",\"\",VLOOKUP(U63,Tabelle!$D$5:$H$7,5,FALSE)))","v":""},{"$f":"IF(M$2021=1,\"\",IF(U63=\"\",\"\",VLOOKUP(U63,Tabelle!$D$5:$I$7,6,FALSE)))","v":""},null,null,null,null,null,null,null,null,null,null,null,{"$f":"IF(B63=\"\",0,IF(B63=B62,COUNTIF(B$9:B62,B63)+1,1))","v":51},0,0]
["56","-1900","-1900-52",null,null,null,null,null,null,null,null,null,null,null,null,null,null,null,null,null,null,{"$f":"IF(M$2021=1,\"\",IF(U64=\"\",\"\",VLOOKUP(U64,Tabelle!$D$5:$H$7,5,FALSE)))","v":""},{"$f":"IF(M$2021=1,\"\",IF(U64=\"\",\"\",VLOOKUP(U64,Tabelle!$D$5:$I$7,6,FALSE)))","v":""},null,null,null,null,null,null,null,null,null,null,null,{"$f":"IF(B64=\"\",0,IF(B64=B63,COUNTIF(B$9:B63,B64)+1,1))","v":52},0,0]
["57","-1900","-1900-53",null,null,null,null,null,null,null,null,null,null,null,null,null,null,null,null,null,null,{"$f":"IF(M$2021=1,\"\",IF(U65=\"\",\"\",VLOOKUP(U65,Tabelle!$D$5:$H$7,5,FALSE)))","v":""},{"$f":"IF(M$2021=1,\"\",IF(U65=\"\",\"\",VLOOKUP(U65,Tabelle!$D$5:$I$7,6,FALSE)))","v":""},null,null,null,null,null,null,null,null,null,null,null,{"$f":"IF(B65=\"\",0,IF(B65=B64,COUNTIF(B$9:B64,B65)+1,1))","v":53},0,0]
["58","-1900","-1900-54",null,null,null,null,null,null,null,null,null,null,null,null,null,null,null,null,null,null,{"$f":"IF(M$2021=1,\"\",IF(U66=\"\",\"\",VLOOKUP(U66,Tabelle!$D$5:$H$7,5,FALSE)))","v":""},{"$f":"IF(M$2021=1,\"\",IF(U66=\"\",\"\",VLOOKUP(U66,Tabelle!$D$5:$I$7,6,FALSE)))","v":""},null,null,null,null,null,null,null,null,null,null,null,{"$f":"IF(B66=\"\",0,IF(B66=B65,COUNTIF(B$9:B65,B66)+1,1))","v":54},0,0]
["59","-1900","-1900-55",null,null,null,null,null,null,null,null,null,null,null,null,null,null,null,null,null,null,{"$f":"IF(M$2021=1,\"\",IF(U67=\"\",\"\",VLOOKUP(U67,Tabelle!$D$5:$H$7,5,FALSE)))","v":""},{"$f":"IF(M$2021=1,\"\",IF(U67=\"\",\"\",VLOOKUP(U67,Tabelle!$D$5:$I$7,6,FALSE)))","v":""},null,null,null,null,null,null,null,null,null,null,null,{"$f":"IF(B67=\"\",0,IF(B67=B66,COUNTIF(B$9:B66,B67)+1,1))","v":55},0,0]
["60","-1900","-1900-56",null,null,null,null,null,null,null,null,null,null,null,null,null,null,null,null,null,null,{"$f":"IF(M$2021=1,\"\",IF(U68=\"\",\"\",VLOOKUP(U68,Tabelle!$D$5:$H$7,5,FALSE)))","v":""},{"$f":"IF(M$2021=1,\"\",IF(U68=\"\",\"\",VLOOKUP(U68,Tabelle!$D$5:$I$7,6,FALSE)))","v":""},null,null,null,null,null,null,null,null,null,null,null,{"$f":"IF(B68=\"\",0,IF(B68=B67,COUNTIF(B$9:B67,B68)+1,1))","v":56},0,0]
["61","-1900","-1900-57",null,null,null,null,null,null,null,null,null,null,null,null,null,null,null,null,null,null,{"$f":"IF(M$2021=1,\"\",IF(U69=\"\",\"\",VLOOKUP(U69,Tabelle!$D$5:$H$7,5,FALSE)))","v":""},{"$f":"IF(M$2021=1,\"\",IF(U69=\"\",\"\",VLOOKUP(U69,Tabelle!$D$5:$I$7,6,FALSE)))","v":""},null,null,null,null,null,null,null,null,null,null,null,{"$f":"IF(B69=\"\",0,IF(B69=B68,COUNTIF(B$9:B68,B69)+1,1))","v":57},0,0]
["62","-1900","-1900-58",null,null,null,null,null,null,null,null,null,null,null,null,null,null,null,null,null,null,{"$f":"IF(M$2021=1,\"\",IF(U70=\"\",\"\",VLOOKUP(U70,Tabelle!$D$5:$H$7,5,FALSE)))","v":""},{"$f":"IF(M$2021=1,\"\",IF(U70=\"\",\"\",VLOOKUP(U70,Tabelle!$D$5:$I$7,6,FALSE)))","v":""},null,null,null,null,null,null,null,null,null,null,null,{"$f":"IF(B70=\"\",0,IF(B70=B69,COUNTIF(B$9:B69,B70)+1,1))","v":58},0,0]
["63","-1900","-1900-59",null,null,null,null,null,null,null,null,null,null,null,null,null,null,null,null,null,null,{"$f":"IF(M$2021=1,\"\",IF(U71=\"\",\"\",VLOOKUP(U71,Tabelle!$D$5:$H$7,5,FALSE)))","v":""},{"$f":"IF(M$2021=1,\"\",IF(U71=\"\",\"\",VLOOKUP(U71,Tabelle!$D$5:$I$7,6,FALSE)))","v":""},null,null,null,null,null,null,null,null,null,null,null,{"$f":"IF(B71=\"\",0,IF(B71=B70,COUNTIF(B$9:B70,B71)+1,1))","v":59},0,0]
["64","-1900","-1900-60",null,null,null,null,null,null,null,null,null,null,null,null,null,null,null,null,null,null,{"$f":"IF(M$2021=1,\"\",IF(U72=\"\",\"\",VLOOKUP(U72,Tabelle!$D$5:$H$7,5,FALSE)))","v":""},{"$f":"IF(M$2021=1,\"\",IF(U72=\"\",\"\",VLOOKUP(U72,Tabelle!$D$5:$I$7,6,FALSE)))","v":""},null,null,null,null,null,null,null,null,null,null,null,{"$f":"IF(B72=\"\",0,IF(B72=B71,COUNTIF(B$9:B71,B72)+1,1))","v":60},0,0]
["65","-1900",{"$f":"IF(M$2021=1,0,B73&\"-\"&AI73)","v":"-1900-61"},null,null,null,null,null,null,null,null,null,null,null,null,null,null,null,null,null,null,{"$f":"IF(M$2021=1,\"\",IF(U73=\"\",\"\",VLOOKUP(U73,Tabelle!$D$5:$H$7,5,FALSE)))","v":""},{"$f":"IF(M$2021=1,\"\",IF(U73=\"\",\"\",VLOOKUP(U73,Tabelle!$D$5:$I$7,6,FALSE)))","v":""},null,null,null,null,null,null,null,null,null,null,null,{"$f":"IF(B73=\"\",0,IF(B73=B72,COUNTIF(B$9:B72,B73)+1,1))","v":61},0,0]
["66",{"$f":"IF(AK74=$AK$2015,0,IF(M$2021=1,0,D74&\"-\"&YEAR(E74)))","v":"-1900"},"-1900-62",null,null,null,null,null,null,null,null,null,null,null,null,null,null,null,null,null,null,{"$f":"IF(M$2021=1,\"\",IF(U74=\"\",\"\",VLOOKUP(U74,Tabelle!$D$5:$H$7,5,FALSE)))","v":""},{"$f":"IF(M$2021=1,\"\",IF(U74=\"\",\"\",VLOOKUP(U74,Tabelle!$D$5:$I$7,6,FALSE)))","v":""},null,null,null,null,null,null,null,null,null,null,null,{"$f":"IF(B74=\"\",0,IF(B74=B73,COUNTIF(B$9:B73,B74)+1,1))","v":62},{"$f":"IF(OR(D74=\"\",M$2021=1),0,IF(AI74=10,1,0))","v":0},{"$f":"IF(E74>0,IF(OR(MONTH(E74)<$J$2027,MONTH(E74)>$J$2028),AK$2015,0),0)","v":0}]
["67","-1900","-1900-63",null,null,null,null,null,null,null,null,null,null,null,null,null,null,null,null,null,null,{"$f":"IF(M$2021=1,\"\",IF(U75=\"\",\"\",VLOOKUP(U75,Tabelle!$D$5:$H$7,5,FALSE)))","v":""},{"$f":"IF(M$2021=1,\"\",IF(U75=\"\",\"\",VLOOKUP(U75,Tabelle!$D$5:$I$7,6,FALSE)))","v":""},null,null,null,null,null,null,null,null,null,null,null,{"$f":"IF(B75=\"\",0,IF(B75=B74,COUNTIF(B$9:B74,B75)+1,1))","v":63},0,0]
["68","-1900","-1900-64",null,null,null,null,null,null,null,null,null,null,null,null,null,null,null,null,null,null,{"$f":"IF(M$2021=1,\"\",IF(U76=\"\",\"\",VLOOKUP(U76,Tabelle!$D$5:$H$7,5,FALSE)))","v":""},{"$f":"IF(M$2021=1,\"\",IF(U76=\"\",\"\",VLOOKUP(U76,Tabelle!$D$5:$I$7,6,FALSE)))","v":""},null,null,null,null,null,null,null,null,null,null,null,{"$f":"IF(B76=\"\",0,IF(B76=B75,COUNTIF(B$9:B75,B76)+1,1))","v":64},0,0]
["69","-1900","-1900-65",null,null,null,null,null,null,null,null,null,null,null,null,null,null,null,null,null,null,{"$f":"IF(M$2021=1,\"\",IF(U77=\"\",\"\",VLOOKUP(U77,Tabelle!$D$5:$H$7,5,FALSE)))","v":""},{"$f":"IF(M$2021=1,\"\",IF(U77=\"\",\"\",VLOOKUP(U77,Tabelle!$D$5:$I$7,6,FALSE)))","v":""},null,null,null,null,null,null,null,null,null,null,null,{"$f":"IF(B77=\"\",0,IF(B77=B76,COUNTIF(B$9:B76,B77)+1,1))","v":65},0,0]
["70","-1900","-1900-66",null,null,null,null,null,null,null,null,null,null,null,null,null,null,null,null,null,null,{"$f":"IF(M$2021=1,\"\",IF(U78=\"\",\"\",VLOOKUP(U78,Tabelle!$D$5:$H$7,5,FALSE)))","v":""},{"$f":"IF(M$2021=1,\"\",IF(U78=\"\",\"\",VLOOKUP(U78,Tabelle!$D$5:$I$7,6,FALSE)))","v":""},null,null,null,null,null,null,null,null,null,null,null,{"$f":"IF(B78=\"\",0,IF(B78=B77,COUNTIF(B$9:B77,B78)+1,1))","v":66},0,0]
["71","-1900","-1900-67",null,null,null,null,null,null,null,null,null,null,null,null,null,null,null,null,null,null,{"$f":"IF(M$2021=1,\"\",IF(U79=\"\",\"\",VLOOKUP(U79,Tabelle!$D$5:$H$7,5,FALSE)))","v":""},{"$f":"IF(M$2021=1,\"\",IF(U79=\"\",\"\",VLOOKUP(U79,Tabelle!$D$5:$I$7,6,FALSE)))","v":""},null,null,null,null,null,null,null,null,null,null,null,{"$f":"IF(B79=\"\",0,IF(B79=B78,COUNTIF(B$9:B78,B79)+1,1))","v":67},0,0]
["72","-1900","-1900-68",null,null,null,null,null,null,null,null,null,null,null,null,null,null,null,null,null,null,{"$f":"IF(M$2021=1,\"\",IF(U80=\"\",\"\",VLOOKUP(U80,Tabelle!$D$5:$H$7,5,FALSE)))","v":""},{"$f":"IF(M$2021=1,\"\",IF(U80=\"\",\"\",VLOOKUP(U80,Tabelle!$D$5:$I$7,6,FALSE)))","v":""},null,null,null,null,null,null,null,null,null,null,null,{"$f":"IF(B80=\"\",0,IF(B80=B79,COUNTIF(B$9:B79,B80)+1,1))","v":68},0,0]
["73","-1900","-1900-69",null,null,null,null,null,null,null,null,null,null,null,null,null,null,null,null,null,null,{"$f":"IF(M$2021=1,\"\",IF(U81=\"\",\"\",VLOOKUP(U81,Tabelle!$D$5:$H$7,5,FALSE)))","v":""},{"$f":"IF(M$2021=1,\"\",IF(U81=\"\",\"\",VLOOKUP(U81,Tabelle!$D$5:$I$7,6,FALSE)))","v":""},null,null,null,null,null,null,null,null,null,null,null,{"$f":"IF(B81=\"\",0,IF(B81=B80,COUNTIF(B$9:B80,B81)+1,1))","v":69},0,0]
["74","-1900","-1900-70",null,null,null,null,null,null,null,null,null,null,null,null,null,null,null,null,null,null,{"$f":"IF(M$2021=1,\"\",IF(U82=\"\",\"\",VLOOKUP(U82,Tabelle!$D$5:$H$7,5,FALSE)))","v":""},{"$f":"IF(M$2021=1,\"\",IF(U82=\"\",\"\",VLOOKUP(U82,Tabelle!$D$5:$I$7,6,FALSE)))","v":""},null,null,null,null,null,null,null,null,null,null,null,{"$f":"IF(B82=\"\",0,IF(B82=B81,COUNTIF(B$9:B81,B82)+1,1))","v":70},0,0]
["75","-1900","-1900-71",null,null,null,null,null,null,null,null,null,null,null,null,null,null,null,null,null,null,{"$f":"IF(M$2021=1,\"\",IF(U83=\"\",\"\",VLOOKUP(U83,Tabelle!$D$5:$H$7,5,FALSE)))","v":""},{"$f":"IF(M$2021=1,\"\",IF(U83=\"\",\"\",VLOOKUP(U83,Tabelle!$D$5:$I$7,6,FALSE)))","v":""},null,null,null,null,null,null,null,null,null,null,null,{"$f":"IF(B83=\"\",0,IF(B83=B82,COUNTIF(B$9:B82,B83)+1,1))","v":71},0,0]
["76","-1900","-1900-72",null,null,null,null,null,null,null,null,null,null,null,null,null,null,null,null,null,null,{"$f":"IF(M$2021=1,\"\",IF(U84=\"\",\"\",VLOOKUP(U84,Tabelle!$D$5:$H$7,5,FALSE)))","v":""},{"$f":"IF(M$2021=1,\"\",IF(U84=\"\",\"\",VLOOKUP(U84,Tabelle!$D$5:$I$7,6,FALSE)))","v":""},null,null,null,null,null,null,null,null,null,null,null,{"$f":"IF(B84=\"\",0,IF(B84=B83,COUNTIF(B$9:B83,B84)+1,1))","v":72},0,0]
["77","-1900","-1900-73",null,null,null,null,null,null,null,null,null,null,null,null,null,null,null,null,null,null,{"$f":"IF(M$2021=1,\"\",IF(U85=\"\",\"\",VLOOKUP(U85,Tabelle!$D$5:$H$7,5,FALSE)))","v":""},{"$f":"IF(M$2021=1,\"\",IF(U85=\"\",\"\",VLOOKUP(U85,Tabelle!$D$5:$I$7,6,FALSE)))","v":""},null,null,null,null,null,null,null,null,null,null,null,{"$f":"IF(B85=\"\",0,IF(B85=B84,COUNTIF(B$9:B84,B85)+1,1))","v":73},0,0]
["78","-1900","-1900-74",null,null,null,null,null,null,null,null,null,null,null,null,null,null,null,null,null,null,{"$f":"IF(M$2021=1,\"\",IF(U86=\"\",\"\",VLOOKUP(U86,Tabelle!$D$5:$H$7,5,FALSE)))","v":""},{"$f":"IF(M$2021=1,\"\",IF(U86=\"\",\"\",VLOOKUP(U86,Tabelle!$D$5:$I$7,6,FALSE)))","v":""},null,null,null,null,null,null,null,null,null,null,null,{"$f":"IF(B86=\"\",0,IF(B86=B85,COUNTIF(B$9:B85,B86)+1,1))","v":74},0,0]
["79","-1900","-1900-75",null,null,null,null,null,null,null,null,null,null,null,null,null,null,null,null,null,null,{"$f":"IF(M$2021=1,\"\",IF(U87=\"\",\"\",VLOOKUP(U87,Tabelle!$D$5:$H$7,5,FALSE)))","v":""},{"$f":"IF(M$2021=1,\"\",IF(U87=\"\",\"\",VLOOKUP(U87,Tabelle!$D$5:$I$7,6,FALSE)))","v":""},null,null,null,null,null,null,null,null,null,null,null,{"$f":"IF(B87=\"\",0,IF(B87=B86,COUNTIF(B$9:B86,B87)+1,1))","v":75},0,0]
["80","-1900","-1900-76",null,null,null,null,null,null,null,null,null,null,null,null,null,null,null,null,null,null,{"$f":"IF(M$2021=1,\"\",IF(U88=\"\",\"\",VLOOKUP(U88,Tabelle!$D$5:$H$7,5,FALSE)))","v":""},{"$f":"IF(M$2021=1,\"\",IF(U88=\"\",\"\",VLOOKUP(U88,Tabelle!$D$5:$I$7,6,FALSE)))","v":""},null,null,null,null,null,null,null,null,null,null,null,{"$f":"IF(B88=\"\",0,IF(B88=B87,COUNTIF(B$9:B87,B88)+1,1))","v":76},0,0]
["81","-1900","-1900-77",null,null,null,null,null,null,null,null,null,null,null,null,null,null,null,null,null,null,{"$f":"IF(M$2021=1,\"\",IF(U89=\"\",\"\",VLOOKUP(U89,Tabelle!$D$5:$H$7,5,FALSE)))","v":""},{"$f":"IF(M$2021=1,\"\",IF(U89=\"\",\"\",VLOOKUP(U89,Tabelle!$D$5:$I$7,6,FALSE)))","v":""},null,null,null,null,null,null,null,null,null,null,null,{"$f":"IF(B89=\"\",0,IF(B89=B88,COUNTIF(B$9:B88,B89)+1,1))","v":77},0,0]
["82","-1900","-1900-78",null,null,null,null,null,null,null,null,null,null,null,null,null,null,null,null,null,null,{"$f":"IF(M$2021=1,\"\",IF(U90=\"\",\"\",VLOOKUP(U90,Tabelle!$D$5:$H$7,5,FALSE)))","v":""},{"$f":"IF(M$2021=1,\"\",IF(U90=\"\",\"\",VLOOKUP(U90,Tabelle!$D$5:$I$7,6,FALSE)))","v":""},null,null,null,null,null,null,null,null,null,null,null,{"$f":"IF(B90=\"\",0,IF(B90=B89,COUNTIF(B$9:B89,B90)+1,1))","v":78},0,0]
["83","-1900","-1900-79",null,null,null,null,null,null,null,null,null,null,null,null,null,null,null,null,null,null,{"$f":"IF(M$2021=1,\"\",IF(U91=\"\",\"\",VLOOKUP(U91,Tabelle!$D$5:$H$7,5,FALSE)))","v":""},{"$f":"IF(M$2021=1,\"\",IF(U91=\"\",\"\",VLOOKUP(U91,Tabelle!$D$5:$I$7,6,FALSE)))","v":""},null,null,null,null,null,null,null,null,null,null,null,{"$f":"IF(B91=\"\",0,IF(B91=B90,COUNTIF(B$9:B90,B91)+1,1))","v":79},0,0]
["84","-1900","-1900-80",null,null,null,null,null,null,null,null,null,null,null,null,null,null,null,null,null,null,{"$f":"IF(M$2021=1,\"\",IF(U92=\"\",\"\",VLOOKUP(U92,Tabelle!$D$5:$H$7,5,FALSE)))","v":""},{"$f":"IF(M$2021=1,\"\",IF(U92=\"\",\"\",VLOOKUP(U92,Tabelle!$D$5:$I$7,6,FALSE)))","v":""},null,null,null,null,null,null,null,null,null,null,null,{"$f":"IF(B92=\"\",0,IF(B92=B91,COUNTIF(B$9:B91,B92)+1,1))","v":80},0,0]
["85","-1900","-1900-81",null,null,null,null,null,null,null,null,null,null,null,null,null,null,null,null,null,null,{"$f":"IF(M$2021=1,\"\",IF(U93=\"\",\"\",VLOOKUP(U93,Tabelle!$D$5:$H$7,5,FALSE)))","v":""},{"$f":"IF(M$2021=1,\"\",IF(U93=\"\",\"\",VLOOKUP(U93,Tabelle!$D$5:$I$7,6,FALSE)))","v":""},null,null,null,null,null,null,null,null,null,null,null,{"$f":"IF(B93=\"\",0,IF(B93=B92,COUNTIF(B$9:B92,B93)+1,1))","v":81},0,0]
["86","-1900","-1900-82",null,null,null,null,null,null,null,null,null,null,null,null,null,null,null,null,null,null,{"$f":"IF(M$2021=1,\"\",IF(U94=\"\",\"\",VLOOKUP(U94,Tabelle!$D$5:$H$7,5,FALSE)))","v":""},{"$f":"IF(M$2021=1,\"\",IF(U94=\"\",\"\",VLOOKUP(U94,Tabelle!$D$5:$I$7,6,FALSE)))","v":""},null,null,null,null,null,null,null,null,null,null,null,{"$f":"IF(B94=\"\",0,IF(B94=B93,COUNTIF(B$9:B93,B94)+1,1))","v":82},0,0]
["87","-1900","-1900-83",null,null,null,null,null,null,null,null,null,null,null,null,null,null,null,null,null,null,{"$f":"IF(M$2021=1,\"\",IF(U95=\"\",\"\",VLOOKUP(U95,Tabelle!$D$5:$H$7,5,FALSE)))","v":""},{"$f":"IF(M$2021=1,\"\",IF(U95=\"\",\"\",VLOOKUP(U95,Tabelle!$D$5:$I$7,6,FALSE)))","v":""},null,null,null,null,null,null,null,null,null,null,null,{"$f":"IF(B95=\"\",0,IF(B95=B94,COUNTIF(B$9:B94,B95)+1,1))","v":83},0,0]
["88","-1900","-1900-84",null,null,null,null,null,null,null,null,null,null,null,null,null,null,null,null,null,null,{"$f":"IF(M$2021=1,\"\",IF(U96=\"\",\"\",VLOOKUP(U96,Tabelle!$D$5:$H$7,5,FALSE)))","v":""},{"$f":"IF(M$2021=1,\"\",IF(U96=\"\",\"\",VLOOKUP(U96,Tabelle!$D$5:$I$7,6,FALSE)))","v":""},null,null,null,null,null,null,null,null,null,null,null,{"$f":"IF(B96=\"\",0,IF(B96=B95,COUNTIF(B$9:B95,B96)+1,1))","v":84},0,0]
["89","-1900","-1900-85",null,null,null,null,null,null,null,null,null,null,null,null,null,null,null,null,null,null,{"$f":"IF(M$2021=1,\"\",IF(U97=\"\",\"\",VLOOKUP(U97,Tabelle!$D$5:$H$7,5,FALSE)))","v":""},{"$f":"IF(M$2021=1,\"\",IF(U97=\"\",\"\",VLOOKUP(U97,Tabelle!$D$5:$I$7,6,FALSE)))","v":""},null,null,null,null,null,null,null,null,null,null,null,{"$f":"IF(B97=\"\",0,IF(B97=B96,COUNTIF(B$9:B96,B97)+1,1))","v":85},0,0]
["90","-1900","-1900-86",null,null,null,null,null,null,null,null,null,null,null,null,null,null,null,null,null,null,{"$f":"IF(M$2021=1,\"\",IF(U98=\"\",\"\",VLOOKUP(U98,Tabelle!$D$5:$H$7,5,FALSE)))","v":""},{"$f":"IF(M$2021=1,\"\",IF(U98=\"\",\"\",VLOOKUP(U98,Tabelle!$D$5:$I$7,6,FALSE)))","v":""},null,null,null,null,null,null,null,null,null,null,null,{"$f":"IF(B98=\"\",0,IF(B98=B97,COUNTIF(B$9:B97,B98)+1,1))","v":86},0,0]
["91","-1900","-1900-87",null,null,null,null,null,null,null,null,null,null,null,null,null,null,null,null,null,null,{"$f":"IF(M$2021=1,\"\",IF(U99=\"\",\"\",VLOOKUP(U99,Tabelle!$D$5:$H$7,5,FALSE)))","v":""},{"$f":"IF(M$2021=1,\"\",IF(U99=\"\",\"\",VLOOKUP(U99,Tabelle!$D$5:$I$7,6,FALSE)))","v":""},null,null,null,null,null,null,null,null,null,null,null,{"$f":"IF(B99=\"\",0,IF(B99=B98,COUNTIF(B$9:B98,B99)+1,1))","v":87},0,0]
["92","-1900","-1900-88",null,null,null,null,null,null,null,null,null,null,null,null,null,null,null,null,null,null,{"$f":"IF(M$2021=1,\"\",IF(U100=\"\",\"\",VLOOKUP(U100,Tabelle!$D$5:$H$7,5,FALSE)))","v":""},{"$f":"IF(M$2021=1,\"\",IF(U100=\"\",\"\",VLOOKUP(U100,Tabelle!$D$5:$I$7,6,FALSE)))","v":""},null,null,null,null,null,null,null,null,null,null,null,{"$f":"IF(B100=\"\",0,IF(B100=B99,COUNTIF(B$9:B99,B100)+1,1))","v":88},0,0]
["93","-1900","-1900-89",null,null,null,null,null,null,null,null,null,null,null,null,null,null,null,null,null,null,{"$f":"IF(M$2021=1,\"\",IF(U101=\"\",\"\",VLOOKUP(U101,Tabelle!$D$5:$H$7,5,FALSE)))","v":""},{"$f":"IF(M$2021=1,\"\",IF(U101=\"\",\"\",VLOOKUP(U101,Tabelle!$D$5:$I$7,6,FALSE)))","v":""},null,null,null,null,null,null,null,null,null,null,null,{"$f":"IF(B101=\"\",0,IF(B101=B100,COUNTIF(B$9:B100,B101)+1,1))","v":89},0,0]
["94","-1900","-1900-90",null,null,null,null,null,null,null,null,null,null,null,null,null,null,null,null,null,null,{"$f":"IF(M$2021=1,\"\",IF(U102=\"\",\"\",VLOOKUP(U102,Tabelle!$D$5:$H$7,5,FALSE)))","v":""},{"$f":"IF(M$2021=1,\"\",IF(U102=\"\",\"\",VLOOKUP(U102,Tabelle!$D$5:$I$7,6,FALSE)))","v":""},null,null,null,null,null,null,null,null,null,null,null,{"$f":"IF(B102=\"\",0,IF(B102=B101,COUNTIF(B$9:B101,B102)+1,1))","v":90},0,0]
["95","-1900","-1900-91",null,null,null,null,null,null,null,null,null,null,null,null,null,null,null,null,null,null,{"$f":"IF(M$2021=1,\"\",IF(U103=\"\",\"\",VLOOKUP(U103,Tabelle!$D$5:$H$7,5,FALSE)))","v":""},{"$f":"IF(M$2021=1,\"\",IF(U103=\"\",\"\",VLOOKUP(U103,Tabelle!$D$5:$I$7,6,FALSE)))","v":""},null,null,null,null,null,null,null,null,null,null,null,{"$f":"IF(B103=\"\",0,IF(B103=B102,COUNTIF(B$9:B102,B103)+1,1))","v":91},0,0]
["96","-1900","-1900-92",null,null,null,null,null,null,null,null,null,null,null,null,null,null,null,null,null,null,{"$f":"IF(M$2021=1,\"\",IF(U104=\"\",\"\",VLOOKUP(U104,Tabelle!$D$5:$H$7,5,FALSE)))","v":""},{"$f":"IF(M$2021=1,\"\",IF(U104=\"\",\"\",VLOOKUP(U104,Tabelle!$D$5:$I$7,6,FALSE)))","v":""},null,null,null,null,null,null,null,null,null,null,null,{"$f":"IF(B104=\"\",0,IF(B104=B103,COUNTIF(B$9:B103,B104)+1,1))","v":92},0,0]
["97","-1900","-1900-93",null,null,null,null,null,null,null,null,null,null,null,null,null,null,null,null,null,null,{"$f":"IF(M$2021=1,\"\",IF(U105=\"\",\"\",VLOOKUP(U105,Tabelle!$D$5:$H$7,5,FALSE)))","v":""},{"$f":"IF(M$2021=1,\"\",IF(U105=\"\",\"\",VLOOKUP(U105,Tabelle!$D$5:$I$7,6,FALSE)))","v":""},null,null,null,null,null,null,null,null,null,null,null,{"$f":"IF(B105=\"\",0,IF(B105=B104,COUNTIF(B$9:B104,B105)+1,1))","v":93},0,0]
["98","-1900","-1900-94",null,null,null,null,null,null,null,null,null,null,null,null,null,null,null,null,null,null,{"$f":"IF(M$2021=1,\"\",IF(U106=\"\",\"\",VLOOKUP(U106,Tabelle!$D$5:$H$7,5,FALSE)))","v":""},{"$f":"IF(M$2021=1,\"\",IF(U106=\"\",\"\",VLOOKUP(U106,Tabelle!$D$5:$I$7,6,FALSE)))","v":""},null,null,null,null,null,null,null,null,null,null,null,{"$f":"IF(B106=\"\",0,IF(B106=B105,COUNTIF(B$9:B105,B106)+1,1))","v":94},0,0]
["99","-1900","-1900-95",null,null,null,null,null,null,null,null,null,null,null,null,null,null,null,null,null,null,{"$f":"IF(M$2021=1,\"\",IF(U107=\"\",\"\",VLOOKUP(U107,Tabelle!$D$5:$H$7,5,FALSE)))","v":""},{"$f":"IF(M$2021=1,\"\",IF(U107=\"\",\"\",VLOOKUP(U107,Tabelle!$D$5:$I$7,6,FALSE)))","v":""},null,null,null,null,null,null,null,null,null,null,null,{"$f":"IF(B107=\"\",0,IF(B107=B106,COUNTIF(B$9:B106,B107)+1,1))","v":95},0,0]
["100","-1900","-1900-96",null,null,null,null,null,null,null,null,null,null,null,null,null,null,null,null,null,null,{"$f":"IF(M$2021=1,\"\",IF(U108=\"\",\"\",VLOOKUP(U108,Tabelle!$D$5:$H$7,5,FALSE)))","v":""},{"$f":"IF(M$2021=1,\"\",IF(U108=\"\",\"\",VLOOKUP(U108,Tabelle!$D$5:$I$7,6,FALSE)))","v":""},null,null,null,null,null,null,null,null,null,null,null,{"$f":"IF(B108=\"\",0,IF(B108=B107,COUNTIF(B$9:B107,B108)+1,1))","v":96},0,0]
["101","-1900","-1900-97",null,null,null,null,null,null,null,null,null,null,null,null,null,null,null,null,null,null,{"$f":"IF(M$2021=1,\"\",IF(U109=\"\",\"\",VLOOKUP(U109,Tabelle!$D$5:$H$7,5,FALSE)))","v":""},{"$f":"IF(M$2021=1,\"\",IF(U109=\"\",\"\",VLOOKUP(U109,Tabelle!$D$5:$I$7,6,FALSE)))","v":""},null,null,null,null,null,null,null,null,null,null,null,{"$f":"IF(B109=\"\",0,IF(B109=B108,COUNTIF(B$9:B108,B109)+1,1))","v":97},0,0]
["102","-1900","-1900-98",null,null,null,null,null,null,null,null,null,null,null,null,null,null,null,null,null,null,{"$f":"IF(M$2021=1,\"\",IF(U110=\"\",\"\",VLOOKUP(U110,Tabelle!$D$5:$H$7,5,FALSE)))","v":""},{"$f":"IF(M$2021=1,\"\",IF(U110=\"\",\"\",VLOOKUP(U110,Tabelle!$D$5:$I$7,6,FALSE)))","v":""},null,null,null,null,null,null,null,null,null,null,null,{"$f":"IF(B110=\"\",0,IF(B110=B109,COUNTIF(B$9:B109,B110)+1,1))","v":98},0,0]
["103","-1900","-1900-99",null,null,null,null,null,null,null,null,null,null,null,null,null,null,null,null,null,null,{"$f":"IF(M$2021=1,\"\",IF(U111=\"\",\"\",VLOOKUP(U111,Tabelle!$D$5:$H$7,5,FALSE)))","v":""},{"$f":"IF(M$2021=1,\"\",IF(U111=\"\",\"\",VLOOKUP(U111,Tabelle!$D$5:$I$7,6,FALSE)))","v":""},null,null,null,null,null,null,null,null,null,null,null,{"$f":"IF(B111=\"\",0,IF(B111=B110,COUNTIF(B$9:B110,B111)+1,1))","v":99},0,0]
["104","-1900","-1900-100",null,null,null,null,null,null,null,null,null,null,null,null,null,null,null,null,null,null,{"$f":"IF(M$2021=1,\"\",IF(U112=\"\",\"\",VLOOKUP(U112,Tabelle!$D$5:$H$7,5,FALSE)))","v":""},{"$f":"IF(M$2021=1,\"\",IF(U112=\"\",\"\",VLOOKUP(U112,Tabelle!$D$5:$I$7,6,FALSE)))","v":""},null,null,null,null,null,null,null,null,null,null,null,{"$f":"IF(B112=\"\",0,IF(B112=B111,COUNTIF(B$9:B111,B112)+1,1))","v":100},0,0]
["105","-1900","-1900-101",null,null,null,null,null,null,null,null,null,null,null,null,null,null,null,null,null,null,{"$f":"IF(M$2021=1,\"\",IF(U113=\"\",\"\",VLOOKUP(U113,Tabelle!$D$5:$H$7,5,FALSE)))","v":""},{"$f":"IF(M$2021=1,\"\",IF(U113=\"\",\"\",VLOOKUP(U113,Tabelle!$D$5:$I$7,6,FALSE)))","v":""},null,null,null,null,null,null,null,null,null,null,null,{"$f":"IF(B113=\"\",0,IF(B113=B112,COUNTIF(B$9:B112,B113)+1,1))","v":101},0,0]
["106","-1900","-1900-102",null,null,null,null,null,null,null,null,null,null,null,null,null,null,null,null,null,null,{"$f":"IF(M$2021=1,\"\",IF(U114=\"\",\"\",VLOOKUP(U114,Tabelle!$D$5:$H$7,5,FALSE)))","v":""},{"$f":"IF(M$2021=1,\"\",IF(U114=\"\",\"\",VLOOKUP(U114,Tabelle!$D$5:$I$7,6,FALSE)))","v":""},null,null,null,null,null,null,null,null,null,null,null,{"$f":"IF(B114=\"\",0,IF(B114=B113,COUNTIF(B$9:B113,B114)+1,1))","v":102},0,0]
["107","-1900","-1900-103",null,null,null,null,null,null,null,null,null,null,null,null,null,null,null,null,null,null,{"$f":"IF(M$2021=1,\"\",IF(U115=\"\",\"\",VLOOKUP(U115,Tabelle!$D$5:$H$7,5,FALSE)))","v":""},{"$f":"IF(M$2021=1,\"\",IF(U115=\"\",\"\",VLOOKUP(U115,Tabelle!$D$5:$I$7,6,FALSE)))","v":""},null,null,null,null,null,null,null,null,null,null,null,{"$f":"IF(B115=\"\",0,IF(B115=B114,COUNTIF(B$9:B114,B115)+1,1))","v":103},0,0]
["108","-1900","-1900-104",null,null,null,null,null,null,null,null,null,null,null,null,null,null,null,null,null,null,{"$f":"IF(M$2021=1,\"\",IF(U116=\"\",\"\",VLOOKUP(U116,Tabelle!$D$5:$H$7,5,FALSE)))","v":""},{"$f":"IF(M$2021=1,\"\",IF(U116=\"\",\"\",VLOOKUP(U116,Tabelle!$D$5:$I$7,6,FALSE)))","v":""},null,null,null,null,null,null,null,null,null,null,null,{"$f":"IF(B116=\"\",0,IF(B116=B115,COUNTIF(B$9:B115,B116)+1,1))","v":104},0,0]
["109","-1900","-1900-105",null,null,null,null,null,null,null,null,null,null,null,null,null,null,null,null,null,null,{"$f":"IF(M$2021=1,\"\",IF(U117=\"\",\"\",VLOOKUP(U117,Tabelle!$D$5:$H$7,5,FALSE)))","v":""},{"$f":"IF(M$2021=1,\"\",IF(U117=\"\",\"\",VLOOKUP(U117,Tabelle!$D$5:$I$7,6,FALSE)))","v":""},null,null,null,null,null,null,null,null,null,null,null,{"$f":"IF(B117=\"\",0,IF(B117=B116,COUNTIF(B$9:B116,B117)+1,1))","v":105},0,0]
["110","-1900","-1900-106",null,null,null,null,null,null,null,null,null,null,null,null,null,null,null,null,null,null,{"$f":"IF(M$2021=1,\"\",IF(U118=\"\",\"\",VLOOKUP(U118,Tabelle!$D$5:$H$7,5,FALSE)))","v":""},{"$f":"IF(M$2021=1,\"\",IF(U118=\"\",\"\",VLOOKUP(U118,Tabelle!$D$5:$I$7,6,FALSE)))","v":""},null,null,null,null,null,null,null,null,null,null,null,{"$f":"IF(B118=\"\",0,IF(B118=B117,COUNTIF(B$9:B117,B118)+1,1))","v":106},0,0]
["111","-1900","-1900-107",null,null,null,null,null,null,null,null,null,null,null,null,null,null,null,null,null,null,{"$f":"IF(M$2021=1,\"\",IF(U119=\"\",\"\",VLOOKUP(U119,Tabelle!$D$5:$H$7,5,FALSE)))","v":""},{"$f":"IF(M$2021=1,\"\",IF(U119=\"\",\"\",VLOOKUP(U119,Tabelle!$D$5:$I$7,6,FALSE)))","v":""},null,null,null,null,null,null,null,null,null,null,null,{"$f":"IF(B119=\"\",0,IF(B119=B118,COUNTIF(B$9:B118,B119)+1,1))","v":107},0,0]
["112","-1900","-1900-108",null,null,null,null,null,null,null,null,null,null,null,null,null,null,null,null,null,null,{"$f":"IF(M$2021=1,\"\",IF(U120=\"\",\"\",VLOOKUP(U120,Tabelle!$D$5:$H$7,5,FALSE)))","v":""},{"$f":"IF(M$2021=1,\"\",IF(U120=\"\",\"\",VLOOKUP(U120,Tabelle!$D$5:$I$7,6,FALSE)))","v":""},null,null,null,null,null,null,null,null,null,null,null,{"$f":"IF(B120=\"\",0,IF(B120=B119,COUNTIF(B$9:B119,B120)+1,1))","v":108},0,0]
["113","-1900","-1900-109",null,null,null,null,null,null,null,null,null,null,null,null,null,null,null,null,null,null,{"$f":"IF(M$2021=1,\"\",IF(U121=\"\",\"\",VLOOKUP(U121,Tabelle!$D$5:$H$7,5,FALSE)))","v":""},{"$f":"IF(M$2021=1,\"\",IF(U121=\"\",\"\",VLOOKUP(U121,Tabelle!$D$5:$I$7,6,FALSE)))","v":""},null,null,null,null,null,null,null,null,null,null,null,{"$f":"IF(B121=\"\",0,IF(B121=B120,COUNTIF(B$9:B120,B121)+1,1))","v":109},0,0]
["114","-1900","-1900-110",null,null,null,null,null,null,null,null,null,null,null,null,null,null,null,null,null,null,{"$f":"IF(M$2021=1,\"\",IF(U122=\"\",\"\",VLOOKUP(U122,Tabelle!$D$5:$H$7,5,FALSE)))","v":""},{"$f":"IF(M$2021=1,\"\",IF(U122=\"\",\"\",VLOOKUP(U122,Tabelle!$D$5:$I$7,6,FALSE)))","v":""},null,null,null,null,null,null,null,null,null,null,null,{"$f":"IF(B122=\"\",0,IF(B122=B121,COUNTIF(B$9:B121,B122)+1,1))","v":110},0,0]
["115","-1900","-1900-111",null,null,null,null,null,null,null,null,null,null,null,null,null,null,null,null,null,null,{"$f":"IF(M$2021=1,\"\",IF(U123=\"\",\"\",VLOOKUP(U123,Tabelle!$D$5:$H$7,5,FALSE)))","v":""},{"$f":"IF(M$2021=1,\"\",IF(U123=\"\",\"\",VLOOKUP(U123,Tabelle!$D$5:$I$7,6,FALSE)))","v":""},null,null,null,null,null,null,null,null,null,null,null,{"$f":"IF(B123=\"\",0,IF(B123=B122,COUNTIF(B$9:B122,B123)+1,1))","v":111},0,0]
["116","-1900","-1900-112",null,null,null,null,null,null,null,null,null,null,null,null,null,null,null,null,null,null,{"$f":"IF(M$2021=1,\"\",IF(U124=\"\",\"\",VLOOKUP(U124,Tabelle!$D$5:$H$7,5,FALSE)))","v":""},{"$f":"IF(M$2021=1,\"\",IF(U124=\"\",\"\",VLOOKUP(U124,Tabelle!$D$5:$I$7,6,FALSE)))","v":""},null,null,null,null,null,null,null,null,null,null,null,{"$f":"IF(B124=\"\",0,IF(B124=B123,COUNTIF(B$9:B123,B124)+1,1))","v":112},0,0]
["117","-1900","-1900-113",null,null,null,null,null,null,null,null,null,null,null,null,null,null,null,null,null,null,{"$f":"IF(M$2021=1,\"\",IF(U125=\"\",\"\",VLOOKUP(U125,Tabelle!$D$5:$H$7,5,FALSE)))","v":""},{"$f":"IF(M$2021=1,\"\",IF(U125=\"\",\"\",VLOOKUP(U125,Tabelle!$D$5:$I$7,6,FALSE)))","v":""},null,null,null,null,null,null,null,null,null,null,null,{"$f":"IF(B125=\"\",0,IF(B125=B124,COUNTIF(B$9:B124,B125)+1,1))","v":113},0,0]
["118","-1900","-1900-114",null,null,null,null,null,null,null,null,null,null,null,null,null,null,null,null,null,null,{"$f":"IF(M$2021=1,\"\",IF(U126=\"\",\"\",VLOOKUP(U126,Tabelle!$D$5:$H$7,5,FALSE)))","v":""},{"$f":"IF(M$2021=1,\"\",IF(U126=\"\",\"\",VLOOKUP(U126,Tabelle!$D$5:$I$7,6,FALSE)))","v":""},null,null,null,null,null,null,null,null,null,null,null,{"$f":"IF(B126=\"\",0,IF(B126=B125,COUNTIF(B$9:B125,B126)+1,1))","v":114},0,0]
["119","-1900","-1900-115",null,null,null,null,null,null,null,null,null,null,null,null,null,null,null,null,null,null,{"$f":"IF(M$2021=1,\"\",IF(U127=\"\",\"\",VLOOKUP(U127,Tabelle!$D$5:$H$7,5,FALSE)))","v":""},{"$f":"IF(M$2021=1,\"\",IF(U127=\"\",\"\",VLOOKUP(U127,Tabelle!$D$5:$I$7,6,FALSE)))","v":""},null,null,null,null,null,null,null,null,null,null,null,{"$f":"IF(B127=\"\",0,IF(B127=B126,COUNTIF(B$9:B126,B127)+1,1))","v":115},0,0]
["120","-1900","-1900-116",null,null,null,null,null,null,null,null,null,null,null,null,null,null,null,null,null,null,{"$f":"IF(M$2021=1,\"\",IF(U128=\"\",\"\",VLOOKUP(U128,Tabelle!$D$5:$H$7,5,FALSE)))","v":""},{"$f":"IF(M$2021=1,\"\",IF(U128=\"\",\"\",VLOOKUP(U128,Tabelle!$D$5:$I$7,6,FALSE)))","v":""},null,null,null,null,null,null,null,null,null,null,null,{"$f":"IF(B128=\"\",0,IF(B128=B127,COUNTIF(B$9:B127,B128)+1,1))","v":116},0,0]
["121","-1900","-1900-117",null,null,null,null,null,null,null,null,null,null,null,null,null,null,null,null,null,null,{"$f":"IF(M$2021=1,\"\",IF(U129=\"\",\"\",VLOOKUP(U129,Tabelle!$D$5:$H$7,5,FALSE)))","v":""},{"$f":"IF(M$2021=1,\"\",IF(U129=\"\",\"\",VLOOKUP(U129,Tabelle!$D$5:$I$7,6,FALSE)))","v":""},null,null,null,null,null,null,null,null,null,null,null,{"$f":"IF(B129=\"\",0,IF(B129=B128,COUNTIF(B$9:B128,B129)+1,1))","v":117},0,0]
["122","-1900","-1900-118",null,null,null,null,null,null,null,null,null,null,null,null,null,null,null,null,null,null,{"$f":"IF(M$2021=1,\"\",IF(U130=\"\",\"\",VLOOKUP(U130,Tabelle!$D$5:$H$7,5,FALSE)))","v":""},{"$f":"IF(M$2021=1,\"\",IF(U130=\"\",\"\",VLOOKUP(U130,Tabelle!$D$5:$I$7,6,FALSE)))","v":""},null,null,null,null,null,null,null,null,null,null,null,{"$f":"IF(B130=\"\",0,IF(B130=B129,COUNTIF(B$9:B129,B130)+1,1))","v":118},0,0]
["123","-1900","-1900-119",null,null,null,null,null,null,null,null,null,null,null,null,null,null,null,null,null,null,{"$f":"IF(M$2021=1,\"\",IF(U131=\"\",\"\",VLOOKUP(U131,Tabelle!$D$5:$H$7,5,FALSE)))","v":""},{"$f":"IF(M$2021=1,\"\",IF(U131=\"\",\"\",VLOOKUP(U131,Tabelle!$D$5:$I$7,6,FALSE)))","v":""},null,null,null,null,null,null,null,null,null,null,null,{"$f":"IF(B131=\"\",0,IF(B131=B130,COUNTIF(B$9:B130,B131)+1,1))","v":119},0,0]
["124","-1900","-1900-120",null,null,null,null,null,null,null,null,null,null,null,null,null,null,null,null,null,null,{"$f":"IF(M$2021=1,\"\",IF(U132=\"\",\"\",VLOOKUP(U132,Tabelle!$D$5:$H$7,5,FALSE)))","v":""},{"$f":"IF(M$2021=1,\"\",IF(U132=\"\",\"\",VLOOKUP(U132,Tabelle!$D$5:$I$7,6,FALSE)))","v":""},null,null,null,null,null,null,null,null,null,null,null,{"$f":"IF(B132=\"\",0,IF(B132=B131,COUNTIF(B$9:B131,B132)+1,1))","v":120},0,0]
["125","-1900","-1900-121",null,null,null,null,null,null,null,null,null,null,null,null,null,null,null,null,null,null,{"$f":"IF(M$2021=1,\"\",IF(U133=\"\",\"\",VLOOKUP(U133,Tabelle!$D$5:$H$7,5,FALSE)))","v":""},{"$f":"IF(M$2021=1,\"\",IF(U133=\"\",\"\",VLOOKUP(U133,Tabelle!$D$5:$I$7,6,FALSE)))","v":""},null,null,null,null,null,null,null,null,null,null,null,{"$f":"IF(B133=\"\",0,IF(B133=B132,COUNTIF(B$9:B132,B133)+1,1))","v":121},0,0]
["126","-1900","-1900-122",null,null,null,null,null,null,null,null,null,null,null,null,null,null,null,null,null,null,{"$f":"IF(M$2021=1,\"\",IF(U134=\"\",\"\",VLOOKUP(U134,Tabelle!$D$5:$H$7,5,FALSE)))","v":""},{"$f":"IF(M$2021=1,\"\",IF(U134=\"\",\"\",VLOOKUP(U134,Tabelle!$D$5:$I$7,6,FALSE)))","v":""},null,null,null,null,null,null,null,null,null,null,null,{"$f":"IF(B134=\"\",0,IF(B134=B133,COUNTIF(B$9:B133,B134)+1,1))","v":122},0,0]
["127","-1900","-1900-123",null,null,null,null,null,null,null,null,null,null,null,null,null,null,null,null,null,null,{"$f":"IF(M$2021=1,\"\",IF(U135=\"\",\"\",VLOOKUP(U135,Tabelle!$D$5:$H$7,5,FALSE)))","v":""},{"$f":"IF(M$2021=1,\"\",IF(U135=\"\",\"\",VLOOKUP(U135,Tabelle!$D$5:$I$7,6,FALSE)))","v":""},null,null,null,null,null,null,null,null,null,null,null,{"$f":"IF(B135=\"\",0,IF(B135=B134,COUNTIF(B$9:B134,B135)+1,1))","v":123},0,0]
["128","-1900","-1900-124",null,null,null,null,null,null,null,null,null,null,null,null,null,null,null,null,null,null,{"$f":"IF(M$2021=1,\"\",IF(U136=\"\",\"\",VLOOKUP(U136,Tabelle!$D$5:$H$7,5,FALSE)))","v":""},{"$f":"IF(M$2021=1,\"\",IF(U136=\"\",\"\",VLOOKUP(U136,Tabelle!$D$5:$I$7,6,FALSE)))","v":""},null,null,null,null,null,null,null,null,null,null,null,{"$f":"IF(B136=\"\",0,IF(B136=B135,COUNTIF(B$9:B135,B136)+1,1))","v":124},0,0]
["129","-1900",{"$f":"IF(M$2021=1,0,B137&\"-\"&AI137)","v":"-1900-125"},null,null,null,null,null,null,null,null,null,null,null,null,null,null,null,null,null,null,{"$f":"IF(M$2021=1,\"\",IF(U137=\"\",\"\",VLOOKUP(U137,Tabelle!$D$5:$H$7,5,FALSE)))","v":""},{"$f":"IF(M$2021=1,\"\",IF(U137=\"\",\"\",VLOOKUP(U137,Tabelle!$D$5:$I$7,6,FALSE)))","v":""},null,null,null,null,null,null,null,null,null,null,null,{"$f":"IF(B137=\"\",0,IF(B137=B136,COUNTIF(B$9:B136,B137)+1,1))","v":125},0,0]
["130",{"$f":"IF(AK138=$AK$2015,0,IF(M$2021=1,0,D138&\"-\"&YEAR(E138)))","v":"-1900"},"-1900-126",null,null,null,null,null,null,null,null,null,null,null,null,null,null,null,null,null,null,{"$f":"IF(M$2021=1,\"\",IF(U138=\"\",\"\",VLOOKUP(U138,Tabelle!$D$5:$H$7,5,FALSE)))","v":""},{"$f":"IF(M$2021=1,\"\",IF(U138=\"\",\"\",VLOOKUP(U138,Tabelle!$D$5:$I$7,6,FALSE)))","v":""},null,null,null,null,null,null,null,null,null,null,null,{"$f":"IF(B138=\"\",0,IF(B138=B137,COUNTIF(B$9:B137,B138)+1,1))","v":126},{"$f":"IF(OR(D138=\"\",M$2021=1),0,IF(AI138=10,1,0))","v":0},{"$f":"IF(E138>0,IF(OR(MONTH(E138)<$J$2027,MONTH(E138)>$J$2028),AK$2015,0),0)","v":0}]
["131","-1900","-1900-127",null,null,null,null,null,null,null,null,null,null,null,null,null,null,null,null,null,null,{"$f":"IF(M$2021=1,\"\",IF(U139=\"\",\"\",VLOOKUP(U139,Tabelle!$D$5:$H$7,5,FALSE)))","v":""},{"$f":"IF(M$2021=1,\"\",IF(U139=\"\",\"\",VLOOKUP(U139,Tabelle!$D$5:$I$7,6,FALSE)))","v":""},null,null,null,null,null,null,null,null,null,null,null,{"$f":"IF(B139=\"\",0,IF(B139=B138,COUNTIF(B$9:B138,B139)+1,1))","v":127},0,0]
["132","-1900","-1900-128",null,null,null,null,null,null,null,null,null,null,null,null,null,null,null,null,null,null,{"$f":"IF(M$2021=1,\"\",IF(U140=\"\",\"\",VLOOKUP(U140,Tabelle!$D$5:$H$7,5,FALSE)))","v":""},{"$f":"IF(M$2021=1,\"\",IF(U140=\"\",\"\",VLOOKUP(U140,Tabelle!$D$5:$I$7,6,FALSE)))","v":""},null,null,null,null,null,null,null,null,null,null,null,{"$f":"IF(B140=\"\",0,IF(B140=B139,COUNTIF(B$9:B139,B140)+1,1))","v":128},0,0]
["133","-1900","-1900-129",null,null,null,null,null,null,null,null,null,null,null,null,null,null,null,null,null,null,{"$f":"IF(M$2021=1,\"\",IF(U141=\"\",\"\",VLOOKUP(U141,Tabelle!$D$5:$H$7,5,FALSE)))","v":""},{"$f":"IF(M$2021=1,\"\",IF(U141=\"\",\"\",VLOOKUP(U141,Tabelle!$D$5:$I$7,6,FALSE)))","v":""},null,null,null,null,null,null,null,null,null,null,null,{"$f":"IF(B141=\"\",0,IF(B141=B140,COUNTIF(B$9:B140,B141)+1,1))","v":129},0,0]
["134","-1900","-1900-130",null,null,null,null,null,null,null,null,null,null,null,null,null,null,null,null,null,null,{"$f":"IF(M$2021=1,\"\",IF(U142=\"\",\"\",VLOOKUP(U142,Tabelle!$D$5:$H$7,5,FALSE)))","v":""},{"$f":"IF(M$2021=1,\"\",IF(U142=\"\",\"\",VLOOKUP(U142,Tabelle!$D$5:$I$7,6,FALSE)))","v":""},null,null,null,null,null,null,null,null,null,null,null,{"$f":"IF(B142=\"\",0,IF(B142=B141,COUNTIF(B$9:B141,B142)+1,1))","v":130},0,0]
["135","-1900","-1900-131",null,null,null,null,null,null,null,null,null,null,null,null,null,null,null,null,null,null,{"$f":"IF(M$2021=1,\"\",IF(U143=\"\",\"\",VLOOKUP(U143,Tabelle!$D$5:$H$7,5,FALSE)))","v":""},{"$f":"IF(M$2021=1,\"\",IF(U143=\"\",\"\",VLOOKUP(U143,Tabelle!$D$5:$I$7,6,FALSE)))","v":""},null,null,null,null,null,null,null,null,null,null,null,{"$f":"IF(B143=\"\",0,IF(B143=B142,COUNTIF(B$9:B142,B143)+1,1))","v":131},0,0]
["136","-1900","-1900-132",null,null,null,null,null,null,null,null,null,null,null,null,null,null,null,null,null,null,{"$f":"IF(M$2021=1,\"\",IF(U144=\"\",\"\",VLOOKUP(U144,Tabelle!$D$5:$H$7,5,FALSE)))","v":""},{"$f":"IF(M$2021=1,\"\",IF(U144=\"\",\"\",VLOOKUP(U144,Tabelle!$D$5:$I$7,6,FALSE)))","v":""},null,null,null,null,null,null,null,null,null,null,null,{"$f":"IF(B144=\"\",0,IF(B144=B143,COUNTIF(B$9:B143,B144)+1,1))","v":132},0,0]
["137","-1900","-1900-133",null,null,null,null,null,null,null,null,null,null,null,null,null,null,null,null,null,null,{"$f":"IF(M$2021=1,\"\",IF(U145=\"\",\"\",VLOOKUP(U145,Tabelle!$D$5:$H$7,5,FALSE)))","v":""},{"$f":"IF(M$2021=1,\"\",IF(U145=\"\",\"\",VLOOKUP(U145,Tabelle!$D$5:$I$7,6,FALSE)))","v":""},null,null,null,null,null,null,null,null,null,null,null,{"$f":"IF(B145=\"\",0,IF(B145=B144,COUNTIF(B$9:B144,B145)+1,1))","v":133},0,0]
["138","-1900","-1900-134",null,null,null,null,null,null,null,null,null,null,null,null,null,null,null,null,null,null,{"$f":"IF(M$2021=1,\"\",IF(U146=\"\",\"\",VLOOKUP(U146,Tabelle!$D$5:$H$7,5,FALSE)))","v":""},{"$f":"IF(M$2021=1,\"\",IF(U146=\"\",\"\",VLOOKUP(U146,Tabelle!$D$5:$I$7,6,FALSE)))","v":""},null,null,null,null,null,null,null,null,null,null,null,{"$f":"IF(B146=\"\",0,IF(B146=B145,COUNTIF(B$9:B145,B146)+1,1))","v":134},0,0]
["139","-1900","-1900-135",null,null,null,null,null,null,null,null,null,null,null,null,null,null,null,null,null,null,{"$f":"IF(M$2021=1,\"\",IF(U147=\"\",\"\",VLOOKUP(U147,Tabelle!$D$5:$H$7,5,FALSE)))","v":""},{"$f":"IF(M$2021=1,\"\",IF(U147=\"\",\"\",VLOOKUP(U147,Tabelle!$D$5:$I$7,6,FALSE)))","v":""},null,null,null,null,null,null,null,null,null,null,null,{"$f":"IF(B147=\"\",0,IF(B147=B146,COUNTIF(B$9:B146,B147)+1,1))","v":135},0,0]
["140","-1900","-1900-136",null,null,null,null,null,null,null,null,null,null,null,null,null,null,null,null,null,null,{"$f":"IF(M$2021=1,\"\",IF(U148=\"\",\"\",VLOOKUP(U148,Tabelle!$D$5:$H$7,5,FALSE)))","v":""},{"$f":"IF(M$2021=1,\"\",IF(U148=\"\",\"\",VLOOKUP(U148,Tabelle!$D$5:$I$7,6,FALSE)))","v":""},null,null,null,null,null,null,null,null,null,null,null,{"$f":"IF(B148=\"\",0,IF(B148=B147,COUNTIF(B$9:B147,B148)+1,1))","v":136},0,0]
["141","-1900","-1900-137",null,null,null,null,null,null,null,null,null,null,null,null,null,null,null,null,null,null,{"$f":"IF(M$2021=1,\"\",IF(U149=\"\",\"\",VLOOKUP(U149,Tabelle!$D$5:$H$7,5,FALSE)))","v":""},{"$f":"IF(M$2021=1,\"\",IF(U149=\"\",\"\",VLOOKUP(U149,Tabelle!$D$5:$I$7,6,FALSE)))","v":""},null,null,null,null,null,null,null,null,null,null,null,{"$f":"IF(B149=\"\",0,IF(B149=B148,COUNTIF(B$9:B148,B149)+1,1))","v":137},0,0]
["142","-1900","-1900-138",null,null,null,null,null,null,null,null,null,null,null,null,null,null,null,null,null,null,{"$f":"IF(M$2021=1,\"\",IF(U150=\"\",\"\",VLOOKUP(U150,Tabelle!$D$5:$H$7,5,FALSE)))","v":""},{"$f":"IF(M$2021=1,\"\",IF(U150=\"\",\"\",VLOOKUP(U150,Tabelle!$D$5:$I$7,6,FALSE)))","v":""},null,null,null,null,null,null,null,null,null,null,null,{"$f":"IF(B150=\"\",0,IF(B150=B149,COUNTIF(B$9:B149,B150)+1,1))","v":138},0,0]
["143","-1900","-1900-139",null,null,null,null,null,null,null,null,null,null,null,null,null,null,null,null,null,null,{"$f":"IF(M$2021=1,\"\",IF(U151=\"\",\"\",VLOOKUP(U151,Tabelle!$D$5:$H$7,5,FALSE)))","v":""},{"$f":"IF(M$2021=1,\"\",IF(U151=\"\",\"\",VLOOKUP(U151,Tabelle!$D$5:$I$7,6,FALSE)))","v":""},null,null,null,null,null,null,null,null,null,null,null,{"$f":"IF(B151=\"\",0,IF(B151=B150,COUNTIF(B$9:B150,B151)+1,1))","v":139},0,0]
["144","-1900","-1900-140",null,null,null,null,null,null,null,null,null,null,null,null,null,null,null,null,null,null,{"$f":"IF(M$2021=1,\"\",IF(U152=\"\",\"\",VLOOKUP(U152,Tabelle!$D$5:$H$7,5,FALSE)))","v":""},{"$f":"IF(M$2021=1,\"\",IF(U152=\"\",\"\",VLOOKUP(U152,Tabelle!$D$5:$I$7,6,FALSE)))","v":""},null,null,null,null,null,null,null,null,null,null,null,{"$f":"IF(B152=\"\",0,IF(B152=B151,COUNTIF(B$9:B151,B152)+1,1))","v":140},0,0]
["145","-1900","-1900-141",null,null,null,null,null,null,null,null,null,null,null,null,null,null,null,null,null,null,{"$f":"IF(M$2021=1,\"\",IF(U153=\"\",\"\",VLOOKUP(U153,Tabelle!$D$5:$H$7,5,FALSE)))","v":""},{"$f":"IF(M$2021=1,\"\",IF(U153=\"\",\"\",VLOOKUP(U153,Tabelle!$D$5:$I$7,6,FALSE)))","v":""},null,null,null,null,null,null,null,null,null,null,null,{"$f":"IF(B153=\"\",0,IF(B153=B152,COUNTIF(B$9:B152,B153)+1,1))","v":141},0,0]
["146","-1900","-1900-142",null,null,null,null,null,null,null,null,null,null,null,null,null,null,null,null,null,null,{"$f":"IF(M$2021=1,\"\",IF(U154=\"\",\"\",VLOOKUP(U154,Tabelle!$D$5:$H$7,5,FALSE)))","v":""},{"$f":"IF(M$2021=1,\"\",IF(U154=\"\",\"\",VLOOKUP(U154,Tabelle!$D$5:$I$7,6,FALSE)))","v":""},null,null,null,null,null,null,null,null,null,null,null,{"$f":"IF(B154=\"\",0,IF(B154=B153,COUNTIF(B$9:B153,B154)+1,1))","v":142},0,0]
["147","-1900","-1900-143",null,null,null,null,null,null,null,null,null,null,null,null,null,null,null,null,null,null,{"$f":"IF(M$2021=1,\"\",IF(U155=\"\",\"\",VLOOKUP(U155,Tabelle!$D$5:$H$7,5,FALSE)))","v":""},{"$f":"IF(M$2021=1,\"\",IF(U155=\"\",\"\",VLOOKUP(U155,Tabelle!$D$5:$I$7,6,FALSE)))","v":""},null,null,null,null,null,null,null,null,null,null,null,{"$f":"IF(B155=\"\",0,IF(B155=B154,COUNTIF(B$9:B154,B155)+1,1))","v":143},0,0]
["148","-1900","-1900-144",null,null,null,null,null,null,null,null,null,null,null,null,null,null,null,null,null,null,{"$f":"IF(M$2021=1,\"\",IF(U156=\"\",\"\",VLOOKUP(U156,Tabelle!$D$5:$H$7,5,FALSE)))","v":""},{"$f":"IF(M$2021=1,\"\",IF(U156=\"\",\"\",VLOOKUP(U156,Tabelle!$D$5:$I$7,6,FALSE)))","v":""},null,null,null,null,null,null,null,null,null,null,null,{"$f":"IF(B156=\"\",0,IF(B156=B155,COUNTIF(B$9:B155,B156)+1,1))","v":144},0,0]
["149","-1900","-1900-145",null,null,null,null,null,null,null,null,null,null,null,null,null,null,null,null,null,null,{"$f":"IF(M$2021=1,\"\",IF(U157=\"\",\"\",VLOOKUP(U157,Tabelle!$D$5:$H$7,5,FALSE)))","v":""},{"$f":"IF(M$2021=1,\"\",IF(U157=\"\",\"\",VLOOKUP(U157,Tabelle!$D$5:$I$7,6,FALSE)))","v":""},null,null,null,null,null,null,null,null,null,null,null,{"$f":"IF(B157=\"\",0,IF(B157=B156,COUNTIF(B$9:B156,B157)+1,1))","v":145},0,0]
["150","-1900","-1900-146",null,null,null,null,null,null,null,null,null,null,null,null,null,null,null,null,null,null,{"$f":"IF(M$2021=1,\"\",IF(U158=\"\",\"\",VLOOKUP(U158,Tabelle!$D$5:$H$7,5,FALSE)))","v":""},{"$f":"IF(M$2021=1,\"\",IF(U158=\"\",\"\",VLOOKUP(U158,Tabelle!$D$5:$I$7,6,FALSE)))","v":""},null,null,null,null,null,null,null,null,null,null,null,{"$f":"IF(B158=\"\",0,IF(B158=B157,COUNTIF(B$9:B157,B158)+1,1))","v":146},0,0]
["151","-1900","-1900-147",null,null,null,null,null,null,null,null,null,null,null,null,null,null,null,null,null,null,{"$f":"IF(M$2021=1,\"\",IF(U159=\"\",\"\",VLOOKUP(U159,Tabelle!$D$5:$H$7,5,FALSE)))","v":""},{"$f":"IF(M$2021=1,\"\",IF(U159=\"\",\"\",VLOOKUP(U159,Tabelle!$D$5:$I$7,6,FALSE)))","v":""},null,null,null,null,null,null,null,null,null,null,null,{"$f":"IF(B159=\"\",0,IF(B159=B158,COUNTIF(B$9:B158,B159)+1,1))","v":147},0,0]
["152","-1900","-1900-148",null,null,null,null,null,null,null,null,null,null,null,null,null,null,null,null,null,null,{"$f":"IF(M$2021=1,\"\",IF(U160=\"\",\"\",VLOOKUP(U160,Tabelle!$D$5:$H$7,5,FALSE)))","v":""},{"$f":"IF(M$2021=1,\"\",IF(U160=\"\",\"\",VLOOKUP(U160,Tabelle!$D$5:$I$7,6,FALSE)))","v":""},null,null,null,null,null,null,null,null,null,null,null,{"$f":"IF(B160=\"\",0,IF(B160=B159,COUNTIF(B$9:B159,B160)+1,1))","v":148},0,0]
["153","-1900","-1900-149",null,null,null,null,null,null,null,null,null,null,null,null,null,null,null,null,null,null,{"$f":"IF(M$2021=1,\"\",IF(U161=\"\",\"\",VLOOKUP(U161,Tabelle!$D$5:$H$7,5,FALSE)))","v":""},{"$f":"IF(M$2021=1,\"\",IF(U161=\"\",\"\",VLOOKUP(U161,Tabelle!$D$5:$I$7,6,FALSE)))","v":""},null,null,null,null,null,null,null,null,null,null,null,{"$f":"IF(B161=\"\",0,IF(B161=B160,COUNTIF(B$9:B160,B161)+1,1))","v":149},0,0]
["154","-1900","-1900-150",null,null,null,null,null,null,null,null,null,null,null,null,null,null,null,null,null,null,{"$f":"IF(M$2021=1,\"\",IF(U162=\"\",\"\",VLOOKUP(U162,Tabelle!$D$5:$H$7,5,FALSE)))","v":""},{"$f":"IF(M$2021=1,\"\",IF(U162=\"\",\"\",VLOOKUP(U162,Tabelle!$D$5:$I$7,6,FALSE)))","v":""},null,null,null,null,null,null,null,null,null,null,null,{"$f":"IF(B162=\"\",0,IF(B162=B161,COUNTIF(B$9:B161,B162)+1,1))","v":150},0,0]
["155","-1900","-1900-151",null,null,null,null,null,null,null,null,null,null,null,null,null,null,null,null,null,null,{"$f":"IF(M$2021=1,\"\",IF(U163=\"\",\"\",VLOOKUP(U163,Tabelle!$D$5:$H$7,5,FALSE)))","v":""},{"$f":"IF(M$2021=1,\"\",IF(U163=\"\",\"\",VLOOKUP(U163,Tabelle!$D$5:$I$7,6,FALSE)))","v":""},null,null,null,null,null,null,null,null,null,null,null,{"$f":"IF(B163=\"\",0,IF(B163=B162,COUNTIF(B$9:B162,B163)+1,1))","v":151},0,0]
["156","-1900","-1900-152",null,null,null,null,null,null,null,null,null,null,null,null,null,null,null,null,null,null,{"$f":"IF(M$2021=1,\"\",IF(U164=\"\",\"\",VLOOKUP(U164,Tabelle!$D$5:$H$7,5,FALSE)))","v":""},{"$f":"IF(M$2021=1,\"\",IF(U164=\"\",\"\",VLOOKUP(U164,Tabelle!$D$5:$I$7,6,FALSE)))","v":""},null,null,null,null,null,null,null,null,null,null,null,{"$f":"IF(B164=\"\",0,IF(B164=B163,COUNTIF(B$9:B163,B164)+1,1))","v":152},0,0]
["157","-1900","-1900-153",null,null,null,null,null,null,null,null,null,null,null,null,null,null,null,null,null,null,{"$f":"IF(M$2021=1,\"\",IF(U165=\"\",\"\",VLOOKUP(U165,Tabelle!$D$5:$H$7,5,FALSE)))","v":""},{"$f":"IF(M$2021=1,\"\",IF(U165=\"\",\"\",VLOOKUP(U165,Tabelle!$D$5:$I$7,6,FALSE)))","v":""},null,null,null,null,null,null,null,null,null,null,null,{"$f":"IF(B165=\"\",0,IF(B165=B164,COUNTIF(B$9:B164,B165)+1,1))","v":153},0,0]
["158","-1900","-1900-154",null,null,null,null,null,null,null,null,null,null,null,null,null,null,null,null,null,null,{"$f":"IF(M$2021=1,\"\",IF(U166=\"\",\"\",VLOOKUP(U166,Tabelle!$D$5:$H$7,5,FALSE)))","v":""},{"$f":"IF(M$2021=1,\"\",IF(U166=\"\",\"\",VLOOKUP(U166,Tabelle!$D$5:$I$7,6,FALSE)))","v":""},null,null,null,null,null,null,null,null,null,null,null,{"$f":"IF(B166=\"\",0,IF(B166=B165,COUNTIF(B$9:B165,B166)+1,1))","v":154},0,0]
["159","-1900","-1900-155",null,null,null,null,null,null,null,null,null,null,null,null,null,null,null,null,null,null,{"$f":"IF(M$2021=1,\"\",IF(U167=\"\",\"\",VLOOKUP(U167,Tabelle!$D$5:$H$7,5,FALSE)))","v":""},{"$f":"IF(M$2021=1,\"\",IF(U167=\"\",\"\",VLOOKUP(U167,Tabelle!$D$5:$I$7,6,FALSE)))","v":""},null,null,null,null,null,null,null,null,null,null,null,{"$f":"IF(B167=\"\",0,IF(B167=B166,COUNTIF(B$9:B166,B167)+1,1))","v":155},0,0]
["160","-1900","-1900-156",null,null,null,null,null,null,null,null,null,null,null,null,null,null,null,null,null,null,{"$f":"IF(M$2021=1,\"\",IF(U168=\"\",\"\",VLOOKUP(U168,Tabelle!$D$5:$H$7,5,FALSE)))","v":""},{"$f":"IF(M$2021=1,\"\",IF(U168=\"\",\"\",VLOOKUP(U168,Tabelle!$D$5:$I$7,6,FALSE)))","v":""},null,null,null,null,null,null,null,null,null,null,null,{"$f":"IF(B168=\"\",0,IF(B168=B167,COUNTIF(B$9:B167,B168)+1,1))","v":156},0,0]
["161","-1900","-1900-157",null,null,null,null,null,null,null,null,null,null,null,null,null,null,null,null,null,null,{"$f":"IF(M$2021=1,\"\",IF(U169=\"\",\"\",VLOOKUP(U169,Tabelle!$D$5:$H$7,5,FALSE)))","v":""},{"$f":"IF(M$2021=1,\"\",IF(U169=\"\",\"\",VLOOKUP(U169,Tabelle!$D$5:$I$7,6,FALSE)))","v":""},null,null,null,null,null,null,null,null,null,null,null,{"$f":"IF(B169=\"\",0,IF(B169=B168,COUNTIF(B$9:B168,B169)+1,1))","v":157},0,0]
["162","-1900","-1900-158",null,null,null,null,null,null,null,null,null,null,null,null,null,null,null,null,null,null,{"$f":"IF(M$2021=1,\"\",IF(U170=\"\",\"\",VLOOKUP(U170,Tabelle!$D$5:$H$7,5,FALSE)))","v":""},{"$f":"IF(M$2021=1,\"\",IF(U170=\"\",\"\",VLOOKUP(U170,Tabelle!$D$5:$I$7,6,FALSE)))","v":""},null,null,null,null,null,null,null,null,null,null,null,{"$f":"IF(B170=\"\",0,IF(B170=B169,COUNTIF(B$9:B169,B170)+1,1))","v":158},0,0]
["163","-1900","-1900-159",null,null,null,null,null,null,null,null,null,null,null,null,null,null,null,null,null,null,{"$f":"IF(M$2021=1,\"\",IF(U171=\"\",\"\",VLOOKUP(U171,Tabelle!$D$5:$H$7,5,FALSE)))","v":""},{"$f":"IF(M$2021=1,\"\",IF(U171=\"\",\"\",VLOOKUP(U171,Tabelle!$D$5:$I$7,6,FALSE)))","v":""},null,null,null,null,null,null,null,null,null,null,null,{"$f":"IF(B171=\"\",0,IF(B171=B170,COUNTIF(B$9:B170,B171)+1,1))","v":159},0,0]
["164","-1900","-1900-160",null,null,null,null,null,null,null,null,null,null,null,null,null,null,null,null,null,null,{"$f":"IF(M$2021=1,\"\",IF(U172=\"\",\"\",VLOOKUP(U172,Tabelle!$D$5:$H$7,5,FALSE)))","v":""},{"$f":"IF(M$2021=1,\"\",IF(U172=\"\",\"\",VLOOKUP(U172,Tabelle!$D$5:$I$7,6,FALSE)))","v":""},null,null,null,null,null,null,null,null,null,null,null,{"$f":"IF(B172=\"\",0,IF(B172=B171,COUNTIF(B$9:B171,B172)+1,1))","v":160},0,0]
["165","-1900","-1900-161",null,null,null,null,null,null,null,null,null,null,null,null,null,null,null,null,null,null,{"$f":"IF(M$2021=1,\"\",IF(U173=\"\",\"\",VLOOKUP(U173,Tabelle!$D$5:$H$7,5,FALSE)))","v":""},{"$f":"IF(M$2021=1,\"\",IF(U173=\"\",\"\",VLOOKUP(U173,Tabelle!$D$5:$I$7,6,FALSE)))","v":""},null,null,null,null,null,null,null,null,null,null,null,{"$f":"IF(B173=\"\",0,IF(B173=B172,COUNTIF(B$9:B172,B173)+1,1))","v":161},0,0]
["166","-1900","-1900-162",null,null,null,null,null,null,null,null,null,null,null,null,null,null,null,null,null,null,{"$f":"IF(M$2021=1,\"\",IF(U174=\"\",\"\",VLOOKUP(U174,Tabelle!$D$5:$H$7,5,FALSE)))","v":""},{"$f":"IF(M$2021=1,\"\",IF(U174=\"\",\"\",VLOOKUP(U174,Tabelle!$D$5:$I$7,6,FALSE)))","v":""},null,null,null,null,null,null,null,null,null,null,null,{"$f":"IF(B174=\"\",0,IF(B174=B173,COUNTIF(B$9:B173,B174)+1,1))","v":162},0,0]
["167","-1900","-1900-163",null,null,null,null,null,null,null,null,null,null,null,null,null,null,null,null,null,null,{"$f":"IF(M$2021=1,\"\",IF(U175=\"\",\"\",VLOOKUP(U175,Tabelle!$D$5:$H$7,5,FALSE)))","v":""},{"$f":"IF(M$2021=1,\"\",IF(U175=\"\",\"\",VLOOKUP(U175,Tabelle!$D$5:$I$7,6,FALSE)))","v":""},null,null,null,null,null,null,null,null,null,null,null,{"$f":"IF(B175=\"\",0,IF(B175=B174,COUNTIF(B$9:B174,B175)+1,1))","v":163},0,0]
["168","-1900","-1900-164",null,null,null,null,null,null,null,null,null,null,null,null,null,null,null,null,null,null,{"$f":"IF(M$2021=1,\"\",IF(U176=\"\",\"\",VLOOKUP(U176,Tabelle!$D$5:$H$7,5,FALSE)))","v":""},{"$f":"IF(M$2021=1,\"\",IF(U176=\"\",\"\",VLOOKUP(U176,Tabelle!$D$5:$I$7,6,FALSE)))","v":""},null,null,null,null,null,null,null,null,null,null,null,{"$f":"IF(B176=\"\",0,IF(B176=B175,COUNTIF(B$9:B175,B176)+1,1))","v":164},0,0]
["169","-1900","-1900-165",null,null,null,null,null,null,null,null,null,null,null,null,null,null,null,null,null,null,{"$f":"IF(M$2021=1,\"\",IF(U177=\"\",\"\",VLOOKUP(U177,Tabelle!$D$5:$H$7,5,FALSE)))","v":""},{"$f":"IF(M$2021=1,\"\",IF(U177=\"\",\"\",VLOOKUP(U177,Tabelle!$D$5:$I$7,6,FALSE)))","v":""},null,null,null,null,null,null,null,null,null,null,null,{"$f":"IF(B177=\"\",0,IF(B177=B176,COUNTIF(B$9:B176,B177)+1,1))","v":165},0,0]
["170","-1900","-1900-166",null,null,null,null,null,null,null,null,null,null,null,null,null,null,null,null,null,null,{"$f":"IF(M$2021=1,\"\",IF(U178=\"\",\"\",VLOOKUP(U178,Tabelle!$D$5:$H$7,5,FALSE)))","v":""},{"$f":"IF(M$2021=1,\"\",IF(U178=\"\",\"\",VLOOKUP(U178,Tabelle!$D$5:$I$7,6,FALSE)))","v":""},null,null,null,null,null,null,null,null,null,null,null,{"$f":"IF(B178=\"\",0,IF(B178=B177,COUNTIF(B$9:B177,B178)+1,1))","v":166},0,0]
["171","-1900","-1900-167",null,null,null,null,null,null,null,null,null,null,null,null,null,null,null,null,null,null,{"$f":"IF(M$2021=1,\"\",IF(U179=\"\",\"\",VLOOKUP(U179,Tabelle!$D$5:$H$7,5,FALSE)))","v":""},{"$f":"IF(M$2021=1,\"\",IF(U179=\"\",\"\",VLOOKUP(U179,Tabelle!$D$5:$I$7,6,FALSE)))","v":""},null,null,null,null,null,null,null,null,null,null,null,{"$f":"IF(B179=\"\",0,IF(B179=B178,COUNTIF(B$9:B178,B179)+1,1))","v":167},0,0]
["172","-1900","-1900-168",null,null,null,null,null,null,null,null,null,null,null,null,null,null,null,null,null,null,{"$f":"IF(M$2021=1,\"\",IF(U180=\"\",\"\",VLOOKUP(U180,Tabelle!$D$5:$H$7,5,FALSE)))","v":""},{"$f":"IF(M$2021=1,\"\",IF(U180=\"\",\"\",VLOOKUP(U180,Tabelle!$D$5:$I$7,6,FALSE)))","v":""},null,null,null,null,null,null,null,null,null,null,null,{"$f":"IF(B180=\"\",0,IF(B180=B179,COUNTIF(B$9:B179,B180)+1,1))","v":168},0,0]
["173","-1900","-1900-169",null,null,null,null,null,null,null,null,null,null,null,null,null,null,null,null,null,null,{"$f":"IF(M$2021=1,\"\",IF(U181=\"\",\"\",VLOOKUP(U181,Tabelle!$D$5:$H$7,5,FALSE)))","v":""},{"$f":"IF(M$2021=1,\"\",IF(U181=\"\",\"\",VLOOKUP(U181,Tabelle!$D$5:$I$7,6,FALSE)))","v":""},null,null,null,null,null,null,null,null,null,null,null,{"$f":"IF(B181=\"\",0,IF(B181=B180,COUNTIF(B$9:B180,B181)+1,1))","v":169},0,0]
["174","-1900","-1900-170",null,null,null,null,null,null,null,null,null,null,null,null,null,null,null,null,null,null,{"$f":"IF(M$2021=1,\"\",IF(U182=\"\",\"\",VLOOKUP(U182,Tabelle!$D$5:$H$7,5,FALSE)))","v":""},{"$f":"IF(M$2021=1,\"\",IF(U182=\"\",\"\",VLOOKUP(U182,Tabelle!$D$5:$I$7,6,FALSE)))","v":""},null,null,null,null,null,null,null,null,null,null,null,{"$f":"IF(B182=\"\",0,IF(B182=B181,COUNTIF(B$9:B181,B182)+1,1))","v":170},0,0]
["175","-1900","-1900-171",null,null,null,null,null,null,null,null,null,null,null,null,null,null,null,null,null,null,{"$f":"IF(M$2021=1,\"\",IF(U183=\"\",\"\",VLOOKUP(U183,Tabelle!$D$5:$H$7,5,FALSE)))","v":""},{"$f":"IF(M$2021=1,\"\",IF(U183=\"\",\"\",VLOOKUP(U183,Tabelle!$D$5:$I$7,6,FALSE)))","v":""},null,null,null,null,null,null,null,null,null,null,null,{"$f":"IF(B183=\"\",0,IF(B183=B182,COUNTIF(B$9:B182,B183)+1,1))","v":171},0,0]
["176","-1900","-1900-172",null,null,null,null,null,null,null,null,null,null,null,null,null,null,null,null,null,null,{"$f":"IF(M$2021=1,\"\",IF(U184=\"\",\"\",VLOOKUP(U184,Tabelle!$D$5:$H$7,5,FALSE)))","v":""},{"$f":"IF(M$2021=1,\"\",IF(U184=\"\",\"\",VLOOKUP(U184,Tabelle!$D$5:$I$7,6,FALSE)))","v":""},null,null,null,null,null,null,null,null,null,null,null,{"$f":"IF(B184=\"\",0,IF(B184=B183,COUNTIF(B$9:B183,B184)+1,1))","v":172},0,0]
["177","-1900","-1900-173",null,null,null,null,null,null,null,null,null,null,null,null,null,null,null,null,null,null,{"$f":"IF(M$2021=1,\"\",IF(U185=\"\",\"\",VLOOKUP(U185,Tabelle!$D$5:$H$7,5,FALSE)))","v":""},{"$f":"IF(M$2021=1,\"\",IF(U185=\"\",\"\",VLOOKUP(U185,Tabelle!$D$5:$I$7,6,FALSE)))","v":""},null,null,null,null,null,null,null,null,null,null,null,{"$f":"IF(B185=\"\",0,IF(B185=B184,COUNTIF(B$9:B184,B185)+1,1))","v":173},0,0]
["178","-1900","-1900-174",null,null,null,null,null,null,null,null,null,null,null,null,null,null,null,null,null,null,{"$f":"IF(M$2021=1,\"\",IF(U186=\"\",\"\",VLOOKUP(U186,Tabelle!$D$5:$H$7,5,FALSE)))","v":""},{"$f":"IF(M$2021=1,\"\",IF(U186=\"\",\"\",VLOOKUP(U186,Tabelle!$D$5:$I$7,6,FALSE)))","v":""},null,null,null,null,null,null,null,null,null,null,null,{"$f":"IF(B186=\"\",0,IF(B186=B185,COUNTIF(B$9:B185,B186)+1,1))","v":174},0,0]
["179","-1900","-1900-175",null,null,null,null,null,null,null,null,null,null,null,null,null,null,null,null,null,null,{"$f":"IF(M$2021=1,\"\",IF(U187=\"\",\"\",VLOOKUP(U187,Tabelle!$D$5:$H$7,5,FALSE)))","v":""},{"$f":"IF(M$2021=1,\"\",IF(U187=\"\",\"\",VLOOKUP(U187,Tabelle!$D$5:$I$7,6,FALSE)))","v":""},null,null,null,null,null,null,null,null,null,null,null,{"$f":"IF(B187=\"\",0,IF(B187=B186,COUNTIF(B$9:B186,B187)+1,1))","v":175},0,0]
["180","-1900","-1900-176",null,null,null,null,null,null,null,null,null,null,null,null,null,null,null,null,null,null,{"$f":"IF(M$2021=1,\"\",IF(U188=\"\",\"\",VLOOKUP(U188,Tabelle!$D$5:$H$7,5,FALSE)))","v":""},{"$f":"IF(M$2021=1,\"\",IF(U188=\"\",\"\",VLOOKUP(U188,Tabelle!$D$5:$I$7,6,FALSE)))","v":""},null,null,null,null,null,null,null,null,null,null,null,{"$f":"IF(B188=\"\",0,IF(B188=B187,COUNTIF(B$9:B187,B188)+1,1))","v":176},0,0]
["181","-1900","-1900-177",null,null,null,null,null,null,null,null,null,null,null,null,null,null,null,null,null,null,{"$f":"IF(M$2021=1,\"\",IF(U189=\"\",\"\",VLOOKUP(U189,Tabelle!$D$5:$H$7,5,FALSE)))","v":""},{"$f":"IF(M$2021=1,\"\",IF(U189=\"\",\"\",VLOOKUP(U189,Tabelle!$D$5:$I$7,6,FALSE)))","v":""},null,null,null,null,null,null,null,null,null,null,null,{"$f":"IF(B189=\"\",0,IF(B189=B188,COUNTIF(B$9:B188,B189)+1,1))","v":177},0,0]
["182","-1900","-1900-178",null,null,null,null,null,null,null,null,null,null,null,null,null,null,null,null,null,null,{"$f":"IF(M$2021=1,\"\",IF(U190=\"\",\"\",VLOOKUP(U190,Tabelle!$D$5:$H$7,5,FALSE)))","v":""},{"$f":"IF(M$2021=1,\"\",IF(U190=\"\",\"\",VLOOKUP(U190,Tabelle!$D$5:$I$7,6,FALSE)))","v":""},null,null,null,null,null,null,null,null,null,null,null,{"$f":"IF(B190=\"\",0,IF(B190=B189,COUNTIF(B$9:B189,B190)+1,1))","v":178},0,0]
["183","-1900","-1900-179",null,null,null,null,null,null,null,null,null,null,null,null,null,null,null,null,null,null,{"$f":"IF(M$2021=1,\"\",IF(U191=\"\",\"\",VLOOKUP(U191,Tabelle!$D$5:$H$7,5,FALSE)))","v":""},{"$f":"IF(M$2021=1,\"\",IF(U191=\"\",\"\",VLOOKUP(U191,Tabelle!$D$5:$I$7,6,FALSE)))","v":""},null,null,null,null,null,null,null,null,null,null,null,{"$f":"IF(B191=\"\",0,IF(B191=B190,COUNTIF(B$9:B190,B191)+1,1))","v":179},0,0]
["184","-1900","-1900-180",null,null,null,null,null,null,null,null,null,null,null,null,null,null,null,null,null,null,{"$f":"IF(M$2021=1,\"\",IF(U192=\"\",\"\",VLOOKUP(U192,Tabelle!$D$5:$H$7,5,FALSE)))","v":""},{"$f":"IF(M$2021=1,\"\",IF(U192=\"\",\"\",VLOOKUP(U192,Tabelle!$D$5:$I$7,6,FALSE)))","v":""},null,null,null,null,null,null,null,null,null,null,null,{"$f":"IF(B192=\"\",0,IF(B192=B191,COUNTIF(B$9:B191,B192)+1,1))","v":180},0,0]
["185","-1900","-1900-181",null,null,null,null,null,null,null,null,null,null,null,null,null,null,null,null,null,null,{"$f":"IF(M$2021=1,\"\",IF(U193=\"\",\"\",VLOOKUP(U193,Tabelle!$D$5:$H$7,5,FALSE)))","v":""},{"$f":"IF(M$2021=1,\"\",IF(U193=\"\",\"\",VLOOKUP(U193,Tabelle!$D$5:$I$7,6,FALSE)))","v":""},null,null,null,null,null,null,null,null,null,null,null,{"$f":"IF(B193=\"\",0,IF(B193=B192,COUNTIF(B$9:B192,B193)+1,1))","v":181},0,0]
["186","-1900","-1900-182",null,null,null,null,null,null,null,null,null,null,null,null,null,null,null,null,null,null,{"$f":"IF(M$2021=1,\"\",IF(U194=\"\",\"\",VLOOKUP(U194,Tabelle!$D$5:$H$7,5,FALSE)))","v":""},{"$f":"IF(M$2021=1,\"\",IF(U194=\"\",\"\",VLOOKUP(U194,Tabelle!$D$5:$I$7,6,FALSE)))","v":""},null,null,null,null,null,null,null,null,null,null,null,{"$f":"IF(B194=\"\",0,IF(B194=B193,COUNTIF(B$9:B193,B194)+1,1))","v":182},0,0]
["187","-1900","-1900-183",null,null,null,null,null,null,null,null,null,null,null,null,null,null,null,null,null,null,{"$f":"IF(M$2021=1,\"\",IF(U195=\"\",\"\",VLOOKUP(U195,Tabelle!$D$5:$H$7,5,FALSE)))","v":""},{"$f":"IF(M$2021=1,\"\",IF(U195=\"\",\"\",VLOOKUP(U195,Tabelle!$D$5:$I$7,6,FALSE)))","v":""},null,null,null,null,null,null,null,null,null,null,null,{"$f":"IF(B195=\"\",0,IF(B195=B194,COUNTIF(B$9:B194,B195)+1,1))","v":183},0,0]
["188","-1900","-1900-184",null,null,null,null,null,null,null,null,null,null,null,null,null,null,null,null,null,null,{"$f":"IF(M$2021=1,\"\",IF(U196=\"\",\"\",VLOOKUP(U196,Tabelle!$D$5:$H$7,5,FALSE)))","v":""},{"$f":"IF(M$2021=1,\"\",IF(U196=\"\",\"\",VLOOKUP(U196,Tabelle!$D$5:$I$7,6,FALSE)))","v":""},null,null,null,null,null,null,null,null,null,null,null,{"$f":"IF(B196=\"\",0,IF(B196=B195,COUNTIF(B$9:B195,B196)+1,1))","v":184},0,0]
["189","-1900","-1900-185",null,null,null,null,null,null,null,null,null,null,null,null,null,null,null,null,null,null,{"$f":"IF(M$2021=1,\"\",IF(U197=\"\",\"\",VLOOKUP(U197,Tabelle!$D$5:$H$7,5,FALSE)))","v":""},{"$f":"IF(M$2021=1,\"\",IF(U197=\"\",\"\",VLOOKUP(U197,Tabelle!$D$5:$I$7,6,FALSE)))","v":""},null,null,null,null,null,null,null,null,null,null,null,{"$f":"IF(B197=\"\",0,IF(B197=B196,COUNTIF(B$9:B196,B197)+1,1))","v":185},0,0]
["190","-1900","-1900-186",null,null,null,null,null,null,null,null,null,null,null,null,null,null,null,null,null,null,{"$f":"IF(M$2021=1,\"\",IF(U198=\"\",\"\",VLOOKUP(U198,Tabelle!$D$5:$H$7,5,FALSE)))","v":""},{"$f":"IF(M$2021=1,\"\",IF(U198=\"\",\"\",VLOOKUP(U198,Tabelle!$D$5:$I$7,6,FALSE)))","v":""},null,null,null,null,null,null,null,null,null,null,null,{"$f":"IF(B198=\"\",0,IF(B198=B197,COUNTIF(B$9:B197,B198)+1,1))","v":186},0,0]
["191","-1900","-1900-187",null,null,null,null,null,null,null,null,null,null,null,null,null,null,null,null,null,null,{"$f":"IF(M$2021=1,\"\",IF(U199=\"\",\"\",VLOOKUP(U199,Tabelle!$D$5:$H$7,5,FALSE)))","v":""},{"$f":"IF(M$2021=1,\"\",IF(U199=\"\",\"\",VLOOKUP(U199,Tabelle!$D$5:$I$7,6,FALSE)))","v":""},null,null,null,null,null,null,null,null,null,null,null,{"$f":"IF(B199=\"\",0,IF(B199=B198,COUNTIF(B$9:B198,B199)+1,1))","v":187},0,0]
["192","-1900","-1900-188",null,null,null,null,null,null,null,null,null,null,null,null,null,null,null,null,null,null,{"$f":"IF(M$2021=1,\"\",IF(U200=\"\",\"\",VLOOKUP(U200,Tabelle!$D$5:$H$7,5,FALSE)))","v":""},{"$f":"IF(M$2021=1,\"\",IF(U200=\"\",\"\",VLOOKUP(U200,Tabelle!$D$5:$I$7,6,FALSE)))","v":""},null,null,null,null,null,null,null,null,null,null,null,{"$f":"IF(B200=\"\",0,IF(B200=B199,COUNTIF(B$9:B199,B200)+1,1))","v":188},0,0]
["193","-1900",{"$f":"IF(M$2021=1,0,B201&\"-\"&AI201)","v":"-1900-189"},null,null,null,null,null,null,null,null,null,null,null,null,null,null,null,null,null,null,{"$f":"IF(M$2021=1,\"\",IF(U201=\"\",\"\",VLOOKUP(U201,Tabelle!$D$5:$H$7,5,FALSE)))","v":""},{"$f":"IF(M$2021=1,\"\",IF(U201=\"\",\"\",VLOOKUP(U201,Tabelle!$D$5:$I$7,6,FALSE)))","v":""},null,null,null,null,null,null,null,null,null,null,null,{"$f":"IF(B201=\"\",0,IF(B201=B200,COUNTIF(B$9:B200,B201)+1,1))","v":189},0,0]
["194",{"$f":"IF(AK202=$AK$2015,0,IF(M$2021=1,0,D202&\"-\"&YEAR(E202)))","v":"-1900"},"-1900-190",null,null,null,null,null,null,null,null,null,null,null,null,null,null,null,null,null,null,{"$f":"IF(M$2021=1,\"\",IF(U202=\"\",\"\",VLOOKUP(U202,Tabelle!$D$5:$H$7,5,FALSE)))","v":""},{"$f":"IF(M$2021=1,\"\",IF(U202=\"\",\"\",VLOOKUP(U202,Tabelle!$D$5:$I$7,6,FALSE)))","v":""},null,null,null,null,null,null,null,null,null,null,null,{"$f":"IF(B202=\"\",0,IF(B202=B201,COUNTIF(B$9:B201,B202)+1,1))","v":190},{"$f":"IF(OR(D202=\"\",M$2021=1),0,IF(AI202=10,1,0))","v":0},{"$f":"IF(E202>0,IF(OR(MONTH(E202)<$J$2027,MONTH(E202)>$J$2028),AK$2015,0),0)","v":0}]
["195","-1900","-1900-191",null,null,null,null,null,null,null,null,null,null,null,null,null,null,null,null,null,null,{"$f":"IF(M$2021=1,\"\",IF(U203=\"\",\"\",VLOOKUP(U203,Tabelle!$D$5:$H$7,5,FALSE)))","v":""},{"$f":"IF(M$2021=1,\"\",IF(U203=\"\",\"\",VLOOKUP(U203,Tabelle!$D$5:$I$7,6,FALSE)))","v":""},null,null,null,null,null,null,null,null,null,null,null,{"$f":"IF(B203=\"\",0,IF(B203=B202,COUNTIF(B$9:B202,B203)+1,1))","v":191},0,0]
["196","-1900","-1900-192",null,null,null,null,null,null,null,null,null,null,null,null,null,null,null,null,null,null,{"$f":"IF(M$2021=1,\"\",IF(U204=\"\",\"\",VLOOKUP(U204,Tabelle!$D$5:$H$7,5,FALSE)))","v":""},{"$f":"IF(M$2021=1,\"\",IF(U204=\"\",\"\",VLOOKUP(U204,Tabelle!$D$5:$I$7,6,FALSE)))","v":""},null,null,null,null,null,null,null,null,null,null,null,{"$f":"IF(B204=\"\",0,IF(B204=B203,COUNTIF(B$9:B203,B204)+1,1))","v":192},0,0]
["197","-1900","-1900-193",null,null,null,null,null,null,null,null,null,null,null,null,null,null,null,null,null,null,{"$f":"IF(M$2021=1,\"\",IF(U205=\"\",\"\",VLOOKUP(U205,Tabelle!$D$5:$H$7,5,FALSE)))","v":""},{"$f":"IF(M$2021=1,\"\",IF(U205=\"\",\"\",VLOOKUP(U205,Tabelle!$D$5:$I$7,6,FALSE)))","v":""},null,null,null,null,null,null,null,null,null,null,null,{"$f":"IF(B205=\"\",0,IF(B205=B204,COUNTIF(B$9:B204,B205)+1,1))","v":193},0,0]
["198","-1900","-1900-194",null,null,null,null,null,null,null,null,null,null,null,null,null,null,null,null,null,null,{"$f":"IF(M$2021=1,\"\",IF(U206=\"\",\"\",VLOOKUP(U206,Tabelle!$D$5:$H$7,5,FALSE)))","v":""},{"$f":"IF(M$2021=1,\"\",IF(U206=\"\",\"\",VLOOKUP(U206,Tabelle!$D$5:$I$7,6,FALSE)))","v":""},null,null,null,null,null,null,null,null,null,null,null,{"$f":"IF(B206=\"\",0,IF(B206=B205,COUNTIF(B$9:B205,B206)+1,1))","v":194},0,0]
["199","-1900","-1900-195",null,null,null,null,null,null,null,null,null,null,null,null,null,null,null,null,null,null,{"$f":"IF(M$2021=1,\"\",IF(U207=\"\",\"\",VLOOKUP(U207,Tabelle!$D$5:$H$7,5,FALSE)))","v":""},{"$f":"IF(M$2021=1,\"\",IF(U207=\"\",\"\",VLOOKUP(U207,Tabelle!$D$5:$I$7,6,FALSE)))","v":""},null,null,null,null,null,null,null,null,null,null,null,{"$f":"IF(B207=\"\",0,IF(B207=B206,COUNTIF(B$9:B206,B207)+1,1))","v":195},0,0]
["200","-1900","-1900-196",null,null,null,null,null,null,null,null,null,null,null,null,null,null,null,null,null,null,{"$f":"IF(M$2021=1,\"\",IF(U208=\"\",\"\",VLOOKUP(U208,Tabelle!$D$5:$H$7,5,FALSE)))","v":""},{"$f":"IF(M$2021=1,\"\",IF(U208=\"\",\"\",VLOOKUP(U208,Tabelle!$D$5:$I$7,6,FALSE)))","v":""},null,null,null,null,null,null,null,null,null,null,null,{"$f":"IF(B208=\"\",0,IF(B208=B207,COUNTIF(B$9:B207,B208)+1,1))","v":196},0,0]
["201","-1900","-1900-197",null,null,null,null,null,null,null,null,null,null,null,null,null,null,null,null,null,null,{"$f":"IF(M$2021=1,\"\",IF(U209=\"\",\"\",VLOOKUP(U209,Tabelle!$D$5:$H$7,5,FALSE)))","v":""},{"$f":"IF(M$2021=1,\"\",IF(U209=\"\",\"\",VLOOKUP(U209,Tabelle!$D$5:$I$7,6,FALSE)))","v":""},null,null,null,null,null,null,null,null,null,null,null,{"$f":"IF(B209=\"\",0,IF(B209=B208,COUNTIF(B$9:B208,B209)+1,1))","v":197},0,0]
["202","-1900","-1900-198",null,null,null,null,null,null,null,null,null,null,null,null,null,null,null,null,null,null,{"$f":"IF(M$2021=1,\"\",IF(U210=\"\",\"\",VLOOKUP(U210,Tabelle!$D$5:$H$7,5,FALSE)))","v":""},{"$f":"IF(M$2021=1,\"\",IF(U210=\"\",\"\",VLOOKUP(U210,Tabelle!$D$5:$I$7,6,FALSE)))","v":""},null,null,null,null,null,null,null,null,null,null,null,{"$f":"IF(B210=\"\",0,IF(B210=B209,COUNTIF(B$9:B209,B210)+1,1))","v":198},0,0]
["203","-1900","-1900-199",null,null,null,null,null,null,null,null,null,null,null,null,null,null,null,null,null,null,{"$f":"IF(M$2021=1,\"\",IF(U211=\"\",\"\",VLOOKUP(U211,Tabelle!$D$5:$H$7,5,FALSE)))","v":""},{"$f":"IF(M$2021=1,\"\",IF(U211=\"\",\"\",VLOOKUP(U211,Tabelle!$D$5:$I$7,6,FALSE)))","v":""},null,null,null,null,null,null,null,null,null,null,null,{"$f":"IF(B211=\"\",0,IF(B211=B210,COUNTIF(B$9:B210,B211)+1,1))","v":199},0,0]
["204","-1900","-1900-200",null,null,null,null,null,null,null,null,null,null,null,null,null,null,null,null,null,null,{"$f":"IF(M$2021=1,\"\",IF(U212=\"\",\"\",VLOOKUP(U212,Tabelle!$D$5:$H$7,5,FALSE)))","v":""},{"$f":"IF(M$2021=1,\"\",IF(U212=\"\",\"\",VLOOKUP(U212,Tabelle!$D$5:$I$7,6,FALSE)))","v":""},null,null,null,null,null,null,null,null,null,null,null,{"$f":"IF(B212=\"\",0,IF(B212=B211,COUNTIF(B$9:B211,B212)+1,1))","v":200},0,0]
["205","-1900","-1900-201",null,null,null,null,null,null,null,null,null,null,null,null,null,null,null,null,null,null,{"$f":"IF(M$2021=1,\"\",IF(U213=\"\",\"\",VLOOKUP(U213,Tabelle!$D$5:$H$7,5,FALSE)))","v":""},{"$f":"IF(M$2021=1,\"\",IF(U213=\"\",\"\",VLOOKUP(U213,Tabelle!$D$5:$I$7,6,FALSE)))","v":""},null,null,null,null,null,null,null,null,null,null,null,{"$f":"IF(B213=\"\",0,IF(B213=B212,COUNTIF(B$9:B212,B213)+1,1))","v":201},0,0]
["206","-1900","-1900-202",null,null,null,null,null,null,null,null,null,null,null,null,null,null,null,null,null,null,{"$f":"IF(M$2021=1,\"\",IF(U214=\"\",\"\",VLOOKUP(U214,Tabelle!$D$5:$H$7,5,FALSE)))","v":""},{"$f":"IF(M$2021=1,\"\",IF(U214=\"\",\"\",VLOOKUP(U214,Tabelle!$D$5:$I$7,6,FALSE)))","v":""},null,null,null,null,null,null,null,null,null,null,null,{"$f":"IF(B214=\"\",0,IF(B214=B213,COUNTIF(B$9:B213,B214)+1,1))","v":202},0,0]
["207","-1900","-1900-203",null,null,null,null,null,null,null,null,null,null,null,null,null,null,null,null,null,null,{"$f":"IF(M$2021=1,\"\",IF(U215=\"\",\"\",VLOOKUP(U215,Tabelle!$D$5:$H$7,5,FALSE)))","v":""},{"$f":"IF(M$2021=1,\"\",IF(U215=\"\",\"\",VLOOKUP(U215,Tabelle!$D$5:$I$7,6,FALSE)))","v":""},null,null,null,null,null,null,null,null,null,null,null,{"$f":"IF(B215=\"\",0,IF(B215=B214,COUNTIF(B$9:B214,B215)+1,1))","v":203},0,0]
["208","-1900","-1900-204",null,null,null,null,null,null,null,null,null,null,null,null,null,null,null,null,null,null,{"$f":"IF(M$2021=1,\"\",IF(U216=\"\",\"\",VLOOKUP(U216,Tabelle!$D$5:$H$7,5,FALSE)))","v":""},{"$f":"IF(M$2021=1,\"\",IF(U216=\"\",\"\",VLOOKUP(U216,Tabelle!$D$5:$I$7,6,FALSE)))","v":""},null,null,null,null,null,null,null,null,null,null,null,{"$f":"IF(B216=\"\",0,IF(B216=B215,COUNTIF(B$9:B215,B216)+1,1))","v":204},0,0]
["209","-1900","-1900-205",null,null,null,null,null,null,null,null,null,null,null,null,null,null,null,null,null,null,{"$f":"IF(M$2021=1,\"\",IF(U217=\"\",\"\",VLOOKUP(U217,Tabelle!$D$5:$H$7,5,FALSE)))","v":""},{"$f":"IF(M$2021=1,\"\",IF(U217=\"\",\"\",VLOOKUP(U217,Tabelle!$D$5:$I$7,6,FALSE)))","v":""},null,null,null,null,null,null,null,null,null,null,null,{"$f":"IF(B217=\"\",0,IF(B217=B216,COUNTIF(B$9:B216,B217)+1,1))","v":205},0,0]
["210","-1900","-1900-206",null,null,null,null,null,null,null,null,null,null,null,null,null,null,null,null,null,null,{"$f":"IF(M$2021=1,\"\",IF(U218=\"\",\"\",VLOOKUP(U218,Tabelle!$D$5:$H$7,5,FALSE)))","v":""},{"$f":"IF(M$2021=1,\"\",IF(U218=\"\",\"\",VLOOKUP(U218,Tabelle!$D$5:$I$7,6,FALSE)))","v":""},null,null,null,null,null,null,null,null,null,null,null,{"$f":"IF(B218=\"\",0,IF(B218=B217,COUNTIF(B$9:B217,B218)+1,1))","v":206},0,0]
["211","-1900","-1900-207",null,null,null,null,null,null,null,null,null,null,null,null,null,null,null,null,null,null,{"$f":"IF(M$2021=1,\"\",IF(U219=\"\",\"\",VLOOKUP(U219,Tabelle!$D$5:$H$7,5,FALSE)))","v":""},{"$f":"IF(M$2021=1,\"\",IF(U219=\"\",\"\",VLOOKUP(U219,Tabelle!$D$5:$I$7,6,FALSE)))","v":""},null,null,null,null,null,null,null,null,null,null,null,{"$f":"IF(B219=\"\",0,IF(B219=B218,COUNTIF(B$9:B218,B219)+1,1))","v":207},0,0]
["212","-1900","-1900-208",null,null,null,null,null,null,null,null,null,null,null,null,null,null,null,null,null,null,{"$f":"IF(M$2021=1,\"\",IF(U220=\"\",\"\",VLOOKUP(U220,Tabelle!$D$5:$H$7,5,FALSE)))","v":""},{"$f":"IF(M$2021=1,\"\",IF(U220=\"\",\"\",VLOOKUP(U220,Tabelle!$D$5:$I$7,6,FALSE)))","v":""},null,null,null,null,null,null,null,null,null,null,null,{"$f":"IF(B220=\"\",0,IF(B220=B219,COUNTIF(B$9:B219,B220)+1,1))","v":208},0,0]
["213","-1900","-1900-209",null,null,null,null,null,null,null,null,null,null,null,null,null,null,null,null,null,null,{"$f":"IF(M$2021=1,\"\",IF(U221=\"\",\"\",VLOOKUP(U221,Tabelle!$D$5:$H$7,5,FALSE)))","v":""},{"$f":"IF(M$2021=1,\"\",IF(U221=\"\",\"\",VLOOKUP(U221,Tabelle!$D$5:$I$7,6,FALSE)))","v":""},null,null,null,null,null,null,null,null,null,null,null,{"$f":"IF(B221=\"\",0,IF(B221=B220,COUNTIF(B$9:B220,B221)+1,1))","v":209},0,0]
["214","-1900","-1900-210",null,null,null,null,null,null,null,null,null,null,null,null,null,null,null,null,null,null,{"$f":"IF(M$2021=1,\"\",IF(U222=\"\",\"\",VLOOKUP(U222,Tabelle!$D$5:$H$7,5,FALSE)))","v":""},{"$f":"IF(M$2021=1,\"\",IF(U222=\"\",\"\",VLOOKUP(U222,Tabelle!$D$5:$I$7,6,FALSE)))","v":""},null,null,null,null,null,null,null,null,null,null,null,{"$f":"IF(B222=\"\",0,IF(B222=B221,COUNTIF(B$9:B221,B222)+1,1))","v":210},0,0]
["215","-1900","-1900-211",null,null,null,null,null,null,null,null,null,null,null,null,null,null,null,null,null,null,{"$f":"IF(M$2021=1,\"\",IF(U223=\"\",\"\",VLOOKUP(U223,Tabelle!$D$5:$H$7,5,FALSE)))","v":""},{"$f":"IF(M$2021=1,\"\",IF(U223=\"\",\"\",VLOOKUP(U223,Tabelle!$D$5:$I$7,6,FALSE)))","v":""},null,null,null,null,null,null,null,null,null,null,null,{"$f":"IF(B223=\"\",0,IF(B223=B222,COUNTIF(B$9:B222,B223)+1,1))","v":211},0,0]
["216","-1900","-1900-212",null,null,null,null,null,null,null,null,null,null,null,null,null,null,null,null,null,null,{"$f":"IF(M$2021=1,\"\",IF(U224=\"\",\"\",VLOOKUP(U224,Tabelle!$D$5:$H$7,5,FALSE)))","v":""},{"$f":"IF(M$2021=1,\"\",IF(U224=\"\",\"\",VLOOKUP(U224,Tabelle!$D$5:$I$7,6,FALSE)))","v":""},null,null,null,null,null,null,null,null,null,null,null,{"$f":"IF(B224=\"\",0,IF(B224=B223,COUNTIF(B$9:B223,B224)+1,1))","v":212},0,0]
["217","-1900","-1900-213",null,null,null,null,null,null,null,null,null,null,null,null,null,null,null,null,null,null,{"$f":"IF(M$2021=1,\"\",IF(U225=\"\",\"\",VLOOKUP(U225,Tabelle!$D$5:$H$7,5,FALSE)))","v":""},{"$f":"IF(M$2021=1,\"\",IF(U225=\"\",\"\",VLOOKUP(U225,Tabelle!$D$5:$I$7,6,FALSE)))","v":""},null,null,null,null,null,null,null,null,null,null,null,{"$f":"IF(B225=\"\",0,IF(B225=B224,COUNTIF(B$9:B224,B225)+1,1))","v":213},0,0]
["218","-1900","-1900-214",null,null,null,null,null,null,null,null,null,null,null,null,null,null,null,null,null,null,{"$f":"IF(M$2021=1,\"\",IF(U226=\"\",\"\",VLOOKUP(U226,Tabelle!$D$5:$H$7,5,FALSE)))","v":""},{"$f":"IF(M$2021=1,\"\",IF(U226=\"\",\"\",VLOOKUP(U226,Tabelle!$D$5:$I$7,6,FALSE)))","v":""},null,null,null,null,null,null,null,null,null,null,null,{"$f":"IF(B226=\"\",0,IF(B226=B225,COUNTIF(B$9:B225,B226)+1,1))","v":214},0,0]
["219","-1900","-1900-215",null,null,null,null,null,null,null,null,null,null,null,null,null,null,null,null,null,null,{"$f":"IF(M$2021=1,\"\",IF(U227=\"\",\"\",VLOOKUP(U227,Tabelle!$D$5:$H$7,5,FALSE)))","v":""},{"$f":"IF(M$2021=1,\"\",IF(U227=\"\",\"\",VLOOKUP(U227,Tabelle!$D$5:$I$7,6,FALSE)))","v":""},null,null,null,null,null,null,null,null,null,null,null,{"$f":"IF(B227=\"\",0,IF(B227=B226,COUNTIF(B$9:B226,B227)+1,1))","v":215},0,0]
["220","-1900","-1900-216",null,null,null,null,null,null,null,null,null,null,null,null,null,null,null,null,null,null,{"$f":"IF(M$2021=1,\"\",IF(U228=\"\",\"\",VLOOKUP(U228,Tabelle!$D$5:$H$7,5,FALSE)))","v":""},{"$f":"IF(M$2021=1,\"\",IF(U228=\"\",\"\",VLOOKUP(U228,Tabelle!$D$5:$I$7,6,FALSE)))","v":""},null,null,null,null,null,null,null,null,null,null,null,{"$f":"IF(B228=\"\",0,IF(B228=B227,COUNTIF(B$9:B227,B228)+1,1))","v":216},0,0]
["221","-1900","-1900-217",null,null,null,null,null,null,null,null,null,null,null,null,null,null,null,null,null,null,{"$f":"IF(M$2021=1,\"\",IF(U229=\"\",\"\",VLOOKUP(U229,Tabelle!$D$5:$H$7,5,FALSE)))","v":""},{"$f":"IF(M$2021=1,\"\",IF(U229=\"\",\"\",VLOOKUP(U229,Tabelle!$D$5:$I$7,6,FALSE)))","v":""},null,null,null,null,null,null,null,null,null,null,null,{"$f":"IF(B229=\"\",0,IF(B229=B228,COUNTIF(B$9:B228,B229)+1,1))","v":217},0,0]
["222","-1900","-1900-218",null,null,null,null,null,null,null,null,null,null,null,null,null,null,null,null,null,null,{"$f":"IF(M$2021=1,\"\",IF(U230=\"\",\"\",VLOOKUP(U230,Tabelle!$D$5:$H$7,5,FALSE)))","v":""},{"$f":"IF(M$2021=1,\"\",IF(U230=\"\",\"\",VLOOKUP(U230,Tabelle!$D$5:$I$7,6,FALSE)))","v":""},null,null,null,null,null,null,null,null,null,null,null,{"$f":"IF(B230=\"\",0,IF(B230=B229,COUNTIF(B$9:B229,B230)+1,1))","v":218},0,0]
["223","-1900","-1900-219",null,null,null,null,null,null,null,null,null,null,null,null,null,null,null,null,null,null,{"$f":"IF(M$2021=1,\"\",IF(U231=\"\",\"\",VLOOKUP(U231,Tabelle!$D$5:$H$7,5,FALSE)))","v":""},{"$f":"IF(M$2021=1,\"\",IF(U231=\"\",\"\",VLOOKUP(U231,Tabelle!$D$5:$I$7,6,FALSE)))","v":""},null,null,null,null,null,null,null,null,null,null,null,{"$f":"IF(B231=\"\",0,IF(B231=B230,COUNTIF(B$9:B230,B231)+1,1))","v":219},0,0]
["224","-1900","-1900-220",null,null,null,null,null,null,null,null,null,null,null,null,null,null,null,null,null,null,{"$f":"IF(M$2021=1,\"\",IF(U232=\"\",\"\",VLOOKUP(U232,Tabelle!$D$5:$H$7,5,FALSE)))","v":""},{"$f":"IF(M$2021=1,\"\",IF(U232=\"\",\"\",VLOOKUP(U232,Tabelle!$D$5:$I$7,6,FALSE)))","v":""},null,null,null,null,null,null,null,null,null,null,null,{"$f":"IF(B232=\"\",0,IF(B232=B231,COUNTIF(B$9:B231,B232)+1,1))","v":220},0,0]
["225","-1900","-1900-221",null,null,null,null,null,null,null,null,null,null,null,null,null,null,null,null,null,null,{"$f":"IF(M$2021=1,\"\",IF(U233=\"\",\"\",VLOOKUP(U233,Tabelle!$D$5:$H$7,5,FALSE)))","v":""},{"$f":"IF(M$2021=1,\"\",IF(U233=\"\",\"\",VLOOKUP(U233,Tabelle!$D$5:$I$7,6,FALSE)))","v":""},null,null,null,null,null,null,null,null,null,null,null,{"$f":"IF(B233=\"\",0,IF(B233=B232,COUNTIF(B$9:B232,B233)+1,1))","v":221},0,0]
["226","-1900","-1900-222",null,null,null,null,null,null,null,null,null,null,null,null,null,null,null,null,null,null,{"$f":"IF(M$2021=1,\"\",IF(U234=\"\",\"\",VLOOKUP(U234,Tabelle!$D$5:$H$7,5,FALSE)))","v":""},{"$f":"IF(M$2021=1,\"\",IF(U234=\"\",\"\",VLOOKUP(U234,Tabelle!$D$5:$I$7,6,FALSE)))","v":""},null,null,null,null,null,null,null,null,null,null,null,{"$f":"IF(B234=\"\",0,IF(B234=B233,COUNTIF(B$9:B233,B234)+1,1))","v":222},0,0]
["227","-1900","-1900-223",null,null,null,null,null,null,null,null,null,null,null,null,null,null,null,null,null,null,{"$f":"IF(M$2021=1,\"\",IF(U235=\"\",\"\",VLOOKUP(U235,Tabelle!$D$5:$H$7,5,FALSE)))","v":""},{"$f":"IF(M$2021=1,\"\",IF(U235=\"\",\"\",VLOOKUP(U235,Tabelle!$D$5:$I$7,6,FALSE)))","v":""},null,null,null,null,null,null,null,null,null,null,null,{"$f":"IF(B235=\"\",0,IF(B235=B234,COUNTIF(B$9:B234,B235)+1,1))","v":223},0,0]
["228","-1900","-1900-224",null,null,null,null,null,null,null,null,null,null,null,null,null,null,null,null,null,null,{"$f":"IF(M$2021=1,\"\",IF(U236=\"\",\"\",VLOOKUP(U236,Tabelle!$D$5:$H$7,5,FALSE)))","v":""},{"$f":"IF(M$2021=1,\"\",IF(U236=\"\",\"\",VLOOKUP(U236,Tabelle!$D$5:$I$7,6,FALSE)))","v":""},null,null,null,null,null,null,null,null,null,null,null,{"$f":"IF(B236=\"\",0,IF(B236=B235,COUNTIF(B$9:B235,B236)+1,1))","v":224},0,0]
["229","-1900","-1900-225",null,null,null,null,null,null,null,null,null,null,null,null,null,null,null,null,null,null,{"$f":"IF(M$2021=1,\"\",IF(U237=\"\",\"\",VLOOKUP(U237,Tabelle!$D$5:$H$7,5,FALSE)))","v":""},{"$f":"IF(M$2021=1,\"\",IF(U237=\"\",\"\",VLOOKUP(U237,Tabelle!$D$5:$I$7,6,FALSE)))","v":""},null,null,null,null,null,null,null,null,null,null,null,{"$f":"IF(B237=\"\",0,IF(B237=B236,COUNTIF(B$9:B236,B237)+1,1))","v":225},0,0]
["230","-1900","-1900-226",null,null,null,null,null,null,null,null,null,null,null,null,null,null,null,null,null,null,{"$f":"IF(M$2021=1,\"\",IF(U238=\"\",\"\",VLOOKUP(U238,Tabelle!$D$5:$H$7,5,FALSE)))","v":""},{"$f":"IF(M$2021=1,\"\",IF(U238=\"\",\"\",VLOOKUP(U238,Tabelle!$D$5:$I$7,6,FALSE)))","v":""},null,null,null,null,null,null,null,null,null,null,null,{"$f":"IF(B238=\"\",0,IF(B238=B237,COUNTIF(B$9:B237,B238)+1,1))","v":226},0,0]
["231","-1900","-1900-227",null,null,null,null,null,null,null,null,null,null,null,null,null,null,null,null,null,null,{"$f":"IF(M$2021=1,\"\",IF(U239=\"\",\"\",VLOOKUP(U239,Tabelle!$D$5:$H$7,5,FALSE)))","v":""},{"$f":"IF(M$2021=1,\"\",IF(U239=\"\",\"\",VLOOKUP(U239,Tabelle!$D$5:$I$7,6,FALSE)))","v":""},null,null,null,null,null,null,null,null,null,null,null,{"$f":"IF(B239=\"\",0,IF(B239=B238,COUNTIF(B$9:B238,B239)+1,1))","v":227},0,0]
["232","-1900","-1900-228",null,null,null,null,null,null,null,null,null,null,null,null,null,null,null,null,null,null,{"$f":"IF(M$2021=1,\"\",IF(U240=\"\",\"\",VLOOKUP(U240,Tabelle!$D$5:$H$7,5,FALSE)))","v":""},{"$f":"IF(M$2021=1,\"\",IF(U240=\"\",\"\",VLOOKUP(U240,Tabelle!$D$5:$I$7,6,FALSE)))","v":""},null,null,null,null,null,null,null,null,null,null,null,{"$f":"IF(B240=\"\",0,IF(B240=B239,COUNTIF(B$9:B239,B240)+1,1))","v":228},0,0]
["233","-1900","-1900-229",null,null,null,null,null,null,null,null,null,null,null,null,null,null,null,null,null,null,{"$f":"IF(M$2021=1,\"\",IF(U241=\"\",\"\",VLOOKUP(U241,Tabelle!$D$5:$H$7,5,FALSE)))","v":""},{"$f":"IF(M$2021=1,\"\",IF(U241=\"\",\"\",VLOOKUP(U241,Tabelle!$D$5:$I$7,6,FALSE)))","v":""},null,null,null,null,null,null,null,null,null,null,null,{"$f":"IF(B241=\"\",0,IF(B241=B240,COUNTIF(B$9:B240,B241)+1,1))","v":229},0,0]
["234","-1900","-1900-230",null,null,null,null,null,null,null,null,null,null,null,null,null,null,null,null,null,null,{"$f":"IF(M$2021=1,\"\",IF(U242=\"\",\"\",VLOOKUP(U242,Tabelle!$D$5:$H$7,5,FALSE)))","v":""},{"$f":"IF(M$2021=1,\"\",IF(U242=\"\",\"\",VLOOKUP(U242,Tabelle!$D$5:$I$7,6,FALSE)))","v":""},null,null,null,null,null,null,null,null,null,null,null,{"$f":"IF(B242=\"\",0,IF(B242=B241,COUNTIF(B$9:B241,B242)+1,1))","v":230},0,0]
["235","-1900","-1900-231",null,null,null,null,null,null,null,null,null,null,null,null,null,null,null,null,null,null,{"$f":"IF(M$2021=1,\"\",IF(U243=\"\",\"\",VLOOKUP(U243,Tabelle!$D$5:$H$7,5,FALSE)))","v":""},{"$f":"IF(M$2021=1,\"\",IF(U243=\"\",\"\",VLOOKUP(U243,Tabelle!$D$5:$I$7,6,FALSE)))","v":""},null,null,null,null,null,null,null,null,null,null,null,{"$f":"IF(B243=\"\",0,IF(B243=B242,COUNTIF(B$9:B242,B243)+1,1))","v":231},0,0]
["236","-1900","-1900-232",null,null,null,null,null,null,null,null,null,null,null,null,null,null,null,null,null,null,{"$f":"IF(M$2021=1,\"\",IF(U244=\"\",\"\",VLOOKUP(U244,Tabelle!$D$5:$H$7,5,FALSE)))","v":""},{"$f":"IF(M$2021=1,\"\",IF(U244=\"\",\"\",VLOOKUP(U244,Tabelle!$D$5:$I$7,6,FALSE)))","v":""},null,null,null,null,null,null,null,null,null,null,null,{"$f":"IF(B244=\"\",0,IF(B244=B243,COUNTIF(B$9:B243,B244)+1,1))","v":232},0,0]
["237","-1900","-1900-233",null,null,null,null,null,null,null,null,null,null,null,null,null,null,null,null,null,null,{"$f":"IF(M$2021=1,\"\",IF(U245=\"\",\"\",VLOOKUP(U245,Tabelle!$D$5:$H$7,5,FALSE)))","v":""},{"$f":"IF(M$2021=1,\"\",IF(U245=\"\",\"\",VLOOKUP(U245,Tabelle!$D$5:$I$7,6,FALSE)))","v":""},null,null,null,null,null,null,null,null,null,null,null,{"$f":"IF(B245=\"\",0,IF(B245=B244,COUNTIF(B$9:B244,B245)+1,1))","v":233},0,0]
["238","-1900","-1900-234",null,null,null,null,null,null,null,null,null,null,null,null,null,null,null,null,null,null,{"$f":"IF(M$2021=1,\"\",IF(U246=\"\",\"\",VLOOKUP(U246,Tabelle!$D$5:$H$7,5,FALSE)))","v":""},{"$f":"IF(M$2021=1,\"\",IF(U246=\"\",\"\",VLOOKUP(U246,Tabelle!$D$5:$I$7,6,FALSE)))","v":""},null,null,null,null,null,null,null,null,null,null,null,{"$f":"IF(B246=\"\",0,IF(B246=B245,COUNTIF(B$9:B245,B246)+1,1))","v":234},0,0]
["239","-1900","-1900-235",null,null,null,null,null,null,null,null,null,null,null,null,null,null,null,null,null,null,{"$f":"IF(M$2021=1,\"\",IF(U247=\"\",\"\",VLOOKUP(U247,Tabelle!$D$5:$H$7,5,FALSE)))","v":""},{"$f":"IF(M$2021=1,\"\",IF(U247=\"\",\"\",VLOOKUP(U247,Tabelle!$D$5:$I$7,6,FALSE)))","v":""},null,null,null,null,null,null,null,null,null,null,null,{"$f":"IF(B247=\"\",0,IF(B247=B246,COUNTIF(B$9:B246,B247)+1,1))","v":235},0,0]
["240","-1900","-1900-236",null,null,null,null,null,null,null,null,null,null,null,null,null,null,null,null,null,null,{"$f":"IF(M$2021=1,\"\",IF(U248=\"\",\"\",VLOOKUP(U248,Tabelle!$D$5:$H$7,5,FALSE)))","v":""},{"$f":"IF(M$2021=1,\"\",IF(U248=\"\",\"\",VLOOKUP(U248,Tabelle!$D$5:$I$7,6,FALSE)))","v":""},null,null,null,null,null,null,null,null,null,null,null,{"$f":"IF(B248=\"\",0,IF(B248=B247,COUNTIF(B$9:B247,B248)+1,1))","v":236},0,0]
["241","-1900","-1900-237",null,null,null,null,null,null,null,null,null,null,null,null,null,null,null,null,null,null,{"$f":"IF(M$2021=1,\"\",IF(U249=\"\",\"\",VLOOKUP(U249,Tabelle!$D$5:$H$7,5,FALSE)))","v":""},{"$f":"IF(M$2021=1,\"\",IF(U249=\"\",\"\",VLOOKUP(U249,Tabelle!$D$5:$I$7,6,FALSE)))","v":""},null,null,null,null,null,null,null,null,null,null,null,{"$f":"IF(B249=\"\",0,IF(B249=B248,COUNTIF(B$9:B248,B249)+1,1))","v":237},0,0]
["242","-1900","-1900-238",null,null,null,null,null,null,null,null,null,null,null,null,null,null,null,null,null,null,{"$f":"IF(M$2021=1,\"\",IF(U250=\"\",\"\",VLOOKUP(U250,Tabelle!$D$5:$H$7,5,FALSE)))","v":""},{"$f":"IF(M$2021=1,\"\",IF(U250=\"\",\"\",VLOOKUP(U250,Tabelle!$D$5:$I$7,6,FALSE)))","v":""},null,null,null,null,null,null,null,null,null,null,null,{"$f":"IF(B250=\"\",0,IF(B250=B249,COUNTIF(B$9:B249,B250)+1,1))","v":238},0,0]
["243","-1900","-1900-239",null,null,null,null,null,null,null,null,null,null,null,null,null,null,null,null,null,null,{"$f":"IF(M$2021=1,\"\",IF(U251=\"\",\"\",VLOOKUP(U251,Tabelle!$D$5:$H$7,5,FALSE)))","v":""},{"$f":"IF(M$2021=1,\"\",IF(U251=\"\",\"\",VLOOKUP(U251,Tabelle!$D$5:$I$7,6,FALSE)))","v":""},null,null,null,null,null,null,null,null,null,null,null,{"$f":"IF(B251=\"\",0,IF(B251=B250,COUNTIF(B$9:B250,B251)+1,1))","v":239},0,0]
["244","-1900","-1900-240",null,null,null,null,null,null,null,null,null,null,null,null,null,null,null,null,null,null,{"$f":"IF(M$2021=1,\"\",IF(U252=\"\",\"\",VLOOKUP(U252,Tabelle!$D$5:$H$7,5,FALSE)))","v":""},{"$f":"IF(M$2021=1,\"\",IF(U252=\"\",\"\",VLOOKUP(U252,Tabelle!$D$5:$I$7,6,FALSE)))","v":""},null,null,null,null,null,null,null,null,null,null,null,{"$f":"IF(B252=\"\",0,IF(B252=B251,COUNTIF(B$9:B251,B252)+1,1))","v":240},0,0]
["245","-1900","-1900-241",null,null,null,null,null,null,null,null,null,null,null,null,null,null,null,null,null,null,{"$f":"IF(M$2021=1,\"\",IF(U253=\"\",\"\",VLOOKUP(U253,Tabelle!$D$5:$H$7,5,FALSE)))","v":""},{"$f":"IF(M$2021=1,\"\",IF(U253=\"\",\"\",VLOOKUP(U253,Tabelle!$D$5:$I$7,6,FALSE)))","v":""},null,null,null,null,null,null,null,null,null,null,null,{"$f":"IF(B253=\"\",0,IF(B253=B252,COUNTIF(B$9:B252,B253)+1,1))","v":241},0,0]
["246","-1900","-1900-242",null,null,null,null,null,null,null,null,null,null,null,null,null,null,null,null,null,null,{"$f":"IF(M$2021=1,\"\",IF(U254=\"\",\"\",VLOOKUP(U254,Tabelle!$D$5:$H$7,5,FALSE)))","v":""},{"$f":"IF(M$2021=1,\"\",IF(U254=\"\",\"\",VLOOKUP(U254,Tabelle!$D$5:$I$7,6,FALSE)))","v":""},null,null,null,null,null,null,null,null,null,null,null,{"$f":"IF(B254=\"\",0,IF(B254=B253,COUNTIF(B$9:B253,B254)+1,1))","v":242},0,0]
["247","-1900","-1900-243",null,null,null,null,null,null,null,null,null,null,null,null,null,null,null,null,null,null,{"$f":"IF(M$2021=1,\"\",IF(U255=\"\",\"\",VLOOKUP(U255,Tabelle!$D$5:$H$7,5,FALSE)))","v":""},{"$f":"IF(M$2021=1,\"\",IF(U255=\"\",\"\",VLOOKUP(U255,Tabelle!$D$5:$I$7,6,FALSE)))","v":""},null,null,null,null,null,null,null,null,null,null,null,{"$f":"IF(B255=\"\",0,IF(B255=B254,COUNTIF(B$9:B254,B255)+1,1))","v":243},0,0]
["248","-1900","-1900-244",null,null,null,null,null,null,null,null,null,null,null,null,null,null,null,null,null,null,{"$f":"IF(M$2021=1,\"\",IF(U256=\"\",\"\",VLOOKUP(U256,Tabelle!$D$5:$H$7,5,FALSE)))","v":""},{"$f":"IF(M$2021=1,\"\",IF(U256=\"\",\"\",VLOOKUP(U256,Tabelle!$D$5:$I$7,6,FALSE)))","v":""},null,null,null,null,null,null,null,null,null,null,null,{"$f":"IF(B256=\"\",0,IF(B256=B255,COUNTIF(B$9:B255,B256)+1,1))","v":244},0,0]
["249","-1900","-1900-245",null,null,null,null,null,null,null,null,null,null,null,null,null,null,null,null,null,null,{"$f":"IF(M$2021=1,\"\",IF(U257=\"\",\"\",VLOOKUP(U257,Tabelle!$D$5:$H$7,5,FALSE)))","v":""},{"$f":"IF(M$2021=1,\"\",IF(U257=\"\",\"\",VLOOKUP(U257,Tabelle!$D$5:$I$7,6,FALSE)))","v":""},null,null,null,null,null,null,null,null,null,null,null,{"$f":"IF(B257=\"\",0,IF(B257=B256,COUNTIF(B$9:B256,B257)+1,1))","v":245},0,0]
["250","-1900","-1900-246",null,null,null,null,null,null,null,null,null,null,null,null,null,null,null,null,null,null,{"$f":"IF(M$2021=1,\"\",IF(U258=\"\",\"\",VLOOKUP(U258,Tabelle!$D$5:$H$7,5,FALSE)))","v":""},{"$f":"IF(M$2021=1,\"\",IF(U258=\"\",\"\",VLOOKUP(U258,Tabelle!$D$5:$I$7,6,FALSE)))","v":""},null,null,null,null,null,null,null,null,null,null,null,{"$f":"IF(B258=\"\",0,IF(B258=B257,COUNTIF(B$9:B257,B258)+1,1))","v":246},0,0]
["251","-1900","-1900-247",null,null,null,null,null,null,null,null,null,null,null,null,null,null,null,null,null,null,{"$f":"IF(M$2021=1,\"\",IF(U259=\"\",\"\",VLOOKUP(U259,Tabelle!$D$5:$H$7,5,FALSE)))","v":""},{"$f":"IF(M$2021=1,\"\",IF(U259=\"\",\"\",VLOOKUP(U259,Tabelle!$D$5:$I$7,6,FALSE)))","v":""},null,null,null,null,null,null,null,null,null,null,null,{"$f":"IF(B259=\"\",0,IF(B259=B258,COUNTIF(B$9:B258,B259)+1,1))","v":247},0,0]
["252","-1900","-1900-248",null,null,null,null,null,null,null,null,null,null,null,null,null,null,null,null,null,null,{"$f":"IF(M$2021=1,\"\",IF(U260=\"\",\"\",VLOOKUP(U260,Tabelle!$D$5:$H$7,5,FALSE)))","v":""},{"$f":"IF(M$2021=1,\"\",IF(U260=\"\",\"\",VLOOKUP(U260,Tabelle!$D$5:$I$7,6,FALSE)))","v":""},null,null,null,null,null,null,null,null,null,null,null,{"$f":"IF(B260=\"\",0,IF(B260=B259,COUNTIF(B$9:B259,B260)+1,1))","v":248},0,0]
["253","-1900","-1900-249",null,null,null,null,null,null,null,null,null,null,null,null,null,null,null,null,null,null,{"$f":"IF(M$2021=1,\"\",IF(U261=\"\",\"\",VLOOKUP(U261,Tabelle!$D$5:$H$7,5,FALSE)))","v":""},{"$f":"IF(M$2021=1,\"\",IF(U261=\"\",\"\",VLOOKUP(U261,Tabelle!$D$5:$I$7,6,FALSE)))","v":""},null,null,null,null,null,null,null,null,null,null,null,{"$f":"IF(B261=\"\",0,IF(B261=B260,COUNTIF(B$9:B260,B261)+1,1))","v":249},0,0]
["254","-1900","-1900-250",null,null,null,null,null,null,null,null,null,null,null,null,null,null,null,null,null,null,{"$f":"IF(M$2021=1,\"\",IF(U262=\"\",\"\",VLOOKUP(U262,Tabelle!$D$5:$H$7,5,FALSE)))","v":""},{"$f":"IF(M$2021=1,\"\",IF(U262=\"\",\"\",VLOOKUP(U262,Tabelle!$D$5:$I$7,6,FALSE)))","v":""},null,null,null,null,null,null,null,null,null,null,null,{"$f":"IF(B262=\"\",0,IF(B262=B261,COUNTIF(B$9:B261,B262)+1,1))","v":250},0,0]
["255","-1900","-1900-251",null,null,null,null,null,null,null,null,null,null,null,null,null,null,null,null,null,null,{"$f":"IF(M$2021=1,\"\",IF(U263=\"\",\"\",VLOOKUP(U263,Tabelle!$D$5:$H$7,5,FALSE)))","v":""},{"$f":"IF(M$2021=1,\"\",IF(U263=\"\",\"\",VLOOKUP(U263,Tabelle!$D$5:$I$7,6,FALSE)))","v":""},null,null,null,null,null,null,null,null,null,null,null,{"$f":"IF(B263=\"\",0,IF(B263=B262,COUNTIF(B$9:B262,B263)+1,1))","v":251},0,0]
["256","-1900","-1900-252",null,null,null,null,null,null,null,null,null,null,null,null,null,null,null,null,null,null,{"$f":"IF(M$2021=1,\"\",IF(U264=\"\",\"\",VLOOKUP(U264,Tabelle!$D$5:$H$7,5,FALSE)))","v":""},{"$f":"IF(M$2021=1,\"\",IF(U264=\"\",\"\",VLOOKUP(U264,Tabelle!$D$5:$I$7,6,FALSE)))","v":""},null,null,null,null,null,null,null,null,null,null,null,{"$f":"IF(B264=\"\",0,IF(B264=B263,COUNTIF(B$9:B263,B264)+1,1))","v":252},0,0]
["257","-1900",{"$f":"IF(M$2021=1,0,B265&\"-\"&AI265)","v":"-1900-253"},null,null,null,null,null,null,null,null,null,null,null,null,null,null,null,null,null,null,{"$f":"IF(M$2021=1,\"\",IF(U265=\"\",\"\",VLOOKUP(U265,Tabelle!$D$5:$H$7,5,FALSE)))","v":""},{"$f":"IF(M$2021=1,\"\",IF(U265=\"\",\"\",VLOOKUP(U265,Tabelle!$D$5:$I$7,6,FALSE)))","v":""},null,null,null,null,null,null,null,null,null,null,null,{"$f":"IF(B265=\"\",0,IF(B265=B264,COUNTIF(B$9:B264,B265)+1,1))","v":253},0,0]
["258",{"$f":"IF(AK266=$AK$2015,0,IF(M$2021=1,0,D266&\"-\"&YEAR(E266)))","v":"-1900"},"-1900-254",null,null,null,null,null,null,null,null,null,null,null,null,null,null,null,null,null,null,{"$f":"IF(M$2021=1,\"\",IF(U266=\"\",\"\",VLOOKUP(U266,Tabelle!$D$5:$H$7,5,FALSE)))","v":""},{"$f":"IF(M$2021=1,\"\",IF(U266=\"\",\"\",VLOOKUP(U266,Tabelle!$D$5:$I$7,6,FALSE)))","v":""},null,null,null,null,null,null,null,null,null,null,null,{"$f":"IF(B266=\"\",0,IF(B266=B265,COUNTIF(B$9:B265,B266)+1,1))","v":254},{"$f":"IF(OR(D266=\"\",M$2021=1),0,IF(AI266=10,1,0))","v":0},{"$f":"IF(E266>0,IF(OR(MONTH(E266)<$J$2027,MONTH(E266)>$J$2028),AK$2015,0),0)","v":0}]
["259","-1900","-1900-255",null,null,null,null,null,null,null,null,null,null,null,null,null,null,null,null,null,null,{"$f":"IF(M$2021=1,\"\",IF(U267=\"\",\"\",VLOOKUP(U267,Tabelle!$D$5:$H$7,5,FALSE)))","v":""},{"$f":"IF(M$2021=1,\"\",IF(U267=\"\",\"\",VLOOKUP(U267,Tabelle!$D$5:$I$7,6,FALSE)))","v":""},null,null,null,null,null,null,null,null,null,null,null,{"$f":"IF(B267=\"\",0,IF(B267=B266,COUNTIF(B$9:B266,B267)+1,1))","v":255},0,0]
["260","-1900","-1900-256",null,null,null,null,null,null,null,null,null,null,null,null,null,null,null,null,null,null,{"$f":"IF(M$2021=1,\"\",IF(U268=\"\",\"\",VLOOKUP(U268,Tabelle!$D$5:$H$7,5,FALSE)))","v":""},{"$f":"IF(M$2021=1,\"\",IF(U268=\"\",\"\",VLOOKUP(U268,Tabelle!$D$5:$I$7,6,FALSE)))","v":""},null,null,null,null,null,null,null,null,null,null,null,{"$f":"IF(B268=\"\",0,IF(B268=B267,COUNTIF(B$9:B267,B268)+1,1))","v":256},0,0]
["261","-1900","-1900-257",null,null,null,null,null,null,null,null,null,null,null,null,null,null,null,null,null,null,{"$f":"IF(M$2021=1,\"\",IF(U269=\"\",\"\",VLOOKUP(U269,Tabelle!$D$5:$H$7,5,FALSE)))","v":""},{"$f":"IF(M$2021=1,\"\",IF(U269=\"\",\"\",VLOOKUP(U269,Tabelle!$D$5:$I$7,6,FALSE)))","v":""},null,null,null,null,null,null,null,null,null,null,null,{"$f":"IF(B269=\"\",0,IF(B269=B268,COUNTIF(B$9:B268,B269)+1,1))","v":257},0,0]
["262","-1900","-1900-258",null,null,null,null,null,null,null,null,null,null,null,null,null,null,null,null,null,null,{"$f":"IF(M$2021=1,\"\",IF(U270=\"\",\"\",VLOOKUP(U270,Tabelle!$D$5:$H$7,5,FALSE)))","v":""},{"$f":"IF(M$2021=1,\"\",IF(U270=\"\",\"\",VLOOKUP(U270,Tabelle!$D$5:$I$7,6,FALSE)))","v":""},null,null,null,null,null,null,null,null,null,null,null,{"$f":"IF(B270=\"\",0,IF(B270=B269,COUNTIF(B$9:B269,B270)+1,1))","v":258},0,0]
["263","-1900","-1900-259",null,null,null,null,null,null,null,null,null,null,null,null,null,null,null,null,null,null,{"$f":"IF(M$2021=1,\"\",IF(U271=\"\",\"\",VLOOKUP(U271,Tabelle!$D$5:$H$7,5,FALSE)))","v":""},{"$f":"IF(M$2021=1,\"\",IF(U271=\"\",\"\",VLOOKUP(U271,Tabelle!$D$5:$I$7,6,FALSE)))","v":""},null,null,null,null,null,null,null,null,null,null,null,{"$f":"IF(B271=\"\",0,IF(B271=B270,COUNTIF(B$9:B270,B271)+1,1))","v":259},0,0]
["264","-1900","-1900-260",null,null,null,null,null,null,null,null,null,null,null,null,null,null,null,null,null,null,{"$f":"IF(M$2021=1,\"\",IF(U272=\"\",\"\",VLOOKUP(U272,Tabelle!$D$5:$H$7,5,FALSE)))","v":""},{"$f":"IF(M$2021=1,\"\",IF(U272=\"\",\"\",VLOOKUP(U272,Tabelle!$D$5:$I$7,6,FALSE)))","v":""},null,null,null,null,null,null,null,null,null,null,null,{"$f":"IF(B272=\"\",0,IF(B272=B271,COUNTIF(B$9:B271,B272)+1,1))","v":260},0,0]
["265","-1900","-1900-261",null,null,null,null,null,null,null,null,null,null,null,null,null,null,null,null,null,null,{"$f":"IF(M$2021=1,\"\",IF(U273=\"\",\"\",VLOOKUP(U273,Tabelle!$D$5:$H$7,5,FALSE)))","v":""},{"$f":"IF(M$2021=1,\"\",IF(U273=\"\",\"\",VLOOKUP(U273,Tabelle!$D$5:$I$7,6,FALSE)))","v":""},null,null,null,null,null,null,null,null,null,null,null,{"$f":"IF(B273=\"\",0,IF(B273=B272,COUNTIF(B$9:B272,B273)+1,1))","v":261},0,0]
["266","-1900","-1900-262",null,null,null,null,null,null,null,null,null,null,null,null,null,null,null,null,null,null,{"$f":"IF(M$2021=1,\"\",IF(U274=\"\",\"\",VLOOKUP(U274,Tabelle!$D$5:$H$7,5,FALSE)))","v":""},{"$f":"IF(M$2021=1,\"\",IF(U274=\"\",\"\",VLOOKUP(U274,Tabelle!$D$5:$I$7,6,FALSE)))","v":""},null,null,null,null,null,null,null,null,null,null,null,{"$f":"IF(B274=\"\",0,IF(B274=B273,COUNTIF(B$9:B273,B274)+1,1))","v":262},0,0]
["267","-1900","-1900-263",null,null,null,null,null,null,null,null,null,null,null,null,null,null,null,null,null,null,{"$f":"IF(M$2021=1,\"\",IF(U275=\"\",\"\",VLOOKUP(U275,Tabelle!$D$5:$H$7,5,FALSE)))","v":""},{"$f":"IF(M$2021=1,\"\",IF(U275=\"\",\"\",VLOOKUP(U275,Tabelle!$D$5:$I$7,6,FALSE)))","v":""},null,null,null,null,null,null,null,null,null,null,null,{"$f":"IF(B275=\"\",0,IF(B275=B274,COUNTIF(B$9:B274,B275)+1,1))","v":263},0,0]
["268","-1900","-1900-264",null,null,null,null,null,null,null,null,null,null,null,null,null,null,null,null,null,null,{"$f":"IF(M$2021=1,\"\",IF(U276=\"\",\"\",VLOOKUP(U276,Tabelle!$D$5:$H$7,5,FALSE)))","v":""},{"$f":"IF(M$2021=1,\"\",IF(U276=\"\",\"\",VLOOKUP(U276,Tabelle!$D$5:$I$7,6,FALSE)))","v":""},null,null,null,null,null,null,null,null,null,null,null,{"$f":"IF(B276=\"\",0,IF(B276=B275,COUNTIF(B$9:B275,B276)+1,1))","v":264},0,0]
["269","-1900","-1900-265",null,null,null,null,null,null,null,null,null,null,null,null,null,null,null,null,null,null,{"$f":"IF(M$2021=1,\"\",IF(U277=\"\",\"\",VLOOKUP(U277,Tabelle!$D$5:$H$7,5,FALSE)))","v":""},{"$f":"IF(M$2021=1,\"\",IF(U277=\"\",\"\",VLOOKUP(U277,Tabelle!$D$5:$I$7,6,FALSE)))","v":""},null,null,null,null,null,null,null,null,null,null,null,{"$f":"IF(B277=\"\",0,IF(B277=B276,COUNTIF(B$9:B276,B277)+1,1))","v":265},0,0]
["270","-1900","-1900-266",null,null,null,null,null,null,null,null,null,null,null,null,null,null,null,null,null,null,{"$f":"IF(M$2021=1,\"\",IF(U278=\"\",\"\",VLOOKUP(U278,Tabelle!$D$5:$H$7,5,FALSE)))","v":""},{"$f":"IF(M$2021=1,\"\",IF(U278=\"\",\"\",VLOOKUP(U278,Tabelle!$D$5:$I$7,6,FALSE)))","v":""},null,null,null,null,null,null,null,null,null,null,null,{"$f":"IF(B278=\"\",0,IF(B278=B277,COUNTIF(B$9:B277,B278)+1,1))","v":266},0,0]
["271","-1900","-1900-267",null,null,null,null,null,null,null,null,null,null,null,null,null,null,null,null,null,null,{"$f":"IF(M$2021=1,\"\",IF(U279=\"\",\"\",VLOOKUP(U279,Tabelle!$D$5:$H$7,5,FALSE)))","v":""},{"$f":"IF(M$2021=1,\"\",IF(U279=\"\",\"\",VLOOKUP(U279,Tabelle!$D$5:$I$7,6,FALSE)))","v":""},null,null,null,null,null,null,null,null,null,null,null,{"$f":"IF(B279=\"\",0,IF(B279=B278,COUNTIF(B$9:B278,B279)+1,1))","v":267},0,0]
["272","-1900","-1900-268",null,null,null,null,null,null,null,null,null,null,null,null,null,null,null,null,null,null,{"$f":"IF(M$2021=1,\"\",IF(U280=\"\",\"\",VLOOKUP(U280,Tabelle!$D$5:$H$7,5,FALSE)))","v":""},{"$f":"IF(M$2021=1,\"\",IF(U280=\"\",\"\",VLOOKUP(U280,Tabelle!$D$5:$I$7,6,FALSE)))","v":""},null,null,null,null,null,null,null,null,null,null,null,{"$f":"IF(B280=\"\",0,IF(B280=B279,COUNTIF(B$9:B279,B280)+1,1))","v":268},0,0]
["273","-1900","-1900-269",null,null,null,null,null,null,null,null,null,null,null,null,null,null,null,null,null,null,{"$f":"IF(M$2021=1,\"\",IF(U281=\"\",\"\",VLOOKUP(U281,Tabelle!$D$5:$H$7,5,FALSE)))","v":""},{"$f":"IF(M$2021=1,\"\",IF(U281=\"\",\"\",VLOOKUP(U281,Tabelle!$D$5:$I$7,6,FALSE)))","v":""},null,null,null,null,null,null,null,null,null,null,null,{"$f":"IF(B281=\"\",0,IF(B281=B280,COUNTIF(B$9:B280,B281)+1,1))","v":269},0,0]
["274","-1900","-1900-270",null,null,null,null,null,null,null,null,null,null,null,null,null,null,null,null,null,null,{"$f":"IF(M$2021=1,\"\",IF(U282=\"\",\"\",VLOOKUP(U282,Tabelle!$D$5:$H$7,5,FALSE)))","v":""},{"$f":"IF(M$2021=1,\"\",IF(U282=\"\",\"\",VLOOKUP(U282,Tabelle!$D$5:$I$7,6,FALSE)))","v":""},null,null,null,null,null,null,null,null,null,null,null,{"$f":"IF(B282=\"\",0,IF(B282=B281,COUNTIF(B$9:B281,B282)+1,1))","v":270},0,0]
["275","-1900","-1900-271",null,null,null,null,null,null,null,null,null,null,null,null,null,null,null,null,null,null,{"$f":"IF(M$2021=1,\"\",IF(U283=\"\",\"\",VLOOKUP(U283,Tabelle!$D$5:$H$7,5,FALSE)))","v":""},{"$f":"IF(M$2021=1,\"\",IF(U283=\"\",\"\",VLOOKUP(U283,Tabelle!$D$5:$I$7,6,FALSE)))","v":""},null,null,null,null,null,null,null,null,null,null,null,{"$f":"IF(B283=\"\",0,IF(B283=B282,COUNTIF(B$9:B282,B283)+1,1))","v":271},0,0]
["276","-1900","-1900-272",null,null,null,null,null,null,null,null,null,null,null,null,null,null,null,null,null,null,{"$f":"IF(M$2021=1,\"\",IF(U284=\"\",\"\",VLOOKUP(U284,Tabelle!$D$5:$H$7,5,FALSE)))","v":""},{"$f":"IF(M$2021=1,\"\",IF(U284=\"\",\"\",VLOOKUP(U284,Tabelle!$D$5:$I$7,6,FALSE)))","v":""},null,null,null,null,null,null,null,null,null,null,null,{"$f":"IF(B284=\"\",0,IF(B284=B283,COUNTIF(B$9:B283,B284)+1,1))","v":272},0,0]
["277","-1900","-1900-273",null,null,null,null,null,null,null,null,null,null,null,null,null,null,null,null,null,null,{"$f":"IF(M$2021=1,\"\",IF(U285=\"\",\"\",VLOOKUP(U285,Tabelle!$D$5:$H$7,5,FALSE)))","v":""},{"$f":"IF(M$2021=1,\"\",IF(U285=\"\",\"\",VLOOKUP(U285,Tabelle!$D$5:$I$7,6,FALSE)))","v":""},null,null,null,null,null,null,null,null,null,null,null,{"$f":"IF(B285=\"\",0,IF(B285=B284,COUNTIF(B$9:B284,B285)+1,1))","v":273},0,0]
["278","-1900","-1900-274",null,null,null,null,null,null,null,null,null,null,null,null,null,null,null,null,null,null,{"$f":"IF(M$2021=1,\"\",IF(U286=\"\",\"\",VLOOKUP(U286,Tabelle!$D$5:$H$7,5,FALSE)))","v":""},{"$f":"IF(M$2021=1,\"\",IF(U286=\"\",\"\",VLOOKUP(U286,Tabelle!$D$5:$I$7,6,FALSE)))","v":""},null,null,null,null,null,null,null,null,null,null,null,{"$f":"IF(B286=\"\",0,IF(B286=B285,COUNTIF(B$9:B285,B286)+1,1))","v":274},0,0]
["279","-1900","-1900-275",null,null,null,null,null,null,null,null,null,null,null,null,null,null,null,null,null,null,{"$f":"IF(M$2021=1,\"\",IF(U287=\"\",\"\",VLOOKUP(U287,Tabelle!$D$5:$H$7,5,FALSE)))","v":""},{"$f":"IF(M$2021=1,\"\",IF(U287=\"\",\"\",VLOOKUP(U287,Tabelle!$D$5:$I$7,6,FALSE)))","v":""},null,null,null,null,null,null,null,null,null,null,null,{"$f":"IF(B287=\"\",0,IF(B287=B286,COUNTIF(B$9:B286,B287)+1,1))","v":275},0,0]
["280","-1900","-1900-276",null,null,null,null,null,null,null,null,null,null,null,null,null,null,null,null,null,null,{"$f":"IF(M$2021=1,\"\",IF(U288=\"\",\"\",VLOOKUP(U288,Tabelle!$D$5:$H$7,5,FALSE)))","v":""},{"$f":"IF(M$2021=1,\"\",IF(U288=\"\",\"\",VLOOKUP(U288,Tabelle!$D$5:$I$7,6,FALSE)))","v":""},null,null,null,null,null,null,null,null,null,null,null,{"$f":"IF(B288=\"\",0,IF(B288=B287,COUNTIF(B$9:B287,B288)+1,1))","v":276},0,0]
["281","-1900","-1900-277",null,null,null,null,null,null,null,null,null,null,null,null,null,null,null,null,null,null,{"$f":"IF(M$2021=1,\"\",IF(U289=\"\",\"\",VLOOKUP(U289,Tabelle!$D$5:$H$7,5,FALSE)))","v":""},{"$f":"IF(M$2021=1,\"\",IF(U289=\"\",\"\",VLOOKUP(U289,Tabelle!$D$5:$I$7,6,FALSE)))","v":""},null,null,null,null,null,null,null,null,null,null,null,{"$f":"IF(B289=\"\",0,IF(B289=B288,COUNTIF(B$9:B288,B289)+1,1))","v":277},0,0]
["282","-1900","-1900-278",null,null,null,null,null,null,null,null,null,null,null,null,null,null,null,null,null,null,{"$f":"IF(M$2021=1,\"\",IF(U290=\"\",\"\",VLOOKUP(U290,Tabelle!$D$5:$H$7,5,FALSE)))","v":""},{"$f":"IF(M$2021=1,\"\",IF(U290=\"\",\"\",VLOOKUP(U290,Tabelle!$D$5:$I$7,6,FALSE)))","v":""},null,null,null,null,null,null,null,null,null,null,null,{"$f":"IF(B290=\"\",0,IF(B290=B289,COUNTIF(B$9:B289,B290)+1,1))","v":278},0,0]
["283","-1900","-1900-279",null,null,null,null,null,null,null,null,null,null,null,null,null,null,null,null,null,null,{"$f":"IF(M$2021=1,\"\",IF(U291=\"\",\"\",VLOOKUP(U291,Tabelle!$D$5:$H$7,5,FALSE)))","v":""},{"$f":"IF(M$2021=1,\"\",IF(U291=\"\",\"\",VLOOKUP(U291,Tabelle!$D$5:$I$7,6,FALSE)))","v":""},null,null,null,null,null,null,null,null,null,null,null,{"$f":"IF(B291=\"\",0,IF(B291=B290,COUNTIF(B$9:B290,B291)+1,1))","v":279},0,0]
["284","-1900","-1900-280",null,null,null,null,null,null,null,null,null,null,null,null,null,null,null,null,null,null,{"$f":"IF(M$2021=1,\"\",IF(U292=\"\",\"\",VLOOKUP(U292,Tabelle!$D$5:$H$7,5,FALSE)))","v":""},{"$f":"IF(M$2021=1,\"\",IF(U292=\"\",\"\",VLOOKUP(U292,Tabelle!$D$5:$I$7,6,FALSE)))","v":""},null,null,null,null,null,null,null,null,null,null,null,{"$f":"IF(B292=\"\",0,IF(B292=B291,COUNTIF(B$9:B291,B292)+1,1))","v":280},0,0]
["285","-1900","-1900-281",null,null,null,null,null,null,null,null,null,null,null,null,null,null,null,null,null,null,{"$f":"IF(M$2021=1,\"\",IF(U293=\"\",\"\",VLOOKUP(U293,Tabelle!$D$5:$H$7,5,FALSE)))","v":""},{"$f":"IF(M$2021=1,\"\",IF(U293=\"\",\"\",VLOOKUP(U293,Tabelle!$D$5:$I$7,6,FALSE)))","v":""},null,null,null,null,null,null,null,null,null,null,null,{"$f":"IF(B293=\"\",0,IF(B293=B292,COUNTIF(B$9:B292,B293)+1,1))","v":281},0,0]
["286","-1900","-1900-282",null,null,null,null,null,null,null,null,null,null,null,null,null,null,null,null,null,null,{"$f":"IF(M$2021=1,\"\",IF(U294=\"\",\"\",VLOOKUP(U294,Tabelle!$D$5:$H$7,5,FALSE)))","v":""},{"$f":"IF(M$2021=1,\"\",IF(U294=\"\",\"\",VLOOKUP(U294,Tabelle!$D$5:$I$7,6,FALSE)))","v":""},null,null,null,null,null,null,null,null,null,null,null,{"$f":"IF(B294=\"\",0,IF(B294=B293,COUNTIF(B$9:B293,B294)+1,1))","v":282},0,0]
["287","-1900","-1900-283",null,null,null,null,null,null,null,null,null,null,null,null,null,null,null,null,null,null,{"$f":"IF(M$2021=1,\"\",IF(U295=\"\",\"\",VLOOKUP(U295,Tabelle!$D$5:$H$7,5,FALSE)))","v":""},{"$f":"IF(M$2021=1,\"\",IF(U295=\"\",\"\",VLOOKUP(U295,Tabelle!$D$5:$I$7,6,FALSE)))","v":""},null,null,null,null,null,null,null,null,null,null,null,{"$f":"IF(B295=\"\",0,IF(B295=B294,COUNTIF(B$9:B294,B295)+1,1))","v":283},0,0]
["288","-1900","-1900-284",null,null,null,null,null,null,null,null,null,null,null,null,null,null,null,null,null,null,{"$f":"IF(M$2021=1,\"\",IF(U296=\"\",\"\",VLOOKUP(U296,Tabelle!$D$5:$H$7,5,FALSE)))","v":""},{"$f":"IF(M$2021=1,\"\",IF(U296=\"\",\"\",VLOOKUP(U296,Tabelle!$D$5:$I$7,6,FALSE)))","v":""},null,null,null,null,null,null,null,null,null,null,null,{"$f":"IF(B296=\"\",0,IF(B296=B295,COUNTIF(B$9:B295,B296)+1,1))","v":284},0,0]
["289","-1900","-1900-285",null,null,null,null,null,null,null,null,null,null,null,null,null,null,null,null,null,null,{"$f":"IF(M$2021=1,\"\",IF(U297=\"\",\"\",VLOOKUP(U297,Tabelle!$D$5:$H$7,5,FALSE)))","v":""},{"$f":"IF(M$2021=1,\"\",IF(U297=\"\",\"\",VLOOKUP(U297,Tabelle!$D$5:$I$7,6,FALSE)))","v":""},null,null,null,null,null,null,null,null,null,null,null,{"$f":"IF(B297=\"\",0,IF(B297=B296,COUNTIF(B$9:B296,B297)+1,1))","v":285},0,0]
["290","-1900","-1900-286",null,null,null,null,null,null,null,null,null,null,null,null,null,null,null,null,null,null,{"$f":"IF(M$2021=1,\"\",IF(U298=\"\",\"\",VLOOKUP(U298,Tabelle!$D$5:$H$7,5,FALSE)))","v":""},{"$f":"IF(M$2021=1,\"\",IF(U298=\"\",\"\",VLOOKUP(U298,Tabelle!$D$5:$I$7,6,FALSE)))","v":""},null,null,null,null,null,null,null,null,null,null,null,{"$f":"IF(B298=\"\",0,IF(B298=B297,COUNTIF(B$9:B297,B298)+1,1))","v":286},0,0]
["291","-1900","-1900-287",null,null,null,null,null,null,null,null,null,null,null,null,null,null,null,null,null,null,{"$f":"IF(M$2021=1,\"\",IF(U299=\"\",\"\",VLOOKUP(U299,Tabelle!$D$5:$H$7,5,FALSE)))","v":""},{"$f":"IF(M$2021=1,\"\",IF(U299=\"\",\"\",VLOOKUP(U299,Tabelle!$D$5:$I$7,6,FALSE)))","v":""},null,null,null,null,null,null,null,null,null,null,null,{"$f":"IF(B299=\"\",0,IF(B299=B298,COUNTIF(B$9:B298,B299)+1,1))","v":287},0,0]
["292","-1900","-1900-288",null,null,null,null,null,null,null,null,null,null,null,null,null,null,null,null,null,null,{"$f":"IF(M$2021=1,\"\",IF(U300=\"\",\"\",VLOOKUP(U300,Tabelle!$D$5:$H$7,5,FALSE)))","v":""},{"$f":"IF(M$2021=1,\"\",IF(U300=\"\",\"\",VLOOKUP(U300,Tabelle!$D$5:$I$7,6,FALSE)))","v":""},null,null,null,null,null,null,null,null,null,null,null,{"$f":"IF(B300=\"\",0,IF(B300=B299,COUNTIF(B$9:B299,B300)+1,1))","v":288},0,0]
["293","-1900","-1900-289",null,null,null,null,null,null,null,null,null,null,null,null,null,null,null,null,null,null,{"$f":"IF(M$2021=1,\"\",IF(U301=\"\",\"\",VLOOKUP(U301,Tabelle!$D$5:$H$7,5,FALSE)))","v":""},{"$f":"IF(M$2021=1,\"\",IF(U301=\"\",\"\",VLOOKUP(U301,Tabelle!$D$5:$I$7,6,FALSE)))","v":""},null,null,null,null,null,null,null,null,null,null,null,{"$f":"IF(B301=\"\",0,IF(B301=B300,COUNTIF(B$9:B300,B301)+1,1))","v":289},0,0]
["294","-1900","-1900-290",null,null,null,null,null,null,null,null,null,null,null,null,null,null,null,null,null,null,{"$f":"IF(M$2021=1,\"\",IF(U302=\"\",\"\",VLOOKUP(U302,Tabelle!$D$5:$H$7,5,FALSE)))","v":""},{"$f":"IF(M$2021=1,\"\",IF(U302=\"\",\"\",VLOOKUP(U302,Tabelle!$D$5:$I$7,6,FALSE)))","v":""},null,null,null,null,null,null,null,null,null,null,null,{"$f":"IF(B302=\"\",0,IF(B302=B301,COUNTIF(B$9:B301,B302)+1,1))","v":290},0,0]
["295","-1900","-1900-291",null,null,null,null,null,null,null,null,null,null,null,null,null,null,null,null,null,null,{"$f":"IF(M$2021=1,\"\",IF(U303=\"\",\"\",VLOOKUP(U303,Tabelle!$D$5:$H$7,5,FALSE)))","v":""},{"$f":"IF(M$2021=1,\"\",IF(U303=\"\",\"\",VLOOKUP(U303,Tabelle!$D$5:$I$7,6,FALSE)))","v":""},null,null,null,null,null,null,null,null,null,null,null,{"$f":"IF(B303=\"\",0,IF(B303=B302,COUNTIF(B$9:B302,B303)+1,1))","v":291},0,0]
["296","-1900","-1900-292",null,null,null,null,null,null,null,null,null,null,null,null,null,null,null,null,null,null,{"$f":"IF(M$2021=1,\"\",IF(U304=\"\",\"\",VLOOKUP(U304,Tabelle!$D$5:$H$7,5,FALSE)))","v":""},{"$f":"IF(M$2021=1,\"\",IF(U304=\"\",\"\",VLOOKUP(U304,Tabelle!$D$5:$I$7,6,FALSE)))","v":""},null,null,null,null,null,null,null,null,null,null,null,{"$f":"IF(B304=\"\",0,IF(B304=B303,COUNTIF(B$9:B303,B304)+1,1))","v":292},0,0]
["297","-1900","-1900-293",null,null,null,null,null,null,null,null,null,null,null,null,null,null,null,null,null,null,{"$f":"IF(M$2021=1,\"\",IF(U305=\"\",\"\",VLOOKUP(U305,Tabelle!$D$5:$H$7,5,FALSE)))","v":""},{"$f":"IF(M$2021=1,\"\",IF(U305=\"\",\"\",VLOOKUP(U305,Tabelle!$D$5:$I$7,6,FALSE)))","v":""},null,null,null,null,null,null,null,null,null,null,null,{"$f":"IF(B305=\"\",0,IF(B305=B304,COUNTIF(B$9:B304,B305)+1,1))","v":293},0,0]
["298","-1900","-1900-294",null,null,null,null,null,null,null,null,null,null,null,null,null,null,null,null,null,null,{"$f":"IF(M$2021=1,\"\",IF(U306=\"\",\"\",VLOOKUP(U306,Tabelle!$D$5:$H$7,5,FALSE)))","v":""},{"$f":"IF(M$2021=1,\"\",IF(U306=\"\",\"\",VLOOKUP(U306,Tabelle!$D$5:$I$7,6,FALSE)))","v":""},null,null,null,null,null,null,null,null,null,null,null,{"$f":"IF(B306=\"\",0,IF(B306=B305,COUNTIF(B$9:B305,B306)+1,1))","v":294},0,0]
["299","-1900","-1900-295",null,null,null,null,null,null,null,null,null,null,null,null,null,null,null,null,null,null,{"$f":"IF(M$2021=1,\"\",IF(U307=\"\",\"\",VLOOKUP(U307,Tabelle!$D$5:$H$7,5,FALSE)))","v":""},{"$f":"IF(M$2021=1,\"\",IF(U307=\"\",\"\",VLOOKUP(U307,Tabelle!$D$5:$I$7,6,FALSE)))","v":""},null,null,null,null,null,null,null,null,null,null,null,{"$f":"IF(B307=\"\",0,IF(B307=B306,COUNTIF(B$9:B306,B307)+1,1))","v":295},0,0]
["300","-1900","-1900-296",null,null,null,null,null,null,null,null,null,null,null,null,null,null,null,null,null,null,{"$f":"IF(M$2021=1,\"\",IF(U308=\"\",\"\",VLOOKUP(U308,Tabelle!$D$5:$H$7,5,FALSE)))","v":""},{"$f":"IF(M$2021=1,\"\",IF(U308=\"\",\"\",VLOOKUP(U308,Tabelle!$D$5:$I$7,6,FALSE)))","v":""},null,null,null,null,null,null,null,null,null,null,null,{"$f":"IF(B308=\"\",0,IF(B308=B307,COUNTIF(B$9:B307,B308)+1,1))","v":296},0,0]
["301","-1900","-1900-297",null,null,null,null,null,null,null,null,null,null,null,null,null,null,null,null,null,null,{"$f":"IF(M$2021=1,\"\",IF(U309=\"\",\"\",VLOOKUP(U309,Tabelle!$D$5:$H$7,5,FALSE)))","v":""},{"$f":"IF(M$2021=1,\"\",IF(U309=\"\",\"\",VLOOKUP(U309,Tabelle!$D$5:$I$7,6,FALSE)))","v":""},null,null,null,null,null,null,null,null,null,null,null,{"$f":"IF(B309=\"\",0,IF(B309=B308,COUNTIF(B$9:B308,B309)+1,1))","v":297},0,0]
["302","-1900","-1900-298",null,null,null,null,null,null,null,null,null,null,null,null,null,null,null,null,null,null,{"$f":"IF(M$2021=1,\"\",IF(U310=\"\",\"\",VLOOKUP(U310,Tabelle!$D$5:$H$7,5,FALSE)))","v":""},{"$f":"IF(M$2021=1,\"\",IF(U310=\"\",\"\",VLOOKUP(U310,Tabelle!$D$5:$I$7,6,FALSE)))","v":""},null,null,null,null,null,null,null,null,null,null,null,{"$f":"IF(B310=\"\",0,IF(B310=B309,COUNTIF(B$9:B309,B310)+1,1))","v":298},0,0]
["303","-1900","-1900-299",null,null,null,null,null,null,null,null,null,null,null,null,null,null,null,null,null,null,{"$f":"IF(M$2021=1,\"\",IF(U311=\"\",\"\",VLOOKUP(U311,Tabelle!$D$5:$H$7,5,FALSE)))","v":""},{"$f":"IF(M$2021=1,\"\",IF(U311=\"\",\"\",VLOOKUP(U311,Tabelle!$D$5:$I$7,6,FALSE)))","v":""},null,null,null,null,null,null,null,null,null,null,null,{"$f":"IF(B311=\"\",0,IF(B311=B310,COUNTIF(B$9:B310,B311)+1,1))","v":299},0,0]
["304","-1900","-1900-300",null,null,null,null,null,null,null,null,null,null,null,null,null,null,null,null,null,null,{"$f":"IF(M$2021=1,\"\",IF(U312=\"\",\"\",VLOOKUP(U312,Tabelle!$D$5:$H$7,5,FALSE)))","v":""},{"$f":"IF(M$2021=1,\"\",IF(U312=\"\",\"\",VLOOKUP(U312,Tabelle!$D$5:$I$7,6,FALSE)))","v":""},null,null,null,null,null,null,null,null,null,null,null,{"$f":"IF(B312=\"\",0,IF(B312=B311,COUNTIF(B$9:B311,B312)+1,1))","v":300},0,0]
["305","-1900","-1900-301",null,null,null,null,null,null,null,null,null,null,null,null,null,null,null,null,null,null,{"$f":"IF(M$2021=1,\"\",IF(U313=\"\",\"\",VLOOKUP(U313,Tabelle!$D$5:$H$7,5,FALSE)))","v":""},{"$f":"IF(M$2021=1,\"\",IF(U313=\"\",\"\",VLOOKUP(U313,Tabelle!$D$5:$I$7,6,FALSE)))","v":""},null,null,null,null,null,null,null,null,null,null,null,{"$f":"IF(B313=\"\",0,IF(B313=B312,COUNTIF(B$9:B312,B313)+1,1))","v":301},0,0]
["306","-1900","-1900-302",null,null,null,null,null,null,null,null,null,null,null,null,null,null,null,null,null,null,{"$f":"IF(M$2021=1,\"\",IF(U314=\"\",\"\",VLOOKUP(U314,Tabelle!$D$5:$H$7,5,FALSE)))","v":""},{"$f":"IF(M$2021=1,\"\",IF(U314=\"\",\"\",VLOOKUP(U314,Tabelle!$D$5:$I$7,6,FALSE)))","v":""},null,null,null,null,null,null,null,null,null,null,null,{"$f":"IF(B314=\"\",0,IF(B314=B313,COUNTIF(B$9:B313,B314)+1,1))","v":302},0,0]
["307","-1900","-1900-303",null,null,null,null,null,null,null,null,null,null,null,null,null,null,null,null,null,null,{"$f":"IF(M$2021=1,\"\",IF(U315=\"\",\"\",VLOOKUP(U315,Tabelle!$D$5:$H$7,5,FALSE)))","v":""},{"$f":"IF(M$2021=1,\"\",IF(U315=\"\",\"\",VLOOKUP(U315,Tabelle!$D$5:$I$7,6,FALSE)))","v":""},null,null,null,null,null,null,null,null,null,null,null,{"$f":"IF(B315=\"\",0,IF(B315=B314,COUNTIF(B$9:B314,B315)+1,1))","v":303},0,0]
["308","-1900","-1900-304",null,null,null,null,null,null,null,null,null,null,null,null,null,null,null,null,null,null,{"$f":"IF(M$2021=1,\"\",IF(U316=\"\",\"\",VLOOKUP(U316,Tabelle!$D$5:$H$7,5,FALSE)))","v":""},{"$f":"IF(M$2021=1,\"\",IF(U316=\"\",\"\",VLOOKUP(U316,Tabelle!$D$5:$I$7,6,FALSE)))","v":""},null,null,null,null,null,null,null,null,null,null,null,{"$f":"IF(B316=\"\",0,IF(B316=B315,COUNTIF(B$9:B315,B316)+1,1))","v":304},0,0]
["309","-1900","-1900-305",null,null,null,null,null,null,null,null,null,null,null,null,null,null,null,null,null,null,{"$f":"IF(M$2021=1,\"\",IF(U317=\"\",\"\",VLOOKUP(U317,Tabelle!$D$5:$H$7,5,FALSE)))","v":""},{"$f":"IF(M$2021=1,\"\",IF(U317=\"\",\"\",VLOOKUP(U317,Tabelle!$D$5:$I$7,6,FALSE)))","v":""},null,null,null,null,null,null,null,null,null,null,null,{"$f":"IF(B317=\"\",0,IF(B317=B316,COUNTIF(B$9:B316,B317)+1,1))","v":305},0,0]
["310","-1900","-1900-306",null,null,null,null,null,null,null,null,null,null,null,null,null,null,null,null,null,null,{"$f":"IF(M$2021=1,\"\",IF(U318=\"\",\"\",VLOOKUP(U318,Tabelle!$D$5:$H$7,5,FALSE)))","v":""},{"$f":"IF(M$2021=1,\"\",IF(U318=\"\",\"\",VLOOKUP(U318,Tabelle!$D$5:$I$7,6,FALSE)))","v":""},null,null,null,null,null,null,null,null,null,null,null,{"$f":"IF(B318=\"\",0,IF(B318=B317,COUNTIF(B$9:B317,B318)+1,1))","v":306},0,0]
["311","-1900","-1900-307",null,null,null,null,null,null,null,null,null,null,null,null,null,null,null,null,null,null,{"$f":"IF(M$2021=1,\"\",IF(U319=\"\",\"\",VLOOKUP(U319,Tabelle!$D$5:$H$7,5,FALSE)))","v":""},{"$f":"IF(M$2021=1,\"\",IF(U319=\"\",\"\",VLOOKUP(U319,Tabelle!$D$5:$I$7,6,FALSE)))","v":""},null,null,null,null,null,null,null,null,null,null,null,{"$f":"IF(B319=\"\",0,IF(B319=B318,COUNTIF(B$9:B318,B319)+1,1))","v":307},0,0]
["312","-1900","-1900-308",null,null,null,null,null,null,null,null,null,null,null,null,null,null,null,null,null,null,{"$f":"IF(M$2021=1,\"\",IF(U320=\"\",\"\",VLOOKUP(U320,Tabelle!$D$5:$H$7,5,FALSE)))","v":""},{"$f":"IF(M$2021=1,\"\",IF(U320=\"\",\"\",VLOOKUP(U320,Tabelle!$D$5:$I$7,6,FALSE)))","v":""},null,null,null,null,null,null,null,null,null,null,null,{"$f":"IF(B320=\"\",0,IF(B320=B319,COUNTIF(B$9:B319,B320)+1,1))","v":308},0,0]
["313","-1900","-1900-309",null,null,null,null,null,null,null,null,null,null,null,null,null,null,null,null,null,null,{"$f":"IF(M$2021=1,\"\",IF(U321=\"\",\"\",VLOOKUP(U321,Tabelle!$D$5:$H$7,5,FALSE)))","v":""},{"$f":"IF(M$2021=1,\"\",IF(U321=\"\",\"\",VLOOKUP(U321,Tabelle!$D$5:$I$7,6,FALSE)))","v":""},null,null,null,null,null,null,null,null,null,null,null,{"$f":"IF(B321=\"\",0,IF(B321=B320,COUNTIF(B$9:B320,B321)+1,1))","v":309},0,0]
["314","-1900","-1900-310",null,null,null,null,null,null,null,null,null,null,null,null,null,null,null,null,null,null,{"$f":"IF(M$2021=1,\"\",IF(U322=\"\",\"\",VLOOKUP(U322,Tabelle!$D$5:$H$7,5,FALSE)))","v":""},{"$f":"IF(M$2021=1,\"\",IF(U322=\"\",\"\",VLOOKUP(U322,Tabelle!$D$5:$I$7,6,FALSE)))","v":""},null,null,null,null,null,null,null,null,null,null,null,{"$f":"IF(B322=\"\",0,IF(B322=B321,COUNTIF(B$9:B321,B322)+1,1))","v":310},0,0]
["315","-1900","-1900-311",null,null,null,null,null,null,null,null,null,null,null,null,null,null,null,null,null,null,{"$f":"IF(M$2021=1,\"\",IF(U323=\"\",\"\",VLOOKUP(U323,Tabelle!$D$5:$H$7,5,FALSE)))","v":""},{"$f":"IF(M$2021=1,\"\",IF(U323=\"\",\"\",VLOOKUP(U323,Tabelle!$D$5:$I$7,6,FALSE)))","v":""},null,null,null,null,null,null,null,null,null,null,null,{"$f":"IF(B323=\"\",0,IF(B323=B322,COUNTIF(B$9:B322,B323)+1,1))","v":311},0,0]
["316","-1900","-1900-312",null,null,null,null,null,null,null,null,null,null,null,null,null,null,null,null,null,null,{"$f":"IF(M$2021=1,\"\",IF(U324=\"\",\"\",VLOOKUP(U324,Tabelle!$D$5:$H$7,5,FALSE)))","v":""},{"$f":"IF(M$2021=1,\"\",IF(U324=\"\",\"\",VLOOKUP(U324,Tabelle!$D$5:$I$7,6,FALSE)))","v":""},null,null,null,null,null,null,null,null,null,null,null,{"$f":"IF(B324=\"\",0,IF(B324=B323,COUNTIF(B$9:B323,B324)+1,1))","v":312},0,0]
["317","-1900","-1900-313",null,null,null,null,null,null,null,null,null,null,null,null,null,null,null,null,null,null,{"$f":"IF(M$2021=1,\"\",IF(U325=\"\",\"\",VLOOKUP(U325,Tabelle!$D$5:$H$7,5,FALSE)))","v":""},{"$f":"IF(M$2021=1,\"\",IF(U325=\"\",\"\",VLOOKUP(U325,Tabelle!$D$5:$I$7,6,FALSE)))","v":""},null,null,null,null,null,null,null,null,null,null,null,{"$f":"IF(B325=\"\",0,IF(B325=B324,COUNTIF(B$9:B324,B325)+1,1))","v":313},0,0]
["318","-1900","-1900-314",null,null,null,null,null,null,null,null,null,null,null,null,null,null,null,null,null,null,{"$f":"IF(M$2021=1,\"\",IF(U326=\"\",\"\",VLOOKUP(U326,Tabelle!$D$5:$H$7,5,FALSE)))","v":""},{"$f":"IF(M$2021=1,\"\",IF(U326=\"\",\"\",VLOOKUP(U326,Tabelle!$D$5:$I$7,6,FALSE)))","v":""},null,null,null,null,null,null,null,null,null,null,null,{"$f":"IF(B326=\"\",0,IF(B326=B325,COUNTIF(B$9:B325,B326)+1,1))","v":314},0,0]
["319","-1900","-1900-315",null,null,null,null,null,null,null,null,null,null,null,null,null,null,null,null,null,null,{"$f":"IF(M$2021=1,\"\",IF(U327=\"\",\"\",VLOOKUP(U327,Tabelle!$D$5:$H$7,5,FALSE)))","v":""},{"$f":"IF(M$2021=1,\"\",IF(U327=\"\",\"\",VLOOKUP(U327,Tabelle!$D$5:$I$7,6,FALSE)))","v":""},null,null,null,null,null,null,null,null,null,null,null,{"$f":"IF(B327=\"\",0,IF(B327=B326,COUNTIF(B$9:B326,B327)+1,1))","v":315},0,0]
["320","-1900","-1900-316",null,null,null,null,null,null,null,null,null,null,null,null,null,null,null,null,null,null,{"$f":"IF(M$2021=1,\"\",IF(U328=\"\",\"\",VLOOKUP(U328,Tabelle!$D$5:$H$7,5,FALSE)))","v":""},{"$f":"IF(M$2021=1,\"\",IF(U328=\"\",\"\",VLOOKUP(U328,Tabelle!$D$5:$I$7,6,FALSE)))","v":""},null,null,null,null,null,null,null,null,null,null,null,{"$f":"IF(B328=\"\",0,IF(B328=B327,COUNTIF(B$9:B327,B328)+1,1))","v":316},0,0]
["321","-1900",{"$f":"IF(M$2021=1,0,B329&\"-\"&AI329)","v":"-1900-317"},null,null,null,null,null,null,null,null,null,null,null,null,null,null,null,null,null,null,{"$f":"IF(M$2021=1,\"\",IF(U329=\"\",\"\",VLOOKUP(U329,Tabelle!$D$5:$H$7,5,FALSE)))","v":""},{"$f":"IF(M$2021=1,\"\",IF(U329=\"\",\"\",VLOOKUP(U329,Tabelle!$D$5:$I$7,6,FALSE)))","v":""},null,null,null,null,null,null,null,null,null,null,null,{"$f":"IF(B329=\"\",0,IF(B329=B328,COUNTIF(B$9:B328,B329)+1,1))","v":317},0,0]
["322",{"$f":"IF(AK330=$AK$2015,0,IF(M$2021=1,0,D330&\"-\"&YEAR(E330)))","v":"-1900"},"-1900-318",null,null,null,null,null,null,null,null,null,null,null,null,null,null,null,null,null,null,{"$f":"IF(M$2021=1,\"\",IF(U330=\"\",\"\",VLOOKUP(U330,Tabelle!$D$5:$H$7,5,FALSE)))","v":""},{"$f":"IF(M$2021=1,\"\",IF(U330=\"\",\"\",VLOOKUP(U330,Tabelle!$D$5:$I$7,6,FALSE)))","v":""},null,null,null,null,null,null,null,null,null,null,null,{"$f":"IF(B330=\"\",0,IF(B330=B329,COUNTIF(B$9:B329,B330)+1,1))","v":318},{"$f":"IF(OR(D330=\"\",M$2021=1),0,IF(AI330=10,1,0))","v":0},{"$f":"IF(E330>0,IF(OR(MONTH(E330)<$J$2027,MONTH(E330)>$J$2028),AK$2015,0),0)","v":0}]
["323","-1900","-1900-319",null,null,null,null,null,null,null,null,null,null,null,null,null,null,null,null,null,null,{"$f":"IF(M$2021=1,\"\",IF(U331=\"\",\"\",VLOOKUP(U331,Tabelle!$D$5:$H$7,5,FALSE)))","v":""},{"$f":"IF(M$2021=1,\"\",IF(U331=\"\",\"\",VLOOKUP(U331,Tabelle!$D$5:$I$7,6,FALSE)))","v":""},null,null,null,null,null,null,null,null,null,null,null,{"$f":"IF(B331=\"\",0,IF(B331=B330,COUNTIF(B$9:B330,B331)+1,1))","v":319},0,0]
["324","-1900","-1900-320",null,null,null,null,null,null,null,null,null,null,null,null,null,null,null,null,null,null,{"$f":"IF(M$2021=1,\"\",IF(U332=\"\",\"\",VLOOKUP(U332,Tabelle!$D$5:$H$7,5,FALSE)))","v":""},{"$f":"IF(M$2021=1,\"\",IF(U332=\"\",\"\",VLOOKUP(U332,Tabelle!$D$5:$I$7,6,FALSE)))","v":""},null,null,null,null,null,null,null,null,null,null,null,{"$f":"IF(B332=\"\",0,IF(B332=B331,COUNTIF(B$9:B331,B332)+1,1))","v":320},0,0]
["325","-1900","-1900-321",null,null,null,null,null,null,null,null,null,null,null,null,null,null,null,null,null,null,{"$f":"IF(M$2021=1,\"\",IF(U333=\"\",\"\",VLOOKUP(U333,Tabelle!$D$5:$H$7,5,FALSE)))","v":""},{"$f":"IF(M$2021=1,\"\",IF(U333=\"\",\"\",VLOOKUP(U333,Tabelle!$D$5:$I$7,6,FALSE)))","v":""},null,null,null,null,null,null,null,null,null,null,null,{"$f":"IF(B333=\"\",0,IF(B333=B332,COUNTIF(B$9:B332,B333)+1,1))","v":321},0,0]
["326","-1900","-1900-322",null,null,null,null,null,null,null,null,null,null,null,null,null,null,null,null,null,null,{"$f":"IF(M$2021=1,\"\",IF(U334=\"\",\"\",VLOOKUP(U334,Tabelle!$D$5:$H$7,5,FALSE)))","v":""},{"$f":"IF(M$2021=1,\"\",IF(U334=\"\",\"\",VLOOKUP(U334,Tabelle!$D$5:$I$7,6,FALSE)))","v":""},null,null,null,null,null,null,null,null,null,null,null,{"$f":"IF(B334=\"\",0,IF(B334=B333,COUNTIF(B$9:B333,B334)+1,1))","v":322},0,0]
["327","-1900","-1900-323",null,null,null,null,null,null,null,null,null,null,null,null,null,null,null,null,null,null,{"$f":"IF(M$2021=1,\"\",IF(U335=\"\",\"\",VLOOKUP(U335,Tabelle!$D$5:$H$7,5,FALSE)))","v":""},{"$f":"IF(M$2021=1,\"\",IF(U335=\"\",\"\",VLOOKUP(U335,Tabelle!$D$5:$I$7,6,FALSE)))","v":""},null,null,null,null,null,null,null,null,null,null,null,{"$f":"IF(B335=\"\",0,IF(B335=B334,COUNTIF(B$9:B334,B335)+1,1))","v":323},0,0]
["328","-1900","-1900-324",null,null,null,null,null,null,null,null,null,null,null,null,null,null,null,null,null,null,{"$f":"IF(M$2021=1,\"\",IF(U336=\"\",\"\",VLOOKUP(U336,Tabelle!$D$5:$H$7,5,FALSE)))","v":""},{"$f":"IF(M$2021=1,\"\",IF(U336=\"\",\"\",VLOOKUP(U336,Tabelle!$D$5:$I$7,6,FALSE)))","v":""},null,null,null,null,null,null,null,null,null,null,null,{"$f":"IF(B336=\"\",0,IF(B336=B335,COUNTIF(B$9:B335,B336)+1,1))","v":324},0,0]
["329","-1900","-1900-325",null,null,null,null,null,null,null,null,null,null,null,null,null,null,null,null,null,null,{"$f":"IF(M$2021=1,\"\",IF(U337=\"\",\"\",VLOOKUP(U337,Tabelle!$D$5:$H$7,5,FALSE)))","v":""},{"$f":"IF(M$2021=1,\"\",IF(U337=\"\",\"\",VLOOKUP(U337,Tabelle!$D$5:$I$7,6,FALSE)))","v":""},null,null,null,null,null,null,null,null,null,null,null,{"$f":"IF(B337=\"\",0,IF(B337=B336,COUNTIF(B$9:B336,B337)+1,1))","v":325},0,0]
["330","-1900","-1900-326",null,null,null,null,null,null,null,null,null,null,null,null,null,null,null,null,null,null,{"$f":"IF(M$2021=1,\"\",IF(U338=\"\",\"\",VLOOKUP(U338,Tabelle!$D$5:$H$7,5,FALSE)))","v":""},{"$f":"IF(M$2021=1,\"\",IF(U338=\"\",\"\",VLOOKUP(U338,Tabelle!$D$5:$I$7,6,FALSE)))","v":""},null,null,null,null,null,null,null,null,null,null,null,{"$f":"IF(B338=\"\",0,IF(B338=B337,COUNTIF(B$9:B337,B338)+1,1))","v":326},0,0]
["331","-1900","-1900-327",null,null,null,null,null,null,null,null,null,null,null,null,null,null,null,null,null,null,{"$f":"IF(M$2021=1,\"\",IF(U339=\"\",\"\",VLOOKUP(U339,Tabelle!$D$5:$H$7,5,FALSE)))","v":""},{"$f":"IF(M$2021=1,\"\",IF(U339=\"\",\"\",VLOOKUP(U339,Tabelle!$D$5:$I$7,6,FALSE)))","v":""},null,null,null,null,null,null,null,null,null,null,null,{"$f":"IF(B339=\"\",0,IF(B339=B338,COUNTIF(B$9:B338,B339)+1,1))","v":327},0,0]
["332","-1900","-1900-328",null,null,null,null,null,null,null,null,null,null,null,null,null,null,null,null,null,null,{"$f":"IF(M$2021=1,\"\",IF(U340=\"\",\"\",VLOOKUP(U340,Tabelle!$D$5:$H$7,5,FALSE)))","v":""},{"$f":"IF(M$2021=1,\"\",IF(U340=\"\",\"\",VLOOKUP(U340,Tabelle!$D$5:$I$7,6,FALSE)))","v":""},null,null,null,null,null,null,null,null,null,null,null,{"$f":"IF(B340=\"\",0,IF(B340=B339,COUNTIF(B$9:B339,B340)+1,1))","v":328},0,0]
["333","-1900","-1900-329",null,null,null,null,null,null,null,null,null,null,null,null,null,null,null,null,null,null,{"$f":"IF(M$2021=1,\"\",IF(U341=\"\",\"\",VLOOKUP(U341,Tabelle!$D$5:$H$7,5,FALSE)))","v":""},{"$f":"IF(M$2021=1,\"\",IF(U341=\"\",\"\",VLOOKUP(U341,Tabelle!$D$5:$I$7,6,FALSE)))","v":""},null,null,null,null,null,null,null,null,null,null,null,{"$f":"IF(B341=\"\",0,IF(B341=B340,COUNTIF(B$9:B340,B341)+1,1))","v":329},0,0]
["334","-1900","-1900-330",null,null,null,null,null,null,null,null,null,null,null,null,null,null,null,null,null,null,{"$f":"IF(M$2021=1,\"\",IF(U342=\"\",\"\",VLOOKUP(U342,Tabelle!$D$5:$H$7,5,FALSE)))","v":""},{"$f":"IF(M$2021=1,\"\",IF(U342=\"\",\"\",VLOOKUP(U342,Tabelle!$D$5:$I$7,6,FALSE)))","v":""},null,null,null,null,null,null,null,null,null,null,null,{"$f":"IF(B342=\"\",0,IF(B342=B341,COUNTIF(B$9:B341,B342)+1,1))","v":330},0,0]
["335","-1900","-1900-331",null,null,null,null,null,null,null,null,null,null,null,null,null,null,null,null,null,null,{"$f":"IF(M$2021=1,\"\",IF(U343=\"\",\"\",VLOOKUP(U343,Tabelle!$D$5:$H$7,5,FALSE)))","v":""},{"$f":"IF(M$2021=1,\"\",IF(U343=\"\",\"\",VLOOKUP(U343,Tabelle!$D$5:$I$7,6,FALSE)))","v":""},null,null,null,null,null,null,null,null,null,null,null,{"$f":"IF(B343=\"\",0,IF(B343=B342,COUNTIF(B$9:B342,B343)+1,1))","v":331},0,0]
["336","-1900","-1900-332",null,null,null,null,null,null,null,null,null,null,null,null,null,null,null,null,null,null,{"$f":"IF(M$2021=1,\"\",IF(U344=\"\",\"\",VLOOKUP(U344,Tabelle!$D$5:$H$7,5,FALSE)))","v":""},{"$f":"IF(M$2021=1,\"\",IF(U344=\"\",\"\",VLOOKUP(U344,Tabelle!$D$5:$I$7,6,FALSE)))","v":""},null,null,null,null,null,null,null,null,null,null,null,{"$f":"IF(B344=\"\",0,IF(B344=B343,COUNTIF(B$9:B343,B344)+1,1))","v":332},0,0]
["337","-1900","-1900-333",null,null,null,null,null,null,null,null,null,null,null,null,null,null,null,null,null,null,{"$f":"IF(M$2021=1,\"\",IF(U345=\"\",\"\",VLOOKUP(U345,Tabelle!$D$5:$H$7,5,FALSE)))","v":""},{"$f":"IF(M$2021=1,\"\",IF(U345=\"\",\"\",VLOOKUP(U345,Tabelle!$D$5:$I$7,6,FALSE)))","v":""},null,null,null,null,null,null,null,null,null,null,null,{"$f":"IF(B345=\"\",0,IF(B345=B344,COUNTIF(B$9:B344,B345)+1,1))","v":333},0,0]
["338","-1900","-1900-334",null,null,null,null,null,null,null,null,null,null,null,null,null,null,null,null,null,null,{"$f":"IF(M$2021=1,\"\",IF(U346=\"\",\"\",VLOOKUP(U346,Tabelle!$D$5:$H$7,5,FALSE)))","v":""},{"$f":"IF(M$2021=1,\"\",IF(U346=\"\",\"\",VLOOKUP(U346,Tabelle!$D$5:$I$7,6,FALSE)))","v":""},null,null,null,null,null,null,null,null,null,null,null,{"$f":"IF(B346=\"\",0,IF(B346=B345,COUNTIF(B$9:B345,B346)+1,1))","v":334},0,0]
["339","-1900","-1900-335",null,null,null,null,null,null,null,null,null,null,null,null,null,null,null,null,null,null,{"$f":"IF(M$2021=1,\"\",IF(U347=\"\",\"\",VLOOKUP(U347,Tabelle!$D$5:$H$7,5,FALSE)))","v":""},{"$f":"IF(M$2021=1,\"\",IF(U347=\"\",\"\",VLOOKUP(U347,Tabelle!$D$5:$I$7,6,FALSE)))","v":""},null,null,null,null,null,null,null,null,null,null,null,{"$f":"IF(B347=\"\",0,IF(B347=B346,COUNTIF(B$9:B346,B347)+1,1))","v":335},0,0]
["340","-1900","-1900-336",null,null,null,null,null,null,null,null,null,null,null,null,null,null,null,null,null,null,{"$f":"IF(M$2021=1,\"\",IF(U348=\"\",\"\",VLOOKUP(U348,Tabelle!$D$5:$H$7,5,FALSE)))","v":""},{"$f":"IF(M$2021=1,\"\",IF(U348=\"\",\"\",VLOOKUP(U348,Tabelle!$D$5:$I$7,6,FALSE)))","v":""},null,null,null,null,null,null,null,null,null,null,null,{"$f":"IF(B348=\"\",0,IF(B348=B347,COUNTIF(B$9:B347,B348)+1,1))","v":336},0,0]
["341","-1900","-1900-337",null,null,null,null,null,null,null,null,null,null,null,null,null,null,null,null,null,null,{"$f":"IF(M$2021=1,\"\",IF(U349=\"\",\"\",VLOOKUP(U349,Tabelle!$D$5:$H$7,5,FALSE)))","v":""},{"$f":"IF(M$2021=1,\"\",IF(U349=\"\",\"\",VLOOKUP(U349,Tabelle!$D$5:$I$7,6,FALSE)))","v":""},null,null,null,null,null,null,null,null,null,null,null,{"$f":"IF(B349=\"\",0,IF(B349=B348,COUNTIF(B$9:B348,B349)+1,1))","v":337},0,0]
["342","-1900","-1900-338",null,null,null,null,null,null,null,null,null,null,null,null,null,null,null,null,null,null,{"$f":"IF(M$2021=1,\"\",IF(U350=\"\",\"\",VLOOKUP(U350,Tabelle!$D$5:$H$7,5,FALSE)))","v":""},{"$f":"IF(M$2021=1,\"\",IF(U350=\"\",\"\",VLOOKUP(U350,Tabelle!$D$5:$I$7,6,FALSE)))","v":""},null,null,null,null,null,null,null,null,null,null,null,{"$f":"IF(B350=\"\",0,IF(B350=B349,COUNTIF(B$9:B349,B350)+1,1))","v":338},0,0]
["343","-1900","-1900-339",null,null,null,null,null,null,null,null,null,null,null,null,null,null,null,null,null,null,{"$f":"IF(M$2021=1,\"\",IF(U351=\"\",\"\",VLOOKUP(U351,Tabelle!$D$5:$H$7,5,FALSE)))","v":""},{"$f":"IF(M$2021=1,\"\",IF(U351=\"\",\"\",VLOOKUP(U351,Tabelle!$D$5:$I$7,6,FALSE)))","v":""},null,null,null,null,null,null,null,null,null,null,null,{"$f":"IF(B351=\"\",0,IF(B351=B350,COUNTIF(B$9:B350,B351)+1,1))","v":339},0,0]
["344","-1900","-1900-340",null,null,null,null,null,null,null,null,null,null,null,null,null,null,null,null,null,null,{"$f":"IF(M$2021=1,\"\",IF(U352=\"\",\"\",VLOOKUP(U352,Tabelle!$D$5:$H$7,5,FALSE)))","v":""},{"$f":"IF(M$2021=1,\"\",IF(U352=\"\",\"\",VLOOKUP(U352,Tabelle!$D$5:$I$7,6,FALSE)))","v":""},null,null,null,null,null,null,null,null,null,null,null,{"$f":"IF(B352=\"\",0,IF(B352=B351,COUNTIF(B$9:B351,B352)+1,1))","v":340},0,0]
["345","-1900","-1900-341",null,null,null,null,null,null,null,null,null,null,null,null,null,null,null,null,null,null,{"$f":"IF(M$2021=1,\"\",IF(U353=\"\",\"\",VLOOKUP(U353,Tabelle!$D$5:$H$7,5,FALSE)))","v":""},{"$f":"IF(M$2021=1,\"\",IF(U353=\"\",\"\",VLOOKUP(U353,Tabelle!$D$5:$I$7,6,FALSE)))","v":""},null,null,null,null,null,null,null,null,null,null,null,{"$f":"IF(B353=\"\",0,IF(B353=B352,COUNTIF(B$9:B352,B353)+1,1))","v":341},0,0]
["346","-1900","-1900-342",null,null,null,null,null,null,null,null,null,null,null,null,null,null,null,null,null,null,{"$f":"IF(M$2021=1,\"\",IF(U354=\"\",\"\",VLOOKUP(U354,Tabelle!$D$5:$H$7,5,FALSE)))","v":""},{"$f":"IF(M$2021=1,\"\",IF(U354=\"\",\"\",VLOOKUP(U354,Tabelle!$D$5:$I$7,6,FALSE)))","v":""},null,null,null,null,null,null,null,null,null,null,null,{"$f":"IF(B354=\"\",0,IF(B354=B353,COUNTIF(B$9:B353,B354)+1,1))","v":342},0,0]
["347","-1900","-1900-343",null,null,null,null,null,null,null,null,null,null,null,null,null,null,null,null,null,null,{"$f":"IF(M$2021=1,\"\",IF(U355=\"\",\"\",VLOOKUP(U355,Tabelle!$D$5:$H$7,5,FALSE)))","v":""},{"$f":"IF(M$2021=1,\"\",IF(U355=\"\",\"\",VLOOKUP(U355,Tabelle!$D$5:$I$7,6,FALSE)))","v":""},null,null,null,null,null,null,null,null,null,null,null,{"$f":"IF(B355=\"\",0,IF(B355=B354,COUNTIF(B$9:B354,B355)+1,1))","v":343},0,0]
["348","-1900","-1900-344",null,null,null,null,null,null,null,null,null,null,null,null,null,null,null,null,null,null,{"$f":"IF(M$2021=1,\"\",IF(U356=\"\",\"\",VLOOKUP(U356,Tabelle!$D$5:$H$7,5,FALSE)))","v":""},{"$f":"IF(M$2021=1,\"\",IF(U356=\"\",\"\",VLOOKUP(U356,Tabelle!$D$5:$I$7,6,FALSE)))","v":""},null,null,null,null,null,null,null,null,null,null,null,{"$f":"IF(B356=\"\",0,IF(B356=B355,COUNTIF(B$9:B355,B356)+1,1))","v":344},0,0]
["349","-1900","-1900-345",null,null,null,null,null,null,null,null,null,null,null,null,null,null,null,null,null,null,{"$f":"IF(M$2021=1,\"\",IF(U357=\"\",\"\",VLOOKUP(U357,Tabelle!$D$5:$H$7,5,FALSE)))","v":""},{"$f":"IF(M$2021=1,\"\",IF(U357=\"\",\"\",VLOOKUP(U357,Tabelle!$D$5:$I$7,6,FALSE)))","v":""},null,null,null,null,null,null,null,null,null,null,null,{"$f":"IF(B357=\"\",0,IF(B357=B356,COUNTIF(B$9:B356,B357)+1,1))","v":345},0,0]
["350","-1900","-1900-346",null,null,null,null,null,null,null,null,null,null,null,null,null,null,null,null,null,null,{"$f":"IF(M$2021=1,\"\",IF(U358=\"\",\"\",VLOOKUP(U358,Tabelle!$D$5:$H$7,5,FALSE)))","v":""},{"$f":"IF(M$2021=1,\"\",IF(U358=\"\",\"\",VLOOKUP(U358,Tabelle!$D$5:$I$7,6,FALSE)))","v":""},null,null,null,null,null,null,null,null,null,null,null,{"$f":"IF(B358=\"\",0,IF(B358=B357,COUNTIF(B$9:B357,B358)+1,1))","v":346},0,0]
["351","-1900","-1900-347",null,null,null,null,null,null,null,null,null,null,null,null,null,null,null,null,null,null,{"$f":"IF(M$2021=1,\"\",IF(U359=\"\",\"\",VLOOKUP(U359,Tabelle!$D$5:$H$7,5,FALSE)))","v":""},{"$f":"IF(M$2021=1,\"\",IF(U359=\"\",\"\",VLOOKUP(U359,Tabelle!$D$5:$I$7,6,FALSE)))","v":""},null,null,null,null,null,null,null,null,null,null,null,{"$f":"IF(B359=\"\",0,IF(B359=B358,COUNTIF(B$9:B358,B359)+1,1))","v":347},0,0]
["352","-1900","-1900-348",null,null,null,null,null,null,null,null,null,null,null,null,null,null,null,null,null,null,{"$f":"IF(M$2021=1,\"\",IF(U360=\"\",\"\",VLOOKUP(U360,Tabelle!$D$5:$H$7,5,FALSE)))","v":""},{"$f":"IF(M$2021=1,\"\",IF(U360=\"\",\"\",VLOOKUP(U360,Tabelle!$D$5:$I$7,6,FALSE)))","v":""},null,null,null,null,null,null,null,null,null,null,null,{"$f":"IF(B360=\"\",0,IF(B360=B359,COUNTIF(B$9:B359,B360)+1,1))","v":348},0,0]
["353","-1900","-1900-349",null,null,null,null,null,null,null,null,null,null,null,null,null,null,null,null,null,null,{"$f":"IF(M$2021=1,\"\",IF(U361=\"\",\"\",VLOOKUP(U361,Tabelle!$D$5:$H$7,5,FALSE)))","v":""},{"$f":"IF(M$2021=1,\"\",IF(U361=\"\",\"\",VLOOKUP(U361,Tabelle!$D$5:$I$7,6,FALSE)))","v":""},null,null,null,null,null,null,null,null,null,null,null,{"$f":"IF(B361=\"\",0,IF(B361=B360,COUNTIF(B$9:B360,B361)+1,1))","v":349},0,0]
["354","-1900","-1900-350",null,null,null,null,null,null,null,null,null,null,null,null,null,null,null,null,null,null,{"$f":"IF(M$2021=1,\"\",IF(U362=\"\",\"\",VLOOKUP(U362,Tabelle!$D$5:$H$7,5,FALSE)))","v":""},{"$f":"IF(M$2021=1,\"\",IF(U362=\"\",\"\",VLOOKUP(U362,Tabelle!$D$5:$I$7,6,FALSE)))","v":""},null,null,null,null,null,null,null,null,null,null,null,{"$f":"IF(B362=\"\",0,IF(B362=B361,COUNTIF(B$9:B361,B362)+1,1))","v":350},0,0]
["355","-1900","-1900-351",null,null,null,null,null,null,null,null,null,null,null,null,null,null,null,null,null,null,{"$f":"IF(M$2021=1,\"\",IF(U363=\"\",\"\",VLOOKUP(U363,Tabelle!$D$5:$H$7,5,FALSE)))","v":""},{"$f":"IF(M$2021=1,\"\",IF(U363=\"\",\"\",VLOOKUP(U363,Tabelle!$D$5:$I$7,6,FALSE)))","v":""},null,null,null,null,null,null,null,null,null,null,null,{"$f":"IF(B363=\"\",0,IF(B363=B362,COUNTIF(B$9:B362,B363)+1,1))","v":351},0,0]
["356","-1900","-1900-352",null,null,null,null,null,null,null,null,null,null,null,null,null,null,null,null,null,null,{"$f":"IF(M$2021=1,\"\",IF(U364=\"\",\"\",VLOOKUP(U364,Tabelle!$D$5:$H$7,5,FALSE)))","v":""},{"$f":"IF(M$2021=1,\"\",IF(U364=\"\",\"\",VLOOKUP(U364,Tabelle!$D$5:$I$7,6,FALSE)))","v":""},null,null,null,null,null,null,null,null,null,null,null,{"$f":"IF(B364=\"\",0,IF(B364=B363,COUNTIF(B$9:B363,B364)+1,1))","v":352},0,0]
["357","-1900","-1900-353",null,null,null,null,null,null,null,null,null,null,null,null,null,null,null,null,null,null,{"$f":"IF(M$2021=1,\"\",IF(U365=\"\",\"\",VLOOKUP(U365,Tabelle!$D$5:$H$7,5,FALSE)))","v":""},{"$f":"IF(M$2021=1,\"\",IF(U365=\"\",\"\",VLOOKUP(U365,Tabelle!$D$5:$I$7,6,FALSE)))","v":""},null,null,null,null,null,null,null,null,null,null,null,{"$f":"IF(B365=\"\",0,IF(B365=B364,COUNTIF(B$9:B364,B365)+1,1))","v":353},0,0]
["358","-1900","-1900-354",null,null,null,null,null,null,null,null,null,null,null,null,null,null,null,null,null,null,{"$f":"IF(M$2021=1,\"\",IF(U366=\"\",\"\",VLOOKUP(U366,Tabelle!$D$5:$H$7,5,FALSE)))","v":""},{"$f":"IF(M$2021=1,\"\",IF(U366=\"\",\"\",VLOOKUP(U366,Tabelle!$D$5:$I$7,6,FALSE)))","v":""},null,null,null,null,null,null,null,null,null,null,null,{"$f":"IF(B366=\"\",0,IF(B366=B365,COUNTIF(B$9:B365,B366)+1,1))","v":354},0,0]
["359","-1900","-1900-355",null,null,null,null,null,null,null,null,null,null,null,null,null,null,null,null,null,null,{"$f":"IF(M$2021=1,\"\",IF(U367=\"\",\"\",VLOOKUP(U367,Tabelle!$D$5:$H$7,5,FALSE)))","v":""},{"$f":"IF(M$2021=1,\"\",IF(U367=\"\",\"\",VLOOKUP(U367,Tabelle!$D$5:$I$7,6,FALSE)))","v":""},null,null,null,null,null,null,null,null,null,null,null,{"$f":"IF(B367=\"\",0,IF(B367=B366,COUNTIF(B$9:B366,B367)+1,1))","v":355},0,0]
["360","-1900","-1900-356",null,null,null,null,null,null,null,null,null,null,null,null,null,null,null,null,null,null,{"$f":"IF(M$2021=1,\"\",IF(U368=\"\",\"\",VLOOKUP(U368,Tabelle!$D$5:$H$7,5,FALSE)))","v":""},{"$f":"IF(M$2021=1,\"\",IF(U368=\"\",\"\",VLOOKUP(U368,Tabelle!$D$5:$I$7,6,FALSE)))","v":""},null,null,null,null,null,null,null,null,null,null,null,{"$f":"IF(B368=\"\",0,IF(B368=B367,COUNTIF(B$9:B367,B368)+1,1))","v":356},0,0]
["361","-1900","-1900-357",null,null,null,null,null,null,null,null,null,null,null,null,null,null,null,null,null,null,{"$f":"IF(M$2021=1,\"\",IF(U369=\"\",\"\",VLOOKUP(U369,Tabelle!$D$5:$H$7,5,FALSE)))","v":""},{"$f":"IF(M$2021=1,\"\",IF(U369=\"\",\"\",VLOOKUP(U369,Tabelle!$D$5:$I$7,6,FALSE)))","v":""},null,null,null,null,null,null,null,null,null,null,null,{"$f":"IF(B369=\"\",0,IF(B369=B368,COUNTIF(B$9:B368,B369)+1,1))","v":357},0,0]
["362","-1900","-1900-358",null,null,null,null,null,null,null,null,null,null,null,null,null,null,null,null,null,null,{"$f":"IF(M$2021=1,\"\",IF(U370=\"\",\"\",VLOOKUP(U370,Tabelle!$D$5:$H$7,5,FALSE)))","v":""},{"$f":"IF(M$2021=1,\"\",IF(U370=\"\",\"\",VLOOKUP(U370,Tabelle!$D$5:$I$7,6,FALSE)))","v":""},null,null,null,null,null,null,null,null,null,null,null,{"$f":"IF(B370=\"\",0,IF(B370=B369,COUNTIF(B$9:B369,B370)+1,1))","v":358},0,0]
["363","-1900","-1900-359",null,null,null,null,null,null,null,null,null,null,null,null,null,null,null,null,null,null,{"$f":"IF(M$2021=1,\"\",IF(U371=\"\",\"\",VLOOKUP(U371,Tabelle!$D$5:$H$7,5,FALSE)))","v":""},{"$f":"IF(M$2021=1,\"\",IF(U371=\"\",\"\",VLOOKUP(U371,Tabelle!$D$5:$I$7,6,FALSE)))","v":""},null,null,null,null,null,null,null,null,null,null,null,{"$f":"IF(B371=\"\",0,IF(B371=B370,COUNTIF(B$9:B370,B371)+1,1))","v":359},0,0]
["364","-1900","-1900-360",null,null,null,null,null,null,null,null,null,null,null,null,null,null,null,null,null,null,{"$f":"IF(M$2021=1,\"\",IF(U372=\"\",\"\",VLOOKUP(U372,Tabelle!$D$5:$H$7,5,FALSE)))","v":""},{"$f":"IF(M$2021=1,\"\",IF(U372=\"\",\"\",VLOOKUP(U372,Tabelle!$D$5:$I$7,6,FALSE)))","v":""},null,null,null,null,null,null,null,null,null,null,null,{"$f":"IF(B372=\"\",0,IF(B372=B371,COUNTIF(B$9:B371,B372)+1,1))","v":360},0,0]
["365","-1900","-1900-361",null,null,null,null,null,null,null,null,null,null,null,null,null,null,null,null,null,null,{"$f":"IF(M$2021=1,\"\",IF(U373=\"\",\"\",VLOOKUP(U373,Tabelle!$D$5:$H$7,5,FALSE)))","v":""},{"$f":"IF(M$2021=1,\"\",IF(U373=\"\",\"\",VLOOKUP(U373,Tabelle!$D$5:$I$7,6,FALSE)))","v":""},null,null,null,null,null,null,null,null,null,null,null,{"$f":"IF(B373=\"\",0,IF(B373=B372,COUNTIF(B$9:B372,B373)+1,1))","v":361},0,0]
["366","-1900","-1900-362",null,null,null,null,null,null,null,null,null,null,null,null,null,null,null,null,null,null,{"$f":"IF(M$2021=1,\"\",IF(U374=\"\",\"\",VLOOKUP(U374,Tabelle!$D$5:$H$7,5,FALSE)))","v":""},{"$f":"IF(M$2021=1,\"\",IF(U374=\"\",\"\",VLOOKUP(U374,Tabelle!$D$5:$I$7,6,FALSE)))","v":""},null,null,null,null,null,null,null,null,null,null,null,{"$f":"IF(B374=\"\",0,IF(B374=B373,COUNTIF(B$9:B373,B374)+1,1))","v":362},0,0]
["367","-1900","-1900-363",null,null,null,null,null,null,null,null,null,null,null,null,null,null,null,null,null,null,{"$f":"IF(M$2021=1,\"\",IF(U375=\"\",\"\",VLOOKUP(U375,Tabelle!$D$5:$H$7,5,FALSE)))","v":""},{"$f":"IF(M$2021=1,\"\",IF(U375=\"\",\"\",VLOOKUP(U375,Tabelle!$D$5:$I$7,6,FALSE)))","v":""},null,null,null,null,null,null,null,null,null,null,null,{"$f":"IF(B375=\"\",0,IF(B375=B374,COUNTIF(B$9:B374,B375)+1,1))","v":363},0,0]
["368","-1900","-1900-364",null,null,null,null,null,null,null,null,null,null,null,null,null,null,null,null,null,null,{"$f":"IF(M$2021=1,\"\",IF(U376=\"\",\"\",VLOOKUP(U376,Tabelle!$D$5:$H$7,5,FALSE)))","v":""},{"$f":"IF(M$2021=1,\"\",IF(U376=\"\",\"\",VLOOKUP(U376,Tabelle!$D$5:$I$7,6,FALSE)))","v":""},null,null,null,null,null,null,null,null,null,null,null,{"$f":"IF(B376=\"\",0,IF(B376=B375,COUNTIF(B$9:B375,B376)+1,1))","v":364},0,0]
["369","-1900","-1900-365",null,null,null,null,null,null,null,null,null,null,null,null,null,null,null,null,null,null,{"$f":"IF(M$2021=1,\"\",IF(U377=\"\",\"\",VLOOKUP(U377,Tabelle!$D$5:$H$7,5,FALSE)))","v":""},{"$f":"IF(M$2021=1,\"\",IF(U377=\"\",\"\",VLOOKUP(U377,Tabelle!$D$5:$I$7,6,FALSE)))","v":""},null,null,null,null,null,null,null,null,null,null,null,{"$f":"IF(B377=\"\",0,IF(B377=B376,COUNTIF(B$9:B376,B377)+1,1))","v":365},0,0]
["370","-1900","-1900-366",null,null,null,null,null,null,null,null,null,null,null,null,null,null,null,null,null,null,{"$f":"IF(M$2021=1,\"\",IF(U378=\"\",\"\",VLOOKUP(U378,Tabelle!$D$5:$H$7,5,FALSE)))","v":""},{"$f":"IF(M$2021=1,\"\",IF(U378=\"\",\"\",VLOOKUP(U378,Tabelle!$D$5:$I$7,6,FALSE)))","v":""},null,null,null,null,null,null,null,null,null,null,null,{"$f":"IF(B378=\"\",0,IF(B378=B377,COUNTIF(B$9:B377,B378)+1,1))","v":366},0,0]
["371","-1900","-1900-367",null,null,null,null,null,null,null,null,null,null,null,null,null,null,null,null,null,null,{"$f":"IF(M$2021=1,\"\",IF(U379=\"\",\"\",VLOOKUP(U379,Tabelle!$D$5:$H$7,5,FALSE)))","v":""},{"$f":"IF(M$2021=1,\"\",IF(U379=\"\",\"\",VLOOKUP(U379,Tabelle!$D$5:$I$7,6,FALSE)))","v":""},null,null,null,null,null,null,null,null,null,null,null,{"$f":"IF(B379=\"\",0,IF(B379=B378,COUNTIF(B$9:B378,B379)+1,1))","v":367},0,0]
["372","-1900","-1900-368",null,null,null,null,null,null,null,null,null,null,null,null,null,null,null,null,null,null,{"$f":"IF(M$2021=1,\"\",IF(U380=\"\",\"\",VLOOKUP(U380,Tabelle!$D$5:$H$7,5,FALSE)))","v":""},{"$f":"IF(M$2021=1,\"\",IF(U380=\"\",\"\",VLOOKUP(U380,Tabelle!$D$5:$I$7,6,FALSE)))","v":""},null,null,null,null,null,null,null,null,null,null,null,{"$f":"IF(B380=\"\",0,IF(B380=B379,COUNTIF(B$9:B379,B380)+1,1))","v":368},0,0]
["373","-1900","-1900-369",null,null,null,null,null,null,null,null,null,null,null,null,null,null,null,null,null,null,{"$f":"IF(M$2021=1,\"\",IF(U381=\"\",\"\",VLOOKUP(U381,Tabelle!$D$5:$H$7,5,FALSE)))","v":""},{"$f":"IF(M$2021=1,\"\",IF(U381=\"\",\"\",VLOOKUP(U381,Tabelle!$D$5:$I$7,6,FALSE)))","v":""},null,null,null,null,null,null,null,null,null,null,null,{"$f":"IF(B381=\"\",0,IF(B381=B380,COUNTIF(B$9:B380,B381)+1,1))","v":369},0,0]
["374","-1900","-1900-370",null,null,null,null,null,null,null,null,null,null,null,null,null,null,null,null,null,null,{"$f":"IF(M$2021=1,\"\",IF(U382=\"\",\"\",VLOOKUP(U382,Tabelle!$D$5:$H$7,5,FALSE)))","v":""},{"$f":"IF(M$2021=1,\"\",IF(U382=\"\",\"\",VLOOKUP(U382,Tabelle!$D$5:$I$7,6,FALSE)))","v":""},null,null,null,null,null,null,null,null,null,null,null,{"$f":"IF(B382=\"\",0,IF(B382=B381,COUNTIF(B$9:B381,B382)+1,1))","v":370},0,0]
["375","-1900","-1900-371",null,null,null,null,null,null,null,null,null,null,null,null,null,null,null,null,null,null,{"$f":"IF(M$2021=1,\"\",IF(U383=\"\",\"\",VLOOKUP(U383,Tabelle!$D$5:$H$7,5,FALSE)))","v":""},{"$f":"IF(M$2021=1,\"\",IF(U383=\"\",\"\",VLOOKUP(U383,Tabelle!$D$5:$I$7,6,FALSE)))","v":""},null,null,null,null,null,null,null,null,null,null,null,{"$f":"IF(B383=\"\",0,IF(B383=B382,COUNTIF(B$9:B382,B383)+1,1))","v":371},0,0]
["376","-1900","-1900-372",null,null,null,null,null,null,null,null,null,null,null,null,null,null,null,null,null,null,{"$f":"IF(M$2021=1,\"\",IF(U384=\"\",\"\",VLOOKUP(U384,Tabelle!$D$5:$H$7,5,FALSE)))","v":""},{"$f":"IF(M$2021=1,\"\",IF(U384=\"\",\"\",VLOOKUP(U384,Tabelle!$D$5:$I$7,6,FALSE)))","v":""},null,null,null,null,null,null,null,null,null,null,null,{"$f":"IF(B384=\"\",0,IF(B384=B383,COUNTIF(B$9:B383,B384)+1,1))","v":372},0,0]
["377","-1900","-1900-373",null,null,null,null,null,null,null,null,null,null,null,null,null,null,null,null,null,null,{"$f":"IF(M$2021=1,\"\",IF(U385=\"\",\"\",VLOOKUP(U385,Tabelle!$D$5:$H$7,5,FALSE)))","v":""},{"$f":"IF(M$2021=1,\"\",IF(U385=\"\",\"\",VLOOKUP(U385,Tabelle!$D$5:$I$7,6,FALSE)))","v":""},null,null,null,null,null,null,null,null,null,null,null,{"$f":"IF(B385=\"\",0,IF(B385=B384,COUNTIF(B$9:B384,B385)+1,1))","v":373},0,0]
["378","-1900","-1900-374",null,null,null,null,null,null,null,null,null,null,null,null,null,null,null,null,null,null,{"$f":"IF(M$2021=1,\"\",IF(U386=\"\",\"\",VLOOKUP(U386,Tabelle!$D$5:$H$7,5,FALSE)))","v":""},{"$f":"IF(M$2021=1,\"\",IF(U386=\"\",\"\",VLOOKUP(U386,Tabelle!$D$5:$I$7,6,FALSE)))","v":""},null,null,null,null,null,null,null,null,null,null,null,{"$f":"IF(B386=\"\",0,IF(B386=B385,COUNTIF(B$9:B385,B386)+1,1))","v":374},0,0]
["379","-1900","-1900-375",null,null,null,null,null,null,null,null,null,null,null,null,null,null,null,null,null,null,{"$f":"IF(M$2021=1,\"\",IF(U387=\"\",\"\",VLOOKUP(U387,Tabelle!$D$5:$H$7,5,FALSE)))","v":""},{"$f":"IF(M$2021=1,\"\",IF(U387=\"\",\"\",VLOOKUP(U387,Tabelle!$D$5:$I$7,6,FALSE)))","v":""},null,null,null,null,null,null,null,null,null,null,null,{"$f":"IF(B387=\"\",0,IF(B387=B386,COUNTIF(B$9:B386,B387)+1,1))","v":375},0,0]
["380","-1900","-1900-376",null,null,null,null,null,null,null,null,null,null,null,null,null,null,null,null,null,null,{"$f":"IF(M$2021=1,\"\",IF(U388=\"\",\"\",VLOOKUP(U388,Tabelle!$D$5:$H$7,5,FALSE)))","v":""},{"$f":"IF(M$2021=1,\"\",IF(U388=\"\",\"\",VLOOKUP(U388,Tabelle!$D$5:$I$7,6,FALSE)))","v":""},null,null,null,null,null,null,null,null,null,null,null,{"$f":"IF(B388=\"\",0,IF(B388=B387,COUNTIF(B$9:B387,B388)+1,1))","v":376},0,0]
["381","-1900","-1900-377",null,null,null,null,null,null,null,null,null,null,null,null,null,null,null,null,null,null,{"$f":"IF(M$2021=1,\"\",IF(U389=\"\",\"\",VLOOKUP(U389,Tabelle!$D$5:$H$7,5,FALSE)))","v":""},{"$f":"IF(M$2021=1,\"\",IF(U389=\"\",\"\",VLOOKUP(U389,Tabelle!$D$5:$I$7,6,FALSE)))","v":""},null,null,null,null,null,null,null,null,null,null,null,{"$f":"IF(B389=\"\",0,IF(B389=B388,COUNTIF(B$9:B388,B389)+1,1))","v":377},0,0]
["382","-1900","-1900-378",null,null,null,null,null,null,null,null,null,null,null,null,null,null,null,null,null,null,{"$f":"IF(M$2021=1,\"\",IF(U390=\"\",\"\",VLOOKUP(U390,Tabelle!$D$5:$H$7,5,FALSE)))","v":""},{"$f":"IF(M$2021=1,\"\",IF(U390=\"\",\"\",VLOOKUP(U390,Tabelle!$D$5:$I$7,6,FALSE)))","v":""},null,null,null,null,null,null,null,null,null,null,null,{"$f":"IF(B390=\"\",0,IF(B390=B389,COUNTIF(B$9:B389,B390)+1,1))","v":378},0,0]
["383","-1900","-1900-379",null,null,null,null,null,null,null,null,null,null,null,null,null,null,null,null,null,null,{"$f":"IF(M$2021=1,\"\",IF(U391=\"\",\"\",VLOOKUP(U391,Tabelle!$D$5:$H$7,5,FALSE)))","v":""},{"$f":"IF(M$2021=1,\"\",IF(U391=\"\",\"\",VLOOKUP(U391,Tabelle!$D$5:$I$7,6,FALSE)))","v":""},null,null,null,null,null,null,null,null,null,null,null,{"$f":"IF(B391=\"\",0,IF(B391=B390,COUNTIF(B$9:B390,B391)+1,1))","v":379},0,0]
["384","-1900","-1900-380",null,null,null,null,null,null,null,null,null,null,null,null,null,null,null,null,null,null,{"$f":"IF(M$2021=1,\"\",IF(U392=\"\",\"\",VLOOKUP(U392,Tabelle!$D$5:$H$7,5,FALSE)))","v":""},{"$f":"IF(M$2021=1,\"\",IF(U392=\"\",\"\",VLOOKUP(U392,Tabelle!$D$5:$I$7,6,FALSE)))","v":""},null,null,null,null,null,null,null,null,null,null,null,{"$f":"IF(B392=\"\",0,IF(B392=B391,COUNTIF(B$9:B391,B392)+1,1))","v":380},0,0]
["385","-1900",{"$f":"IF(M$2021=1,0,B393&\"-\"&AI393)","v":"-1900-381"},null,null,null,null,null,null,null,null,null,null,null,null,null,null,null,null,null,null,{"$f":"IF(M$2021=1,\"\",IF(U393=\"\",\"\",VLOOKUP(U393,Tabelle!$D$5:$H$7,5,FALSE)))","v":""},{"$f":"IF(M$2021=1,\"\",IF(U393=\"\",\"\",VLOOKUP(U393,Tabelle!$D$5:$I$7,6,FALSE)))","v":""},null,null,null,null,null,null,null,null,null,null,null,{"$f":"IF(B393=\"\",0,IF(B393=B392,COUNTIF(B$9:B392,B393)+1,1))","v":381},0,0]
["386",{"$f":"IF(AK394=$AK$2015,0,IF(M$2021=1,0,D394&\"-\"&YEAR(E394)))","v":"-1900"},"-1900-382",null,null,null,null,null,null,null,null,null,null,null,null,null,null,null,null,null,null,{"$f":"IF(M$2021=1,\"\",IF(U394=\"\",\"\",VLOOKUP(U394,Tabelle!$D$5:$H$7,5,FALSE)))","v":""},{"$f":"IF(M$2021=1,\"\",IF(U394=\"\",\"\",VLOOKUP(U394,Tabelle!$D$5:$I$7,6,FALSE)))","v":""},null,null,null,null,null,null,null,null,null,null,null,{"$f":"IF(B394=\"\",0,IF(B394=B393,COUNTIF(B$9:B393,B394)+1,1))","v":382},{"$f":"IF(OR(D394=\"\",M$2021=1),0,IF(AI394=10,1,0))","v":0},{"$f":"IF(E394>0,IF(OR(MONTH(E394)<$J$2027,MONTH(E394)>$J$2028),AK$2015,0),0)","v":0}]
["387","-1900","-1900-383",null,null,null,null,null,null,null,null,null,null,null,null,null,null,null,null,null,null,{"$f":"IF(M$2021=1,\"\",IF(U395=\"\",\"\",VLOOKUP(U395,Tabelle!$D$5:$H$7,5,FALSE)))","v":""},{"$f":"IF(M$2021=1,\"\",IF(U395=\"\",\"\",VLOOKUP(U395,Tabelle!$D$5:$I$7,6,FALSE)))","v":""},null,null,null,null,null,null,null,null,null,null,null,{"$f":"IF(B395=\"\",0,IF(B395=B394,COUNTIF(B$9:B394,B395)+1,1))","v":383},0,0]
["388","-1900","-1900-384",null,null,null,null,null,null,null,null,null,null,null,null,null,null,null,null,null,null,{"$f":"IF(M$2021=1,\"\",IF(U396=\"\",\"\",VLOOKUP(U396,Tabelle!$D$5:$H$7,5,FALSE)))","v":""},{"$f":"IF(M$2021=1,\"\",IF(U396=\"\",\"\",VLOOKUP(U396,Tabelle!$D$5:$I$7,6,FALSE)))","v":""},null,null,null,null,null,null,null,null,null,null,null,{"$f":"IF(B396=\"\",0,IF(B396=B395,COUNTIF(B$9:B395,B396)+1,1))","v":384},0,0]
["389","-1900","-1900-385",null,null,null,null,null,null,null,null,null,null,null,null,null,null,null,null,null,null,{"$f":"IF(M$2021=1,\"\",IF(U397=\"\",\"\",VLOOKUP(U397,Tabelle!$D$5:$H$7,5,FALSE)))","v":""},{"$f":"IF(M$2021=1,\"\",IF(U397=\"\",\"\",VLOOKUP(U397,Tabelle!$D$5:$I$7,6,FALSE)))","v":""},null,null,null,null,null,null,null,null,null,null,null,{"$f":"IF(B397=\"\",0,IF(B397=B396,COUNTIF(B$9:B396,B397)+1,1))","v":385},0,0]
["390","-1900","-1900-386",null,null,null,null,null,null,null,null,null,null,null,null,null,null,null,null,null,null,{"$f":"IF(M$2021=1,\"\",IF(U398=\"\",\"\",VLOOKUP(U398,Tabelle!$D$5:$H$7,5,FALSE)))","v":""},{"$f":"IF(M$2021=1,\"\",IF(U398=\"\",\"\",VLOOKUP(U398,Tabelle!$D$5:$I$7,6,FALSE)))","v":""},null,null,null,null,null,null,null,null,null,null,null,{"$f":"IF(B398=\"\",0,IF(B398=B397,COUNTIF(B$9:B397,B398)+1,1))","v":386},0,0]
["391","-1900","-1900-387",null,null,null,null,null,null,null,null,null,null,null,null,null,null,null,null,null,null,{"$f":"IF(M$2021=1,\"\",IF(U399=\"\",\"\",VLOOKUP(U399,Tabelle!$D$5:$H$7,5,FALSE)))","v":""},{"$f":"IF(M$2021=1,\"\",IF(U399=\"\",\"\",VLOOKUP(U399,Tabelle!$D$5:$I$7,6,FALSE)))","v":""},null,null,null,null,null,null,null,null,null,null,null,{"$f":"IF(B399=\"\",0,IF(B399=B398,COUNTIF(B$9:B398,B399)+1,1))","v":387},0,0]
["392","-1900","-1900-388",null,null,null,null,null,null,null,null,null,null,null,null,null,null,null,null,null,null,{"$f":"IF(M$2021=1,\"\",IF(U400=\"\",\"\",VLOOKUP(U400,Tabelle!$D$5:$H$7,5,FALSE)))","v":""},{"$f":"IF(M$2021=1,\"\",IF(U400=\"\",\"\",VLOOKUP(U400,Tabelle!$D$5:$I$7,6,FALSE)))","v":""},null,null,null,null,null,null,null,null,null,null,null,{"$f":"IF(B400=\"\",0,IF(B400=B399,COUNTIF(B$9:B399,B400)+1,1))","v":388},0,0]
["393","-1900","-1900-389",null,null,null,null,null,null,null,null,null,null,null,null,null,null,null,null,null,null,{"$f":"IF(M$2021=1,\"\",IF(U401=\"\",\"\",VLOOKUP(U401,Tabelle!$D$5:$H$7,5,FALSE)))","v":""},{"$f":"IF(M$2021=1,\"\",IF(U401=\"\",\"\",VLOOKUP(U401,Tabelle!$D$5:$I$7,6,FALSE)))","v":""},null,null,null,null,null,null,null,null,null,null,null,{"$f":"IF(B401=\"\",0,IF(B401=B400,COUNTIF(B$9:B400,B401)+1,1))","v":389},0,0]
["394","-1900","-1900-390",null,null,null,null,null,null,null,null,null,null,null,null,null,null,null,null,null,null,{"$f":"IF(M$2021=1,\"\",IF(U402=\"\",\"\",VLOOKUP(U402,Tabelle!$D$5:$H$7,5,FALSE)))","v":""},{"$f":"IF(M$2021=1,\"\",IF(U402=\"\",\"\",VLOOKUP(U402,Tabelle!$D$5:$I$7,6,FALSE)))","v":""},null,null,null,null,null,null,null,null,null,null,null,{"$f":"IF(B402=\"\",0,IF(B402=B401,COUNTIF(B$9:B401,B402)+1,1))","v":390},0,0]
["395","-1900","-1900-391",null,null,null,null,null,null,null,null,null,null,null,null,null,null,null,null,null,null,{"$f":"IF(M$2021=1,\"\",IF(U403=\"\",\"\",VLOOKUP(U403,Tabelle!$D$5:$H$7,5,FALSE)))","v":""},{"$f":"IF(M$2021=1,\"\",IF(U403=\"\",\"\",VLOOKUP(U403,Tabelle!$D$5:$I$7,6,FALSE)))","v":""},null,null,null,null,null,null,null,null,null,null,null,{"$f":"IF(B403=\"\",0,IF(B403=B402,COUNTIF(B$9:B402,B403)+1,1))","v":391},0,0]
["396","-1900","-1900-392",null,null,null,null,null,null,null,null,null,null,null,null,null,null,null,null,null,null,{"$f":"IF(M$2021=1,\"\",IF(U404=\"\",\"\",VLOOKUP(U404,Tabelle!$D$5:$H$7,5,FALSE)))","v":""},{"$f":"IF(M$2021=1,\"\",IF(U404=\"\",\"\",VLOOKUP(U404,Tabelle!$D$5:$I$7,6,FALSE)))","v":""},null,null,null,null,null,null,null,null,null,null,null,{"$f":"IF(B404=\"\",0,IF(B404=B403,COUNTIF(B$9:B403,B404)+1,1))","v":392},0,0]
["397","-1900","-1900-393",null,null,null,null,null,null,null,null,null,null,null,null,null,null,null,null,null,null,{"$f":"IF(M$2021=1,\"\",IF(U405=\"\",\"\",VLOOKUP(U405,Tabelle!$D$5:$H$7,5,FALSE)))","v":""},{"$f":"IF(M$2021=1,\"\",IF(U405=\"\",\"\",VLOOKUP(U405,Tabelle!$D$5:$I$7,6,FALSE)))","v":""},null,null,null,null,null,null,null,null,null,null,null,{"$f":"IF(B405=\"\",0,IF(B405=B404,COUNTIF(B$9:B404,B405)+1,1))","v":393},0,0]
["398","-1900","-1900-394",null,null,null,null,null,null,null,null,null,null,null,null,null,null,null,null,null,null,{"$f":"IF(M$2021=1,\"\",IF(U406=\"\",\"\",VLOOKUP(U406,Tabelle!$D$5:$H$7,5,FALSE)))","v":""},{"$f":"IF(M$2021=1,\"\",IF(U406=\"\",\"\",VLOOKUP(U406,Tabelle!$D$5:$I$7,6,FALSE)))","v":""},null,null,null,null,null,null,null,null,null,null,null,{"$f":"IF(B406=\"\",0,IF(B406=B405,COUNTIF(B$9:B405,B406)+1,1))","v":394},0,0]
["399","-1900","-1900-395",null,null,null,null,null,null,null,null,null,null,null,null,null,null,null,null,null,null,{"$f":"IF(M$2021=1,\"\",IF(U407=\"\",\"\",VLOOKUP(U407,Tabelle!$D$5:$H$7,5,FALSE)))","v":""},{"$f":"IF(M$2021=1,\"\",IF(U407=\"\",\"\",VLOOKUP(U407,Tabelle!$D$5:$I$7,6,FALSE)))","v":""},null,null,null,null,null,null,null,null,null,null,null,{"$f":"IF(B407=\"\",0,IF(B407=B406,COUNTIF(B$9:B406,B407)+1,1))","v":395},0,0]
["400","-1900","-1900-396",null,null,null,null,null,null,null,null,null,null,null,null,null,null,null,null,null,null,{"$f":"IF(M$2021=1,\"\",IF(U408=\"\",\"\",VLOOKUP(U408,Tabelle!$D$5:$H$7,5,FALSE)))","v":""},{"$f":"IF(M$2021=1,\"\",IF(U408=\"\",\"\",VLOOKUP(U408,Tabelle!$D$5:$I$7,6,FALSE)))","v":""},null,null,null,null,null,null,null,null,null,null,null,{"$f":"IF(B408=\"\",0,IF(B408=B407,COUNTIF(B$9:B407,B408)+1,1))","v":396},0,0]
["401","-1900","-1900-397",null,null,null,null,null,null,null,null,null,null,null,null,null,null,null,null,null,null,{"$f":"IF(M$2021=1,\"\",IF(U409=\"\",\"\",VLOOKUP(U409,Tabelle!$D$5:$H$7,5,FALSE)))","v":""},{"$f":"IF(M$2021=1,\"\",IF(U409=\"\",\"\",VLOOKUP(U409,Tabelle!$D$5:$I$7,6,FALSE)))","v":""},null,null,null,null,null,null,null,null,null,null,null,{"$f":"IF(B409=\"\",0,IF(B409=B408,COUNTIF(B$9:B408,B409)+1,1))","v":397},0,0]
["402","-1900","-1900-398",null,null,null,null,null,null,null,null,null,null,null,null,null,null,null,null,null,null,{"$f":"IF(M$2021=1,\"\",IF(U410=\"\",\"\",VLOOKUP(U410,Tabelle!$D$5:$H$7,5,FALSE)))","v":""},{"$f":"IF(M$2021=1,\"\",IF(U410=\"\",\"\",VLOOKUP(U410,Tabelle!$D$5:$I$7,6,FALSE)))","v":""},null,null,null,null,null,null,null,null,null,null,null,{"$f":"IF(B410=\"\",0,IF(B410=B409,COUNTIF(B$9:B409,B410)+1,1))","v":398},0,0]
["403","-1900","-1900-399",null,null,null,null,null,null,null,null,null,null,null,null,null,null,null,null,null,null,{"$f":"IF(M$2021=1,\"\",IF(U411=\"\",\"\",VLOOKUP(U411,Tabelle!$D$5:$H$7,5,FALSE)))","v":""},{"$f":"IF(M$2021=1,\"\",IF(U411=\"\",\"\",VLOOKUP(U411,Tabelle!$D$5:$I$7,6,FALSE)))","v":""},null,null,null,null,null,null,null,null,null,null,null,{"$f":"IF(B411=\"\",0,IF(B411=B410,COUNTIF(B$9:B410,B411)+1,1))","v":399},0,0]
["404","-1900","-1900-400",null,null,null,null,null,null,null,null,null,null,null,null,null,null,null,null,null,null,{"$f":"IF(M$2021=1,\"\",IF(U412=\"\",\"\",VLOOKUP(U412,Tabelle!$D$5:$H$7,5,FALSE)))","v":""},{"$f":"IF(M$2021=1,\"\",IF(U412=\"\",\"\",VLOOKUP(U412,Tabelle!$D$5:$I$7,6,FALSE)))","v":""},null,null,null,null,null,null,null,null,null,null,null,{"$f":"IF(B412=\"\",0,IF(B412=B411,COUNTIF(B$9:B411,B412)+1,1))","v":400},0,0]
["405","-1900","-1900-401",null,null,null,null,null,null,null,null,null,null,null,null,null,null,null,null,null,null,{"$f":"IF(M$2021=1,\"\",IF(U413=\"\",\"\",VLOOKUP(U413,Tabelle!$D$5:$H$7,5,FALSE)))","v":""},{"$f":"IF(M$2021=1,\"\",IF(U413=\"\",\"\",VLOOKUP(U413,Tabelle!$D$5:$I$7,6,FALSE)))","v":""},null,null,null,null,null,null,null,null,null,null,null,{"$f":"IF(B413=\"\",0,IF(B413=B412,COUNTIF(B$9:B412,B413)+1,1))","v":401},0,0]
["406","-1900","-1900-402",null,null,null,null,null,null,null,null,null,null,null,null,null,null,null,null,null,null,{"$f":"IF(M$2021=1,\"\",IF(U414=\"\",\"\",VLOOKUP(U414,Tabelle!$D$5:$H$7,5,FALSE)))","v":""},{"$f":"IF(M$2021=1,\"\",IF(U414=\"\",\"\",VLOOKUP(U414,Tabelle!$D$5:$I$7,6,FALSE)))","v":""},null,null,null,null,null,null,null,null,null,null,null,{"$f":"IF(B414=\"\",0,IF(B414=B413,COUNTIF(B$9:B413,B414)+1,1))","v":402},0,0]
["407","-1900","-1900-403",null,null,null,null,null,null,null,null,null,null,null,null,null,null,null,null,null,null,{"$f":"IF(M$2021=1,\"\",IF(U415=\"\",\"\",VLOOKUP(U415,Tabelle!$D$5:$H$7,5,FALSE)))","v":""},{"$f":"IF(M$2021=1,\"\",IF(U415=\"\",\"\",VLOOKUP(U415,Tabelle!$D$5:$I$7,6,FALSE)))","v":""},null,null,null,null,null,null,null,null,null,null,null,{"$f":"IF(B415=\"\",0,IF(B415=B414,COUNTIF(B$9:B414,B415)+1,1))","v":403},0,0]
["408","-1900","-1900-404",null,null,null,null,null,null,null,null,null,null,null,null,null,null,null,null,null,null,{"$f":"IF(M$2021=1,\"\",IF(U416=\"\",\"\",VLOOKUP(U416,Tabelle!$D$5:$H$7,5,FALSE)))","v":""},{"$f":"IF(M$2021=1,\"\",IF(U416=\"\",\"\",VLOOKUP(U416,Tabelle!$D$5:$I$7,6,FALSE)))","v":""},null,null,null,null,null,null,null,null,null,null,null,{"$f":"IF(B416=\"\",0,IF(B416=B415,COUNTIF(B$9:B415,B416)+1,1))","v":404},0,0]
["409","-1900","-1900-405",null,null,null,null,null,null,null,null,null,null,null,null,null,null,null,null,null,null,{"$f":"IF(M$2021=1,\"\",IF(U417=\"\",\"\",VLOOKUP(U417,Tabelle!$D$5:$H$7,5,FALSE)))","v":""},{"$f":"IF(M$2021=1,\"\",IF(U417=\"\",\"\",VLOOKUP(U417,Tabelle!$D$5:$I$7,6,FALSE)))","v":""},null,null,null,null,null,null,null,null,null,null,null,{"$f":"IF(B417=\"\",0,IF(B417=B416,COUNTIF(B$9:B416,B417)+1,1))","v":405},0,0]
["410","-1900","-1900-406",null,null,null,null,null,null,null,null,null,null,null,null,null,null,null,null,null,null,{"$f":"IF(M$2021=1,\"\",IF(U418=\"\",\"\",VLOOKUP(U418,Tabelle!$D$5:$H$7,5,FALSE)))","v":""},{"$f":"IF(M$2021=1,\"\",IF(U418=\"\",\"\",VLOOKUP(U418,Tabelle!$D$5:$I$7,6,FALSE)))","v":""},null,null,null,null,null,null,null,null,null,null,null,{"$f":"IF(B418=\"\",0,IF(B418=B417,COUNTIF(B$9:B417,B418)+1,1))","v":406},0,0]
["411","-1900","-1900-407",null,null,null,null,null,null,null,null,null,null,null,null,null,null,null,null,null,null,{"$f":"IF(M$2021=1,\"\",IF(U419=\"\",\"\",VLOOKUP(U419,Tabelle!$D$5:$H$7,5,FALSE)))","v":""},{"$f":"IF(M$2021=1,\"\",IF(U419=\"\",\"\",VLOOKUP(U419,Tabelle!$D$5:$I$7,6,FALSE)))","v":""},null,null,null,null,null,null,null,null,null,null,null,{"$f":"IF(B419=\"\",0,IF(B419=B418,COUNTIF(B$9:B418,B419)+1,1))","v":407},0,0]
["412","-1900","-1900-408",null,null,null,null,null,null,null,null,null,null,null,null,null,null,null,null,null,null,{"$f":"IF(M$2021=1,\"\",IF(U420=\"\",\"\",VLOOKUP(U420,Tabelle!$D$5:$H$7,5,FALSE)))","v":""},{"$f":"IF(M$2021=1,\"\",IF(U420=\"\",\"\",VLOOKUP(U420,Tabelle!$D$5:$I$7,6,FALSE)))","v":""},null,null,null,null,null,null,null,null,null,null,null,{"$f":"IF(B420=\"\",0,IF(B420=B419,COUNTIF(B$9:B419,B420)+1,1))","v":408},0,0]
["413","-1900","-1900-409",null,null,null,null,null,null,null,null,null,null,null,null,null,null,null,null,null,null,{"$f":"IF(M$2021=1,\"\",IF(U421=\"\",\"\",VLOOKUP(U421,Tabelle!$D$5:$H$7,5,FALSE)))","v":""},{"$f":"IF(M$2021=1,\"\",IF(U421=\"\",\"\",VLOOKUP(U421,Tabelle!$D$5:$I$7,6,FALSE)))","v":""},null,null,null,null,null,null,null,null,null,null,null,{"$f":"IF(B421=\"\",0,IF(B421=B420,COUNTIF(B$9:B420,B421)+1,1))","v":409},0,0]
["414","-1900","-1900-410",null,null,null,null,null,null,null,null,null,null,null,null,null,null,null,null,null,null,{"$f":"IF(M$2021=1,\"\",IF(U422=\"\",\"\",VLOOKUP(U422,Tabelle!$D$5:$H$7,5,FALSE)))","v":""},{"$f":"IF(M$2021=1,\"\",IF(U422=\"\",\"\",VLOOKUP(U422,Tabelle!$D$5:$I$7,6,FALSE)))","v":""},null,null,null,null,null,null,null,null,null,null,null,{"$f":"IF(B422=\"\",0,IF(B422=B421,COUNTIF(B$9:B421,B422)+1,1))","v":410},0,0]
["415","-1900","-1900-411",null,null,null,null,null,null,null,null,null,null,null,null,null,null,null,null,null,null,{"$f":"IF(M$2021=1,\"\",IF(U423=\"\",\"\",VLOOKUP(U423,Tabelle!$D$5:$H$7,5,FALSE)))","v":""},{"$f":"IF(M$2021=1,\"\",IF(U423=\"\",\"\",VLOOKUP(U423,Tabelle!$D$5:$I$7,6,FALSE)))","v":""},null,null,null,null,null,null,null,null,null,null,null,{"$f":"IF(B423=\"\",0,IF(B423=B422,COUNTIF(B$9:B422,B423)+1,1))","v":411},0,0]
["416","-1900","-1900-412",null,null,null,null,null,null,null,null,null,null,null,null,null,null,null,null,null,null,{"$f":"IF(M$2021=1,\"\",IF(U424=\"\",\"\",VLOOKUP(U424,Tabelle!$D$5:$H$7,5,FALSE)))","v":""},{"$f":"IF(M$2021=1,\"\",IF(U424=\"\",\"\",VLOOKUP(U424,Tabelle!$D$5:$I$7,6,FALSE)))","v":""},null,null,null,null,null,null,null,null,null,null,null,{"$f":"IF(B424=\"\",0,IF(B424=B423,COUNTIF(B$9:B423,B424)+1,1))","v":412},0,0]
["417","-1900","-1900-413",null,null,null,null,null,null,null,null,null,null,null,null,null,null,null,null,null,null,{"$f":"IF(M$2021=1,\"\",IF(U425=\"\",\"\",VLOOKUP(U425,Tabelle!$D$5:$H$7,5,FALSE)))","v":""},{"$f":"IF(M$2021=1,\"\",IF(U425=\"\",\"\",VLOOKUP(U425,Tabelle!$D$5:$I$7,6,FALSE)))","v":""},null,null,null,null,null,null,null,null,null,null,null,{"$f":"IF(B425=\"\",0,IF(B425=B424,COUNTIF(B$9:B424,B425)+1,1))","v":413},0,0]
["418","-1900","-1900-414",null,null,null,null,null,null,null,null,null,null,null,null,null,null,null,null,null,null,{"$f":"IF(M$2021=1,\"\",IF(U426=\"\",\"\",VLOOKUP(U426,Tabelle!$D$5:$H$7,5,FALSE)))","v":""},{"$f":"IF(M$2021=1,\"\",IF(U426=\"\",\"\",VLOOKUP(U426,Tabelle!$D$5:$I$7,6,FALSE)))","v":""},null,null,null,null,null,null,null,null,null,null,null,{"$f":"IF(B426=\"\",0,IF(B426=B425,COUNTIF(B$9:B425,B426)+1,1))","v":414},0,0]
["419","-1900","-1900-415",null,null,null,null,null,null,null,null,null,null,null,null,null,null,null,null,null,null,{"$f":"IF(M$2021=1,\"\",IF(U427=\"\",\"\",VLOOKUP(U427,Tabelle!$D$5:$H$7,5,FALSE)))","v":""},{"$f":"IF(M$2021=1,\"\",IF(U427=\"\",\"\",VLOOKUP(U427,Tabelle!$D$5:$I$7,6,FALSE)))","v":""},null,null,null,null,null,null,null,null,null,null,null,{"$f":"IF(B427=\"\",0,IF(B427=B426,COUNTIF(B$9:B426,B427)+1,1))","v":415},0,0]
["420","-1900","-1900-416",null,null,null,null,null,null,null,null,null,null,null,null,null,null,null,null,null,null,{"$f":"IF(M$2021=1,\"\",IF(U428=\"\",\"\",VLOOKUP(U428,Tabelle!$D$5:$H$7,5,FALSE)))","v":""},{"$f":"IF(M$2021=1,\"\",IF(U428=\"\",\"\",VLOOKUP(U428,Tabelle!$D$5:$I$7,6,FALSE)))","v":""},null,null,null,null,null,null,null,null,null,null,null,{"$f":"IF(B428=\"\",0,IF(B428=B427,COUNTIF(B$9:B427,B428)+1,1))","v":416},0,0]
["421","-1900","-1900-417",null,null,null,null,null,null,null,null,null,null,null,null,null,null,null,null,null,null,{"$f":"IF(M$2021=1,\"\",IF(U429=\"\",\"\",VLOOKUP(U429,Tabelle!$D$5:$H$7,5,FALSE)))","v":""},{"$f":"IF(M$2021=1,\"\",IF(U429=\"\",\"\",VLOOKUP(U429,Tabelle!$D$5:$I$7,6,FALSE)))","v":""},null,null,null,null,null,null,null,null,null,null,null,{"$f":"IF(B429=\"\",0,IF(B429=B428,COUNTIF(B$9:B428,B429)+1,1))","v":417},0,0]
["422","-1900","-1900-418",null,null,null,null,null,null,null,null,null,null,null,null,null,null,null,null,null,null,{"$f":"IF(M$2021=1,\"\",IF(U430=\"\",\"\",VLOOKUP(U430,Tabelle!$D$5:$H$7,5,FALSE)))","v":""},{"$f":"IF(M$2021=1,\"\",IF(U430=\"\",\"\",VLOOKUP(U430,Tabelle!$D$5:$I$7,6,FALSE)))","v":""},null,null,null,null,null,null,null,null,null,null,null,{"$f":"IF(B430=\"\",0,IF(B430=B429,COUNTIF(B$9:B429,B430)+1,1))","v":418},0,0]
["423","-1900","-1900-419",null,null,null,null,null,null,null,null,null,null,null,null,null,null,null,null,null,null,{"$f":"IF(M$2021=1,\"\",IF(U431=\"\",\"\",VLOOKUP(U431,Tabelle!$D$5:$H$7,5,FALSE)))","v":""},{"$f":"IF(M$2021=1,\"\",IF(U431=\"\",\"\",VLOOKUP(U431,Tabelle!$D$5:$I$7,6,FALSE)))","v":""},null,null,null,null,null,null,null,null,null,null,null,{"$f":"IF(B431=\"\",0,IF(B431=B430,COUNTIF(B$9:B430,B431)+1,1))","v":419},0,0]
["424","-1900","-1900-420",null,null,null,null,null,null,null,null,null,null,null,null,null,null,null,null,null,null,{"$f":"IF(M$2021=1,\"\",IF(U432=\"\",\"\",VLOOKUP(U432,Tabelle!$D$5:$H$7,5,FALSE)))","v":""},{"$f":"IF(M$2021=1,\"\",IF(U432=\"\",\"\",VLOOKUP(U432,Tabelle!$D$5:$I$7,6,FALSE)))","v":""},null,null,null,null,null,null,null,null,null,null,null,{"$f":"IF(B432=\"\",0,IF(B432=B431,COUNTIF(B$9:B431,B432)+1,1))","v":420},0,0]
["425","-1900","-1900-421",null,null,null,null,null,null,null,null,null,null,null,null,null,null,null,null,null,null,{"$f":"IF(M$2021=1,\"\",IF(U433=\"\",\"\",VLOOKUP(U433,Tabelle!$D$5:$H$7,5,FALSE)))","v":""},{"$f":"IF(M$2021=1,\"\",IF(U433=\"\",\"\",VLOOKUP(U433,Tabelle!$D$5:$I$7,6,FALSE)))","v":""},null,null,null,null,null,null,null,null,null,null,null,{"$f":"IF(B433=\"\",0,IF(B433=B432,COUNTIF(B$9:B432,B433)+1,1))","v":421},0,0]
["426","-1900","-1900-422",null,null,null,null,null,null,null,null,null,null,null,null,null,null,null,null,null,null,{"$f":"IF(M$2021=1,\"\",IF(U434=\"\",\"\",VLOOKUP(U434,Tabelle!$D$5:$H$7,5,FALSE)))","v":""},{"$f":"IF(M$2021=1,\"\",IF(U434=\"\",\"\",VLOOKUP(U434,Tabelle!$D$5:$I$7,6,FALSE)))","v":""},null,null,null,null,null,null,null,null,null,null,null,{"$f":"IF(B434=\"\",0,IF(B434=B433,COUNTIF(B$9:B433,B434)+1,1))","v":422},0,0]
["427","-1900","-1900-423",null,null,null,null,null,null,null,null,null,null,null,null,null,null,null,null,null,null,{"$f":"IF(M$2021=1,\"\",IF(U435=\"\",\"\",VLOOKUP(U435,Tabelle!$D$5:$H$7,5,FALSE)))","v":""},{"$f":"IF(M$2021=1,\"\",IF(U435=\"\",\"\",VLOOKUP(U435,Tabelle!$D$5:$I$7,6,FALSE)))","v":""},null,null,null,null,null,null,null,null,null,null,null,{"$f":"IF(B435=\"\",0,IF(B435=B434,COUNTIF(B$9:B434,B435)+1,1))","v":423},0,0]
["428","-1900","-1900-424",null,null,null,null,null,null,null,null,null,null,null,null,null,null,null,null,null,null,{"$f":"IF(M$2021=1,\"\",IF(U436=\"\",\"\",VLOOKUP(U436,Tabelle!$D$5:$H$7,5,FALSE)))","v":""},{"$f":"IF(M$2021=1,\"\",IF(U436=\"\",\"\",VLOOKUP(U436,Tabelle!$D$5:$I$7,6,FALSE)))","v":""},null,null,null,null,null,null,null,null,null,null,null,{"$f":"IF(B436=\"\",0,IF(B436=B435,COUNTIF(B$9:B435,B436)+1,1))","v":424},0,0]
["429","-1900","-1900-425",null,null,null,null,null,null,null,null,null,null,null,null,null,null,null,null,null,null,{"$f":"IF(M$2021=1,\"\",IF(U437=\"\",\"\",VLOOKUP(U437,Tabelle!$D$5:$H$7,5,FALSE)))","v":""},{"$f":"IF(M$2021=1,\"\",IF(U437=\"\",\"\",VLOOKUP(U437,Tabelle!$D$5:$I$7,6,FALSE)))","v":""},null,null,null,null,null,null,null,null,null,null,null,{"$f":"IF(B437=\"\",0,IF(B437=B436,COUNTIF(B$9:B436,B437)+1,1))","v":425},0,0]
["430","-1900","-1900-426",null,null,null,null,null,null,null,null,null,null,null,null,null,null,null,null,null,null,{"$f":"IF(M$2021=1,\"\",IF(U438=\"\",\"\",VLOOKUP(U438,Tabelle!$D$5:$H$7,5,FALSE)))","v":""},{"$f":"IF(M$2021=1,\"\",IF(U438=\"\",\"\",VLOOKUP(U438,Tabelle!$D$5:$I$7,6,FALSE)))","v":""},null,null,null,null,null,null,null,null,null,null,null,{"$f":"IF(B438=\"\",0,IF(B438=B437,COUNTIF(B$9:B437,B438)+1,1))","v":426},0,0]
["431","-1900","-1900-427",null,null,null,null,null,null,null,null,null,null,null,null,null,null,null,null,null,null,{"$f":"IF(M$2021=1,\"\",IF(U439=\"\",\"\",VLOOKUP(U439,Tabelle!$D$5:$H$7,5,FALSE)))","v":""},{"$f":"IF(M$2021=1,\"\",IF(U439=\"\",\"\",VLOOKUP(U439,Tabelle!$D$5:$I$7,6,FALSE)))","v":""},null,null,null,null,null,null,null,null,null,null,null,{"$f":"IF(B439=\"\",0,IF(B439=B438,COUNTIF(B$9:B438,B439)+1,1))","v":427},0,0]
["432","-1900","-1900-428",null,null,null,null,null,null,null,null,null,null,null,null,null,null,null,null,null,null,{"$f":"IF(M$2021=1,\"\",IF(U440=\"\",\"\",VLOOKUP(U440,Tabelle!$D$5:$H$7,5,FALSE)))","v":""},{"$f":"IF(M$2021=1,\"\",IF(U440=\"\",\"\",VLOOKUP(U440,Tabelle!$D$5:$I$7,6,FALSE)))","v":""},null,null,null,null,null,null,null,null,null,null,null,{"$f":"IF(B440=\"\",0,IF(B440=B439,COUNTIF(B$9:B439,B440)+1,1))","v":428},0,0]
["433","-1900","-1900-429",null,null,null,null,null,null,null,null,null,null,null,null,null,null,null,null,null,null,{"$f":"IF(M$2021=1,\"\",IF(U441=\"\",\"\",VLOOKUP(U441,Tabelle!$D$5:$H$7,5,FALSE)))","v":""},{"$f":"IF(M$2021=1,\"\",IF(U441=\"\",\"\",VLOOKUP(U441,Tabelle!$D$5:$I$7,6,FALSE)))","v":""},null,null,null,null,null,null,null,null,null,null,null,{"$f":"IF(B441=\"\",0,IF(B441=B440,COUNTIF(B$9:B440,B441)+1,1))","v":429},0,0]
["434","-1900","-1900-430",null,null,null,null,null,null,null,null,null,null,null,null,null,null,null,null,null,null,{"$f":"IF(M$2021=1,\"\",IF(U442=\"\",\"\",VLOOKUP(U442,Tabelle!$D$5:$H$7,5,FALSE)))","v":""},{"$f":"IF(M$2021=1,\"\",IF(U442=\"\",\"\",VLOOKUP(U442,Tabelle!$D$5:$I$7,6,FALSE)))","v":""},null,null,null,null,null,null,null,null,null,null,null,{"$f":"IF(B442=\"\",0,IF(B442=B441,COUNTIF(B$9:B441,B442)+1,1))","v":430},0,0]
["435","-1900","-1900-431",null,null,null,null,null,null,null,null,null,null,null,null,null,null,null,null,null,null,{"$f":"IF(M$2021=1,\"\",IF(U443=\"\",\"\",VLOOKUP(U443,Tabelle!$D$5:$H$7,5,FALSE)))","v":""},{"$f":"IF(M$2021=1,\"\",IF(U443=\"\",\"\",VLOOKUP(U443,Tabelle!$D$5:$I$7,6,FALSE)))","v":""},null,null,null,null,null,null,null,null,null,null,null,{"$f":"IF(B443=\"\",0,IF(B443=B442,COUNTIF(B$9:B442,B443)+1,1))","v":431},0,0]
["436","-1900","-1900-432",null,null,null,null,null,null,null,null,null,null,null,null,null,null,null,null,null,null,{"$f":"IF(M$2021=1,\"\",IF(U444=\"\",\"\",VLOOKUP(U444,Tabelle!$D$5:$H$7,5,FALSE)))","v":""},{"$f":"IF(M$2021=1,\"\",IF(U444=\"\",\"\",VLOOKUP(U444,Tabelle!$D$5:$I$7,6,FALSE)))","v":""},null,null,null,null,null,null,null,null,null,null,null,{"$f":"IF(B444=\"\",0,IF(B444=B443,COUNTIF(B$9:B443,B444)+1,1))","v":432},0,0]
["437","-1900","-1900-433",null,null,null,null,null,null,null,null,null,null,null,null,null,null,null,null,null,null,{"$f":"IF(M$2021=1,\"\",IF(U445=\"\",\"\",VLOOKUP(U445,Tabelle!$D$5:$H$7,5,FALSE)))","v":""},{"$f":"IF(M$2021=1,\"\",IF(U445=\"\",\"\",VLOOKUP(U445,Tabelle!$D$5:$I$7,6,FALSE)))","v":""},null,null,null,null,null,null,null,null,null,null,null,{"$f":"IF(B445=\"\",0,IF(B445=B444,COUNTIF(B$9:B444,B445)+1,1))","v":433},0,0]
["438","-1900","-1900-434",null,null,null,null,null,null,null,null,null,null,null,null,null,null,null,null,null,null,{"$f":"IF(M$2021=1,\"\",IF(U446=\"\",\"\",VLOOKUP(U446,Tabelle!$D$5:$H$7,5,FALSE)))","v":""},{"$f":"IF(M$2021=1,\"\",IF(U446=\"\",\"\",VLOOKUP(U446,Tabelle!$D$5:$I$7,6,FALSE)))","v":""},null,null,null,null,null,null,null,null,null,null,null,{"$f":"IF(B446=\"\",0,IF(B446=B445,COUNTIF(B$9:B445,B446)+1,1))","v":434},0,0]
["439","-1900","-1900-435",null,null,null,null,null,null,null,null,null,null,null,null,null,null,null,null,null,null,{"$f":"IF(M$2021=1,\"\",IF(U447=\"\",\"\",VLOOKUP(U447,Tabelle!$D$5:$H$7,5,FALSE)))","v":""},{"$f":"IF(M$2021=1,\"\",IF(U447=\"\",\"\",VLOOKUP(U447,Tabelle!$D$5:$I$7,6,FALSE)))","v":""},null,null,null,null,null,null,null,null,null,null,null,{"$f":"IF(B447=\"\",0,IF(B447=B446,COUNTIF(B$9:B446,B447)+1,1))","v":435},0,0]
["440","-1900","-1900-436",null,null,null,null,null,null,null,null,null,null,null,null,null,null,null,null,null,null,{"$f":"IF(M$2021=1,\"\",IF(U448=\"\",\"\",VLOOKUP(U448,Tabelle!$D$5:$H$7,5,FALSE)))","v":""},{"$f":"IF(M$2021=1,\"\",IF(U448=\"\",\"\",VLOOKUP(U448,Tabelle!$D$5:$I$7,6,FALSE)))","v":""},null,null,null,null,null,null,null,null,null,null,null,{"$f":"IF(B448=\"\",0,IF(B448=B447,COUNTIF(B$9:B447,B448)+1,1))","v":436},0,0]
["441","-1900","-1900-437",null,null,null,null,null,null,null,null,null,null,null,null,null,null,null,null,null,null,{"$f":"IF(M$2021=1,\"\",IF(U449=\"\",\"\",VLOOKUP(U449,Tabelle!$D$5:$H$7,5,FALSE)))","v":""},{"$f":"IF(M$2021=1,\"\",IF(U449=\"\",\"\",VLOOKUP(U449,Tabelle!$D$5:$I$7,6,FALSE)))","v":""},null,null,null,null,null,null,null,null,null,null,null,{"$f":"IF(B449=\"\",0,IF(B449=B448,COUNTIF(B$9:B448,B449)+1,1))","v":437},0,0]
["442","-1900","-1900-438",null,null,null,null,null,null,null,null,null,null,null,null,null,null,null,null,null,null,{"$f":"IF(M$2021=1,\"\",IF(U450=\"\",\"\",VLOOKUP(U450,Tabelle!$D$5:$H$7,5,FALSE)))","v":""},{"$f":"IF(M$2021=1,\"\",IF(U450=\"\",\"\",VLOOKUP(U450,Tabelle!$D$5:$I$7,6,FALSE)))","v":""},null,null,null,null,null,null,null,null,null,null,null,{"$f":"IF(B450=\"\",0,IF(B450=B449,COUNTIF(B$9:B449,B450)+1,1))","v":438},0,0]
["443","-1900","-1900-439",null,null,null,null,null,null,null,null,null,null,null,null,null,null,null,null,null,null,{"$f":"IF(M$2021=1,\"\",IF(U451=\"\",\"\",VLOOKUP(U451,Tabelle!$D$5:$H$7,5,FALSE)))","v":""},{"$f":"IF(M$2021=1,\"\",IF(U451=\"\",\"\",VLOOKUP(U451,Tabelle!$D$5:$I$7,6,FALSE)))","v":""},null,null,null,null,null,null,null,null,null,null,null,{"$f":"IF(B451=\"\",0,IF(B451=B450,COUNTIF(B$9:B450,B451)+1,1))","v":439},0,0]
["444","-1900","-1900-440",null,null,null,null,null,null,null,null,null,null,null,null,null,null,null,null,null,null,{"$f":"IF(M$2021=1,\"\",IF(U452=\"\",\"\",VLOOKUP(U452,Tabelle!$D$5:$H$7,5,FALSE)))","v":""},{"$f":"IF(M$2021=1,\"\",IF(U452=\"\",\"\",VLOOKUP(U452,Tabelle!$D$5:$I$7,6,FALSE)))","v":""},null,null,null,null,null,null,null,null,null,null,null,{"$f":"IF(B452=\"\",0,IF(B452=B451,COUNTIF(B$9:B451,B452)+1,1))","v":440},0,0]
["445","-1900","-1900-441",null,null,null,null,null,null,null,null,null,null,null,null,null,null,null,null,null,null,{"$f":"IF(M$2021=1,\"\",IF(U453=\"\",\"\",VLOOKUP(U453,Tabelle!$D$5:$H$7,5,FALSE)))","v":""},{"$f":"IF(M$2021=1,\"\",IF(U453=\"\",\"\",VLOOKUP(U453,Tabelle!$D$5:$I$7,6,FALSE)))","v":""},null,null,null,null,null,null,null,null,null,null,null,{"$f":"IF(B453=\"\",0,IF(B453=B452,COUNTIF(B$9:B452,B453)+1,1))","v":441},0,0]
["446","-1900","-1900-442",null,null,null,null,null,null,null,null,null,null,null,null,null,null,null,null,null,null,{"$f":"IF(M$2021=1,\"\",IF(U454=\"\",\"\",VLOOKUP(U454,Tabelle!$D$5:$H$7,5,FALSE)))","v":""},{"$f":"IF(M$2021=1,\"\",IF(U454=\"\",\"\",VLOOKUP(U454,Tabelle!$D$5:$I$7,6,FALSE)))","v":""},null,null,null,null,null,null,null,null,null,null,null,{"$f":"IF(B454=\"\",0,IF(B454=B453,COUNTIF(B$9:B453,B454)+1,1))","v":442},0,0]
["447","-1900","-1900-443",null,null,null,null,null,null,null,null,null,null,null,null,null,null,null,null,null,null,{"$f":"IF(M$2021=1,\"\",IF(U455=\"\",\"\",VLOOKUP(U455,Tabelle!$D$5:$H$7,5,FALSE)))","v":""},{"$f":"IF(M$2021=1,\"\",IF(U455=\"\",\"\",VLOOKUP(U455,Tabelle!$D$5:$I$7,6,FALSE)))","v":""},null,null,null,null,null,null,null,null,null,null,null,{"$f":"IF(B455=\"\",0,IF(B455=B454,COUNTIF(B$9:B454,B455)+1,1))","v":443},0,0]
["448","-1900","-1900-444",null,null,null,null,null,null,null,null,null,null,null,null,null,null,null,null,null,null,{"$f":"IF(M$2021=1,\"\",IF(U456=\"\",\"\",VLOOKUP(U456,Tabelle!$D$5:$H$7,5,FALSE)))","v":""},{"$f":"IF(M$2021=1,\"\",IF(U456=\"\",\"\",VLOOKUP(U456,Tabelle!$D$5:$I$7,6,FALSE)))","v":""},null,null,null,null,null,null,null,null,null,null,null,{"$f":"IF(B456=\"\",0,IF(B456=B455,COUNTIF(B$9:B455,B456)+1,1))","v":444},0,0]
["449","-1900",{"$f":"IF(M$2021=1,0,B457&\"-\"&AI457)","v":"-1900-445"},null,null,null,null,null,null,null,null,null,null,null,null,null,null,null,null,null,null,{"$f":"IF(M$2021=1,\"\",IF(U457=\"\",\"\",VLOOKUP(U457,Tabelle!$D$5:$H$7,5,FALSE)))","v":""},{"$f":"IF(M$2021=1,\"\",IF(U457=\"\",\"\",VLOOKUP(U457,Tabelle!$D$5:$I$7,6,FALSE)))","v":""},null,null,null,null,null,null,null,null,null,null,null,{"$f":"IF(B457=\"\",0,IF(B457=B456,COUNTIF(B$9:B456,B457)+1,1))","v":445},0,0]
["450",{"$f":"IF(AK458=$AK$2015,0,IF(M$2021=1,0,D458&\"-\"&YEAR(E458)))","v":"-1900"},"-1900-446",null,null,null,null,null,null,null,null,null,null,null,null,null,null,null,null,null,null,{"$f":"IF(M$2021=1,\"\",IF(U458=\"\",\"\",VLOOKUP(U458,Tabelle!$D$5:$H$7,5,FALSE)))","v":""},{"$f":"IF(M$2021=1,\"\",IF(U458=\"\",\"\",VLOOKUP(U458,Tabelle!$D$5:$I$7,6,FALSE)))","v":""},null,null,null,null,null,null,null,null,null,null,null,{"$f":"IF(B458=\"\",0,IF(B458=B457,COUNTIF(B$9:B457,B458)+1,1))","v":446},{"$f":"IF(OR(D458=\"\",M$2021=1),0,IF(AI458=10,1,0))","v":0},{"$f":"IF(E458>0,IF(OR(MONTH(E458)<$J$2027,MONTH(E458)>$J$2028),AK$2015,0),0)","v":0}]
["451","-1900","-1900-447",null,null,null,null,null,null,null,null,null,null,null,null,null,null,null,null,null,null,{"$f":"IF(M$2021=1,\"\",IF(U459=\"\",\"\",VLOOKUP(U459,Tabelle!$D$5:$H$7,5,FALSE)))","v":""},{"$f":"IF(M$2021=1,\"\",IF(U459=\"\",\"\",VLOOKUP(U459,Tabelle!$D$5:$I$7,6,FALSE)))","v":""},null,null,null,null,null,null,null,null,null,null,null,{"$f":"IF(B459=\"\",0,IF(B459=B458,COUNTIF(B$9:B458,B459)+1,1))","v":447},0,0]
["452","-1900","-1900-448",null,null,null,null,null,null,null,null,null,null,null,null,null,null,null,null,null,null,{"$f":"IF(M$2021=1,\"\",IF(U460=\"\",\"\",VLOOKUP(U460,Tabelle!$D$5:$H$7,5,FALSE)))","v":""},{"$f":"IF(M$2021=1,\"\",IF(U460=\"\",\"\",VLOOKUP(U460,Tabelle!$D$5:$I$7,6,FALSE)))","v":""},null,null,null,null,null,null,null,null,null,null,null,{"$f":"IF(B460=\"\",0,IF(B460=B459,COUNTIF(B$9:B459,B460)+1,1))","v":448},0,0]
["453","-1900","-1900-449",null,null,null,null,null,null,null,null,null,null,null,null,null,null,null,null,null,null,{"$f":"IF(M$2021=1,\"\",IF(U461=\"\",\"\",VLOOKUP(U461,Tabelle!$D$5:$H$7,5,FALSE)))","v":""},{"$f":"IF(M$2021=1,\"\",IF(U461=\"\",\"\",VLOOKUP(U461,Tabelle!$D$5:$I$7,6,FALSE)))","v":""},null,null,null,null,null,null,null,null,null,null,null,{"$f":"IF(B461=\"\",0,IF(B461=B460,COUNTIF(B$9:B460,B461)+1,1))","v":449},0,0]
["454","-1900","-1900-450",null,null,null,null,null,null,null,null,null,null,null,null,null,null,null,null,null,null,{"$f":"IF(M$2021=1,\"\",IF(U462=\"\",\"\",VLOOKUP(U462,Tabelle!$D$5:$H$7,5,FALSE)))","v":""},{"$f":"IF(M$2021=1,\"\",IF(U462=\"\",\"\",VLOOKUP(U462,Tabelle!$D$5:$I$7,6,FALSE)))","v":""},null,null,null,null,null,null,null,null,null,null,null,{"$f":"IF(B462=\"\",0,IF(B462=B461,COUNTIF(B$9:B461,B462)+1,1))","v":450},0,0]
["455","-1900","-1900-451",null,null,null,null,null,null,null,null,null,null,null,null,null,null,null,null,null,null,{"$f":"IF(M$2021=1,\"\",IF(U463=\"\",\"\",VLOOKUP(U463,Tabelle!$D$5:$H$7,5,FALSE)))","v":""},{"$f":"IF(M$2021=1,\"\",IF(U463=\"\",\"\",VLOOKUP(U463,Tabelle!$D$5:$I$7,6,FALSE)))","v":""},null,null,null,null,null,null,null,null,null,null,null,{"$f":"IF(B463=\"\",0,IF(B463=B462,COUNTIF(B$9:B462,B463)+1,1))","v":451},0,0]
["456","-1900","-1900-452",null,null,null,null,null,null,null,null,null,null,null,null,null,null,null,null,null,null,{"$f":"IF(M$2021=1,\"\",IF(U464=\"\",\"\",VLOOKUP(U464,Tabelle!$D$5:$H$7,5,FALSE)))","v":""},{"$f":"IF(M$2021=1,\"\",IF(U464=\"\",\"\",VLOOKUP(U464,Tabelle!$D$5:$I$7,6,FALSE)))","v":""},null,null,null,null,null,null,null,null,null,null,null,{"$f":"IF(B464=\"\",0,IF(B464=B463,COUNTIF(B$9:B463,B464)+1,1))","v":452},0,0]
["457","-1900","-1900-453",null,null,null,null,null,null,null,null,null,null,null,null,null,null,null,null,null,null,{"$f":"IF(M$2021=1,\"\",IF(U465=\"\",\"\",VLOOKUP(U465,Tabelle!$D$5:$H$7,5,FALSE)))","v":""},{"$f":"IF(M$2021=1,\"\",IF(U465=\"\",\"\",VLOOKUP(U465,Tabelle!$D$5:$I$7,6,FALSE)))","v":""},null,null,null,null,null,null,null,null,null,null,null,{"$f":"IF(B465=\"\",0,IF(B465=B464,COUNTIF(B$9:B464,B465)+1,1))","v":453},0,0]
["458","-1900","-1900-454",null,null,null,null,null,null,null,null,null,null,null,null,null,null,null,null,null,null,{"$f":"IF(M$2021=1,\"\",IF(U466=\"\",\"\",VLOOKUP(U466,Tabelle!$D$5:$H$7,5,FALSE)))","v":""},{"$f":"IF(M$2021=1,\"\",IF(U466=\"\",\"\",VLOOKUP(U466,Tabelle!$D$5:$I$7,6,FALSE)))","v":""},null,null,null,null,null,null,null,null,null,null,null,{"$f":"IF(B466=\"\",0,IF(B466=B465,COUNTIF(B$9:B465,B466)+1,1))","v":454},0,0]
["459","-1900","-1900-455",null,null,null,null,null,null,null,null,null,null,null,null,null,null,null,null,null,null,{"$f":"IF(M$2021=1,\"\",IF(U467=\"\",\"\",VLOOKUP(U467,Tabelle!$D$5:$H$7,5,FALSE)))","v":""},{"$f":"IF(M$2021=1,\"\",IF(U467=\"\",\"\",VLOOKUP(U467,Tabelle!$D$5:$I$7,6,FALSE)))","v":""},null,null,null,null,null,null,null,null,null,null,null,{"$f":"IF(B467=\"\",0,IF(B467=B466,COUNTIF(B$9:B466,B467)+1,1))","v":455},0,0]
["460","-1900","-1900-456",null,null,null,null,null,null,null,null,null,null,null,null,null,null,null,null,null,null,{"$f":"IF(M$2021=1,\"\",IF(U468=\"\",\"\",VLOOKUP(U468,Tabelle!$D$5:$H$7,5,FALSE)))","v":""},{"$f":"IF(M$2021=1,\"\",IF(U468=\"\",\"\",VLOOKUP(U468,Tabelle!$D$5:$I$7,6,FALSE)))","v":""},null,null,null,null,null,null,null,null,null,null,null,{"$f":"IF(B468=\"\",0,IF(B468=B467,COUNTIF(B$9:B467,B468)+1,1))","v":456},0,0]
["461","-1900","-1900-457",null,null,null,null,null,null,null,null,null,null,null,null,null,null,null,null,null,null,{"$f":"IF(M$2021=1,\"\",IF(U469=\"\",\"\",VLOOKUP(U469,Tabelle!$D$5:$H$7,5,FALSE)))","v":""},{"$f":"IF(M$2021=1,\"\",IF(U469=\"\",\"\",VLOOKUP(U469,Tabelle!$D$5:$I$7,6,FALSE)))","v":""},null,null,null,null,null,null,null,null,null,null,null,{"$f":"IF(B469=\"\",0,IF(B469=B468,COUNTIF(B$9:B468,B469)+1,1))","v":457},0,0]
["462","-1900","-1900-458",null,null,null,null,null,null,null,null,null,null,null,null,null,null,null,null,null,null,{"$f":"IF(M$2021=1,\"\",IF(U470=\"\",\"\",VLOOKUP(U470,Tabelle!$D$5:$H$7,5,FALSE)))","v":""},{"$f":"IF(M$2021=1,\"\",IF(U470=\"\",\"\",VLOOKUP(U470,Tabelle!$D$5:$I$7,6,FALSE)))","v":""},null,null,null,null,null,null,null,null,null,null,null,{"$f":"IF(B470=\"\",0,IF(B470=B469,COUNTIF(B$9:B469,B470)+1,1))","v":458},0,0]
["463","-1900","-1900-459",null,null,null,null,null,null,null,null,null,null,null,null,null,null,null,null,null,null,{"$f":"IF(M$2021=1,\"\",IF(U471=\"\",\"\",VLOOKUP(U471,Tabelle!$D$5:$H$7,5,FALSE)))","v":""},{"$f":"IF(M$2021=1,\"\",IF(U471=\"\",\"\",VLOOKUP(U471,Tabelle!$D$5:$I$7,6,FALSE)))","v":""},null,null,null,null,null,null,null,null,null,null,null,{"$f":"IF(B471=\"\",0,IF(B471=B470,COUNTIF(B$9:B470,B471)+1,1))","v":459},0,0]
["464","-1900","-1900-460",null,null,null,null,null,null,null,null,null,null,null,null,null,null,null,null,null,null,{"$f":"IF(M$2021=1,\"\",IF(U472=\"\",\"\",VLOOKUP(U472,Tabelle!$D$5:$H$7,5,FALSE)))","v":""},{"$f":"IF(M$2021=1,\"\",IF(U472=\"\",\"\",VLOOKUP(U472,Tabelle!$D$5:$I$7,6,FALSE)))","v":""},null,null,null,null,null,null,null,null,null,null,null,{"$f":"IF(B472=\"\",0,IF(B472=B471,COUNTIF(B$9:B471,B472)+1,1))","v":460},0,0]
["465","-1900","-1900-461",null,null,null,null,null,null,null,null,null,null,null,null,null,null,null,null,null,null,{"$f":"IF(M$2021=1,\"\",IF(U473=\"\",\"\",VLOOKUP(U473,Tabelle!$D$5:$H$7,5,FALSE)))","v":""},{"$f":"IF(M$2021=1,\"\",IF(U473=\"\",\"\",VLOOKUP(U473,Tabelle!$D$5:$I$7,6,FALSE)))","v":""},null,null,null,null,null,null,null,null,null,null,null,{"$f":"IF(B473=\"\",0,IF(B473=B472,COUNTIF(B$9:B472,B473)+1,1))","v":461},0,0]
["466","-1900","-1900-462",null,null,null,null,null,null,null,null,null,null,null,null,null,null,null,null,null,null,{"$f":"IF(M$2021=1,\"\",IF(U474=\"\",\"\",VLOOKUP(U474,Tabelle!$D$5:$H$7,5,FALSE)))","v":""},{"$f":"IF(M$2021=1,\"\",IF(U474=\"\",\"\",VLOOKUP(U474,Tabelle!$D$5:$I$7,6,FALSE)))","v":""},null,null,null,null,null,null,null,null,null,null,null,{"$f":"IF(B474=\"\",0,IF(B474=B473,COUNTIF(B$9:B473,B474)+1,1))","v":462},0,0]
["467","-1900","-1900-463",null,null,null,null,null,null,null,null,null,null,null,null,null,null,null,null,null,null,{"$f":"IF(M$2021=1,\"\",IF(U475=\"\",\"\",VLOOKUP(U475,Tabelle!$D$5:$H$7,5,FALSE)))","v":""},{"$f":"IF(M$2021=1,\"\",IF(U475=\"\",\"\",VLOOKUP(U475,Tabelle!$D$5:$I$7,6,FALSE)))","v":""},null,null,null,null,null,null,null,null,null,null,null,{"$f":"IF(B475=\"\",0,IF(B475=B474,COUNTIF(B$9:B474,B475)+1,1))","v":463},0,0]
["468","-1900","-1900-464",null,null,null,null,null,null,null,null,null,null,null,null,null,null,null,null,null,null,{"$f":"IF(M$2021=1,\"\",IF(U476=\"\",\"\",VLOOKUP(U476,Tabelle!$D$5:$H$7,5,FALSE)))","v":""},{"$f":"IF(M$2021=1,\"\",IF(U476=\"\",\"\",VLOOKUP(U476,Tabelle!$D$5:$I$7,6,FALSE)))","v":""},null,null,null,null,null,null,null,null,null,null,null,{"$f":"IF(B476=\"\",0,IF(B476=B475,COUNTIF(B$9:B475,B476)+1,1))","v":464},0,0]
["469","-1900","-1900-465",null,null,null,null,null,null,null,null,null,null,null,null,null,null,null,null,null,null,{"$f":"IF(M$2021=1,\"\",IF(U477=\"\",\"\",VLOOKUP(U477,Tabelle!$D$5:$H$7,5,FALSE)))","v":""},{"$f":"IF(M$2021=1,\"\",IF(U477=\"\",\"\",VLOOKUP(U477,Tabelle!$D$5:$I$7,6,FALSE)))","v":""},null,null,null,null,null,null,null,null,null,null,null,{"$f":"IF(B477=\"\",0,IF(B477=B476,COUNTIF(B$9:B476,B477)+1,1))","v":465},0,0]
["470","-1900","-1900-466",null,null,null,null,null,null,null,null,null,null,null,null,null,null,null,null,null,null,{"$f":"IF(M$2021=1,\"\",IF(U478=\"\",\"\",VLOOKUP(U478,Tabelle!$D$5:$H$7,5,FALSE)))","v":""},{"$f":"IF(M$2021=1,\"\",IF(U478=\"\",\"\",VLOOKUP(U478,Tabelle!$D$5:$I$7,6,FALSE)))","v":""},null,null,null,null,null,null,null,null,null,null,null,{"$f":"IF(B478=\"\",0,IF(B478=B477,COUNTIF(B$9:B477,B478)+1,1))","v":466},0,0]
["471","-1900","-1900-467",null,null,null,null,null,null,null,null,null,null,null,null,null,null,null,null,null,null,{"$f":"IF(M$2021=1,\"\",IF(U479=\"\",\"\",VLOOKUP(U479,Tabelle!$D$5:$H$7,5,FALSE)))","v":""},{"$f":"IF(M$2021=1,\"\",IF(U479=\"\",\"\",VLOOKUP(U479,Tabelle!$D$5:$I$7,6,FALSE)))","v":""},null,null,null,null,null,null,null,null,null,null,null,{"$f":"IF(B479=\"\",0,IF(B479=B478,COUNTIF(B$9:B478,B479)+1,1))","v":467},0,0]
["472","-1900","-1900-468",null,null,null,null,null,null,null,null,null,null,null,null,null,null,null,null,null,null,{"$f":"IF(M$2021=1,\"\",IF(U480=\"\",\"\",VLOOKUP(U480,Tabelle!$D$5:$H$7,5,FALSE)))","v":""},{"$f":"IF(M$2021=1,\"\",IF(U480=\"\",\"\",VLOOKUP(U480,Tabelle!$D$5:$I$7,6,FALSE)))","v":""},null,null,null,null,null,null,null,null,null,null,null,{"$f":"IF(B480=\"\",0,IF(B480=B479,COUNTIF(B$9:B479,B480)+1,1))","v":468},0,0]
["473","-1900","-1900-469",null,null,null,null,null,null,null,null,null,null,null,null,null,null,null,null,null,null,{"$f":"IF(M$2021=1,\"\",IF(U481=\"\",\"\",VLOOKUP(U481,Tabelle!$D$5:$H$7,5,FALSE)))","v":""},{"$f":"IF(M$2021=1,\"\",IF(U481=\"\",\"\",VLOOKUP(U481,Tabelle!$D$5:$I$7,6,FALSE)))","v":""},null,null,null,null,null,null,null,null,null,null,null,{"$f":"IF(B481=\"\",0,IF(B481=B480,COUNTIF(B$9:B480,B481)+1,1))","v":469},0,0]
["474","-1900","-1900-470",null,null,null,null,null,null,null,null,null,null,null,null,null,null,null,null,null,null,{"$f":"IF(M$2021=1,\"\",IF(U482=\"\",\"\",VLOOKUP(U482,Tabelle!$D$5:$H$7,5,FALSE)))","v":""},{"$f":"IF(M$2021=1,\"\",IF(U482=\"\",\"\",VLOOKUP(U482,Tabelle!$D$5:$I$7,6,FALSE)))","v":""},null,null,null,null,null,null,null,null,null,null,null,{"$f":"IF(B482=\"\",0,IF(B482=B481,COUNTIF(B$9:B481,B482)+1,1))","v":470},0,0]
["475","-1900","-1900-471",null,null,null,null,null,null,null,null,null,null,null,null,null,null,null,null,null,null,{"$f":"IF(M$2021=1,\"\",IF(U483=\"\",\"\",VLOOKUP(U483,Tabelle!$D$5:$H$7,5,FALSE)))","v":""},{"$f":"IF(M$2021=1,\"\",IF(U483=\"\",\"\",VLOOKUP(U483,Tabelle!$D$5:$I$7,6,FALSE)))","v":""},null,null,null,null,null,null,null,null,null,null,null,{"$f":"IF(B483=\"\",0,IF(B483=B482,COUNTIF(B$9:B482,B483)+1,1))","v":471},0,0]
["476","-1900","-1900-472",null,null,null,null,null,null,null,null,null,null,null,null,null,null,null,null,null,null,{"$f":"IF(M$2021=1,\"\",IF(U484=\"\",\"\",VLOOKUP(U484,Tabelle!$D$5:$H$7,5,FALSE)))","v":""},{"$f":"IF(M$2021=1,\"\",IF(U484=\"\",\"\",VLOOKUP(U484,Tabelle!$D$5:$I$7,6,FALSE)))","v":""},null,null,null,null,null,null,null,null,null,null,null,{"$f":"IF(B484=\"\",0,IF(B484=B483,COUNTIF(B$9:B483,B484)+1,1))","v":472},0,0]
["477","-1900","-1900-473",null,null,null,null,null,null,null,null,null,null,null,null,null,null,null,null,null,null,{"$f":"IF(M$2021=1,\"\",IF(U485=\"\",\"\",VLOOKUP(U485,Tabelle!$D$5:$H$7,5,FALSE)))","v":""},{"$f":"IF(M$2021=1,\"\",IF(U485=\"\",\"\",VLOOKUP(U485,Tabelle!$D$5:$I$7,6,FALSE)))","v":""},null,null,null,null,null,null,null,null,null,null,null,{"$f":"IF(B485=\"\",0,IF(B485=B484,COUNTIF(B$9:B484,B485)+1,1))","v":473},0,0]
["478","-1900","-1900-474",null,null,null,null,null,null,null,null,null,null,null,null,null,null,null,null,null,null,{"$f":"IF(M$2021=1,\"\",IF(U486=\"\",\"\",VLOOKUP(U486,Tabelle!$D$5:$H$7,5,FALSE)))","v":""},{"$f":"IF(M$2021=1,\"\",IF(U486=\"\",\"\",VLOOKUP(U486,Tabelle!$D$5:$I$7,6,FALSE)))","v":""},null,null,null,null,null,null,null,null,null,null,null,{"$f":"IF(B486=\"\",0,IF(B486=B485,COUNTIF(B$9:B485,B486)+1,1))","v":474},0,0]
["479","-1900","-1900-475",null,null,null,null,null,null,null,null,null,null,null,null,null,null,null,null,null,null,{"$f":"IF(M$2021=1,\"\",IF(U487=\"\",\"\",VLOOKUP(U487,Tabelle!$D$5:$H$7,5,FALSE)))","v":""},{"$f":"IF(M$2021=1,\"\",IF(U487=\"\",\"\",VLOOKUP(U487,Tabelle!$D$5:$I$7,6,FALSE)))","v":""},null,null,null,null,null,null,null,null,null,null,null,{"$f":"IF(B487=\"\",0,IF(B487=B486,COUNTIF(B$9:B486,B487)+1,1))","v":475},0,0]
["480","-1900","-1900-476",null,null,null,null,null,null,null,null,null,null,null,null,null,null,null,null,null,null,{"$f":"IF(M$2021=1,\"\",IF(U488=\"\",\"\",VLOOKUP(U488,Tabelle!$D$5:$H$7,5,FALSE)))","v":""},{"$f":"IF(M$2021=1,\"\",IF(U488=\"\",\"\",VLOOKUP(U488,Tabelle!$D$5:$I$7,6,FALSE)))","v":""},null,null,null,null,null,null,null,null,null,null,null,{"$f":"IF(B488=\"\",0,IF(B488=B487,COUNTIF(B$9:B487,B488)+1,1))","v":476},0,0]
["481","-1900","-1900-477",null,null,null,null,null,null,null,null,null,null,null,null,null,null,null,null,null,null,{"$f":"IF(M$2021=1,\"\",IF(U489=\"\",\"\",VLOOKUP(U489,Tabelle!$D$5:$H$7,5,FALSE)))","v":""},{"$f":"IF(M$2021=1,\"\",IF(U489=\"\",\"\",VLOOKUP(U489,Tabelle!$D$5:$I$7,6,FALSE)))","v":""},null,null,null,null,null,null,null,null,null,null,null,{"$f":"IF(B489=\"\",0,IF(B489=B488,COUNTIF(B$9:B488,B489)+1,1))","v":477},0,0]
["482","-1900","-1900-478",null,null,null,null,null,null,null,null,null,null,null,null,null,null,null,null,null,null,{"$f":"IF(M$2021=1,\"\",IF(U490=\"\",\"\",VLOOKUP(U490,Tabelle!$D$5:$H$7,5,FALSE)))","v":""},{"$f":"IF(M$2021=1,\"\",IF(U490=\"\",\"\",VLOOKUP(U490,Tabelle!$D$5:$I$7,6,FALSE)))","v":""},null,null,null,null,null,null,null,null,null,null,null,{"$f":"IF(B490=\"\",0,IF(B490=B489,COUNTIF(B$9:B489,B490)+1,1))","v":478},0,0]
["483","-1900","-1900-479",null,null,null,null,null,null,null,null,null,null,null,null,null,null,null,null,null,null,{"$f":"IF(M$2021=1,\"\",IF(U491=\"\",\"\",VLOOKUP(U491,Tabelle!$D$5:$H$7,5,FALSE)))","v":""},{"$f":"IF(M$2021=1,\"\",IF(U491=\"\",\"\",VLOOKUP(U491,Tabelle!$D$5:$I$7,6,FALSE)))","v":""},null,null,null,null,null,null,null,null,null,null,null,{"$f":"IF(B491=\"\",0,IF(B491=B490,COUNTIF(B$9:B490,B491)+1,1))","v":479},0,0]
["484","-1900","-1900-480",null,null,null,null,null,null,null,null,null,null,null,null,null,null,null,null,null,null,{"$f":"IF(M$2021=1,\"\",IF(U492=\"\",\"\",VLOOKUP(U492,Tabelle!$D$5:$H$7,5,FALSE)))","v":""},{"$f":"IF(M$2021=1,\"\",IF(U492=\"\",\"\",VLOOKUP(U492,Tabelle!$D$5:$I$7,6,FALSE)))","v":""},null,null,null,null,null,null,null,null,null,null,null,{"$f":"IF(B492=\"\",0,IF(B492=B491,COUNTIF(B$9:B491,B492)+1,1))","v":480},0,0]
["485","-1900","-1900-481",null,null,null,null,null,null,null,null,null,null,null,null,null,null,null,null,null,null,{"$f":"IF(M$2021=1,\"\",IF(U493=\"\",\"\",VLOOKUP(U493,Tabelle!$D$5:$H$7,5,FALSE)))","v":""},{"$f":"IF(M$2021=1,\"\",IF(U493=\"\",\"\",VLOOKUP(U493,Tabelle!$D$5:$I$7,6,FALSE)))","v":""},null,null,null,null,null,null,null,null,null,null,null,{"$f":"IF(B493=\"\",0,IF(B493=B492,COUNTIF(B$9:B492,B493)+1,1))","v":481},0,0]
["486","-1900","-1900-482",null,null,null,null,null,null,null,null,null,null,null,null,null,null,null,null,null,null,{"$f":"IF(M$2021=1,\"\",IF(U494=\"\",\"\",VLOOKUP(U494,Tabelle!$D$5:$H$7,5,FALSE)))","v":""},{"$f":"IF(M$2021=1,\"\",IF(U494=\"\",\"\",VLOOKUP(U494,Tabelle!$D$5:$I$7,6,FALSE)))","v":""},null,null,null,null,null,null,null,null,null,null,null,{"$f":"IF(B494=\"\",0,IF(B494=B493,COUNTIF(B$9:B493,B494)+1,1))","v":482},0,0]
["487","-1900","-1900-483",null,null,null,null,null,null,null,null,null,null,null,null,null,null,null,null,null,null,{"$f":"IF(M$2021=1,\"\",IF(U495=\"\",\"\",VLOOKUP(U495,Tabelle!$D$5:$H$7,5,FALSE)))","v":""},{"$f":"IF(M$2021=1,\"\",IF(U495=\"\",\"\",VLOOKUP(U495,Tabelle!$D$5:$I$7,6,FALSE)))","v":""},null,null,null,null,null,null,null,null,null,null,null,{"$f":"IF(B495=\"\",0,IF(B495=B494,COUNTIF(B$9:B494,B495)+1,1))","v":483},0,0]
["488","-1900","-1900-484",null,null,null,null,null,null,null,null,null,null,null,null,null,null,null,null,null,null,{"$f":"IF(M$2021=1,\"\",IF(U496=\"\",\"\",VLOOKUP(U496,Tabelle!$D$5:$H$7,5,FALSE)))","v":""},{"$f":"IF(M$2021=1,\"\",IF(U496=\"\",\"\",VLOOKUP(U496,Tabelle!$D$5:$I$7,6,FALSE)))","v":""},null,null,null,null,null,null,null,null,null,null,null,{"$f":"IF(B496=\"\",0,IF(B496=B495,COUNTIF(B$9:B495,B496)+1,1))","v":484},0,0]
["489","-1900","-1900-485",null,null,null,null,null,null,null,null,null,null,null,null,null,null,null,null,null,null,{"$f":"IF(M$2021=1,\"\",IF(U497=\"\",\"\",VLOOKUP(U497,Tabelle!$D$5:$H$7,5,FALSE)))","v":""},{"$f":"IF(M$2021=1,\"\",IF(U497=\"\",\"\",VLOOKUP(U497,Tabelle!$D$5:$I$7,6,FALSE)))","v":""},null,null,null,null,null,null,null,null,null,null,null,{"$f":"IF(B497=\"\",0,IF(B497=B496,COUNTIF(B$9:B496,B497)+1,1))","v":485},0,0]
["490","-1900","-1900-486",null,null,null,null,null,null,null,null,null,null,null,null,null,null,null,null,null,null,{"$f":"IF(M$2021=1,\"\",IF(U498=\"\",\"\",VLOOKUP(U498,Tabelle!$D$5:$H$7,5,FALSE)))","v":""},{"$f":"IF(M$2021=1,\"\",IF(U498=\"\",\"\",VLOOKUP(U498,Tabelle!$D$5:$I$7,6,FALSE)))","v":""},null,null,null,null,null,null,null,null,null,null,null,{"$f":"IF(B498=\"\",0,IF(B498=B497,COUNTIF(B$9:B497,B498)+1,1))","v":486},0,0]
["491","-1900","-1900-487",null,null,null,null,null,null,null,null,null,null,null,null,null,null,null,null,null,null,{"$f":"IF(M$2021=1,\"\",IF(U499=\"\",\"\",VLOOKUP(U499,Tabelle!$D$5:$H$7,5,FALSE)))","v":""},{"$f":"IF(M$2021=1,\"\",IF(U499=\"\",\"\",VLOOKUP(U499,Tabelle!$D$5:$I$7,6,FALSE)))","v":""},null,null,null,null,null,null,null,null,null,null,null,{"$f":"IF(B499=\"\",0,IF(B499=B498,COUNTIF(B$9:B498,B499)+1,1))","v":487},0,0]
["492","-1900","-1900-488",null,null,null,null,null,null,null,null,null,null,null,null,null,null,null,null,null,null,{"$f":"IF(M$2021=1,\"\",IF(U500=\"\",\"\",VLOOKUP(U500,Tabelle!$D$5:$H$7,5,FALSE)))","v":""},{"$f":"IF(M$2021=1,\"\",IF(U500=\"\",\"\",VLOOKUP(U500,Tabelle!$D$5:$I$7,6,FALSE)))","v":""},null,null,null,null,null,null,null,null,null,null,null,{"$f":"IF(B500=\"\",0,IF(B500=B499,COUNTIF(B$9:B499,B500)+1,1))","v":488},0,0]
["493","-1900","-1900-489",null,null,null,null,null,null,null,null,null,null,null,null,null,null,null,null,null,null,{"$f":"IF(M$2021=1,\"\",IF(U501=\"\",\"\",VLOOKUP(U501,Tabelle!$D$5:$H$7,5,FALSE)))","v":""},{"$f":"IF(M$2021=1,\"\",IF(U501=\"\",\"\",VLOOKUP(U501,Tabelle!$D$5:$I$7,6,FALSE)))","v":""},null,null,null,null,null,null,null,null,null,null,null,{"$f":"IF(B501=\"\",0,IF(B501=B500,COUNTIF(B$9:B500,B501)+1,1))","v":489},0,0]
["494","-1900","-1900-490",null,null,null,null,null,null,null,null,null,null,null,null,null,null,null,null,null,null,{"$f":"IF(M$2021=1,\"\",IF(U502=\"\",\"\",VLOOKUP(U502,Tabelle!$D$5:$H$7,5,FALSE)))","v":""},{"$f":"IF(M$2021=1,\"\",IF(U502=\"\",\"\",VLOOKUP(U502,Tabelle!$D$5:$I$7,6,FALSE)))","v":""},null,null,null,null,null,null,null,null,null,null,null,{"$f":"IF(B502=\"\",0,IF(B502=B501,COUNTIF(B$9:B501,B502)+1,1))","v":490},0,0]
["495","-1900","-1900-491",null,null,null,null,null,null,null,null,null,null,null,null,null,null,null,null,null,null,{"$f":"IF(M$2021=1,\"\",IF(U503=\"\",\"\",VLOOKUP(U503,Tabelle!$D$5:$H$7,5,FALSE)))","v":""},{"$f":"IF(M$2021=1,\"\",IF(U503=\"\",\"\",VLOOKUP(U503,Tabelle!$D$5:$I$7,6,FALSE)))","v":""},null,null,null,null,null,null,null,null,null,null,null,{"$f":"IF(B503=\"\",0,IF(B503=B502,COUNTIF(B$9:B502,B503)+1,1))","v":491},0,0]
["496","-1900","-1900-492",null,null,null,null,null,null,null,null,null,null,null,null,null,null,null,null,null,null,{"$f":"IF(M$2021=1,\"\",IF(U504=\"\",\"\",VLOOKUP(U504,Tabelle!$D$5:$H$7,5,FALSE)))","v":""},{"$f":"IF(M$2021=1,\"\",IF(U504=\"\",\"\",VLOOKUP(U504,Tabelle!$D$5:$I$7,6,FALSE)))","v":""},null,null,null,null,null,null,null,null,null,null,null,{"$f":"IF(B504=\"\",0,IF(B504=B503,COUNTIF(B$9:B503,B504)+1,1))","v":492},0,0]
["497","-1900","-1900-493",null,null,null,null,null,null,null,null,null,null,null,null,null,null,null,null,null,null,{"$f":"IF(M$2021=1,\"\",IF(U505=\"\",\"\",VLOOKUP(U505,Tabelle!$D$5:$H$7,5,FALSE)))","v":""},{"$f":"IF(M$2021=1,\"\",IF(U505=\"\",\"\",VLOOKUP(U505,Tabelle!$D$5:$I$7,6,FALSE)))","v":""},null,null,null,null,null,null,null,null,null,null,null,{"$f":"IF(B505=\"\",0,IF(B505=B504,COUNTIF(B$9:B504,B505)+1,1))","v":493},0,0]
["498","-1900","-1900-494",null,null,null,null,null,null,null,null,null,null,null,null,null,null,null,null,null,null,{"$f":"IF(M$2021=1,\"\",IF(U506=\"\",\"\",VLOOKUP(U506,Tabelle!$D$5:$H$7,5,FALSE)))","v":""},{"$f":"IF(M$2021=1,\"\",IF(U506=\"\",\"\",VLOOKUP(U506,Tabelle!$D$5:$I$7,6,FALSE)))","v":""},null,null,null,null,null,null,null,null,null,null,null,{"$f":"IF(B506=\"\",0,IF(B506=B505,COUNTIF(B$9:B505,B506)+1,1))","v":494},0,0]
["499","-1900","-1900-495",null,null,null,null,null,null,null,null,null,null,null,null,null,null,null,null,null,null,{"$f":"IF(M$2021=1,\"\",IF(U507=\"\",\"\",VLOOKUP(U507,Tabelle!$D$5:$H$7,5,FALSE)))","v":""},{"$f":"IF(M$2021=1,\"\",IF(U507=\"\",\"\",VLOOKUP(U507,Tabelle!$D$5:$I$7,6,FALSE)))","v":""},null,null,null,null,null,null,null,null,null,null,null,{"$f":"IF(B507=\"\",0,IF(B507=B506,COUNTIF(B$9:B506,B507)+1,1))","v":495},0,0]
["500","-1900","-1900-496",null,null,null,null,null,null,null,null,null,null,null,null,null,null,null,null,null,null,{"$f":"IF(M$2021=1,\"\",IF(U508=\"\",\"\",VLOOKUP(U508,Tabelle!$D$5:$H$7,5,FALSE)))","v":""},{"$f":"IF(M$2021=1,\"\",IF(U508=\"\",\"\",VLOOKUP(U508,Tabelle!$D$5:$I$7,6,FALSE)))","v":""},null,null,null,null,null,null,null,null,null,null,null,{"$f":"IF(B508=\"\",0,IF(B508=B507,COUNTIF(B$9:B507,B508)+1,1))","v":496},0,0]
["501","-1900","-1900-497",null,null,null,null,null,null,null,null,null,null,null,null,null,null,null,null,null,null,{"$f":"IF(M$2021=1,\"\",IF(U509=\"\",\"\",VLOOKUP(U509,Tabelle!$D$5:$H$7,5,FALSE)))","v":""},{"$f":"IF(M$2021=1,\"\",IF(U509=\"\",\"\",VLOOKUP(U509,Tabelle!$D$5:$I$7,6,FALSE)))","v":""},null,null,null,null,null,null,null,null,null,null,null,{"$f":"IF(B509=\"\",0,IF(B509=B508,COUNTIF(B$9:B508,B509)+1,1))","v":497},0,0]
["502","-1900","-1900-498",null,null,null,null,null,null,null,null,null,null,null,null,null,null,null,null,null,null,{"$f":"IF(M$2021=1,\"\",IF(U510=\"\",\"\",VLOOKUP(U510,Tabelle!$D$5:$H$7,5,FALSE)))","v":""},{"$f":"IF(M$2021=1,\"\",IF(U510=\"\",\"\",VLOOKUP(U510,Tabelle!$D$5:$I$7,6,FALSE)))","v":""},null,null,null,null,null,null,null,null,null,null,null,{"$f":"IF(B510=\"\",0,IF(B510=B509,COUNTIF(B$9:B509,B510)+1,1))","v":498},0,0]
["503","-1900","-1900-499",null,null,null,null,null,null,null,null,null,null,null,null,null,null,null,null,null,null,{"$f":"IF(M$2021=1,\"\",IF(U511=\"\",\"\",VLOOKUP(U511,Tabelle!$D$5:$H$7,5,FALSE)))","v":""},{"$f":"IF(M$2021=1,\"\",IF(U511=\"\",\"\",VLOOKUP(U511,Tabelle!$D$5:$I$7,6,FALSE)))","v":""},null,null,null,null,null,null,null,null,null,null,null,{"$f":"IF(B511=\"\",0,IF(B511=B510,COUNTIF(B$9:B510,B511)+1,1))","v":499},0,0]
["504","-1900","-1900-500",null,null,null,null,null,null,null,null,null,null,null,null,null,null,null,null,null,null,{"$f":"IF(M$2021=1,\"\",IF(U512=\"\",\"\",VLOOKUP(U512,Tabelle!$D$5:$H$7,5,FALSE)))","v":""},{"$f":"IF(M$2021=1,\"\",IF(U512=\"\",\"\",VLOOKUP(U512,Tabelle!$D$5:$I$7,6,FALSE)))","v":""},null,null,null,null,null,null,null,null,null,null,null,{"$f":"IF(B512=\"\",0,IF(B512=B511,COUNTIF(B$9:B511,B512)+1,1))","v":500},0,0]
["505","-1900","-1900-501",null,null,null,null,null,null,null,null,null,null,null,null,null,null,null,null,null,null,{"$f":"IF(M$2021=1,\"\",IF(U513=\"\",\"\",VLOOKUP(U513,Tabelle!$D$5:$H$7,5,FALSE)))","v":""},{"$f":"IF(M$2021=1,\"\",IF(U513=\"\",\"\",VLOOKUP(U513,Tabelle!$D$5:$I$7,6,FALSE)))","v":""},null,null,null,null,null,null,null,null,null,null,null,{"$f":"IF(B513=\"\",0,IF(B513=B512,COUNTIF(B$9:B512,B513)+1,1))","v":501},0,0]
["506","-1900","-1900-502",null,null,null,null,null,null,null,null,null,null,null,null,null,null,null,null,null,null,{"$f":"IF(M$2021=1,\"\",IF(U514=\"\",\"\",VLOOKUP(U514,Tabelle!$D$5:$H$7,5,FALSE)))","v":""},{"$f":"IF(M$2021=1,\"\",IF(U514=\"\",\"\",VLOOKUP(U514,Tabelle!$D$5:$I$7,6,FALSE)))","v":""},null,null,null,null,null,null,null,null,null,null,null,{"$f":"IF(B514=\"\",0,IF(B514=B513,COUNTIF(B$9:B513,B514)+1,1))","v":502},0,0]
["507","-1900","-1900-503",null,null,null,null,null,null,null,null,null,null,null,null,null,null,null,null,null,null,{"$f":"IF(M$2021=1,\"\",IF(U515=\"\",\"\",VLOOKUP(U515,Tabelle!$D$5:$H$7,5,FALSE)))","v":""},{"$f":"IF(M$2021=1,\"\",IF(U515=\"\",\"\",VLOOKUP(U515,Tabelle!$D$5:$I$7,6,FALSE)))","v":""},null,null,null,null,null,null,null,null,null,null,null,{"$f":"IF(B515=\"\",0,IF(B515=B514,COUNTIF(B$9:B514,B515)+1,1))","v":503},0,0]
["508","-1900","-1900-504",null,null,null,null,null,null,null,null,null,null,null,null,null,null,null,null,null,null,{"$f":"IF(M$2021=1,\"\",IF(U516=\"\",\"\",VLOOKUP(U516,Tabelle!$D$5:$H$7,5,FALSE)))","v":""},{"$f":"IF(M$2021=1,\"\",IF(U516=\"\",\"\",VLOOKUP(U516,Tabelle!$D$5:$I$7,6,FALSE)))","v":""},null,null,null,null,null,null,null,null,null,null,null,{"$f":"IF(B516=\"\",0,IF(B516=B515,COUNTIF(B$9:B515,B516)+1,1))","v":504},0,0]
["509","-1900","-1900-505",null,null,null,null,null,null,null,null,null,null,null,null,null,null,null,null,null,null,{"$f":"IF(M$2021=1,\"\",IF(U517=\"\",\"\",VLOOKUP(U517,Tabelle!$D$5:$H$7,5,FALSE)))","v":""},{"$f":"IF(M$2021=1,\"\",IF(U517=\"\",\"\",VLOOKUP(U517,Tabelle!$D$5:$I$7,6,FALSE)))","v":""},null,null,null,null,null,null,null,null,null,null,null,{"$f":"IF(B517=\"\",0,IF(B517=B516,COUNTIF(B$9:B516,B517)+1,1))","v":505},0,0]
["510","-1900","-1900-506",null,null,null,null,null,null,null,null,null,null,null,null,null,null,null,null,null,null,{"$f":"IF(M$2021=1,\"\",IF(U518=\"\",\"\",VLOOKUP(U518,Tabelle!$D$5:$H$7,5,FALSE)))","v":""},{"$f":"IF(M$2021=1,\"\",IF(U518=\"\",\"\",VLOOKUP(U518,Tabelle!$D$5:$I$7,6,FALSE)))","v":""},null,null,null,null,null,null,null,null,null,null,null,{"$f":"IF(B518=\"\",0,IF(B518=B517,COUNTIF(B$9:B517,B518)+1,1))","v":506},0,0]
["511","-1900","-1900-507",null,null,null,null,null,null,null,null,null,null,null,null,null,null,null,null,null,null,{"$f":"IF(M$2021=1,\"\",IF(U519=\"\",\"\",VLOOKUP(U519,Tabelle!$D$5:$H$7,5,FALSE)))","v":""},{"$f":"IF(M$2021=1,\"\",IF(U519=\"\",\"\",VLOOKUP(U519,Tabelle!$D$5:$I$7,6,FALSE)))","v":""},null,null,null,null,null,null,null,null,null,null,null,{"$f":"IF(B519=\"\",0,IF(B519=B518,COUNTIF(B$9:B518,B519)+1,1))","v":507},0,0]
["512","-1900","-1900-508",null,null,null,null,null,null,null,null,null,null,null,null,null,null,null,null,null,null,{"$f":"IF(M$2021=1,\"\",IF(U520=\"\",\"\",VLOOKUP(U520,Tabelle!$D$5:$H$7,5,FALSE)))","v":""},{"$f":"IF(M$2021=1,\"\",IF(U520=\"\",\"\",VLOOKUP(U520,Tabelle!$D$5:$I$7,6,FALSE)))","v":""},null,null,null,null,null,null,null,null,null,null,null,{"$f":"IF(B520=\"\",0,IF(B520=B519,COUNTIF(B$9:B519,B520)+1,1))","v":508},0,0]
["513","-1900",{"$f":"IF(M$2021=1,0,B521&\"-\"&AI521)","v":"-1900-509"},null,null,null,null,null,null,null,null,null,null,null,null,null,null,null,null,null,null,{"$f":"IF(M$2021=1,\"\",IF(U521=\"\",\"\",VLOOKUP(U521,Tabelle!$D$5:$H$7,5,FALSE)))","v":""},{"$f":"IF(M$2021=1,\"\",IF(U521=\"\",\"\",VLOOKUP(U521,Tabelle!$D$5:$I$7,6,FALSE)))","v":""},null,null,null,null,null,null,null,null,null,null,null,{"$f":"IF(B521=\"\",0,IF(B521=B520,COUNTIF(B$9:B520,B521)+1,1))","v":509},0,0]
["514",{"$f":"IF(AK522=$AK$2015,0,IF(M$2021=1,0,D522&\"-\"&YEAR(E522)))","v":"-1900"},"-1900-510",null,null,null,null,null,null,null,null,null,null,null,null,null,null,null,null,null,null,{"$f":"IF(M$2021=1,\"\",IF(U522=\"\",\"\",VLOOKUP(U522,Tabelle!$D$5:$H$7,5,FALSE)))","v":""},{"$f":"IF(M$2021=1,\"\",IF(U522=\"\",\"\",VLOOKUP(U522,Tabelle!$D$5:$I$7,6,FALSE)))","v":""},null,null,null,null,null,null,null,null,null,null,null,{"$f":"IF(B522=\"\",0,IF(B522=B521,COUNTIF(B$9:B521,B522)+1,1))","v":510},{"$f":"IF(OR(D522=\"\",M$2021=1),0,IF(AI522=10,1,0))","v":0},{"$f":"IF(E522>0,IF(OR(MONTH(E522)<$J$2027,MONTH(E522)>$J$2028),AK$2015,0),0)","v":0}]
["515","-1900","-1900-511",null,null,null,null,null,null,null,null,null,null,null,null,null,null,null,null,null,null,{"$f":"IF(M$2021=1,\"\",IF(U523=\"\",\"\",VLOOKUP(U523,Tabelle!$D$5:$H$7,5,FALSE)))","v":""},{"$f":"IF(M$2021=1,\"\",IF(U523=\"\",\"\",VLOOKUP(U523,Tabelle!$D$5:$I$7,6,FALSE)))","v":""},null,null,null,null,null,null,null,null,null,null,null,{"$f":"IF(B523=\"\",0,IF(B523=B522,COUNTIF(B$9:B522,B523)+1,1))","v":511},0,0]
["516","-1900","-1900-512",null,null,null,null,null,null,null,null,null,null,null,null,null,null,null,null,null,null,{"$f":"IF(M$2021=1,\"\",IF(U524=\"\",\"\",VLOOKUP(U524,Tabelle!$D$5:$H$7,5,FALSE)))","v":""},{"$f":"IF(M$2021=1,\"\",IF(U524=\"\",\"\",VLOOKUP(U524,Tabelle!$D$5:$I$7,6,FALSE)))","v":""},null,null,null,null,null,null,null,null,null,null,null,{"$f":"IF(B524=\"\",0,IF(B524=B523,COUNTIF(B$9:B523,B524)+1,1))","v":512},0,0]
["517","-1900","-1900-513",null,null,null,null,null,null,null,null,null,null,null,null,null,null,null,null,null,null,{"$f":"IF(M$2021=1,\"\",IF(U525=\"\",\"\",VLOOKUP(U525,Tabelle!$D$5:$H$7,5,FALSE)))","v":""},{"$f":"IF(M$2021=1,\"\",IF(U525=\"\",\"\",VLOOKUP(U525,Tabelle!$D$5:$I$7,6,FALSE)))","v":""},null,null,null,null,null,null,null,null,null,null,null,{"$f":"IF(B525=\"\",0,IF(B525=B524,COUNTIF(B$9:B524,B525)+1,1))","v":513},0,0]
["518","-1900","-1900-514",null,null,null,null,null,null,null,null,null,null,null,null,null,null,null,null,null,null,{"$f":"IF(M$2021=1,\"\",IF(U526=\"\",\"\",VLOOKUP(U526,Tabelle!$D$5:$H$7,5,FALSE)))","v":""},{"$f":"IF(M$2021=1,\"\",IF(U526=\"\",\"\",VLOOKUP(U526,Tabelle!$D$5:$I$7,6,FALSE)))","v":""},null,null,null,null,null,null,null,null,null,null,null,{"$f":"IF(B526=\"\",0,IF(B526=B525,COUNTIF(B$9:B525,B526)+1,1))","v":514},0,0]
["519","-1900","-1900-515",null,null,null,null,null,null,null,null,null,null,null,null,null,null,null,null,null,null,{"$f":"IF(M$2021=1,\"\",IF(U527=\"\",\"\",VLOOKUP(U527,Tabelle!$D$5:$H$7,5,FALSE)))","v":""},{"$f":"IF(M$2021=1,\"\",IF(U527=\"\",\"\",VLOOKUP(U527,Tabelle!$D$5:$I$7,6,FALSE)))","v":""},null,null,null,null,null,null,null,null,null,null,null,{"$f":"IF(B527=\"\",0,IF(B527=B526,COUNTIF(B$9:B526,B527)+1,1))","v":515},0,0]
["520","-1900","-1900-516",null,null,null,null,null,null,null,null,null,null,null,null,null,null,null,null,null,null,{"$f":"IF(M$2021=1,\"\",IF(U528=\"\",\"\",VLOOKUP(U528,Tabelle!$D$5:$H$7,5,FALSE)))","v":""},{"$f":"IF(M$2021=1,\"\",IF(U528=\"\",\"\",VLOOKUP(U528,Tabelle!$D$5:$I$7,6,FALSE)))","v":""},null,null,null,null,null,null,null,null,null,null,null,{"$f":"IF(B528=\"\",0,IF(B528=B527,COUNTIF(B$9:B527,B528)+1,1))","v":516},0,0]
["521","-1900","-1900-517",null,null,null,null,null,null,null,null,null,null,null,null,null,null,null,null,null,null,{"$f":"IF(M$2021=1,\"\",IF(U529=\"\",\"\",VLOOKUP(U529,Tabelle!$D$5:$H$7,5,FALSE)))","v":""},{"$f":"IF(M$2021=1,\"\",IF(U529=\"\",\"\",VLOOKUP(U529,Tabelle!$D$5:$I$7,6,FALSE)))","v":""},null,null,null,null,null,null,null,null,null,null,null,{"$f":"IF(B529=\"\",0,IF(B529=B528,COUNTIF(B$9:B528,B529)+1,1))","v":517},0,0]
["522","-1900","-1900-518",null,null,null,null,null,null,null,null,null,null,null,null,null,null,null,null,null,null,{"$f":"IF(M$2021=1,\"\",IF(U530=\"\",\"\",VLOOKUP(U530,Tabelle!$D$5:$H$7,5,FALSE)))","v":""},{"$f":"IF(M$2021=1,\"\",IF(U530=\"\",\"\",VLOOKUP(U530,Tabelle!$D$5:$I$7,6,FALSE)))","v":""},null,null,null,null,null,null,null,null,null,null,null,{"$f":"IF(B530=\"\",0,IF(B530=B529,COUNTIF(B$9:B529,B530)+1,1))","v":518},0,0]
["523","-1900","-1900-519",null,null,null,null,null,null,null,null,null,null,null,null,null,null,null,null,null,null,{"$f":"IF(M$2021=1,\"\",IF(U531=\"\",\"\",VLOOKUP(U531,Tabelle!$D$5:$H$7,5,FALSE)))","v":""},{"$f":"IF(M$2021=1,\"\",IF(U531=\"\",\"\",VLOOKUP(U531,Tabelle!$D$5:$I$7,6,FALSE)))","v":""},null,null,null,null,null,null,null,null,null,null,null,{"$f":"IF(B531=\"\",0,IF(B531=B530,COUNTIF(B$9:B530,B531)+1,1))","v":519},0,0]
["524","-1900","-1900-520",null,null,null,null,null,null,null,null,null,null,null,null,null,null,null,null,null,null,{"$f":"IF(M$2021=1,\"\",IF(U532=\"\",\"\",VLOOKUP(U532,Tabelle!$D$5:$H$7,5,FALSE)))","v":""},{"$f":"IF(M$2021=1,\"\",IF(U532=\"\",\"\",VLOOKUP(U532,Tabelle!$D$5:$I$7,6,FALSE)))","v":""},null,null,null,null,null,null,null,null,null,null,null,{"$f":"IF(B532=\"\",0,IF(B532=B531,COUNTIF(B$9:B531,B532)+1,1))","v":520},0,0]
["525","-1900","-1900-521",null,null,null,null,null,null,null,null,null,null,null,null,null,null,null,null,null,null,{"$f":"IF(M$2021=1,\"\",IF(U533=\"\",\"\",VLOOKUP(U533,Tabelle!$D$5:$H$7,5,FALSE)))","v":""},{"$f":"IF(M$2021=1,\"\",IF(U533=\"\",\"\",VLOOKUP(U533,Tabelle!$D$5:$I$7,6,FALSE)))","v":""},null,null,null,null,null,null,null,null,null,null,null,{"$f":"IF(B533=\"\",0,IF(B533=B532,COUNTIF(B$9:B532,B533)+1,1))","v":521},0,0]
["526","-1900","-1900-522",null,null,null,null,null,null,null,null,null,null,null,null,null,null,null,null,null,null,{"$f":"IF(M$2021=1,\"\",IF(U534=\"\",\"\",VLOOKUP(U534,Tabelle!$D$5:$H$7,5,FALSE)))","v":""},{"$f":"IF(M$2021=1,\"\",IF(U534=\"\",\"\",VLOOKUP(U534,Tabelle!$D$5:$I$7,6,FALSE)))","v":""},null,null,null,null,null,null,null,null,null,null,null,{"$f":"IF(B534=\"\",0,IF(B534=B533,COUNTIF(B$9:B533,B534)+1,1))","v":522},0,0]
["527","-1900","-1900-523",null,null,null,null,null,null,null,null,null,null,null,null,null,null,null,null,null,null,{"$f":"IF(M$2021=1,\"\",IF(U535=\"\",\"\",VLOOKUP(U535,Tabelle!$D$5:$H$7,5,FALSE)))","v":""},{"$f":"IF(M$2021=1,\"\",IF(U535=\"\",\"\",VLOOKUP(U535,Tabelle!$D$5:$I$7,6,FALSE)))","v":""},null,null,null,null,null,null,null,null,null,null,null,{"$f":"IF(B535=\"\",0,IF(B535=B534,COUNTIF(B$9:B534,B535)+1,1))","v":523},0,0]
["528","-1900","-1900-524",null,null,null,null,null,null,null,null,null,null,null,null,null,null,null,null,null,null,{"$f":"IF(M$2021=1,\"\",IF(U536=\"\",\"\",VLOOKUP(U536,Tabelle!$D$5:$H$7,5,FALSE)))","v":""},{"$f":"IF(M$2021=1,\"\",IF(U536=\"\",\"\",VLOOKUP(U536,Tabelle!$D$5:$I$7,6,FALSE)))","v":""},null,null,null,null,null,null,null,null,null,null,null,{"$f":"IF(B536=\"\",0,IF(B536=B535,COUNTIF(B$9:B535,B536)+1,1))","v":524},0,0]
["529","-1900","-1900-525",null,null,null,null,null,null,null,null,null,null,null,null,null,null,null,null,null,null,{"$f":"IF(M$2021=1,\"\",IF(U537=\"\",\"\",VLOOKUP(U537,Tabelle!$D$5:$H$7,5,FALSE)))","v":""},{"$f":"IF(M$2021=1,\"\",IF(U537=\"\",\"\",VLOOKUP(U537,Tabelle!$D$5:$I$7,6,FALSE)))","v":""},null,null,null,null,null,null,null,null,null,null,null,{"$f":"IF(B537=\"\",0,IF(B537=B536,COUNTIF(B$9:B536,B537)+1,1))","v":525},0,0]
["530","-1900","-1900-526",null,null,null,null,null,null,null,null,null,null,null,null,null,null,null,null,null,null,{"$f":"IF(M$2021=1,\"\",IF(U538=\"\",\"\",VLOOKUP(U538,Tabelle!$D$5:$H$7,5,FALSE)))","v":""},{"$f":"IF(M$2021=1,\"\",IF(U538=\"\",\"\",VLOOKUP(U538,Tabelle!$D$5:$I$7,6,FALSE)))","v":""},null,null,null,null,null,null,null,null,null,null,null,{"$f":"IF(B538=\"\",0,IF(B538=B537,COUNTIF(B$9:B537,B538)+1,1))","v":526},0,0]
["531","-1900","-1900-527",null,null,null,null,null,null,null,null,null,null,null,null,null,null,null,null,null,null,{"$f":"IF(M$2021=1,\"\",IF(U539=\"\",\"\",VLOOKUP(U539,Tabelle!$D$5:$H$7,5,FALSE)))","v":""},{"$f":"IF(M$2021=1,\"\",IF(U539=\"\",\"\",VLOOKUP(U539,Tabelle!$D$5:$I$7,6,FALSE)))","v":""},null,null,null,null,null,null,null,null,null,null,null,{"$f":"IF(B539=\"\",0,IF(B539=B538,COUNTIF(B$9:B538,B539)+1,1))","v":527},0,0]
["532","-1900","-1900-528",null,null,null,null,null,null,null,null,null,null,null,null,null,null,null,null,null,null,{"$f":"IF(M$2021=1,\"\",IF(U540=\"\",\"\",VLOOKUP(U540,Tabelle!$D$5:$H$7,5,FALSE)))","v":""},{"$f":"IF(M$2021=1,\"\",IF(U540=\"\",\"\",VLOOKUP(U540,Tabelle!$D$5:$I$7,6,FALSE)))","v":""},null,null,null,null,null,null,null,null,null,null,null,{"$f":"IF(B540=\"\",0,IF(B540=B539,COUNTIF(B$9:B539,B540)+1,1))","v":528},0,0]
["533","-1900","-1900-529",null,null,null,null,null,null,null,null,null,null,null,null,null,null,null,null,null,null,{"$f":"IF(M$2021=1,\"\",IF(U541=\"\",\"\",VLOOKUP(U541,Tabelle!$D$5:$H$7,5,FALSE)))","v":""},{"$f":"IF(M$2021=1,\"\",IF(U541=\"\",\"\",VLOOKUP(U541,Tabelle!$D$5:$I$7,6,FALSE)))","v":""},null,null,null,null,null,null,null,null,null,null,null,{"$f":"IF(B541=\"\",0,IF(B541=B540,COUNTIF(B$9:B540,B541)+1,1))","v":529},0,0]
["534","-1900","-1900-530",null,null,null,null,null,null,null,null,null,null,null,null,null,null,null,null,null,null,{"$f":"IF(M$2021=1,\"\",IF(U542=\"\",\"\",VLOOKUP(U542,Tabelle!$D$5:$H$7,5,FALSE)))","v":""},{"$f":"IF(M$2021=1,\"\",IF(U542=\"\",\"\",VLOOKUP(U542,Tabelle!$D$5:$I$7,6,FALSE)))","v":""},null,null,null,null,null,null,null,null,null,null,null,{"$f":"IF(B542=\"\",0,IF(B542=B541,COUNTIF(B$9:B541,B542)+1,1))","v":530},0,0]
["535","-1900","-1900-531",null,null,null,null,null,null,null,null,null,null,null,null,null,null,null,null,null,null,{"$f":"IF(M$2021=1,\"\",IF(U543=\"\",\"\",VLOOKUP(U543,Tabelle!$D$5:$H$7,5,FALSE)))","v":""},{"$f":"IF(M$2021=1,\"\",IF(U543=\"\",\"\",VLOOKUP(U543,Tabelle!$D$5:$I$7,6,FALSE)))","v":""},null,null,null,null,null,null,null,null,null,null,null,{"$f":"IF(B543=\"\",0,IF(B543=B542,COUNTIF(B$9:B542,B543)+1,1))","v":531},0,0]
["536","-1900","-1900-532",null,null,null,null,null,null,null,null,null,null,null,null,null,null,null,null,null,null,{"$f":"IF(M$2021=1,\"\",IF(U544=\"\",\"\",VLOOKUP(U544,Tabelle!$D$5:$H$7,5,FALSE)))","v":""},{"$f":"IF(M$2021=1,\"\",IF(U544=\"\",\"\",VLOOKUP(U544,Tabelle!$D$5:$I$7,6,FALSE)))","v":""},null,null,null,null,null,null,null,null,null,null,null,{"$f":"IF(B544=\"\",0,IF(B544=B543,COUNTIF(B$9:B543,B544)+1,1))","v":532},0,0]
["537","-1900","-1900-533",null,null,null,null,null,null,null,null,null,null,null,null,null,null,null,null,null,null,{"$f":"IF(M$2021=1,\"\",IF(U545=\"\",\"\",VLOOKUP(U545,Tabelle!$D$5:$H$7,5,FALSE)))","v":""},{"$f":"IF(M$2021=1,\"\",IF(U545=\"\",\"\",VLOOKUP(U545,Tabelle!$D$5:$I$7,6,FALSE)))","v":""},null,null,null,null,null,null,null,null,null,null,null,{"$f":"IF(B545=\"\",0,IF(B545=B544,COUNTIF(B$9:B544,B545)+1,1))","v":533},0,0]
["538","-1900","-1900-534",null,null,null,null,null,null,null,null,null,null,null,null,null,null,null,null,null,null,{"$f":"IF(M$2021=1,\"\",IF(U546=\"\",\"\",VLOOKUP(U546,Tabelle!$D$5:$H$7,5,FALSE)))","v":""},{"$f":"IF(M$2021=1,\"\",IF(U546=\"\",\"\",VLOOKUP(U546,Tabelle!$D$5:$I$7,6,FALSE)))","v":""},null,null,null,null,null,null,null,null,null,null,null,{"$f":"IF(B546=\"\",0,IF(B546=B545,COUNTIF(B$9:B545,B546)+1,1))","v":534},0,0]
["539","-1900","-1900-535",null,null,null,null,null,null,null,null,null,null,null,null,null,null,null,null,null,null,{"$f":"IF(M$2021=1,\"\",IF(U547=\"\",\"\",VLOOKUP(U547,Tabelle!$D$5:$H$7,5,FALSE)))","v":""},{"$f":"IF(M$2021=1,\"\",IF(U547=\"\",\"\",VLOOKUP(U547,Tabelle!$D$5:$I$7,6,FALSE)))","v":""},null,null,null,null,null,null,null,null,null,null,null,{"$f":"IF(B547=\"\",0,IF(B547=B546,COUNTIF(B$9:B546,B547)+1,1))","v":535},0,0]
["540","-1900","-1900-536",null,null,null,null,null,null,null,null,null,null,null,null,null,null,null,null,null,null,{"$f":"IF(M$2021=1,\"\",IF(U548=\"\",\"\",VLOOKUP(U548,Tabelle!$D$5:$H$7,5,FALSE)))","v":""},{"$f":"IF(M$2021=1,\"\",IF(U548=\"\",\"\",VLOOKUP(U548,Tabelle!$D$5:$I$7,6,FALSE)))","v":""},null,null,null,null,null,null,null,null,null,null,null,{"$f":"IF(B548=\"\",0,IF(B548=B547,COUNTIF(B$9:B547,B548)+1,1))","v":536},0,0]
["541","-1900","-1900-537",null,null,null,null,null,null,null,null,null,null,null,null,null,null,null,null,null,null,{"$f":"IF(M$2021=1,\"\",IF(U549=\"\",\"\",VLOOKUP(U549,Tabelle!$D$5:$H$7,5,FALSE)))","v":""},{"$f":"IF(M$2021=1,\"\",IF(U549=\"\",\"\",VLOOKUP(U549,Tabelle!$D$5:$I$7,6,FALSE)))","v":""},null,null,null,null,null,null,null,null,null,null,null,{"$f":"IF(B549=\"\",0,IF(B549=B548,COUNTIF(B$9:B548,B549)+1,1))","v":537},0,0]
["542","-1900","-1900-538",null,null,null,null,null,null,null,null,null,null,null,null,null,null,null,null,null,null,{"$f":"IF(M$2021=1,\"\",IF(U550=\"\",\"\",VLOOKUP(U550,Tabelle!$D$5:$H$7,5,FALSE)))","v":""},{"$f":"IF(M$2021=1,\"\",IF(U550=\"\",\"\",VLOOKUP(U550,Tabelle!$D$5:$I$7,6,FALSE)))","v":""},null,null,null,null,null,null,null,null,null,null,null,{"$f":"IF(B550=\"\",0,IF(B550=B549,COUNTIF(B$9:B549,B550)+1,1))","v":538},0,0]
["543","-1900","-1900-539",null,null,null,null,null,null,null,null,null,null,null,null,null,null,null,null,null,null,{"$f":"IF(M$2021=1,\"\",IF(U551=\"\",\"\",VLOOKUP(U551,Tabelle!$D$5:$H$7,5,FALSE)))","v":""},{"$f":"IF(M$2021=1,\"\",IF(U551=\"\",\"\",VLOOKUP(U551,Tabelle!$D$5:$I$7,6,FALSE)))","v":""},null,null,null,null,null,null,null,null,null,null,null,{"$f":"IF(B551=\"\",0,IF(B551=B550,COUNTIF(B$9:B550,B551)+1,1))","v":539},0,0]
["544","-1900","-1900-540",null,null,null,null,null,null,null,null,null,null,null,null,null,null,null,null,null,null,{"$f":"IF(M$2021=1,\"\",IF(U552=\"\",\"\",VLOOKUP(U552,Tabelle!$D$5:$H$7,5,FALSE)))","v":""},{"$f":"IF(M$2021=1,\"\",IF(U552=\"\",\"\",VLOOKUP(U552,Tabelle!$D$5:$I$7,6,FALSE)))","v":""},null,null,null,null,null,null,null,null,null,null,null,{"$f":"IF(B552=\"\",0,IF(B552=B551,COUNTIF(B$9:B551,B552)+1,1))","v":540},0,0]
["545","-1900","-1900-541",null,null,null,null,null,null,null,null,null,null,null,null,null,null,null,null,null,null,{"$f":"IF(M$2021=1,\"\",IF(U553=\"\",\"\",VLOOKUP(U553,Tabelle!$D$5:$H$7,5,FALSE)))","v":""},{"$f":"IF(M$2021=1,\"\",IF(U553=\"\",\"\",VLOOKUP(U553,Tabelle!$D$5:$I$7,6,FALSE)))","v":""},null,null,null,null,null,null,null,null,null,null,null,{"$f":"IF(B553=\"\",0,IF(B553=B552,COUNTIF(B$9:B552,B553)+1,1))","v":541},0,0]
["546","-1900","-1900-542",null,null,null,null,null,null,null,null,null,null,null,null,null,null,null,null,null,null,{"$f":"IF(M$2021=1,\"\",IF(U554=\"\",\"\",VLOOKUP(U554,Tabelle!$D$5:$H$7,5,FALSE)))","v":""},{"$f":"IF(M$2021=1,\"\",IF(U554=\"\",\"\",VLOOKUP(U554,Tabelle!$D$5:$I$7,6,FALSE)))","v":""},null,null,null,null,null,null,null,null,null,null,null,{"$f":"IF(B554=\"\",0,IF(B554=B553,COUNTIF(B$9:B553,B554)+1,1))","v":542},0,0]
["547","-1900","-1900-543",null,null,null,null,null,null,null,null,null,null,null,null,null,null,null,null,null,null,{"$f":"IF(M$2021=1,\"\",IF(U555=\"\",\"\",VLOOKUP(U555,Tabelle!$D$5:$H$7,5,FALSE)))","v":""},{"$f":"IF(M$2021=1,\"\",IF(U555=\"\",\"\",VLOOKUP(U555,Tabelle!$D$5:$I$7,6,FALSE)))","v":""},null,null,null,null,null,null,null,null,null,null,null,{"$f":"IF(B555=\"\",0,IF(B555=B554,COUNTIF(B$9:B554,B555)+1,1))","v":543},0,0]
["548","-1900","-1900-544",null,null,null,null,null,null,null,null,null,null,null,null,null,null,null,null,null,null,{"$f":"IF(M$2021=1,\"\",IF(U556=\"\",\"\",VLOOKUP(U556,Tabelle!$D$5:$H$7,5,FALSE)))","v":""},{"$f":"IF(M$2021=1,\"\",IF(U556=\"\",\"\",VLOOKUP(U556,Tabelle!$D$5:$I$7,6,FALSE)))","v":""},null,null,null,null,null,null,null,null,null,null,null,{"$f":"IF(B556=\"\",0,IF(B556=B555,COUNTIF(B$9:B555,B556)+1,1))","v":544},0,0]
["549","-1900","-1900-545",null,null,null,null,null,null,null,null,null,null,null,null,null,null,null,null,null,null,{"$f":"IF(M$2021=1,\"\",IF(U557=\"\",\"\",VLOOKUP(U557,Tabelle!$D$5:$H$7,5,FALSE)))","v":""},{"$f":"IF(M$2021=1,\"\",IF(U557=\"\",\"\",VLOOKUP(U557,Tabelle!$D$5:$I$7,6,FALSE)))","v":""},null,null,null,null,null,null,null,null,null,null,null,{"$f":"IF(B557=\"\",0,IF(B557=B556,COUNTIF(B$9:B556,B557)+1,1))","v":545},0,0]
["550","-1900","-1900-546",null,null,null,null,null,null,null,null,null,null,null,null,null,null,null,null,null,null,{"$f":"IF(M$2021=1,\"\",IF(U558=\"\",\"\",VLOOKUP(U558,Tabelle!$D$5:$H$7,5,FALSE)))","v":""},{"$f":"IF(M$2021=1,\"\",IF(U558=\"\",\"\",VLOOKUP(U558,Tabelle!$D$5:$I$7,6,FALSE)))","v":""},null,null,null,null,null,null,null,null,null,null,null,{"$f":"IF(B558=\"\",0,IF(B558=B557,COUNTIF(B$9:B557,B558)+1,1))","v":546},0,0]
["551","-1900","-1900-547",null,null,null,null,null,null,null,null,null,null,null,null,null,null,null,null,null,null,{"$f":"IF(M$2021=1,\"\",IF(U559=\"\",\"\",VLOOKUP(U559,Tabelle!$D$5:$H$7,5,FALSE)))","v":""},{"$f":"IF(M$2021=1,\"\",IF(U559=\"\",\"\",VLOOKUP(U559,Tabelle!$D$5:$I$7,6,FALSE)))","v":""},null,null,null,null,null,null,null,null,null,null,null,{"$f":"IF(B559=\"\",0,IF(B559=B558,COUNTIF(B$9:B558,B559)+1,1))","v":547},0,0]
["552","-1900","-1900-548",null,null,null,null,null,null,null,null,null,null,null,null,null,null,null,null,null,null,{"$f":"IF(M$2021=1,\"\",IF(U560=\"\",\"\",VLOOKUP(U560,Tabelle!$D$5:$H$7,5,FALSE)))","v":""},{"$f":"IF(M$2021=1,\"\",IF(U560=\"\",\"\",VLOOKUP(U560,Tabelle!$D$5:$I$7,6,FALSE)))","v":""},null,null,null,null,null,null,null,null,null,null,null,{"$f":"IF(B560=\"\",0,IF(B560=B559,COUNTIF(B$9:B559,B560)+1,1))","v":548},0,0]
["553","-1900","-1900-549",null,null,null,null,null,null,null,null,null,null,null,null,null,null,null,null,null,null,{"$f":"IF(M$2021=1,\"\",IF(U561=\"\",\"\",VLOOKUP(U561,Tabelle!$D$5:$H$7,5,FALSE)))","v":""},{"$f":"IF(M$2021=1,\"\",IF(U561=\"\",\"\",VLOOKUP(U561,Tabelle!$D$5:$I$7,6,FALSE)))","v":""},null,null,null,null,null,null,null,null,null,null,null,{"$f":"IF(B561=\"\",0,IF(B561=B560,COUNTIF(B$9:B560,B561)+1,1))","v":549},0,0]
["554","-1900","-1900-550",null,null,null,null,null,null,null,null,null,null,null,null,null,null,null,null,null,null,{"$f":"IF(M$2021=1,\"\",IF(U562=\"\",\"\",VLOOKUP(U562,Tabelle!$D$5:$H$7,5,FALSE)))","v":""},{"$f":"IF(M$2021=1,\"\",IF(U562=\"\",\"\",VLOOKUP(U562,Tabelle!$D$5:$I$7,6,FALSE)))","v":""},null,null,null,null,null,null,null,null,null,null,null,{"$f":"IF(B562=\"\",0,IF(B562=B561,COUNTIF(B$9:B561,B562)+1,1))","v":550},0,0]
["555","-1900","-1900-551",null,null,null,null,null,null,null,null,null,null,null,null,null,null,null,null,null,null,{"$f":"IF(M$2021=1,\"\",IF(U563=\"\",\"\",VLOOKUP(U563,Tabelle!$D$5:$H$7,5,FALSE)))","v":""},{"$f":"IF(M$2021=1,\"\",IF(U563=\"\",\"\",VLOOKUP(U563,Tabelle!$D$5:$I$7,6,FALSE)))","v":""},null,null,null,null,null,null,null,null,null,null,null,{"$f":"IF(B563=\"\",0,IF(B563=B562,COUNTIF(B$9:B562,B563)+1,1))","v":551},0,0]
["556","-1900","-1900-552",null,null,null,null,null,null,null,null,null,null,null,null,null,null,null,null,null,null,{"$f":"IF(M$2021=1,\"\",IF(U564=\"\",\"\",VLOOKUP(U564,Tabelle!$D$5:$H$7,5,FALSE)))","v":""},{"$f":"IF(M$2021=1,\"\",IF(U564=\"\",\"\",VLOOKUP(U564,Tabelle!$D$5:$I$7,6,FALSE)))","v":""},null,null,null,null,null,null,null,null,null,null,null,{"$f":"IF(B564=\"\",0,IF(B564=B563,COUNTIF(B$9:B563,B564)+1,1))","v":552},0,0]
["557","-1900","-1900-553",null,null,null,null,null,null,null,null,null,null,null,null,null,null,null,null,null,null,{"$f":"IF(M$2021=1,\"\",IF(U565=\"\",\"\",VLOOKUP(U565,Tabelle!$D$5:$H$7,5,FALSE)))","v":""},{"$f":"IF(M$2021=1,\"\",IF(U565=\"\",\"\",VLOOKUP(U565,Tabelle!$D$5:$I$7,6,FALSE)))","v":""},null,null,null,null,null,null,null,null,null,null,null,{"$f":"IF(B565=\"\",0,IF(B565=B564,COUNTIF(B$9:B564,B565)+1,1))","v":553},0,0]
["558","-1900","-1900-554",null,null,null,null,null,null,null,null,null,null,null,null,null,null,null,null,null,null,{"$f":"IF(M$2021=1,\"\",IF(U566=\"\",\"\",VLOOKUP(U566,Tabelle!$D$5:$H$7,5,FALSE)))","v":""},{"$f":"IF(M$2021=1,\"\",IF(U566=\"\",\"\",VLOOKUP(U566,Tabelle!$D$5:$I$7,6,FALSE)))","v":""},null,null,null,null,null,null,null,null,null,null,null,{"$f":"IF(B566=\"\",0,IF(B566=B565,COUNTIF(B$9:B565,B566)+1,1))","v":554},0,0]
["559","-1900","-1900-555",null,null,null,null,null,null,null,null,null,null,null,null,null,null,null,null,null,null,{"$f":"IF(M$2021=1,\"\",IF(U567=\"\",\"\",VLOOKUP(U567,Tabelle!$D$5:$H$7,5,FALSE)))","v":""},{"$f":"IF(M$2021=1,\"\",IF(U567=\"\",\"\",VLOOKUP(U567,Tabelle!$D$5:$I$7,6,FALSE)))","v":""},null,null,null,null,null,null,null,null,null,null,null,{"$f":"IF(B567=\"\",0,IF(B567=B566,COUNTIF(B$9:B566,B567)+1,1))","v":555},0,0]
["560","-1900","-1900-556",null,null,null,null,null,null,null,null,null,null,null,null,null,null,null,null,null,null,{"$f":"IF(M$2021=1,\"\",IF(U568=\"\",\"\",VLOOKUP(U568,Tabelle!$D$5:$H$7,5,FALSE)))","v":""},{"$f":"IF(M$2021=1,\"\",IF(U568=\"\",\"\",VLOOKUP(U568,Tabelle!$D$5:$I$7,6,FALSE)))","v":""},null,null,null,null,null,null,null,null,null,null,null,{"$f":"IF(B568=\"\",0,IF(B568=B567,COUNTIF(B$9:B567,B568)+1,1))","v":556},0,0]
["561","-1900","-1900-557",null,null,null,null,null,null,null,null,null,null,null,null,null,null,null,null,null,null,{"$f":"IF(M$2021=1,\"\",IF(U569=\"\",\"\",VLOOKUP(U569,Tabelle!$D$5:$H$7,5,FALSE)))","v":""},{"$f":"IF(M$2021=1,\"\",IF(U569=\"\",\"\",VLOOKUP(U569,Tabelle!$D$5:$I$7,6,FALSE)))","v":""},null,null,null,null,null,null,null,null,null,null,null,{"$f":"IF(B569=\"\",0,IF(B569=B568,COUNTIF(B$9:B568,B569)+1,1))","v":557},0,0]
["562","-1900","-1900-558",null,null,null,null,null,null,null,null,null,null,null,null,null,null,null,null,null,null,{"$f":"IF(M$2021=1,\"\",IF(U570=\"\",\"\",VLOOKUP(U570,Tabelle!$D$5:$H$7,5,FALSE)))","v":""},{"$f":"IF(M$2021=1,\"\",IF(U570=\"\",\"\",VLOOKUP(U570,Tabelle!$D$5:$I$7,6,FALSE)))","v":""},null,null,null,null,null,null,null,null,null,null,null,{"$f":"IF(B570=\"\",0,IF(B570=B569,COUNTIF(B$9:B569,B570)+1,1))","v":558},0,0]
["563","-1900","-1900-559",null,null,null,null,null,null,null,null,null,null,null,null,null,null,null,null,null,null,{"$f":"IF(M$2021=1,\"\",IF(U571=\"\",\"\",VLOOKUP(U571,Tabelle!$D$5:$H$7,5,FALSE)))","v":""},{"$f":"IF(M$2021=1,\"\",IF(U571=\"\",\"\",VLOOKUP(U571,Tabelle!$D$5:$I$7,6,FALSE)))","v":""},null,null,null,null,null,null,null,null,null,null,null,{"$f":"IF(B571=\"\",0,IF(B571=B570,COUNTIF(B$9:B570,B571)+1,1))","v":559},0,0]
["564","-1900","-1900-560",null,null,null,null,null,null,null,null,null,null,null,null,null,null,null,null,null,null,{"$f":"IF(M$2021=1,\"\",IF(U572=\"\",\"\",VLOOKUP(U572,Tabelle!$D$5:$H$7,5,FALSE)))","v":""},{"$f":"IF(M$2021=1,\"\",IF(U572=\"\",\"\",VLOOKUP(U572,Tabelle!$D$5:$I$7,6,FALSE)))","v":""},null,null,null,null,null,null,null,null,null,null,null,{"$f":"IF(B572=\"\",0,IF(B572=B571,COUNTIF(B$9:B571,B572)+1,1))","v":560},0,0]
["565","-1900","-1900-561",null,null,null,null,null,null,null,null,null,null,null,null,null,null,null,null,null,null,{"$f":"IF(M$2021=1,\"\",IF(U573=\"\",\"\",VLOOKUP(U573,Tabelle!$D$5:$H$7,5,FALSE)))","v":""},{"$f":"IF(M$2021=1,\"\",IF(U573=\"\",\"\",VLOOKUP(U573,Tabelle!$D$5:$I$7,6,FALSE)))","v":""},null,null,null,null,null,null,null,null,null,null,null,{"$f":"IF(B573=\"\",0,IF(B573=B572,COUNTIF(B$9:B572,B573)+1,1))","v":561},0,0]
["566","-1900","-1900-562",null,null,null,null,null,null,null,null,null,null,null,null,null,null,null,null,null,null,{"$f":"IF(M$2021=1,\"\",IF(U574=\"\",\"\",VLOOKUP(U574,Tabelle!$D$5:$H$7,5,FALSE)))","v":""},{"$f":"IF(M$2021=1,\"\",IF(U574=\"\",\"\",VLOOKUP(U574,Tabelle!$D$5:$I$7,6,FALSE)))","v":""},null,null,null,null,null,null,null,null,null,null,null,{"$f":"IF(B574=\"\",0,IF(B574=B573,COUNTIF(B$9:B573,B574)+1,1))","v":562},0,0]
["567","-1900","-1900-563",null,null,null,null,null,null,null,null,null,null,null,null,null,null,null,null,null,null,{"$f":"IF(M$2021=1,\"\",IF(U575=\"\",\"\",VLOOKUP(U575,Tabelle!$D$5:$H$7,5,FALSE)))","v":""},{"$f":"IF(M$2021=1,\"\",IF(U575=\"\",\"\",VLOOKUP(U575,Tabelle!$D$5:$I$7,6,FALSE)))","v":""},null,null,null,null,null,null,null,null,null,null,null,{"$f":"IF(B575=\"\",0,IF(B575=B574,COUNTIF(B$9:B574,B575)+1,1))","v":563},0,0]
["568","-1900","-1900-564",null,null,null,null,null,null,null,null,null,null,null,null,null,null,null,null,null,null,{"$f":"IF(M$2021=1,\"\",IF(U576=\"\",\"\",VLOOKUP(U576,Tabelle!$D$5:$H$7,5,FALSE)))","v":""},{"$f":"IF(M$2021=1,\"\",IF(U576=\"\",\"\",VLOOKUP(U576,Tabelle!$D$5:$I$7,6,FALSE)))","v":""},null,null,null,null,null,null,null,null,null,null,null,{"$f":"IF(B576=\"\",0,IF(B576=B575,COUNTIF(B$9:B575,B576)+1,1))","v":564},0,0]
["569","-1900","-1900-565",null,null,null,null,null,null,null,null,null,null,null,null,null,null,null,null,null,null,{"$f":"IF(M$2021=1,\"\",IF(U577=\"\",\"\",VLOOKUP(U577,Tabelle!$D$5:$H$7,5,FALSE)))","v":""},{"$f":"IF(M$2021=1,\"\",IF(U577=\"\",\"\",VLOOKUP(U577,Tabelle!$D$5:$I$7,6,FALSE)))","v":""},null,null,null,null,null,null,null,null,null,null,null,{"$f":"IF(B577=\"\",0,IF(B577=B576,COUNTIF(B$9:B576,B577)+1,1))","v":565},0,0]
["570","-1900","-1900-566",null,null,null,null,null,null,null,null,null,null,null,null,null,null,null,null,null,null,{"$f":"IF(M$2021=1,\"\",IF(U578=\"\",\"\",VLOOKUP(U578,Tabelle!$D$5:$H$7,5,FALSE)))","v":""},{"$f":"IF(M$2021=1,\"\",IF(U578=\"\",\"\",VLOOKUP(U578,Tabelle!$D$5:$I$7,6,FALSE)))","v":""},null,null,null,null,null,null,null,null,null,null,null,{"$f":"IF(B578=\"\",0,IF(B578=B577,COUNTIF(B$9:B577,B578)+1,1))","v":566},0,0]
["571","-1900","-1900-567",null,null,null,null,null,null,null,null,null,null,null,null,null,null,null,null,null,null,{"$f":"IF(M$2021=1,\"\",IF(U579=\"\",\"\",VLOOKUP(U579,Tabelle!$D$5:$H$7,5,FALSE)))","v":""},{"$f":"IF(M$2021=1,\"\",IF(U579=\"\",\"\",VLOOKUP(U579,Tabelle!$D$5:$I$7,6,FALSE)))","v":""},null,null,null,null,null,null,null,null,null,null,null,{"$f":"IF(B579=\"\",0,IF(B579=B578,COUNTIF(B$9:B578,B579)+1,1))","v":567},0,0]
["572","-1900","-1900-568",null,null,null,null,null,null,null,null,null,null,null,null,null,null,null,null,null,null,{"$f":"IF(M$2021=1,\"\",IF(U580=\"\",\"\",VLOOKUP(U580,Tabelle!$D$5:$H$7,5,FALSE)))","v":""},{"$f":"IF(M$2021=1,\"\",IF(U580=\"\",\"\",VLOOKUP(U580,Tabelle!$D$5:$I$7,6,FALSE)))","v":""},null,null,null,null,null,null,null,null,null,null,null,{"$f":"IF(B580=\"\",0,IF(B580=B579,COUNTIF(B$9:B579,B580)+1,1))","v":568},0,0]
["573","-1900","-1900-569",null,null,null,null,null,null,null,null,null,null,null,null,null,null,null,null,null,null,{"$f":"IF(M$2021=1,\"\",IF(U581=\"\",\"\",VLOOKUP(U581,Tabelle!$D$5:$H$7,5,FALSE)))","v":""},{"$f":"IF(M$2021=1,\"\",IF(U581=\"\",\"\",VLOOKUP(U581,Tabelle!$D$5:$I$7,6,FALSE)))","v":""},null,null,null,null,null,null,null,null,null,null,null,{"$f":"IF(B581=\"\",0,IF(B581=B580,COUNTIF(B$9:B580,B581)+1,1))","v":569},0,0]
["574","-1900","-1900-570",null,null,null,null,null,null,null,null,null,null,null,null,null,null,null,null,null,null,{"$f":"IF(M$2021=1,\"\",IF(U582=\"\",\"\",VLOOKUP(U582,Tabelle!$D$5:$H$7,5,FALSE)))","v":""},{"$f":"IF(M$2021=1,\"\",IF(U582=\"\",\"\",VLOOKUP(U582,Tabelle!$D$5:$I$7,6,FALSE)))","v":""},null,null,null,null,null,null,null,null,null,null,null,{"$f":"IF(B582=\"\",0,IF(B582=B581,COUNTIF(B$9:B581,B582)+1,1))","v":570},0,0]
["575","-1900","-1900-571",null,null,null,null,null,null,null,null,null,null,null,null,null,null,null,null,null,null,{"$f":"IF(M$2021=1,\"\",IF(U583=\"\",\"\",VLOOKUP(U583,Tabelle!$D$5:$H$7,5,FALSE)))","v":""},{"$f":"IF(M$2021=1,\"\",IF(U583=\"\",\"\",VLOOKUP(U583,Tabelle!$D$5:$I$7,6,FALSE)))","v":""},null,null,null,null,null,null,null,null,null,null,null,{"$f":"IF(B583=\"\",0,IF(B583=B582,COUNTIF(B$9:B582,B583)+1,1))","v":571},0,0]
["576","-1900","-1900-572",null,null,null,null,null,null,null,null,null,null,null,null,null,null,null,null,null,null,{"$f":"IF(M$2021=1,\"\",IF(U584=\"\",\"\",VLOOKUP(U584,Tabelle!$D$5:$H$7,5,FALSE)))","v":""},{"$f":"IF(M$2021=1,\"\",IF(U584=\"\",\"\",VLOOKUP(U584,Tabelle!$D$5:$I$7,6,FALSE)))","v":""},null,null,null,null,null,null,null,null,null,null,null,{"$f":"IF(B584=\"\",0,IF(B584=B583,COUNTIF(B$9:B583,B584)+1,1))","v":572},0,0]
["577","-1900",{"$f":"IF(M$2021=1,0,B585&\"-\"&AI585)","v":"-1900-573"},null,null,null,null,null,null,null,null,null,null,null,null,null,null,null,null,null,null,{"$f":"IF(M$2021=1,\"\",IF(U585=\"\",\"\",VLOOKUP(U585,Tabelle!$D$5:$H$7,5,FALSE)))","v":""},{"$f":"IF(M$2021=1,\"\",IF(U585=\"\",\"\",VLOOKUP(U585,Tabelle!$D$5:$I$7,6,FALSE)))","v":""},null,null,null,null,null,null,null,null,null,null,null,{"$f":"IF(B585=\"\",0,IF(B585=B584,COUNTIF(B$9:B584,B585)+1,1))","v":573},0,0]
["578",{"$f":"IF(AK586=$AK$2015,0,IF(M$2021=1,0,D586&\"-\"&YEAR(E586)))","v":"-1900"},"-1900-574",null,null,null,null,null,null,null,null,null,null,null,null,null,null,null,null,null,null,{"$f":"IF(M$2021=1,\"\",IF(U586=\"\",\"\",VLOOKUP(U586,Tabelle!$D$5:$H$7,5,FALSE)))","v":""},{"$f":"IF(M$2021=1,\"\",IF(U586=\"\",\"\",VLOOKUP(U586,Tabelle!$D$5:$I$7,6,FALSE)))","v":""},null,null,null,null,null,null,null,null,null,null,null,{"$f":"IF(B586=\"\",0,IF(B586=B585,COUNTIF(B$9:B585,B586)+1,1))","v":574},{"$f":"IF(OR(D586=\"\",M$2021=1),0,IF(AI586=10,1,0))","v":0},{"$f":"IF(E586>0,IF(OR(MONTH(E586)<$J$2027,MONTH(E586)>$J$2028),AK$2015,0),0)","v":0}]
["579","-1900","-1900-575",null,null,null,null,null,null,null,null,null,null,null,null,null,null,null,null,null,null,{"$f":"IF(M$2021=1,\"\",IF(U587=\"\",\"\",VLOOKUP(U587,Tabelle!$D$5:$H$7,5,FALSE)))","v":""},{"$f":"IF(M$2021=1,\"\",IF(U587=\"\",\"\",VLOOKUP(U587,Tabelle!$D$5:$I$7,6,FALSE)))","v":""},null,null,null,null,null,null,null,null,null,null,null,{"$f":"IF(B587=\"\",0,IF(B587=B586,COUNTIF(B$9:B586,B587)+1,1))","v":575},0,0]
["580","-1900","-1900-576",null,null,null,null,null,null,null,null,null,null,null,null,null,null,null,null,null,null,{"$f":"IF(M$2021=1,\"\",IF(U588=\"\",\"\",VLOOKUP(U588,Tabelle!$D$5:$H$7,5,FALSE)))","v":""},{"$f":"IF(M$2021=1,\"\",IF(U588=\"\",\"\",VLOOKUP(U588,Tabelle!$D$5:$I$7,6,FALSE)))","v":""},null,null,null,null,null,null,null,null,null,null,null,{"$f":"IF(B588=\"\",0,IF(B588=B587,COUNTIF(B$9:B587,B588)+1,1))","v":576},0,0]
["581","-1900","-1900-577",null,null,null,null,null,null,null,null,null,null,null,null,null,null,null,null,null,null,{"$f":"IF(M$2021=1,\"\",IF(U589=\"\",\"\",VLOOKUP(U589,Tabelle!$D$5:$H$7,5,FALSE)))","v":""},{"$f":"IF(M$2021=1,\"\",IF(U589=\"\",\"\",VLOOKUP(U589,Tabelle!$D$5:$I$7,6,FALSE)))","v":""},null,null,null,null,null,null,null,null,null,null,null,{"$f":"IF(B589=\"\",0,IF(B589=B588,COUNTIF(B$9:B588,B589)+1,1))","v":577},0,0]
["582","-1900","-1900-578",null,null,null,null,null,null,null,null,null,null,null,null,null,null,null,null,null,null,{"$f":"IF(M$2021=1,\"\",IF(U590=\"\",\"\",VLOOKUP(U590,Tabelle!$D$5:$H$7,5,FALSE)))","v":""},{"$f":"IF(M$2021=1,\"\",IF(U590=\"\",\"\",VLOOKUP(U590,Tabelle!$D$5:$I$7,6,FALSE)))","v":""},null,null,null,null,null,null,null,null,null,null,null,{"$f":"IF(B590=\"\",0,IF(B590=B589,COUNTIF(B$9:B589,B590)+1,1))","v":578},0,0]
["583","-1900","-1900-579",null,null,null,null,null,null,null,null,null,null,null,null,null,null,null,null,null,null,{"$f":"IF(M$2021=1,\"\",IF(U591=\"\",\"\",VLOOKUP(U591,Tabelle!$D$5:$H$7,5,FALSE)))","v":""},{"$f":"IF(M$2021=1,\"\",IF(U591=\"\",\"\",VLOOKUP(U591,Tabelle!$D$5:$I$7,6,FALSE)))","v":""},null,null,null,null,null,null,null,null,null,null,null,{"$f":"IF(B591=\"\",0,IF(B591=B590,COUNTIF(B$9:B590,B591)+1,1))","v":579},0,0]
["584","-1900","-1900-580",null,null,null,null,null,null,null,null,null,null,null,null,null,null,null,null,null,null,{"$f":"IF(M$2021=1,\"\",IF(U592=\"\",\"\",VLOOKUP(U592,Tabelle!$D$5:$H$7,5,FALSE)))","v":""},{"$f":"IF(M$2021=1,\"\",IF(U592=\"\",\"\",VLOOKUP(U592,Tabelle!$D$5:$I$7,6,FALSE)))","v":""},null,null,null,null,null,null,null,null,null,null,null,{"$f":"IF(B592=\"\",0,IF(B592=B591,COUNTIF(B$9:B591,B592)+1,1))","v":580},0,0]
["585","-1900","-1900-581",null,null,null,null,null,null,null,null,null,null,null,null,null,null,null,null,null,null,{"$f":"IF(M$2021=1,\"\",IF(U593=\"\",\"\",VLOOKUP(U593,Tabelle!$D$5:$H$7,5,FALSE)))","v":""},{"$f":"IF(M$2021=1,\"\",IF(U593=\"\",\"\",VLOOKUP(U593,Tabelle!$D$5:$I$7,6,FALSE)))","v":""},null,null,null,null,null,null,null,null,null,null,null,{"$f":"IF(B593=\"\",0,IF(B593=B592,COUNTIF(B$9:B592,B593)+1,1))","v":581},0,0]
["586","-1900","-1900-582",null,null,null,null,null,null,null,null,null,null,null,null,null,null,null,null,null,null,{"$f":"IF(M$2021=1,\"\",IF(U594=\"\",\"\",VLOOKUP(U594,Tabelle!$D$5:$H$7,5,FALSE)))","v":""},{"$f":"IF(M$2021=1,\"\",IF(U594=\"\",\"\",VLOOKUP(U594,Tabelle!$D$5:$I$7,6,FALSE)))","v":""},null,null,null,null,null,null,null,null,null,null,null,{"$f":"IF(B594=\"\",0,IF(B594=B593,COUNTIF(B$9:B593,B594)+1,1))","v":582},0,0]
["587","-1900","-1900-583",null,null,null,null,null,null,null,null,null,null,null,null,null,null,null,null,null,null,{"$f":"IF(M$2021=1,\"\",IF(U595=\"\",\"\",VLOOKUP(U595,Tabelle!$D$5:$H$7,5,FALSE)))","v":""},{"$f":"IF(M$2021=1,\"\",IF(U595=\"\",\"\",VLOOKUP(U595,Tabelle!$D$5:$I$7,6,FALSE)))","v":""},null,null,null,null,null,null,null,null,null,null,null,{"$f":"IF(B595=\"\",0,IF(B595=B594,COUNTIF(B$9:B594,B595)+1,1))","v":583},0,0]
["588","-1900","-1900-584",null,null,null,null,null,null,null,null,null,null,null,null,null,null,null,null,null,null,{"$f":"IF(M$2021=1,\"\",IF(U596=\"\",\"\",VLOOKUP(U596,Tabelle!$D$5:$H$7,5,FALSE)))","v":""},{"$f":"IF(M$2021=1,\"\",IF(U596=\"\",\"\",VLOOKUP(U596,Tabelle!$D$5:$I$7,6,FALSE)))","v":""},null,null,null,null,null,null,null,null,null,null,null,{"$f":"IF(B596=\"\",0,IF(B596=B595,COUNTIF(B$9:B595,B596)+1,1))","v":584},0,0]
["589","-1900","-1900-585",null,null,null,null,null,null,null,null,null,null,null,null,null,null,null,null,null,null,{"$f":"IF(M$2021=1,\"\",IF(U597=\"\",\"\",VLOOKUP(U597,Tabelle!$D$5:$H$7,5,FALSE)))","v":""},{"$f":"IF(M$2021=1,\"\",IF(U597=\"\",\"\",VLOOKUP(U597,Tabelle!$D$5:$I$7,6,FALSE)))","v":""},null,null,null,null,null,null,null,null,null,null,null,{"$f":"IF(B597=\"\",0,IF(B597=B596,COUNTIF(B$9:B596,B597)+1,1))","v":585},0,0]
["590","-1900","-1900-586",null,null,null,null,null,null,null,null,null,null,null,null,null,null,null,null,null,null,{"$f":"IF(M$2021=1,\"\",IF(U598=\"\",\"\",VLOOKUP(U598,Tabelle!$D$5:$H$7,5,FALSE)))","v":""},{"$f":"IF(M$2021=1,\"\",IF(U598=\"\",\"\",VLOOKUP(U598,Tabelle!$D$5:$I$7,6,FALSE)))","v":""},null,null,null,null,null,null,null,null,null,null,null,{"$f":"IF(B598=\"\",0,IF(B598=B597,COUNTIF(B$9:B597,B598)+1,1))","v":586},0,0]
["591","-1900","-1900-587",null,null,null,null,null,null,null,null,null,null,null,null,null,null,null,null,null,null,{"$f":"IF(M$2021=1,\"\",IF(U599=\"\",\"\",VLOOKUP(U599,Tabelle!$D$5:$H$7,5,FALSE)))","v":""},{"$f":"IF(M$2021=1,\"\",IF(U599=\"\",\"\",VLOOKUP(U599,Tabelle!$D$5:$I$7,6,FALSE)))","v":""},null,null,null,null,null,null,null,null,null,null,null,{"$f":"IF(B599=\"\",0,IF(B599=B598,COUNTIF(B$9:B598,B599)+1,1))","v":587},0,0]
["592","-1900","-1900-588",null,null,null,null,null,null,null,null,null,null,null,null,null,null,null,null,null,null,{"$f":"IF(M$2021=1,\"\",IF(U600=\"\",\"\",VLOOKUP(U600,Tabelle!$D$5:$H$7,5,FALSE)))","v":""},{"$f":"IF(M$2021=1,\"\",IF(U600=\"\",\"\",VLOOKUP(U600,Tabelle!$D$5:$I$7,6,FALSE)))","v":""},null,null,null,null,null,null,null,null,null,null,null,{"$f":"IF(B600=\"\",0,IF(B600=B599,COUNTIF(B$9:B599,B600)+1,1))","v":588},0,0]
["593","-1900","-1900-589",null,null,null,null,null,null,null,null,null,null,null,null,null,null,null,null,null,null,{"$f":"IF(M$2021=1,\"\",IF(U601=\"\",\"\",VLOOKUP(U601,Tabelle!$D$5:$H$7,5,FALSE)))","v":""},{"$f":"IF(M$2021=1,\"\",IF(U601=\"\",\"\",VLOOKUP(U601,Tabelle!$D$5:$I$7,6,FALSE)))","v":""},null,null,null,null,null,null,null,null,null,null,null,{"$f":"IF(B601=\"\",0,IF(B601=B600,COUNTIF(B$9:B600,B601)+1,1))","v":589},0,0]
["594","-1900","-1900-590",null,null,null,null,null,null,null,null,null,null,null,null,null,null,null,null,null,null,{"$f":"IF(M$2021=1,\"\",IF(U602=\"\",\"\",VLOOKUP(U602,Tabelle!$D$5:$H$7,5,FALSE)))","v":""},{"$f":"IF(M$2021=1,\"\",IF(U602=\"\",\"\",VLOOKUP(U602,Tabelle!$D$5:$I$7,6,FALSE)))","v":""},null,null,null,null,null,null,null,null,null,null,null,{"$f":"IF(B602=\"\",0,IF(B602=B601,COUNTIF(B$9:B601,B602)+1,1))","v":590},0,0]
["595","-1900","-1900-591",null,null,null,null,null,null,null,null,null,null,null,null,null,null,null,null,null,null,{"$f":"IF(M$2021=1,\"\",IF(U603=\"\",\"\",VLOOKUP(U603,Tabelle!$D$5:$H$7,5,FALSE)))","v":""},{"$f":"IF(M$2021=1,\"\",IF(U603=\"\",\"\",VLOOKUP(U603,Tabelle!$D$5:$I$7,6,FALSE)))","v":""},null,null,null,null,null,null,null,null,null,null,null,{"$f":"IF(B603=\"\",0,IF(B603=B602,COUNTIF(B$9:B602,B603)+1,1))","v":591},0,0]
["596","-1900","-1900-592",null,null,null,null,null,null,null,null,null,null,null,null,null,null,null,null,null,null,{"$f":"IF(M$2021=1,\"\",IF(U604=\"\",\"\",VLOOKUP(U604,Tabelle!$D$5:$H$7,5,FALSE)))","v":""},{"$f":"IF(M$2021=1,\"\",IF(U604=\"\",\"\",VLOOKUP(U604,Tabelle!$D$5:$I$7,6,FALSE)))","v":""},null,null,null,null,null,null,null,null,null,null,null,{"$f":"IF(B604=\"\",0,IF(B604=B603,COUNTIF(B$9:B603,B604)+1,1))","v":592},0,0]
["597","-1900","-1900-593",null,null,null,null,null,null,null,null,null,null,null,null,null,null,null,null,null,null,{"$f":"IF(M$2021=1,\"\",IF(U605=\"\",\"\",VLOOKUP(U605,Tabelle!$D$5:$H$7,5,FALSE)))","v":""},{"$f":"IF(M$2021=1,\"\",IF(U605=\"\",\"\",VLOOKUP(U605,Tabelle!$D$5:$I$7,6,FALSE)))","v":""},null,null,null,null,null,null,null,null,null,null,null,{"$f":"IF(B605=\"\",0,IF(B605=B604,COUNTIF(B$9:B604,B605)+1,1))","v":593},0,0]
["598","-1900","-1900-594",null,null,null,null,null,null,null,null,null,null,null,null,null,null,null,null,null,null,{"$f":"IF(M$2021=1,\"\",IF(U606=\"\",\"\",VLOOKUP(U606,Tabelle!$D$5:$H$7,5,FALSE)))","v":""},{"$f":"IF(M$2021=1,\"\",IF(U606=\"\",\"\",VLOOKUP(U606,Tabelle!$D$5:$I$7,6,FALSE)))","v":""},null,null,null,null,null,null,null,null,null,null,null,{"$f":"IF(B606=\"\",0,IF(B606=B605,COUNTIF(B$9:B605,B606)+1,1))","v":594},0,0]
["599","-1900","-1900-595",null,null,null,null,null,null,null,null,null,null,null,null,null,null,null,null,null,null,{"$f":"IF(M$2021=1,\"\",IF(U607=\"\",\"\",VLOOKUP(U607,Tabelle!$D$5:$H$7,5,FALSE)))","v":""},{"$f":"IF(M$2021=1,\"\",IF(U607=\"\",\"\",VLOOKUP(U607,Tabelle!$D$5:$I$7,6,FALSE)))","v":""},null,null,null,null,null,null,null,null,null,null,null,{"$f":"IF(B607=\"\",0,IF(B607=B606,COUNTIF(B$9:B606,B607)+1,1))","v":595},0,0]
["600","-1900","-1900-596",null,null,null,null,null,null,null,null,null,null,null,null,null,null,null,null,null,null,{"$f":"IF(M$2021=1,\"\",IF(U608=\"\",\"\",VLOOKUP(U608,Tabelle!$D$5:$H$7,5,FALSE)))","v":""},{"$f":"IF(M$2021=1,\"\",IF(U608=\"\",\"\",VLOOKUP(U608,Tabelle!$D$5:$I$7,6,FALSE)))","v":""},null,null,null,null,null,null,null,null,null,null,null,{"$f":"IF(B608=\"\",0,IF(B608=B607,COUNTIF(B$9:B607,B608)+1,1))","v":596},0,0]
["601","-1900","-1900-597",null,null,null,null,null,null,null,null,null,null,null,null,null,null,null,null,null,null,{"$f":"IF(M$2021=1,\"\",IF(U609=\"\",\"\",VLOOKUP(U609,Tabelle!$D$5:$H$7,5,FALSE)))","v":""},{"$f":"IF(M$2021=1,\"\",IF(U609=\"\",\"\",VLOOKUP(U609,Tabelle!$D$5:$I$7,6,FALSE)))","v":""},null,null,null,null,null,null,null,null,null,null,null,{"$f":"IF(B609=\"\",0,IF(B609=B608,COUNTIF(B$9:B608,B609)+1,1))","v":597},0,0]
["602","-1900","-1900-598",null,null,null,null,null,null,null,null,null,null,null,null,null,null,null,null,null,null,{"$f":"IF(M$2021=1,\"\",IF(U610=\"\",\"\",VLOOKUP(U610,Tabelle!$D$5:$H$7,5,FALSE)))","v":""},{"$f":"IF(M$2021=1,\"\",IF(U610=\"\",\"\",VLOOKUP(U610,Tabelle!$D$5:$I$7,6,FALSE)))","v":""},null,null,null,null,null,null,null,null,null,null,null,{"$f":"IF(B610=\"\",0,IF(B610=B609,COUNTIF(B$9:B609,B610)+1,1))","v":598},0,0]
["603","-1900","-1900-599",null,null,null,null,null,null,null,null,null,null,null,null,null,null,null,null,null,null,{"$f":"IF(M$2021=1,\"\",IF(U611=\"\",\"\",VLOOKUP(U611,Tabelle!$D$5:$H$7,5,FALSE)))","v":""},{"$f":"IF(M$2021=1,\"\",IF(U611=\"\",\"\",VLOOKUP(U611,Tabelle!$D$5:$I$7,6,FALSE)))","v":""},null,null,null,null,null,null,null,null,null,null,null,{"$f":"IF(B611=\"\",0,IF(B611=B610,COUNTIF(B$9:B610,B611)+1,1))","v":599},0,0]
["604","-1900","-1900-600",null,null,null,null,null,null,null,null,null,null,null,null,null,null,null,null,null,null,{"$f":"IF(M$2021=1,\"\",IF(U612=\"\",\"\",VLOOKUP(U612,Tabelle!$D$5:$H$7,5,FALSE)))","v":""},{"$f":"IF(M$2021=1,\"\",IF(U612=\"\",\"\",VLOOKUP(U612,Tabelle!$D$5:$I$7,6,FALSE)))","v":""},null,null,null,null,null,null,null,null,null,null,null,{"$f":"IF(B612=\"\",0,IF(B612=B611,COUNTIF(B$9:B611,B612)+1,1))","v":600},0,0]
["605","-1900","-1900-601",null,null,null,null,null,null,null,null,null,null,null,null,null,null,null,null,null,null,{"$f":"IF(M$2021=1,\"\",IF(U613=\"\",\"\",VLOOKUP(U613,Tabelle!$D$5:$H$7,5,FALSE)))","v":""},{"$f":"IF(M$2021=1,\"\",IF(U613=\"\",\"\",VLOOKUP(U613,Tabelle!$D$5:$I$7,6,FALSE)))","v":""},null,null,null,null,null,null,null,null,null,null,null,{"$f":"IF(B613=\"\",0,IF(B613=B612,COUNTIF(B$9:B612,B613)+1,1))","v":601},0,0]
["606","-1900","-1900-602",null,null,null,null,null,null,null,null,null,null,null,null,null,null,null,null,null,null,{"$f":"IF(M$2021=1,\"\",IF(U614=\"\",\"\",VLOOKUP(U614,Tabelle!$D$5:$H$7,5,FALSE)))","v":""},{"$f":"IF(M$2021=1,\"\",IF(U614=\"\",\"\",VLOOKUP(U614,Tabelle!$D$5:$I$7,6,FALSE)))","v":""},null,null,null,null,null,null,null,null,null,null,null,{"$f":"IF(B614=\"\",0,IF(B614=B613,COUNTIF(B$9:B613,B614)+1,1))","v":602},0,0]
["607","-1900","-1900-603",null,null,null,null,null,null,null,null,null,null,null,null,null,null,null,null,null,null,{"$f":"IF(M$2021=1,\"\",IF(U615=\"\",\"\",VLOOKUP(U615,Tabelle!$D$5:$H$7,5,FALSE)))","v":""},{"$f":"IF(M$2021=1,\"\",IF(U615=\"\",\"\",VLOOKUP(U615,Tabelle!$D$5:$I$7,6,FALSE)))","v":""},null,null,null,null,null,null,null,null,null,null,null,{"$f":"IF(B615=\"\",0,IF(B615=B614,COUNTIF(B$9:B614,B615)+1,1))","v":603},0,0]
["608","-1900","-1900-604",null,null,null,null,null,null,null,null,null,null,null,null,null,null,null,null,null,null,{"$f":"IF(M$2021=1,\"\",IF(U616=\"\",\"\",VLOOKUP(U616,Tabelle!$D$5:$H$7,5,FALSE)))","v":""},{"$f":"IF(M$2021=1,\"\",IF(U616=\"\",\"\",VLOOKUP(U616,Tabelle!$D$5:$I$7,6,FALSE)))","v":""},null,null,null,null,null,null,null,null,null,null,null,{"$f":"IF(B616=\"\",0,IF(B616=B615,COUNTIF(B$9:B615,B616)+1,1))","v":604},0,0]
["609","-1900","-1900-605",null,null,null,null,null,null,null,null,null,null,null,null,null,null,null,null,null,null,{"$f":"IF(M$2021=1,\"\",IF(U617=\"\",\"\",VLOOKUP(U617,Tabelle!$D$5:$H$7,5,FALSE)))","v":""},{"$f":"IF(M$2021=1,\"\",IF(U617=\"\",\"\",VLOOKUP(U617,Tabelle!$D$5:$I$7,6,FALSE)))","v":""},null,null,null,null,null,null,null,null,null,null,null,{"$f":"IF(B617=\"\",0,IF(B617=B616,COUNTIF(B$9:B616,B617)+1,1))","v":605},0,0]
["610","-1900","-1900-606",null,null,null,null,null,null,null,null,null,null,null,null,null,null,null,null,null,null,{"$f":"IF(M$2021=1,\"\",IF(U618=\"\",\"\",VLOOKUP(U618,Tabelle!$D$5:$H$7,5,FALSE)))","v":""},{"$f":"IF(M$2021=1,\"\",IF(U618=\"\",\"\",VLOOKUP(U618,Tabelle!$D$5:$I$7,6,FALSE)))","v":""},null,null,null,null,null,null,null,null,null,null,null,{"$f":"IF(B618=\"\",0,IF(B618=B617,COUNTIF(B$9:B617,B618)+1,1))","v":606},0,0]
["611","-1900","-1900-607",null,null,null,null,null,null,null,null,null,null,null,null,null,null,null,null,null,null,{"$f":"IF(M$2021=1,\"\",IF(U619=\"\",\"\",VLOOKUP(U619,Tabelle!$D$5:$H$7,5,FALSE)))","v":""},{"$f":"IF(M$2021=1,\"\",IF(U619=\"\",\"\",VLOOKUP(U619,Tabelle!$D$5:$I$7,6,FALSE)))","v":""},null,null,null,null,null,null,null,null,null,null,null,{"$f":"IF(B619=\"\",0,IF(B619=B618,COUNTIF(B$9:B618,B619)+1,1))","v":607},0,0]
["612","-1900","-1900-608",null,null,null,null,null,null,null,null,null,null,null,null,null,null,null,null,null,null,{"$f":"IF(M$2021=1,\"\",IF(U620=\"\",\"\",VLOOKUP(U620,Tabelle!$D$5:$H$7,5,FALSE)))","v":""},{"$f":"IF(M$2021=1,\"\",IF(U620=\"\",\"\",VLOOKUP(U620,Tabelle!$D$5:$I$7,6,FALSE)))","v":""},null,null,null,null,null,null,null,null,null,null,null,{"$f":"IF(B620=\"\",0,IF(B620=B619,COUNTIF(B$9:B619,B620)+1,1))","v":608},0,0]
["613","-1900","-1900-609",null,null,null,null,null,null,null,null,null,null,null,null,null,null,null,null,null,null,{"$f":"IF(M$2021=1,\"\",IF(U621=\"\",\"\",VLOOKUP(U621,Tabelle!$D$5:$H$7,5,FALSE)))","v":""},{"$f":"IF(M$2021=1,\"\",IF(U621=\"\",\"\",VLOOKUP(U621,Tabelle!$D$5:$I$7,6,FALSE)))","v":""},null,null,null,null,null,null,null,null,null,null,null,{"$f":"IF(B621=\"\",0,IF(B621=B620,COUNTIF(B$9:B620,B621)+1,1))","v":609},0,0]
["614","-1900","-1900-610",null,null,null,null,null,null,null,null,null,null,null,null,null,null,null,null,null,null,{"$f":"IF(M$2021=1,\"\",IF(U622=\"\",\"\",VLOOKUP(U622,Tabelle!$D$5:$H$7,5,FALSE)))","v":""},{"$f":"IF(M$2021=1,\"\",IF(U622=\"\",\"\",VLOOKUP(U622,Tabelle!$D$5:$I$7,6,FALSE)))","v":""},null,null,null,null,null,null,null,null,null,null,null,{"$f":"IF(B622=\"\",0,IF(B622=B621,COUNTIF(B$9:B621,B622)+1,1))","v":610},0,0]
["615","-1900","-1900-611",null,null,null,null,null,null,null,null,null,null,null,null,null,null,null,null,null,null,{"$f":"IF(M$2021=1,\"\",IF(U623=\"\",\"\",VLOOKUP(U623,Tabelle!$D$5:$H$7,5,FALSE)))","v":""},{"$f":"IF(M$2021=1,\"\",IF(U623=\"\",\"\",VLOOKUP(U623,Tabelle!$D$5:$I$7,6,FALSE)))","v":""},null,null,null,null,null,null,null,null,null,null,null,{"$f":"IF(B623=\"\",0,IF(B623=B622,COUNTIF(B$9:B622,B623)+1,1))","v":611},0,0]
["616","-1900","-1900-612",null,null,null,null,null,null,null,null,null,null,null,null,null,null,null,null,null,null,{"$f":"IF(M$2021=1,\"\",IF(U624=\"\",\"\",VLOOKUP(U624,Tabelle!$D$5:$H$7,5,FALSE)))","v":""},{"$f":"IF(M$2021=1,\"\",IF(U624=\"\",\"\",VLOOKUP(U624,Tabelle!$D$5:$I$7,6,FALSE)))","v":""},null,null,null,null,null,null,null,null,null,null,null,{"$f":"IF(B624=\"\",0,IF(B624=B623,COUNTIF(B$9:B623,B624)+1,1))","v":612},0,0]
["617","-1900","-1900-613",null,null,null,null,null,null,null,null,null,null,null,null,null,null,null,null,null,null,{"$f":"IF(M$2021=1,\"\",IF(U625=\"\",\"\",VLOOKUP(U625,Tabelle!$D$5:$H$7,5,FALSE)))","v":""},{"$f":"IF(M$2021=1,\"\",IF(U625=\"\",\"\",VLOOKUP(U625,Tabelle!$D$5:$I$7,6,FALSE)))","v":""},null,null,null,null,null,null,null,null,null,null,null,{"$f":"IF(B625=\"\",0,IF(B625=B624,COUNTIF(B$9:B624,B625)+1,1))","v":613},0,0]
["618","-1900","-1900-614",null,null,null,null,null,null,null,null,null,null,null,null,null,null,null,null,null,null,{"$f":"IF(M$2021=1,\"\",IF(U626=\"\",\"\",VLOOKUP(U626,Tabelle!$D$5:$H$7,5,FALSE)))","v":""},{"$f":"IF(M$2021=1,\"\",IF(U626=\"\",\"\",VLOOKUP(U626,Tabelle!$D$5:$I$7,6,FALSE)))","v":""},null,null,null,null,null,null,null,null,null,null,null,{"$f":"IF(B626=\"\",0,IF(B626=B625,COUNTIF(B$9:B625,B626)+1,1))","v":614},0,0]
["619","-1900","-1900-615",null,null,null,null,null,null,null,null,null,null,null,null,null,null,null,null,null,null,{"$f":"IF(M$2021=1,\"\",IF(U627=\"\",\"\",VLOOKUP(U627,Tabelle!$D$5:$H$7,5,FALSE)))","v":""},{"$f":"IF(M$2021=1,\"\",IF(U627=\"\",\"\",VLOOKUP(U627,Tabelle!$D$5:$I$7,6,FALSE)))","v":""},null,null,null,null,null,null,null,null,null,null,null,{"$f":"IF(B627=\"\",0,IF(B627=B626,COUNTIF(B$9:B626,B627)+1,1))","v":615},0,0]
["620","-1900","-1900-616",null,null,null,null,null,null,null,null,null,null,null,null,null,null,null,null,null,null,{"$f":"IF(M$2021=1,\"\",IF(U628=\"\",\"\",VLOOKUP(U628,Tabelle!$D$5:$H$7,5,FALSE)))","v":""},{"$f":"IF(M$2021=1,\"\",IF(U628=\"\",\"\",VLOOKUP(U628,Tabelle!$D$5:$I$7,6,FALSE)))","v":""},null,null,null,null,null,null,null,null,null,null,null,{"$f":"IF(B628=\"\",0,IF(B628=B627,COUNTIF(B$9:B627,B628)+1,1))","v":616},0,0]
["621","-1900","-1900-617",null,null,null,null,null,null,null,null,null,null,null,null,null,null,null,null,null,null,{"$f":"IF(M$2021=1,\"\",IF(U629=\"\",\"\",VLOOKUP(U629,Tabelle!$D$5:$H$7,5,FALSE)))","v":""},{"$f":"IF(M$2021=1,\"\",IF(U629=\"\",\"\",VLOOKUP(U629,Tabelle!$D$5:$I$7,6,FALSE)))","v":""},null,null,null,null,null,null,null,null,null,null,null,{"$f":"IF(B629=\"\",0,IF(B629=B628,COUNTIF(B$9:B628,B629)+1,1))","v":617},0,0]
["622","-1900","-1900-618",null,null,null,null,null,null,null,null,null,null,null,null,null,null,null,null,null,null,{"$f":"IF(M$2021=1,\"\",IF(U630=\"\",\"\",VLOOKUP(U630,Tabelle!$D$5:$H$7,5,FALSE)))","v":""},{"$f":"IF(M$2021=1,\"\",IF(U630=\"\",\"\",VLOOKUP(U630,Tabelle!$D$5:$I$7,6,FALSE)))","v":""},null,null,null,null,null,null,null,null,null,null,null,{"$f":"IF(B630=\"\",0,IF(B630=B629,COUNTIF(B$9:B629,B630)+1,1))","v":618},0,0]
["623","-1900","-1900-619",null,null,null,null,null,null,null,null,null,null,null,null,null,null,null,null,null,null,{"$f":"IF(M$2021=1,\"\",IF(U631=\"\",\"\",VLOOKUP(U631,Tabelle!$D$5:$H$7,5,FALSE)))","v":""},{"$f":"IF(M$2021=1,\"\",IF(U631=\"\",\"\",VLOOKUP(U631,Tabelle!$D$5:$I$7,6,FALSE)))","v":""},null,null,null,null,null,null,null,null,null,null,null,{"$f":"IF(B631=\"\",0,IF(B631=B630,COUNTIF(B$9:B630,B631)+1,1))","v":619},0,0]
["624","-1900","-1900-620",null,null,null,null,null,null,null,null,null,null,null,null,null,null,null,null,null,null,{"$f":"IF(M$2021=1,\"\",IF(U632=\"\",\"\",VLOOKUP(U632,Tabelle!$D$5:$H$7,5,FALSE)))","v":""},{"$f":"IF(M$2021=1,\"\",IF(U632=\"\",\"\",VLOOKUP(U632,Tabelle!$D$5:$I$7,6,FALSE)))","v":""},null,null,null,null,null,null,null,null,null,null,null,{"$f":"IF(B632=\"\",0,IF(B632=B631,COUNTIF(B$9:B631,B632)+1,1))","v":620},0,0]
["625","-1900","-1900-621",null,null,null,null,null,null,null,null,null,null,null,null,null,null,null,null,null,null,{"$f":"IF(M$2021=1,\"\",IF(U633=\"\",\"\",VLOOKUP(U633,Tabelle!$D$5:$H$7,5,FALSE)))","v":""},{"$f":"IF(M$2021=1,\"\",IF(U633=\"\",\"\",VLOOKUP(U633,Tabelle!$D$5:$I$7,6,FALSE)))","v":""},null,null,null,null,null,null,null,null,null,null,null,{"$f":"IF(B633=\"\",0,IF(B633=B632,COUNTIF(B$9:B632,B633)+1,1))","v":621},0,0]
["626","-1900","-1900-622",null,null,null,null,null,null,null,null,null,null,null,null,null,null,null,null,null,null,{"$f":"IF(M$2021=1,\"\",IF(U634=\"\",\"\",VLOOKUP(U634,Tabelle!$D$5:$H$7,5,FALSE)))","v":""},{"$f":"IF(M$2021=1,\"\",IF(U634=\"\",\"\",VLOOKUP(U634,Tabelle!$D$5:$I$7,6,FALSE)))","v":""},null,null,null,null,null,null,null,null,null,null,null,{"$f":"IF(B634=\"\",0,IF(B634=B633,COUNTIF(B$9:B633,B634)+1,1))","v":622},0,0]
["627","-1900","-1900-623",null,null,null,null,null,null,null,null,null,null,null,null,null,null,null,null,null,null,{"$f":"IF(M$2021=1,\"\",IF(U635=\"\",\"\",VLOOKUP(U635,Tabelle!$D$5:$H$7,5,FALSE)))","v":""},{"$f":"IF(M$2021=1,\"\",IF(U635=\"\",\"\",VLOOKUP(U635,Tabelle!$D$5:$I$7,6,FALSE)))","v":""},null,null,null,null,null,null,null,null,null,null,null,{"$f":"IF(B635=\"\",0,IF(B635=B634,COUNTIF(B$9:B634,B635)+1,1))","v":623},0,0]
["628","-1900","-1900-624",null,null,null,null,null,null,null,null,null,null,null,null,null,null,null,null,null,null,{"$f":"IF(M$2021=1,\"\",IF(U636=\"\",\"\",VLOOKUP(U636,Tabelle!$D$5:$H$7,5,FALSE)))","v":""},{"$f":"IF(M$2021=1,\"\",IF(U636=\"\",\"\",VLOOKUP(U636,Tabelle!$D$5:$I$7,6,FALSE)))","v":""},null,null,null,null,null,null,null,null,null,null,null,{"$f":"IF(B636=\"\",0,IF(B636=B635,COUNTIF(B$9:B635,B636)+1,1))","v":624},0,0]
["629","-1900","-1900-625",null,null,null,null,null,null,null,null,null,null,null,null,null,null,null,null,null,null,{"$f":"IF(M$2021=1,\"\",IF(U637=\"\",\"\",VLOOKUP(U637,Tabelle!$D$5:$H$7,5,FALSE)))","v":""},{"$f":"IF(M$2021=1,\"\",IF(U637=\"\",\"\",VLOOKUP(U637,Tabelle!$D$5:$I$7,6,FALSE)))","v":""},null,null,null,null,null,null,null,null,null,null,null,{"$f":"IF(B637=\"\",0,IF(B637=B636,COUNTIF(B$9:B636,B637)+1,1))","v":625},0,0]
["630","-1900","-1900-626",null,null,null,null,null,null,null,null,null,null,null,null,null,null,null,null,null,null,{"$f":"IF(M$2021=1,\"\",IF(U638=\"\",\"\",VLOOKUP(U638,Tabelle!$D$5:$H$7,5,FALSE)))","v":""},{"$f":"IF(M$2021=1,\"\",IF(U638=\"\",\"\",VLOOKUP(U638,Tabelle!$D$5:$I$7,6,FALSE)))","v":""},null,null,null,null,null,null,null,null,null,null,null,{"$f":"IF(B638=\"\",0,IF(B638=B637,COUNTIF(B$9:B637,B638)+1,1))","v":626},0,0]
["631","-1900","-1900-627",null,null,null,null,null,null,null,null,null,null,null,null,null,null,null,null,null,null,{"$f":"IF(M$2021=1,\"\",IF(U639=\"\",\"\",VLOOKUP(U639,Tabelle!$D$5:$H$7,5,FALSE)))","v":""},{"$f":"IF(M$2021=1,\"\",IF(U639=\"\",\"\",VLOOKUP(U639,Tabelle!$D$5:$I$7,6,FALSE)))","v":""},null,null,null,null,null,null,null,null,null,null,null,{"$f":"IF(B639=\"\",0,IF(B639=B638,COUNTIF(B$9:B638,B639)+1,1))","v":627},0,0]
["632","-1900","-1900-628",null,null,null,null,null,null,null,null,null,null,null,null,null,null,null,null,null,null,{"$f":"IF(M$2021=1,\"\",IF(U640=\"\",\"\",VLOOKUP(U640,Tabelle!$D$5:$H$7,5,FALSE)))","v":""},{"$f":"IF(M$2021=1,\"\",IF(U640=\"\",\"\",VLOOKUP(U640,Tabelle!$D$5:$I$7,6,FALSE)))","v":""},null,null,null,null,null,null,null,null,null,null,null,{"$f":"IF(B640=\"\",0,IF(B640=B639,COUNTIF(B$9:B639,B640)+1,1))","v":628},0,0]
["633","-1900","-1900-629",null,null,null,null,null,null,null,null,null,null,null,null,null,null,null,null,null,null,{"$f":"IF(M$2021=1,\"\",IF(U641=\"\",\"\",VLOOKUP(U641,Tabelle!$D$5:$H$7,5,FALSE)))","v":""},{"$f":"IF(M$2021=1,\"\",IF(U641=\"\",\"\",VLOOKUP(U641,Tabelle!$D$5:$I$7,6,FALSE)))","v":""},null,null,null,null,null,null,null,null,null,null,null,{"$f":"IF(B641=\"\",0,IF(B641=B640,COUNTIF(B$9:B640,B641)+1,1))","v":629},0,0]
["634","-1900","-1900-630",null,null,null,null,null,null,null,null,null,null,null,null,null,null,null,null,null,null,{"$f":"IF(M$2021=1,\"\",IF(U642=\"\",\"\",VLOOKUP(U642,Tabelle!$D$5:$H$7,5,FALSE)))","v":""},{"$f":"IF(M$2021=1,\"\",IF(U642=\"\",\"\",VLOOKUP(U642,Tabelle!$D$5:$I$7,6,FALSE)))","v":""},null,null,null,null,null,null,null,null,null,null,null,{"$f":"IF(B642=\"\",0,IF(B642=B641,COUNTIF(B$9:B641,B642)+1,1))","v":630},0,0]
["635","-1900","-1900-631",null,null,null,null,null,null,null,null,null,null,null,null,null,null,null,null,null,null,{"$f":"IF(M$2021=1,\"\",IF(U643=\"\",\"\",VLOOKUP(U643,Tabelle!$D$5:$H$7,5,FALSE)))","v":""},{"$f":"IF(M$2021=1,\"\",IF(U643=\"\",\"\",VLOOKUP(U643,Tabelle!$D$5:$I$7,6,FALSE)))","v":""},null,null,null,null,null,null,null,null,null,null,null,{"$f":"IF(B643=\"\",0,IF(B643=B642,COUNTIF(B$9:B642,B643)+1,1))","v":631},0,0]
["636","-1900","-1900-632",null,null,null,null,null,null,null,null,null,null,null,null,null,null,null,null,null,null,{"$f":"IF(M$2021=1,\"\",IF(U644=\"\",\"\",VLOOKUP(U644,Tabelle!$D$5:$H$7,5,FALSE)))","v":""},{"$f":"IF(M$2021=1,\"\",IF(U644=\"\",\"\",VLOOKUP(U644,Tabelle!$D$5:$I$7,6,FALSE)))","v":""},null,null,null,null,null,null,null,null,null,null,null,{"$f":"IF(B644=\"\",0,IF(B644=B643,COUNTIF(B$9:B643,B644)+1,1))","v":632},0,0]
["637","-1900","-1900-633",null,null,null,null,null,null,null,null,null,null,null,null,null,null,null,null,null,null,{"$f":"IF(M$2021=1,\"\",IF(U645=\"\",\"\",VLOOKUP(U645,Tabelle!$D$5:$H$7,5,FALSE)))","v":""},{"$f":"IF(M$2021=1,\"\",IF(U645=\"\",\"\",VLOOKUP(U645,Tabelle!$D$5:$I$7,6,FALSE)))","v":""},null,null,null,null,null,null,null,null,null,null,null,{"$f":"IF(B645=\"\",0,IF(B645=B644,COUNTIF(B$9:B644,B645)+1,1))","v":633},0,0]
["638","-1900","-1900-634",null,null,null,null,null,null,null,null,null,null,null,null,null,null,null,null,null,null,{"$f":"IF(M$2021=1,\"\",IF(U646=\"\",\"\",VLOOKUP(U646,Tabelle!$D$5:$H$7,5,FALSE)))","v":""},{"$f":"IF(M$2021=1,\"\",IF(U646=\"\",\"\",VLOOKUP(U646,Tabelle!$D$5:$I$7,6,FALSE)))","v":""},null,null,null,null,null,null,null,null,null,null,null,{"$f":"IF(B646=\"\",0,IF(B646=B645,COUNTIF(B$9:B645,B646)+1,1))","v":634},0,0]
["639","-1900","-1900-635",null,null,null,null,null,null,null,null,null,null,null,null,null,null,null,null,null,null,{"$f":"IF(M$2021=1,\"\",IF(U647=\"\",\"\",VLOOKUP(U647,Tabelle!$D$5:$H$7,5,FALSE)))","v":""},{"$f":"IF(M$2021=1,\"\",IF(U647=\"\",\"\",VLOOKUP(U647,Tabelle!$D$5:$I$7,6,FALSE)))","v":""},null,null,null,null,null,null,null,null,null,null,null,{"$f":"IF(B647=\"\",0,IF(B647=B646,COUNTIF(B$9:B646,B647)+1,1))","v":635},0,0]
["640","-1900","-1900-636",null,null,null,null,null,null,null,null,null,null,null,null,null,null,null,null,null,null,{"$f":"IF(M$2021=1,\"\",IF(U648=\"\",\"\",VLOOKUP(U648,Tabelle!$D$5:$H$7,5,FALSE)))","v":""},{"$f":"IF(M$2021=1,\"\",IF(U648=\"\",\"\",VLOOKUP(U648,Tabelle!$D$5:$I$7,6,FALSE)))","v":""},null,null,null,null,null,null,null,null,null,null,null,{"$f":"IF(B648=\"\",0,IF(B648=B647,COUNTIF(B$9:B647,B648)+1,1))","v":636},0,0]
["641","-1900",{"$f":"IF(M$2021=1,0,B649&\"-\"&AI649)","v":"-1900-637"},null,null,null,null,null,null,null,null,null,null,null,null,null,null,null,null,null,null,{"$f":"IF(M$2021=1,\"\",IF(U649=\"\",\"\",VLOOKUP(U649,Tabelle!$D$5:$H$7,5,FALSE)))","v":""},{"$f":"IF(M$2021=1,\"\",IF(U649=\"\",\"\",VLOOKUP(U649,Tabelle!$D$5:$I$7,6,FALSE)))","v":""},null,null,null,null,null,null,null,null,null,null,null,{"$f":"IF(B649=\"\",0,IF(B649=B648,COUNTIF(B$9:B648,B649)+1,1))","v":637},0,0]
["642",{"$f":"IF(AK650=$AK$2015,0,IF(M$2021=1,0,D650&\"-\"&YEAR(E650)))","v":"-1900"},"-1900-638",null,null,null,null,null,null,null,null,null,null,null,null,null,null,null,null,null,null,{"$f":"IF(M$2021=1,\"\",IF(U650=\"\",\"\",VLOOKUP(U650,Tabelle!$D$5:$H$7,5,FALSE)))","v":""},{"$f":"IF(M$2021=1,\"\",IF(U650=\"\",\"\",VLOOKUP(U650,Tabelle!$D$5:$I$7,6,FALSE)))","v":""},null,null,null,null,null,null,null,null,null,null,null,{"$f":"IF(B650=\"\",0,IF(B650=B649,COUNTIF(B$9:B649,B650)+1,1))","v":638},{"$f":"IF(OR(D650=\"\",M$2021=1),0,IF(AI650=10,1,0))","v":0},{"$f":"IF(E650>0,IF(OR(MONTH(E650)<$J$2027,MONTH(E650)>$J$2028),AK$2015,0),0)","v":0}]
["643","-1900","-1900-639",null,null,null,null,null,null,null,null,null,null,null,null,null,null,null,null,null,null,{"$f":"IF(M$2021=1,\"\",IF(U651=\"\",\"\",VLOOKUP(U651,Tabelle!$D$5:$H$7,5,FALSE)))","v":""},{"$f":"IF(M$2021=1,\"\",IF(U651=\"\",\"\",VLOOKUP(U651,Tabelle!$D$5:$I$7,6,FALSE)))","v":""},null,null,null,null,null,null,null,null,null,null,null,{"$f":"IF(B651=\"\",0,IF(B651=B650,COUNTIF(B$9:B650,B651)+1,1))","v":639},0,0]
["644","-1900","-1900-640",null,null,null,null,null,null,null,null,null,null,null,null,null,null,null,null,null,null,{"$f":"IF(M$2021=1,\"\",IF(U652=\"\",\"\",VLOOKUP(U652,Tabelle!$D$5:$H$7,5,FALSE)))","v":""},{"$f":"IF(M$2021=1,\"\",IF(U652=\"\",\"\",VLOOKUP(U652,Tabelle!$D$5:$I$7,6,FALSE)))","v":""},null,null,null,null,null,null,null,null,null,null,null,{"$f":"IF(B652=\"\",0,IF(B652=B651,COUNTIF(B$9:B651,B652)+1,1))","v":640},0,0]
["645","-1900","-1900-641",null,null,null,null,null,null,null,null,null,null,null,null,null,null,null,null,null,null,{"$f":"IF(M$2021=1,\"\",IF(U653=\"\",\"\",VLOOKUP(U653,Tabelle!$D$5:$H$7,5,FALSE)))","v":""},{"$f":"IF(M$2021=1,\"\",IF(U653=\"\",\"\",VLOOKUP(U653,Tabelle!$D$5:$I$7,6,FALSE)))","v":""},null,null,null,null,null,null,null,null,null,null,null,{"$f":"IF(B653=\"\",0,IF(B653=B652,COUNTIF(B$9:B652,B653)+1,1))","v":641},0,0]
["646","-1900","-1900-642",null,null,null,null,null,null,null,null,null,null,null,null,null,null,null,null,null,null,{"$f":"IF(M$2021=1,\"\",IF(U654=\"\",\"\",VLOOKUP(U654,Tabelle!$D$5:$H$7,5,FALSE)))","v":""},{"$f":"IF(M$2021=1,\"\",IF(U654=\"\",\"\",VLOOKUP(U654,Tabelle!$D$5:$I$7,6,FALSE)))","v":""},null,null,null,null,null,null,null,null,null,null,null,{"$f":"IF(B654=\"\",0,IF(B654=B653,COUNTIF(B$9:B653,B654)+1,1))","v":642},0,0]
["647","-1900","-1900-643",null,null,null,null,null,null,null,null,null,null,null,null,null,null,null,null,null,null,{"$f":"IF(M$2021=1,\"\",IF(U655=\"\",\"\",VLOOKUP(U655,Tabelle!$D$5:$H$7,5,FALSE)))","v":""},{"$f":"IF(M$2021=1,\"\",IF(U655=\"\",\"\",VLOOKUP(U655,Tabelle!$D$5:$I$7,6,FALSE)))","v":""},null,null,null,null,null,null,null,null,null,null,null,{"$f":"IF(B655=\"\",0,IF(B655=B654,COUNTIF(B$9:B654,B655)+1,1))","v":643},0,0]
["648","-1900","-1900-644",null,null,null,null,null,null,null,null,null,null,null,null,null,null,null,null,null,null,{"$f":"IF(M$2021=1,\"\",IF(U656=\"\",\"\",VLOOKUP(U656,Tabelle!$D$5:$H$7,5,FALSE)))","v":""},{"$f":"IF(M$2021=1,\"\",IF(U656=\"\",\"\",VLOOKUP(U656,Tabelle!$D$5:$I$7,6,FALSE)))","v":""},null,null,null,null,null,null,null,null,null,null,null,{"$f":"IF(B656=\"\",0,IF(B656=B655,COUNTIF(B$9:B655,B656)+1,1))","v":644},0,0]
["649","-1900","-1900-645",null,null,null,null,null,null,null,null,null,null,null,null,null,null,null,null,null,null,{"$f":"IF(M$2021=1,\"\",IF(U657=\"\",\"\",VLOOKUP(U657,Tabelle!$D$5:$H$7,5,FALSE)))","v":""},{"$f":"IF(M$2021=1,\"\",IF(U657=\"\",\"\",VLOOKUP(U657,Tabelle!$D$5:$I$7,6,FALSE)))","v":""},null,null,null,null,null,null,null,null,null,null,null,{"$f":"IF(B657=\"\",0,IF(B657=B656,COUNTIF(B$9:B656,B657)+1,1))","v":645},0,0]
["650","-1900","-1900-646",null,null,null,null,null,null,null,null,null,null,null,null,null,null,null,null,null,null,{"$f":"IF(M$2021=1,\"\",IF(U658=\"\",\"\",VLOOKUP(U658,Tabelle!$D$5:$H$7,5,FALSE)))","v":""},{"$f":"IF(M$2021=1,\"\",IF(U658=\"\",\"\",VLOOKUP(U658,Tabelle!$D$5:$I$7,6,FALSE)))","v":""},null,null,null,null,null,null,null,null,null,null,null,{"$f":"IF(B658=\"\",0,IF(B658=B657,COUNTIF(B$9:B657,B658)+1,1))","v":646},0,0]
["651","-1900","-1900-647",null,null,null,null,null,null,null,null,null,null,null,null,null,null,null,null,null,null,{"$f":"IF(M$2021=1,\"\",IF(U659=\"\",\"\",VLOOKUP(U659,Tabelle!$D$5:$H$7,5,FALSE)))","v":""},{"$f":"IF(M$2021=1,\"\",IF(U659=\"\",\"\",VLOOKUP(U659,Tabelle!$D$5:$I$7,6,FALSE)))","v":""},null,null,null,null,null,null,null,null,null,null,null,{"$f":"IF(B659=\"\",0,IF(B659=B658,COUNTIF(B$9:B658,B659)+1,1))","v":647},0,0]
["652","-1900","-1900-648",null,null,null,null,null,null,null,null,null,null,null,null,null,null,null,null,null,null,{"$f":"IF(M$2021=1,\"\",IF(U660=\"\",\"\",VLOOKUP(U660,Tabelle!$D$5:$H$7,5,FALSE)))","v":""},{"$f":"IF(M$2021=1,\"\",IF(U660=\"\",\"\",VLOOKUP(U660,Tabelle!$D$5:$I$7,6,FALSE)))","v":""},null,null,null,null,null,null,null,null,null,null,null,{"$f":"IF(B660=\"\",0,IF(B660=B659,COUNTIF(B$9:B659,B660)+1,1))","v":648},0,0]
["653","-1900","-1900-649",null,null,null,null,null,null,null,null,null,null,null,null,null,null,null,null,null,null,{"$f":"IF(M$2021=1,\"\",IF(U661=\"\",\"\",VLOOKUP(U661,Tabelle!$D$5:$H$7,5,FALSE)))","v":""},{"$f":"IF(M$2021=1,\"\",IF(U661=\"\",\"\",VLOOKUP(U661,Tabelle!$D$5:$I$7,6,FALSE)))","v":""},null,null,null,null,null,null,null,null,null,null,null,{"$f":"IF(B661=\"\",0,IF(B661=B660,COUNTIF(B$9:B660,B661)+1,1))","v":649},0,0]
["654","-1900","-1900-650",null,null,null,null,null,null,null,null,null,null,null,null,null,null,null,null,null,null,{"$f":"IF(M$2021=1,\"\",IF(U662=\"\",\"\",VLOOKUP(U662,Tabelle!$D$5:$H$7,5,FALSE)))","v":""},{"$f":"IF(M$2021=1,\"\",IF(U662=\"\",\"\",VLOOKUP(U662,Tabelle!$D$5:$I$7,6,FALSE)))","v":""},null,null,null,null,null,null,null,null,null,null,null,{"$f":"IF(B662=\"\",0,IF(B662=B661,COUNTIF(B$9:B661,B662)+1,1))","v":650},0,0]
["655","-1900","-1900-651",null,null,null,null,null,null,null,null,null,null,null,null,null,null,null,null,null,null,{"$f":"IF(M$2021=1,\"\",IF(U663=\"\",\"\",VLOOKUP(U663,Tabelle!$D$5:$H$7,5,FALSE)))","v":""},{"$f":"IF(M$2021=1,\"\",IF(U663=\"\",\"\",VLOOKUP(U663,Tabelle!$D$5:$I$7,6,FALSE)))","v":""},null,null,null,null,null,null,null,null,null,null,null,{"$f":"IF(B663=\"\",0,IF(B663=B662,COUNTIF(B$9:B662,B663)+1,1))","v":651},0,0]
["656","-1900","-1900-652",null,null,null,null,null,null,null,null,null,null,null,null,null,null,null,null,null,null,{"$f":"IF(M$2021=1,\"\",IF(U664=\"\",\"\",VLOOKUP(U664,Tabelle!$D$5:$H$7,5,FALSE)))","v":""},{"$f":"IF(M$2021=1,\"\",IF(U664=\"\",\"\",VLOOKUP(U664,Tabelle!$D$5:$I$7,6,FALSE)))","v":""},null,null,null,null,null,null,null,null,null,null,null,{"$f":"IF(B664=\"\",0,IF(B664=B663,COUNTIF(B$9:B663,B664)+1,1))","v":652},0,0]
["657","-1900","-1900-653",null,null,null,null,null,null,null,null,null,null,null,null,null,null,null,null,null,null,{"$f":"IF(M$2021=1,\"\",IF(U665=\"\",\"\",VLOOKUP(U665,Tabelle!$D$5:$H$7,5,FALSE)))","v":""},{"$f":"IF(M$2021=1,\"\",IF(U665=\"\",\"\",VLOOKUP(U665,Tabelle!$D$5:$I$7,6,FALSE)))","v":""},null,null,null,null,null,null,null,null,null,null,null,{"$f":"IF(B665=\"\",0,IF(B665=B664,COUNTIF(B$9:B664,B665)+1,1))","v":653},0,0]
["658","-1900","-1900-654",null,null,null,null,null,null,null,null,null,null,null,null,null,null,null,null,null,null,{"$f":"IF(M$2021=1,\"\",IF(U666=\"\",\"\",VLOOKUP(U666,Tabelle!$D$5:$H$7,5,FALSE)))","v":""},{"$f":"IF(M$2021=1,\"\",IF(U666=\"\",\"\",VLOOKUP(U666,Tabelle!$D$5:$I$7,6,FALSE)))","v":""},null,null,null,null,null,null,null,null,null,null,null,{"$f":"IF(B666=\"\",0,IF(B666=B665,COUNTIF(B$9:B665,B666)+1,1))","v":654},0,0]
["659","-1900","-1900-655",null,null,null,null,null,null,null,null,null,null,null,null,null,null,null,null,null,null,{"$f":"IF(M$2021=1,\"\",IF(U667=\"\",\"\",VLOOKUP(U667,Tabelle!$D$5:$H$7,5,FALSE)))","v":""},{"$f":"IF(M$2021=1,\"\",IF(U667=\"\",\"\",VLOOKUP(U667,Tabelle!$D$5:$I$7,6,FALSE)))","v":""},null,null,null,null,null,null,null,null,null,null,null,{"$f":"IF(B667=\"\",0,IF(B667=B666,COUNTIF(B$9:B666,B667)+1,1))","v":655},0,0]
["660","-1900","-1900-656",null,null,null,null,null,null,null,null,null,null,null,null,null,null,null,null,null,null,{"$f":"IF(M$2021=1,\"\",IF(U668=\"\",\"\",VLOOKUP(U668,Tabelle!$D$5:$H$7,5,FALSE)))","v":""},{"$f":"IF(M$2021=1,\"\",IF(U668=\"\",\"\",VLOOKUP(U668,Tabelle!$D$5:$I$7,6,FALSE)))","v":""},null,null,null,null,null,null,null,null,null,null,null,{"$f":"IF(B668=\"\",0,IF(B668=B667,COUNTIF(B$9:B667,B668)+1,1))","v":656},0,0]
["661","-1900","-1900-657",null,null,null,null,null,null,null,null,null,null,null,null,null,null,null,null,null,null,{"$f":"IF(M$2021=1,\"\",IF(U669=\"\",\"\",VLOOKUP(U669,Tabelle!$D$5:$H$7,5,FALSE)))","v":""},{"$f":"IF(M$2021=1,\"\",IF(U669=\"\",\"\",VLOOKUP(U669,Tabelle!$D$5:$I$7,6,FALSE)))","v":""},null,null,null,null,null,null,null,null,null,null,null,{"$f":"IF(B669=\"\",0,IF(B669=B668,COUNTIF(B$9:B668,B669)+1,1))","v":657},0,0]
["662","-1900","-1900-658",null,null,null,null,null,null,null,null,null,null,null,null,null,null,null,null,null,null,{"$f":"IF(M$2021=1,\"\",IF(U670=\"\",\"\",VLOOKUP(U670,Tabelle!$D$5:$H$7,5,FALSE)))","v":""},{"$f":"IF(M$2021=1,\"\",IF(U670=\"\",\"\",VLOOKUP(U670,Tabelle!$D$5:$I$7,6,FALSE)))","v":""},null,null,null,null,null,null,null,null,null,null,null,{"$f":"IF(B670=\"\",0,IF(B670=B669,COUNTIF(B$9:B669,B670)+1,1))","v":658},0,0]
["663","-1900","-1900-659",null,null,null,null,null,null,null,null,null,null,null,null,null,null,null,null,null,null,{"$f":"IF(M$2021=1,\"\",IF(U671=\"\",\"\",VLOOKUP(U671,Tabelle!$D$5:$H$7,5,FALSE)))","v":""},{"$f":"IF(M$2021=1,\"\",IF(U671=\"\",\"\",VLOOKUP(U671,Tabelle!$D$5:$I$7,6,FALSE)))","v":""},null,null,null,null,null,null,null,null,null,null,null,{"$f":"IF(B671=\"\",0,IF(B671=B670,COUNTIF(B$9:B670,B671)+1,1))","v":659},0,0]
["664","-1900","-1900-660",null,null,null,null,null,null,null,null,null,null,null,null,null,null,null,null,null,null,{"$f":"IF(M$2021=1,\"\",IF(U672=\"\",\"\",VLOOKUP(U672,Tabelle!$D$5:$H$7,5,FALSE)))","v":""},{"$f":"IF(M$2021=1,\"\",IF(U672=\"\",\"\",VLOOKUP(U672,Tabelle!$D$5:$I$7,6,FALSE)))","v":""},null,null,null,null,null,null,null,null,null,null,null,{"$f":"IF(B672=\"\",0,IF(B672=B671,COUNTIF(B$9:B671,B672)+1,1))","v":660},0,0]
["665","-1900","-1900-661",null,null,null,null,null,null,null,null,null,null,null,null,null,null,null,null,null,null,{"$f":"IF(M$2021=1,\"\",IF(U673=\"\",\"\",VLOOKUP(U673,Tabelle!$D$5:$H$7,5,FALSE)))","v":""},{"$f":"IF(M$2021=1,\"\",IF(U673=\"\",\"\",VLOOKUP(U673,Tabelle!$D$5:$I$7,6,FALSE)))","v":""},null,null,null,null,null,null,null,null,null,null,null,{"$f":"IF(B673=\"\",0,IF(B673=B672,COUNTIF(B$9:B672,B673)+1,1))","v":661},0,0]
["666","-1900","-1900-662",null,null,null,null,null,null,null,null,null,null,null,null,null,null,null,null,null,null,{"$f":"IF(M$2021=1,\"\",IF(U674=\"\",\"\",VLOOKUP(U674,Tabelle!$D$5:$H$7,5,FALSE)))","v":""},{"$f":"IF(M$2021=1,\"\",IF(U674=\"\",\"\",VLOOKUP(U674,Tabelle!$D$5:$I$7,6,FALSE)))","v":""},null,null,null,null,null,null,null,null,null,null,null,{"$f":"IF(B674=\"\",0,IF(B674=B673,COUNTIF(B$9:B673,B674)+1,1))","v":662},0,0]
["667","-1900","-1900-663",null,null,null,null,null,null,null,null,null,null,null,null,null,null,null,null,null,null,{"$f":"IF(M$2021=1,\"\",IF(U675=\"\",\"\",VLOOKUP(U675,Tabelle!$D$5:$H$7,5,FALSE)))","v":""},{"$f":"IF(M$2021=1,\"\",IF(U675=\"\",\"\",VLOOKUP(U675,Tabelle!$D$5:$I$7,6,FALSE)))","v":""},null,null,null,null,null,null,null,null,null,null,null,{"$f":"IF(B675=\"\",0,IF(B675=B674,COUNTIF(B$9:B674,B675)+1,1))","v":663},0,0]
["668","-1900","-1900-664",null,null,null,null,null,null,null,null,null,null,null,null,null,null,null,null,null,null,{"$f":"IF(M$2021=1,\"\",IF(U676=\"\",\"\",VLOOKUP(U676,Tabelle!$D$5:$H$7,5,FALSE)))","v":""},{"$f":"IF(M$2021=1,\"\",IF(U676=\"\",\"\",VLOOKUP(U676,Tabelle!$D$5:$I$7,6,FALSE)))","v":""},null,null,null,null,null,null,null,null,null,null,null,{"$f":"IF(B676=\"\",0,IF(B676=B675,COUNTIF(B$9:B675,B676)+1,1))","v":664},0,0]
["669","-1900","-1900-665",null,null,null,null,null,null,null,null,null,null,null,null,null,null,null,null,null,null,{"$f":"IF(M$2021=1,\"\",IF(U677=\"\",\"\",VLOOKUP(U677,Tabelle!$D$5:$H$7,5,FALSE)))","v":""},{"$f":"IF(M$2021=1,\"\",IF(U677=\"\",\"\",VLOOKUP(U677,Tabelle!$D$5:$I$7,6,FALSE)))","v":""},null,null,null,null,null,null,null,null,null,null,null,{"$f":"IF(B677=\"\",0,IF(B677=B676,COUNTIF(B$9:B676,B677)+1,1))","v":665},0,0]
["670","-1900","-1900-666",null,null,null,null,null,null,null,null,null,null,null,null,null,null,null,null,null,null,{"$f":"IF(M$2021=1,\"\",IF(U678=\"\",\"\",VLOOKUP(U678,Tabelle!$D$5:$H$7,5,FALSE)))","v":""},{"$f":"IF(M$2021=1,\"\",IF(U678=\"\",\"\",VLOOKUP(U678,Tabelle!$D$5:$I$7,6,FALSE)))","v":""},null,null,null,null,null,null,null,null,null,null,null,{"$f":"IF(B678=\"\",0,IF(B678=B677,COUNTIF(B$9:B677,B678)+1,1))","v":666},0,0]
["671","-1900","-1900-667",null,null,null,null,null,null,null,null,null,null,null,null,null,null,null,null,null,null,{"$f":"IF(M$2021=1,\"\",IF(U679=\"\",\"\",VLOOKUP(U679,Tabelle!$D$5:$H$7,5,FALSE)))","v":""},{"$f":"IF(M$2021=1,\"\",IF(U679=\"\",\"\",VLOOKUP(U679,Tabelle!$D$5:$I$7,6,FALSE)))","v":""},null,null,null,null,null,null,null,null,null,null,null,{"$f":"IF(B679=\"\",0,IF(B679=B678,COUNTIF(B$9:B678,B679)+1,1))","v":667},0,0]
["672","-1900","-1900-668",null,null,null,null,null,null,null,null,null,null,null,null,null,null,null,null,null,null,{"$f":"IF(M$2021=1,\"\",IF(U680=\"\",\"\",VLOOKUP(U680,Tabelle!$D$5:$H$7,5,FALSE)))","v":""},{"$f":"IF(M$2021=1,\"\",IF(U680=\"\",\"\",VLOOKUP(U680,Tabelle!$D$5:$I$7,6,FALSE)))","v":""},null,null,null,null,null,null,null,null,null,null,null,{"$f":"IF(B680=\"\",0,IF(B680=B679,COUNTIF(B$9:B679,B680)+1,1))","v":668},0,0]
["673","-1900","-1900-669",null,null,null,null,null,null,null,null,null,null,null,null,null,null,null,null,null,null,{"$f":"IF(M$2021=1,\"\",IF(U681=\"\",\"\",VLOOKUP(U681,Tabelle!$D$5:$H$7,5,FALSE)))","v":""},{"$f":"IF(M$2021=1,\"\",IF(U681=\"\",\"\",VLOOKUP(U681,Tabelle!$D$5:$I$7,6,FALSE)))","v":""},null,null,null,null,null,null,null,null,null,null,null,{"$f":"IF(B681=\"\",0,IF(B681=B680,COUNTIF(B$9:B680,B681)+1,1))","v":669},0,0]
["674","-1900","-1900-670",null,null,null,null,null,null,null,null,null,null,null,null,null,null,null,null,null,null,{"$f":"IF(M$2021=1,\"\",IF(U682=\"\",\"\",VLOOKUP(U682,Tabelle!$D$5:$H$7,5,FALSE)))","v":""},{"$f":"IF(M$2021=1,\"\",IF(U682=\"\",\"\",VLOOKUP(U682,Tabelle!$D$5:$I$7,6,FALSE)))","v":""},null,null,null,null,null,null,null,null,null,null,null,{"$f":"IF(B682=\"\",0,IF(B682=B681,COUNTIF(B$9:B681,B682)+1,1))","v":670},0,0]
["675","-1900","-1900-671",null,null,null,null,null,null,null,null,null,null,null,null,null,null,null,null,null,null,{"$f":"IF(M$2021=1,\"\",IF(U683=\"\",\"\",VLOOKUP(U683,Tabelle!$D$5:$H$7,5,FALSE)))","v":""},{"$f":"IF(M$2021=1,\"\",IF(U683=\"\",\"\",VLOOKUP(U683,Tabelle!$D$5:$I$7,6,FALSE)))","v":""},null,null,null,null,null,null,null,null,null,null,null,{"$f":"IF(B683=\"\",0,IF(B683=B682,COUNTIF(B$9:B682,B683)+1,1))","v":671},0,0]
["676","-1900","-1900-672",null,null,null,null,null,null,null,null,null,null,null,null,null,null,null,null,null,null,{"$f":"IF(M$2021=1,\"\",IF(U684=\"\",\"\",VLOOKUP(U684,Tabelle!$D$5:$H$7,5,FALSE)))","v":""},{"$f":"IF(M$2021=1,\"\",IF(U684=\"\",\"\",VLOOKUP(U684,Tabelle!$D$5:$I$7,6,FALSE)))","v":""},null,null,null,null,null,null,null,null,null,null,null,{"$f":"IF(B684=\"\",0,IF(B684=B683,COUNTIF(B$9:B683,B684)+1,1))","v":672},0,0]
["677","-1900","-1900-673",null,null,null,null,null,null,null,null,null,null,null,null,null,null,null,null,null,null,{"$f":"IF(M$2021=1,\"\",IF(U685=\"\",\"\",VLOOKUP(U685,Tabelle!$D$5:$H$7,5,FALSE)))","v":""},{"$f":"IF(M$2021=1,\"\",IF(U685=\"\",\"\",VLOOKUP(U685,Tabelle!$D$5:$I$7,6,FALSE)))","v":""},null,null,null,null,null,null,null,null,null,null,null,{"$f":"IF(B685=\"\",0,IF(B685=B684,COUNTIF(B$9:B684,B685)+1,1))","v":673},0,0]
["678","-1900","-1900-674",null,null,null,null,null,null,null,null,null,null,null,null,null,null,null,null,null,null,{"$f":"IF(M$2021=1,\"\",IF(U686=\"\",\"\",VLOOKUP(U686,Tabelle!$D$5:$H$7,5,FALSE)))","v":""},{"$f":"IF(M$2021=1,\"\",IF(U686=\"\",\"\",VLOOKUP(U686,Tabelle!$D$5:$I$7,6,FALSE)))","v":""},null,null,null,null,null,null,null,null,null,null,null,{"$f":"IF(B686=\"\",0,IF(B686=B685,COUNTIF(B$9:B685,B686)+1,1))","v":674},0,0]
["679","-1900","-1900-675",null,null,null,null,null,null,null,null,null,null,null,null,null,null,null,null,null,null,{"$f":"IF(M$2021=1,\"\",IF(U687=\"\",\"\",VLOOKUP(U687,Tabelle!$D$5:$H$7,5,FALSE)))","v":""},{"$f":"IF(M$2021=1,\"\",IF(U687=\"\",\"\",VLOOKUP(U687,Tabelle!$D$5:$I$7,6,FALSE)))","v":""},null,null,null,null,null,null,null,null,null,null,null,{"$f":"IF(B687=\"\",0,IF(B687=B686,COUNTIF(B$9:B686,B687)+1,1))","v":675},0,0]
["680","-1900","-1900-676",null,null,null,null,null,null,null,null,null,null,null,null,null,null,null,null,null,null,{"$f":"IF(M$2021=1,\"\",IF(U688=\"\",\"\",VLOOKUP(U688,Tabelle!$D$5:$H$7,5,FALSE)))","v":""},{"$f":"IF(M$2021=1,\"\",IF(U688=\"\",\"\",VLOOKUP(U688,Tabelle!$D$5:$I$7,6,FALSE)))","v":""},null,null,null,null,null,null,null,null,null,null,null,{"$f":"IF(B688=\"\",0,IF(B688=B687,COUNTIF(B$9:B687,B688)+1,1))","v":676},0,0]
["681","-1900","-1900-677",null,null,null,null,null,null,null,null,null,null,null,null,null,null,null,null,null,null,{"$f":"IF(M$2021=1,\"\",IF(U689=\"\",\"\",VLOOKUP(U689,Tabelle!$D$5:$H$7,5,FALSE)))","v":""},{"$f":"IF(M$2021=1,\"\",IF(U689=\"\",\"\",VLOOKUP(U689,Tabelle!$D$5:$I$7,6,FALSE)))","v":""},null,null,null,null,null,null,null,null,null,null,null,{"$f":"IF(B689=\"\",0,IF(B689=B688,COUNTIF(B$9:B688,B689)+1,1))","v":677},0,0]
["682","-1900","-1900-678",null,null,null,null,null,null,null,null,null,null,null,null,null,null,null,null,null,null,{"$f":"IF(M$2021=1,\"\",IF(U690=\"\",\"\",VLOOKUP(U690,Tabelle!$D$5:$H$7,5,FALSE)))","v":""},{"$f":"IF(M$2021=1,\"\",IF(U690=\"\",\"\",VLOOKUP(U690,Tabelle!$D$5:$I$7,6,FALSE)))","v":""},null,null,null,null,null,null,null,null,null,null,null,{"$f":"IF(B690=\"\",0,IF(B690=B689,COUNTIF(B$9:B689,B690)+1,1))","v":678},0,0]
["683","-1900","-1900-679",null,null,null,null,null,null,null,null,null,null,null,null,null,null,null,null,null,null,{"$f":"IF(M$2021=1,\"\",IF(U691=\"\",\"\",VLOOKUP(U691,Tabelle!$D$5:$H$7,5,FALSE)))","v":""},{"$f":"IF(M$2021=1,\"\",IF(U691=\"\",\"\",VLOOKUP(U691,Tabelle!$D$5:$I$7,6,FALSE)))","v":""},null,null,null,null,null,null,null,null,null,null,null,{"$f":"IF(B691=\"\",0,IF(B691=B690,COUNTIF(B$9:B690,B691)+1,1))","v":679},0,0]
["684","-1900","-1900-680",null,null,null,null,null,null,null,null,null,null,null,null,null,null,null,null,null,null,{"$f":"IF(M$2021=1,\"\",IF(U692=\"\",\"\",VLOOKUP(U692,Tabelle!$D$5:$H$7,5,FALSE)))","v":""},{"$f":"IF(M$2021=1,\"\",IF(U692=\"\",\"\",VLOOKUP(U692,Tabelle!$D$5:$I$7,6,FALSE)))","v":""},null,null,null,null,null,null,null,null,null,null,null,{"$f":"IF(B692=\"\",0,IF(B692=B691,COUNTIF(B$9:B691,B692)+1,1))","v":680},0,0]
["685","-1900","-1900-681",null,null,null,null,null,null,null,null,null,null,null,null,null,null,null,null,null,null,{"$f":"IF(M$2021=1,\"\",IF(U693=\"\",\"\",VLOOKUP(U693,Tabelle!$D$5:$H$7,5,FALSE)))","v":""},{"$f":"IF(M$2021=1,\"\",IF(U693=\"\",\"\",VLOOKUP(U693,Tabelle!$D$5:$I$7,6,FALSE)))","v":""},null,null,null,null,null,null,null,null,null,null,null,{"$f":"IF(B693=\"\",0,IF(B693=B692,COUNTIF(B$9:B692,B693)+1,1))","v":681},0,0]
["686","-1900","-1900-682",null,null,null,null,null,null,null,null,null,null,null,null,null,null,null,null,null,null,{"$f":"IF(M$2021=1,\"\",IF(U694=\"\",\"\",VLOOKUP(U694,Tabelle!$D$5:$H$7,5,FALSE)))","v":""},{"$f":"IF(M$2021=1,\"\",IF(U694=\"\",\"\",VLOOKUP(U694,Tabelle!$D$5:$I$7,6,FALSE)))","v":""},null,null,null,null,null,null,null,null,null,null,null,{"$f":"IF(B694=\"\",0,IF(B694=B693,COUNTIF(B$9:B693,B694)+1,1))","v":682},0,0]
["687","-1900","-1900-683",null,null,null,null,null,null,null,null,null,null,null,null,null,null,null,null,null,null,{"$f":"IF(M$2021=1,\"\",IF(U695=\"\",\"\",VLOOKUP(U695,Tabelle!$D$5:$H$7,5,FALSE)))","v":""},{"$f":"IF(M$2021=1,\"\",IF(U695=\"\",\"\",VLOOKUP(U695,Tabelle!$D$5:$I$7,6,FALSE)))","v":""},null,null,null,null,null,null,null,null,null,null,null,{"$f":"IF(B695=\"\",0,IF(B695=B694,COUNTIF(B$9:B694,B695)+1,1))","v":683},0,0]
["688","-1900","-1900-684",null,null,null,null,null,null,null,null,null,null,null,null,null,null,null,null,null,null,{"$f":"IF(M$2021=1,\"\",IF(U696=\"\",\"\",VLOOKUP(U696,Tabelle!$D$5:$H$7,5,FALSE)))","v":""},{"$f":"IF(M$2021=1,\"\",IF(U696=\"\",\"\",VLOOKUP(U696,Tabelle!$D$5:$I$7,6,FALSE)))","v":""},null,null,null,null,null,null,null,null,null,null,null,{"$f":"IF(B696=\"\",0,IF(B696=B695,COUNTIF(B$9:B695,B696)+1,1))","v":684},0,0]
["689","-1900","-1900-685",null,null,null,null,null,null,null,null,null,null,null,null,null,null,null,null,null,null,{"$f":"IF(M$2021=1,\"\",IF(U697=\"\",\"\",VLOOKUP(U697,Tabelle!$D$5:$H$7,5,FALSE)))","v":""},{"$f":"IF(M$2021=1,\"\",IF(U697=\"\",\"\",VLOOKUP(U697,Tabelle!$D$5:$I$7,6,FALSE)))","v":""},null,null,null,null,null,null,null,null,null,null,null,{"$f":"IF(B697=\"\",0,IF(B697=B696,COUNTIF(B$9:B696,B697)+1,1))","v":685},0,0]
["690","-1900","-1900-686",null,null,null,null,null,null,null,null,null,null,null,null,null,null,null,null,null,null,{"$f":"IF(M$2021=1,\"\",IF(U698=\"\",\"\",VLOOKUP(U698,Tabelle!$D$5:$H$7,5,FALSE)))","v":""},{"$f":"IF(M$2021=1,\"\",IF(U698=\"\",\"\",VLOOKUP(U698,Tabelle!$D$5:$I$7,6,FALSE)))","v":""},null,null,null,null,null,null,null,null,null,null,null,{"$f":"IF(B698=\"\",0,IF(B698=B697,COUNTIF(B$9:B697,B698)+1,1))","v":686},0,0]
["691","-1900","-1900-687",null,null,null,null,null,null,null,null,null,null,null,null,null,null,null,null,null,null,{"$f":"IF(M$2021=1,\"\",IF(U699=\"\",\"\",VLOOKUP(U699,Tabelle!$D$5:$H$7,5,FALSE)))","v":""},{"$f":"IF(M$2021=1,\"\",IF(U699=\"\",\"\",VLOOKUP(U699,Tabelle!$D$5:$I$7,6,FALSE)))","v":""},null,null,null,null,null,null,null,null,null,null,null,{"$f":"IF(B699=\"\",0,IF(B699=B698,COUNTIF(B$9:B698,B699)+1,1))","v":687},0,0]
["692","-1900","-1900-688",null,null,null,null,null,null,null,null,null,null,null,null,null,null,null,null,null,null,{"$f":"IF(M$2021=1,\"\",IF(U700=\"\",\"\",VLOOKUP(U700,Tabelle!$D$5:$H$7,5,FALSE)))","v":""},{"$f":"IF(M$2021=1,\"\",IF(U700=\"\",\"\",VLOOKUP(U700,Tabelle!$D$5:$I$7,6,FALSE)))","v":""},null,null,null,null,null,null,null,null,null,null,null,{"$f":"IF(B700=\"\",0,IF(B700=B699,COUNTIF(B$9:B699,B700)+1,1))","v":688},0,0]
["693","-1900","-1900-689",null,null,null,null,null,null,null,null,null,null,null,null,null,null,null,null,null,null,{"$f":"IF(M$2021=1,\"\",IF(U701=\"\",\"\",VLOOKUP(U701,Tabelle!$D$5:$H$7,5,FALSE)))","v":""},{"$f":"IF(M$2021=1,\"\",IF(U701=\"\",\"\",VLOOKUP(U701,Tabelle!$D$5:$I$7,6,FALSE)))","v":""},null,null,null,null,null,null,null,null,null,null,null,{"$f":"IF(B701=\"\",0,IF(B701=B700,COUNTIF(B$9:B700,B701)+1,1))","v":689},0,0]
["694","-1900","-1900-690",null,null,null,null,null,null,null,null,null,null,null,null,null,null,null,null,null,null,{"$f":"IF(M$2021=1,\"\",IF(U702=\"\",\"\",VLOOKUP(U702,Tabelle!$D$5:$H$7,5,FALSE)))","v":""},{"$f":"IF(M$2021=1,\"\",IF(U702=\"\",\"\",VLOOKUP(U702,Tabelle!$D$5:$I$7,6,FALSE)))","v":""},null,null,null,null,null,null,null,null,null,null,null,{"$f":"IF(B702=\"\",0,IF(B702=B701,COUNTIF(B$9:B701,B702)+1,1))","v":690},0,0]
["695","-1900","-1900-691",null,null,null,null,null,null,null,null,null,null,null,null,null,null,null,null,null,null,{"$f":"IF(M$2021=1,\"\",IF(U703=\"\",\"\",VLOOKUP(U703,Tabelle!$D$5:$H$7,5,FALSE)))","v":""},{"$f":"IF(M$2021=1,\"\",IF(U703=\"\",\"\",VLOOKUP(U703,Tabelle!$D$5:$I$7,6,FALSE)))","v":""},null,null,null,null,null,null,null,null,null,null,null,{"$f":"IF(B703=\"\",0,IF(B703=B702,COUNTIF(B$9:B702,B703)+1,1))","v":691},0,0]
["696","-1900","-1900-692",null,null,null,null,null,null,null,null,null,null,null,null,null,null,null,null,null,null,{"$f":"IF(M$2021=1,\"\",IF(U704=\"\",\"\",VLOOKUP(U704,Tabelle!$D$5:$H$7,5,FALSE)))","v":""},{"$f":"IF(M$2021=1,\"\",IF(U704=\"\",\"\",VLOOKUP(U704,Tabelle!$D$5:$I$7,6,FALSE)))","v":""},null,null,null,null,null,null,null,null,null,null,null,{"$f":"IF(B704=\"\",0,IF(B704=B703,COUNTIF(B$9:B703,B704)+1,1))","v":692},0,0]
["697","-1900","-1900-693",null,null,null,null,null,null,null,null,null,null,null,null,null,null,null,null,null,null,{"$f":"IF(M$2021=1,\"\",IF(U705=\"\",\"\",VLOOKUP(U705,Tabelle!$D$5:$H$7,5,FALSE)))","v":""},{"$f":"IF(M$2021=1,\"\",IF(U705=\"\",\"\",VLOOKUP(U705,Tabelle!$D$5:$I$7,6,FALSE)))","v":""},null,null,null,null,null,null,null,null,null,null,null,{"$f":"IF(B705=\"\",0,IF(B705=B704,COUNTIF(B$9:B704,B705)+1,1))","v":693},0,0]
["698","-1900","-1900-694",null,null,null,null,null,null,null,null,null,null,null,null,null,null,null,null,null,null,{"$f":"IF(M$2021=1,\"\",IF(U706=\"\",\"\",VLOOKUP(U706,Tabelle!$D$5:$H$7,5,FALSE)))","v":""},{"$f":"IF(M$2021=1,\"\",IF(U706=\"\",\"\",VLOOKUP(U706,Tabelle!$D$5:$I$7,6,FALSE)))","v":""},null,null,null,null,null,null,null,null,null,null,null,{"$f":"IF(B706=\"\",0,IF(B706=B705,COUNTIF(B$9:B705,B706)+1,1))","v":694},0,0]
["699","-1900","-1900-695",null,null,null,null,null,null,null,null,null,null,null,null,null,null,null,null,null,null,{"$f":"IF(M$2021=1,\"\",IF(U707=\"\",\"\",VLOOKUP(U707,Tabelle!$D$5:$H$7,5,FALSE)))","v":""},{"$f":"IF(M$2021=1,\"\",IF(U707=\"\",\"\",VLOOKUP(U707,Tabelle!$D$5:$I$7,6,FALSE)))","v":""},null,null,null,null,null,null,null,null,null,null,null,{"$f":"IF(B707=\"\",0,IF(B707=B706,COUNTIF(B$9:B706,B707)+1,1))","v":695},0,0]
["700","-1900","-1900-696",null,null,null,null,null,null,null,null,null,null,null,null,null,null,null,null,null,null,{"$f":"IF(M$2021=1,\"\",IF(U708=\"\",\"\",VLOOKUP(U708,Tabelle!$D$5:$H$7,5,FALSE)))","v":""},{"$f":"IF(M$2021=1,\"\",IF(U708=\"\",\"\",VLOOKUP(U708,Tabelle!$D$5:$I$7,6,FALSE)))","v":""},null,null,null,null,null,null,null,null,null,null,null,{"$f":"IF(B708=\"\",0,IF(B708=B707,COUNTIF(B$9:B707,B708)+1,1))","v":696},0,0]
["701","-1900","-1900-697",null,null,null,null,null,null,null,null,null,null,null,null,null,null,null,null,null,null,{"$f":"IF(M$2021=1,\"\",IF(U709=\"\",\"\",VLOOKUP(U709,Tabelle!$D$5:$H$7,5,FALSE)))","v":""},{"$f":"IF(M$2021=1,\"\",IF(U709=\"\",\"\",VLOOKUP(U709,Tabelle!$D$5:$I$7,6,FALSE)))","v":""},null,null,null,null,null,null,null,null,null,null,null,{"$f":"IF(B709=\"\",0,IF(B709=B708,COUNTIF(B$9:B708,B709)+1,1))","v":697},0,0]
["702","-1900","-1900-698",null,null,null,null,null,null,null,null,null,null,null,null,null,null,null,null,null,null,{"$f":"IF(M$2021=1,\"\",IF(U710=\"\",\"\",VLOOKUP(U710,Tabelle!$D$5:$H$7,5,FALSE)))","v":""},{"$f":"IF(M$2021=1,\"\",IF(U710=\"\",\"\",VLOOKUP(U710,Tabelle!$D$5:$I$7,6,FALSE)))","v":""},null,null,null,null,null,null,null,null,null,null,null,{"$f":"IF(B710=\"\",0,IF(B710=B709,COUNTIF(B$9:B709,B710)+1,1))","v":698},0,0]
["703","-1900","-1900-699",null,null,null,null,null,null,null,null,null,null,null,null,null,null,null,null,null,null,{"$f":"IF(M$2021=1,\"\",IF(U711=\"\",\"\",VLOOKUP(U711,Tabelle!$D$5:$H$7,5,FALSE)))","v":""},{"$f":"IF(M$2021=1,\"\",IF(U711=\"\",\"\",VLOOKUP(U711,Tabelle!$D$5:$I$7,6,FALSE)))","v":""},null,null,null,null,null,null,null,null,null,null,null,{"$f":"IF(B711=\"\",0,IF(B711=B710,COUNTIF(B$9:B710,B711)+1,1))","v":699},0,0]
["704","-1900","-1900-700",null,null,null,null,null,null,null,null,null,null,null,null,null,null,null,null,null,null,{"$f":"IF(M$2021=1,\"\",IF(U712=\"\",\"\",VLOOKUP(U712,Tabelle!$D$5:$H$7,5,FALSE)))","v":""},{"$f":"IF(M$2021=1,\"\",IF(U712=\"\",\"\",VLOOKUP(U712,Tabelle!$D$5:$I$7,6,FALSE)))","v":""},null,null,null,null,null,null,null,null,null,null,null,{"$f":"IF(B712=\"\",0,IF(B712=B711,COUNTIF(B$9:B711,B712)+1,1))","v":700},0,0]
["705","-1900",{"$f":"IF(M$2021=1,0,B713&\"-\"&AI713)","v":"-1900-701"},null,null,null,null,null,null,null,null,null,null,null,null,null,null,null,null,null,null,{"$f":"IF(M$2021=1,\"\",IF(U713=\"\",\"\",VLOOKUP(U713,Tabelle!$D$5:$H$7,5,FALSE)))","v":""},{"$f":"IF(M$2021=1,\"\",IF(U713=\"\",\"\",VLOOKUP(U713,Tabelle!$D$5:$I$7,6,FALSE)))","v":""},null,null,null,null,null,null,null,null,null,null,null,{"$f":"IF(B713=\"\",0,IF(B713=B712,COUNTIF(B$9:B712,B713)+1,1))","v":701},0,0]
["706",{"$f":"IF(AK714=$AK$2015,0,IF(M$2021=1,0,D714&\"-\"&YEAR(E714)))","v":"-1900"},"-1900-702",null,null,null,null,null,null,null,null,null,null,null,null,null,null,null,null,null,null,{"$f":"IF(M$2021=1,\"\",IF(U714=\"\",\"\",VLOOKUP(U714,Tabelle!$D$5:$H$7,5,FALSE)))","v":""},{"$f":"IF(M$2021=1,\"\",IF(U714=\"\",\"\",VLOOKUP(U714,Tabelle!$D$5:$I$7,6,FALSE)))","v":""},null,null,null,null,null,null,null,null,null,null,null,{"$f":"IF(B714=\"\",0,IF(B714=B713,COUNTIF(B$9:B713,B714)+1,1))","v":702},{"$f":"IF(OR(D714=\"\",M$2021=1),0,IF(AI714=10,1,0))","v":0},{"$f":"IF(E714>0,IF(OR(MONTH(E714)<$J$2027,MONTH(E714)>$J$2028),AK$2015,0),0)","v":0}]
["707","-1900","-1900-703",null,null,null,null,null,null,null,null,null,null,null,null,null,null,null,null,null,null,{"$f":"IF(M$2021=1,\"\",IF(U715=\"\",\"\",VLOOKUP(U715,Tabelle!$D$5:$H$7,5,FALSE)))","v":""},{"$f":"IF(M$2021=1,\"\",IF(U715=\"\",\"\",VLOOKUP(U715,Tabelle!$D$5:$I$7,6,FALSE)))","v":""},null,null,null,null,null,null,null,null,null,null,null,{"$f":"IF(B715=\"\",0,IF(B715=B714,COUNTIF(B$9:B714,B715)+1,1))","v":703},0,0]
["708","-1900","-1900-704",null,null,null,null,null,null,null,null,null,null,null,null,null,null,null,null,null,null,{"$f":"IF(M$2021=1,\"\",IF(U716=\"\",\"\",VLOOKUP(U716,Tabelle!$D$5:$H$7,5,FALSE)))","v":""},{"$f":"IF(M$2021=1,\"\",IF(U716=\"\",\"\",VLOOKUP(U716,Tabelle!$D$5:$I$7,6,FALSE)))","v":""},null,null,null,null,null,null,null,null,null,null,null,{"$f":"IF(B716=\"\",0,IF(B716=B715,COUNTIF(B$9:B715,B716)+1,1))","v":704},0,0]
["709","-1900","-1900-705",null,null,null,null,null,null,null,null,null,null,null,null,null,null,null,null,null,null,{"$f":"IF(M$2021=1,\"\",IF(U717=\"\",\"\",VLOOKUP(U717,Tabelle!$D$5:$H$7,5,FALSE)))","v":""},{"$f":"IF(M$2021=1,\"\",IF(U717=\"\",\"\",VLOOKUP(U717,Tabelle!$D$5:$I$7,6,FALSE)))","v":""},null,null,null,null,null,null,null,null,null,null,null,{"$f":"IF(B717=\"\",0,IF(B717=B716,COUNTIF(B$9:B716,B717)+1,1))","v":705},0,0]
["710","-1900","-1900-706",null,null,null,null,null,null,null,null,null,null,null,null,null,null,null,null,null,null,{"$f":"IF(M$2021=1,\"\",IF(U718=\"\",\"\",VLOOKUP(U718,Tabelle!$D$5:$H$7,5,FALSE)))","v":""},{"$f":"IF(M$2021=1,\"\",IF(U718=\"\",\"\",VLOOKUP(U718,Tabelle!$D$5:$I$7,6,FALSE)))","v":""},null,null,null,null,null,null,null,null,null,null,null,{"$f":"IF(B718=\"\",0,IF(B718=B717,COUNTIF(B$9:B717,B718)+1,1))","v":706},0,0]
["711","-1900","-1900-707",null,null,null,null,null,null,null,null,null,null,null,null,null,null,null,null,null,null,{"$f":"IF(M$2021=1,\"\",IF(U719=\"\",\"\",VLOOKUP(U719,Tabelle!$D$5:$H$7,5,FALSE)))","v":""},{"$f":"IF(M$2021=1,\"\",IF(U719=\"\",\"\",VLOOKUP(U719,Tabelle!$D$5:$I$7,6,FALSE)))","v":""},null,null,null,null,null,null,null,null,null,null,null,{"$f":"IF(B719=\"\",0,IF(B719=B718,COUNTIF(B$9:B718,B719)+1,1))","v":707},0,0]
["712","-1900","-1900-708",null,null,null,null,null,null,null,null,null,null,null,null,null,null,null,null,null,null,{"$f":"IF(M$2021=1,\"\",IF(U720=\"\",\"\",VLOOKUP(U720,Tabelle!$D$5:$H$7,5,FALSE)))","v":""},{"$f":"IF(M$2021=1,\"\",IF(U720=\"\",\"\",VLOOKUP(U720,Tabelle!$D$5:$I$7,6,FALSE)))","v":""},null,null,null,null,null,null,null,null,null,null,null,{"$f":"IF(B720=\"\",0,IF(B720=B719,COUNTIF(B$9:B719,B720)+1,1))","v":708},0,0]
["713","-1900","-1900-709",null,null,null,null,null,null,null,null,null,null,null,null,null,null,null,null,null,null,{"$f":"IF(M$2021=1,\"\",IF(U721=\"\",\"\",VLOOKUP(U721,Tabelle!$D$5:$H$7,5,FALSE)))","v":""},{"$f":"IF(M$2021=1,\"\",IF(U721=\"\",\"\",VLOOKUP(U721,Tabelle!$D$5:$I$7,6,FALSE)))","v":""},null,null,null,null,null,null,null,null,null,null,null,{"$f":"IF(B721=\"\",0,IF(B721=B720,COUNTIF(B$9:B720,B721)+1,1))","v":709},0,0]
["714","-1900","-1900-710",null,null,null,null,null,null,null,null,null,null,null,null,null,null,null,null,null,null,{"$f":"IF(M$2021=1,\"\",IF(U722=\"\",\"\",VLOOKUP(U722,Tabelle!$D$5:$H$7,5,FALSE)))","v":""},{"$f":"IF(M$2021=1,\"\",IF(U722=\"\",\"\",VLOOKUP(U722,Tabelle!$D$5:$I$7,6,FALSE)))","v":""},null,null,null,null,null,null,null,null,null,null,null,{"$f":"IF(B722=\"\",0,IF(B722=B721,COUNTIF(B$9:B721,B722)+1,1))","v":710},0,0]
["715","-1900","-1900-711",null,null,null,null,null,null,null,null,null,null,null,null,null,null,null,null,null,null,{"$f":"IF(M$2021=1,\"\",IF(U723=\"\",\"\",VLOOKUP(U723,Tabelle!$D$5:$H$7,5,FALSE)))","v":""},{"$f":"IF(M$2021=1,\"\",IF(U723=\"\",\"\",VLOOKUP(U723,Tabelle!$D$5:$I$7,6,FALSE)))","v":""},null,null,null,null,null,null,null,null,null,null,null,{"$f":"IF(B723=\"\",0,IF(B723=B722,COUNTIF(B$9:B722,B723)+1,1))","v":711},0,0]
["716","-1900","-1900-712",null,null,null,null,null,null,null,null,null,null,null,null,null,null,null,null,null,null,{"$f":"IF(M$2021=1,\"\",IF(U724=\"\",\"\",VLOOKUP(U724,Tabelle!$D$5:$H$7,5,FALSE)))","v":""},{"$f":"IF(M$2021=1,\"\",IF(U724=\"\",\"\",VLOOKUP(U724,Tabelle!$D$5:$I$7,6,FALSE)))","v":""},null,null,null,null,null,null,null,null,null,null,null,{"$f":"IF(B724=\"\",0,IF(B724=B723,COUNTIF(B$9:B723,B724)+1,1))","v":712},0,0]
["717","-1900","-1900-713",null,null,null,null,null,null,null,null,null,null,null,null,null,null,null,null,null,null,{"$f":"IF(M$2021=1,\"\",IF(U725=\"\",\"\",VLOOKUP(U725,Tabelle!$D$5:$H$7,5,FALSE)))","v":""},{"$f":"IF(M$2021=1,\"\",IF(U725=\"\",\"\",VLOOKUP(U725,Tabelle!$D$5:$I$7,6,FALSE)))","v":""},null,null,null,null,null,null,null,null,null,null,null,{"$f":"IF(B725=\"\",0,IF(B725=B724,COUNTIF(B$9:B724,B725)+1,1))","v":713},0,0]
["718","-1900","-1900-714",null,null,null,null,null,null,null,null,null,null,null,null,null,null,null,null,null,null,{"$f":"IF(M$2021=1,\"\",IF(U726=\"\",\"\",VLOOKUP(U726,Tabelle!$D$5:$H$7,5,FALSE)))","v":""},{"$f":"IF(M$2021=1,\"\",IF(U726=\"\",\"\",VLOOKUP(U726,Tabelle!$D$5:$I$7,6,FALSE)))","v":""},null,null,null,null,null,null,null,null,null,null,null,{"$f":"IF(B726=\"\",0,IF(B726=B725,COUNTIF(B$9:B725,B726)+1,1))","v":714},0,0]
["719","-1900","-1900-715",null,null,null,null,null,null,null,null,null,null,null,null,null,null,null,null,null,null,{"$f":"IF(M$2021=1,\"\",IF(U727=\"\",\"\",VLOOKUP(U727,Tabelle!$D$5:$H$7,5,FALSE)))","v":""},{"$f":"IF(M$2021=1,\"\",IF(U727=\"\",\"\",VLOOKUP(U727,Tabelle!$D$5:$I$7,6,FALSE)))","v":""},null,null,null,null,null,null,null,null,null,null,null,{"$f":"IF(B727=\"\",0,IF(B727=B726,COUNTIF(B$9:B726,B727)+1,1))","v":715},0,0]
["720","-1900","-1900-716",null,null,null,null,null,null,null,null,null,null,null,null,null,null,null,null,null,null,{"$f":"IF(M$2021=1,\"\",IF(U728=\"\",\"\",VLOOKUP(U728,Tabelle!$D$5:$H$7,5,FALSE)))","v":""},{"$f":"IF(M$2021=1,\"\",IF(U728=\"\",\"\",VLOOKUP(U728,Tabelle!$D$5:$I$7,6,FALSE)))","v":""},null,null,null,null,null,null,null,null,null,null,null,{"$f":"IF(B728=\"\",0,IF(B728=B727,COUNTIF(B$9:B727,B728)+1,1))","v":716},0,0]
["721","-1900","-1900-717",null,null,null,null,null,null,null,null,null,null,null,null,null,null,null,null,null,null,{"$f":"IF(M$2021=1,\"\",IF(U729=\"\",\"\",VLOOKUP(U729,Tabelle!$D$5:$H$7,5,FALSE)))","v":""},{"$f":"IF(M$2021=1,\"\",IF(U729=\"\",\"\",VLOOKUP(U729,Tabelle!$D$5:$I$7,6,FALSE)))","v":""},null,null,null,null,null,null,null,null,null,null,null,{"$f":"IF(B729=\"\",0,IF(B729=B728,COUNTIF(B$9:B728,B729)+1,1))","v":717},0,0]
["722","-1900","-1900-718",null,null,null,null,null,null,null,null,null,null,null,null,null,null,null,null,null,null,{"$f":"IF(M$2021=1,\"\",IF(U730=\"\",\"\",VLOOKUP(U730,Tabelle!$D$5:$H$7,5,FALSE)))","v":""},{"$f":"IF(M$2021=1,\"\",IF(U730=\"\",\"\",VLOOKUP(U730,Tabelle!$D$5:$I$7,6,FALSE)))","v":""},null,null,null,null,null,null,null,null,null,null,null,{"$f":"IF(B730=\"\",0,IF(B730=B729,COUNTIF(B$9:B729,B730)+1,1))","v":718},0,0]
["723","-1900","-1900-719",null,null,null,null,null,null,null,null,null,null,null,null,null,null,null,null,null,null,{"$f":"IF(M$2021=1,\"\",IF(U731=\"\",\"\",VLOOKUP(U731,Tabelle!$D$5:$H$7,5,FALSE)))","v":""},{"$f":"IF(M$2021=1,\"\",IF(U731=\"\",\"\",VLOOKUP(U731,Tabelle!$D$5:$I$7,6,FALSE)))","v":""},null,null,null,null,null,null,null,null,null,null,null,{"$f":"IF(B731=\"\",0,IF(B731=B730,COUNTIF(B$9:B730,B731)+1,1))","v":719},0,0]
["724","-1900","-1900-720",null,null,null,null,null,null,null,null,null,null,null,null,null,null,null,null,null,null,{"$f":"IF(M$2021=1,\"\",IF(U732=\"\",\"\",VLOOKUP(U732,Tabelle!$D$5:$H$7,5,FALSE)))","v":""},{"$f":"IF(M$2021=1,\"\",IF(U732=\"\",\"\",VLOOKUP(U732,Tabelle!$D$5:$I$7,6,FALSE)))","v":""},null,null,null,null,null,null,null,null,null,null,null,{"$f":"IF(B732=\"\",0,IF(B732=B731,COUNTIF(B$9:B731,B732)+1,1))","v":720},0,0]
["725","-1900","-1900-721",null,null,null,null,null,null,null,null,null,null,null,null,null,null,null,null,null,null,{"$f":"IF(M$2021=1,\"\",IF(U733=\"\",\"\",VLOOKUP(U733,Tabelle!$D$5:$H$7,5,FALSE)))","v":""},{"$f":"IF(M$2021=1,\"\",IF(U733=\"\",\"\",VLOOKUP(U733,Tabelle!$D$5:$I$7,6,FALSE)))","v":""},null,null,null,null,null,null,null,null,null,null,null,{"$f":"IF(B733=\"\",0,IF(B733=B732,COUNTIF(B$9:B732,B733)+1,1))","v":721},0,0]
["726","-1900","-1900-722",null,null,null,null,null,null,null,null,null,null,null,null,null,null,null,null,null,null,{"$f":"IF(M$2021=1,\"\",IF(U734=\"\",\"\",VLOOKUP(U734,Tabelle!$D$5:$H$7,5,FALSE)))","v":""},{"$f":"IF(M$2021=1,\"\",IF(U734=\"\",\"\",VLOOKUP(U734,Tabelle!$D$5:$I$7,6,FALSE)))","v":""},null,null,null,null,null,null,null,null,null,null,null,{"$f":"IF(B734=\"\",0,IF(B734=B733,COUNTIF(B$9:B733,B734)+1,1))","v":722},0,0]
["727","-1900","-1900-723",null,null,null,null,null,null,null,null,null,null,null,null,null,null,null,null,null,null,{"$f":"IF(M$2021=1,\"\",IF(U735=\"\",\"\",VLOOKUP(U735,Tabelle!$D$5:$H$7,5,FALSE)))","v":""},{"$f":"IF(M$2021=1,\"\",IF(U735=\"\",\"\",VLOOKUP(U735,Tabelle!$D$5:$I$7,6,FALSE)))","v":""},null,null,null,null,null,null,null,null,null,null,null,{"$f":"IF(B735=\"\",0,IF(B735=B734,COUNTIF(B$9:B734,B735)+1,1))","v":723},0,0]
["728","-1900","-1900-724",null,null,null,null,null,null,null,null,null,null,null,null,null,null,null,null,null,null,{"$f":"IF(M$2021=1,\"\",IF(U736=\"\",\"\",VLOOKUP(U736,Tabelle!$D$5:$H$7,5,FALSE)))","v":""},{"$f":"IF(M$2021=1,\"\",IF(U736=\"\",\"\",VLOOKUP(U736,Tabelle!$D$5:$I$7,6,FALSE)))","v":""},null,null,null,null,null,null,null,null,null,null,null,{"$f":"IF(B736=\"\",0,IF(B736=B735,COUNTIF(B$9:B735,B736)+1,1))","v":724},0,0]
["729","-1900","-1900-725",null,null,null,null,null,null,null,null,null,null,null,null,null,null,null,null,null,null,{"$f":"IF(M$2021=1,\"\",IF(U737=\"\",\"\",VLOOKUP(U737,Tabelle!$D$5:$H$7,5,FALSE)))","v":""},{"$f":"IF(M$2021=1,\"\",IF(U737=\"\",\"\",VLOOKUP(U737,Tabelle!$D$5:$I$7,6,FALSE)))","v":""},null,null,null,null,null,null,null,null,null,null,null,{"$f":"IF(B737=\"\",0,IF(B737=B736,COUNTIF(B$9:B736,B737)+1,1))","v":725},0,0]
["730","-1900","-1900-726",null,null,null,null,null,null,null,null,null,null,null,null,null,null,null,null,null,null,{"$f":"IF(M$2021=1,\"\",IF(U738=\"\",\"\",VLOOKUP(U738,Tabelle!$D$5:$H$7,5,FALSE)))","v":""},{"$f":"IF(M$2021=1,\"\",IF(U738=\"\",\"\",VLOOKUP(U738,Tabelle!$D$5:$I$7,6,FALSE)))","v":""},null,null,null,null,null,null,null,null,null,null,null,{"$f":"IF(B738=\"\",0,IF(B738=B737,COUNTIF(B$9:B737,B738)+1,1))","v":726},0,0]
["731","-1900","-1900-727",null,null,null,null,null,null,null,null,null,null,null,null,null,null,null,null,null,null,{"$f":"IF(M$2021=1,\"\",IF(U739=\"\",\"\",VLOOKUP(U739,Tabelle!$D$5:$H$7,5,FALSE)))","v":""},{"$f":"IF(M$2021=1,\"\",IF(U739=\"\",\"\",VLOOKUP(U739,Tabelle!$D$5:$I$7,6,FALSE)))","v":""},null,null,null,null,null,null,null,null,null,null,null,{"$f":"IF(B739=\"\",0,IF(B739=B738,COUNTIF(B$9:B738,B739)+1,1))","v":727},0,0]
["732","-1900","-1900-728",null,null,null,null,null,null,null,null,null,null,null,null,null,null,null,null,null,null,{"$f":"IF(M$2021=1,\"\",IF(U740=\"\",\"\",VLOOKUP(U740,Tabelle!$D$5:$H$7,5,FALSE)))","v":""},{"$f":"IF(M$2021=1,\"\",IF(U740=\"\",\"\",VLOOKUP(U740,Tabelle!$D$5:$I$7,6,FALSE)))","v":""},null,null,null,null,null,null,null,null,null,null,null,{"$f":"IF(B740=\"\",0,IF(B740=B739,COUNTIF(B$9:B739,B740)+1,1))","v":728},0,0]
["733","-1900","-1900-729",null,null,null,null,null,null,null,null,null,null,null,null,null,null,null,null,null,null,{"$f":"IF(M$2021=1,\"\",IF(U741=\"\",\"\",VLOOKUP(U741,Tabelle!$D$5:$H$7,5,FALSE)))","v":""},{"$f":"IF(M$2021=1,\"\",IF(U741=\"\",\"\",VLOOKUP(U741,Tabelle!$D$5:$I$7,6,FALSE)))","v":""},null,null,null,null,null,null,null,null,null,null,null,{"$f":"IF(B741=\"\",0,IF(B741=B740,COUNTIF(B$9:B740,B741)+1,1))","v":729},0,0]
["734","-1900","-1900-730",null,null,null,null,null,null,null,null,null,null,null,null,null,null,null,null,null,null,{"$f":"IF(M$2021=1,\"\",IF(U742=\"\",\"\",VLOOKUP(U742,Tabelle!$D$5:$H$7,5,FALSE)))","v":""},{"$f":"IF(M$2021=1,\"\",IF(U742=\"\",\"\",VLOOKUP(U742,Tabelle!$D$5:$I$7,6,FALSE)))","v":""},null,null,null,null,null,null,null,null,null,null,null,{"$f":"IF(B742=\"\",0,IF(B742=B741,COUNTIF(B$9:B741,B742)+1,1))","v":730},0,0]
["735","-1900","-1900-731",null,null,null,null,null,null,null,null,null,null,null,null,null,null,null,null,null,null,{"$f":"IF(M$2021=1,\"\",IF(U743=\"\",\"\",VLOOKUP(U743,Tabelle!$D$5:$H$7,5,FALSE)))","v":""},{"$f":"IF(M$2021=1,\"\",IF(U743=\"\",\"\",VLOOKUP(U743,Tabelle!$D$5:$I$7,6,FALSE)))","v":""},null,null,null,null,null,null,null,null,null,null,null,{"$f":"IF(B743=\"\",0,IF(B743=B742,COUNTIF(B$9:B742,B743)+1,1))","v":731},0,0]
["736","-1900","-1900-732",null,null,null,null,null,null,null,null,null,null,null,null,null,null,null,null,null,null,{"$f":"IF(M$2021=1,\"\",IF(U744=\"\",\"\",VLOOKUP(U744,Tabelle!$D$5:$H$7,5,FALSE)))","v":""},{"$f":"IF(M$2021=1,\"\",IF(U744=\"\",\"\",VLOOKUP(U744,Tabelle!$D$5:$I$7,6,FALSE)))","v":""},null,null,null,null,null,null,null,null,null,null,null,{"$f":"IF(B744=\"\",0,IF(B744=B743,COUNTIF(B$9:B743,B744)+1,1))","v":732},0,0]
["737","-1900","-1900-733",null,null,null,null,null,null,null,null,null,null,null,null,null,null,null,null,null,null,{"$f":"IF(M$2021=1,\"\",IF(U745=\"\",\"\",VLOOKUP(U745,Tabelle!$D$5:$H$7,5,FALSE)))","v":""},{"$f":"IF(M$2021=1,\"\",IF(U745=\"\",\"\",VLOOKUP(U745,Tabelle!$D$5:$I$7,6,FALSE)))","v":""},null,null,null,null,null,null,null,null,null,null,null,{"$f":"IF(B745=\"\",0,IF(B745=B744,COUNTIF(B$9:B744,B745)+1,1))","v":733},0,0]
["738","-1900","-1900-734",null,null,null,null,null,null,null,null,null,null,null,null,null,null,null,null,null,null,{"$f":"IF(M$2021=1,\"\",IF(U746=\"\",\"\",VLOOKUP(U746,Tabelle!$D$5:$H$7,5,FALSE)))","v":""},{"$f":"IF(M$2021=1,\"\",IF(U746=\"\",\"\",VLOOKUP(U746,Tabelle!$D$5:$I$7,6,FALSE)))","v":""},null,null,null,null,null,null,null,null,null,null,null,{"$f":"IF(B746=\"\",0,IF(B746=B745,COUNTIF(B$9:B745,B746)+1,1))","v":734},0,0]
["739","-1900","-1900-735",null,null,null,null,null,null,null,null,null,null,null,null,null,null,null,null,null,null,{"$f":"IF(M$2021=1,\"\",IF(U747=\"\",\"\",VLOOKUP(U747,Tabelle!$D$5:$H$7,5,FALSE)))","v":""},{"$f":"IF(M$2021=1,\"\",IF(U747=\"\",\"\",VLOOKUP(U747,Tabelle!$D$5:$I$7,6,FALSE)))","v":""},null,null,null,null,null,null,null,null,null,null,null,{"$f":"IF(B747=\"\",0,IF(B747=B746,COUNTIF(B$9:B746,B747)+1,1))","v":735},0,0]
["740","-1900","-1900-736",null,null,null,null,null,null,null,null,null,null,null,null,null,null,null,null,null,null,{"$f":"IF(M$2021=1,\"\",IF(U748=\"\",\"\",VLOOKUP(U748,Tabelle!$D$5:$H$7,5,FALSE)))","v":""},{"$f":"IF(M$2021=1,\"\",IF(U748=\"\",\"\",VLOOKUP(U748,Tabelle!$D$5:$I$7,6,FALSE)))","v":""},null,null,null,null,null,null,null,null,null,null,null,{"$f":"IF(B748=\"\",0,IF(B748=B747,COUNTIF(B$9:B747,B748)+1,1))","v":736},0,0]
["741","-1900","-1900-737",null,null,null,null,null,null,null,null,null,null,null,null,null,null,null,null,null,null,{"$f":"IF(M$2021=1,\"\",IF(U749=\"\",\"\",VLOOKUP(U749,Tabelle!$D$5:$H$7,5,FALSE)))","v":""},{"$f":"IF(M$2021=1,\"\",IF(U749=\"\",\"\",VLOOKUP(U749,Tabelle!$D$5:$I$7,6,FALSE)))","v":""},null,null,null,null,null,null,null,null,null,null,null,{"$f":"IF(B749=\"\",0,IF(B749=B748,COUNTIF(B$9:B748,B749)+1,1))","v":737},0,0]
["742","-1900","-1900-738",null,null,null,null,null,null,null,null,null,null,null,null,null,null,null,null,null,null,{"$f":"IF(M$2021=1,\"\",IF(U750=\"\",\"\",VLOOKUP(U750,Tabelle!$D$5:$H$7,5,FALSE)))","v":""},{"$f":"IF(M$2021=1,\"\",IF(U750=\"\",\"\",VLOOKUP(U750,Tabelle!$D$5:$I$7,6,FALSE)))","v":""},null,null,null,null,null,null,null,null,null,null,null,{"$f":"IF(B750=\"\",0,IF(B750=B749,COUNTIF(B$9:B749,B750)+1,1))","v":738},0,0]
["743","-1900","-1900-739",null,null,null,null,null,null,null,null,null,null,null,null,null,null,null,null,null,null,{"$f":"IF(M$2021=1,\"\",IF(U751=\"\",\"\",VLOOKUP(U751,Tabelle!$D$5:$H$7,5,FALSE)))","v":""},{"$f":"IF(M$2021=1,\"\",IF(U751=\"\",\"\",VLOOKUP(U751,Tabelle!$D$5:$I$7,6,FALSE)))","v":""},null,null,null,null,null,null,null,null,null,null,null,{"$f":"IF(B751=\"\",0,IF(B751=B750,COUNTIF(B$9:B750,B751)+1,1))","v":739},0,0]
["744","-1900","-1900-740",null,null,null,null,null,null,null,null,null,null,null,null,null,null,null,null,null,null,{"$f":"IF(M$2021=1,\"\",IF(U752=\"\",\"\",VLOOKUP(U752,Tabelle!$D$5:$H$7,5,FALSE)))","v":""},{"$f":"IF(M$2021=1,\"\",IF(U752=\"\",\"\",VLOOKUP(U752,Tabelle!$D$5:$I$7,6,FALSE)))","v":""},null,null,null,null,null,null,null,null,null,null,null,{"$f":"IF(B752=\"\",0,IF(B752=B751,COUNTIF(B$9:B751,B752)+1,1))","v":740},0,0]
["745","-1900","-1900-741",null,null,null,null,null,null,null,null,null,null,null,null,null,null,null,null,null,null,{"$f":"IF(M$2021=1,\"\",IF(U753=\"\",\"\",VLOOKUP(U753,Tabelle!$D$5:$H$7,5,FALSE)))","v":""},{"$f":"IF(M$2021=1,\"\",IF(U753=\"\",\"\",VLOOKUP(U753,Tabelle!$D$5:$I$7,6,FALSE)))","v":""},null,null,null,null,null,null,null,null,null,null,null,{"$f":"IF(B753=\"\",0,IF(B753=B752,COUNTIF(B$9:B752,B753)+1,1))","v":741},0,0]
["746","-1900","-1900-742",null,null,null,null,null,null,null,null,null,null,null,null,null,null,null,null,null,null,{"$f":"IF(M$2021=1,\"\",IF(U754=\"\",\"\",VLOOKUP(U754,Tabelle!$D$5:$H$7,5,FALSE)))","v":""},{"$f":"IF(M$2021=1,\"\",IF(U754=\"\",\"\",VLOOKUP(U754,Tabelle!$D$5:$I$7,6,FALSE)))","v":""},null,null,null,null,null,null,null,null,null,null,null,{"$f":"IF(B754=\"\",0,IF(B754=B753,COUNTIF(B$9:B753,B754)+1,1))","v":742},0,0]
["747","-1900","-1900-743",null,null,null,null,null,null,null,null,null,null,null,null,null,null,null,null,null,null,{"$f":"IF(M$2021=1,\"\",IF(U755=\"\",\"\",VLOOKUP(U755,Tabelle!$D$5:$H$7,5,FALSE)))","v":""},{"$f":"IF(M$2021=1,\"\",IF(U755=\"\",\"\",VLOOKUP(U755,Tabelle!$D$5:$I$7,6,FALSE)))","v":""},null,null,null,null,null,null,null,null,null,null,null,{"$f":"IF(B755=\"\",0,IF(B755=B754,COUNTIF(B$9:B754,B755)+1,1))","v":743},0,0]
["748","-1900","-1900-744",null,null,null,null,null,null,null,null,null,null,null,null,null,null,null,null,null,null,{"$f":"IF(M$2021=1,\"\",IF(U756=\"\",\"\",VLOOKUP(U756,Tabelle!$D$5:$H$7,5,FALSE)))","v":""},{"$f":"IF(M$2021=1,\"\",IF(U756=\"\",\"\",VLOOKUP(U756,Tabelle!$D$5:$I$7,6,FALSE)))","v":""},null,null,null,null,null,null,null,null,null,null,null,{"$f":"IF(B756=\"\",0,IF(B756=B755,COUNTIF(B$9:B755,B756)+1,1))","v":744},0,0]
["749","-1900","-1900-745",null,null,null,null,null,null,null,null,null,null,null,null,null,null,null,null,null,null,{"$f":"IF(M$2021=1,\"\",IF(U757=\"\",\"\",VLOOKUP(U757,Tabelle!$D$5:$H$7,5,FALSE)))","v":""},{"$f":"IF(M$2021=1,\"\",IF(U757=\"\",\"\",VLOOKUP(U757,Tabelle!$D$5:$I$7,6,FALSE)))","v":""},null,null,null,null,null,null,null,null,null,null,null,{"$f":"IF(B757=\"\",0,IF(B757=B756,COUNTIF(B$9:B756,B757)+1,1))","v":745},0,0]
["750","-1900","-1900-746",null,null,null,null,null,null,null,null,null,null,null,null,null,null,null,null,null,null,{"$f":"IF(M$2021=1,\"\",IF(U758=\"\",\"\",VLOOKUP(U758,Tabelle!$D$5:$H$7,5,FALSE)))","v":""},{"$f":"IF(M$2021=1,\"\",IF(U758=\"\",\"\",VLOOKUP(U758,Tabelle!$D$5:$I$7,6,FALSE)))","v":""},null,null,null,null,null,null,null,null,null,null,null,{"$f":"IF(B758=\"\",0,IF(B758=B757,COUNTIF(B$9:B757,B758)+1,1))","v":746},0,0]
["751","-1900","-1900-747",null,null,null,null,null,null,null,null,null,null,null,null,null,null,null,null,null,null,{"$f":"IF(M$2021=1,\"\",IF(U759=\"\",\"\",VLOOKUP(U759,Tabelle!$D$5:$H$7,5,FALSE)))","v":""},{"$f":"IF(M$2021=1,\"\",IF(U759=\"\",\"\",VLOOKUP(U759,Tabelle!$D$5:$I$7,6,FALSE)))","v":""},null,null,null,null,null,null,null,null,null,null,null,{"$f":"IF(B759=\"\",0,IF(B759=B758,COUNTIF(B$9:B758,B759)+1,1))","v":747},0,0]
["752","-1900","-1900-748",null,null,null,null,null,null,null,null,null,null,null,null,null,null,null,null,null,null,{"$f":"IF(M$2021=1,\"\",IF(U760=\"\",\"\",VLOOKUP(U760,Tabelle!$D$5:$H$7,5,FALSE)))","v":""},{"$f":"IF(M$2021=1,\"\",IF(U760=\"\",\"\",VLOOKUP(U760,Tabelle!$D$5:$I$7,6,FALSE)))","v":""},null,null,null,null,null,null,null,null,null,null,null,{"$f":"IF(B760=\"\",0,IF(B760=B759,COUNTIF(B$9:B759,B760)+1,1))","v":748},0,0]
["753","-1900","-1900-749",null,null,null,null,null,null,null,null,null,null,null,null,null,null,null,null,null,null,{"$f":"IF(M$2021=1,\"\",IF(U761=\"\",\"\",VLOOKUP(U761,Tabelle!$D$5:$H$7,5,FALSE)))","v":""},{"$f":"IF(M$2021=1,\"\",IF(U761=\"\",\"\",VLOOKUP(U761,Tabelle!$D$5:$I$7,6,FALSE)))","v":""},null,null,null,null,null,null,null,null,null,null,null,{"$f":"IF(B761=\"\",0,IF(B761=B760,COUNTIF(B$9:B760,B761)+1,1))","v":749},0,0]
["754","-1900","-1900-750",null,null,null,null,null,null,null,null,null,null,null,null,null,null,null,null,null,null,{"$f":"IF(M$2021=1,\"\",IF(U762=\"\",\"\",VLOOKUP(U762,Tabelle!$D$5:$H$7,5,FALSE)))","v":""},{"$f":"IF(M$2021=1,\"\",IF(U762=\"\",\"\",VLOOKUP(U762,Tabelle!$D$5:$I$7,6,FALSE)))","v":""},null,null,null,null,null,null,null,null,null,null,null,{"$f":"IF(B762=\"\",0,IF(B762=B761,COUNTIF(B$9:B761,B762)+1,1))","v":750},0,0]
["755","-1900","-1900-751",null,null,null,null,null,null,null,null,null,null,null,null,null,null,null,null,null,null,{"$f":"IF(M$2021=1,\"\",IF(U763=\"\",\"\",VLOOKUP(U763,Tabelle!$D$5:$H$7,5,FALSE)))","v":""},{"$f":"IF(M$2021=1,\"\",IF(U763=\"\",\"\",VLOOKUP(U763,Tabelle!$D$5:$I$7,6,FALSE)))","v":""},null,null,null,null,null,null,null,null,null,null,null,{"$f":"IF(B763=\"\",0,IF(B763=B762,COUNTIF(B$9:B762,B763)+1,1))","v":751},0,0]
["756","-1900","-1900-752",null,null,null,null,null,null,null,null,null,null,null,null,null,null,null,null,null,null,{"$f":"IF(M$2021=1,\"\",IF(U764=\"\",\"\",VLOOKUP(U764,Tabelle!$D$5:$H$7,5,FALSE)))","v":""},{"$f":"IF(M$2021=1,\"\",IF(U764=\"\",\"\",VLOOKUP(U764,Tabelle!$D$5:$I$7,6,FALSE)))","v":""},null,null,null,null,null,null,null,null,null,null,null,{"$f":"IF(B764=\"\",0,IF(B764=B763,COUNTIF(B$9:B763,B764)+1,1))","v":752},0,0]
["757","-1900","-1900-753",null,null,null,null,null,null,null,null,null,null,null,null,null,null,null,null,null,null,{"$f":"IF(M$2021=1,\"\",IF(U765=\"\",\"\",VLOOKUP(U765,Tabelle!$D$5:$H$7,5,FALSE)))","v":""},{"$f":"IF(M$2021=1,\"\",IF(U765=\"\",\"\",VLOOKUP(U765,Tabelle!$D$5:$I$7,6,FALSE)))","v":""},null,null,null,null,null,null,null,null,null,null,null,{"$f":"IF(B765=\"\",0,IF(B765=B764,COUNTIF(B$9:B764,B765)+1,1))","v":753},0,0]
["758","-1900","-1900-754",null,null,null,null,null,null,null,null,null,null,null,null,null,null,null,null,null,null,{"$f":"IF(M$2021=1,\"\",IF(U766=\"\",\"\",VLOOKUP(U766,Tabelle!$D$5:$H$7,5,FALSE)))","v":""},{"$f":"IF(M$2021=1,\"\",IF(U766=\"\",\"\",VLOOKUP(U766,Tabelle!$D$5:$I$7,6,FALSE)))","v":""},null,null,null,null,null,null,null,null,null,null,null,{"$f":"IF(B766=\"\",0,IF(B766=B765,COUNTIF(B$9:B765,B766)+1,1))","v":754},0,0]
["759","-1900","-1900-755",null,null,null,null,null,null,null,null,null,null,null,null,null,null,null,null,null,null,{"$f":"IF(M$2021=1,\"\",IF(U767=\"\",\"\",VLOOKUP(U767,Tabelle!$D$5:$H$7,5,FALSE)))","v":""},{"$f":"IF(M$2021=1,\"\",IF(U767=\"\",\"\",VLOOKUP(U767,Tabelle!$D$5:$I$7,6,FALSE)))","v":""},null,null,null,null,null,null,null,null,null,null,null,{"$f":"IF(B767=\"\",0,IF(B767=B766,COUNTIF(B$9:B766,B767)+1,1))","v":755},0,0]
["760","-1900","-1900-756",null,null,null,null,null,null,null,null,null,null,null,null,null,null,null,null,null,null,{"$f":"IF(M$2021=1,\"\",IF(U768=\"\",\"\",VLOOKUP(U768,Tabelle!$D$5:$H$7,5,FALSE)))","v":""},{"$f":"IF(M$2021=1,\"\",IF(U768=\"\",\"\",VLOOKUP(U768,Tabelle!$D$5:$I$7,6,FALSE)))","v":""},null,null,null,null,null,null,null,null,null,null,null,{"$f":"IF(B768=\"\",0,IF(B768=B767,COUNTIF(B$9:B767,B768)+1,1))","v":756},0,0]
["761","-1900","-1900-757",null,null,null,null,null,null,null,null,null,null,null,null,null,null,null,null,null,null,{"$f":"IF(M$2021=1,\"\",IF(U769=\"\",\"\",VLOOKUP(U769,Tabelle!$D$5:$H$7,5,FALSE)))","v":""},{"$f":"IF(M$2021=1,\"\",IF(U769=\"\",\"\",VLOOKUP(U769,Tabelle!$D$5:$I$7,6,FALSE)))","v":""},null,null,null,null,null,null,null,null,null,null,null,{"$f":"IF(B769=\"\",0,IF(B769=B768,COUNTIF(B$9:B768,B769)+1,1))","v":757},0,0]
["762","-1900","-1900-758",null,null,null,null,null,null,null,null,null,null,null,null,null,null,null,null,null,null,{"$f":"IF(M$2021=1,\"\",IF(U770=\"\",\"\",VLOOKUP(U770,Tabelle!$D$5:$H$7,5,FALSE)))","v":""},{"$f":"IF(M$2021=1,\"\",IF(U770=\"\",\"\",VLOOKUP(U770,Tabelle!$D$5:$I$7,6,FALSE)))","v":""},null,null,null,null,null,null,null,null,null,null,null,{"$f":"IF(B770=\"\",0,IF(B770=B769,COUNTIF(B$9:B769,B770)+1,1))","v":758},0,0]
["763","-1900","-1900-759",null,null,null,null,null,null,null,null,null,null,null,null,null,null,null,null,null,null,{"$f":"IF(M$2021=1,\"\",IF(U771=\"\",\"\",VLOOKUP(U771,Tabelle!$D$5:$H$7,5,FALSE)))","v":""},{"$f":"IF(M$2021=1,\"\",IF(U771=\"\",\"\",VLOOKUP(U771,Tabelle!$D$5:$I$7,6,FALSE)))","v":""},null,null,null,null,null,null,null,null,null,null,null,{"$f":"IF(B771=\"\",0,IF(B771=B770,COUNTIF(B$9:B770,B771)+1,1))","v":759},0,0]
["764","-1900","-1900-760",null,null,null,null,null,null,null,null,null,null,null,null,null,null,null,null,null,null,{"$f":"IF(M$2021=1,\"\",IF(U772=\"\",\"\",VLOOKUP(U772,Tabelle!$D$5:$H$7,5,FALSE)))","v":""},{"$f":"IF(M$2021=1,\"\",IF(U772=\"\",\"\",VLOOKUP(U772,Tabelle!$D$5:$I$7,6,FALSE)))","v":""},null,null,null,null,null,null,null,null,null,null,null,{"$f":"IF(B772=\"\",0,IF(B772=B771,COUNTIF(B$9:B771,B772)+1,1))","v":760},0,0]
["765","-1900","-1900-761",null,null,null,null,null,null,null,null,null,null,null,null,null,null,null,null,null,null,{"$f":"IF(M$2021=1,\"\",IF(U773=\"\",\"\",VLOOKUP(U773,Tabelle!$D$5:$H$7,5,FALSE)))","v":""},{"$f":"IF(M$2021=1,\"\",IF(U773=\"\",\"\",VLOOKUP(U773,Tabelle!$D$5:$I$7,6,FALSE)))","v":""},null,null,null,null,null,null,null,null,null,null,null,{"$f":"IF(B773=\"\",0,IF(B773=B772,COUNTIF(B$9:B772,B773)+1,1))","v":761},0,0]
["766","-1900","-1900-762",null,null,null,null,null,null,null,null,null,null,null,null,null,null,null,null,null,null,{"$f":"IF(M$2021=1,\"\",IF(U774=\"\",\"\",VLOOKUP(U774,Tabelle!$D$5:$H$7,5,FALSE)))","v":""},{"$f":"IF(M$2021=1,\"\",IF(U774=\"\",\"\",VLOOKUP(U774,Tabelle!$D$5:$I$7,6,FALSE)))","v":""},null,null,null,null,null,null,null,null,null,null,null,{"$f":"IF(B774=\"\",0,IF(B774=B773,COUNTIF(B$9:B773,B774)+1,1))","v":762},0,0]
["767","-1900","-1900-763",null,null,null,null,null,null,null,null,null,null,null,null,null,null,null,null,null,null,{"$f":"IF(M$2021=1,\"\",IF(U775=\"\",\"\",VLOOKUP(U775,Tabelle!$D$5:$H$7,5,FALSE)))","v":""},{"$f":"IF(M$2021=1,\"\",IF(U775=\"\",\"\",VLOOKUP(U775,Tabelle!$D$5:$I$7,6,FALSE)))","v":""},null,null,null,null,null,null,null,null,null,null,null,{"$f":"IF(B775=\"\",0,IF(B775=B774,COUNTIF(B$9:B774,B775)+1,1))","v":763},0,0]
["768","-1900","-1900-764",null,null,null,null,null,null,null,null,null,null,null,null,null,null,null,null,null,null,{"$f":"IF(M$2021=1,\"\",IF(U776=\"\",\"\",VLOOKUP(U776,Tabelle!$D$5:$H$7,5,FALSE)))","v":""},{"$f":"IF(M$2021=1,\"\",IF(U776=\"\",\"\",VLOOKUP(U776,Tabelle!$D$5:$I$7,6,FALSE)))","v":""},null,null,null,null,null,null,null,null,null,null,null,{"$f":"IF(B776=\"\",0,IF(B776=B775,COUNTIF(B$9:B775,B776)+1,1))","v":764},0,0]
["769","-1900",{"$f":"IF(M$2021=1,0,B777&\"-\"&AI777)","v":"-1900-765"},null,null,null,null,null,null,null,null,null,null,null,null,null,null,null,null,null,null,{"$f":"IF(M$2021=1,\"\",IF(U777=\"\",\"\",VLOOKUP(U777,Tabelle!$D$5:$H$7,5,FALSE)))","v":""},{"$f":"IF(M$2021=1,\"\",IF(U777=\"\",\"\",VLOOKUP(U777,Tabelle!$D$5:$I$7,6,FALSE)))","v":""},null,null,null,null,null,null,null,null,null,null,null,{"$f":"IF(B777=\"\",0,IF(B777=B776,COUNTIF(B$9:B776,B777)+1,1))","v":765},0,0]
["770",{"$f":"IF(AK778=$AK$2015,0,IF(M$2021=1,0,D778&\"-\"&YEAR(E778)))","v":"-1900"},"-1900-766",null,null,null,null,null,null,null,null,null,null,null,null,null,null,null,null,null,null,{"$f":"IF(M$2021=1,\"\",IF(U778=\"\",\"\",VLOOKUP(U778,Tabelle!$D$5:$H$7,5,FALSE)))","v":""},{"$f":"IF(M$2021=1,\"\",IF(U778=\"\",\"\",VLOOKUP(U778,Tabelle!$D$5:$I$7,6,FALSE)))","v":""},null,null,null,null,null,null,null,null,null,null,null,{"$f":"IF(B778=\"\",0,IF(B778=B777,COUNTIF(B$9:B777,B778)+1,1))","v":766},{"$f":"IF(OR(D778=\"\",M$2021=1),0,IF(AI778=10,1,0))","v":0},{"$f":"IF(E778>0,IF(OR(MONTH(E778)<$J$2027,MONTH(E778)>$J$2028),AK$2015,0),0)","v":0}]
["771","-1900","-1900-767",null,null,null,null,null,null,null,null,null,null,null,null,null,null,null,null,null,null,{"$f":"IF(M$2021=1,\"\",IF(U779=\"\",\"\",VLOOKUP(U779,Tabelle!$D$5:$H$7,5,FALSE)))","v":""},{"$f":"IF(M$2021=1,\"\",IF(U779=\"\",\"\",VLOOKUP(U779,Tabelle!$D$5:$I$7,6,FALSE)))","v":""},null,null,null,null,null,null,null,null,null,null,null,{"$f":"IF(B779=\"\",0,IF(B779=B778,COUNTIF(B$9:B778,B779)+1,1))","v":767},0,0]
["772","-1900","-1900-768",null,null,null,null,null,null,null,null,null,null,null,null,null,null,null,null,null,null,{"$f":"IF(M$2021=1,\"\",IF(U780=\"\",\"\",VLOOKUP(U780,Tabelle!$D$5:$H$7,5,FALSE)))","v":""},{"$f":"IF(M$2021=1,\"\",IF(U780=\"\",\"\",VLOOKUP(U780,Tabelle!$D$5:$I$7,6,FALSE)))","v":""},null,null,null,null,null,null,null,null,null,null,null,{"$f":"IF(B780=\"\",0,IF(B780=B779,COUNTIF(B$9:B779,B780)+1,1))","v":768},0,0]
["773","-1900","-1900-769",null,null,null,null,null,null,null,null,null,null,null,null,null,null,null,null,null,null,{"$f":"IF(M$2021=1,\"\",IF(U781=\"\",\"\",VLOOKUP(U781,Tabelle!$D$5:$H$7,5,FALSE)))","v":""},{"$f":"IF(M$2021=1,\"\",IF(U781=\"\",\"\",VLOOKUP(U781,Tabelle!$D$5:$I$7,6,FALSE)))","v":""},null,null,null,null,null,null,null,null,null,null,null,{"$f":"IF(B781=\"\",0,IF(B781=B780,COUNTIF(B$9:B780,B781)+1,1))","v":769},0,0]
["774","-1900","-1900-770",null,null,null,null,null,null,null,null,null,null,null,null,null,null,null,null,null,null,{"$f":"IF(M$2021=1,\"\",IF(U782=\"\",\"\",VLOOKUP(U782,Tabelle!$D$5:$H$7,5,FALSE)))","v":""},{"$f":"IF(M$2021=1,\"\",IF(U782=\"\",\"\",VLOOKUP(U782,Tabelle!$D$5:$I$7,6,FALSE)))","v":""},null,null,null,null,null,null,null,null,null,null,null,{"$f":"IF(B782=\"\",0,IF(B782=B781,COUNTIF(B$9:B781,B782)+1,1))","v":770},0,0]
["775","-1900","-1900-771",null,null,null,null,null,null,null,null,null,null,null,null,null,null,null,null,null,null,{"$f":"IF(M$2021=1,\"\",IF(U783=\"\",\"\",VLOOKUP(U783,Tabelle!$D$5:$H$7,5,FALSE)))","v":""},{"$f":"IF(M$2021=1,\"\",IF(U783=\"\",\"\",VLOOKUP(U783,Tabelle!$D$5:$I$7,6,FALSE)))","v":""},null,null,null,null,null,null,null,null,null,null,null,{"$f":"IF(B783=\"\",0,IF(B783=B782,COUNTIF(B$9:B782,B783)+1,1))","v":771},0,0]
["776","-1900","-1900-772",null,null,null,null,null,null,null,null,null,null,null,null,null,null,null,null,null,null,{"$f":"IF(M$2021=1,\"\",IF(U784=\"\",\"\",VLOOKUP(U784,Tabelle!$D$5:$H$7,5,FALSE)))","v":""},{"$f":"IF(M$2021=1,\"\",IF(U784=\"\",\"\",VLOOKUP(U784,Tabelle!$D$5:$I$7,6,FALSE)))","v":""},null,null,null,null,null,null,null,null,null,null,null,{"$f":"IF(B784=\"\",0,IF(B784=B783,COUNTIF(B$9:B783,B784)+1,1))","v":772},0,0]
["777","-1900","-1900-773",null,null,null,null,null,null,null,null,null,null,null,null,null,null,null,null,null,null,{"$f":"IF(M$2021=1,\"\",IF(U785=\"\",\"\",VLOOKUP(U785,Tabelle!$D$5:$H$7,5,FALSE)))","v":""},{"$f":"IF(M$2021=1,\"\",IF(U785=\"\",\"\",VLOOKUP(U785,Tabelle!$D$5:$I$7,6,FALSE)))","v":""},null,null,null,null,null,null,null,null,null,null,null,{"$f":"IF(B785=\"\",0,IF(B785=B784,COUNTIF(B$9:B784,B785)+1,1))","v":773},0,0]
["778","-1900","-1900-774",null,null,null,null,null,null,null,null,null,null,null,null,null,null,null,null,null,null,{"$f":"IF(M$2021=1,\"\",IF(U786=\"\",\"\",VLOOKUP(U786,Tabelle!$D$5:$H$7,5,FALSE)))","v":""},{"$f":"IF(M$2021=1,\"\",IF(U786=\"\",\"\",VLOOKUP(U786,Tabelle!$D$5:$I$7,6,FALSE)))","v":""},null,null,null,null,null,null,null,null,null,null,null,{"$f":"IF(B786=\"\",0,IF(B786=B785,COUNTIF(B$9:B785,B786)+1,1))","v":774},0,0]
["779","-1900","-1900-775",null,null,null,null,null,null,null,null,null,null,null,null,null,null,null,null,null,null,{"$f":"IF(M$2021=1,\"\",IF(U787=\"\",\"\",VLOOKUP(U787,Tabelle!$D$5:$H$7,5,FALSE)))","v":""},{"$f":"IF(M$2021=1,\"\",IF(U787=\"\",\"\",VLOOKUP(U787,Tabelle!$D$5:$I$7,6,FALSE)))","v":""},null,null,null,null,null,null,null,null,null,null,null,{"$f":"IF(B787=\"\",0,IF(B787=B786,COUNTIF(B$9:B786,B787)+1,1))","v":775},0,0]
["780","-1900","-1900-776",null,null,null,null,null,null,null,null,null,null,null,null,null,null,null,null,null,null,{"$f":"IF(M$2021=1,\"\",IF(U788=\"\",\"\",VLOOKUP(U788,Tabelle!$D$5:$H$7,5,FALSE)))","v":""},{"$f":"IF(M$2021=1,\"\",IF(U788=\"\",\"\",VLOOKUP(U788,Tabelle!$D$5:$I$7,6,FALSE)))","v":""},null,null,null,null,null,null,null,null,null,null,null,{"$f":"IF(B788=\"\",0,IF(B788=B787,COUNTIF(B$9:B787,B788)+1,1))","v":776},0,0]
["781","-1900","-1900-777",null,null,null,null,null,null,null,null,null,null,null,null,null,null,null,null,null,null,{"$f":"IF(M$2021=1,\"\",IF(U789=\"\",\"\",VLOOKUP(U789,Tabelle!$D$5:$H$7,5,FALSE)))","v":""},{"$f":"IF(M$2021=1,\"\",IF(U789=\"\",\"\",VLOOKUP(U789,Tabelle!$D$5:$I$7,6,FALSE)))","v":""},null,null,null,null,null,null,null,null,null,null,null,{"$f":"IF(B789=\"\",0,IF(B789=B788,COUNTIF(B$9:B788,B789)+1,1))","v":777},0,0]
["782","-1900","-1900-778",null,null,null,null,null,null,null,null,null,null,null,null,null,null,null,null,null,null,{"$f":"IF(M$2021=1,\"\",IF(U790=\"\",\"\",VLOOKUP(U790,Tabelle!$D$5:$H$7,5,FALSE)))","v":""},{"$f":"IF(M$2021=1,\"\",IF(U790=\"\",\"\",VLOOKUP(U790,Tabelle!$D$5:$I$7,6,FALSE)))","v":""},null,null,null,null,null,null,null,null,null,null,null,{"$f":"IF(B790=\"\",0,IF(B790=B789,COUNTIF(B$9:B789,B790)+1,1))","v":778},0,0]
["783","-1900","-1900-779",null,null,null,null,null,null,null,null,null,null,null,null,null,null,null,null,null,null,{"$f":"IF(M$2021=1,\"\",IF(U791=\"\",\"\",VLOOKUP(U791,Tabelle!$D$5:$H$7,5,FALSE)))","v":""},{"$f":"IF(M$2021=1,\"\",IF(U791=\"\",\"\",VLOOKUP(U791,Tabelle!$D$5:$I$7,6,FALSE)))","v":""},null,null,null,null,null,null,null,null,null,null,null,{"$f":"IF(B791=\"\",0,IF(B791=B790,COUNTIF(B$9:B790,B791)+1,1))","v":779},0,0]
["784","-1900","-1900-780",null,null,null,null,null,null,null,null,null,null,null,null,null,null,null,null,null,null,{"$f":"IF(M$2021=1,\"\",IF(U792=\"\",\"\",VLOOKUP(U792,Tabelle!$D$5:$H$7,5,FALSE)))","v":""},{"$f":"IF(M$2021=1,\"\",IF(U792=\"\",\"\",VLOOKUP(U792,Tabelle!$D$5:$I$7,6,FALSE)))","v":""},null,null,null,null,null,null,null,null,null,null,null,{"$f":"IF(B792=\"\",0,IF(B792=B791,COUNTIF(B$9:B791,B792)+1,1))","v":780},0,0]
["785","-1900","-1900-781",null,null,null,null,null,null,null,null,null,null,null,null,null,null,null,null,null,null,{"$f":"IF(M$2021=1,\"\",IF(U793=\"\",\"\",VLOOKUP(U793,Tabelle!$D$5:$H$7,5,FALSE)))","v":""},{"$f":"IF(M$2021=1,\"\",IF(U793=\"\",\"\",VLOOKUP(U793,Tabelle!$D$5:$I$7,6,FALSE)))","v":""},null,null,null,null,null,null,null,null,null,null,null,{"$f":"IF(B793=\"\",0,IF(B793=B792,COUNTIF(B$9:B792,B793)+1,1))","v":781},0,0]
["786","-1900","-1900-782",null,null,null,null,null,null,null,null,null,null,null,null,null,null,null,null,null,null,{"$f":"IF(M$2021=1,\"\",IF(U794=\"\",\"\",VLOOKUP(U794,Tabelle!$D$5:$H$7,5,FALSE)))","v":""},{"$f":"IF(M$2021=1,\"\",IF(U794=\"\",\"\",VLOOKUP(U794,Tabelle!$D$5:$I$7,6,FALSE)))","v":""},null,null,null,null,null,null,null,null,null,null,null,{"$f":"IF(B794=\"\",0,IF(B794=B793,COUNTIF(B$9:B793,B794)+1,1))","v":782},0,0]
["787","-1900","-1900-783",null,null,null,null,null,null,null,null,null,null,null,null,null,null,null,null,null,null,{"$f":"IF(M$2021=1,\"\",IF(U795=\"\",\"\",VLOOKUP(U795,Tabelle!$D$5:$H$7,5,FALSE)))","v":""},{"$f":"IF(M$2021=1,\"\",IF(U795=\"\",\"\",VLOOKUP(U795,Tabelle!$D$5:$I$7,6,FALSE)))","v":""},null,null,null,null,null,null,null,null,null,null,null,{"$f":"IF(B795=\"\",0,IF(B795=B794,COUNTIF(B$9:B794,B795)+1,1))","v":783},0,0]
["788","-1900","-1900-784",null,null,null,null,null,null,null,null,null,null,null,null,null,null,null,null,null,null,{"$f":"IF(M$2021=1,\"\",IF(U796=\"\",\"\",VLOOKUP(U796,Tabelle!$D$5:$H$7,5,FALSE)))","v":""},{"$f":"IF(M$2021=1,\"\",IF(U796=\"\",\"\",VLOOKUP(U796,Tabelle!$D$5:$I$7,6,FALSE)))","v":""},null,null,null,null,null,null,null,null,null,null,null,{"$f":"IF(B796=\"\",0,IF(B796=B795,COUNTIF(B$9:B795,B796)+1,1))","v":784},0,0]
["789","-1900","-1900-785",null,null,null,null,null,null,null,null,null,null,null,null,null,null,null,null,null,null,{"$f":"IF(M$2021=1,\"\",IF(U797=\"\",\"\",VLOOKUP(U797,Tabelle!$D$5:$H$7,5,FALSE)))","v":""},{"$f":"IF(M$2021=1,\"\",IF(U797=\"\",\"\",VLOOKUP(U797,Tabelle!$D$5:$I$7,6,FALSE)))","v":""},null,null,null,null,null,null,null,null,null,null,null,{"$f":"IF(B797=\"\",0,IF(B797=B796,COUNTIF(B$9:B796,B797)+1,1))","v":785},0,0]
["790","-1900","-1900-786",null,null,null,null,null,null,null,null,null,null,null,null,null,null,null,null,null,null,{"$f":"IF(M$2021=1,\"\",IF(U798=\"\",\"\",VLOOKUP(U798,Tabelle!$D$5:$H$7,5,FALSE)))","v":""},{"$f":"IF(M$2021=1,\"\",IF(U798=\"\",\"\",VLOOKUP(U798,Tabelle!$D$5:$I$7,6,FALSE)))","v":""},null,null,null,null,null,null,null,null,null,null,null,{"$f":"IF(B798=\"\",0,IF(B798=B797,COUNTIF(B$9:B797,B798)+1,1))","v":786},0,0]
["791","-1900","-1900-787",null,null,null,null,null,null,null,null,null,null,null,null,null,null,null,null,null,null,{"$f":"IF(M$2021=1,\"\",IF(U799=\"\",\"\",VLOOKUP(U799,Tabelle!$D$5:$H$7,5,FALSE)))","v":""},{"$f":"IF(M$2021=1,\"\",IF(U799=\"\",\"\",VLOOKUP(U799,Tabelle!$D$5:$I$7,6,FALSE)))","v":""},null,null,null,null,null,null,null,null,null,null,null,{"$f":"IF(B799=\"\",0,IF(B799=B798,COUNTIF(B$9:B798,B799)+1,1))","v":787},0,0]
["792","-1900","-1900-788",null,null,null,null,null,null,null,null,null,null,null,null,null,null,null,null,null,null,{"$f":"IF(M$2021=1,\"\",IF(U800=\"\",\"\",VLOOKUP(U800,Tabelle!$D$5:$H$7,5,FALSE)))","v":""},{"$f":"IF(M$2021=1,\"\",IF(U800=\"\",\"\",VLOOKUP(U800,Tabelle!$D$5:$I$7,6,FALSE)))","v":""},null,null,null,null,null,null,null,null,null,null,null,{"$f":"IF(B800=\"\",0,IF(B800=B799,COUNTIF(B$9:B799,B800)+1,1))","v":788},0,0]
["793","-1900","-1900-789",null,null,null,null,null,null,null,null,null,null,null,null,null,null,null,null,null,null,{"$f":"IF(M$2021=1,\"\",IF(U801=\"\",\"\",VLOOKUP(U801,Tabelle!$D$5:$H$7,5,FALSE)))","v":""},{"$f":"IF(M$2021=1,\"\",IF(U801=\"\",\"\",VLOOKUP(U801,Tabelle!$D$5:$I$7,6,FALSE)))","v":""},null,null,null,null,null,null,null,null,null,null,null,{"$f":"IF(B801=\"\",0,IF(B801=B800,COUNTIF(B$9:B800,B801)+1,1))","v":789},0,0]
["794","-1900","-1900-790",null,null,null,null,null,null,null,null,null,null,null,null,null,null,null,null,null,null,{"$f":"IF(M$2021=1,\"\",IF(U802=\"\",\"\",VLOOKUP(U802,Tabelle!$D$5:$H$7,5,FALSE)))","v":""},{"$f":"IF(M$2021=1,\"\",IF(U802=\"\",\"\",VLOOKUP(U802,Tabelle!$D$5:$I$7,6,FALSE)))","v":""},null,null,null,null,null,null,null,null,null,null,null,{"$f":"IF(B802=\"\",0,IF(B802=B801,COUNTIF(B$9:B801,B802)+1,1))","v":790},0,0]
["795","-1900","-1900-791",null,null,null,null,null,null,null,null,null,null,null,null,null,null,null,null,null,null,{"$f":"IF(M$2021=1,\"\",IF(U803=\"\",\"\",VLOOKUP(U803,Tabelle!$D$5:$H$7,5,FALSE)))","v":""},{"$f":"IF(M$2021=1,\"\",IF(U803=\"\",\"\",VLOOKUP(U803,Tabelle!$D$5:$I$7,6,FALSE)))","v":""},null,null,null,null,null,null,null,null,null,null,null,{"$f":"IF(B803=\"\",0,IF(B803=B802,COUNTIF(B$9:B802,B803)+1,1))","v":791},0,0]
["796","-1900","-1900-792",null,null,null,null,null,null,null,null,null,null,null,null,null,null,null,null,null,null,{"$f":"IF(M$2021=1,\"\",IF(U804=\"\",\"\",VLOOKUP(U804,Tabelle!$D$5:$H$7,5,FALSE)))","v":""},{"$f":"IF(M$2021=1,\"\",IF(U804=\"\",\"\",VLOOKUP(U804,Tabelle!$D$5:$I$7,6,FALSE)))","v":""},null,null,null,null,null,null,null,null,null,null,null,{"$f":"IF(B804=\"\",0,IF(B804=B803,COUNTIF(B$9:B803,B804)+1,1))","v":792},0,0]
["797","-1900","-1900-793",null,null,null,null,null,null,null,null,null,null,null,null,null,null,null,null,null,null,{"$f":"IF(M$2021=1,\"\",IF(U805=\"\",\"\",VLOOKUP(U805,Tabelle!$D$5:$H$7,5,FALSE)))","v":""},{"$f":"IF(M$2021=1,\"\",IF(U805=\"\",\"\",VLOOKUP(U805,Tabelle!$D$5:$I$7,6,FALSE)))","v":""},null,null,null,null,null,null,null,null,null,null,null,{"$f":"IF(B805=\"\",0,IF(B805=B804,COUNTIF(B$9:B804,B805)+1,1))","v":793},0,0]
["798","-1900","-1900-794",null,null,null,null,null,null,null,null,null,null,null,null,null,null,null,null,null,null,{"$f":"IF(M$2021=1,\"\",IF(U806=\"\",\"\",VLOOKUP(U806,Tabelle!$D$5:$H$7,5,FALSE)))","v":""},{"$f":"IF(M$2021=1,\"\",IF(U806=\"\",\"\",VLOOKUP(U806,Tabelle!$D$5:$I$7,6,FALSE)))","v":""},null,null,null,null,null,null,null,null,null,null,null,{"$f":"IF(B806=\"\",0,IF(B806=B805,COUNTIF(B$9:B805,B806)+1,1))","v":794},0,0]
["799","-1900","-1900-795",null,null,null,null,null,null,null,null,null,null,null,null,null,null,null,null,null,null,{"$f":"IF(M$2021=1,\"\",IF(U807=\"\",\"\",VLOOKUP(U807,Tabelle!$D$5:$H$7,5,FALSE)))","v":""},{"$f":"IF(M$2021=1,\"\",IF(U807=\"\",\"\",VLOOKUP(U807,Tabelle!$D$5:$I$7,6,FALSE)))","v":""},null,null,null,null,null,null,null,null,null,null,null,{"$f":"IF(B807=\"\",0,IF(B807=B806,COUNTIF(B$9:B806,B807)+1,1))","v":795},0,0]
["800","-1900","-1900-796",null,null,null,null,null,null,null,null,null,null,null,null,null,null,null,null,null,null,{"$f":"IF(M$2021=1,\"\",IF(U808=\"\",\"\",VLOOKUP(U808,Tabelle!$D$5:$H$7,5,FALSE)))","v":""},{"$f":"IF(M$2021=1,\"\",IF(U808=\"\",\"\",VLOOKUP(U808,Tabelle!$D$5:$I$7,6,FALSE)))","v":""},null,null,null,null,null,null,null,null,null,null,null,{"$f":"IF(B808=\"\",0,IF(B808=B807,COUNTIF(B$9:B807,B808)+1,1))","v":796},0,0]
["801","-1900","-1900-797",null,null,null,null,null,null,null,null,null,null,null,null,null,null,null,null,null,null,{"$f":"IF(M$2021=1,\"\",IF(U809=\"\",\"\",VLOOKUP(U809,Tabelle!$D$5:$H$7,5,FALSE)))","v":""},{"$f":"IF(M$2021=1,\"\",IF(U809=\"\",\"\",VLOOKUP(U809,Tabelle!$D$5:$I$7,6,FALSE)))","v":""},null,null,null,null,null,null,null,null,null,null,null,{"$f":"IF(B809=\"\",0,IF(B809=B808,COUNTIF(B$9:B808,B809)+1,1))","v":797},0,0]
["802","-1900","-1900-798",null,null,null,null,null,null,null,null,null,null,null,null,null,null,null,null,null,null,{"$f":"IF(M$2021=1,\"\",IF(U810=\"\",\"\",VLOOKUP(U810,Tabelle!$D$5:$H$7,5,FALSE)))","v":""},{"$f":"IF(M$2021=1,\"\",IF(U810=\"\",\"\",VLOOKUP(U810,Tabelle!$D$5:$I$7,6,FALSE)))","v":""},null,null,null,null,null,null,null,null,null,null,null,{"$f":"IF(B810=\"\",0,IF(B810=B809,COUNTIF(B$9:B809,B810)+1,1))","v":798},0,0]
["803","-1900","-1900-799",null,null,null,null,null,null,null,null,null,null,null,null,null,null,null,null,null,null,{"$f":"IF(M$2021=1,\"\",IF(U811=\"\",\"\",VLOOKUP(U811,Tabelle!$D$5:$H$7,5,FALSE)))","v":""},{"$f":"IF(M$2021=1,\"\",IF(U811=\"\",\"\",VLOOKUP(U811,Tabelle!$D$5:$I$7,6,FALSE)))","v":""},null,null,null,null,null,null,null,null,null,null,null,{"$f":"IF(B811=\"\",0,IF(B811=B810,COUNTIF(B$9:B810,B811)+1,1))","v":799},0,0]
["804","-1900","-1900-800",null,null,null,null,null,null,null,null,null,null,null,null,null,null,null,null,null,null,{"$f":"IF(M$2021=1,\"\",IF(U812=\"\",\"\",VLOOKUP(U812,Tabelle!$D$5:$H$7,5,FALSE)))","v":""},{"$f":"IF(M$2021=1,\"\",IF(U812=\"\",\"\",VLOOKUP(U812,Tabelle!$D$5:$I$7,6,FALSE)))","v":""},null,null,null,null,null,null,null,null,null,null,null,{"$f":"IF(B812=\"\",0,IF(B812=B811,COUNTIF(B$9:B811,B812)+1,1))","v":800},0,0]
["805","-1900","-1900-801",null,null,null,null,null,null,null,null,null,null,null,null,null,null,null,null,null,null,{"$f":"IF(M$2021=1,\"\",IF(U813=\"\",\"\",VLOOKUP(U813,Tabelle!$D$5:$H$7,5,FALSE)))","v":""},{"$f":"IF(M$2021=1,\"\",IF(U813=\"\",\"\",VLOOKUP(U813,Tabelle!$D$5:$I$7,6,FALSE)))","v":""},null,null,null,null,null,null,null,null,null,null,null,{"$f":"IF(B813=\"\",0,IF(B813=B812,COUNTIF(B$9:B812,B813)+1,1))","v":801},0,0]
["806","-1900","-1900-802",null,null,null,null,null,null,null,null,null,null,null,null,null,null,null,null,null,null,{"$f":"IF(M$2021=1,\"\",IF(U814=\"\",\"\",VLOOKUP(U814,Tabelle!$D$5:$H$7,5,FALSE)))","v":""},{"$f":"IF(M$2021=1,\"\",IF(U814=\"\",\"\",VLOOKUP(U814,Tabelle!$D$5:$I$7,6,FALSE)))","v":""},null,null,null,null,null,null,null,null,null,null,null,{"$f":"IF(B814=\"\",0,IF(B814=B813,COUNTIF(B$9:B813,B814)+1,1))","v":802},0,0]
["807","-1900","-1900-803",null,null,null,null,null,null,null,null,null,null,null,null,null,null,null,null,null,null,{"$f":"IF(M$2021=1,\"\",IF(U815=\"\",\"\",VLOOKUP(U815,Tabelle!$D$5:$H$7,5,FALSE)))","v":""},{"$f":"IF(M$2021=1,\"\",IF(U815=\"\",\"\",VLOOKUP(U815,Tabelle!$D$5:$I$7,6,FALSE)))","v":""},null,null,null,null,null,null,null,null,null,null,null,{"$f":"IF(B815=\"\",0,IF(B815=B814,COUNTIF(B$9:B814,B815)+1,1))","v":803},0,0]
["808","-1900","-1900-804",null,null,null,null,null,null,null,null,null,null,null,null,null,null,null,null,null,null,{"$f":"IF(M$2021=1,\"\",IF(U816=\"\",\"\",VLOOKUP(U816,Tabelle!$D$5:$H$7,5,FALSE)))","v":""},{"$f":"IF(M$2021=1,\"\",IF(U816=\"\",\"\",VLOOKUP(U816,Tabelle!$D$5:$I$7,6,FALSE)))","v":""},null,null,null,null,null,null,null,null,null,null,null,{"$f":"IF(B816=\"\",0,IF(B816=B815,COUNTIF(B$9:B815,B816)+1,1))","v":804},0,0]
["809","-1900","-1900-805",null,null,null,null,null,null,null,null,null,null,null,null,null,null,null,null,null,null,{"$f":"IF(M$2021=1,\"\",IF(U817=\"\",\"\",VLOOKUP(U817,Tabelle!$D$5:$H$7,5,FALSE)))","v":""},{"$f":"IF(M$2021=1,\"\",IF(U817=\"\",\"\",VLOOKUP(U817,Tabelle!$D$5:$I$7,6,FALSE)))","v":""},null,null,null,null,null,null,null,null,null,null,null,{"$f":"IF(B817=\"\",0,IF(B817=B816,COUNTIF(B$9:B816,B817)+1,1))","v":805},0,0]
["810","-1900","-1900-806",null,null,null,null,null,null,null,null,null,null,null,null,null,null,null,null,null,null,{"$f":"IF(M$2021=1,\"\",IF(U818=\"\",\"\",VLOOKUP(U818,Tabelle!$D$5:$H$7,5,FALSE)))","v":""},{"$f":"IF(M$2021=1,\"\",IF(U818=\"\",\"\",VLOOKUP(U818,Tabelle!$D$5:$I$7,6,FALSE)))","v":""},null,null,null,null,null,null,null,null,null,null,null,{"$f":"IF(B818=\"\",0,IF(B818=B817,COUNTIF(B$9:B817,B818)+1,1))","v":806},0,0]
["811","-1900","-1900-807",null,null,null,null,null,null,null,null,null,null,null,null,null,null,null,null,null,null,{"$f":"IF(M$2021=1,\"\",IF(U819=\"\",\"\",VLOOKUP(U819,Tabelle!$D$5:$H$7,5,FALSE)))","v":""},{"$f":"IF(M$2021=1,\"\",IF(U819=\"\",\"\",VLOOKUP(U819,Tabelle!$D$5:$I$7,6,FALSE)))","v":""},null,null,null,null,null,null,null,null,null,null,null,{"$f":"IF(B819=\"\",0,IF(B819=B818,COUNTIF(B$9:B818,B819)+1,1))","v":807},0,0]
["812","-1900","-1900-808",null,null,null,null,null,null,null,null,null,null,null,null,null,null,null,null,null,null,{"$f":"IF(M$2021=1,\"\",IF(U820=\"\",\"\",VLOOKUP(U820,Tabelle!$D$5:$H$7,5,FALSE)))","v":""},{"$f":"IF(M$2021=1,\"\",IF(U820=\"\",\"\",VLOOKUP(U820,Tabelle!$D$5:$I$7,6,FALSE)))","v":""},null,null,null,null,null,null,null,null,null,null,null,{"$f":"IF(B820=\"\",0,IF(B820=B819,COUNTIF(B$9:B819,B820)+1,1))","v":808},0,0]
["813","-1900","-1900-809",null,null,null,null,null,null,null,null,null,null,null,null,null,null,null,null,null,null,{"$f":"IF(M$2021=1,\"\",IF(U821=\"\",\"\",VLOOKUP(U821,Tabelle!$D$5:$H$7,5,FALSE)))","v":""},{"$f":"IF(M$2021=1,\"\",IF(U821=\"\",\"\",VLOOKUP(U821,Tabelle!$D$5:$I$7,6,FALSE)))","v":""},null,null,null,null,null,null,null,null,null,null,null,{"$f":"IF(B821=\"\",0,IF(B821=B820,COUNTIF(B$9:B820,B821)+1,1))","v":809},0,0]
["814","-1900","-1900-810",null,null,null,null,null,null,null,null,null,null,null,null,null,null,null,null,null,null,{"$f":"IF(M$2021=1,\"\",IF(U822=\"\",\"\",VLOOKUP(U822,Tabelle!$D$5:$H$7,5,FALSE)))","v":""},{"$f":"IF(M$2021=1,\"\",IF(U822=\"\",\"\",VLOOKUP(U822,Tabelle!$D$5:$I$7,6,FALSE)))","v":""},null,null,null,null,null,null,null,null,null,null,null,{"$f":"IF(B822=\"\",0,IF(B822=B821,COUNTIF(B$9:B821,B822)+1,1))","v":810},0,0]
["815","-1900","-1900-811",null,null,null,null,null,null,null,null,null,null,null,null,null,null,null,null,null,null,{"$f":"IF(M$2021=1,\"\",IF(U823=\"\",\"\",VLOOKUP(U823,Tabelle!$D$5:$H$7,5,FALSE)))","v":""},{"$f":"IF(M$2021=1,\"\",IF(U823=\"\",\"\",VLOOKUP(U823,Tabelle!$D$5:$I$7,6,FALSE)))","v":""},null,null,null,null,null,null,null,null,null,null,null,{"$f":"IF(B823=\"\",0,IF(B823=B822,COUNTIF(B$9:B822,B823)+1,1))","v":811},0,0]
["816","-1900","-1900-812",null,null,null,null,null,null,null,null,null,null,null,null,null,null,null,null,null,null,{"$f":"IF(M$2021=1,\"\",IF(U824=\"\",\"\",VLOOKUP(U824,Tabelle!$D$5:$H$7,5,FALSE)))","v":""},{"$f":"IF(M$2021=1,\"\",IF(U824=\"\",\"\",VLOOKUP(U824,Tabelle!$D$5:$I$7,6,FALSE)))","v":""},null,null,null,null,null,null,null,null,null,null,null,{"$f":"IF(B824=\"\",0,IF(B824=B823,COUNTIF(B$9:B823,B824)+1,1))","v":812},0,0]
["817","-1900","-1900-813",null,null,null,null,null,null,null,null,null,null,null,null,null,null,null,null,null,null,{"$f":"IF(M$2021=1,\"\",IF(U825=\"\",\"\",VLOOKUP(U825,Tabelle!$D$5:$H$7,5,FALSE)))","v":""},{"$f":"IF(M$2021=1,\"\",IF(U825=\"\",\"\",VLOOKUP(U825,Tabelle!$D$5:$I$7,6,FALSE)))","v":""},null,null,null,null,null,null,null,null,null,null,null,{"$f":"IF(B825=\"\",0,IF(B825=B824,COUNTIF(B$9:B824,B825)+1,1))","v":813},0,0]
["818","-1900","-1900-814",null,null,null,null,null,null,null,null,null,null,null,null,null,null,null,null,null,null,{"$f":"IF(M$2021=1,\"\",IF(U826=\"\",\"\",VLOOKUP(U826,Tabelle!$D$5:$H$7,5,FALSE)))","v":""},{"$f":"IF(M$2021=1,\"\",IF(U826=\"\",\"\",VLOOKUP(U826,Tabelle!$D$5:$I$7,6,FALSE)))","v":""},null,null,null,null,null,null,null,null,null,null,null,{"$f":"IF(B826=\"\",0,IF(B826=B825,COUNTIF(B$9:B825,B826)+1,1))","v":814},0,0]
["819","-1900","-1900-815",null,null,null,null,null,null,null,null,null,null,null,null,null,null,null,null,null,null,{"$f":"IF(M$2021=1,\"\",IF(U827=\"\",\"\",VLOOKUP(U827,Tabelle!$D$5:$H$7,5,FALSE)))","v":""},{"$f":"IF(M$2021=1,\"\",IF(U827=\"\",\"\",VLOOKUP(U827,Tabelle!$D$5:$I$7,6,FALSE)))","v":""},null,null,null,null,null,null,null,null,null,null,null,{"$f":"IF(B827=\"\",0,IF(B827=B826,COUNTIF(B$9:B826,B827)+1,1))","v":815},0,0]
["820","-1900","-1900-816",null,null,null,null,null,null,null,null,null,null,null,null,null,null,null,null,null,null,{"$f":"IF(M$2021=1,\"\",IF(U828=\"\",\"\",VLOOKUP(U828,Tabelle!$D$5:$H$7,5,FALSE)))","v":""},{"$f":"IF(M$2021=1,\"\",IF(U828=\"\",\"\",VLOOKUP(U828,Tabelle!$D$5:$I$7,6,FALSE)))","v":""},null,null,null,null,null,null,null,null,null,null,null,{"$f":"IF(B828=\"\",0,IF(B828=B827,COUNTIF(B$9:B827,B828)+1,1))","v":816},0,0]
["821","-1900","-1900-817",null,null,null,null,null,null,null,null,null,null,null,null,null,null,null,null,null,null,{"$f":"IF(M$2021=1,\"\",IF(U829=\"\",\"\",VLOOKUP(U829,Tabelle!$D$5:$H$7,5,FALSE)))","v":""},{"$f":"IF(M$2021=1,\"\",IF(U829=\"\",\"\",VLOOKUP(U829,Tabelle!$D$5:$I$7,6,FALSE)))","v":""},null,null,null,null,null,null,null,null,null,null,null,{"$f":"IF(B829=\"\",0,IF(B829=B828,COUNTIF(B$9:B828,B829)+1,1))","v":817},0,0]
["822","-1900","-1900-818",null,null,null,null,null,null,null,null,null,null,null,null,null,null,null,null,null,null,{"$f":"IF(M$2021=1,\"\",IF(U830=\"\",\"\",VLOOKUP(U830,Tabelle!$D$5:$H$7,5,FALSE)))","v":""},{"$f":"IF(M$2021=1,\"\",IF(U830=\"\",\"\",VLOOKUP(U830,Tabelle!$D$5:$I$7,6,FALSE)))","v":""},null,null,null,null,null,null,null,null,null,null,null,{"$f":"IF(B830=\"\",0,IF(B830=B829,COUNTIF(B$9:B829,B830)+1,1))","v":818},0,0]
["823","-1900","-1900-819",null,null,null,null,null,null,null,null,null,null,null,null,null,null,null,null,null,null,{"$f":"IF(M$2021=1,\"\",IF(U831=\"\",\"\",VLOOKUP(U831,Tabelle!$D$5:$H$7,5,FALSE)))","v":""},{"$f":"IF(M$2021=1,\"\",IF(U831=\"\",\"\",VLOOKUP(U831,Tabelle!$D$5:$I$7,6,FALSE)))","v":""},null,null,null,null,null,null,null,null,null,null,null,{"$f":"IF(B831=\"\",0,IF(B831=B830,COUNTIF(B$9:B830,B831)+1,1))","v":819},0,0]
["824","-1900","-1900-820",null,null,null,null,null,null,null,null,null,null,null,null,null,null,null,null,null,null,{"$f":"IF(M$2021=1,\"\",IF(U832=\"\",\"\",VLOOKUP(U832,Tabelle!$D$5:$H$7,5,FALSE)))","v":""},{"$f":"IF(M$2021=1,\"\",IF(U832=\"\",\"\",VLOOKUP(U832,Tabelle!$D$5:$I$7,6,FALSE)))","v":""},null,null,null,null,null,null,null,null,null,null,null,{"$f":"IF(B832=\"\",0,IF(B832=B831,COUNTIF(B$9:B831,B832)+1,1))","v":820},0,0]
["825","-1900","-1900-821",null,null,null,null,null,null,null,null,null,null,null,null,null,null,null,null,null,null,{"$f":"IF(M$2021=1,\"\",IF(U833=\"\",\"\",VLOOKUP(U833,Tabelle!$D$5:$H$7,5,FALSE)))","v":""},{"$f":"IF(M$2021=1,\"\",IF(U833=\"\",\"\",VLOOKUP(U833,Tabelle!$D$5:$I$7,6,FALSE)))","v":""},null,null,null,null,null,null,null,null,null,null,null,{"$f":"IF(B833=\"\",0,IF(B833=B832,COUNTIF(B$9:B832,B833)+1,1))","v":821},0,0]
["826","-1900","-1900-822",null,null,null,null,null,null,null,null,null,null,null,null,null,null,null,null,null,null,{"$f":"IF(M$2021=1,\"\",IF(U834=\"\",\"\",VLOOKUP(U834,Tabelle!$D$5:$H$7,5,FALSE)))","v":""},{"$f":"IF(M$2021=1,\"\",IF(U834=\"\",\"\",VLOOKUP(U834,Tabelle!$D$5:$I$7,6,FALSE)))","v":""},null,null,null,null,null,null,null,null,null,null,null,{"$f":"IF(B834=\"\",0,IF(B834=B833,COUNTIF(B$9:B833,B834)+1,1))","v":822},0,0]
["827","-1900","-1900-823",null,null,null,null,null,null,null,null,null,null,null,null,null,null,null,null,null,null,{"$f":"IF(M$2021=1,\"\",IF(U835=\"\",\"\",VLOOKUP(U835,Tabelle!$D$5:$H$7,5,FALSE)))","v":""},{"$f":"IF(M$2021=1,\"\",IF(U835=\"\",\"\",VLOOKUP(U835,Tabelle!$D$5:$I$7,6,FALSE)))","v":""},null,null,null,null,null,null,null,null,null,null,null,{"$f":"IF(B835=\"\",0,IF(B835=B834,COUNTIF(B$9:B834,B835)+1,1))","v":823},0,0]
["828","-1900","-1900-824",null,null,null,null,null,null,null,null,null,null,null,null,null,null,null,null,null,null,{"$f":"IF(M$2021=1,\"\",IF(U836=\"\",\"\",VLOOKUP(U836,Tabelle!$D$5:$H$7,5,FALSE)))","v":""},{"$f":"IF(M$2021=1,\"\",IF(U836=\"\",\"\",VLOOKUP(U836,Tabelle!$D$5:$I$7,6,FALSE)))","v":""},null,null,null,null,null,null,null,null,null,null,null,{"$f":"IF(B836=\"\",0,IF(B836=B835,COUNTIF(B$9:B835,B836)+1,1))","v":824},0,0]
["829","-1900","-1900-825",null,null,null,null,null,null,null,null,null,null,null,null,null,null,null,null,null,null,{"$f":"IF(M$2021=1,\"\",IF(U837=\"\",\"\",VLOOKUP(U837,Tabelle!$D$5:$H$7,5,FALSE)))","v":""},{"$f":"IF(M$2021=1,\"\",IF(U837=\"\",\"\",VLOOKUP(U837,Tabelle!$D$5:$I$7,6,FALSE)))","v":""},null,null,null,null,null,null,null,null,null,null,null,{"$f":"IF(B837=\"\",0,IF(B837=B836,COUNTIF(B$9:B836,B837)+1,1))","v":825},0,0]
["830","-1900","-1900-826",null,null,null,null,null,null,null,null,null,null,null,null,null,null,null,null,null,null,{"$f":"IF(M$2021=1,\"\",IF(U838=\"\",\"\",VLOOKUP(U838,Tabelle!$D$5:$H$7,5,FALSE)))","v":""},{"$f":"IF(M$2021=1,\"\",IF(U838=\"\",\"\",VLOOKUP(U838,Tabelle!$D$5:$I$7,6,FALSE)))","v":""},null,null,null,null,null,null,null,null,null,null,null,{"$f":"IF(B838=\"\",0,IF(B838=B837,COUNTIF(B$9:B837,B838)+1,1))","v":826},0,0]
["831","-1900","-1900-827",null,null,null,null,null,null,null,null,null,null,null,null,null,null,null,null,null,null,{"$f":"IF(M$2021=1,\"\",IF(U839=\"\",\"\",VLOOKUP(U839,Tabelle!$D$5:$H$7,5,FALSE)))","v":""},{"$f":"IF(M$2021=1,\"\",IF(U839=\"\",\"\",VLOOKUP(U839,Tabelle!$D$5:$I$7,6,FALSE)))","v":""},null,null,null,null,null,null,null,null,null,null,null,{"$f":"IF(B839=\"\",0,IF(B839=B838,COUNTIF(B$9:B838,B839)+1,1))","v":827},0,0]
["832","-1900","-1900-828",null,null,null,null,null,null,null,null,null,null,null,null,null,null,null,null,null,null,{"$f":"IF(M$2021=1,\"\",IF(U840=\"\",\"\",VLOOKUP(U840,Tabelle!$D$5:$H$7,5,FALSE)))","v":""},{"$f":"IF(M$2021=1,\"\",IF(U840=\"\",\"\",VLOOKUP(U840,Tabelle!$D$5:$I$7,6,FALSE)))","v":""},null,null,null,null,null,null,null,null,null,null,null,{"$f":"IF(B840=\"\",0,IF(B840=B839,COUNTIF(B$9:B839,B840)+1,1))","v":828},0,0]
["833","-1900",{"$f":"IF(M$2021=1,0,B841&\"-\"&AI841)","v":"-1900-829"},null,null,null,null,null,null,null,null,null,null,null,null,null,null,null,null,null,null,{"$f":"IF(M$2021=1,\"\",IF(U841=\"\",\"\",VLOOKUP(U841,Tabelle!$D$5:$H$7,5,FALSE)))","v":""},{"$f":"IF(M$2021=1,\"\",IF(U841=\"\",\"\",VLOOKUP(U841,Tabelle!$D$5:$I$7,6,FALSE)))","v":""},null,null,null,null,null,null,null,null,null,null,null,{"$f":"IF(B841=\"\",0,IF(B841=B840,COUNTIF(B$9:B840,B841)+1,1))","v":829},0,0]
["834",{"$f":"IF(AK842=$AK$2015,0,IF(M$2021=1,0,D842&\"-\"&YEAR(E842)))","v":"-1900"},"-1900-830",null,null,null,null,null,null,null,null,null,null,null,null,null,null,null,null,null,null,{"$f":"IF(M$2021=1,\"\",IF(U842=\"\",\"\",VLOOKUP(U842,Tabelle!$D$5:$H$7,5,FALSE)))","v":""},{"$f":"IF(M$2021=1,\"\",IF(U842=\"\",\"\",VLOOKUP(U842,Tabelle!$D$5:$I$7,6,FALSE)))","v":""},null,null,null,null,null,null,null,null,null,null,null,{"$f":"IF(B842=\"\",0,IF(B842=B841,COUNTIF(B$9:B841,B842)+1,1))","v":830},{"$f":"IF(OR(D842=\"\",M$2021=1),0,IF(AI842=10,1,0))","v":0},{"$f":"IF(E842>0,IF(OR(MONTH(E842)<$J$2027,MONTH(E842)>$J$2028),AK$2015,0),0)","v":0}]
["835","-1900","-1900-831",null,null,null,null,null,null,null,null,null,null,null,null,null,null,null,null,null,null,{"$f":"IF(M$2021=1,\"\",IF(U843=\"\",\"\",VLOOKUP(U843,Tabelle!$D$5:$H$7,5,FALSE)))","v":""},{"$f":"IF(M$2021=1,\"\",IF(U843=\"\",\"\",VLOOKUP(U843,Tabelle!$D$5:$I$7,6,FALSE)))","v":""},null,null,null,null,null,null,null,null,null,null,null,{"$f":"IF(B843=\"\",0,IF(B843=B842,COUNTIF(B$9:B842,B843)+1,1))","v":831},0,0]
["836","-1900","-1900-832",null,null,null,null,null,null,null,null,null,null,null,null,null,null,null,null,null,null,{"$f":"IF(M$2021=1,\"\",IF(U844=\"\",\"\",VLOOKUP(U844,Tabelle!$D$5:$H$7,5,FALSE)))","v":""},{"$f":"IF(M$2021=1,\"\",IF(U844=\"\",\"\",VLOOKUP(U844,Tabelle!$D$5:$I$7,6,FALSE)))","v":""},null,null,null,null,null,null,null,null,null,null,null,{"$f":"IF(B844=\"\",0,IF(B844=B843,COUNTIF(B$9:B843,B844)+1,1))","v":832},0,0]
["837","-1900","-1900-833",null,null,null,null,null,null,null,null,null,null,null,null,null,null,null,null,null,null,{"$f":"IF(M$2021=1,\"\",IF(U845=\"\",\"\",VLOOKUP(U845,Tabelle!$D$5:$H$7,5,FALSE)))","v":""},{"$f":"IF(M$2021=1,\"\",IF(U845=\"\",\"\",VLOOKUP(U845,Tabelle!$D$5:$I$7,6,FALSE)))","v":""},null,null,null,null,null,null,null,null,null,null,null,{"$f":"IF(B845=\"\",0,IF(B845=B844,COUNTIF(B$9:B844,B845)+1,1))","v":833},0,0]
["838","-1900","-1900-834",null,null,null,null,null,null,null,null,null,null,null,null,null,null,null,null,null,null,{"$f":"IF(M$2021=1,\"\",IF(U846=\"\",\"\",VLOOKUP(U846,Tabelle!$D$5:$H$7,5,FALSE)))","v":""},{"$f":"IF(M$2021=1,\"\",IF(U846=\"\",\"\",VLOOKUP(U846,Tabelle!$D$5:$I$7,6,FALSE)))","v":""},null,null,null,null,null,null,null,null,null,null,null,{"$f":"IF(B846=\"\",0,IF(B846=B845,COUNTIF(B$9:B845,B846)+1,1))","v":834},0,0]
["839","-1900","-1900-835",null,null,null,null,null,null,null,null,null,null,null,null,null,null,null,null,null,null,{"$f":"IF(M$2021=1,\"\",IF(U847=\"\",\"\",VLOOKUP(U847,Tabelle!$D$5:$H$7,5,FALSE)))","v":""},{"$f":"IF(M$2021=1,\"\",IF(U847=\"\",\"\",VLOOKUP(U847,Tabelle!$D$5:$I$7,6,FALSE)))","v":""},null,null,null,null,null,null,null,null,null,null,null,{"$f":"IF(B847=\"\",0,IF(B847=B846,COUNTIF(B$9:B846,B847)+1,1))","v":835},0,0]
["840","-1900","-1900-836",null,null,null,null,null,null,null,null,null,null,null,null,null,null,null,null,null,null,{"$f":"IF(M$2021=1,\"\",IF(U848=\"\",\"\",VLOOKUP(U848,Tabelle!$D$5:$H$7,5,FALSE)))","v":""},{"$f":"IF(M$2021=1,\"\",IF(U848=\"\",\"\",VLOOKUP(U848,Tabelle!$D$5:$I$7,6,FALSE)))","v":""},null,null,null,null,null,null,null,null,null,null,null,{"$f":"IF(B848=\"\",0,IF(B848=B847,COUNTIF(B$9:B847,B848)+1,1))","v":836},0,0]
["841","-1900","-1900-837",null,null,null,null,null,null,null,null,null,null,null,null,null,null,null,null,null,null,{"$f":"IF(M$2021=1,\"\",IF(U849=\"\",\"\",VLOOKUP(U849,Tabelle!$D$5:$H$7,5,FALSE)))","v":""},{"$f":"IF(M$2021=1,\"\",IF(U849=\"\",\"\",VLOOKUP(U849,Tabelle!$D$5:$I$7,6,FALSE)))","v":""},null,null,null,null,null,null,null,null,null,null,null,{"$f":"IF(B849=\"\",0,IF(B849=B848,COUNTIF(B$9:B848,B849)+1,1))","v":837},0,0]
["842","-1900","-1900-838",null,null,null,null,null,null,null,null,null,null,null,null,null,null,null,null,null,null,{"$f":"IF(M$2021=1,\"\",IF(U850=\"\",\"\",VLOOKUP(U850,Tabelle!$D$5:$H$7,5,FALSE)))","v":""},{"$f":"IF(M$2021=1,\"\",IF(U850=\"\",\"\",VLOOKUP(U850,Tabelle!$D$5:$I$7,6,FALSE)))","v":""},null,null,null,null,null,null,null,null,null,null,null,{"$f":"IF(B850=\"\",0,IF(B850=B849,COUNTIF(B$9:B849,B850)+1,1))","v":838},0,0]
["843","-1900","-1900-839",null,null,null,null,null,null,null,null,null,null,null,null,null,null,null,null,null,null,{"$f":"IF(M$2021=1,\"\",IF(U851=\"\",\"\",VLOOKUP(U851,Tabelle!$D$5:$H$7,5,FALSE)))","v":""},{"$f":"IF(M$2021=1,\"\",IF(U851=\"\",\"\",VLOOKUP(U851,Tabelle!$D$5:$I$7,6,FALSE)))","v":""},null,null,null,null,null,null,null,null,null,null,null,{"$f":"IF(B851=\"\",0,IF(B851=B850,COUNTIF(B$9:B850,B851)+1,1))","v":839},0,0]
["844","-1900","-1900-840",null,null,null,null,null,null,null,null,null,null,null,null,null,null,null,null,null,null,{"$f":"IF(M$2021=1,\"\",IF(U852=\"\",\"\",VLOOKUP(U852,Tabelle!$D$5:$H$7,5,FALSE)))","v":""},{"$f":"IF(M$2021=1,\"\",IF(U852=\"\",\"\",VLOOKUP(U852,Tabelle!$D$5:$I$7,6,FALSE)))","v":""},null,null,null,null,null,null,null,null,null,null,null,{"$f":"IF(B852=\"\",0,IF(B852=B851,COUNTIF(B$9:B851,B852)+1,1))","v":840},0,0]
["845","-1900","-1900-841",null,null,null,null,null,null,null,null,null,null,null,null,null,null,null,null,null,null,{"$f":"IF(M$2021=1,\"\",IF(U853=\"\",\"\",VLOOKUP(U853,Tabelle!$D$5:$H$7,5,FALSE)))","v":""},{"$f":"IF(M$2021=1,\"\",IF(U853=\"\",\"\",VLOOKUP(U853,Tabelle!$D$5:$I$7,6,FALSE)))","v":""},null,null,null,null,null,null,null,null,null,null,null,{"$f":"IF(B853=\"\",0,IF(B853=B852,COUNTIF(B$9:B852,B853)+1,1))","v":841},0,0]
["846","-1900","-1900-842",null,null,null,null,null,null,null,null,null,null,null,null,null,null,null,null,null,null,{"$f":"IF(M$2021=1,\"\",IF(U854=\"\",\"\",VLOOKUP(U854,Tabelle!$D$5:$H$7,5,FALSE)))","v":""},{"$f":"IF(M$2021=1,\"\",IF(U854=\"\",\"\",VLOOKUP(U854,Tabelle!$D$5:$I$7,6,FALSE)))","v":""},null,null,null,null,null,null,null,null,null,null,null,{"$f":"IF(B854=\"\",0,IF(B854=B853,COUNTIF(B$9:B853,B854)+1,1))","v":842},0,0]
["847","-1900","-1900-843",null,null,null,null,null,null,null,null,null,null,null,null,null,null,null,null,null,null,{"$f":"IF(M$2021=1,\"\",IF(U855=\"\",\"\",VLOOKUP(U855,Tabelle!$D$5:$H$7,5,FALSE)))","v":""},{"$f":"IF(M$2021=1,\"\",IF(U855=\"\",\"\",VLOOKUP(U855,Tabelle!$D$5:$I$7,6,FALSE)))","v":""},null,null,null,null,null,null,null,null,null,null,null,{"$f":"IF(B855=\"\",0,IF(B855=B854,COUNTIF(B$9:B854,B855)+1,1))","v":843},0,0]
["848","-1900","-1900-844",null,null,null,null,null,null,null,null,null,null,null,null,null,null,null,null,null,null,{"$f":"IF(M$2021=1,\"\",IF(U856=\"\",\"\",VLOOKUP(U856,Tabelle!$D$5:$H$7,5,FALSE)))","v":""},{"$f":"IF(M$2021=1,\"\",IF(U856=\"\",\"\",VLOOKUP(U856,Tabelle!$D$5:$I$7,6,FALSE)))","v":""},null,null,null,null,null,null,null,null,null,null,null,{"$f":"IF(B856=\"\",0,IF(B856=B855,COUNTIF(B$9:B855,B856)+1,1))","v":844},0,0]
["849","-1900","-1900-845",null,null,null,null,null,null,null,null,null,null,null,null,null,null,null,null,null,null,{"$f":"IF(M$2021=1,\"\",IF(U857=\"\",\"\",VLOOKUP(U857,Tabelle!$D$5:$H$7,5,FALSE)))","v":""},{"$f":"IF(M$2021=1,\"\",IF(U857=\"\",\"\",VLOOKUP(U857,Tabelle!$D$5:$I$7,6,FALSE)))","v":""},null,null,null,null,null,null,null,null,null,null,null,{"$f":"IF(B857=\"\",0,IF(B857=B856,COUNTIF(B$9:B856,B857)+1,1))","v":845},0,0]
["850","-1900","-1900-846",null,null,null,null,null,null,null,null,null,null,null,null,null,null,null,null,null,null,{"$f":"IF(M$2021=1,\"\",IF(U858=\"\",\"\",VLOOKUP(U858,Tabelle!$D$5:$H$7,5,FALSE)))","v":""},{"$f":"IF(M$2021=1,\"\",IF(U858=\"\",\"\",VLOOKUP(U858,Tabelle!$D$5:$I$7,6,FALSE)))","v":""},null,null,null,null,null,null,null,null,null,null,null,{"$f":"IF(B858=\"\",0,IF(B858=B857,COUNTIF(B$9:B857,B858)+1,1))","v":846},0,0]
["851","-1900","-1900-847",null,null,null,null,null,null,null,null,null,null,null,null,null,null,null,null,null,null,{"$f":"IF(M$2021=1,\"\",IF(U859=\"\",\"\",VLOOKUP(U859,Tabelle!$D$5:$H$7,5,FALSE)))","v":""},{"$f":"IF(M$2021=1,\"\",IF(U859=\"\",\"\",VLOOKUP(U859,Tabelle!$D$5:$I$7,6,FALSE)))","v":""},null,null,null,null,null,null,null,null,null,null,null,{"$f":"IF(B859=\"\",0,IF(B859=B858,COUNTIF(B$9:B858,B859)+1,1))","v":847},0,0]
["852","-1900","-1900-848",null,null,null,null,null,null,null,null,null,null,null,null,null,null,null,null,null,null,{"$f":"IF(M$2021=1,\"\",IF(U860=\"\",\"\",VLOOKUP(U860,Tabelle!$D$5:$H$7,5,FALSE)))","v":""},{"$f":"IF(M$2021=1,\"\",IF(U860=\"\",\"\",VLOOKUP(U860,Tabelle!$D$5:$I$7,6,FALSE)))","v":""},null,null,null,null,null,null,null,null,null,null,null,{"$f":"IF(B860=\"\",0,IF(B860=B859,COUNTIF(B$9:B859,B860)+1,1))","v":848},0,0]
["853","-1900","-1900-849",null,null,null,null,null,null,null,null,null,null,null,null,null,null,null,null,null,null,{"$f":"IF(M$2021=1,\"\",IF(U861=\"\",\"\",VLOOKUP(U861,Tabelle!$D$5:$H$7,5,FALSE)))","v":""},{"$f":"IF(M$2021=1,\"\",IF(U861=\"\",\"\",VLOOKUP(U861,Tabelle!$D$5:$I$7,6,FALSE)))","v":""},null,null,null,null,null,null,null,null,null,null,null,{"$f":"IF(B861=\"\",0,IF(B861=B860,COUNTIF(B$9:B860,B861)+1,1))","v":849},0,0]
["854","-1900","-1900-850",null,null,null,null,null,null,null,null,null,null,null,null,null,null,null,null,null,null,{"$f":"IF(M$2021=1,\"\",IF(U862=\"\",\"\",VLOOKUP(U862,Tabelle!$D$5:$H$7,5,FALSE)))","v":""},{"$f":"IF(M$2021=1,\"\",IF(U862=\"\",\"\",VLOOKUP(U862,Tabelle!$D$5:$I$7,6,FALSE)))","v":""},null,null,null,null,null,null,null,null,null,null,null,{"$f":"IF(B862=\"\",0,IF(B862=B861,COUNTIF(B$9:B861,B862)+1,1))","v":850},0,0]
["855","-1900","-1900-851",null,null,null,null,null,null,null,null,null,null,null,null,null,null,null,null,null,null,{"$f":"IF(M$2021=1,\"\",IF(U863=\"\",\"\",VLOOKUP(U863,Tabelle!$D$5:$H$7,5,FALSE)))","v":""},{"$f":"IF(M$2021=1,\"\",IF(U863=\"\",\"\",VLOOKUP(U863,Tabelle!$D$5:$I$7,6,FALSE)))","v":""},null,null,null,null,null,null,null,null,null,null,null,{"$f":"IF(B863=\"\",0,IF(B863=B862,COUNTIF(B$9:B862,B863)+1,1))","v":851},0,0]
["856","-1900","-1900-852",null,null,null,null,null,null,null,null,null,null,null,null,null,null,null,null,null,null,{"$f":"IF(M$2021=1,\"\",IF(U864=\"\",\"\",VLOOKUP(U864,Tabelle!$D$5:$H$7,5,FALSE)))","v":""},{"$f":"IF(M$2021=1,\"\",IF(U864=\"\",\"\",VLOOKUP(U864,Tabelle!$D$5:$I$7,6,FALSE)))","v":""},null,null,null,null,null,null,null,null,null,null,null,{"$f":"IF(B864=\"\",0,IF(B864=B863,COUNTIF(B$9:B863,B864)+1,1))","v":852},0,0]
["857","-1900","-1900-853",null,null,null,null,null,null,null,null,null,null,null,null,null,null,null,null,null,null,{"$f":"IF(M$2021=1,\"\",IF(U865=\"\",\"\",VLOOKUP(U865,Tabelle!$D$5:$H$7,5,FALSE)))","v":""},{"$f":"IF(M$2021=1,\"\",IF(U865=\"\",\"\",VLOOKUP(U865,Tabelle!$D$5:$I$7,6,FALSE)))","v":""},null,null,null,null,null,null,null,null,null,null,null,{"$f":"IF(B865=\"\",0,IF(B865=B864,COUNTIF(B$9:B864,B865)+1,1))","v":853},0,0]
["858","-1900","-1900-854",null,null,null,null,null,null,null,null,null,null,null,null,null,null,null,null,null,null,{"$f":"IF(M$2021=1,\"\",IF(U866=\"\",\"\",VLOOKUP(U866,Tabelle!$D$5:$H$7,5,FALSE)))","v":""},{"$f":"IF(M$2021=1,\"\",IF(U866=\"\",\"\",VLOOKUP(U866,Tabelle!$D$5:$I$7,6,FALSE)))","v":""},null,null,null,null,null,null,null,null,null,null,null,{"$f":"IF(B866=\"\",0,IF(B866=B865,COUNTIF(B$9:B865,B866)+1,1))","v":854},0,0]
["859","-1900","-1900-855",null,null,null,null,null,null,null,null,null,null,null,null,null,null,null,null,null,null,{"$f":"IF(M$2021=1,\"\",IF(U867=\"\",\"\",VLOOKUP(U867,Tabelle!$D$5:$H$7,5,FALSE)))","v":""},{"$f":"IF(M$2021=1,\"\",IF(U867=\"\",\"\",VLOOKUP(U867,Tabelle!$D$5:$I$7,6,FALSE)))","v":""},null,null,null,null,null,null,null,null,null,null,null,{"$f":"IF(B867=\"\",0,IF(B867=B866,COUNTIF(B$9:B866,B867)+1,1))","v":855},0,0]
["860","-1900","-1900-856",null,null,null,null,null,null,null,null,null,null,null,null,null,null,null,null,null,null,{"$f":"IF(M$2021=1,\"\",IF(U868=\"\",\"\",VLOOKUP(U868,Tabelle!$D$5:$H$7,5,FALSE)))","v":""},{"$f":"IF(M$2021=1,\"\",IF(U868=\"\",\"\",VLOOKUP(U868,Tabelle!$D$5:$I$7,6,FALSE)))","v":""},null,null,null,null,null,null,null,null,null,null,null,{"$f":"IF(B868=\"\",0,IF(B868=B867,COUNTIF(B$9:B867,B868)+1,1))","v":856},0,0]
["861","-1900","-1900-857",null,null,null,null,null,null,null,null,null,null,null,null,null,null,null,null,null,null,{"$f":"IF(M$2021=1,\"\",IF(U869=\"\",\"\",VLOOKUP(U869,Tabelle!$D$5:$H$7,5,FALSE)))","v":""},{"$f":"IF(M$2021=1,\"\",IF(U869=\"\",\"\",VLOOKUP(U869,Tabelle!$D$5:$I$7,6,FALSE)))","v":""},null,null,null,null,null,null,null,null,null,null,null,{"$f":"IF(B869=\"\",0,IF(B869=B868,COUNTIF(B$9:B868,B869)+1,1))","v":857},0,0]
["862","-1900","-1900-858",null,null,null,null,null,null,null,null,null,null,null,null,null,null,null,null,null,null,{"$f":"IF(M$2021=1,\"\",IF(U870=\"\",\"\",VLOOKUP(U870,Tabelle!$D$5:$H$7,5,FALSE)))","v":""},{"$f":"IF(M$2021=1,\"\",IF(U870=\"\",\"\",VLOOKUP(U870,Tabelle!$D$5:$I$7,6,FALSE)))","v":""},null,null,null,null,null,null,null,null,null,null,null,{"$f":"IF(B870=\"\",0,IF(B870=B869,COUNTIF(B$9:B869,B870)+1,1))","v":858},0,0]
["863","-1900","-1900-859",null,null,null,null,null,null,null,null,null,null,null,null,null,null,null,null,null,null,{"$f":"IF(M$2021=1,\"\",IF(U871=\"\",\"\",VLOOKUP(U871,Tabelle!$D$5:$H$7,5,FALSE)))","v":""},{"$f":"IF(M$2021=1,\"\",IF(U871=\"\",\"\",VLOOKUP(U871,Tabelle!$D$5:$I$7,6,FALSE)))","v":""},null,null,null,null,null,null,null,null,null,null,null,{"$f":"IF(B871=\"\",0,IF(B871=B870,COUNTIF(B$9:B870,B871)+1,1))","v":859},0,0]
["864","-1900","-1900-860",null,null,null,null,null,null,null,null,null,null,null,null,null,null,null,null,null,null,{"$f":"IF(M$2021=1,\"\",IF(U872=\"\",\"\",VLOOKUP(U872,Tabelle!$D$5:$H$7,5,FALSE)))","v":""},{"$f":"IF(M$2021=1,\"\",IF(U872=\"\",\"\",VLOOKUP(U872,Tabelle!$D$5:$I$7,6,FALSE)))","v":""},null,null,null,null,null,null,null,null,null,null,null,{"$f":"IF(B872=\"\",0,IF(B872=B871,COUNTIF(B$9:B871,B872)+1,1))","v":860},0,0]
["865","-1900","-1900-861",null,null,null,null,null,null,null,null,null,null,null,null,null,null,null,null,null,null,{"$f":"IF(M$2021=1,\"\",IF(U873=\"\",\"\",VLOOKUP(U873,Tabelle!$D$5:$H$7,5,FALSE)))","v":""},{"$f":"IF(M$2021=1,\"\",IF(U873=\"\",\"\",VLOOKUP(U873,Tabelle!$D$5:$I$7,6,FALSE)))","v":""},null,null,null,null,null,null,null,null,null,null,null,{"$f":"IF(B873=\"\",0,IF(B873=B872,COUNTIF(B$9:B872,B873)+1,1))","v":861},0,0]
["866","-1900","-1900-862",null,null,null,null,null,null,null,null,null,null,null,null,null,null,null,null,null,null,{"$f":"IF(M$2021=1,\"\",IF(U874=\"\",\"\",VLOOKUP(U874,Tabelle!$D$5:$H$7,5,FALSE)))","v":""},{"$f":"IF(M$2021=1,\"\",IF(U874=\"\",\"\",VLOOKUP(U874,Tabelle!$D$5:$I$7,6,FALSE)))","v":""},null,null,null,null,null,null,null,null,null,null,null,{"$f":"IF(B874=\"\",0,IF(B874=B873,COUNTIF(B$9:B873,B874)+1,1))","v":862},0,0]
["867","-1900","-1900-863",null,null,null,null,null,null,null,null,null,null,null,null,null,null,null,null,null,null,{"$f":"IF(M$2021=1,\"\",IF(U875=\"\",\"\",VLOOKUP(U875,Tabelle!$D$5:$H$7,5,FALSE)))","v":""},{"$f":"IF(M$2021=1,\"\",IF(U875=\"\",\"\",VLOOKUP(U875,Tabelle!$D$5:$I$7,6,FALSE)))","v":""},null,null,null,null,null,null,null,null,null,null,null,{"$f":"IF(B875=\"\",0,IF(B875=B874,COUNTIF(B$9:B874,B875)+1,1))","v":863},0,0]
["868","-1900","-1900-864",null,null,null,null,null,null,null,null,null,null,null,null,null,null,null,null,null,null,{"$f":"IF(M$2021=1,\"\",IF(U876=\"\",\"\",VLOOKUP(U876,Tabelle!$D$5:$H$7,5,FALSE)))","v":""},{"$f":"IF(M$2021=1,\"\",IF(U876=\"\",\"\",VLOOKUP(U876,Tabelle!$D$5:$I$7,6,FALSE)))","v":""},null,null,null,null,null,null,null,null,null,null,null,{"$f":"IF(B876=\"\",0,IF(B876=B875,COUNTIF(B$9:B875,B876)+1,1))","v":864},0,0]
["869","-1900","-1900-865",null,null,null,null,null,null,null,null,null,null,null,null,null,null,null,null,null,null,{"$f":"IF(M$2021=1,\"\",IF(U877=\"\",\"\",VLOOKUP(U877,Tabelle!$D$5:$H$7,5,FALSE)))","v":""},{"$f":"IF(M$2021=1,\"\",IF(U877=\"\",\"\",VLOOKUP(U877,Tabelle!$D$5:$I$7,6,FALSE)))","v":""},null,null,null,null,null,null,null,null,null,null,null,{"$f":"IF(B877=\"\",0,IF(B877=B876,COUNTIF(B$9:B876,B877)+1,1))","v":865},0,0]
["870","-1900","-1900-866",null,null,null,null,null,null,null,null,null,null,null,null,null,null,null,null,null,null,{"$f":"IF(M$2021=1,\"\",IF(U878=\"\",\"\",VLOOKUP(U878,Tabelle!$D$5:$H$7,5,FALSE)))","v":""},{"$f":"IF(M$2021=1,\"\",IF(U878=\"\",\"\",VLOOKUP(U878,Tabelle!$D$5:$I$7,6,FALSE)))","v":""},null,null,null,null,null,null,null,null,null,null,null,{"$f":"IF(B878=\"\",0,IF(B878=B877,COUNTIF(B$9:B877,B878)+1,1))","v":866},0,0]
["871","-1900","-1900-867",null,null,null,null,null,null,null,null,null,null,null,null,null,null,null,null,null,null,{"$f":"IF(M$2021=1,\"\",IF(U879=\"\",\"\",VLOOKUP(U879,Tabelle!$D$5:$H$7,5,FALSE)))","v":""},{"$f":"IF(M$2021=1,\"\",IF(U879=\"\",\"\",VLOOKUP(U879,Tabelle!$D$5:$I$7,6,FALSE)))","v":""},null,null,null,null,null,null,null,null,null,null,null,{"$f":"IF(B879=\"\",0,IF(B879=B878,COUNTIF(B$9:B878,B879)+1,1))","v":867},0,0]
["872","-1900","-1900-868",null,null,null,null,null,null,null,null,null,null,null,null,null,null,null,null,null,null,{"$f":"IF(M$2021=1,\"\",IF(U880=\"\",\"\",VLOOKUP(U880,Tabelle!$D$5:$H$7,5,FALSE)))","v":""},{"$f":"IF(M$2021=1,\"\",IF(U880=\"\",\"\",VLOOKUP(U880,Tabelle!$D$5:$I$7,6,FALSE)))","v":""},null,null,null,null,null,null,null,null,null,null,null,{"$f":"IF(B880=\"\",0,IF(B880=B879,COUNTIF(B$9:B879,B880)+1,1))","v":868},0,0]
["873","-1900","-1900-869",null,null,null,null,null,null,null,null,null,null,null,null,null,null,null,null,null,null,{"$f":"IF(M$2021=1,\"\",IF(U881=\"\",\"\",VLOOKUP(U881,Tabelle!$D$5:$H$7,5,FALSE)))","v":""},{"$f":"IF(M$2021=1,\"\",IF(U881=\"\",\"\",VLOOKUP(U881,Tabelle!$D$5:$I$7,6,FALSE)))","v":""},null,null,null,null,null,null,null,null,null,null,null,{"$f":"IF(B881=\"\",0,IF(B881=B880,COUNTIF(B$9:B880,B881)+1,1))","v":869},0,0]
["874","-1900","-1900-870",null,null,null,null,null,null,null,null,null,null,null,null,null,null,null,null,null,null,{"$f":"IF(M$2021=1,\"\",IF(U882=\"\",\"\",VLOOKUP(U882,Tabelle!$D$5:$H$7,5,FALSE)))","v":""},{"$f":"IF(M$2021=1,\"\",IF(U882=\"\",\"\",VLOOKUP(U882,Tabelle!$D$5:$I$7,6,FALSE)))","v":""},null,null,null,null,null,null,null,null,null,null,null,{"$f":"IF(B882=\"\",0,IF(B882=B881,COUNTIF(B$9:B881,B882)+1,1))","v":870},0,0]
["875","-1900","-1900-871",null,null,null,null,null,null,null,null,null,null,null,null,null,null,null,null,null,null,{"$f":"IF(M$2021=1,\"\",IF(U883=\"\",\"\",VLOOKUP(U883,Tabelle!$D$5:$H$7,5,FALSE)))","v":""},{"$f":"IF(M$2021=1,\"\",IF(U883=\"\",\"\",VLOOKUP(U883,Tabelle!$D$5:$I$7,6,FALSE)))","v":""},null,null,null,null,null,null,null,null,null,null,null,{"$f":"IF(B883=\"\",0,IF(B883=B882,COUNTIF(B$9:B882,B883)+1,1))","v":871},0,0]
["876","-1900","-1900-872",null,null,null,null,null,null,null,null,null,null,null,null,null,null,null,null,null,null,{"$f":"IF(M$2021=1,\"\",IF(U884=\"\",\"\",VLOOKUP(U884,Tabelle!$D$5:$H$7,5,FALSE)))","v":""},{"$f":"IF(M$2021=1,\"\",IF(U884=\"\",\"\",VLOOKUP(U884,Tabelle!$D$5:$I$7,6,FALSE)))","v":""},null,null,null,null,null,null,null,null,null,null,null,{"$f":"IF(B884=\"\",0,IF(B884=B883,COUNTIF(B$9:B883,B884)+1,1))","v":872},0,0]
["877","-1900","-1900-873",null,null,null,null,null,null,null,null,null,null,null,null,null,null,null,null,null,null,{"$f":"IF(M$2021=1,\"\",IF(U885=\"\",\"\",VLOOKUP(U885,Tabelle!$D$5:$H$7,5,FALSE)))","v":""},{"$f":"IF(M$2021=1,\"\",IF(U885=\"\",\"\",VLOOKUP(U885,Tabelle!$D$5:$I$7,6,FALSE)))","v":""},null,null,null,null,null,null,null,null,null,null,null,{"$f":"IF(B885=\"\",0,IF(B885=B884,COUNTIF(B$9:B884,B885)+1,1))","v":873},0,0]
["878","-1900","-1900-874",null,null,null,null,null,null,null,null,null,null,null,null,null,null,null,null,null,null,{"$f":"IF(M$2021=1,\"\",IF(U886=\"\",\"\",VLOOKUP(U886,Tabelle!$D$5:$H$7,5,FALSE)))","v":""},{"$f":"IF(M$2021=1,\"\",IF(U886=\"\",\"\",VLOOKUP(U886,Tabelle!$D$5:$I$7,6,FALSE)))","v":""},null,null,null,null,null,null,null,null,null,null,null,{"$f":"IF(B886=\"\",0,IF(B886=B885,COUNTIF(B$9:B885,B886)+1,1))","v":874},0,0]
["879","-1900","-1900-875",null,null,null,null,null,null,null,null,null,null,null,null,null,null,null,null,null,null,{"$f":"IF(M$2021=1,\"\",IF(U887=\"\",\"\",VLOOKUP(U887,Tabelle!$D$5:$H$7,5,FALSE)))","v":""},{"$f":"IF(M$2021=1,\"\",IF(U887=\"\",\"\",VLOOKUP(U887,Tabelle!$D$5:$I$7,6,FALSE)))","v":""},null,null,null,null,null,null,null,null,null,null,null,{"$f":"IF(B887=\"\",0,IF(B887=B886,COUNTIF(B$9:B886,B887)+1,1))","v":875},0,0]
["880","-1900","-1900-876",null,null,null,null,null,null,null,null,null,null,null,null,null,null,null,null,null,null,{"$f":"IF(M$2021=1,\"\",IF(U888=\"\",\"\",VLOOKUP(U888,Tabelle!$D$5:$H$7,5,FALSE)))","v":""},{"$f":"IF(M$2021=1,\"\",IF(U888=\"\",\"\",VLOOKUP(U888,Tabelle!$D$5:$I$7,6,FALSE)))","v":""},null,null,null,null,null,null,null,null,null,null,null,{"$f":"IF(B888=\"\",0,IF(B888=B887,COUNTIF(B$9:B887,B888)+1,1))","v":876},0,0]
["881","-1900","-1900-877",null,null,null,null,null,null,null,null,null,null,null,null,null,null,null,null,null,null,{"$f":"IF(M$2021=1,\"\",IF(U889=\"\",\"\",VLOOKUP(U889,Tabelle!$D$5:$H$7,5,FALSE)))","v":""},{"$f":"IF(M$2021=1,\"\",IF(U889=\"\",\"\",VLOOKUP(U889,Tabelle!$D$5:$I$7,6,FALSE)))","v":""},null,null,null,null,null,null,null,null,null,null,null,{"$f":"IF(B889=\"\",0,IF(B889=B888,COUNTIF(B$9:B888,B889)+1,1))","v":877},0,0]
["882","-1900","-1900-878",null,null,null,null,null,null,null,null,null,null,null,null,null,null,null,null,null,null,{"$f":"IF(M$2021=1,\"\",IF(U890=\"\",\"\",VLOOKUP(U890,Tabelle!$D$5:$H$7,5,FALSE)))","v":""},{"$f":"IF(M$2021=1,\"\",IF(U890=\"\",\"\",VLOOKUP(U890,Tabelle!$D$5:$I$7,6,FALSE)))","v":""},null,null,null,null,null,null,null,null,null,null,null,{"$f":"IF(B890=\"\",0,IF(B890=B889,COUNTIF(B$9:B889,B890)+1,1))","v":878},0,0]
["883","-1900","-1900-879",null,null,null,null,null,null,null,null,null,null,null,null,null,null,null,null,null,null,{"$f":"IF(M$2021=1,\"\",IF(U891=\"\",\"\",VLOOKUP(U891,Tabelle!$D$5:$H$7,5,FALSE)))","v":""},{"$f":"IF(M$2021=1,\"\",IF(U891=\"\",\"\",VLOOKUP(U891,Tabelle!$D$5:$I$7,6,FALSE)))","v":""},null,null,null,null,null,null,null,null,null,null,null,{"$f":"IF(B891=\"\",0,IF(B891=B890,COUNTIF(B$9:B890,B891)+1,1))","v":879},0,0]
["884","-1900","-1900-880",null,null,null,null,null,null,null,null,null,null,null,null,null,null,null,null,null,null,{"$f":"IF(M$2021=1,\"\",IF(U892=\"\",\"\",VLOOKUP(U892,Tabelle!$D$5:$H$7,5,FALSE)))","v":""},{"$f":"IF(M$2021=1,\"\",IF(U892=\"\",\"\",VLOOKUP(U892,Tabelle!$D$5:$I$7,6,FALSE)))","v":""},null,null,null,null,null,null,null,null,null,null,null,{"$f":"IF(B892=\"\",0,IF(B892=B891,COUNTIF(B$9:B891,B892)+1,1))","v":880},0,0]
["885","-1900","-1900-881",null,null,null,null,null,null,null,null,null,null,null,null,null,null,null,null,null,null,{"$f":"IF(M$2021=1,\"\",IF(U893=\"\",\"\",VLOOKUP(U893,Tabelle!$D$5:$H$7,5,FALSE)))","v":""},{"$f":"IF(M$2021=1,\"\",IF(U893=\"\",\"\",VLOOKUP(U893,Tabelle!$D$5:$I$7,6,FALSE)))","v":""},null,null,null,null,null,null,null,null,null,null,null,{"$f":"IF(B893=\"\",0,IF(B893=B892,COUNTIF(B$9:B892,B893)+1,1))","v":881},0,0]
["886","-1900","-1900-882",null,null,null,null,null,null,null,null,null,null,null,null,null,null,null,null,null,null,{"$f":"IF(M$2021=1,\"\",IF(U894=\"\",\"\",VLOOKUP(U894,Tabelle!$D$5:$H$7,5,FALSE)))","v":""},{"$f":"IF(M$2021=1,\"\",IF(U894=\"\",\"\",VLOOKUP(U894,Tabelle!$D$5:$I$7,6,FALSE)))","v":""},null,null,null,null,null,null,null,null,null,null,null,{"$f":"IF(B894=\"\",0,IF(B894=B893,COUNTIF(B$9:B893,B894)+1,1))","v":882},0,0]
["887","-1900","-1900-883",null,null,null,null,null,null,null,null,null,null,null,null,null,null,null,null,null,null,{"$f":"IF(M$2021=1,\"\",IF(U895=\"\",\"\",VLOOKUP(U895,Tabelle!$D$5:$H$7,5,FALSE)))","v":""},{"$f":"IF(M$2021=1,\"\",IF(U895=\"\",\"\",VLOOKUP(U895,Tabelle!$D$5:$I$7,6,FALSE)))","v":""},null,null,null,null,null,null,null,null,null,null,null,{"$f":"IF(B895=\"\",0,IF(B895=B894,COUNTIF(B$9:B894,B895)+1,1))","v":883},0,0]
["888","-1900","-1900-884",null,null,null,null,null,null,null,null,null,null,null,null,null,null,null,null,null,null,{"$f":"IF(M$2021=1,\"\",IF(U896=\"\",\"\",VLOOKUP(U896,Tabelle!$D$5:$H$7,5,FALSE)))","v":""},{"$f":"IF(M$2021=1,\"\",IF(U896=\"\",\"\",VLOOKUP(U896,Tabelle!$D$5:$I$7,6,FALSE)))","v":""},null,null,null,null,null,null,null,null,null,null,null,{"$f":"IF(B896=\"\",0,IF(B896=B895,COUNTIF(B$9:B895,B896)+1,1))","v":884},0,0]
["889","-1900","-1900-885",null,null,null,null,null,null,null,null,null,null,null,null,null,null,null,null,null,null,{"$f":"IF(M$2021=1,\"\",IF(U897=\"\",\"\",VLOOKUP(U897,Tabelle!$D$5:$H$7,5,FALSE)))","v":""},{"$f":"IF(M$2021=1,\"\",IF(U897=\"\",\"\",VLOOKUP(U897,Tabelle!$D$5:$I$7,6,FALSE)))","v":""},null,null,null,null,null,null,null,null,null,null,null,{"$f":"IF(B897=\"\",0,IF(B897=B896,COUNTIF(B$9:B896,B897)+1,1))","v":885},0,0]
["890","-1900","-1900-886",null,null,null,null,null,null,null,null,null,null,null,null,null,null,null,null,null,null,{"$f":"IF(M$2021=1,\"\",IF(U898=\"\",\"\",VLOOKUP(U898,Tabelle!$D$5:$H$7,5,FALSE)))","v":""},{"$f":"IF(M$2021=1,\"\",IF(U898=\"\",\"\",VLOOKUP(U898,Tabelle!$D$5:$I$7,6,FALSE)))","v":""},null,null,null,null,null,null,null,null,null,null,null,{"$f":"IF(B898=\"\",0,IF(B898=B897,COUNTIF(B$9:B897,B898)+1,1))","v":886},0,0]
["891","-1900","-1900-887",null,null,null,null,null,null,null,null,null,null,null,null,null,null,null,null,null,null,{"$f":"IF(M$2021=1,\"\",IF(U899=\"\",\"\",VLOOKUP(U899,Tabelle!$D$5:$H$7,5,FALSE)))","v":""},{"$f":"IF(M$2021=1,\"\",IF(U899=\"\",\"\",VLOOKUP(U899,Tabelle!$D$5:$I$7,6,FALSE)))","v":""},null,null,null,null,null,null,null,null,null,null,null,{"$f":"IF(B899=\"\",0,IF(B899=B898,COUNTIF(B$9:B898,B899)+1,1))","v":887},0,0]
["892","-1900","-1900-888",null,null,null,null,null,null,null,null,null,null,null,null,null,null,null,null,null,null,{"$f":"IF(M$2021=1,\"\",IF(U900=\"\",\"\",VLOOKUP(U900,Tabelle!$D$5:$H$7,5,FALSE)))","v":""},{"$f":"IF(M$2021=1,\"\",IF(U900=\"\",\"\",VLOOKUP(U900,Tabelle!$D$5:$I$7,6,FALSE)))","v":""},null,null,null,null,null,null,null,null,null,null,null,{"$f":"IF(B900=\"\",0,IF(B900=B899,COUNTIF(B$9:B899,B900)+1,1))","v":888},0,0]
["893","-1900","-1900-889",null,null,null,null,null,null,null,null,null,null,null,null,null,null,null,null,null,null,{"$f":"IF(M$2021=1,\"\",IF(U901=\"\",\"\",VLOOKUP(U901,Tabelle!$D$5:$H$7,5,FALSE)))","v":""},{"$f":"IF(M$2021=1,\"\",IF(U901=\"\",\"\",VLOOKUP(U901,Tabelle!$D$5:$I$7,6,FALSE)))","v":""},null,null,null,null,null,null,null,null,null,null,null,{"$f":"IF(B901=\"\",0,IF(B901=B900,COUNTIF(B$9:B900,B901)+1,1))","v":889},0,0]
["894","-1900","-1900-890",null,null,null,null,null,null,null,null,null,null,null,null,null,null,null,null,null,null,{"$f":"IF(M$2021=1,\"\",IF(U902=\"\",\"\",VLOOKUP(U902,Tabelle!$D$5:$H$7,5,FALSE)))","v":""},{"$f":"IF(M$2021=1,\"\",IF(U902=\"\",\"\",VLOOKUP(U902,Tabelle!$D$5:$I$7,6,FALSE)))","v":""},null,null,null,null,null,null,null,null,null,null,null,{"$f":"IF(B902=\"\",0,IF(B902=B901,COUNTIF(B$9:B901,B902)+1,1))","v":890},0,0]
["895","-1900","-1900-891",null,null,null,null,null,null,null,null,null,null,null,null,null,null,null,null,null,null,{"$f":"IF(M$2021=1,\"\",IF(U903=\"\",\"\",VLOOKUP(U903,Tabelle!$D$5:$H$7,5,FALSE)))","v":""},{"$f":"IF(M$2021=1,\"\",IF(U903=\"\",\"\",VLOOKUP(U903,Tabelle!$D$5:$I$7,6,FALSE)))","v":""},null,null,null,null,null,null,null,null,null,null,null,{"$f":"IF(B903=\"\",0,IF(B903=B902,COUNTIF(B$9:B902,B903)+1,1))","v":891},0,0]
["896","-1900","-1900-892",null,null,null,null,null,null,null,null,null,null,null,null,null,null,null,null,null,null,{"$f":"IF(M$2021=1,\"\",IF(U904=\"\",\"\",VLOOKUP(U904,Tabelle!$D$5:$H$7,5,FALSE)))","v":""},{"$f":"IF(M$2021=1,\"\",IF(U904=\"\",\"\",VLOOKUP(U904,Tabelle!$D$5:$I$7,6,FALSE)))","v":""},null,null,null,null,null,null,null,null,null,null,null,{"$f":"IF(B904=\"\",0,IF(B904=B903,COUNTIF(B$9:B903,B904)+1,1))","v":892},0,0]
["897","-1900",{"$f":"IF(M$2021=1,0,B905&\"-\"&AI905)","v":"-1900-893"},null,null,null,null,null,null,null,null,null,null,null,null,null,null,null,null,null,null,{"$f":"IF(M$2021=1,\"\",IF(U905=\"\",\"\",VLOOKUP(U905,Tabelle!$D$5:$H$7,5,FALSE)))","v":""},{"$f":"IF(M$2021=1,\"\",IF(U905=\"\",\"\",VLOOKUP(U905,Tabelle!$D$5:$I$7,6,FALSE)))","v":""},null,null,null,null,null,null,null,null,null,null,null,{"$f":"IF(B905=\"\",0,IF(B905=B904,COUNTIF(B$9:B904,B905)+1,1))","v":893},0,0]
["898",{"$f":"IF(AK906=$AK$2015,0,IF(M$2021=1,0,D906&\"-\"&YEAR(E906)))","v":"-1900"},"-1900-894",null,null,null,null,null,null,null,null,null,null,null,null,null,null,null,null,null,null,{"$f":"IF(M$2021=1,\"\",IF(U906=\"\",\"\",VLOOKUP(U906,Tabelle!$D$5:$H$7,5,FALSE)))","v":""},{"$f":"IF(M$2021=1,\"\",IF(U906=\"\",\"\",VLOOKUP(U906,Tabelle!$D$5:$I$7,6,FALSE)))","v":""},null,null,null,null,null,null,null,null,null,null,null,{"$f":"IF(B906=\"\",0,IF(B906=B905,COUNTIF(B$9:B905,B906)+1,1))","v":894},{"$f":"IF(OR(D906=\"\",M$2021=1),0,IF(AI906=10,1,0))","v":0},{"$f":"IF(E906>0,IF(OR(MONTH(E906)<$J$2027,MONTH(E906)>$J$2028),AK$2015,0),0)","v":0}]
["899","-1900","-1900-895",null,null,null,null,null,null,null,null,null,null,null,null,null,null,null,null,null,null,{"$f":"IF(M$2021=1,\"\",IF(U907=\"\",\"\",VLOOKUP(U907,Tabelle!$D$5:$H$7,5,FALSE)))","v":""},{"$f":"IF(M$2021=1,\"\",IF(U907=\"\",\"\",VLOOKUP(U907,Tabelle!$D$5:$I$7,6,FALSE)))","v":""},null,null,null,null,null,null,null,null,null,null,null,{"$f":"IF(B907=\"\",0,IF(B907=B906,COUNTIF(B$9:B906,B907)+1,1))","v":895},0,0]
["900","-1900","-1900-896",null,null,null,null,null,null,null,null,null,null,null,null,null,null,null,null,null,null,{"$f":"IF(M$2021=1,\"\",IF(U908=\"\",\"\",VLOOKUP(U908,Tabelle!$D$5:$H$7,5,FALSE)))","v":""},{"$f":"IF(M$2021=1,\"\",IF(U908=\"\",\"\",VLOOKUP(U908,Tabelle!$D$5:$I$7,6,FALSE)))","v":""},null,null,null,null,null,null,null,null,null,null,null,{"$f":"IF(B908=\"\",0,IF(B908=B907,COUNTIF(B$9:B907,B908)+1,1))","v":896},0,0]
["901","-1900","-1900-897",null,null,null,null,null,null,null,null,null,null,null,null,null,null,null,null,null,null,{"$f":"IF(M$2021=1,\"\",IF(U909=\"\",\"\",VLOOKUP(U909,Tabelle!$D$5:$H$7,5,FALSE)))","v":""},{"$f":"IF(M$2021=1,\"\",IF(U909=\"\",\"\",VLOOKUP(U909,Tabelle!$D$5:$I$7,6,FALSE)))","v":""},null,null,null,null,null,null,null,null,null,null,null,{"$f":"IF(B909=\"\",0,IF(B909=B908,COUNTIF(B$9:B908,B909)+1,1))","v":897},0,0]
["902","-1900","-1900-898",null,null,null,null,null,null,null,null,null,null,null,null,null,null,null,null,null,null,{"$f":"IF(M$2021=1,\"\",IF(U910=\"\",\"\",VLOOKUP(U910,Tabelle!$D$5:$H$7,5,FALSE)))","v":""},{"$f":"IF(M$2021=1,\"\",IF(U910=\"\",\"\",VLOOKUP(U910,Tabelle!$D$5:$I$7,6,FALSE)))","v":""},null,null,null,null,null,null,null,null,null,null,null,{"$f":"IF(B910=\"\",0,IF(B910=B909,COUNTIF(B$9:B909,B910)+1,1))","v":898},0,0]
["903","-1900","-1900-899",null,null,null,null,null,null,null,null,null,null,null,null,null,null,null,null,null,null,{"$f":"IF(M$2021=1,\"\",IF(U911=\"\",\"\",VLOOKUP(U911,Tabelle!$D$5:$H$7,5,FALSE)))","v":""},{"$f":"IF(M$2021=1,\"\",IF(U911=\"\",\"\",VLOOKUP(U911,Tabelle!$D$5:$I$7,6,FALSE)))","v":""},null,null,null,null,null,null,null,null,null,null,null,{"$f":"IF(B911=\"\",0,IF(B911=B910,COUNTIF(B$9:B910,B911)+1,1))","v":899},0,0]
["904","-1900","-1900-900",null,null,null,null,null,null,null,null,null,null,null,null,null,null,null,null,null,null,{"$f":"IF(M$2021=1,\"\",IF(U912=\"\",\"\",VLOOKUP(U912,Tabelle!$D$5:$H$7,5,FALSE)))","v":""},{"$f":"IF(M$2021=1,\"\",IF(U912=\"\",\"\",VLOOKUP(U912,Tabelle!$D$5:$I$7,6,FALSE)))","v":""},null,null,null,null,null,null,null,null,null,null,null,{"$f":"IF(B912=\"\",0,IF(B912=B911,COUNTIF(B$9:B911,B912)+1,1))","v":900},0,0]
["905","-1900","-1900-901",null,null,null,null,null,null,null,null,null,null,null,null,null,null,null,null,null,null,{"$f":"IF(M$2021=1,\"\",IF(U913=\"\",\"\",VLOOKUP(U913,Tabelle!$D$5:$H$7,5,FALSE)))","v":""},{"$f":"IF(M$2021=1,\"\",IF(U913=\"\",\"\",VLOOKUP(U913,Tabelle!$D$5:$I$7,6,FALSE)))","v":""},null,null,null,null,null,null,null,null,null,null,null,{"$f":"IF(B913=\"\",0,IF(B913=B912,COUNTIF(B$9:B912,B913)+1,1))","v":901},0,0]
["906","-1900","-1900-902",null,null,null,null,null,null,null,null,null,null,null,null,null,null,null,null,null,null,{"$f":"IF(M$2021=1,\"\",IF(U914=\"\",\"\",VLOOKUP(U914,Tabelle!$D$5:$H$7,5,FALSE)))","v":""},{"$f":"IF(M$2021=1,\"\",IF(U914=\"\",\"\",VLOOKUP(U914,Tabelle!$D$5:$I$7,6,FALSE)))","v":""},null,null,null,null,null,null,null,null,null,null,null,{"$f":"IF(B914=\"\",0,IF(B914=B913,COUNTIF(B$9:B913,B914)+1,1))","v":902},0,0]
["907","-1900","-1900-903",null,null,null,null,null,null,null,null,null,null,null,null,null,null,null,null,null,null,{"$f":"IF(M$2021=1,\"\",IF(U915=\"\",\"\",VLOOKUP(U915,Tabelle!$D$5:$H$7,5,FALSE)))","v":""},{"$f":"IF(M$2021=1,\"\",IF(U915=\"\",\"\",VLOOKUP(U915,Tabelle!$D$5:$I$7,6,FALSE)))","v":""},null,null,null,null,null,null,null,null,null,null,null,{"$f":"IF(B915=\"\",0,IF(B915=B914,COUNTIF(B$9:B914,B915)+1,1))","v":903},0,0]
["908","-1900","-1900-904",null,null,null,null,null,null,null,null,null,null,null,null,null,null,null,null,null,null,{"$f":"IF(M$2021=1,\"\",IF(U916=\"\",\"\",VLOOKUP(U916,Tabelle!$D$5:$H$7,5,FALSE)))","v":""},{"$f":"IF(M$2021=1,\"\",IF(U916=\"\",\"\",VLOOKUP(U916,Tabelle!$D$5:$I$7,6,FALSE)))","v":""},null,null,null,null,null,null,null,null,null,null,null,{"$f":"IF(B916=\"\",0,IF(B916=B915,COUNTIF(B$9:B915,B916)+1,1))","v":904},0,0]
["909","-1900","-1900-905",null,null,null,null,null,null,null,null,null,null,null,null,null,null,null,null,null,null,{"$f":"IF(M$2021=1,\"\",IF(U917=\"\",\"\",VLOOKUP(U917,Tabelle!$D$5:$H$7,5,FALSE)))","v":""},{"$f":"IF(M$2021=1,\"\",IF(U917=\"\",\"\",VLOOKUP(U917,Tabelle!$D$5:$I$7,6,FALSE)))","v":""},null,null,null,null,null,null,null,null,null,null,null,{"$f":"IF(B917=\"\",0,IF(B917=B916,COUNTIF(B$9:B916,B917)+1,1))","v":905},0,0]
["910","-1900","-1900-906",null,null,null,null,null,null,null,null,null,null,null,null,null,null,null,null,null,null,{"$f":"IF(M$2021=1,\"\",IF(U918=\"\",\"\",VLOOKUP(U918,Tabelle!$D$5:$H$7,5,FALSE)))","v":""},{"$f":"IF(M$2021=1,\"\",IF(U918=\"\",\"\",VLOOKUP(U918,Tabelle!$D$5:$I$7,6,FALSE)))","v":""},null,null,null,null,null,null,null,null,null,null,null,{"$f":"IF(B918=\"\",0,IF(B918=B917,COUNTIF(B$9:B917,B918)+1,1))","v":906},0,0]
["911","-1900","-1900-907",null,null,null,null,null,null,null,null,null,null,null,null,null,null,null,null,null,null,{"$f":"IF(M$2021=1,\"\",IF(U919=\"\",\"\",VLOOKUP(U919,Tabelle!$D$5:$H$7,5,FALSE)))","v":""},{"$f":"IF(M$2021=1,\"\",IF(U919=\"\",\"\",VLOOKUP(U919,Tabelle!$D$5:$I$7,6,FALSE)))","v":""},null,null,null,null,null,null,null,null,null,null,null,{"$f":"IF(B919=\"\",0,IF(B919=B918,COUNTIF(B$9:B918,B919)+1,1))","v":907},0,0]
["912","-1900","-1900-908",null,null,null,null,null,null,null,null,null,null,null,null,null,null,null,null,null,null,{"$f":"IF(M$2021=1,\"\",IF(U920=\"\",\"\",VLOOKUP(U920,Tabelle!$D$5:$H$7,5,FALSE)))","v":""},{"$f":"IF(M$2021=1,\"\",IF(U920=\"\",\"\",VLOOKUP(U920,Tabelle!$D$5:$I$7,6,FALSE)))","v":""},null,null,null,null,null,null,null,null,null,null,null,{"$f":"IF(B920=\"\",0,IF(B920=B919,COUNTIF(B$9:B919,B920)+1,1))","v":908},0,0]
["913","-1900","-1900-909",null,null,null,null,null,null,null,null,null,null,null,null,null,null,null,null,null,null,{"$f":"IF(M$2021=1,\"\",IF(U921=\"\",\"\",VLOOKUP(U921,Tabelle!$D$5:$H$7,5,FALSE)))","v":""},{"$f":"IF(M$2021=1,\"\",IF(U921=\"\",\"\",VLOOKUP(U921,Tabelle!$D$5:$I$7,6,FALSE)))","v":""},null,null,null,null,null,null,null,null,null,null,null,{"$f":"IF(B921=\"\",0,IF(B921=B920,COUNTIF(B$9:B920,B921)+1,1))","v":909},0,0]
["914","-1900","-1900-910",null,null,null,null,null,null,null,null,null,null,null,null,null,null,null,null,null,null,{"$f":"IF(M$2021=1,\"\",IF(U922=\"\",\"\",VLOOKUP(U922,Tabelle!$D$5:$H$7,5,FALSE)))","v":""},{"$f":"IF(M$2021=1,\"\",IF(U922=\"\",\"\",VLOOKUP(U922,Tabelle!$D$5:$I$7,6,FALSE)))","v":""},null,null,null,null,null,null,null,null,null,null,null,{"$f":"IF(B922=\"\",0,IF(B922=B921,COUNTIF(B$9:B921,B922)+1,1))","v":910},0,0]
["915","-1900","-1900-911",null,null,null,null,null,null,null,null,null,null,null,null,null,null,null,null,null,null,{"$f":"IF(M$2021=1,\"\",IF(U923=\"\",\"\",VLOOKUP(U923,Tabelle!$D$5:$H$7,5,FALSE)))","v":""},{"$f":"IF(M$2021=1,\"\",IF(U923=\"\",\"\",VLOOKUP(U923,Tabelle!$D$5:$I$7,6,FALSE)))","v":""},null,null,null,null,null,null,null,null,null,null,null,{"$f":"IF(B923=\"\",0,IF(B923=B922,COUNTIF(B$9:B922,B923)+1,1))","v":911},0,0]
["916","-1900","-1900-912",null,null,null,null,null,null,null,null,null,null,null,null,null,null,null,null,null,null,{"$f":"IF(M$2021=1,\"\",IF(U924=\"\",\"\",VLOOKUP(U924,Tabelle!$D$5:$H$7,5,FALSE)))","v":""},{"$f":"IF(M$2021=1,\"\",IF(U924=\"\",\"\",VLOOKUP(U924,Tabelle!$D$5:$I$7,6,FALSE)))","v":""},null,null,null,null,null,null,null,null,null,null,null,{"$f":"IF(B924=\"\",0,IF(B924=B923,COUNTIF(B$9:B923,B924)+1,1))","v":912},0,0]
["917","-1900","-1900-913",null,null,null,null,null,null,null,null,null,null,null,null,null,null,null,null,null,null,{"$f":"IF(M$2021=1,\"\",IF(U925=\"\",\"\",VLOOKUP(U925,Tabelle!$D$5:$H$7,5,FALSE)))","v":""},{"$f":"IF(M$2021=1,\"\",IF(U925=\"\",\"\",VLOOKUP(U925,Tabelle!$D$5:$I$7,6,FALSE)))","v":""},null,null,null,null,null,null,null,null,null,null,null,{"$f":"IF(B925=\"\",0,IF(B925=B924,COUNTIF(B$9:B924,B925)+1,1))","v":913},0,0]
["918","-1900","-1900-914",null,null,null,null,null,null,null,null,null,null,null,null,null,null,null,null,null,null,{"$f":"IF(M$2021=1,\"\",IF(U926=\"\",\"\",VLOOKUP(U926,Tabelle!$D$5:$H$7,5,FALSE)))","v":""},{"$f":"IF(M$2021=1,\"\",IF(U926=\"\",\"\",VLOOKUP(U926,Tabelle!$D$5:$I$7,6,FALSE)))","v":""},null,null,null,null,null,null,null,null,null,null,null,{"$f":"IF(B926=\"\",0,IF(B926=B925,COUNTIF(B$9:B925,B926)+1,1))","v":914},0,0]
["919","-1900","-1900-915",null,null,null,null,null,null,null,null,null,null,null,null,null,null,null,null,null,null,{"$f":"IF(M$2021=1,\"\",IF(U927=\"\",\"\",VLOOKUP(U927,Tabelle!$D$5:$H$7,5,FALSE)))","v":""},{"$f":"IF(M$2021=1,\"\",IF(U927=\"\",\"\",VLOOKUP(U927,Tabelle!$D$5:$I$7,6,FALSE)))","v":""},null,null,null,null,null,null,null,null,null,null,null,{"$f":"IF(B927=\"\",0,IF(B927=B926,COUNTIF(B$9:B926,B927)+1,1))","v":915},0,0]
["920","-1900","-1900-916",null,null,null,null,null,null,null,null,null,null,null,null,null,null,null,null,null,null,{"$f":"IF(M$2021=1,\"\",IF(U928=\"\",\"\",VLOOKUP(U928,Tabelle!$D$5:$H$7,5,FALSE)))","v":""},{"$f":"IF(M$2021=1,\"\",IF(U928=\"\",\"\",VLOOKUP(U928,Tabelle!$D$5:$I$7,6,FALSE)))","v":""},null,null,null,null,null,null,null,null,null,null,null,{"$f":"IF(B928=\"\",0,IF(B928=B927,COUNTIF(B$9:B927,B928)+1,1))","v":916},0,0]
["921","-1900","-1900-917",null,null,null,null,null,null,null,null,null,null,null,null,null,null,null,null,null,null,{"$f":"IF(M$2021=1,\"\",IF(U929=\"\",\"\",VLOOKUP(U929,Tabelle!$D$5:$H$7,5,FALSE)))","v":""},{"$f":"IF(M$2021=1,\"\",IF(U929=\"\",\"\",VLOOKUP(U929,Tabelle!$D$5:$I$7,6,FALSE)))","v":""},null,null,null,null,null,null,null,null,null,null,null,{"$f":"IF(B929=\"\",0,IF(B929=B928,COUNTIF(B$9:B928,B929)+1,1))","v":917},0,0]
["922","-1900","-1900-918",null,null,null,null,null,null,null,null,null,null,null,null,null,null,null,null,null,null,{"$f":"IF(M$2021=1,\"\",IF(U930=\"\",\"\",VLOOKUP(U930,Tabelle!$D$5:$H$7,5,FALSE)))","v":""},{"$f":"IF(M$2021=1,\"\",IF(U930=\"\",\"\",VLOOKUP(U930,Tabelle!$D$5:$I$7,6,FALSE)))","v":""},null,null,null,null,null,null,null,null,null,null,null,{"$f":"IF(B930=\"\",0,IF(B930=B929,COUNTIF(B$9:B929,B930)+1,1))","v":918},0,0]
["923","-1900","-1900-919",null,null,null,null,null,null,null,null,null,null,null,null,null,null,null,null,null,null,{"$f":"IF(M$2021=1,\"\",IF(U931=\"\",\"\",VLOOKUP(U931,Tabelle!$D$5:$H$7,5,FALSE)))","v":""},{"$f":"IF(M$2021=1,\"\",IF(U931=\"\",\"\",VLOOKUP(U931,Tabelle!$D$5:$I$7,6,FALSE)))","v":""},null,null,null,null,null,null,null,null,null,null,null,{"$f":"IF(B931=\"\",0,IF(B931=B930,COUNTIF(B$9:B930,B931)+1,1))","v":919},0,0]
["924","-1900","-1900-920",null,null,null,null,null,null,null,null,null,null,null,null,null,null,null,null,null,null,{"$f":"IF(M$2021=1,\"\",IF(U932=\"\",\"\",VLOOKUP(U932,Tabelle!$D$5:$H$7,5,FALSE)))","v":""},{"$f":"IF(M$2021=1,\"\",IF(U932=\"\",\"\",VLOOKUP(U932,Tabelle!$D$5:$I$7,6,FALSE)))","v":""},null,null,null,null,null,null,null,null,null,null,null,{"$f":"IF(B932=\"\",0,IF(B932=B931,COUNTIF(B$9:B931,B932)+1,1))","v":920},0,0]
["925","-1900","-1900-921",null,null,null,null,null,null,null,null,null,null,null,null,null,null,null,null,null,null,{"$f":"IF(M$2021=1,\"\",IF(U933=\"\",\"\",VLOOKUP(U933,Tabelle!$D$5:$H$7,5,FALSE)))","v":""},{"$f":"IF(M$2021=1,\"\",IF(U933=\"\",\"\",VLOOKUP(U933,Tabelle!$D$5:$I$7,6,FALSE)))","v":""},null,null,null,null,null,null,null,null,null,null,null,{"$f":"IF(B933=\"\",0,IF(B933=B932,COUNTIF(B$9:B932,B933)+1,1))","v":921},0,0]
["926","-1900","-1900-922",null,null,null,null,null,null,null,null,null,null,null,null,null,null,null,null,null,null,{"$f":"IF(M$2021=1,\"\",IF(U934=\"\",\"\",VLOOKUP(U934,Tabelle!$D$5:$H$7,5,FALSE)))","v":""},{"$f":"IF(M$2021=1,\"\",IF(U934=\"\",\"\",VLOOKUP(U934,Tabelle!$D$5:$I$7,6,FALSE)))","v":""},null,null,null,null,null,null,null,null,null,null,null,{"$f":"IF(B934=\"\",0,IF(B934=B933,COUNTIF(B$9:B933,B934)+1,1))","v":922},0,0]
["927","-1900","-1900-923",null,null,null,null,null,null,null,null,null,null,null,null,null,null,null,null,null,null,{"$f":"IF(M$2021=1,\"\",IF(U935=\"\",\"\",VLOOKUP(U935,Tabelle!$D$5:$H$7,5,FALSE)))","v":""},{"$f":"IF(M$2021=1,\"\",IF(U935=\"\",\"\",VLOOKUP(U935,Tabelle!$D$5:$I$7,6,FALSE)))","v":""},null,null,null,null,null,null,null,null,null,null,null,{"$f":"IF(B935=\"\",0,IF(B935=B934,COUNTIF(B$9:B934,B935)+1,1))","v":923},0,0]
["928","-1900","-1900-924",null,null,null,null,null,null,null,null,null,null,null,null,null,null,null,null,null,null,{"$f":"IF(M$2021=1,\"\",IF(U936=\"\",\"\",VLOOKUP(U936,Tabelle!$D$5:$H$7,5,FALSE)))","v":""},{"$f":"IF(M$2021=1,\"\",IF(U936=\"\",\"\",VLOOKUP(U936,Tabelle!$D$5:$I$7,6,FALSE)))","v":""},null,null,null,null,null,null,null,null,null,null,null,{"$f":"IF(B936=\"\",0,IF(B936=B935,COUNTIF(B$9:B935,B936)+1,1))","v":924},0,0]
["929","-1900","-1900-925",null,null,null,null,null,null,null,null,null,null,null,null,null,null,null,null,null,null,{"$f":"IF(M$2021=1,\"\",IF(U937=\"\",\"\",VLOOKUP(U937,Tabelle!$D$5:$H$7,5,FALSE)))","v":""},{"$f":"IF(M$2021=1,\"\",IF(U937=\"\",\"\",VLOOKUP(U937,Tabelle!$D$5:$I$7,6,FALSE)))","v":""},null,null,null,null,null,null,null,null,null,null,null,{"$f":"IF(B937=\"\",0,IF(B937=B936,COUNTIF(B$9:B936,B937)+1,1))","v":925},0,0]
["930","-1900","-1900-926",null,null,null,null,null,null,null,null,null,null,null,null,null,null,null,null,null,null,{"$f":"IF(M$2021=1,\"\",IF(U938=\"\",\"\",VLOOKUP(U938,Tabelle!$D$5:$H$7,5,FALSE)))","v":""},{"$f":"IF(M$2021=1,\"\",IF(U938=\"\",\"\",VLOOKUP(U938,Tabelle!$D$5:$I$7,6,FALSE)))","v":""},null,null,null,null,null,null,null,null,null,null,null,{"$f":"IF(B938=\"\",0,IF(B938=B937,COUNTIF(B$9:B937,B938)+1,1))","v":926},0,0]
["931","-1900","-1900-927",null,null,null,null,null,null,null,null,null,null,null,null,null,null,null,null,null,null,{"$f":"IF(M$2021=1,\"\",IF(U939=\"\",\"\",VLOOKUP(U939,Tabelle!$D$5:$H$7,5,FALSE)))","v":""},{"$f":"IF(M$2021=1,\"\",IF(U939=\"\",\"\",VLOOKUP(U939,Tabelle!$D$5:$I$7,6,FALSE)))","v":""},null,null,null,null,null,null,null,null,null,null,null,{"$f":"IF(B939=\"\",0,IF(B939=B938,COUNTIF(B$9:B938,B939)+1,1))","v":927},0,0]
["932","-1900","-1900-928",null,null,null,null,null,null,null,null,null,null,null,null,null,null,null,null,null,null,{"$f":"IF(M$2021=1,\"\",IF(U940=\"\",\"\",VLOOKUP(U940,Tabelle!$D$5:$H$7,5,FALSE)))","v":""},{"$f":"IF(M$2021=1,\"\",IF(U940=\"\",\"\",VLOOKUP(U940,Tabelle!$D$5:$I$7,6,FALSE)))","v":""},null,null,null,null,null,null,null,null,null,null,null,{"$f":"IF(B940=\"\",0,IF(B940=B939,COUNTIF(B$9:B939,B940)+1,1))","v":928},0,0]
["933","-1900","-1900-929",null,null,null,null,null,null,null,null,null,null,null,null,null,null,null,null,null,null,{"$f":"IF(M$2021=1,\"\",IF(U941=\"\",\"\",VLOOKUP(U941,Tabelle!$D$5:$H$7,5,FALSE)))","v":""},{"$f":"IF(M$2021=1,\"\",IF(U941=\"\",\"\",VLOOKUP(U941,Tabelle!$D$5:$I$7,6,FALSE)))","v":""},null,null,null,null,null,null,null,null,null,null,null,{"$f":"IF(B941=\"\",0,IF(B941=B940,COUNTIF(B$9:B940,B941)+1,1))","v":929},0,0]
["934","-1900","-1900-930",null,null,null,null,null,null,null,null,null,null,null,null,null,null,null,null,null,null,{"$f":"IF(M$2021=1,\"\",IF(U942=\"\",\"\",VLOOKUP(U942,Tabelle!$D$5:$H$7,5,FALSE)))","v":""},{"$f":"IF(M$2021=1,\"\",IF(U942=\"\",\"\",VLOOKUP(U942,Tabelle!$D$5:$I$7,6,FALSE)))","v":""},null,null,null,null,null,null,null,null,null,null,null,{"$f":"IF(B942=\"\",0,IF(B942=B941,COUNTIF(B$9:B941,B942)+1,1))","v":930},0,0]
["935","-1900","-1900-931",null,null,null,null,null,null,null,null,null,null,null,null,null,null,null,null,null,null,{"$f":"IF(M$2021=1,\"\",IF(U943=\"\",\"\",VLOOKUP(U943,Tabelle!$D$5:$H$7,5,FALSE)))","v":""},{"$f":"IF(M$2021=1,\"\",IF(U943=\"\",\"\",VLOOKUP(U943,Tabelle!$D$5:$I$7,6,FALSE)))","v":""},null,null,null,null,null,null,null,null,null,null,null,{"$f":"IF(B943=\"\",0,IF(B943=B942,COUNTIF(B$9:B942,B943)+1,1))","v":931},0,0]
["936","-1900","-1900-932",null,null,null,null,null,null,null,null,null,null,null,null,null,null,null,null,null,null,{"$f":"IF(M$2021=1,\"\",IF(U944=\"\",\"\",VLOOKUP(U944,Tabelle!$D$5:$H$7,5,FALSE)))","v":""},{"$f":"IF(M$2021=1,\"\",IF(U944=\"\",\"\",VLOOKUP(U944,Tabelle!$D$5:$I$7,6,FALSE)))","v":""},null,null,null,null,null,null,null,null,null,null,null,{"$f":"IF(B944=\"\",0,IF(B944=B943,COUNTIF(B$9:B943,B944)+1,1))","v":932},0,0]
["937","-1900","-1900-933",null,null,null,null,null,null,null,null,null,null,null,null,null,null,null,null,null,null,{"$f":"IF(M$2021=1,\"\",IF(U945=\"\",\"\",VLOOKUP(U945,Tabelle!$D$5:$H$7,5,FALSE)))","v":""},{"$f":"IF(M$2021=1,\"\",IF(U945=\"\",\"\",VLOOKUP(U945,Tabelle!$D$5:$I$7,6,FALSE)))","v":""},null,null,null,null,null,null,null,null,null,null,null,{"$f":"IF(B945=\"\",0,IF(B945=B944,COUNTIF(B$9:B944,B945)+1,1))","v":933},0,0]
["938","-1900","-1900-934",null,null,null,null,null,null,null,null,null,null,null,null,null,null,null,null,null,null,{"$f":"IF(M$2021=1,\"\",IF(U946=\"\",\"\",VLOOKUP(U946,Tabelle!$D$5:$H$7,5,FALSE)))","v":""},{"$f":"IF(M$2021=1,\"\",IF(U946=\"\",\"\",VLOOKUP(U946,Tabelle!$D$5:$I$7,6,FALSE)))","v":""},null,null,null,null,null,null,null,null,null,null,null,{"$f":"IF(B946=\"\",0,IF(B946=B945,COUNTIF(B$9:B945,B946)+1,1))","v":934},0,0]
["939","-1900","-1900-935",null,null,null,null,null,null,null,null,null,null,null,null,null,null,null,null,null,null,{"$f":"IF(M$2021=1,\"\",IF(U947=\"\",\"\",VLOOKUP(U947,Tabelle!$D$5:$H$7,5,FALSE)))","v":""},{"$f":"IF(M$2021=1,\"\",IF(U947=\"\",\"\",VLOOKUP(U947,Tabelle!$D$5:$I$7,6,FALSE)))","v":""},null,null,null,null,null,null,null,null,null,null,null,{"$f":"IF(B947=\"\",0,IF(B947=B946,COUNTIF(B$9:B946,B947)+1,1))","v":935},0,0]
["940","-1900","-1900-936",null,null,null,null,null,null,null,null,null,null,null,null,null,null,null,null,null,null,{"$f":"IF(M$2021=1,\"\",IF(U948=\"\",\"\",VLOOKUP(U948,Tabelle!$D$5:$H$7,5,FALSE)))","v":""},{"$f":"IF(M$2021=1,\"\",IF(U948=\"\",\"\",VLOOKUP(U948,Tabelle!$D$5:$I$7,6,FALSE)))","v":""},null,null,null,null,null,null,null,null,null,null,null,{"$f":"IF(B948=\"\",0,IF(B948=B947,COUNTIF(B$9:B947,B948)+1,1))","v":936},0,0]
["941","-1900","-1900-937",null,null,null,null,null,null,null,null,null,null,null,null,null,null,null,null,null,null,{"$f":"IF(M$2021=1,\"\",IF(U949=\"\",\"\",VLOOKUP(U949,Tabelle!$D$5:$H$7,5,FALSE)))","v":""},{"$f":"IF(M$2021=1,\"\",IF(U949=\"\",\"\",VLOOKUP(U949,Tabelle!$D$5:$I$7,6,FALSE)))","v":""},null,null,null,null,null,null,null,null,null,null,null,{"$f":"IF(B949=\"\",0,IF(B949=B948,COUNTIF(B$9:B948,B949)+1,1))","v":937},0,0]
["942","-1900","-1900-938",null,null,null,null,null,null,null,null,null,null,null,null,null,null,null,null,null,null,{"$f":"IF(M$2021=1,\"\",IF(U950=\"\",\"\",VLOOKUP(U950,Tabelle!$D$5:$H$7,5,FALSE)))","v":""},{"$f":"IF(M$2021=1,\"\",IF(U950=\"\",\"\",VLOOKUP(U950,Tabelle!$D$5:$I$7,6,FALSE)))","v":""},null,null,null,null,null,null,null,null,null,null,null,{"$f":"IF(B950=\"\",0,IF(B950=B949,COUNTIF(B$9:B949,B950)+1,1))","v":938},0,0]
["943","-1900","-1900-939",null,null,null,null,null,null,null,null,null,null,null,null,null,null,null,null,null,null,{"$f":"IF(M$2021=1,\"\",IF(U951=\"\",\"\",VLOOKUP(U951,Tabelle!$D$5:$H$7,5,FALSE)))","v":""},{"$f":"IF(M$2021=1,\"\",IF(U951=\"\",\"\",VLOOKUP(U951,Tabelle!$D$5:$I$7,6,FALSE)))","v":""},null,null,null,null,null,null,null,null,null,null,null,{"$f":"IF(B951=\"\",0,IF(B951=B950,COUNTIF(B$9:B950,B951)+1,1))","v":939},0,0]
["944","-1900","-1900-940",null,null,null,null,null,null,null,null,null,null,null,null,null,null,null,null,null,null,{"$f":"IF(M$2021=1,\"\",IF(U952=\"\",\"\",VLOOKUP(U952,Tabelle!$D$5:$H$7,5,FALSE)))","v":""},{"$f":"IF(M$2021=1,\"\",IF(U952=\"\",\"\",VLOOKUP(U952,Tabelle!$D$5:$I$7,6,FALSE)))","v":""},null,null,null,null,null,null,null,null,null,null,null,{"$f":"IF(B952=\"\",0,IF(B952=B951,COUNTIF(B$9:B951,B952)+1,1))","v":940},0,0]
["945","-1900","-1900-941",null,null,null,null,null,null,null,null,null,null,null,null,null,null,null,null,null,null,{"$f":"IF(M$2021=1,\"\",IF(U953=\"\",\"\",VLOOKUP(U953,Tabelle!$D$5:$H$7,5,FALSE)))","v":""},{"$f":"IF(M$2021=1,\"\",IF(U953=\"\",\"\",VLOOKUP(U953,Tabelle!$D$5:$I$7,6,FALSE)))","v":""},null,null,null,null,null,null,null,null,null,null,null,{"$f":"IF(B953=\"\",0,IF(B953=B952,COUNTIF(B$9:B952,B953)+1,1))","v":941},0,0]
["946","-1900","-1900-942",null,null,null,null,null,null,null,null,null,null,null,null,null,null,null,null,null,null,{"$f":"IF(M$2021=1,\"\",IF(U954=\"\",\"\",VLOOKUP(U954,Tabelle!$D$5:$H$7,5,FALSE)))","v":""},{"$f":"IF(M$2021=1,\"\",IF(U954=\"\",\"\",VLOOKUP(U954,Tabelle!$D$5:$I$7,6,FALSE)))","v":""},null,null,null,null,null,null,null,null,null,null,null,{"$f":"IF(B954=\"\",0,IF(B954=B953,COUNTIF(B$9:B953,B954)+1,1))","v":942},0,0]
["947","-1900","-1900-943",null,null,null,null,null,null,null,null,null,null,null,null,null,null,null,null,null,null,{"$f":"IF(M$2021=1,\"\",IF(U955=\"\",\"\",VLOOKUP(U955,Tabelle!$D$5:$H$7,5,FALSE)))","v":""},{"$f":"IF(M$2021=1,\"\",IF(U955=\"\",\"\",VLOOKUP(U955,Tabelle!$D$5:$I$7,6,FALSE)))","v":""},null,null,null,null,null,null,null,null,null,null,null,{"$f":"IF(B955=\"\",0,IF(B955=B954,COUNTIF(B$9:B954,B955)+1,1))","v":943},0,0]
["948","-1900","-1900-944",null,null,null,null,null,null,null,null,null,null,null,null,null,null,null,null,null,null,{"$f":"IF(M$2021=1,\"\",IF(U956=\"\",\"\",VLOOKUP(U956,Tabelle!$D$5:$H$7,5,FALSE)))","v":""},{"$f":"IF(M$2021=1,\"\",IF(U956=\"\",\"\",VLOOKUP(U956,Tabelle!$D$5:$I$7,6,FALSE)))","v":""},null,null,null,null,null,null,null,null,null,null,null,{"$f":"IF(B956=\"\",0,IF(B956=B955,COUNTIF(B$9:B955,B956)+1,1))","v":944},0,0]
["949","-1900","-1900-945",null,null,null,null,null,null,null,null,null,null,null,null,null,null,null,null,null,null,{"$f":"IF(M$2021=1,\"\",IF(U957=\"\",\"\",VLOOKUP(U957,Tabelle!$D$5:$H$7,5,FALSE)))","v":""},{"$f":"IF(M$2021=1,\"\",IF(U957=\"\",\"\",VLOOKUP(U957,Tabelle!$D$5:$I$7,6,FALSE)))","v":""},null,null,null,null,null,null,null,null,null,null,null,{"$f":"IF(B957=\"\",0,IF(B957=B956,COUNTIF(B$9:B956,B957)+1,1))","v":945},0,0]
["950","-1900","-1900-946",null,null,null,null,null,null,null,null,null,null,null,null,null,null,null,null,null,null,{"$f":"IF(M$2021=1,\"\",IF(U958=\"\",\"\",VLOOKUP(U958,Tabelle!$D$5:$H$7,5,FALSE)))","v":""},{"$f":"IF(M$2021=1,\"\",IF(U958=\"\",\"\",VLOOKUP(U958,Tabelle!$D$5:$I$7,6,FALSE)))","v":""},null,null,null,null,null,null,null,null,null,null,null,{"$f":"IF(B958=\"\",0,IF(B958=B957,COUNTIF(B$9:B957,B958)+1,1))","v":946},0,0]
["951","-1900","-1900-947",null,null,null,null,null,null,null,null,null,null,null,null,null,null,null,null,null,null,{"$f":"IF(M$2021=1,\"\",IF(U959=\"\",\"\",VLOOKUP(U959,Tabelle!$D$5:$H$7,5,FALSE)))","v":""},{"$f":"IF(M$2021=1,\"\",IF(U959=\"\",\"\",VLOOKUP(U959,Tabelle!$D$5:$I$7,6,FALSE)))","v":""},null,null,null,null,null,null,null,null,null,null,null,{"$f":"IF(B959=\"\",0,IF(B959=B958,COUNTIF(B$9:B958,B959)+1,1))","v":947},0,0]
["952","-1900","-1900-948",null,null,null,null,null,null,null,null,null,null,null,null,null,null,null,null,null,null,{"$f":"IF(M$2021=1,\"\",IF(U960=\"\",\"\",VLOOKUP(U960,Tabelle!$D$5:$H$7,5,FALSE)))","v":""},{"$f":"IF(M$2021=1,\"\",IF(U960=\"\",\"\",VLOOKUP(U960,Tabelle!$D$5:$I$7,6,FALSE)))","v":""},null,null,null,null,null,null,null,null,null,null,null,{"$f":"IF(B960=\"\",0,IF(B960=B959,COUNTIF(B$9:B959,B960)+1,1))","v":948},0,0]
["953","-1900","-1900-949",null,null,null,null,null,null,null,null,null,null,null,null,null,null,null,null,null,null,{"$f":"IF(M$2021=1,\"\",IF(U961=\"\",\"\",VLOOKUP(U961,Tabelle!$D$5:$H$7,5,FALSE)))","v":""},{"$f":"IF(M$2021=1,\"\",IF(U961=\"\",\"\",VLOOKUP(U961,Tabelle!$D$5:$I$7,6,FALSE)))","v":""},null,null,null,null,null,null,null,null,null,null,null,{"$f":"IF(B961=\"\",0,IF(B961=B960,COUNTIF(B$9:B960,B961)+1,1))","v":949},0,0]
["954","-1900","-1900-950",null,null,null,null,null,null,null,null,null,null,null,null,null,null,null,null,null,null,{"$f":"IF(M$2021=1,\"\",IF(U962=\"\",\"\",VLOOKUP(U962,Tabelle!$D$5:$H$7,5,FALSE)))","v":""},{"$f":"IF(M$2021=1,\"\",IF(U962=\"\",\"\",VLOOKUP(U962,Tabelle!$D$5:$I$7,6,FALSE)))","v":""},null,null,null,null,null,null,null,null,null,null,null,{"$f":"IF(B962=\"\",0,IF(B962=B961,COUNTIF(B$9:B961,B962)+1,1))","v":950},0,0]
["955","-1900","-1900-951",null,null,null,null,null,null,null,null,null,null,null,null,null,null,null,null,null,null,{"$f":"IF(M$2021=1,\"\",IF(U963=\"\",\"\",VLOOKUP(U963,Tabelle!$D$5:$H$7,5,FALSE)))","v":""},{"$f":"IF(M$2021=1,\"\",IF(U963=\"\",\"\",VLOOKUP(U963,Tabelle!$D$5:$I$7,6,FALSE)))","v":""},null,null,null,null,null,null,null,null,null,null,null,{"$f":"IF(B963=\"\",0,IF(B963=B962,COUNTIF(B$9:B962,B963)+1,1))","v":951},0,0]
["956","-1900","-1900-952",null,null,null,null,null,null,null,null,null,null,null,null,null,null,null,null,null,null,{"$f":"IF(M$2021=1,\"\",IF(U964=\"\",\"\",VLOOKUP(U964,Tabelle!$D$5:$H$7,5,FALSE)))","v":""},{"$f":"IF(M$2021=1,\"\",IF(U964=\"\",\"\",VLOOKUP(U964,Tabelle!$D$5:$I$7,6,FALSE)))","v":""},null,null,null,null,null,null,null,null,null,null,null,{"$f":"IF(B964=\"\",0,IF(B964=B963,COUNTIF(B$9:B963,B964)+1,1))","v":952},0,0]
["957","-1900","-1900-953",null,null,null,null,null,null,null,null,null,null,null,null,null,null,null,null,null,null,{"$f":"IF(M$2021=1,\"\",IF(U965=\"\",\"\",VLOOKUP(U965,Tabelle!$D$5:$H$7,5,FALSE)))","v":""},{"$f":"IF(M$2021=1,\"\",IF(U965=\"\",\"\",VLOOKUP(U965,Tabelle!$D$5:$I$7,6,FALSE)))","v":""},null,null,null,null,null,null,null,null,null,null,null,{"$f":"IF(B965=\"\",0,IF(B965=B964,COUNTIF(B$9:B964,B965)+1,1))","v":953},0,0]
["958","-1900","-1900-954",null,null,null,null,null,null,null,null,null,null,null,null,null,null,null,null,null,null,{"$f":"IF(M$2021=1,\"\",IF(U966=\"\",\"\",VLOOKUP(U966,Tabelle!$D$5:$H$7,5,FALSE)))","v":""},{"$f":"IF(M$2021=1,\"\",IF(U966=\"\",\"\",VLOOKUP(U966,Tabelle!$D$5:$I$7,6,FALSE)))","v":""},null,null,null,null,null,null,null,null,null,null,null,{"$f":"IF(B966=\"\",0,IF(B966=B965,COUNTIF(B$9:B965,B966)+1,1))","v":954},0,0]
["959","-1900","-1900-955",null,null,null,null,null,null,null,null,null,null,null,null,null,null,null,null,null,null,{"$f":"IF(M$2021=1,\"\",IF(U967=\"\",\"\",VLOOKUP(U967,Tabelle!$D$5:$H$7,5,FALSE)))","v":""},{"$f":"IF(M$2021=1,\"\",IF(U967=\"\",\"\",VLOOKUP(U967,Tabelle!$D$5:$I$7,6,FALSE)))","v":""},null,null,null,null,null,null,null,null,null,null,null,{"$f":"IF(B967=\"\",0,IF(B967=B966,COUNTIF(B$9:B966,B967)+1,1))","v":955},0,0]
["960","-1900","-1900-956",null,null,null,null,null,null,null,null,null,null,null,null,null,null,null,null,null,null,{"$f":"IF(M$2021=1,\"\",IF(U968=\"\",\"\",VLOOKUP(U968,Tabelle!$D$5:$H$7,5,FALSE)))","v":""},{"$f":"IF(M$2021=1,\"\",IF(U968=\"\",\"\",VLOOKUP(U968,Tabelle!$D$5:$I$7,6,FALSE)))","v":""},null,null,null,null,null,null,null,null,null,null,null,{"$f":"IF(B968=\"\",0,IF(B968=B967,COUNTIF(B$9:B967,B968)+1,1))","v":956},0,0]
["961","-1900",{"$f":"IF(M$2021=1,0,B969&\"-\"&AI969)","v":"-1900-957"},null,null,null,null,null,null,null,null,null,null,null,null,null,null,null,null,null,null,{"$f":"IF(M$2021=1,\"\",IF(U969=\"\",\"\",VLOOKUP(U969,Tabelle!$D$5:$H$7,5,FALSE)))","v":""},{"$f":"IF(M$2021=1,\"\",IF(U969=\"\",\"\",VLOOKUP(U969,Tabelle!$D$5:$I$7,6,FALSE)))","v":""},null,null,null,null,null,null,null,null,null,null,null,{"$f":"IF(B969=\"\",0,IF(B969=B968,COUNTIF(B$9:B968,B969)+1,1))","v":957},0,0]
["962",{"$f":"IF(AK970=$AK$2015,0,IF(M$2021=1,0,D970&\"-\"&YEAR(E970)))","v":"-1900"},"-1900-958",null,null,null,null,null,null,null,null,null,null,null,null,null,null,null,null,null,null,{"$f":"IF(M$2021=1,\"\",IF(U970=\"\",\"\",VLOOKUP(U970,Tabelle!$D$5:$H$7,5,FALSE)))","v":""},{"$f":"IF(M$2021=1,\"\",IF(U970=\"\",\"\",VLOOKUP(U970,Tabelle!$D$5:$I$7,6,FALSE)))","v":""},null,null,null,null,null,null,null,null,null,null,null,{"$f":"IF(B970=\"\",0,IF(B970=B969,COUNTIF(B$9:B969,B970)+1,1))","v":958},{"$f":"IF(OR(D970=\"\",M$2021=1),0,IF(AI970=10,1,0))","v":0},{"$f":"IF(E970>0,IF(OR(MONTH(E970)<$J$2027,MONTH(E970)>$J$2028),AK$2015,0),0)","v":0}]
["963","-1900","-1900-959",null,null,null,null,null,null,null,null,null,null,null,null,null,null,null,null,null,null,{"$f":"IF(M$2021=1,\"\",IF(U971=\"\",\"\",VLOOKUP(U971,Tabelle!$D$5:$H$7,5,FALSE)))","v":""},{"$f":"IF(M$2021=1,\"\",IF(U971=\"\",\"\",VLOOKUP(U971,Tabelle!$D$5:$I$7,6,FALSE)))","v":""},null,null,null,null,null,null,null,null,null,null,null,{"$f":"IF(B971=\"\",0,IF(B971=B970,COUNTIF(B$9:B970,B971)+1,1))","v":959},0,0]
["964","-1900","-1900-960",null,null,null,null,null,null,null,null,null,null,null,null,null,null,null,null,null,null,{"$f":"IF(M$2021=1,\"\",IF(U972=\"\",\"\",VLOOKUP(U972,Tabelle!$D$5:$H$7,5,FALSE)))","v":""},{"$f":"IF(M$2021=1,\"\",IF(U972=\"\",\"\",VLOOKUP(U972,Tabelle!$D$5:$I$7,6,FALSE)))","v":""},null,null,null,null,null,null,null,null,null,null,null,{"$f":"IF(B972=\"\",0,IF(B972=B971,COUNTIF(B$9:B971,B972)+1,1))","v":960},0,0]
["965","-1900","-1900-961",null,null,null,null,null,null,null,null,null,null,null,null,null,null,null,null,null,null,{"$f":"IF(M$2021=1,\"\",IF(U973=\"\",\"\",VLOOKUP(U973,Tabelle!$D$5:$H$7,5,FALSE)))","v":""},{"$f":"IF(M$2021=1,\"\",IF(U973=\"\",\"\",VLOOKUP(U973,Tabelle!$D$5:$I$7,6,FALSE)))","v":""},null,null,null,null,null,null,null,null,null,null,null,{"$f":"IF(B973=\"\",0,IF(B973=B972,COUNTIF(B$9:B972,B973)+1,1))","v":961},0,0]
["966","-1900","-1900-962",null,null,null,null,null,null,null,null,null,null,null,null,null,null,null,null,null,null,{"$f":"IF(M$2021=1,\"\",IF(U974=\"\",\"\",VLOOKUP(U974,Tabelle!$D$5:$H$7,5,FALSE)))","v":""},{"$f":"IF(M$2021=1,\"\",IF(U974=\"\",\"\",VLOOKUP(U974,Tabelle!$D$5:$I$7,6,FALSE)))","v":""},null,null,null,null,null,null,null,null,null,null,null,{"$f":"IF(B974=\"\",0,IF(B974=B973,COUNTIF(B$9:B973,B974)+1,1))","v":962},0,0]
["967","-1900","-1900-963",null,null,null,null,null,null,null,null,null,null,null,null,null,null,null,null,null,null,{"$f":"IF(M$2021=1,\"\",IF(U975=\"\",\"\",VLOOKUP(U975,Tabelle!$D$5:$H$7,5,FALSE)))","v":""},{"$f":"IF(M$2021=1,\"\",IF(U975=\"\",\"\",VLOOKUP(U975,Tabelle!$D$5:$I$7,6,FALSE)))","v":""},null,null,null,null,null,null,null,null,null,null,null,{"$f":"IF(B975=\"\",0,IF(B975=B974,COUNTIF(B$9:B974,B975)+1,1))","v":963},0,0]
["968","-1900","-1900-964",null,null,null,null,null,null,null,null,null,null,null,null,null,null,null,null,null,null,{"$f":"IF(M$2021=1,\"\",IF(U976=\"\",\"\",VLOOKUP(U976,Tabelle!$D$5:$H$7,5,FALSE)))","v":""},{"$f":"IF(M$2021=1,\"\",IF(U976=\"\",\"\",VLOOKUP(U976,Tabelle!$D$5:$I$7,6,FALSE)))","v":""},null,null,null,null,null,null,null,null,null,null,null,{"$f":"IF(B976=\"\",0,IF(B976=B975,COUNTIF(B$9:B975,B976)+1,1))","v":964},0,0]
["969","-1900","-1900-965",null,null,null,null,null,null,null,null,null,null,null,null,null,null,null,null,null,null,{"$f":"IF(M$2021=1,\"\",IF(U977=\"\",\"\",VLOOKUP(U977,Tabelle!$D$5:$H$7,5,FALSE)))","v":""},{"$f":"IF(M$2021=1,\"\",IF(U977=\"\",\"\",VLOOKUP(U977,Tabelle!$D$5:$I$7,6,FALSE)))","v":""},null,null,null,null,null,null,null,null,null,null,null,{"$f":"IF(B977=\"\",0,IF(B977=B976,COUNTIF(B$9:B976,B977)+1,1))","v":965},0,0]
["970","-1900","-1900-966",null,null,null,null,null,null,null,null,null,null,null,null,null,null,null,null,null,null,{"$f":"IF(M$2021=1,\"\",IF(U978=\"\",\"\",VLOOKUP(U978,Tabelle!$D$5:$H$7,5,FALSE)))","v":""},{"$f":"IF(M$2021=1,\"\",IF(U978=\"\",\"\",VLOOKUP(U978,Tabelle!$D$5:$I$7,6,FALSE)))","v":""},null,null,null,null,null,null,null,null,null,null,null,{"$f":"IF(B978=\"\",0,IF(B978=B977,COUNTIF(B$9:B977,B978)+1,1))","v":966},0,0]
["971","-1900","-1900-967",null,null,null,null,null,null,null,null,null,null,null,null,null,null,null,null,null,null,{"$f":"IF(M$2021=1,\"\",IF(U979=\"\",\"\",VLOOKUP(U979,Tabelle!$D$5:$H$7,5,FALSE)))","v":""},{"$f":"IF(M$2021=1,\"\",IF(U979=\"\",\"\",VLOOKUP(U979,Tabelle!$D$5:$I$7,6,FALSE)))","v":""},null,null,null,null,null,null,null,null,null,null,null,{"$f":"IF(B979=\"\",0,IF(B979=B978,COUNTIF(B$9:B978,B979)+1,1))","v":967},0,0]
["972","-1900","-1900-968",null,null,null,null,null,null,null,null,null,null,null,null,null,null,null,null,null,null,{"$f":"IF(M$2021=1,\"\",IF(U980=\"\",\"\",VLOOKUP(U980,Tabelle!$D$5:$H$7,5,FALSE)))","v":""},{"$f":"IF(M$2021=1,\"\",IF(U980=\"\",\"\",VLOOKUP(U980,Tabelle!$D$5:$I$7,6,FALSE)))","v":""},null,null,null,null,null,null,null,null,null,null,null,{"$f":"IF(B980=\"\",0,IF(B980=B979,COUNTIF(B$9:B979,B980)+1,1))","v":968},0,0]
["973","-1900","-1900-969",null,null,null,null,null,null,null,null,null,null,null,null,null,null,null,null,null,null,{"$f":"IF(M$2021=1,\"\",IF(U981=\"\",\"\",VLOOKUP(U981,Tabelle!$D$5:$H$7,5,FALSE)))","v":""},{"$f":"IF(M$2021=1,\"\",IF(U981=\"\",\"\",VLOOKUP(U981,Tabelle!$D$5:$I$7,6,FALSE)))","v":""},null,null,null,null,null,null,null,null,null,null,null,{"$f":"IF(B981=\"\",0,IF(B981=B980,COUNTIF(B$9:B980,B981)+1,1))","v":969},0,0]
["974","-1900","-1900-970",null,null,null,null,null,null,null,null,null,null,null,null,null,null,null,null,null,null,{"$f":"IF(M$2021=1,\"\",IF(U982=\"\",\"\",VLOOKUP(U982,Tabelle!$D$5:$H$7,5,FALSE)))","v":""},{"$f":"IF(M$2021=1,\"\",IF(U982=\"\",\"\",VLOOKUP(U982,Tabelle!$D$5:$I$7,6,FALSE)))","v":""},null,null,null,null,null,null,null,null,null,null,null,{"$f":"IF(B982=\"\",0,IF(B982=B981,COUNTIF(B$9:B981,B982)+1,1))","v":970},0,0]
["975","-1900","-1900-971",null,null,null,null,null,null,null,null,null,null,null,null,null,null,null,null,null,null,{"$f":"IF(M$2021=1,\"\",IF(U983=\"\",\"\",VLOOKUP(U983,Tabelle!$D$5:$H$7,5,FALSE)))","v":""},{"$f":"IF(M$2021=1,\"\",IF(U983=\"\",\"\",VLOOKUP(U983,Tabelle!$D$5:$I$7,6,FALSE)))","v":""},null,null,null,null,null,null,null,null,null,null,null,{"$f":"IF(B983=\"\",0,IF(B983=B982,COUNTIF(B$9:B982,B983)+1,1))","v":971},0,0]
["976","-1900","-1900-972",null,null,null,null,null,null,null,null,null,null,null,null,null,null,null,null,null,null,{"$f":"IF(M$2021=1,\"\",IF(U984=\"\",\"\",VLOOKUP(U984,Tabelle!$D$5:$H$7,5,FALSE)))","v":""},{"$f":"IF(M$2021=1,\"\",IF(U984=\"\",\"\",VLOOKUP(U984,Tabelle!$D$5:$I$7,6,FALSE)))","v":""},null,null,null,null,null,null,null,null,null,null,null,{"$f":"IF(B984=\"\",0,IF(B984=B983,COUNTIF(B$9:B983,B984)+1,1))","v":972},0,0]
["977","-1900","-1900-973",null,null,null,null,null,null,null,null,null,null,null,null,null,null,null,null,null,null,{"$f":"IF(M$2021=1,\"\",IF(U985=\"\",\"\",VLOOKUP(U985,Tabelle!$D$5:$H$7,5,FALSE)))","v":""},{"$f":"IF(M$2021=1,\"\",IF(U985=\"\",\"\",VLOOKUP(U985,Tabelle!$D$5:$I$7,6,FALSE)))","v":""},null,null,null,null,null,null,null,null,null,null,null,{"$f":"IF(B985=\"\",0,IF(B985=B984,COUNTIF(B$9:B984,B985)+1,1))","v":973},0,0]
["978","-1900","-1900-974",null,null,null,null,null,null,null,null,null,null,null,null,null,null,null,null,null,null,{"$f":"IF(M$2021=1,\"\",IF(U986=\"\",\"\",VLOOKUP(U986,Tabelle!$D$5:$H$7,5,FALSE)))","v":""},{"$f":"IF(M$2021=1,\"\",IF(U986=\"\",\"\",VLOOKUP(U986,Tabelle!$D$5:$I$7,6,FALSE)))","v":""},null,null,null,null,null,null,null,null,null,null,null,{"$f":"IF(B986=\"\",0,IF(B986=B985,COUNTIF(B$9:B985,B986)+1,1))","v":974},0,0]
["979","-1900","-1900-975",null,null,null,null,null,null,null,null,null,null,null,null,null,null,null,null,null,null,{"$f":"IF(M$2021=1,\"\",IF(U987=\"\",\"\",VLOOKUP(U987,Tabelle!$D$5:$H$7,5,FALSE)))","v":""},{"$f":"IF(M$2021=1,\"\",IF(U987=\"\",\"\",VLOOKUP(U987,Tabelle!$D$5:$I$7,6,FALSE)))","v":""},null,null,null,null,null,null,null,null,null,null,null,{"$f":"IF(B987=\"\",0,IF(B987=B986,COUNTIF(B$9:B986,B987)+1,1))","v":975},0,0]
["980","-1900","-1900-976",null,null,null,null,null,null,null,null,null,null,null,null,null,null,null,null,null,null,{"$f":"IF(M$2021=1,\"\",IF(U988=\"\",\"\",VLOOKUP(U988,Tabelle!$D$5:$H$7,5,FALSE)))","v":""},{"$f":"IF(M$2021=1,\"\",IF(U988=\"\",\"\",VLOOKUP(U988,Tabelle!$D$5:$I$7,6,FALSE)))","v":""},null,null,null,null,null,null,null,null,null,null,null,{"$f":"IF(B988=\"\",0,IF(B988=B987,COUNTIF(B$9:B987,B988)+1,1))","v":976},0,0]
["981","-1900","-1900-977",null,null,null,null,null,null,null,null,null,null,null,null,null,null,null,null,null,null,{"$f":"IF(M$2021=1,\"\",IF(U989=\"\",\"\",VLOOKUP(U989,Tabelle!$D$5:$H$7,5,FALSE)))","v":""},{"$f":"IF(M$2021=1,\"\",IF(U989=\"\",\"\",VLOOKUP(U989,Tabelle!$D$5:$I$7,6,FALSE)))","v":""},null,null,null,null,null,null,null,null,null,null,null,{"$f":"IF(B989=\"\",0,IF(B989=B988,COUNTIF(B$9:B988,B989)+1,1))","v":977},0,0]
["982","-1900","-1900-978",null,null,null,null,null,null,null,null,null,null,null,null,null,null,null,null,null,null,{"$f":"IF(M$2021=1,\"\",IF(U990=\"\",\"\",VLOOKUP(U990,Tabelle!$D$5:$H$7,5,FALSE)))","v":""},{"$f":"IF(M$2021=1,\"\",IF(U990=\"\",\"\",VLOOKUP(U990,Tabelle!$D$5:$I$7,6,FALSE)))","v":""},null,null,null,null,null,null,null,null,null,null,null,{"$f":"IF(B990=\"\",0,IF(B990=B989,COUNTIF(B$9:B989,B990)+1,1))","v":978},0,0]
["983","-1900","-1900-979",null,null,null,null,null,null,null,null,null,null,null,null,null,null,null,null,null,null,{"$f":"IF(M$2021=1,\"\",IF(U991=\"\",\"\",VLOOKUP(U991,Tabelle!$D$5:$H$7,5,FALSE)))","v":""},{"$f":"IF(M$2021=1,\"\",IF(U991=\"\",\"\",VLOOKUP(U991,Tabelle!$D$5:$I$7,6,FALSE)))","v":""},null,null,null,null,null,null,null,null,null,null,null,{"$f":"IF(B991=\"\",0,IF(B991=B990,COUNTIF(B$9:B990,B991)+1,1))","v":979},0,0]
["984","-1900","-1900-980",null,null,null,null,null,null,null,null,null,null,null,null,null,null,null,null,null,null,{"$f":"IF(M$2021=1,\"\",IF(U992=\"\",\"\",VLOOKUP(U992,Tabelle!$D$5:$H$7,5,FALSE)))","v":""},{"$f":"IF(M$2021=1,\"\",IF(U992=\"\",\"\",VLOOKUP(U992,Tabelle!$D$5:$I$7,6,FALSE)))","v":""},null,null,null,null,null,null,null,null,null,null,null,{"$f":"IF(B992=\"\",0,IF(B992=B991,COUNTIF(B$9:B991,B992)+1,1))","v":980},0,0]
["985","-1900","-1900-981",null,null,null,null,null,null,null,null,null,null,null,null,null,null,null,null,null,null,{"$f":"IF(M$2021=1,\"\",IF(U993=\"\",\"\",VLOOKUP(U993,Tabelle!$D$5:$H$7,5,FALSE)))","v":""},{"$f":"IF(M$2021=1,\"\",IF(U993=\"\",\"\",VLOOKUP(U993,Tabelle!$D$5:$I$7,6,FALSE)))","v":""},null,null,null,null,null,null,null,null,null,null,null,{"$f":"IF(B993=\"\",0,IF(B993=B992,COUNTIF(B$9:B992,B993)+1,1))","v":981},0,0]
["986","-1900","-1900-982",null,null,null,null,null,null,null,null,null,null,null,null,null,null,null,null,null,null,{"$f":"IF(M$2021=1,\"\",IF(U994=\"\",\"\",VLOOKUP(U994,Tabelle!$D$5:$H$7,5,FALSE)))","v":""},{"$f":"IF(M$2021=1,\"\",IF(U994=\"\",\"\",VLOOKUP(U994,Tabelle!$D$5:$I$7,6,FALSE)))","v":""},null,null,null,null,null,null,null,null,null,null,null,{"$f":"IF(B994=\"\",0,IF(B994=B993,COUNTIF(B$9:B993,B994)+1,1))","v":982},0,0]
["987","-1900","-1900-983",null,null,null,null,null,null,null,null,null,null,null,null,null,null,null,null,null,null,{"$f":"IF(M$2021=1,\"\",IF(U995=\"\",\"\",VLOOKUP(U995,Tabelle!$D$5:$H$7,5,FALSE)))","v":""},{"$f":"IF(M$2021=1,\"\",IF(U995=\"\",\"\",VLOOKUP(U995,Tabelle!$D$5:$I$7,6,FALSE)))","v":""},null,null,null,null,null,null,null,null,null,null,null,{"$f":"IF(B995=\"\",0,IF(B995=B994,COUNTIF(B$9:B994,B995)+1,1))","v":983},0,0]
["988","-1900","-1900-984",null,null,null,null,null,null,null,null,null,null,null,null,null,null,null,null,null,null,{"$f":"IF(M$2021=1,\"\",IF(U996=\"\",\"\",VLOOKUP(U996,Tabelle!$D$5:$H$7,5,FALSE)))","v":""},{"$f":"IF(M$2021=1,\"\",IF(U996=\"\",\"\",VLOOKUP(U996,Tabelle!$D$5:$I$7,6,FALSE)))","v":""},null,null,null,null,null,null,null,null,null,null,null,{"$f":"IF(B996=\"\",0,IF(B996=B995,COUNTIF(B$9:B995,B996)+1,1))","v":984},0,0]
["989","-1900","-1900-985",null,null,null,null,null,null,null,null,null,null,null,null,null,null,null,null,null,null,{"$f":"IF(M$2021=1,\"\",IF(U997=\"\",\"\",VLOOKUP(U997,Tabelle!$D$5:$H$7,5,FALSE)))","v":""},{"$f":"IF(M$2021=1,\"\",IF(U997=\"\",\"\",VLOOKUP(U997,Tabelle!$D$5:$I$7,6,FALSE)))","v":""},null,null,null,null,null,null,null,null,null,null,null,{"$f":"IF(B997=\"\",0,IF(B997=B996,COUNTIF(B$9:B996,B997)+1,1))","v":985},0,0]
["990","-1900","-1900-986",null,null,null,null,null,null,null,null,null,null,null,null,null,null,null,null,null,null,{"$f":"IF(M$2021=1,\"\",IF(U998=\"\",\"\",VLOOKUP(U998,Tabelle!$D$5:$H$7,5,FALSE)))","v":""},{"$f":"IF(M$2021=1,\"\",IF(U998=\"\",\"\",VLOOKUP(U998,Tabelle!$D$5:$I$7,6,FALSE)))","v":""},null,null,null,null,null,null,null,null,null,null,null,{"$f":"IF(B998=\"\",0,IF(B998=B997,COUNTIF(B$9:B997,B998)+1,1))","v":986},0,0]
["991","-1900","-1900-987",null,null,null,null,null,null,null,null,null,null,null,null,null,null,null,null,null,null,{"$f":"IF(M$2021=1,\"\",IF(U999=\"\",\"\",VLOOKUP(U999,Tabelle!$D$5:$H$7,5,FALSE)))","v":""},{"$f":"IF(M$2021=1,\"\",IF(U999=\"\",\"\",VLOOKUP(U999,Tabelle!$D$5:$I$7,6,FALSE)))","v":""},null,null,null,null,null,null,null,null,null,null,null,{"$f":"IF(B999=\"\",0,IF(B999=B998,COUNTIF(B$9:B998,B999)+1,1))","v":987},0,0]
["992","-1900","-1900-988",null,null,null,null,null,null,null,null,null,null,null,null,null,null,null,null,null,null,{"$f":"IF(M$2021=1,\"\",IF(U1000=\"\",\"\",VLOOKUP(U1000,Tabelle!$D$5:$H$7,5,FALSE)))","v":""},{"$f":"IF(M$2021=1,\"\",IF(U1000=\"\",\"\",VLOOKUP(U1000,Tabelle!$D$5:$I$7,6,FALSE)))","v":""},null,null,null,null,null,null,null,null,null,null,null,{"$f":"IF(B1000=\"\",0,IF(B1000=B999,COUNTIF(B$9:B999,B1000)+1,1))","v":988},0,0]
["993","-1900","-1900-989",null,null,null,null,null,null,null,null,null,null,null,null,null,null,null,null,null,null,{"$f":"IF(M$2021=1,\"\",IF(U1001=\"\",\"\",VLOOKUP(U1001,Tabelle!$D$5:$H$7,5,FALSE)))","v":""},{"$f":"IF(M$2021=1,\"\",IF(U1001=\"\",\"\",VLOOKUP(U1001,Tabelle!$D$5:$I$7,6,FALSE)))","v":""},null,null,null,null,null,null,null,null,null,null,null,{"$f":"IF(B1001=\"\",0,IF(B1001=B1000,COUNTIF(B$9:B1000,B1001)+1,1))","v":989},0,0]
["994","-1900","-1900-990",null,null,null,null,null,null,null,null,null,null,null,null,null,null,null,null,null,null,{"$f":"IF(M$2021=1,\"\",IF(U1002=\"\",\"\",VLOOKUP(U1002,Tabelle!$D$5:$H$7,5,FALSE)))","v":""},{"$f":"IF(M$2021=1,\"\",IF(U1002=\"\",\"\",VLOOKUP(U1002,Tabelle!$D$5:$I$7,6,FALSE)))","v":""},null,null,null,null,null,null,null,null,null,null,null,{"$f":"IF(B1002=\"\",0,IF(B1002=B1001,COUNTIF(B$9:B1001,B1002)+1,1))","v":990},0,0]
["995","-1900","-1900-991",null,null,null,null,null,null,null,null,null,null,null,null,null,null,null,null,null,null,{"$f":"IF(M$2021=1,\"\",IF(U1003=\"\",\"\",VLOOKUP(U1003,Tabelle!$D$5:$H$7,5,FALSE)))","v":""},{"$f":"IF(M$2021=1,\"\",IF(U1003=\"\",\"\",VLOOKUP(U1003,Tabelle!$D$5:$I$7,6,FALSE)))","v":""},null,null,null,null,null,null,null,null,null,null,null,{"$f":"IF(B1003=\"\",0,IF(B1003=B1002,COUNTIF(B$9:B1002,B1003)+1,1))","v":991},0,0]
["996","-1900","-1900-992",null,null,null,null,null,null,null,null,null,null,null,null,null,null,null,null,null,null,{"$f":"IF(M$2021=1,\"\",IF(U1004=\"\",\"\",VLOOKUP(U1004,Tabelle!$D$5:$H$7,5,FALSE)))","v":""},{"$f":"IF(M$2021=1,\"\",IF(U1004=\"\",\"\",VLOOKUP(U1004,Tabelle!$D$5:$I$7,6,FALSE)))","v":""},null,null,null,null,null,null,null,null,null,null,null,{"$f":"IF(B1004=\"\",0,IF(B1004=B1003,COUNTIF(B$9:B1003,B1004)+1,1))","v":992},0,0]
["997","-1900","-1900-993",null,null,null,null,null,null,null,null,null,null,null,null,null,null,null,null,null,null,{"$f":"IF(M$2021=1,\"\",IF(U1005=\"\",\"\",VLOOKUP(U1005,Tabelle!$D$5:$H$7,5,FALSE)))","v":""},{"$f":"IF(M$2021=1,\"\",IF(U1005=\"\",\"\",VLOOKUP(U1005,Tabelle!$D$5:$I$7,6,FALSE)))","v":""},null,null,null,null,null,null,null,null,null,null,null,{"$f":"IF(B1005=\"\",0,IF(B1005=B1004,COUNTIF(B$9:B1004,B1005)+1,1))","v":993},0,0]
["998","-1900","-1900-994",null,null,null,null,null,null,null,null,null,null,null,null,null,null,null,null,null,null,{"$f":"IF(M$2021=1,\"\",IF(U1006=\"\",\"\",VLOOKUP(U1006,Tabelle!$D$5:$H$7,5,FALSE)))","v":""},{"$f":"IF(M$2021=1,\"\",IF(U1006=\"\",\"\",VLOOKUP(U1006,Tabelle!$D$5:$I$7,6,FALSE)))","v":""},null,null,null,null,null,null,null,null,null,null,null,{"$f":"IF(B1006=\"\",0,IF(B1006=B1005,COUNTIF(B$9:B1005,B1006)+1,1))","v":994},0,0]
["999","-1900","-1900-995",null,null,null,null,null,null,null,null,null,null,null,null,null,null,null,null,null,null,{"$f":"IF(M$2021=1,\"\",IF(U1007=\"\",\"\",VLOOKUP(U1007,Tabelle!$D$5:$H$7,5,FALSE)))","v":""},{"$f":"IF(M$2021=1,\"\",IF(U1007=\"\",\"\",VLOOKUP(U1007,Tabelle!$D$5:$I$7,6,FALSE)))","v":""},null,null,null,null,null,null,null,null,null,null,null,{"$f":"IF(B1007=\"\",0,IF(B1007=B1006,COUNTIF(B$9:B1006,B1007)+1,1))","v":995},0,0]
["1000 di 2000","-1900","-1900-996",null,null,null,null,null,null,null,null,null,null,null,null,null,null,null,null,null,null,{"$f":"IF(M$2021=1,\"\",IF(U1008=\"\",\"\",VLOOKUP(U1008,Tabelle!$D$5:$H$7,5,FALSE)))","v":""},{"$f":"IF(M$2021=1,\"\",IF(U1008=\"\",\"\",VLOOKUP(U1008,Tabelle!$D$5:$I$7,6,FALSE)))","v":""},null,null,null,null,null,null,null,null,null,null,null,{"$f":"IF(B1008=\"\",0,IF(B1008=B1007,COUNTIF(B$9:B1007,B1008)+1,1))","v":996},0,0]
["1001","-1900","-1900-997",null,null,null,null,null,null,null,null,null,null,null,null,null,null,null,null,null,null,{"$f":"IF(M$2021=1,\"\",IF(U1009=\"\",\"\",VLOOKUP(U1009,Tabelle!$D$5:$H$7,5,FALSE)))","v":""},{"$f":"IF(M$2021=1,\"\",IF(U1009=\"\",\"\",VLOOKUP(U1009,Tabelle!$D$5:$I$7,6,FALSE)))","v":""},null,null,null,null,null,null,null,null,null,null,null,{"$f":"IF(B1009=\"\",0,IF(B1009=B1008,COUNTIF(B$9:B1008,B1009)+1,1))","v":997},0,0]
["1002","-1900","-1900-998",null,null,null,null,null,null,null,null,null,null,null,null,null,null,null,null,null,null,{"$f":"IF(M$2021=1,\"\",IF(U1010=\"\",\"\",VLOOKUP(U1010,Tabelle!$D$5:$H$7,5,FALSE)))","v":""},{"$f":"IF(M$2021=1,\"\",IF(U1010=\"\",\"\",VLOOKUP(U1010,Tabelle!$D$5:$I$7,6,FALSE)))","v":""},null,null,null,null,null,null,null,null,null,null,null,{"$f":"IF(B1010=\"\",0,IF(B1010=B1009,COUNTIF(B$9:B1009,B1010)+1,1))","v":998},0,0]
["1003","-1900","-1900-999",null,null,null,null,null,null,null,null,null,null,null,null,null,null,null,null,null,null,{"$f":"IF(M$2021=1,\"\",IF(U1011=\"\",\"\",VLOOKUP(U1011,Tabelle!$D$5:$H$7,5,FALSE)))","v":""},{"$f":"IF(M$2021=1,\"\",IF(U1011=\"\",\"\",VLOOKUP(U1011,Tabelle!$D$5:$I$7,6,FALSE)))","v":""},null,null,null,null,null,null,null,null,null,null,null,{"$f":"IF(B1011=\"\",0,IF(B1011=B1010,COUNTIF(B$9:B1010,B1011)+1,1))","v":999},0,0]
["1004","-1900","-1900-1000",null,null,null,null,null,null,null,null,null,null,null,null,null,null,null,null,null,null,{"$f":"IF(M$2021=1,\"\",IF(U1012=\"\",\"\",VLOOKUP(U1012,Tabelle!$D$5:$H$7,5,FALSE)))","v":""},{"$f":"IF(M$2021=1,\"\",IF(U1012=\"\",\"\",VLOOKUP(U1012,Tabelle!$D$5:$I$7,6,FALSE)))","v":""},null,null,null,null,null,null,null,null,null,null,null,{"$f":"IF(B1012=\"\",0,IF(B1012=B1011,COUNTIF(B$9:B1011,B1012)+1,1))","v":1000},0,0]
["1005","-1900","-1900-1001",null,null,null,null,null,null,null,null,null,null,null,null,null,null,null,null,null,null,{"$f":"IF(M$2021=1,\"\",IF(U1013=\"\",\"\",VLOOKUP(U1013,Tabelle!$D$5:$H$7,5,FALSE)))","v":""},{"$f":"IF(M$2021=1,\"\",IF(U1013=\"\",\"\",VLOOKUP(U1013,Tabelle!$D$5:$I$7,6,FALSE)))","v":""},null,null,null,null,null,null,null,null,null,null,null,{"$f":"IF(B1013=\"\",0,IF(B1013=B1012,COUNTIF(B$9:B1012,B1013)+1,1))","v":1001},0,0]
["1006","-1900","-1900-1002",null,null,null,null,null,null,null,null,null,null,null,null,null,null,null,null,null,null,{"$f":"IF(M$2021=1,\"\",IF(U1014=\"\",\"\",VLOOKUP(U1014,Tabelle!$D$5:$H$7,5,FALSE)))","v":""},{"$f":"IF(M$2021=1,\"\",IF(U1014=\"\",\"\",VLOOKUP(U1014,Tabelle!$D$5:$I$7,6,FALSE)))","v":""},null,null,null,null,null,null,null,null,null,null,null,{"$f":"IF(B1014=\"\",0,IF(B1014=B1013,COUNTIF(B$9:B1013,B1014)+1,1))","v":1002},0,0]
["1007","-1900","-1900-1003",null,null,null,null,null,null,null,null,null,null,null,null,null,null,null,null,null,null,{"$f":"IF(M$2021=1,\"\",IF(U1015=\"\",\"\",VLOOKUP(U1015,Tabelle!$D$5:$H$7,5,FALSE)))","v":""},{"$f":"IF(M$2021=1,\"\",IF(U1015=\"\",\"\",VLOOKUP(U1015,Tabelle!$D$5:$I$7,6,FALSE)))","v":""},null,null,null,null,null,null,null,null,null,null,null,{"$f":"IF(B1015=\"\",0,IF(B1015=B1014,COUNTIF(B$9:B1014,B1015)+1,1))","v":1003},0,0]
["1008","-1900","-1900-1004",null,null,null,null,null,null,null,null,null,null,null,null,null,null,null,null,null,null,{"$f":"IF(M$2021=1,\"\",IF(U1016=\"\",\"\",VLOOKUP(U1016,Tabelle!$D$5:$H$7,5,FALSE)))","v":""},{"$f":"IF(M$2021=1,\"\",IF(U1016=\"\",\"\",VLOOKUP(U1016,Tabelle!$D$5:$I$7,6,FALSE)))","v":""},null,null,null,null,null,null,null,null,null,null,null,{"$f":"IF(B1016=\"\",0,IF(B1016=B1015,COUNTIF(B$9:B1015,B1016)+1,1))","v":1004},0,0]
["1009","-1900","-1900-1005",null,null,null,null,null,null,null,null,null,null,null,null,null,null,null,null,null,null,{"$f":"IF(M$2021=1,\"\",IF(U1017=\"\",\"\",VLOOKUP(U1017,Tabelle!$D$5:$H$7,5,FALSE)))","v":""},{"$f":"IF(M$2021=1,\"\",IF(U1017=\"\",\"\",VLOOKUP(U1017,Tabelle!$D$5:$I$7,6,FALSE)))","v":""},null,null,null,null,null,null,null,null,null,null,null,{"$f":"IF(B1017=\"\",0,IF(B1017=B1016,COUNTIF(B$9:B1016,B1017)+1,1))","v":1005},0,0]
["1010","-1900","-1900-1006",null,null,null,null,null,null,null,null,null,null,null,null,null,null,null,null,null,null,{"$f":"IF(M$2021=1,\"\",IF(U1018=\"\",\"\",VLOOKUP(U1018,Tabelle!$D$5:$H$7,5,FALSE)))","v":""},{"$f":"IF(M$2021=1,\"\",IF(U1018=\"\",\"\",VLOOKUP(U1018,Tabelle!$D$5:$I$7,6,FALSE)))","v":""},null,null,null,null,null,null,null,null,null,null,null,{"$f":"IF(B1018=\"\",0,IF(B1018=B1017,COUNTIF(B$9:B1017,B1018)+1,1))","v":1006},0,0]
["1011","-1900","-1900-1007",null,null,null,null,null,null,null,null,null,null,null,null,null,null,null,null,null,null,{"$f":"IF(M$2021=1,\"\",IF(U1019=\"\",\"\",VLOOKUP(U1019,Tabelle!$D$5:$H$7,5,FALSE)))","v":""},{"$f":"IF(M$2021=1,\"\",IF(U1019=\"\",\"\",VLOOKUP(U1019,Tabelle!$D$5:$I$7,6,FALSE)))","v":""},null,null,null,null,null,null,null,null,null,null,null,{"$f":"IF(B1019=\"\",0,IF(B1019=B1018,COUNTIF(B$9:B1018,B1019)+1,1))","v":1007},0,0]
["1012","-1900","-1900-1008",null,null,null,null,null,null,null,null,null,null,null,null,null,null,null,null,null,null,{"$f":"IF(M$2021=1,\"\",IF(U1020=\"\",\"\",VLOOKUP(U1020,Tabelle!$D$5:$H$7,5,FALSE)))","v":""},{"$f":"IF(M$2021=1,\"\",IF(U1020=\"\",\"\",VLOOKUP(U1020,Tabelle!$D$5:$I$7,6,FALSE)))","v":""},null,null,null,null,null,null,null,null,null,null,null,{"$f":"IF(B1020=\"\",0,IF(B1020=B1019,COUNTIF(B$9:B1019,B1020)+1,1))","v":1008},0,0]
["1013","-1900","-1900-1009",null,null,null,null,null,null,null,null,null,null,null,null,null,null,null,null,null,null,{"$f":"IF(M$2021=1,\"\",IF(U1021=\"\",\"\",VLOOKUP(U1021,Tabelle!$D$5:$H$7,5,FALSE)))","v":""},{"$f":"IF(M$2021=1,\"\",IF(U1021=\"\",\"\",VLOOKUP(U1021,Tabelle!$D$5:$I$7,6,FALSE)))","v":""},null,null,null,null,null,null,null,null,null,null,null,{"$f":"IF(B1021=\"\",0,IF(B1021=B1020,COUNTIF(B$9:B1020,B1021)+1,1))","v":1009},0,0]
["1014","-1900","-1900-1010",null,null,null,null,null,null,null,null,null,null,null,null,null,null,null,null,null,null,{"$f":"IF(M$2021=1,\"\",IF(U1022=\"\",\"\",VLOOKUP(U1022,Tabelle!$D$5:$H$7,5,FALSE)))","v":""},{"$f":"IF(M$2021=1,\"\",IF(U1022=\"\",\"\",VLOOKUP(U1022,Tabelle!$D$5:$I$7,6,FALSE)))","v":""},null,null,null,null,null,null,null,null,null,null,null,{"$f":"IF(B1022=\"\",0,IF(B1022=B1021,COUNTIF(B$9:B1021,B1022)+1,1))","v":1010},0,0]
["1015","-1900","-1900-1011",null,null,null,null,null,null,null,null,null,null,null,null,null,null,null,null,null,null,{"$f":"IF(M$2021=1,\"\",IF(U1023=\"\",\"\",VLOOKUP(U1023,Tabelle!$D$5:$H$7,5,FALSE)))","v":""},{"$f":"IF(M$2021=1,\"\",IF(U1023=\"\",\"\",VLOOKUP(U1023,Tabelle!$D$5:$I$7,6,FALSE)))","v":""},null,null,null,null,null,null,null,null,null,null,null,{"$f":"IF(B1023=\"\",0,IF(B1023=B1022,COUNTIF(B$9:B1022,B1023)+1,1))","v":1011},0,0]
["1016","-1900","-1900-1012",null,null,null,null,null,null,null,null,null,null,null,null,null,null,null,null,null,null,{"$f":"IF(M$2021=1,\"\",IF(U1024=\"\",\"\",VLOOKUP(U1024,Tabelle!$D$5:$H$7,5,FALSE)))","v":""},{"$f":"IF(M$2021=1,\"\",IF(U1024=\"\",\"\",VLOOKUP(U1024,Tabelle!$D$5:$I$7,6,FALSE)))","v":""},null,null,null,null,null,null,null,null,null,null,null,{"$f":"IF(B1024=\"\",0,IF(B1024=B1023,COUNTIF(B$9:B1023,B1024)+1,1))","v":1012},0,0]
["1017","-1900","-1900-1013",null,null,null,null,null,null,null,null,null,null,null,null,null,null,null,null,null,null,{"$f":"IF(M$2021=1,\"\",IF(U1025=\"\",\"\",VLOOKUP(U1025,Tabelle!$D$5:$H$7,5,FALSE)))","v":""},{"$f":"IF(M$2021=1,\"\",IF(U1025=\"\",\"\",VLOOKUP(U1025,Tabelle!$D$5:$I$7,6,FALSE)))","v":""},null,null,null,null,null,null,null,null,null,null,null,{"$f":"IF(B1025=\"\",0,IF(B1025=B1024,COUNTIF(B$9:B1024,B1025)+1,1))","v":1013},0,0]
["1018","-1900","-1900-1014",null,null,null,null,null,null,null,null,null,null,null,null,null,null,null,null,null,null,{"$f":"IF(M$2021=1,\"\",IF(U1026=\"\",\"\",VLOOKUP(U1026,Tabelle!$D$5:$H$7,5,FALSE)))","v":""},{"$f":"IF(M$2021=1,\"\",IF(U1026=\"\",\"\",VLOOKUP(U1026,Tabelle!$D$5:$I$7,6,FALSE)))","v":""},null,null,null,null,null,null,null,null,null,null,null,{"$f":"IF(B1026=\"\",0,IF(B1026=B1025,COUNTIF(B$9:B1025,B1026)+1,1))","v":1014},0,0]
["1019","-1900","-1900-1015",null,null,null,null,null,null,null,null,null,null,null,null,null,null,null,null,null,null,{"$f":"IF(M$2021=1,\"\",IF(U1027=\"\",\"\",VLOOKUP(U1027,Tabelle!$D$5:$H$7,5,FALSE)))","v":""},{"$f":"IF(M$2021=1,\"\",IF(U1027=\"\",\"\",VLOOKUP(U1027,Tabelle!$D$5:$I$7,6,FALSE)))","v":""},null,null,null,null,null,null,null,null,null,null,null,{"$f":"IF(B1027=\"\",0,IF(B1027=B1026,COUNTIF(B$9:B1026,B1027)+1,1))","v":1015},0,0]
["1020","-1900","-1900-1016",null,null,null,null,null,null,null,null,null,null,null,null,null,null,null,null,null,null,{"$f":"IF(M$2021=1,\"\",IF(U1028=\"\",\"\",VLOOKUP(U1028,Tabelle!$D$5:$H$7,5,FALSE)))","v":""},{"$f":"IF(M$2021=1,\"\",IF(U1028=\"\",\"\",VLOOKUP(U1028,Tabelle!$D$5:$I$7,6,FALSE)))","v":""},null,null,null,null,null,null,null,null,null,null,null,{"$f":"IF(B1028=\"\",0,IF(B1028=B1027,COUNTIF(B$9:B1027,B1028)+1,1))","v":1016},0,0]
["1021","-1900","-1900-1017",null,null,null,null,null,null,null,null,null,null,null,null,null,null,null,null,null,null,{"$f":"IF(M$2021=1,\"\",IF(U1029=\"\",\"\",VLOOKUP(U1029,Tabelle!$D$5:$H$7,5,FALSE)))","v":""},{"$f":"IF(M$2021=1,\"\",IF(U1029=\"\",\"\",VLOOKUP(U1029,Tabelle!$D$5:$I$7,6,FALSE)))","v":""},null,null,null,null,null,null,null,null,null,null,null,{"$f":"IF(B1029=\"\",0,IF(B1029=B1028,COUNTIF(B$9:B1028,B1029)+1,1))","v":1017},0,0]
["1022","-1900","-1900-1018",null,null,null,null,null,null,null,null,null,null,null,null,null,null,null,null,null,null,{"$f":"IF(M$2021=1,\"\",IF(U1030=\"\",\"\",VLOOKUP(U1030,Tabelle!$D$5:$H$7,5,FALSE)))","v":""},{"$f":"IF(M$2021=1,\"\",IF(U1030=\"\",\"\",VLOOKUP(U1030,Tabelle!$D$5:$I$7,6,FALSE)))","v":""},null,null,null,null,null,null,null,null,null,null,null,{"$f":"IF(B1030=\"\",0,IF(B1030=B1029,COUNTIF(B$9:B1029,B1030)+1,1))","v":1018},0,0]
["1023","-1900","-1900-1019",null,null,null,null,null,null,null,null,null,null,null,null,null,null,null,null,null,null,{"$f":"IF(M$2021=1,\"\",IF(U1031=\"\",\"\",VLOOKUP(U1031,Tabelle!$D$5:$H$7,5,FALSE)))","v":""},{"$f":"IF(M$2021=1,\"\",IF(U1031=\"\",\"\",VLOOKUP(U1031,Tabelle!$D$5:$I$7,6,FALSE)))","v":""},null,null,null,null,null,null,null,null,null,null,null,{"$f":"IF(B1031=\"\",0,IF(B1031=B1030,COUNTIF(B$9:B1030,B1031)+1,1))","v":1019},0,0]
["1024","-1900","-1900-1020",null,null,null,null,null,null,null,null,null,null,null,null,null,null,null,null,null,null,{"$f":"IF(M$2021=1,\"\",IF(U1032=\"\",\"\",VLOOKUP(U1032,Tabelle!$D$5:$H$7,5,FALSE)))","v":""},{"$f":"IF(M$2021=1,\"\",IF(U1032=\"\",\"\",VLOOKUP(U1032,Tabelle!$D$5:$I$7,6,FALSE)))","v":""},null,null,null,null,null,null,null,null,null,null,null,{"$f":"IF(B1032=\"\",0,IF(B1032=B1031,COUNTIF(B$9:B1031,B1032)+1,1))","v":1020},0,0]
["1025","-1900",{"$f":"IF(M$2021=1,0,B1033&\"-\"&AI1033)","v":"-1900-1021"},null,null,null,null,null,null,null,null,null,null,null,null,null,null,null,null,null,null,{"$f":"IF(M$2021=1,\"\",IF(U1033=\"\",\"\",VLOOKUP(U1033,Tabelle!$D$5:$H$7,5,FALSE)))","v":""},{"$f":"IF(M$2021=1,\"\",IF(U1033=\"\",\"\",VLOOKUP(U1033,Tabelle!$D$5:$I$7,6,FALSE)))","v":""},null,null,null,null,null,null,null,null,null,null,null,{"$f":"IF(B1033=\"\",0,IF(B1033=B1032,COUNTIF(B$9:B1032,B1033)+1,1))","v":1021},0,0]
["1026",{"$f":"IF(AK1034=$AK$2015,0,IF(M$2021=1,0,D1034&\"-\"&YEAR(E1034)))","v":"-1900"},"-1900-1022",null,null,null,null,null,null,null,null,null,null,null,null,null,null,null,null,null,null,{"$f":"IF(M$2021=1,\"\",IF(U1034=\"\",\"\",VLOOKUP(U1034,Tabelle!$D$5:$H$7,5,FALSE)))","v":""},{"$f":"IF(M$2021=1,\"\",IF(U1034=\"\",\"\",VLOOKUP(U1034,Tabelle!$D$5:$I$7,6,FALSE)))","v":""},null,null,null,null,null,null,null,null,null,null,null,{"$f":"IF(B1034=\"\",0,IF(B1034=B1033,COUNTIF(B$9:B1033,B1034)+1,1))","v":1022},{"$f":"IF(OR(D1034=\"\",M$2021=1),0,IF(AI1034=10,1,0))","v":0},{"$f":"IF(E1034>0,IF(OR(MONTH(E1034)<$J$2027,MONTH(E1034)>$J$2028),AK$2015,0),0)","v":0}]
["1027","-1900","-1900-1023",null,null,null,null,null,null,null,null,null,null,null,null,null,null,null,null,null,null,{"$f":"IF(M$2021=1,\"\",IF(U1035=\"\",\"\",VLOOKUP(U1035,Tabelle!$D$5:$H$7,5,FALSE)))","v":""},{"$f":"IF(M$2021=1,\"\",IF(U1035=\"\",\"\",VLOOKUP(U1035,Tabelle!$D$5:$I$7,6,FALSE)))","v":""},null,null,null,null,null,null,null,null,null,null,null,{"$f":"IF(B1035=\"\",0,IF(B1035=B1034,COUNTIF(B$9:B1034,B1035)+1,1))","v":1023},0,0]
["1028","-1900","-1900-1024",null,null,null,null,null,null,null,null,null,null,null,null,null,null,null,null,null,null,{"$f":"IF(M$2021=1,\"\",IF(U1036=\"\",\"\",VLOOKUP(U1036,Tabelle!$D$5:$H$7,5,FALSE)))","v":""},{"$f":"IF(M$2021=1,\"\",IF(U1036=\"\",\"\",VLOOKUP(U1036,Tabelle!$D$5:$I$7,6,FALSE)))","v":""},null,null,null,null,null,null,null,null,null,null,null,{"$f":"IF(B1036=\"\",0,IF(B1036=B1035,COUNTIF(B$9:B1035,B1036)+1,1))","v":1024},0,0]
["1029","-1900","-1900-1025",null,null,null,null,null,null,null,null,null,null,null,null,null,null,null,null,null,null,{"$f":"IF(M$2021=1,\"\",IF(U1037=\"\",\"\",VLOOKUP(U1037,Tabelle!$D$5:$H$7,5,FALSE)))","v":""},{"$f":"IF(M$2021=1,\"\",IF(U1037=\"\",\"\",VLOOKUP(U1037,Tabelle!$D$5:$I$7,6,FALSE)))","v":""},null,null,null,null,null,null,null,null,null,null,null,{"$f":"IF(B1037=\"\",0,IF(B1037=B1036,COUNTIF(B$9:B1036,B1037)+1,1))","v":1025},0,0]
["1030","-1900","-1900-1026",null,null,null,null,null,null,null,null,null,null,null,null,null,null,null,null,null,null,{"$f":"IF(M$2021=1,\"\",IF(U1038=\"\",\"\",VLOOKUP(U1038,Tabelle!$D$5:$H$7,5,FALSE)))","v":""},{"$f":"IF(M$2021=1,\"\",IF(U1038=\"\",\"\",VLOOKUP(U1038,Tabelle!$D$5:$I$7,6,FALSE)))","v":""},null,null,null,null,null,null,null,null,null,null,null,{"$f":"IF(B1038=\"\",0,IF(B1038=B1037,COUNTIF(B$9:B1037,B1038)+1,1))","v":1026},0,0]
["1031","-1900","-1900-1027",null,null,null,null,null,null,null,null,null,null,null,null,null,null,null,null,null,null,{"$f":"IF(M$2021=1,\"\",IF(U1039=\"\",\"\",VLOOKUP(U1039,Tabelle!$D$5:$H$7,5,FALSE)))","v":""},{"$f":"IF(M$2021=1,\"\",IF(U1039=\"\",\"\",VLOOKUP(U1039,Tabelle!$D$5:$I$7,6,FALSE)))","v":""},null,null,null,null,null,null,null,null,null,null,null,{"$f":"IF(B1039=\"\",0,IF(B1039=B1038,COUNTIF(B$9:B1038,B1039)+1,1))","v":1027},0,0]
["1032","-1900","-1900-1028",null,null,null,null,null,null,null,null,null,null,null,null,null,null,null,null,null,null,{"$f":"IF(M$2021=1,\"\",IF(U1040=\"\",\"\",VLOOKUP(U1040,Tabelle!$D$5:$H$7,5,FALSE)))","v":""},{"$f":"IF(M$2021=1,\"\",IF(U1040=\"\",\"\",VLOOKUP(U1040,Tabelle!$D$5:$I$7,6,FALSE)))","v":""},null,null,null,null,null,null,null,null,null,null,null,{"$f":"IF(B1040=\"\",0,IF(B1040=B1039,COUNTIF(B$9:B1039,B1040)+1,1))","v":1028},0,0]
["1033","-1900","-1900-1029",null,null,null,null,null,null,null,null,null,null,null,null,null,null,null,null,null,null,{"$f":"IF(M$2021=1,\"\",IF(U1041=\"\",\"\",VLOOKUP(U1041,Tabelle!$D$5:$H$7,5,FALSE)))","v":""},{"$f":"IF(M$2021=1,\"\",IF(U1041=\"\",\"\",VLOOKUP(U1041,Tabelle!$D$5:$I$7,6,FALSE)))","v":""},null,null,null,null,null,null,null,null,null,null,null,{"$f":"IF(B1041=\"\",0,IF(B1041=B1040,COUNTIF(B$9:B1040,B1041)+1,1))","v":1029},0,0]
["1034","-1900","-1900-1030",null,null,null,null,null,null,null,null,null,null,null,null,null,null,null,null,null,null,{"$f":"IF(M$2021=1,\"\",IF(U1042=\"\",\"\",VLOOKUP(U1042,Tabelle!$D$5:$H$7,5,FALSE)))","v":""},{"$f":"IF(M$2021=1,\"\",IF(U1042=\"\",\"\",VLOOKUP(U1042,Tabelle!$D$5:$I$7,6,FALSE)))","v":""},null,null,null,null,null,null,null,null,null,null,null,{"$f":"IF(B1042=\"\",0,IF(B1042=B1041,COUNTIF(B$9:B1041,B1042)+1,1))","v":1030},0,0]
["1035","-1900","-1900-1031",null,null,null,null,null,null,null,null,null,null,null,null,null,null,null,null,null,null,{"$f":"IF(M$2021=1,\"\",IF(U1043=\"\",\"\",VLOOKUP(U1043,Tabelle!$D$5:$H$7,5,FALSE)))","v":""},{"$f":"IF(M$2021=1,\"\",IF(U1043=\"\",\"\",VLOOKUP(U1043,Tabelle!$D$5:$I$7,6,FALSE)))","v":""},null,null,null,null,null,null,null,null,null,null,null,{"$f":"IF(B1043=\"\",0,IF(B1043=B1042,COUNTIF(B$9:B1042,B1043)+1,1))","v":1031},0,0]
["1036","-1900","-1900-1032",null,null,null,null,null,null,null,null,null,null,null,null,null,null,null,null,null,null,{"$f":"IF(M$2021=1,\"\",IF(U1044=\"\",\"\",VLOOKUP(U1044,Tabelle!$D$5:$H$7,5,FALSE)))","v":""},{"$f":"IF(M$2021=1,\"\",IF(U1044=\"\",\"\",VLOOKUP(U1044,Tabelle!$D$5:$I$7,6,FALSE)))","v":""},null,null,null,null,null,null,null,null,null,null,null,{"$f":"IF(B1044=\"\",0,IF(B1044=B1043,COUNTIF(B$9:B1043,B1044)+1,1))","v":1032},0,0]
["1037","-1900","-1900-1033",null,null,null,null,null,null,null,null,null,null,null,null,null,null,null,null,null,null,{"$f":"IF(M$2021=1,\"\",IF(U1045=\"\",\"\",VLOOKUP(U1045,Tabelle!$D$5:$H$7,5,FALSE)))","v":""},{"$f":"IF(M$2021=1,\"\",IF(U1045=\"\",\"\",VLOOKUP(U1045,Tabelle!$D$5:$I$7,6,FALSE)))","v":""},null,null,null,null,null,null,null,null,null,null,null,{"$f":"IF(B1045=\"\",0,IF(B1045=B1044,COUNTIF(B$9:B1044,B1045)+1,1))","v":1033},0,0]
["1038","-1900","-1900-1034",null,null,null,null,null,null,null,null,null,null,null,null,null,null,null,null,null,null,{"$f":"IF(M$2021=1,\"\",IF(U1046=\"\",\"\",VLOOKUP(U1046,Tabelle!$D$5:$H$7,5,FALSE)))","v":""},{"$f":"IF(M$2021=1,\"\",IF(U1046=\"\",\"\",VLOOKUP(U1046,Tabelle!$D$5:$I$7,6,FALSE)))","v":""},null,null,null,null,null,null,null,null,null,null,null,{"$f":"IF(B1046=\"\",0,IF(B1046=B1045,COUNTIF(B$9:B1045,B1046)+1,1))","v":1034},0,0]
["1039","-1900","-1900-1035",null,null,null,null,null,null,null,null,null,null,null,null,null,null,null,null,null,null,{"$f":"IF(M$2021=1,\"\",IF(U1047=\"\",\"\",VLOOKUP(U1047,Tabelle!$D$5:$H$7,5,FALSE)))","v":""},{"$f":"IF(M$2021=1,\"\",IF(U1047=\"\",\"\",VLOOKUP(U1047,Tabelle!$D$5:$I$7,6,FALSE)))","v":""},null,null,null,null,null,null,null,null,null,null,null,{"$f":"IF(B1047=\"\",0,IF(B1047=B1046,COUNTIF(B$9:B1046,B1047)+1,1))","v":1035},0,0]
["1040","-1900","-1900-1036",null,null,null,null,null,null,null,null,null,null,null,null,null,null,null,null,null,null,{"$f":"IF(M$2021=1,\"\",IF(U1048=\"\",\"\",VLOOKUP(U1048,Tabelle!$D$5:$H$7,5,FALSE)))","v":""},{"$f":"IF(M$2021=1,\"\",IF(U1048=\"\",\"\",VLOOKUP(U1048,Tabelle!$D$5:$I$7,6,FALSE)))","v":""},null,null,null,null,null,null,null,null,null,null,null,{"$f":"IF(B1048=\"\",0,IF(B1048=B1047,COUNTIF(B$9:B1047,B1048)+1,1))","v":1036},0,0]
["1041","-1900","-1900-1037",null,null,null,null,null,null,null,null,null,null,null,null,null,null,null,null,null,null,{"$f":"IF(M$2021=1,\"\",IF(U1049=\"\",\"\",VLOOKUP(U1049,Tabelle!$D$5:$H$7,5,FALSE)))","v":""},{"$f":"IF(M$2021=1,\"\",IF(U1049=\"\",\"\",VLOOKUP(U1049,Tabelle!$D$5:$I$7,6,FALSE)))","v":""},null,null,null,null,null,null,null,null,null,null,null,{"$f":"IF(B1049=\"\",0,IF(B1049=B1048,COUNTIF(B$9:B1048,B1049)+1,1))","v":1037},0,0]
["1042","-1900","-1900-1038",null,null,null,null,null,null,null,null,null,null,null,null,null,null,null,null,null,null,{"$f":"IF(M$2021=1,\"\",IF(U1050=\"\",\"\",VLOOKUP(U1050,Tabelle!$D$5:$H$7,5,FALSE)))","v":""},{"$f":"IF(M$2021=1,\"\",IF(U1050=\"\",\"\",VLOOKUP(U1050,Tabelle!$D$5:$I$7,6,FALSE)))","v":""},null,null,null,null,null,null,null,null,null,null,null,{"$f":"IF(B1050=\"\",0,IF(B1050=B1049,COUNTIF(B$9:B1049,B1050)+1,1))","v":1038},0,0]
["1043","-1900","-1900-1039",null,null,null,null,null,null,null,null,null,null,null,null,null,null,null,null,null,null,{"$f":"IF(M$2021=1,\"\",IF(U1051=\"\",\"\",VLOOKUP(U1051,Tabelle!$D$5:$H$7,5,FALSE)))","v":""},{"$f":"IF(M$2021=1,\"\",IF(U1051=\"\",\"\",VLOOKUP(U1051,Tabelle!$D$5:$I$7,6,FALSE)))","v":""},null,null,null,null,null,null,null,null,null,null,null,{"$f":"IF(B1051=\"\",0,IF(B1051=B1050,COUNTIF(B$9:B1050,B1051)+1,1))","v":1039},0,0]
["1044","-1900","-1900-1040",null,null,null,null,null,null,null,null,null,null,null,null,null,null,null,null,null,null,{"$f":"IF(M$2021=1,\"\",IF(U1052=\"\",\"\",VLOOKUP(U1052,Tabelle!$D$5:$H$7,5,FALSE)))","v":""},{"$f":"IF(M$2021=1,\"\",IF(U1052=\"\",\"\",VLOOKUP(U1052,Tabelle!$D$5:$I$7,6,FALSE)))","v":""},null,null,null,null,null,null,null,null,null,null,null,{"$f":"IF(B1052=\"\",0,IF(B1052=B1051,COUNTIF(B$9:B1051,B1052)+1,1))","v":1040},0,0]
["1045","-1900","-1900-1041",null,null,null,null,null,null,null,null,null,null,null,null,null,null,null,null,null,null,{"$f":"IF(M$2021=1,\"\",IF(U1053=\"\",\"\",VLOOKUP(U1053,Tabelle!$D$5:$H$7,5,FALSE)))","v":""},{"$f":"IF(M$2021=1,\"\",IF(U1053=\"\",\"\",VLOOKUP(U1053,Tabelle!$D$5:$I$7,6,FALSE)))","v":""},null,null,null,null,null,null,null,null,null,null,null,{"$f":"IF(B1053=\"\",0,IF(B1053=B1052,COUNTIF(B$9:B1052,B1053)+1,1))","v":1041},0,0]
["1046","-1900","-1900-1042",null,null,null,null,null,null,null,null,null,null,null,null,null,null,null,null,null,null,{"$f":"IF(M$2021=1,\"\",IF(U1054=\"\",\"\",VLOOKUP(U1054,Tabelle!$D$5:$H$7,5,FALSE)))","v":""},{"$f":"IF(M$2021=1,\"\",IF(U1054=\"\",\"\",VLOOKUP(U1054,Tabelle!$D$5:$I$7,6,FALSE)))","v":""},null,null,null,null,null,null,null,null,null,null,null,{"$f":"IF(B1054=\"\",0,IF(B1054=B1053,COUNTIF(B$9:B1053,B1054)+1,1))","v":1042},0,0]
["1047","-1900","-1900-1043",null,null,null,null,null,null,null,null,null,null,null,null,null,null,null,null,null,null,{"$f":"IF(M$2021=1,\"\",IF(U1055=\"\",\"\",VLOOKUP(U1055,Tabelle!$D$5:$H$7,5,FALSE)))","v":""},{"$f":"IF(M$2021=1,\"\",IF(U1055=\"\",\"\",VLOOKUP(U1055,Tabelle!$D$5:$I$7,6,FALSE)))","v":""},null,null,null,null,null,null,null,null,null,null,null,{"$f":"IF(B1055=\"\",0,IF(B1055=B1054,COUNTIF(B$9:B1054,B1055)+1,1))","v":1043},0,0]
["1048","-1900","-1900-1044",null,null,null,null,null,null,null,null,null,null,null,null,null,null,null,null,null,null,{"$f":"IF(M$2021=1,\"\",IF(U1056=\"\",\"\",VLOOKUP(U1056,Tabelle!$D$5:$H$7,5,FALSE)))","v":""},{"$f":"IF(M$2021=1,\"\",IF(U1056=\"\",\"\",VLOOKUP(U1056,Tabelle!$D$5:$I$7,6,FALSE)))","v":""},null,null,null,null,null,null,null,null,null,null,null,{"$f":"IF(B1056=\"\",0,IF(B1056=B1055,COUNTIF(B$9:B1055,B1056)+1,1))","v":1044},0,0]
["1049","-1900","-1900-1045",null,null,null,null,null,null,null,null,null,null,null,null,null,null,null,null,null,null,{"$f":"IF(M$2021=1,\"\",IF(U1057=\"\",\"\",VLOOKUP(U1057,Tabelle!$D$5:$H$7,5,FALSE)))","v":""},{"$f":"IF(M$2021=1,\"\",IF(U1057=\"\",\"\",VLOOKUP(U1057,Tabelle!$D$5:$I$7,6,FALSE)))","v":""},null,null,null,null,null,null,null,null,null,null,null,{"$f":"IF(B1057=\"\",0,IF(B1057=B1056,COUNTIF(B$9:B1056,B1057)+1,1))","v":1045},0,0]
["1050","-1900","-1900-1046",null,null,null,null,null,null,null,null,null,null,null,null,null,null,null,null,null,null,{"$f":"IF(M$2021=1,\"\",IF(U1058=\"\",\"\",VLOOKUP(U1058,Tabelle!$D$5:$H$7,5,FALSE)))","v":""},{"$f":"IF(M$2021=1,\"\",IF(U1058=\"\",\"\",VLOOKUP(U1058,Tabelle!$D$5:$I$7,6,FALSE)))","v":""},null,null,null,null,null,null,null,null,null,null,null,{"$f":"IF(B1058=\"\",0,IF(B1058=B1057,COUNTIF(B$9:B1057,B1058)+1,1))","v":1046},0,0]
["1051","-1900","-1900-1047",null,null,null,null,null,null,null,null,null,null,null,null,null,null,null,null,null,null,{"$f":"IF(M$2021=1,\"\",IF(U1059=\"\",\"\",VLOOKUP(U1059,Tabelle!$D$5:$H$7,5,FALSE)))","v":""},{"$f":"IF(M$2021=1,\"\",IF(U1059=\"\",\"\",VLOOKUP(U1059,Tabelle!$D$5:$I$7,6,FALSE)))","v":""},null,null,null,null,null,null,null,null,null,null,null,{"$f":"IF(B1059=\"\",0,IF(B1059=B1058,COUNTIF(B$9:B1058,B1059)+1,1))","v":1047},0,0]
["1052","-1900","-1900-1048",null,null,null,null,null,null,null,null,null,null,null,null,null,null,null,null,null,null,{"$f":"IF(M$2021=1,\"\",IF(U1060=\"\",\"\",VLOOKUP(U1060,Tabelle!$D$5:$H$7,5,FALSE)))","v":""},{"$f":"IF(M$2021=1,\"\",IF(U1060=\"\",\"\",VLOOKUP(U1060,Tabelle!$D$5:$I$7,6,FALSE)))","v":""},null,null,null,null,null,null,null,null,null,null,null,{"$f":"IF(B1060=\"\",0,IF(B1060=B1059,COUNTIF(B$9:B1059,B1060)+1,1))","v":1048},0,0]
["1053","-1900","-1900-1049",null,null,null,null,null,null,null,null,null,null,null,null,null,null,null,null,null,null,{"$f":"IF(M$2021=1,\"\",IF(U1061=\"\",\"\",VLOOKUP(U1061,Tabelle!$D$5:$H$7,5,FALSE)))","v":""},{"$f":"IF(M$2021=1,\"\",IF(U1061=\"\",\"\",VLOOKUP(U1061,Tabelle!$D$5:$I$7,6,FALSE)))","v":""},null,null,null,null,null,null,null,null,null,null,null,{"$f":"IF(B1061=\"\",0,IF(B1061=B1060,COUNTIF(B$9:B1060,B1061)+1,1))","v":1049},0,0]
["1054","-1900","-1900-1050",null,null,null,null,null,null,null,null,null,null,null,null,null,null,null,null,null,null,{"$f":"IF(M$2021=1,\"\",IF(U1062=\"\",\"\",VLOOKUP(U1062,Tabelle!$D$5:$H$7,5,FALSE)))","v":""},{"$f":"IF(M$2021=1,\"\",IF(U1062=\"\",\"\",VLOOKUP(U1062,Tabelle!$D$5:$I$7,6,FALSE)))","v":""},null,null,null,null,null,null,null,null,null,null,null,{"$f":"IF(B1062=\"\",0,IF(B1062=B1061,COUNTIF(B$9:B1061,B1062)+1,1))","v":1050},0,0]
["1055","-1900","-1900-1051",null,null,null,null,null,null,null,null,null,null,null,null,null,null,null,null,null,null,{"$f":"IF(M$2021=1,\"\",IF(U1063=\"\",\"\",VLOOKUP(U1063,Tabelle!$D$5:$H$7,5,FALSE)))","v":""},{"$f":"IF(M$2021=1,\"\",IF(U1063=\"\",\"\",VLOOKUP(U1063,Tabelle!$D$5:$I$7,6,FALSE)))","v":""},null,null,null,null,null,null,null,null,null,null,null,{"$f":"IF(B1063=\"\",0,IF(B1063=B1062,COUNTIF(B$9:B1062,B1063)+1,1))","v":1051},0,0]
["1056","-1900","-1900-1052",null,null,null,null,null,null,null,null,null,null,null,null,null,null,null,null,null,null,{"$f":"IF(M$2021=1,\"\",IF(U1064=\"\",\"\",VLOOKUP(U1064,Tabelle!$D$5:$H$7,5,FALSE)))","v":""},{"$f":"IF(M$2021=1,\"\",IF(U1064=\"\",\"\",VLOOKUP(U1064,Tabelle!$D$5:$I$7,6,FALSE)))","v":""},null,null,null,null,null,null,null,null,null,null,null,{"$f":"IF(B1064=\"\",0,IF(B1064=B1063,COUNTIF(B$9:B1063,B1064)+1,1))","v":1052},0,0]
["1057","-1900","-1900-1053",null,null,null,null,null,null,null,null,null,null,null,null,null,null,null,null,null,null,{"$f":"IF(M$2021=1,\"\",IF(U1065=\"\",\"\",VLOOKUP(U1065,Tabelle!$D$5:$H$7,5,FALSE)))","v":""},{"$f":"IF(M$2021=1,\"\",IF(U1065=\"\",\"\",VLOOKUP(U1065,Tabelle!$D$5:$I$7,6,FALSE)))","v":""},null,null,null,null,null,null,null,null,null,null,null,{"$f":"IF(B1065=\"\",0,IF(B1065=B1064,COUNTIF(B$9:B1064,B1065)+1,1))","v":1053},0,0]
["1058","-1900","-1900-1054",null,null,null,null,null,null,null,null,null,null,null,null,null,null,null,null,null,null,{"$f":"IF(M$2021=1,\"\",IF(U1066=\"\",\"\",VLOOKUP(U1066,Tabelle!$D$5:$H$7,5,FALSE)))","v":""},{"$f":"IF(M$2021=1,\"\",IF(U1066=\"\",\"\",VLOOKUP(U1066,Tabelle!$D$5:$I$7,6,FALSE)))","v":""},null,null,null,null,null,null,null,null,null,null,null,{"$f":"IF(B1066=\"\",0,IF(B1066=B1065,COUNTIF(B$9:B1065,B1066)+1,1))","v":1054},0,0]
["1059","-1900","-1900-1055",null,null,null,null,null,null,null,null,null,null,null,null,null,null,null,null,null,null,{"$f":"IF(M$2021=1,\"\",IF(U1067=\"\",\"\",VLOOKUP(U1067,Tabelle!$D$5:$H$7,5,FALSE)))","v":""},{"$f":"IF(M$2021=1,\"\",IF(U1067=\"\",\"\",VLOOKUP(U1067,Tabelle!$D$5:$I$7,6,FALSE)))","v":""},null,null,null,null,null,null,null,null,null,null,null,{"$f":"IF(B1067=\"\",0,IF(B1067=B1066,COUNTIF(B$9:B1066,B1067)+1,1))","v":1055},0,0]
["1060","-1900","-1900-1056",null,null,null,null,null,null,null,null,null,null,null,null,null,null,null,null,null,null,{"$f":"IF(M$2021=1,\"\",IF(U1068=\"\",\"\",VLOOKUP(U1068,Tabelle!$D$5:$H$7,5,FALSE)))","v":""},{"$f":"IF(M$2021=1,\"\",IF(U1068=\"\",\"\",VLOOKUP(U1068,Tabelle!$D$5:$I$7,6,FALSE)))","v":""},null,null,null,null,null,null,null,null,null,null,null,{"$f":"IF(B1068=\"\",0,IF(B1068=B1067,COUNTIF(B$9:B1067,B1068)+1,1))","v":1056},0,0]
["1061","-1900","-1900-1057",null,null,null,null,null,null,null,null,null,null,null,null,null,null,null,null,null,null,{"$f":"IF(M$2021=1,\"\",IF(U1069=\"\",\"\",VLOOKUP(U1069,Tabelle!$D$5:$H$7,5,FALSE)))","v":""},{"$f":"IF(M$2021=1,\"\",IF(U1069=\"\",\"\",VLOOKUP(U1069,Tabelle!$D$5:$I$7,6,FALSE)))","v":""},null,null,null,null,null,null,null,null,null,null,null,{"$f":"IF(B1069=\"\",0,IF(B1069=B1068,COUNTIF(B$9:B1068,B1069)+1,1))","v":1057},0,0]
["1062","-1900","-1900-1058",null,null,null,null,null,null,null,null,null,null,null,null,null,null,null,null,null,null,{"$f":"IF(M$2021=1,\"\",IF(U1070=\"\",\"\",VLOOKUP(U1070,Tabelle!$D$5:$H$7,5,FALSE)))","v":""},{"$f":"IF(M$2021=1,\"\",IF(U1070=\"\",\"\",VLOOKUP(U1070,Tabelle!$D$5:$I$7,6,FALSE)))","v":""},null,null,null,null,null,null,null,null,null,null,null,{"$f":"IF(B1070=\"\",0,IF(B1070=B1069,COUNTIF(B$9:B1069,B1070)+1,1))","v":1058},0,0]
["1063","-1900","-1900-1059",null,null,null,null,null,null,null,null,null,null,null,null,null,null,null,null,null,null,{"$f":"IF(M$2021=1,\"\",IF(U1071=\"\",\"\",VLOOKUP(U1071,Tabelle!$D$5:$H$7,5,FALSE)))","v":""},{"$f":"IF(M$2021=1,\"\",IF(U1071=\"\",\"\",VLOOKUP(U1071,Tabelle!$D$5:$I$7,6,FALSE)))","v":""},null,null,null,null,null,null,null,null,null,null,null,{"$f":"IF(B1071=\"\",0,IF(B1071=B1070,COUNTIF(B$9:B1070,B1071)+1,1))","v":1059},0,0]
["1064","-1900","-1900-1060",null,null,null,null,null,null,null,null,null,null,null,null,null,null,null,null,null,null,{"$f":"IF(M$2021=1,\"\",IF(U1072=\"\",\"\",VLOOKUP(U1072,Tabelle!$D$5:$H$7,5,FALSE)))","v":""},{"$f":"IF(M$2021=1,\"\",IF(U1072=\"\",\"\",VLOOKUP(U1072,Tabelle!$D$5:$I$7,6,FALSE)))","v":""},null,null,null,null,null,null,null,null,null,null,null,{"$f":"IF(B1072=\"\",0,IF(B1072=B1071,COUNTIF(B$9:B1071,B1072)+1,1))","v":1060},0,0]
["1065","-1900","-1900-1061",null,null,null,null,null,null,null,null,null,null,null,null,null,null,null,null,null,null,{"$f":"IF(M$2021=1,\"\",IF(U1073=\"\",\"\",VLOOKUP(U1073,Tabelle!$D$5:$H$7,5,FALSE)))","v":""},{"$f":"IF(M$2021=1,\"\",IF(U1073=\"\",\"\",VLOOKUP(U1073,Tabelle!$D$5:$I$7,6,FALSE)))","v":""},null,null,null,null,null,null,null,null,null,null,null,{"$f":"IF(B1073=\"\",0,IF(B1073=B1072,COUNTIF(B$9:B1072,B1073)+1,1))","v":1061},0,0]
["1066","-1900","-1900-1062",null,null,null,null,null,null,null,null,null,null,null,null,null,null,null,null,null,null,{"$f":"IF(M$2021=1,\"\",IF(U1074=\"\",\"\",VLOOKUP(U1074,Tabelle!$D$5:$H$7,5,FALSE)))","v":""},{"$f":"IF(M$2021=1,\"\",IF(U1074=\"\",\"\",VLOOKUP(U1074,Tabelle!$D$5:$I$7,6,FALSE)))","v":""},null,null,null,null,null,null,null,null,null,null,null,{"$f":"IF(B1074=\"\",0,IF(B1074=B1073,COUNTIF(B$9:B1073,B1074)+1,1))","v":1062},0,0]
["1067","-1900","-1900-1063",null,null,null,null,null,null,null,null,null,null,null,null,null,null,null,null,null,null,{"$f":"IF(M$2021=1,\"\",IF(U1075=\"\",\"\",VLOOKUP(U1075,Tabelle!$D$5:$H$7,5,FALSE)))","v":""},{"$f":"IF(M$2021=1,\"\",IF(U1075=\"\",\"\",VLOOKUP(U1075,Tabelle!$D$5:$I$7,6,FALSE)))","v":""},null,null,null,null,null,null,null,null,null,null,null,{"$f":"IF(B1075=\"\",0,IF(B1075=B1074,COUNTIF(B$9:B1074,B1075)+1,1))","v":1063},0,0]
["1068","-1900","-1900-1064",null,null,null,null,null,null,null,null,null,null,null,null,null,null,null,null,null,null,{"$f":"IF(M$2021=1,\"\",IF(U1076=\"\",\"\",VLOOKUP(U1076,Tabelle!$D$5:$H$7,5,FALSE)))","v":""},{"$f":"IF(M$2021=1,\"\",IF(U1076=\"\",\"\",VLOOKUP(U1076,Tabelle!$D$5:$I$7,6,FALSE)))","v":""},null,null,null,null,null,null,null,null,null,null,null,{"$f":"IF(B1076=\"\",0,IF(B1076=B1075,COUNTIF(B$9:B1075,B1076)+1,1))","v":1064},0,0]
["1069","-1900","-1900-1065",null,null,null,null,null,null,null,null,null,null,null,null,null,null,null,null,null,null,{"$f":"IF(M$2021=1,\"\",IF(U1077=\"\",\"\",VLOOKUP(U1077,Tabelle!$D$5:$H$7,5,FALSE)))","v":""},{"$f":"IF(M$2021=1,\"\",IF(U1077=\"\",\"\",VLOOKUP(U1077,Tabelle!$D$5:$I$7,6,FALSE)))","v":""},null,null,null,null,null,null,null,null,null,null,null,{"$f":"IF(B1077=\"\",0,IF(B1077=B1076,COUNTIF(B$9:B1076,B1077)+1,1))","v":1065},0,0]
["1070","-1900","-1900-1066",null,null,null,null,null,null,null,null,null,null,null,null,null,null,null,null,null,null,{"$f":"IF(M$2021=1,\"\",IF(U1078=\"\",\"\",VLOOKUP(U1078,Tabelle!$D$5:$H$7,5,FALSE)))","v":""},{"$f":"IF(M$2021=1,\"\",IF(U1078=\"\",\"\",VLOOKUP(U1078,Tabelle!$D$5:$I$7,6,FALSE)))","v":""},null,null,null,null,null,null,null,null,null,null,null,{"$f":"IF(B1078=\"\",0,IF(B1078=B1077,COUNTIF(B$9:B1077,B1078)+1,1))","v":1066},0,0]
["1071","-1900","-1900-1067",null,null,null,null,null,null,null,null,null,null,null,null,null,null,null,null,null,null,{"$f":"IF(M$2021=1,\"\",IF(U1079=\"\",\"\",VLOOKUP(U1079,Tabelle!$D$5:$H$7,5,FALSE)))","v":""},{"$f":"IF(M$2021=1,\"\",IF(U1079=\"\",\"\",VLOOKUP(U1079,Tabelle!$D$5:$I$7,6,FALSE)))","v":""},null,null,null,null,null,null,null,null,null,null,null,{"$f":"IF(B1079=\"\",0,IF(B1079=B1078,COUNTIF(B$9:B1078,B1079)+1,1))","v":1067},0,0]
["1072","-1900","-1900-1068",null,null,null,null,null,null,null,null,null,null,null,null,null,null,null,null,null,null,{"$f":"IF(M$2021=1,\"\",IF(U1080=\"\",\"\",VLOOKUP(U1080,Tabelle!$D$5:$H$7,5,FALSE)))","v":""},{"$f":"IF(M$2021=1,\"\",IF(U1080=\"\",\"\",VLOOKUP(U1080,Tabelle!$D$5:$I$7,6,FALSE)))","v":""},null,null,null,null,null,null,null,null,null,null,null,{"$f":"IF(B1080=\"\",0,IF(B1080=B1079,COUNTIF(B$9:B1079,B1080)+1,1))","v":1068},0,0]
["1073","-1900","-1900-1069",null,null,null,null,null,null,null,null,null,null,null,null,null,null,null,null,null,null,{"$f":"IF(M$2021=1,\"\",IF(U1081=\"\",\"\",VLOOKUP(U1081,Tabelle!$D$5:$H$7,5,FALSE)))","v":""},{"$f":"IF(M$2021=1,\"\",IF(U1081=\"\",\"\",VLOOKUP(U1081,Tabelle!$D$5:$I$7,6,FALSE)))","v":""},null,null,null,null,null,null,null,null,null,null,null,{"$f":"IF(B1081=\"\",0,IF(B1081=B1080,COUNTIF(B$9:B1080,B1081)+1,1))","v":1069},0,0]
["1074","-1900","-1900-1070",null,null,null,null,null,null,null,null,null,null,null,null,null,null,null,null,null,null,{"$f":"IF(M$2021=1,\"\",IF(U1082=\"\",\"\",VLOOKUP(U1082,Tabelle!$D$5:$H$7,5,FALSE)))","v":""},{"$f":"IF(M$2021=1,\"\",IF(U1082=\"\",\"\",VLOOKUP(U1082,Tabelle!$D$5:$I$7,6,FALSE)))","v":""},null,null,null,null,null,null,null,null,null,null,null,{"$f":"IF(B1082=\"\",0,IF(B1082=B1081,COUNTIF(B$9:B1081,B1082)+1,1))","v":1070},0,0]
["1075","-1900","-1900-1071",null,null,null,null,null,null,null,null,null,null,null,null,null,null,null,null,null,null,{"$f":"IF(M$2021=1,\"\",IF(U1083=\"\",\"\",VLOOKUP(U1083,Tabelle!$D$5:$H$7,5,FALSE)))","v":""},{"$f":"IF(M$2021=1,\"\",IF(U1083=\"\",\"\",VLOOKUP(U1083,Tabelle!$D$5:$I$7,6,FALSE)))","v":""},null,null,null,null,null,null,null,null,null,null,null,{"$f":"IF(B1083=\"\",0,IF(B1083=B1082,COUNTIF(B$9:B1082,B1083)+1,1))","v":1071},0,0]
["1076","-1900","-1900-1072",null,null,null,null,null,null,null,null,null,null,null,null,null,null,null,null,null,null,{"$f":"IF(M$2021=1,\"\",IF(U1084=\"\",\"\",VLOOKUP(U1084,Tabelle!$D$5:$H$7,5,FALSE)))","v":""},{"$f":"IF(M$2021=1,\"\",IF(U1084=\"\",\"\",VLOOKUP(U1084,Tabelle!$D$5:$I$7,6,FALSE)))","v":""},null,null,null,null,null,null,null,null,null,null,null,{"$f":"IF(B1084=\"\",0,IF(B1084=B1083,COUNTIF(B$9:B1083,B1084)+1,1))","v":1072},0,0]
["1077","-1900","-1900-1073",null,null,null,null,null,null,null,null,null,null,null,null,null,null,null,null,null,null,{"$f":"IF(M$2021=1,\"\",IF(U1085=\"\",\"\",VLOOKUP(U1085,Tabelle!$D$5:$H$7,5,FALSE)))","v":""},{"$f":"IF(M$2021=1,\"\",IF(U1085=\"\",\"\",VLOOKUP(U1085,Tabelle!$D$5:$I$7,6,FALSE)))","v":""},null,null,null,null,null,null,null,null,null,null,null,{"$f":"IF(B1085=\"\",0,IF(B1085=B1084,COUNTIF(B$9:B1084,B1085)+1,1))","v":1073},0,0]
["1078","-1900","-1900-1074",null,null,null,null,null,null,null,null,null,null,null,null,null,null,null,null,null,null,{"$f":"IF(M$2021=1,\"\",IF(U1086=\"\",\"\",VLOOKUP(U1086,Tabelle!$D$5:$H$7,5,FALSE)))","v":""},{"$f":"IF(M$2021=1,\"\",IF(U1086=\"\",\"\",VLOOKUP(U1086,Tabelle!$D$5:$I$7,6,FALSE)))","v":""},null,null,null,null,null,null,null,null,null,null,null,{"$f":"IF(B1086=\"\",0,IF(B1086=B1085,COUNTIF(B$9:B1085,B1086)+1,1))","v":1074},0,0]
["1079","-1900","-1900-1075",null,null,null,null,null,null,null,null,null,null,null,null,null,null,null,null,null,null,{"$f":"IF(M$2021=1,\"\",IF(U1087=\"\",\"\",VLOOKUP(U1087,Tabelle!$D$5:$H$7,5,FALSE)))","v":""},{"$f":"IF(M$2021=1,\"\",IF(U1087=\"\",\"\",VLOOKUP(U1087,Tabelle!$D$5:$I$7,6,FALSE)))","v":""},null,null,null,null,null,null,null,null,null,null,null,{"$f":"IF(B1087=\"\",0,IF(B1087=B1086,COUNTIF(B$9:B1086,B1087)+1,1))","v":1075},0,0]
["1080","-1900","-1900-1076",null,null,null,null,null,null,null,null,null,null,null,null,null,null,null,null,null,null,{"$f":"IF(M$2021=1,\"\",IF(U1088=\"\",\"\",VLOOKUP(U1088,Tabelle!$D$5:$H$7,5,FALSE)))","v":""},{"$f":"IF(M$2021=1,\"\",IF(U1088=\"\",\"\",VLOOKUP(U1088,Tabelle!$D$5:$I$7,6,FALSE)))","v":""},null,null,null,null,null,null,null,null,null,null,null,{"$f":"IF(B1088=\"\",0,IF(B1088=B1087,COUNTIF(B$9:B1087,B1088)+1,1))","v":1076},0,0]
["1081","-1900","-1900-1077",null,null,null,null,null,null,null,null,null,null,null,null,null,null,null,null,null,null,{"$f":"IF(M$2021=1,\"\",IF(U1089=\"\",\"\",VLOOKUP(U1089,Tabelle!$D$5:$H$7,5,FALSE)))","v":""},{"$f":"IF(M$2021=1,\"\",IF(U1089=\"\",\"\",VLOOKUP(U1089,Tabelle!$D$5:$I$7,6,FALSE)))","v":""},null,null,null,null,null,null,null,null,null,null,null,{"$f":"IF(B1089=\"\",0,IF(B1089=B1088,COUNTIF(B$9:B1088,B1089)+1,1))","v":1077},0,0]
["1082","-1900","-1900-1078",null,null,null,null,null,null,null,null,null,null,null,null,null,null,null,null,null,null,{"$f":"IF(M$2021=1,\"\",IF(U1090=\"\",\"\",VLOOKUP(U1090,Tabelle!$D$5:$H$7,5,FALSE)))","v":""},{"$f":"IF(M$2021=1,\"\",IF(U1090=\"\",\"\",VLOOKUP(U1090,Tabelle!$D$5:$I$7,6,FALSE)))","v":""},null,null,null,null,null,null,null,null,null,null,null,{"$f":"IF(B1090=\"\",0,IF(B1090=B1089,COUNTIF(B$9:B1089,B1090)+1,1))","v":1078},0,0]
["1083","-1900","-1900-1079",null,null,null,null,null,null,null,null,null,null,null,null,null,null,null,null,null,null,{"$f":"IF(M$2021=1,\"\",IF(U1091=\"\",\"\",VLOOKUP(U1091,Tabelle!$D$5:$H$7,5,FALSE)))","v":""},{"$f":"IF(M$2021=1,\"\",IF(U1091=\"\",\"\",VLOOKUP(U1091,Tabelle!$D$5:$I$7,6,FALSE)))","v":""},null,null,null,null,null,null,null,null,null,null,null,{"$f":"IF(B1091=\"\",0,IF(B1091=B1090,COUNTIF(B$9:B1090,B1091)+1,1))","v":1079},0,0]
["1084","-1900","-1900-1080",null,null,null,null,null,null,null,null,null,null,null,null,null,null,null,null,null,null,{"$f":"IF(M$2021=1,\"\",IF(U1092=\"\",\"\",VLOOKUP(U1092,Tabelle!$D$5:$H$7,5,FALSE)))","v":""},{"$f":"IF(M$2021=1,\"\",IF(U1092=\"\",\"\",VLOOKUP(U1092,Tabelle!$D$5:$I$7,6,FALSE)))","v":""},null,null,null,null,null,null,null,null,null,null,null,{"$f":"IF(B1092=\"\",0,IF(B1092=B1091,COUNTIF(B$9:B1091,B1092)+1,1))","v":1080},0,0]
["1085","-1900","-1900-1081",null,null,null,null,null,null,null,null,null,null,null,null,null,null,null,null,null,null,{"$f":"IF(M$2021=1,\"\",IF(U1093=\"\",\"\",VLOOKUP(U1093,Tabelle!$D$5:$H$7,5,FALSE)))","v":""},{"$f":"IF(M$2021=1,\"\",IF(U1093=\"\",\"\",VLOOKUP(U1093,Tabelle!$D$5:$I$7,6,FALSE)))","v":""},null,null,null,null,null,null,null,null,null,null,null,{"$f":"IF(B1093=\"\",0,IF(B1093=B1092,COUNTIF(B$9:B1092,B1093)+1,1))","v":1081},0,0]
["1086","-1900","-1900-1082",null,null,null,null,null,null,null,null,null,null,null,null,null,null,null,null,null,null,{"$f":"IF(M$2021=1,\"\",IF(U1094=\"\",\"\",VLOOKUP(U1094,Tabelle!$D$5:$H$7,5,FALSE)))","v":""},{"$f":"IF(M$2021=1,\"\",IF(U1094=\"\",\"\",VLOOKUP(U1094,Tabelle!$D$5:$I$7,6,FALSE)))","v":""},null,null,null,null,null,null,null,null,null,null,null,{"$f":"IF(B1094=\"\",0,IF(B1094=B1093,COUNTIF(B$9:B1093,B1094)+1,1))","v":1082},0,0]
["1087","-1900","-1900-1083",null,null,null,null,null,null,null,null,null,null,null,null,null,null,null,null,null,null,{"$f":"IF(M$2021=1,\"\",IF(U1095=\"\",\"\",VLOOKUP(U1095,Tabelle!$D$5:$H$7,5,FALSE)))","v":""},{"$f":"IF(M$2021=1,\"\",IF(U1095=\"\",\"\",VLOOKUP(U1095,Tabelle!$D$5:$I$7,6,FALSE)))","v":""},null,null,null,null,null,null,null,null,null,null,null,{"$f":"IF(B1095=\"\",0,IF(B1095=B1094,COUNTIF(B$9:B1094,B1095)+1,1))","v":1083},0,0]
["1088","-1900","-1900-1084",null,null,null,null,null,null,null,null,null,null,null,null,null,null,null,null,null,null,{"$f":"IF(M$2021=1,\"\",IF(U1096=\"\",\"\",VLOOKUP(U1096,Tabelle!$D$5:$H$7,5,FALSE)))","v":""},{"$f":"IF(M$2021=1,\"\",IF(U1096=\"\",\"\",VLOOKUP(U1096,Tabelle!$D$5:$I$7,6,FALSE)))","v":""},null,null,null,null,null,null,null,null,null,null,null,{"$f":"IF(B1096=\"\",0,IF(B1096=B1095,COUNTIF(B$9:B1095,B1096)+1,1))","v":1084},0,0]
["1089","-1900",{"$f":"IF(M$2021=1,0,B1097&\"-\"&AI1097)","v":"-1900-1085"},null,null,null,null,null,null,null,null,null,null,null,null,null,null,null,null,null,null,{"$f":"IF(M$2021=1,\"\",IF(U1097=\"\",\"\",VLOOKUP(U1097,Tabelle!$D$5:$H$7,5,FALSE)))","v":""},{"$f":"IF(M$2021=1,\"\",IF(U1097=\"\",\"\",VLOOKUP(U1097,Tabelle!$D$5:$I$7,6,FALSE)))","v":""},null,null,null,null,null,null,null,null,null,null,null,{"$f":"IF(B1097=\"\",0,IF(B1097=B1096,COUNTIF(B$9:B1096,B1097)+1,1))","v":1085},0,0]
["1090",{"$f":"IF(AK1098=$AK$2015,0,IF(M$2021=1,0,D1098&\"-\"&YEAR(E1098)))","v":"-1900"},"-1900-1086",null,null,null,null,null,null,null,null,null,null,null,null,null,null,null,null,null,null,{"$f":"IF(M$2021=1,\"\",IF(U1098=\"\",\"\",VLOOKUP(U1098,Tabelle!$D$5:$H$7,5,FALSE)))","v":""},{"$f":"IF(M$2021=1,\"\",IF(U1098=\"\",\"\",VLOOKUP(U1098,Tabelle!$D$5:$I$7,6,FALSE)))","v":""},null,null,null,null,null,null,null,null,null,null,null,{"$f":"IF(B1098=\"\",0,IF(B1098=B1097,COUNTIF(B$9:B1097,B1098)+1,1))","v":1086},{"$f":"IF(OR(D1098=\"\",M$2021=1),0,IF(AI1098=10,1,0))","v":0},{"$f":"IF(E1098>0,IF(OR(MONTH(E1098)<$J$2027,MONTH(E1098)>$J$2028),AK$2015,0),0)","v":0}]
["1091","-1900","-1900-1087",null,null,null,null,null,null,null,null,null,null,null,null,null,null,null,null,null,null,{"$f":"IF(M$2021=1,\"\",IF(U1099=\"\",\"\",VLOOKUP(U1099,Tabelle!$D$5:$H$7,5,FALSE)))","v":""},{"$f":"IF(M$2021=1,\"\",IF(U1099=\"\",\"\",VLOOKUP(U1099,Tabelle!$D$5:$I$7,6,FALSE)))","v":""},null,null,null,null,null,null,null,null,null,null,null,{"$f":"IF(B1099=\"\",0,IF(B1099=B1098,COUNTIF(B$9:B1098,B1099)+1,1))","v":1087},0,0]
["1092","-1900","-1900-1088",null,null,null,null,null,null,null,null,null,null,null,null,null,null,null,null,null,null,{"$f":"IF(M$2021=1,\"\",IF(U1100=\"\",\"\",VLOOKUP(U1100,Tabelle!$D$5:$H$7,5,FALSE)))","v":""},{"$f":"IF(M$2021=1,\"\",IF(U1100=\"\",\"\",VLOOKUP(U1100,Tabelle!$D$5:$I$7,6,FALSE)))","v":""},null,null,null,null,null,null,null,null,null,null,null,{"$f":"IF(B1100=\"\",0,IF(B1100=B1099,COUNTIF(B$9:B1099,B1100)+1,1))","v":1088},0,0]
["1093","-1900","-1900-1089",null,null,null,null,null,null,null,null,null,null,null,null,null,null,null,null,null,null,{"$f":"IF(M$2021=1,\"\",IF(U1101=\"\",\"\",VLOOKUP(U1101,Tabelle!$D$5:$H$7,5,FALSE)))","v":""},{"$f":"IF(M$2021=1,\"\",IF(U1101=\"\",\"\",VLOOKUP(U1101,Tabelle!$D$5:$I$7,6,FALSE)))","v":""},null,null,null,null,null,null,null,null,null,null,null,{"$f":"IF(B1101=\"\",0,IF(B1101=B1100,COUNTIF(B$9:B1100,B1101)+1,1))","v":1089},0,0]
["1094","-1900","-1900-1090",null,null,null,null,null,null,null,null,null,null,null,null,null,null,null,null,null,null,{"$f":"IF(M$2021=1,\"\",IF(U1102=\"\",\"\",VLOOKUP(U1102,Tabelle!$D$5:$H$7,5,FALSE)))","v":""},{"$f":"IF(M$2021=1,\"\",IF(U1102=\"\",\"\",VLOOKUP(U1102,Tabelle!$D$5:$I$7,6,FALSE)))","v":""},null,null,null,null,null,null,null,null,null,null,null,{"$f":"IF(B1102=\"\",0,IF(B1102=B1101,COUNTIF(B$9:B1101,B1102)+1,1))","v":1090},0,0]
["1095","-1900","-1900-1091",null,null,null,null,null,null,null,null,null,null,null,null,null,null,null,null,null,null,{"$f":"IF(M$2021=1,\"\",IF(U1103=\"\",\"\",VLOOKUP(U1103,Tabelle!$D$5:$H$7,5,FALSE)))","v":""},{"$f":"IF(M$2021=1,\"\",IF(U1103=\"\",\"\",VLOOKUP(U1103,Tabelle!$D$5:$I$7,6,FALSE)))","v":""},null,null,null,null,null,null,null,null,null,null,null,{"$f":"IF(B1103=\"\",0,IF(B1103=B1102,COUNTIF(B$9:B1102,B1103)+1,1))","v":1091},0,0]
["1096","-1900","-1900-1092",null,null,null,null,null,null,null,null,null,null,null,null,null,null,null,null,null,null,{"$f":"IF(M$2021=1,\"\",IF(U1104=\"\",\"\",VLOOKUP(U1104,Tabelle!$D$5:$H$7,5,FALSE)))","v":""},{"$f":"IF(M$2021=1,\"\",IF(U1104=\"\",\"\",VLOOKUP(U1104,Tabelle!$D$5:$I$7,6,FALSE)))","v":""},null,null,null,null,null,null,null,null,null,null,null,{"$f":"IF(B1104=\"\",0,IF(B1104=B1103,COUNTIF(B$9:B1103,B1104)+1,1))","v":1092},0,0]
["1097","-1900","-1900-1093",null,null,null,null,null,null,null,null,null,null,null,null,null,null,null,null,null,null,{"$f":"IF(M$2021=1,\"\",IF(U1105=\"\",\"\",VLOOKUP(U1105,Tabelle!$D$5:$H$7,5,FALSE)))","v":""},{"$f":"IF(M$2021=1,\"\",IF(U1105=\"\",\"\",VLOOKUP(U1105,Tabelle!$D$5:$I$7,6,FALSE)))","v":""},null,null,null,null,null,null,null,null,null,null,null,{"$f":"IF(B1105=\"\",0,IF(B1105=B1104,COUNTIF(B$9:B1104,B1105)+1,1))","v":1093},0,0]
["1098","-1900","-1900-1094",null,null,null,null,null,null,null,null,null,null,null,null,null,null,null,null,null,null,{"$f":"IF(M$2021=1,\"\",IF(U1106=\"\",\"\",VLOOKUP(U1106,Tabelle!$D$5:$H$7,5,FALSE)))","v":""},{"$f":"IF(M$2021=1,\"\",IF(U1106=\"\",\"\",VLOOKUP(U1106,Tabelle!$D$5:$I$7,6,FALSE)))","v":""},null,null,null,null,null,null,null,null,null,null,null,{"$f":"IF(B1106=\"\",0,IF(B1106=B1105,COUNTIF(B$9:B1105,B1106)+1,1))","v":1094},0,0]
["1099","-1900","-1900-1095",null,null,null,null,null,null,null,null,null,null,null,null,null,null,null,null,null,null,{"$f":"IF(M$2021=1,\"\",IF(U1107=\"\",\"\",VLOOKUP(U1107,Tabelle!$D$5:$H$7,5,FALSE)))","v":""},{"$f":"IF(M$2021=1,\"\",IF(U1107=\"\",\"\",VLOOKUP(U1107,Tabelle!$D$5:$I$7,6,FALSE)))","v":""},null,null,null,null,null,null,null,null,null,null,null,{"$f":"IF(B1107=\"\",0,IF(B1107=B1106,COUNTIF(B$9:B1106,B1107)+1,1))","v":1095},0,0]
["1100","-1900","-1900-1096",null,null,null,null,null,null,null,null,null,null,null,null,null,null,null,null,null,null,{"$f":"IF(M$2021=1,\"\",IF(U1108=\"\",\"\",VLOOKUP(U1108,Tabelle!$D$5:$H$7,5,FALSE)))","v":""},{"$f":"IF(M$2021=1,\"\",IF(U1108=\"\",\"\",VLOOKUP(U1108,Tabelle!$D$5:$I$7,6,FALSE)))","v":""},null,null,null,null,null,null,null,null,null,null,null,{"$f":"IF(B1108=\"\",0,IF(B1108=B1107,COUNTIF(B$9:B1107,B1108)+1,1))","v":1096},0,0]
["1101","-1900","-1900-1097",null,null,null,null,null,null,null,null,null,null,null,null,null,null,null,null,null,null,{"$f":"IF(M$2021=1,\"\",IF(U1109=\"\",\"\",VLOOKUP(U1109,Tabelle!$D$5:$H$7,5,FALSE)))","v":""},{"$f":"IF(M$2021=1,\"\",IF(U1109=\"\",\"\",VLOOKUP(U1109,Tabelle!$D$5:$I$7,6,FALSE)))","v":""},null,null,null,null,null,null,null,null,null,null,null,{"$f":"IF(B1109=\"\",0,IF(B1109=B1108,COUNTIF(B$9:B1108,B1109)+1,1))","v":1097},0,0]
["1102","-1900","-1900-1098",null,null,null,null,null,null,null,null,null,null,null,null,null,null,null,null,null,null,{"$f":"IF(M$2021=1,\"\",IF(U1110=\"\",\"\",VLOOKUP(U1110,Tabelle!$D$5:$H$7,5,FALSE)))","v":""},{"$f":"IF(M$2021=1,\"\",IF(U1110=\"\",\"\",VLOOKUP(U1110,Tabelle!$D$5:$I$7,6,FALSE)))","v":""},null,null,null,null,null,null,null,null,null,null,null,{"$f":"IF(B1110=\"\",0,IF(B1110=B1109,COUNTIF(B$9:B1109,B1110)+1,1))","v":1098},0,0]
["1103","-1900","-1900-1099",null,null,null,null,null,null,null,null,null,null,null,null,null,null,null,null,null,null,{"$f":"IF(M$2021=1,\"\",IF(U1111=\"\",\"\",VLOOKUP(U1111,Tabelle!$D$5:$H$7,5,FALSE)))","v":""},{"$f":"IF(M$2021=1,\"\",IF(U1111=\"\",\"\",VLOOKUP(U1111,Tabelle!$D$5:$I$7,6,FALSE)))","v":""},null,null,null,null,null,null,null,null,null,null,null,{"$f":"IF(B1111=\"\",0,IF(B1111=B1110,COUNTIF(B$9:B1110,B1111)+1,1))","v":1099},0,0]
["1104","-1900","-1900-1100",null,null,null,null,null,null,null,null,null,null,null,null,null,null,null,null,null,null,{"$f":"IF(M$2021=1,\"\",IF(U1112=\"\",\"\",VLOOKUP(U1112,Tabelle!$D$5:$H$7,5,FALSE)))","v":""},{"$f":"IF(M$2021=1,\"\",IF(U1112=\"\",\"\",VLOOKUP(U1112,Tabelle!$D$5:$I$7,6,FALSE)))","v":""},null,null,null,null,null,null,null,null,null,null,null,{"$f":"IF(B1112=\"\",0,IF(B1112=B1111,COUNTIF(B$9:B1111,B1112)+1,1))","v":1100},0,0]
["1105","-1900","-1900-1101",null,null,null,null,null,null,null,null,null,null,null,null,null,null,null,null,null,null,{"$f":"IF(M$2021=1,\"\",IF(U1113=\"\",\"\",VLOOKUP(U1113,Tabelle!$D$5:$H$7,5,FALSE)))","v":""},{"$f":"IF(M$2021=1,\"\",IF(U1113=\"\",\"\",VLOOKUP(U1113,Tabelle!$D$5:$I$7,6,FALSE)))","v":""},null,null,null,null,null,null,null,null,null,null,null,{"$f":"IF(B1113=\"\",0,IF(B1113=B1112,COUNTIF(B$9:B1112,B1113)+1,1))","v":1101},0,0]
["1106","-1900","-1900-1102",null,null,null,null,null,null,null,null,null,null,null,null,null,null,null,null,null,null,{"$f":"IF(M$2021=1,\"\",IF(U1114=\"\",\"\",VLOOKUP(U1114,Tabelle!$D$5:$H$7,5,FALSE)))","v":""},{"$f":"IF(M$2021=1,\"\",IF(U1114=\"\",\"\",VLOOKUP(U1114,Tabelle!$D$5:$I$7,6,FALSE)))","v":""},null,null,null,null,null,null,null,null,null,null,null,{"$f":"IF(B1114=\"\",0,IF(B1114=B1113,COUNTIF(B$9:B1113,B1114)+1,1))","v":1102},0,0]
["1107","-1900","-1900-1103",null,null,null,null,null,null,null,null,null,null,null,null,null,null,null,null,null,null,{"$f":"IF(M$2021=1,\"\",IF(U1115=\"\",\"\",VLOOKUP(U1115,Tabelle!$D$5:$H$7,5,FALSE)))","v":""},{"$f":"IF(M$2021=1,\"\",IF(U1115=\"\",\"\",VLOOKUP(U1115,Tabelle!$D$5:$I$7,6,FALSE)))","v":""},null,null,null,null,null,null,null,null,null,null,null,{"$f":"IF(B1115=\"\",0,IF(B1115=B1114,COUNTIF(B$9:B1114,B1115)+1,1))","v":1103},0,0]
["1108","-1900","-1900-1104",null,null,null,null,null,null,null,null,null,null,null,null,null,null,null,null,null,null,{"$f":"IF(M$2021=1,\"\",IF(U1116=\"\",\"\",VLOOKUP(U1116,Tabelle!$D$5:$H$7,5,FALSE)))","v":""},{"$f":"IF(M$2021=1,\"\",IF(U1116=\"\",\"\",VLOOKUP(U1116,Tabelle!$D$5:$I$7,6,FALSE)))","v":""},null,null,null,null,null,null,null,null,null,null,null,{"$f":"IF(B1116=\"\",0,IF(B1116=B1115,COUNTIF(B$9:B1115,B1116)+1,1))","v":1104},0,0]
["1109","-1900","-1900-1105",null,null,null,null,null,null,null,null,null,null,null,null,null,null,null,null,null,null,{"$f":"IF(M$2021=1,\"\",IF(U1117=\"\",\"\",VLOOKUP(U1117,Tabelle!$D$5:$H$7,5,FALSE)))","v":""},{"$f":"IF(M$2021=1,\"\",IF(U1117=\"\",\"\",VLOOKUP(U1117,Tabelle!$D$5:$I$7,6,FALSE)))","v":""},null,null,null,null,null,null,null,null,null,null,null,{"$f":"IF(B1117=\"\",0,IF(B1117=B1116,COUNTIF(B$9:B1116,B1117)+1,1))","v":1105},0,0]
["1110","-1900","-1900-1106",null,null,null,null,null,null,null,null,null,null,null,null,null,null,null,null,null,null,{"$f":"IF(M$2021=1,\"\",IF(U1118=\"\",\"\",VLOOKUP(U1118,Tabelle!$D$5:$H$7,5,FALSE)))","v":""},{"$f":"IF(M$2021=1,\"\",IF(U1118=\"\",\"\",VLOOKUP(U1118,Tabelle!$D$5:$I$7,6,FALSE)))","v":""},null,null,null,null,null,null,null,null,null,null,null,{"$f":"IF(B1118=\"\",0,IF(B1118=B1117,COUNTIF(B$9:B1117,B1118)+1,1))","v":1106},0,0]
["1111","-1900","-1900-1107",null,null,null,null,null,null,null,null,null,null,null,null,null,null,null,null,null,null,{"$f":"IF(M$2021=1,\"\",IF(U1119=\"\",\"\",VLOOKUP(U1119,Tabelle!$D$5:$H$7,5,FALSE)))","v":""},{"$f":"IF(M$2021=1,\"\",IF(U1119=\"\",\"\",VLOOKUP(U1119,Tabelle!$D$5:$I$7,6,FALSE)))","v":""},null,null,null,null,null,null,null,null,null,null,null,{"$f":"IF(B1119=\"\",0,IF(B1119=B1118,COUNTIF(B$9:B1118,B1119)+1,1))","v":1107},0,0]
["1112","-1900","-1900-1108",null,null,null,null,null,null,null,null,null,null,null,null,null,null,null,null,null,null,{"$f":"IF(M$2021=1,\"\",IF(U1120=\"\",\"\",VLOOKUP(U1120,Tabelle!$D$5:$H$7,5,FALSE)))","v":""},{"$f":"IF(M$2021=1,\"\",IF(U1120=\"\",\"\",VLOOKUP(U1120,Tabelle!$D$5:$I$7,6,FALSE)))","v":""},null,null,null,null,null,null,null,null,null,null,null,{"$f":"IF(B1120=\"\",0,IF(B1120=B1119,COUNTIF(B$9:B1119,B1120)+1,1))","v":1108},0,0]
["1113","-1900","-1900-1109",null,null,null,null,null,null,null,null,null,null,null,null,null,null,null,null,null,null,{"$f":"IF(M$2021=1,\"\",IF(U1121=\"\",\"\",VLOOKUP(U1121,Tabelle!$D$5:$H$7,5,FALSE)))","v":""},{"$f":"IF(M$2021=1,\"\",IF(U1121=\"\",\"\",VLOOKUP(U1121,Tabelle!$D$5:$I$7,6,FALSE)))","v":""},null,null,null,null,null,null,null,null,null,null,null,{"$f":"IF(B1121=\"\",0,IF(B1121=B1120,COUNTIF(B$9:B1120,B1121)+1,1))","v":1109},0,0]
["1114","-1900","-1900-1110",null,null,null,null,null,null,null,null,null,null,null,null,null,null,null,null,null,null,{"$f":"IF(M$2021=1,\"\",IF(U1122=\"\",\"\",VLOOKUP(U1122,Tabelle!$D$5:$H$7,5,FALSE)))","v":""},{"$f":"IF(M$2021=1,\"\",IF(U1122=\"\",\"\",VLOOKUP(U1122,Tabelle!$D$5:$I$7,6,FALSE)))","v":""},null,null,null,null,null,null,null,null,null,null,null,{"$f":"IF(B1122=\"\",0,IF(B1122=B1121,COUNTIF(B$9:B1121,B1122)+1,1))","v":1110},0,0]
["1115","-1900","-1900-1111",null,null,null,null,null,null,null,null,null,null,null,null,null,null,null,null,null,null,{"$f":"IF(M$2021=1,\"\",IF(U1123=\"\",\"\",VLOOKUP(U1123,Tabelle!$D$5:$H$7,5,FALSE)))","v":""},{"$f":"IF(M$2021=1,\"\",IF(U1123=\"\",\"\",VLOOKUP(U1123,Tabelle!$D$5:$I$7,6,FALSE)))","v":""},null,null,null,null,null,null,null,null,null,null,null,{"$f":"IF(B1123=\"\",0,IF(B1123=B1122,COUNTIF(B$9:B1122,B1123)+1,1))","v":1111},0,0]
["1116","-1900","-1900-1112",null,null,null,null,null,null,null,null,null,null,null,null,null,null,null,null,null,null,{"$f":"IF(M$2021=1,\"\",IF(U1124=\"\",\"\",VLOOKUP(U1124,Tabelle!$D$5:$H$7,5,FALSE)))","v":""},{"$f":"IF(M$2021=1,\"\",IF(U1124=\"\",\"\",VLOOKUP(U1124,Tabelle!$D$5:$I$7,6,FALSE)))","v":""},null,null,null,null,null,null,null,null,null,null,null,{"$f":"IF(B1124=\"\",0,IF(B1124=B1123,COUNTIF(B$9:B1123,B1124)+1,1))","v":1112},0,0]
["1117","-1900","-1900-1113",null,null,null,null,null,null,null,null,null,null,null,null,null,null,null,null,null,null,{"$f":"IF(M$2021=1,\"\",IF(U1125=\"\",\"\",VLOOKUP(U1125,Tabelle!$D$5:$H$7,5,FALSE)))","v":""},{"$f":"IF(M$2021=1,\"\",IF(U1125=\"\",\"\",VLOOKUP(U1125,Tabelle!$D$5:$I$7,6,FALSE)))","v":""},null,null,null,null,null,null,null,null,null,null,null,{"$f":"IF(B1125=\"\",0,IF(B1125=B1124,COUNTIF(B$9:B1124,B1125)+1,1))","v":1113},0,0]
["1118","-1900","-1900-1114",null,null,null,null,null,null,null,null,null,null,null,null,null,null,null,null,null,null,{"$f":"IF(M$2021=1,\"\",IF(U1126=\"\",\"\",VLOOKUP(U1126,Tabelle!$D$5:$H$7,5,FALSE)))","v":""},{"$f":"IF(M$2021=1,\"\",IF(U1126=\"\",\"\",VLOOKUP(U1126,Tabelle!$D$5:$I$7,6,FALSE)))","v":""},null,null,null,null,null,null,null,null,null,null,null,{"$f":"IF(B1126=\"\",0,IF(B1126=B1125,COUNTIF(B$9:B1125,B1126)+1,1))","v":1114},0,0]
["1119","-1900","-1900-1115",null,null,null,null,null,null,null,null,null,null,null,null,null,null,null,null,null,null,{"$f":"IF(M$2021=1,\"\",IF(U1127=\"\",\"\",VLOOKUP(U1127,Tabelle!$D$5:$H$7,5,FALSE)))","v":""},{"$f":"IF(M$2021=1,\"\",IF(U1127=\"\",\"\",VLOOKUP(U1127,Tabelle!$D$5:$I$7,6,FALSE)))","v":""},null,null,null,null,null,null,null,null,null,null,null,{"$f":"IF(B1127=\"\",0,IF(B1127=B1126,COUNTIF(B$9:B1126,B1127)+1,1))","v":1115},0,0]
["1120","-1900","-1900-1116",null,null,null,null,null,null,null,null,null,null,null,null,null,null,null,null,null,null,{"$f":"IF(M$2021=1,\"\",IF(U1128=\"\",\"\",VLOOKUP(U1128,Tabelle!$D$5:$H$7,5,FALSE)))","v":""},{"$f":"IF(M$2021=1,\"\",IF(U1128=\"\",\"\",VLOOKUP(U1128,Tabelle!$D$5:$I$7,6,FALSE)))","v":""},null,null,null,null,null,null,null,null,null,null,null,{"$f":"IF(B1128=\"\",0,IF(B1128=B1127,COUNTIF(B$9:B1127,B1128)+1,1))","v":1116},0,0]
["1121","-1900","-1900-1117",null,null,null,null,null,null,null,null,null,null,null,null,null,null,null,null,null,null,{"$f":"IF(M$2021=1,\"\",IF(U1129=\"\",\"\",VLOOKUP(U1129,Tabelle!$D$5:$H$7,5,FALSE)))","v":""},{"$f":"IF(M$2021=1,\"\",IF(U1129=\"\",\"\",VLOOKUP(U1129,Tabelle!$D$5:$I$7,6,FALSE)))","v":""},null,null,null,null,null,null,null,null,null,null,null,{"$f":"IF(B1129=\"\",0,IF(B1129=B1128,COUNTIF(B$9:B1128,B1129)+1,1))","v":1117},0,0]
["1122","-1900","-1900-1118",null,null,null,null,null,null,null,null,null,null,null,null,null,null,null,null,null,null,{"$f":"IF(M$2021=1,\"\",IF(U1130=\"\",\"\",VLOOKUP(U1130,Tabelle!$D$5:$H$7,5,FALSE)))","v":""},{"$f":"IF(M$2021=1,\"\",IF(U1130=\"\",\"\",VLOOKUP(U1130,Tabelle!$D$5:$I$7,6,FALSE)))","v":""},null,null,null,null,null,null,null,null,null,null,null,{"$f":"IF(B1130=\"\",0,IF(B1130=B1129,COUNTIF(B$9:B1129,B1130)+1,1))","v":1118},0,0]
["1123","-1900","-1900-1119",null,null,null,null,null,null,null,null,null,null,null,null,null,null,null,null,null,null,{"$f":"IF(M$2021=1,\"\",IF(U1131=\"\",\"\",VLOOKUP(U1131,Tabelle!$D$5:$H$7,5,FALSE)))","v":""},{"$f":"IF(M$2021=1,\"\",IF(U1131=\"\",\"\",VLOOKUP(U1131,Tabelle!$D$5:$I$7,6,FALSE)))","v":""},null,null,null,null,null,null,null,null,null,null,null,{"$f":"IF(B1131=\"\",0,IF(B1131=B1130,COUNTIF(B$9:B1130,B1131)+1,1))","v":1119},0,0]
["1124","-1900","-1900-1120",null,null,null,null,null,null,null,null,null,null,null,null,null,null,null,null,null,null,{"$f":"IF(M$2021=1,\"\",IF(U1132=\"\",\"\",VLOOKUP(U1132,Tabelle!$D$5:$H$7,5,FALSE)))","v":""},{"$f":"IF(M$2021=1,\"\",IF(U1132=\"\",\"\",VLOOKUP(U1132,Tabelle!$D$5:$I$7,6,FALSE)))","v":""},null,null,null,null,null,null,null,null,null,null,null,{"$f":"IF(B1132=\"\",0,IF(B1132=B1131,COUNTIF(B$9:B1131,B1132)+1,1))","v":1120},0,0]
["1125","-1900","-1900-1121",null,null,null,null,null,null,null,null,null,null,null,null,null,null,null,null,null,null,{"$f":"IF(M$2021=1,\"\",IF(U1133=\"\",\"\",VLOOKUP(U1133,Tabelle!$D$5:$H$7,5,FALSE)))","v":""},{"$f":"IF(M$2021=1,\"\",IF(U1133=\"\",\"\",VLOOKUP(U1133,Tabelle!$D$5:$I$7,6,FALSE)))","v":""},null,null,null,null,null,null,null,null,null,null,null,{"$f":"IF(B1133=\"\",0,IF(B1133=B1132,COUNTIF(B$9:B1132,B1133)+1,1))","v":1121},0,0]
["1126","-1900","-1900-1122",null,null,null,null,null,null,null,null,null,null,null,null,null,null,null,null,null,null,{"$f":"IF(M$2021=1,\"\",IF(U1134=\"\",\"\",VLOOKUP(U1134,Tabelle!$D$5:$H$7,5,FALSE)))","v":""},{"$f":"IF(M$2021=1,\"\",IF(U1134=\"\",\"\",VLOOKUP(U1134,Tabelle!$D$5:$I$7,6,FALSE)))","v":""},null,null,null,null,null,null,null,null,null,null,null,{"$f":"IF(B1134=\"\",0,IF(B1134=B1133,COUNTIF(B$9:B1133,B1134)+1,1))","v":1122},0,0]
["1127","-1900","-1900-1123",null,null,null,null,null,null,null,null,null,null,null,null,null,null,null,null,null,null,{"$f":"IF(M$2021=1,\"\",IF(U1135=\"\",\"\",VLOOKUP(U1135,Tabelle!$D$5:$H$7,5,FALSE)))","v":""},{"$f":"IF(M$2021=1,\"\",IF(U1135=\"\",\"\",VLOOKUP(U1135,Tabelle!$D$5:$I$7,6,FALSE)))","v":""},null,null,null,null,null,null,null,null,null,null,null,{"$f":"IF(B1135=\"\",0,IF(B1135=B1134,COUNTIF(B$9:B1134,B1135)+1,1))","v":1123},0,0]
["1128","-1900","-1900-1124",null,null,null,null,null,null,null,null,null,null,null,null,null,null,null,null,null,null,{"$f":"IF(M$2021=1,\"\",IF(U1136=\"\",\"\",VLOOKUP(U1136,Tabelle!$D$5:$H$7,5,FALSE)))","v":""},{"$f":"IF(M$2021=1,\"\",IF(U1136=\"\",\"\",VLOOKUP(U1136,Tabelle!$D$5:$I$7,6,FALSE)))","v":""},null,null,null,null,null,null,null,null,null,null,null,{"$f":"IF(B1136=\"\",0,IF(B1136=B1135,COUNTIF(B$9:B1135,B1136)+1,1))","v":1124},0,0]
["1129","-1900","-1900-1125",null,null,null,null,null,null,null,null,null,null,null,null,null,null,null,null,null,null,{"$f":"IF(M$2021=1,\"\",IF(U1137=\"\",\"\",VLOOKUP(U1137,Tabelle!$D$5:$H$7,5,FALSE)))","v":""},{"$f":"IF(M$2021=1,\"\",IF(U1137=\"\",\"\",VLOOKUP(U1137,Tabelle!$D$5:$I$7,6,FALSE)))","v":""},null,null,null,null,null,null,null,null,null,null,null,{"$f":"IF(B1137=\"\",0,IF(B1137=B1136,COUNTIF(B$9:B1136,B1137)+1,1))","v":1125},0,0]
["1130","-1900","-1900-1126",null,null,null,null,null,null,null,null,null,null,null,null,null,null,null,null,null,null,{"$f":"IF(M$2021=1,\"\",IF(U1138=\"\",\"\",VLOOKUP(U1138,Tabelle!$D$5:$H$7,5,FALSE)))","v":""},{"$f":"IF(M$2021=1,\"\",IF(U1138=\"\",\"\",VLOOKUP(U1138,Tabelle!$D$5:$I$7,6,FALSE)))","v":""},null,null,null,null,null,null,null,null,null,null,null,{"$f":"IF(B1138=\"\",0,IF(B1138=B1137,COUNTIF(B$9:B1137,B1138)+1,1))","v":1126},0,0]
["1131","-1900","-1900-1127",null,null,null,null,null,null,null,null,null,null,null,null,null,null,null,null,null,null,{"$f":"IF(M$2021=1,\"\",IF(U1139=\"\",\"\",VLOOKUP(U1139,Tabelle!$D$5:$H$7,5,FALSE)))","v":""},{"$f":"IF(M$2021=1,\"\",IF(U1139=\"\",\"\",VLOOKUP(U1139,Tabelle!$D$5:$I$7,6,FALSE)))","v":""},null,null,null,null,null,null,null,null,null,null,null,{"$f":"IF(B1139=\"\",0,IF(B1139=B1138,COUNTIF(B$9:B1138,B1139)+1,1))","v":1127},0,0]
["1132","-1900","-1900-1128",null,null,null,null,null,null,null,null,null,null,null,null,null,null,null,null,null,null,{"$f":"IF(M$2021=1,\"\",IF(U1140=\"\",\"\",VLOOKUP(U1140,Tabelle!$D$5:$H$7,5,FALSE)))","v":""},{"$f":"IF(M$2021=1,\"\",IF(U1140=\"\",\"\",VLOOKUP(U1140,Tabelle!$D$5:$I$7,6,FALSE)))","v":""},null,null,null,null,null,null,null,null,null,null,null,{"$f":"IF(B1140=\"\",0,IF(B1140=B1139,COUNTIF(B$9:B1139,B1140)+1,1))","v":1128},0,0]
["1133","-1900","-1900-1129",null,null,null,null,null,null,null,null,null,null,null,null,null,null,null,null,null,null,{"$f":"IF(M$2021=1,\"\",IF(U1141=\"\",\"\",VLOOKUP(U1141,Tabelle!$D$5:$H$7,5,FALSE)))","v":""},{"$f":"IF(M$2021=1,\"\",IF(U1141=\"\",\"\",VLOOKUP(U1141,Tabelle!$D$5:$I$7,6,FALSE)))","v":""},null,null,null,null,null,null,null,null,null,null,null,{"$f":"IF(B1141=\"\",0,IF(B1141=B1140,COUNTIF(B$9:B1140,B1141)+1,1))","v":1129},0,0]
["1134","-1900","-1900-1130",null,null,null,null,null,null,null,null,null,null,null,null,null,null,null,null,null,null,{"$f":"IF(M$2021=1,\"\",IF(U1142=\"\",\"\",VLOOKUP(U1142,Tabelle!$D$5:$H$7,5,FALSE)))","v":""},{"$f":"IF(M$2021=1,\"\",IF(U1142=\"\",\"\",VLOOKUP(U1142,Tabelle!$D$5:$I$7,6,FALSE)))","v":""},null,null,null,null,null,null,null,null,null,null,null,{"$f":"IF(B1142=\"\",0,IF(B1142=B1141,COUNTIF(B$9:B1141,B1142)+1,1))","v":1130},0,0]
["1135","-1900","-1900-1131",null,null,null,null,null,null,null,null,null,null,null,null,null,null,null,null,null,null,{"$f":"IF(M$2021=1,\"\",IF(U1143=\"\",\"\",VLOOKUP(U1143,Tabelle!$D$5:$H$7,5,FALSE)))","v":""},{"$f":"IF(M$2021=1,\"\",IF(U1143=\"\",\"\",VLOOKUP(U1143,Tabelle!$D$5:$I$7,6,FALSE)))","v":""},null,null,null,null,null,null,null,null,null,null,null,{"$f":"IF(B1143=\"\",0,IF(B1143=B1142,COUNTIF(B$9:B1142,B1143)+1,1))","v":1131},0,0]
["1136","-1900","-1900-1132",null,null,null,null,null,null,null,null,null,null,null,null,null,null,null,null,null,null,{"$f":"IF(M$2021=1,\"\",IF(U1144=\"\",\"\",VLOOKUP(U1144,Tabelle!$D$5:$H$7,5,FALSE)))","v":""},{"$f":"IF(M$2021=1,\"\",IF(U1144=\"\",\"\",VLOOKUP(U1144,Tabelle!$D$5:$I$7,6,FALSE)))","v":""},null,null,null,null,null,null,null,null,null,null,null,{"$f":"IF(B1144=\"\",0,IF(B1144=B1143,COUNTIF(B$9:B1143,B1144)+1,1))","v":1132},0,0]
["1137","-1900","-1900-1133",null,null,null,null,null,null,null,null,null,null,null,null,null,null,null,null,null,null,{"$f":"IF(M$2021=1,\"\",IF(U1145=\"\",\"\",VLOOKUP(U1145,Tabelle!$D$5:$H$7,5,FALSE)))","v":""},{"$f":"IF(M$2021=1,\"\",IF(U1145=\"\",\"\",VLOOKUP(U1145,Tabelle!$D$5:$I$7,6,FALSE)))","v":""},null,null,null,null,null,null,null,null,null,null,null,{"$f":"IF(B1145=\"\",0,IF(B1145=B1144,COUNTIF(B$9:B1144,B1145)+1,1))","v":1133},0,0]
["1138","-1900","-1900-1134",null,null,null,null,null,null,null,null,null,null,null,null,null,null,null,null,null,null,{"$f":"IF(M$2021=1,\"\",IF(U1146=\"\",\"\",VLOOKUP(U1146,Tabelle!$D$5:$H$7,5,FALSE)))","v":""},{"$f":"IF(M$2021=1,\"\",IF(U1146=\"\",\"\",VLOOKUP(U1146,Tabelle!$D$5:$I$7,6,FALSE)))","v":""},null,null,null,null,null,null,null,null,null,null,null,{"$f":"IF(B1146=\"\",0,IF(B1146=B1145,COUNTIF(B$9:B1145,B1146)+1,1))","v":1134},0,0]
["1139","-1900","-1900-1135",null,null,null,null,null,null,null,null,null,null,null,null,null,null,null,null,null,null,{"$f":"IF(M$2021=1,\"\",IF(U1147=\"\",\"\",VLOOKUP(U1147,Tabelle!$D$5:$H$7,5,FALSE)))","v":""},{"$f":"IF(M$2021=1,\"\",IF(U1147=\"\",\"\",VLOOKUP(U1147,Tabelle!$D$5:$I$7,6,FALSE)))","v":""},null,null,null,null,null,null,null,null,null,null,null,{"$f":"IF(B1147=\"\",0,IF(B1147=B1146,COUNTIF(B$9:B1146,B1147)+1,1))","v":1135},0,0]
["1140","-1900","-1900-1136",null,null,null,null,null,null,null,null,null,null,null,null,null,null,null,null,null,null,{"$f":"IF(M$2021=1,\"\",IF(U1148=\"\",\"\",VLOOKUP(U1148,Tabelle!$D$5:$H$7,5,FALSE)))","v":""},{"$f":"IF(M$2021=1,\"\",IF(U1148=\"\",\"\",VLOOKUP(U1148,Tabelle!$D$5:$I$7,6,FALSE)))","v":""},null,null,null,null,null,null,null,null,null,null,null,{"$f":"IF(B1148=\"\",0,IF(B1148=B1147,COUNTIF(B$9:B1147,B1148)+1,1))","v":1136},0,0]
["1141","-1900","-1900-1137",null,null,null,null,null,null,null,null,null,null,null,null,null,null,null,null,null,null,{"$f":"IF(M$2021=1,\"\",IF(U1149=\"\",\"\",VLOOKUP(U1149,Tabelle!$D$5:$H$7,5,FALSE)))","v":""},{"$f":"IF(M$2021=1,\"\",IF(U1149=\"\",\"\",VLOOKUP(U1149,Tabelle!$D$5:$I$7,6,FALSE)))","v":""},null,null,null,null,null,null,null,null,null,null,null,{"$f":"IF(B1149=\"\",0,IF(B1149=B1148,COUNTIF(B$9:B1148,B1149)+1,1))","v":1137},0,0]
["1142","-1900","-1900-1138",null,null,null,null,null,null,null,null,null,null,null,null,null,null,null,null,null,null,{"$f":"IF(M$2021=1,\"\",IF(U1150=\"\",\"\",VLOOKUP(U1150,Tabelle!$D$5:$H$7,5,FALSE)))","v":""},{"$f":"IF(M$2021=1,\"\",IF(U1150=\"\",\"\",VLOOKUP(U1150,Tabelle!$D$5:$I$7,6,FALSE)))","v":""},null,null,null,null,null,null,null,null,null,null,null,{"$f":"IF(B1150=\"\",0,IF(B1150=B1149,COUNTIF(B$9:B1149,B1150)+1,1))","v":1138},0,0]
["1143","-1900","-1900-1139",null,null,null,null,null,null,null,null,null,null,null,null,null,null,null,null,null,null,{"$f":"IF(M$2021=1,\"\",IF(U1151=\"\",\"\",VLOOKUP(U1151,Tabelle!$D$5:$H$7,5,FALSE)))","v":""},{"$f":"IF(M$2021=1,\"\",IF(U1151=\"\",\"\",VLOOKUP(U1151,Tabelle!$D$5:$I$7,6,FALSE)))","v":""},null,null,null,null,null,null,null,null,null,null,null,{"$f":"IF(B1151=\"\",0,IF(B1151=B1150,COUNTIF(B$9:B1150,B1151)+1,1))","v":1139},0,0]
["1144","-1900","-1900-1140",null,null,null,null,null,null,null,null,null,null,null,null,null,null,null,null,null,null,{"$f":"IF(M$2021=1,\"\",IF(U1152=\"\",\"\",VLOOKUP(U1152,Tabelle!$D$5:$H$7,5,FALSE)))","v":""},{"$f":"IF(M$2021=1,\"\",IF(U1152=\"\",\"\",VLOOKUP(U1152,Tabelle!$D$5:$I$7,6,FALSE)))","v":""},null,null,null,null,null,null,null,null,null,null,null,{"$f":"IF(B1152=\"\",0,IF(B1152=B1151,COUNTIF(B$9:B1151,B1152)+1,1))","v":1140},0,0]
["1145","-1900","-1900-1141",null,null,null,null,null,null,null,null,null,null,null,null,null,null,null,null,null,null,{"$f":"IF(M$2021=1,\"\",IF(U1153=\"\",\"\",VLOOKUP(U1153,Tabelle!$D$5:$H$7,5,FALSE)))","v":""},{"$f":"IF(M$2021=1,\"\",IF(U1153=\"\",\"\",VLOOKUP(U1153,Tabelle!$D$5:$I$7,6,FALSE)))","v":""},null,null,null,null,null,null,null,null,null,null,null,{"$f":"IF(B1153=\"\",0,IF(B1153=B1152,COUNTIF(B$9:B1152,B1153)+1,1))","v":1141},0,0]
["1146","-1900","-1900-1142",null,null,null,null,null,null,null,null,null,null,null,null,null,null,null,null,null,null,{"$f":"IF(M$2021=1,\"\",IF(U1154=\"\",\"\",VLOOKUP(U1154,Tabelle!$D$5:$H$7,5,FALSE)))","v":""},{"$f":"IF(M$2021=1,\"\",IF(U1154=\"\",\"\",VLOOKUP(U1154,Tabelle!$D$5:$I$7,6,FALSE)))","v":""},null,null,null,null,null,null,null,null,null,null,null,{"$f":"IF(B1154=\"\",0,IF(B1154=B1153,COUNTIF(B$9:B1153,B1154)+1,1))","v":1142},0,0]
["1147","-1900","-1900-1143",null,null,null,null,null,null,null,null,null,null,null,null,null,null,null,null,null,null,{"$f":"IF(M$2021=1,\"\",IF(U1155=\"\",\"\",VLOOKUP(U1155,Tabelle!$D$5:$H$7,5,FALSE)))","v":""},{"$f":"IF(M$2021=1,\"\",IF(U1155=\"\",\"\",VLOOKUP(U1155,Tabelle!$D$5:$I$7,6,FALSE)))","v":""},null,null,null,null,null,null,null,null,null,null,null,{"$f":"IF(B1155=\"\",0,IF(B1155=B1154,COUNTIF(B$9:B1154,B1155)+1,1))","v":1143},0,0]
["1148","-1900","-1900-1144",null,null,null,null,null,null,null,null,null,null,null,null,null,null,null,null,null,null,{"$f":"IF(M$2021=1,\"\",IF(U1156=\"\",\"\",VLOOKUP(U1156,Tabelle!$D$5:$H$7,5,FALSE)))","v":""},{"$f":"IF(M$2021=1,\"\",IF(U1156=\"\",\"\",VLOOKUP(U1156,Tabelle!$D$5:$I$7,6,FALSE)))","v":""},null,null,null,null,null,null,null,null,null,null,null,{"$f":"IF(B1156=\"\",0,IF(B1156=B1155,COUNTIF(B$9:B1155,B1156)+1,1))","v":1144},0,0]
["1149","-1900","-1900-1145",null,null,null,null,null,null,null,null,null,null,null,null,null,null,null,null,null,null,{"$f":"IF(M$2021=1,\"\",IF(U1157=\"\",\"\",VLOOKUP(U1157,Tabelle!$D$5:$H$7,5,FALSE)))","v":""},{"$f":"IF(M$2021=1,\"\",IF(U1157=\"\",\"\",VLOOKUP(U1157,Tabelle!$D$5:$I$7,6,FALSE)))","v":""},null,null,null,null,null,null,null,null,null,null,null,{"$f":"IF(B1157=\"\",0,IF(B1157=B1156,COUNTIF(B$9:B1156,B1157)+1,1))","v":1145},0,0]
["1150","-1900","-1900-1146",null,null,null,null,null,null,null,null,null,null,null,null,null,null,null,null,null,null,{"$f":"IF(M$2021=1,\"\",IF(U1158=\"\",\"\",VLOOKUP(U1158,Tabelle!$D$5:$H$7,5,FALSE)))","v":""},{"$f":"IF(M$2021=1,\"\",IF(U1158=\"\",\"\",VLOOKUP(U1158,Tabelle!$D$5:$I$7,6,FALSE)))","v":""},null,null,null,null,null,null,null,null,null,null,null,{"$f":"IF(B1158=\"\",0,IF(B1158=B1157,COUNTIF(B$9:B1157,B1158)+1,1))","v":1146},0,0]
["1151","-1900","-1900-1147",null,null,null,null,null,null,null,null,null,null,null,null,null,null,null,null,null,null,{"$f":"IF(M$2021=1,\"\",IF(U1159=\"\",\"\",VLOOKUP(U1159,Tabelle!$D$5:$H$7,5,FALSE)))","v":""},{"$f":"IF(M$2021=1,\"\",IF(U1159=\"\",\"\",VLOOKUP(U1159,Tabelle!$D$5:$I$7,6,FALSE)))","v":""},null,null,null,null,null,null,null,null,null,null,null,{"$f":"IF(B1159=\"\",0,IF(B1159=B1158,COUNTIF(B$9:B1158,B1159)+1,1))","v":1147},0,0]
["1152","-1900","-1900-1148",null,null,null,null,null,null,null,null,null,null,null,null,null,null,null,null,null,null,{"$f":"IF(M$2021=1,\"\",IF(U1160=\"\",\"\",VLOOKUP(U1160,Tabelle!$D$5:$H$7,5,FALSE)))","v":""},{"$f":"IF(M$2021=1,\"\",IF(U1160=\"\",\"\",VLOOKUP(U1160,Tabelle!$D$5:$I$7,6,FALSE)))","v":""},null,null,null,null,null,null,null,null,null,null,null,{"$f":"IF(B1160=\"\",0,IF(B1160=B1159,COUNTIF(B$9:B1159,B1160)+1,1))","v":1148},0,0]
["1153","-1900",{"$f":"IF(M$2021=1,0,B1161&\"-\"&AI1161)","v":"-1900-1149"},null,null,null,null,null,null,null,null,null,null,null,null,null,null,null,null,null,null,{"$f":"IF(M$2021=1,\"\",IF(U1161=\"\",\"\",VLOOKUP(U1161,Tabelle!$D$5:$H$7,5,FALSE)))","v":""},{"$f":"IF(M$2021=1,\"\",IF(U1161=\"\",\"\",VLOOKUP(U1161,Tabelle!$D$5:$I$7,6,FALSE)))","v":""},null,null,null,null,null,null,null,null,null,null,null,{"$f":"IF(B1161=\"\",0,IF(B1161=B1160,COUNTIF(B$9:B1160,B1161)+1,1))","v":1149},0,0]
["1154",{"$f":"IF(AK1162=$AK$2015,0,IF(M$2021=1,0,D1162&\"-\"&YEAR(E1162)))","v":"-1900"},"-1900-1150",null,null,null,null,null,null,null,null,null,null,null,null,null,null,null,null,null,null,{"$f":"IF(M$2021=1,\"\",IF(U1162=\"\",\"\",VLOOKUP(U1162,Tabelle!$D$5:$H$7,5,FALSE)))","v":""},{"$f":"IF(M$2021=1,\"\",IF(U1162=\"\",\"\",VLOOKUP(U1162,Tabelle!$D$5:$I$7,6,FALSE)))","v":""},null,null,null,null,null,null,null,null,null,null,null,{"$f":"IF(B1162=\"\",0,IF(B1162=B1161,COUNTIF(B$9:B1161,B1162)+1,1))","v":1150},{"$f":"IF(OR(D1162=\"\",M$2021=1),0,IF(AI1162=10,1,0))","v":0},{"$f":"IF(E1162>0,IF(OR(MONTH(E1162)<$J$2027,MONTH(E1162)>$J$2028),AK$2015,0),0)","v":0}]
["1155","-1900","-1900-1151",null,null,null,null,null,null,null,null,null,null,null,null,null,null,null,null,null,null,{"$f":"IF(M$2021=1,\"\",IF(U1163=\"\",\"\",VLOOKUP(U1163,Tabelle!$D$5:$H$7,5,FALSE)))","v":""},{"$f":"IF(M$2021=1,\"\",IF(U1163=\"\",\"\",VLOOKUP(U1163,Tabelle!$D$5:$I$7,6,FALSE)))","v":""},null,null,null,null,null,null,null,null,null,null,null,{"$f":"IF(B1163=\"\",0,IF(B1163=B1162,COUNTIF(B$9:B1162,B1163)+1,1))","v":1151},0,0]
["1156","-1900","-1900-1152",null,null,null,null,null,null,null,null,null,null,null,null,null,null,null,null,null,null,{"$f":"IF(M$2021=1,\"\",IF(U1164=\"\",\"\",VLOOKUP(U1164,Tabelle!$D$5:$H$7,5,FALSE)))","v":""},{"$f":"IF(M$2021=1,\"\",IF(U1164=\"\",\"\",VLOOKUP(U1164,Tabelle!$D$5:$I$7,6,FALSE)))","v":""},null,null,null,null,null,null,null,null,null,null,null,{"$f":"IF(B1164=\"\",0,IF(B1164=B1163,COUNTIF(B$9:B1163,B1164)+1,1))","v":1152},0,0]
["1157","-1900","-1900-1153",null,null,null,null,null,null,null,null,null,null,null,null,null,null,null,null,null,null,{"$f":"IF(M$2021=1,\"\",IF(U1165=\"\",\"\",VLOOKUP(U1165,Tabelle!$D$5:$H$7,5,FALSE)))","v":""},{"$f":"IF(M$2021=1,\"\",IF(U1165=\"\",\"\",VLOOKUP(U1165,Tabelle!$D$5:$I$7,6,FALSE)))","v":""},null,null,null,null,null,null,null,null,null,null,null,{"$f":"IF(B1165=\"\",0,IF(B1165=B1164,COUNTIF(B$9:B1164,B1165)+1,1))","v":1153},0,0]
["1158","-1900","-1900-1154",null,null,null,null,null,null,null,null,null,null,null,null,null,null,null,null,null,null,{"$f":"IF(M$2021=1,\"\",IF(U1166=\"\",\"\",VLOOKUP(U1166,Tabelle!$D$5:$H$7,5,FALSE)))","v":""},{"$f":"IF(M$2021=1,\"\",IF(U1166=\"\",\"\",VLOOKUP(U1166,Tabelle!$D$5:$I$7,6,FALSE)))","v":""},null,null,null,null,null,null,null,null,null,null,null,{"$f":"IF(B1166=\"\",0,IF(B1166=B1165,COUNTIF(B$9:B1165,B1166)+1,1))","v":1154},0,0]
["1159","-1900","-1900-1155",null,null,null,null,null,null,null,null,null,null,null,null,null,null,null,null,null,null,{"$f":"IF(M$2021=1,\"\",IF(U1167=\"\",\"\",VLOOKUP(U1167,Tabelle!$D$5:$H$7,5,FALSE)))","v":""},{"$f":"IF(M$2021=1,\"\",IF(U1167=\"\",\"\",VLOOKUP(U1167,Tabelle!$D$5:$I$7,6,FALSE)))","v":""},null,null,null,null,null,null,null,null,null,null,null,{"$f":"IF(B1167=\"\",0,IF(B1167=B1166,COUNTIF(B$9:B1166,B1167)+1,1))","v":1155},0,0]
["1160","-1900","-1900-1156",null,null,null,null,null,null,null,null,null,null,null,null,null,null,null,null,null,null,{"$f":"IF(M$2021=1,\"\",IF(U1168=\"\",\"\",VLOOKUP(U1168,Tabelle!$D$5:$H$7,5,FALSE)))","v":""},{"$f":"IF(M$2021=1,\"\",IF(U1168=\"\",\"\",VLOOKUP(U1168,Tabelle!$D$5:$I$7,6,FALSE)))","v":""},null,null,null,null,null,null,null,null,null,null,null,{"$f":"IF(B1168=\"\",0,IF(B1168=B1167,COUNTIF(B$9:B1167,B1168)+1,1))","v":1156},0,0]
["1161","-1900","-1900-1157",null,null,null,null,null,null,null,null,null,null,null,null,null,null,null,null,null,null,{"$f":"IF(M$2021=1,\"\",IF(U1169=\"\",\"\",VLOOKUP(U1169,Tabelle!$D$5:$H$7,5,FALSE)))","v":""},{"$f":"IF(M$2021=1,\"\",IF(U1169=\"\",\"\",VLOOKUP(U1169,Tabelle!$D$5:$I$7,6,FALSE)))","v":""},null,null,null,null,null,null,null,null,null,null,null,{"$f":"IF(B1169=\"\",0,IF(B1169=B1168,COUNTIF(B$9:B1168,B1169)+1,1))","v":1157},0,0]
["1162","-1900","-1900-1158",null,null,null,null,null,null,null,null,null,null,null,null,null,null,null,null,null,null,{"$f":"IF(M$2021=1,\"\",IF(U1170=\"\",\"\",VLOOKUP(U1170,Tabelle!$D$5:$H$7,5,FALSE)))","v":""},{"$f":"IF(M$2021=1,\"\",IF(U1170=\"\",\"\",VLOOKUP(U1170,Tabelle!$D$5:$I$7,6,FALSE)))","v":""},null,null,null,null,null,null,null,null,null,null,null,{"$f":"IF(B1170=\"\",0,IF(B1170=B1169,COUNTIF(B$9:B1169,B1170)+1,1))","v":1158},0,0]
["1163","-1900","-1900-1159",null,null,null,null,null,null,null,null,null,null,null,null,null,null,null,null,null,null,{"$f":"IF(M$2021=1,\"\",IF(U1171=\"\",\"\",VLOOKUP(U1171,Tabelle!$D$5:$H$7,5,FALSE)))","v":""},{"$f":"IF(M$2021=1,\"\",IF(U1171=\"\",\"\",VLOOKUP(U1171,Tabelle!$D$5:$I$7,6,FALSE)))","v":""},null,null,null,null,null,null,null,null,null,null,null,{"$f":"IF(B1171=\"\",0,IF(B1171=B1170,COUNTIF(B$9:B1170,B1171)+1,1))","v":1159},0,0]
["1164","-1900","-1900-1160",null,null,null,null,null,null,null,null,null,null,null,null,null,null,null,null,null,null,{"$f":"IF(M$2021=1,\"\",IF(U1172=\"\",\"\",VLOOKUP(U1172,Tabelle!$D$5:$H$7,5,FALSE)))","v":""},{"$f":"IF(M$2021=1,\"\",IF(U1172=\"\",\"\",VLOOKUP(U1172,Tabelle!$D$5:$I$7,6,FALSE)))","v":""},null,null,null,null,null,null,null,null,null,null,null,{"$f":"IF(B1172=\"\",0,IF(B1172=B1171,COUNTIF(B$9:B1171,B1172)+1,1))","v":1160},0,0]
["1165","-1900","-1900-1161",null,null,null,null,null,null,null,null,null,null,null,null,null,null,null,null,null,null,{"$f":"IF(M$2021=1,\"\",IF(U1173=\"\",\"\",VLOOKUP(U1173,Tabelle!$D$5:$H$7,5,FALSE)))","v":""},{"$f":"IF(M$2021=1,\"\",IF(U1173=\"\",\"\",VLOOKUP(U1173,Tabelle!$D$5:$I$7,6,FALSE)))","v":""},null,null,null,null,null,null,null,null,null,null,null,{"$f":"IF(B1173=\"\",0,IF(B1173=B1172,COUNTIF(B$9:B1172,B1173)+1,1))","v":1161},0,0]
["1166","-1900","-1900-1162",null,null,null,null,null,null,null,null,null,null,null,null,null,null,null,null,null,null,{"$f":"IF(M$2021=1,\"\",IF(U1174=\"\",\"\",VLOOKUP(U1174,Tabelle!$D$5:$H$7,5,FALSE)))","v":""},{"$f":"IF(M$2021=1,\"\",IF(U1174=\"\",\"\",VLOOKUP(U1174,Tabelle!$D$5:$I$7,6,FALSE)))","v":""},null,null,null,null,null,null,null,null,null,null,null,{"$f":"IF(B1174=\"\",0,IF(B1174=B1173,COUNTIF(B$9:B1173,B1174)+1,1))","v":1162},0,0]
["1167","-1900","-1900-1163",null,null,null,null,null,null,null,null,null,null,null,null,null,null,null,null,null,null,{"$f":"IF(M$2021=1,\"\",IF(U1175=\"\",\"\",VLOOKUP(U1175,Tabelle!$D$5:$H$7,5,FALSE)))","v":""},{"$f":"IF(M$2021=1,\"\",IF(U1175=\"\",\"\",VLOOKUP(U1175,Tabelle!$D$5:$I$7,6,FALSE)))","v":""},null,null,null,null,null,null,null,null,null,null,null,{"$f":"IF(B1175=\"\",0,IF(B1175=B1174,COUNTIF(B$9:B1174,B1175)+1,1))","v":1163},0,0]
["1168","-1900","-1900-1164",null,null,null,null,null,null,null,null,null,null,null,null,null,null,null,null,null,null,{"$f":"IF(M$2021=1,\"\",IF(U1176=\"\",\"\",VLOOKUP(U1176,Tabelle!$D$5:$H$7,5,FALSE)))","v":""},{"$f":"IF(M$2021=1,\"\",IF(U1176=\"\",\"\",VLOOKUP(U1176,Tabelle!$D$5:$I$7,6,FALSE)))","v":""},null,null,null,null,null,null,null,null,null,null,null,{"$f":"IF(B1176=\"\",0,IF(B1176=B1175,COUNTIF(B$9:B1175,B1176)+1,1))","v":1164},0,0]
["1169","-1900","-1900-1165",null,null,null,null,null,null,null,null,null,null,null,null,null,null,null,null,null,null,{"$f":"IF(M$2021=1,\"\",IF(U1177=\"\",\"\",VLOOKUP(U1177,Tabelle!$D$5:$H$7,5,FALSE)))","v":""},{"$f":"IF(M$2021=1,\"\",IF(U1177=\"\",\"\",VLOOKUP(U1177,Tabelle!$D$5:$I$7,6,FALSE)))","v":""},null,null,null,null,null,null,null,null,null,null,null,{"$f":"IF(B1177=\"\",0,IF(B1177=B1176,COUNTIF(B$9:B1176,B1177)+1,1))","v":1165},0,0]
["1170","-1900","-1900-1166",null,null,null,null,null,null,null,null,null,null,null,null,null,null,null,null,null,null,{"$f":"IF(M$2021=1,\"\",IF(U1178=\"\",\"\",VLOOKUP(U1178,Tabelle!$D$5:$H$7,5,FALSE)))","v":""},{"$f":"IF(M$2021=1,\"\",IF(U1178=\"\",\"\",VLOOKUP(U1178,Tabelle!$D$5:$I$7,6,FALSE)))","v":""},null,null,null,null,null,null,null,null,null,null,null,{"$f":"IF(B1178=\"\",0,IF(B1178=B1177,COUNTIF(B$9:B1177,B1178)+1,1))","v":1166},0,0]
["1171","-1900","-1900-1167",null,null,null,null,null,null,null,null,null,null,null,null,null,null,null,null,null,null,{"$f":"IF(M$2021=1,\"\",IF(U1179=\"\",\"\",VLOOKUP(U1179,Tabelle!$D$5:$H$7,5,FALSE)))","v":""},{"$f":"IF(M$2021=1,\"\",IF(U1179=\"\",\"\",VLOOKUP(U1179,Tabelle!$D$5:$I$7,6,FALSE)))","v":""},null,null,null,null,null,null,null,null,null,null,null,{"$f":"IF(B1179=\"\",0,IF(B1179=B1178,COUNTIF(B$9:B1178,B1179)+1,1))","v":1167},0,0]
["1172","-1900","-1900-1168",null,null,null,null,null,null,null,null,null,null,null,null,null,null,null,null,null,null,{"$f":"IF(M$2021=1,\"\",IF(U1180=\"\",\"\",VLOOKUP(U1180,Tabelle!$D$5:$H$7,5,FALSE)))","v":""},{"$f":"IF(M$2021=1,\"\",IF(U1180=\"\",\"\",VLOOKUP(U1180,Tabelle!$D$5:$I$7,6,FALSE)))","v":""},null,null,null,null,null,null,null,null,null,null,null,{"$f":"IF(B1180=\"\",0,IF(B1180=B1179,COUNTIF(B$9:B1179,B1180)+1,1))","v":1168},0,0]
["1173","-1900","-1900-1169",null,null,null,null,null,null,null,null,null,null,null,null,null,null,null,null,null,null,{"$f":"IF(M$2021=1,\"\",IF(U1181=\"\",\"\",VLOOKUP(U1181,Tabelle!$D$5:$H$7,5,FALSE)))","v":""},{"$f":"IF(M$2021=1,\"\",IF(U1181=\"\",\"\",VLOOKUP(U1181,Tabelle!$D$5:$I$7,6,FALSE)))","v":""},null,null,null,null,null,null,null,null,null,null,null,{"$f":"IF(B1181=\"\",0,IF(B1181=B1180,COUNTIF(B$9:B1180,B1181)+1,1))","v":1169},0,0]
["1174","-1900","-1900-1170",null,null,null,null,null,null,null,null,null,null,null,null,null,null,null,null,null,null,{"$f":"IF(M$2021=1,\"\",IF(U1182=\"\",\"\",VLOOKUP(U1182,Tabelle!$D$5:$H$7,5,FALSE)))","v":""},{"$f":"IF(M$2021=1,\"\",IF(U1182=\"\",\"\",VLOOKUP(U1182,Tabelle!$D$5:$I$7,6,FALSE)))","v":""},null,null,null,null,null,null,null,null,null,null,null,{"$f":"IF(B1182=\"\",0,IF(B1182=B1181,COUNTIF(B$9:B1181,B1182)+1,1))","v":1170},0,0]
["1175","-1900","-1900-1171",null,null,null,null,null,null,null,null,null,null,null,null,null,null,null,null,null,null,{"$f":"IF(M$2021=1,\"\",IF(U1183=\"\",\"\",VLOOKUP(U1183,Tabelle!$D$5:$H$7,5,FALSE)))","v":""},{"$f":"IF(M$2021=1,\"\",IF(U1183=\"\",\"\",VLOOKUP(U1183,Tabelle!$D$5:$I$7,6,FALSE)))","v":""},null,null,null,null,null,null,null,null,null,null,null,{"$f":"IF(B1183=\"\",0,IF(B1183=B1182,COUNTIF(B$9:B1182,B1183)+1,1))","v":1171},0,0]
["1176","-1900","-1900-1172",null,null,null,null,null,null,null,null,null,null,null,null,null,null,null,null,null,null,{"$f":"IF(M$2021=1,\"\",IF(U1184=\"\",\"\",VLOOKUP(U1184,Tabelle!$D$5:$H$7,5,FALSE)))","v":""},{"$f":"IF(M$2021=1,\"\",IF(U1184=\"\",\"\",VLOOKUP(U1184,Tabelle!$D$5:$I$7,6,FALSE)))","v":""},null,null,null,null,null,null,null,null,null,null,null,{"$f":"IF(B1184=\"\",0,IF(B1184=B1183,COUNTIF(B$9:B1183,B1184)+1,1))","v":1172},0,0]
["1177","-1900","-1900-1173",null,null,null,null,null,null,null,null,null,null,null,null,null,null,null,null,null,null,{"$f":"IF(M$2021=1,\"\",IF(U1185=\"\",\"\",VLOOKUP(U1185,Tabelle!$D$5:$H$7,5,FALSE)))","v":""},{"$f":"IF(M$2021=1,\"\",IF(U1185=\"\",\"\",VLOOKUP(U1185,Tabelle!$D$5:$I$7,6,FALSE)))","v":""},null,null,null,null,null,null,null,null,null,null,null,{"$f":"IF(B1185=\"\",0,IF(B1185=B1184,COUNTIF(B$9:B1184,B1185)+1,1))","v":1173},0,0]
["1178","-1900","-1900-1174",null,null,null,null,null,null,null,null,null,null,null,null,null,null,null,null,null,null,{"$f":"IF(M$2021=1,\"\",IF(U1186=\"\",\"\",VLOOKUP(U1186,Tabelle!$D$5:$H$7,5,FALSE)))","v":""},{"$f":"IF(M$2021=1,\"\",IF(U1186=\"\",\"\",VLOOKUP(U1186,Tabelle!$D$5:$I$7,6,FALSE)))","v":""},null,null,null,null,null,null,null,null,null,null,null,{"$f":"IF(B1186=\"\",0,IF(B1186=B1185,COUNTIF(B$9:B1185,B1186)+1,1))","v":1174},0,0]
["1179","-1900","-1900-1175",null,null,null,null,null,null,null,null,null,null,null,null,null,null,null,null,null,null,{"$f":"IF(M$2021=1,\"\",IF(U1187=\"\",\"\",VLOOKUP(U1187,Tabelle!$D$5:$H$7,5,FALSE)))","v":""},{"$f":"IF(M$2021=1,\"\",IF(U1187=\"\",\"\",VLOOKUP(U1187,Tabelle!$D$5:$I$7,6,FALSE)))","v":""},null,null,null,null,null,null,null,null,null,null,null,{"$f":"IF(B1187=\"\",0,IF(B1187=B1186,COUNTIF(B$9:B1186,B1187)+1,1))","v":1175},0,0]
["1180","-1900","-1900-1176",null,null,null,null,null,null,null,null,null,null,null,null,null,null,null,null,null,null,{"$f":"IF(M$2021=1,\"\",IF(U1188=\"\",\"\",VLOOKUP(U1188,Tabelle!$D$5:$H$7,5,FALSE)))","v":""},{"$f":"IF(M$2021=1,\"\",IF(U1188=\"\",\"\",VLOOKUP(U1188,Tabelle!$D$5:$I$7,6,FALSE)))","v":""},null,null,null,null,null,null,null,null,null,null,null,{"$f":"IF(B1188=\"\",0,IF(B1188=B1187,COUNTIF(B$9:B1187,B1188)+1,1))","v":1176},0,0]
["1181","-1900","-1900-1177",null,null,null,null,null,null,null,null,null,null,null,null,null,null,null,null,null,null,{"$f":"IF(M$2021=1,\"\",IF(U1189=\"\",\"\",VLOOKUP(U1189,Tabelle!$D$5:$H$7,5,FALSE)))","v":""},{"$f":"IF(M$2021=1,\"\",IF(U1189=\"\",\"\",VLOOKUP(U1189,Tabelle!$D$5:$I$7,6,FALSE)))","v":""},null,null,null,null,null,null,null,null,null,null,null,{"$f":"IF(B1189=\"\",0,IF(B1189=B1188,COUNTIF(B$9:B1188,B1189)+1,1))","v":1177},0,0]
["1182","-1900","-1900-1178",null,null,null,null,null,null,null,null,null,null,null,null,null,null,null,null,null,null,{"$f":"IF(M$2021=1,\"\",IF(U1190=\"\",\"\",VLOOKUP(U1190,Tabelle!$D$5:$H$7,5,FALSE)))","v":""},{"$f":"IF(M$2021=1,\"\",IF(U1190=\"\",\"\",VLOOKUP(U1190,Tabelle!$D$5:$I$7,6,FALSE)))","v":""},null,null,null,null,null,null,null,null,null,null,null,{"$f":"IF(B1190=\"\",0,IF(B1190=B1189,COUNTIF(B$9:B1189,B1190)+1,1))","v":1178},0,0]
["1183","-1900","-1900-1179",null,null,null,null,null,null,null,null,null,null,null,null,null,null,null,null,null,null,{"$f":"IF(M$2021=1,\"\",IF(U1191=\"\",\"\",VLOOKUP(U1191,Tabelle!$D$5:$H$7,5,FALSE)))","v":""},{"$f":"IF(M$2021=1,\"\",IF(U1191=\"\",\"\",VLOOKUP(U1191,Tabelle!$D$5:$I$7,6,FALSE)))","v":""},null,null,null,null,null,null,null,null,null,null,null,{"$f":"IF(B1191=\"\",0,IF(B1191=B1190,COUNTIF(B$9:B1190,B1191)+1,1))","v":1179},0,0]
["1184","-1900","-1900-1180",null,null,null,null,null,null,null,null,null,null,null,null,null,null,null,null,null,null,{"$f":"IF(M$2021=1,\"\",IF(U1192=\"\",\"\",VLOOKUP(U1192,Tabelle!$D$5:$H$7,5,FALSE)))","v":""},{"$f":"IF(M$2021=1,\"\",IF(U1192=\"\",\"\",VLOOKUP(U1192,Tabelle!$D$5:$I$7,6,FALSE)))","v":""},null,null,null,null,null,null,null,null,null,null,null,{"$f":"IF(B1192=\"\",0,IF(B1192=B1191,COUNTIF(B$9:B1191,B1192)+1,1))","v":1180},0,0]
["1185","-1900","-1900-1181",null,null,null,null,null,null,null,null,null,null,null,null,null,null,null,null,null,null,{"$f":"IF(M$2021=1,\"\",IF(U1193=\"\",\"\",VLOOKUP(U1193,Tabelle!$D$5:$H$7,5,FALSE)))","v":""},{"$f":"IF(M$2021=1,\"\",IF(U1193=\"\",\"\",VLOOKUP(U1193,Tabelle!$D$5:$I$7,6,FALSE)))","v":""},null,null,null,null,null,null,null,null,null,null,null,{"$f":"IF(B1193=\"\",0,IF(B1193=B1192,COUNTIF(B$9:B1192,B1193)+1,1))","v":1181},0,0]
["1186","-1900","-1900-1182",null,null,null,null,null,null,null,null,null,null,null,null,null,null,null,null,null,null,{"$f":"IF(M$2021=1,\"\",IF(U1194=\"\",\"\",VLOOKUP(U1194,Tabelle!$D$5:$H$7,5,FALSE)))","v":""},{"$f":"IF(M$2021=1,\"\",IF(U1194=\"\",\"\",VLOOKUP(U1194,Tabelle!$D$5:$I$7,6,FALSE)))","v":""},null,null,null,null,null,null,null,null,null,null,null,{"$f":"IF(B1194=\"\",0,IF(B1194=B1193,COUNTIF(B$9:B1193,B1194)+1,1))","v":1182},0,0]
["1187","-1900","-1900-1183",null,null,null,null,null,null,null,null,null,null,null,null,null,null,null,null,null,null,{"$f":"IF(M$2021=1,\"\",IF(U1195=\"\",\"\",VLOOKUP(U1195,Tabelle!$D$5:$H$7,5,FALSE)))","v":""},{"$f":"IF(M$2021=1,\"\",IF(U1195=\"\",\"\",VLOOKUP(U1195,Tabelle!$D$5:$I$7,6,FALSE)))","v":""},null,null,null,null,null,null,null,null,null,null,null,{"$f":"IF(B1195=\"\",0,IF(B1195=B1194,COUNTIF(B$9:B1194,B1195)+1,1))","v":1183},0,0]
["1188","-1900","-1900-1184",null,null,null,null,null,null,null,null,null,null,null,null,null,null,null,null,null,null,{"$f":"IF(M$2021=1,\"\",IF(U1196=\"\",\"\",VLOOKUP(U1196,Tabelle!$D$5:$H$7,5,FALSE)))","v":""},{"$f":"IF(M$2021=1,\"\",IF(U1196=\"\",\"\",VLOOKUP(U1196,Tabelle!$D$5:$I$7,6,FALSE)))","v":""},null,null,null,null,null,null,null,null,null,null,null,{"$f":"IF(B1196=\"\",0,IF(B1196=B1195,COUNTIF(B$9:B1195,B1196)+1,1))","v":1184},0,0]
["1189","-1900","-1900-1185",null,null,null,null,null,null,null,null,null,null,null,null,null,null,null,null,null,null,{"$f":"IF(M$2021=1,\"\",IF(U1197=\"\",\"\",VLOOKUP(U1197,Tabelle!$D$5:$H$7,5,FALSE)))","v":""},{"$f":"IF(M$2021=1,\"\",IF(U1197=\"\",\"\",VLOOKUP(U1197,Tabelle!$D$5:$I$7,6,FALSE)))","v":""},null,null,null,null,null,null,null,null,null,null,null,{"$f":"IF(B1197=\"\",0,IF(B1197=B1196,COUNTIF(B$9:B1196,B1197)+1,1))","v":1185},0,0]
["1190","-1900","-1900-1186",null,null,null,null,null,null,null,null,null,null,null,null,null,null,null,null,null,null,{"$f":"IF(M$2021=1,\"\",IF(U1198=\"\",\"\",VLOOKUP(U1198,Tabelle!$D$5:$H$7,5,FALSE)))","v":""},{"$f":"IF(M$2021=1,\"\",IF(U1198=\"\",\"\",VLOOKUP(U1198,Tabelle!$D$5:$I$7,6,FALSE)))","v":""},null,null,null,null,null,null,null,null,null,null,null,{"$f":"IF(B1198=\"\",0,IF(B1198=B1197,COUNTIF(B$9:B1197,B1198)+1,1))","v":1186},0,0]
["1191","-1900","-1900-1187",null,null,null,null,null,null,null,null,null,null,null,null,null,null,null,null,null,null,{"$f":"IF(M$2021=1,\"\",IF(U1199=\"\",\"\",VLOOKUP(U1199,Tabelle!$D$5:$H$7,5,FALSE)))","v":""},{"$f":"IF(M$2021=1,\"\",IF(U1199=\"\",\"\",VLOOKUP(U1199,Tabelle!$D$5:$I$7,6,FALSE)))","v":""},null,null,null,null,null,null,null,null,null,null,null,{"$f":"IF(B1199=\"\",0,IF(B1199=B1198,COUNTIF(B$9:B1198,B1199)+1,1))","v":1187},0,0]
["1192","-1900","-1900-1188",null,null,null,null,null,null,null,null,null,null,null,null,null,null,null,null,null,null,{"$f":"IF(M$2021=1,\"\",IF(U1200=\"\",\"\",VLOOKUP(U1200,Tabelle!$D$5:$H$7,5,FALSE)))","v":""},{"$f":"IF(M$2021=1,\"\",IF(U1200=\"\",\"\",VLOOKUP(U1200,Tabelle!$D$5:$I$7,6,FALSE)))","v":""},null,null,null,null,null,null,null,null,null,null,null,{"$f":"IF(B1200=\"\",0,IF(B1200=B1199,COUNTIF(B$9:B1199,B1200)+1,1))","v":1188},0,0]
["1193","-1900","-1900-1189",null,null,null,null,null,null,null,null,null,null,null,null,null,null,null,null,null,null,{"$f":"IF(M$2021=1,\"\",IF(U1201=\"\",\"\",VLOOKUP(U1201,Tabelle!$D$5:$H$7,5,FALSE)))","v":""},{"$f":"IF(M$2021=1,\"\",IF(U1201=\"\",\"\",VLOOKUP(U1201,Tabelle!$D$5:$I$7,6,FALSE)))","v":""},null,null,null,null,null,null,null,null,null,null,null,{"$f":"IF(B1201=\"\",0,IF(B1201=B1200,COUNTIF(B$9:B1200,B1201)+1,1))","v":1189},0,0]
["1194","-1900","-1900-1190",null,null,null,null,null,null,null,null,null,null,null,null,null,null,null,null,null,null,{"$f":"IF(M$2021=1,\"\",IF(U1202=\"\",\"\",VLOOKUP(U1202,Tabelle!$D$5:$H$7,5,FALSE)))","v":""},{"$f":"IF(M$2021=1,\"\",IF(U1202=\"\",\"\",VLOOKUP(U1202,Tabelle!$D$5:$I$7,6,FALSE)))","v":""},null,null,null,null,null,null,null,null,null,null,null,{"$f":"IF(B1202=\"\",0,IF(B1202=B1201,COUNTIF(B$9:B1201,B1202)+1,1))","v":1190},0,0]
["1195","-1900","-1900-1191",null,null,null,null,null,null,null,null,null,null,null,null,null,null,null,null,null,null,{"$f":"IF(M$2021=1,\"\",IF(U1203=\"\",\"\",VLOOKUP(U1203,Tabelle!$D$5:$H$7,5,FALSE)))","v":""},{"$f":"IF(M$2021=1,\"\",IF(U1203=\"\",\"\",VLOOKUP(U1203,Tabelle!$D$5:$I$7,6,FALSE)))","v":""},null,null,null,null,null,null,null,null,null,null,null,{"$f":"IF(B1203=\"\",0,IF(B1203=B1202,COUNTIF(B$9:B1202,B1203)+1,1))","v":1191},0,0]
["1196","-1900","-1900-1192",null,null,null,null,null,null,null,null,null,null,null,null,null,null,null,null,null,null,{"$f":"IF(M$2021=1,\"\",IF(U1204=\"\",\"\",VLOOKUP(U1204,Tabelle!$D$5:$H$7,5,FALSE)))","v":""},{"$f":"IF(M$2021=1,\"\",IF(U1204=\"\",\"\",VLOOKUP(U1204,Tabelle!$D$5:$I$7,6,FALSE)))","v":""},null,null,null,null,null,null,null,null,null,null,null,{"$f":"IF(B1204=\"\",0,IF(B1204=B1203,COUNTIF(B$9:B1203,B1204)+1,1))","v":1192},0,0]
["1197","-1900","-1900-1193",null,null,null,null,null,null,null,null,null,null,null,null,null,null,null,null,null,null,{"$f":"IF(M$2021=1,\"\",IF(U1205=\"\",\"\",VLOOKUP(U1205,Tabelle!$D$5:$H$7,5,FALSE)))","v":""},{"$f":"IF(M$2021=1,\"\",IF(U1205=\"\",\"\",VLOOKUP(U1205,Tabelle!$D$5:$I$7,6,FALSE)))","v":""},null,null,null,null,null,null,null,null,null,null,null,{"$f":"IF(B1205=\"\",0,IF(B1205=B1204,COUNTIF(B$9:B1204,B1205)+1,1))","v":1193},0,0]
["1198","-1900","-1900-1194",null,null,null,null,null,null,null,null,null,null,null,null,null,null,null,null,null,null,{"$f":"IF(M$2021=1,\"\",IF(U1206=\"\",\"\",VLOOKUP(U1206,Tabelle!$D$5:$H$7,5,FALSE)))","v":""},{"$f":"IF(M$2021=1,\"\",IF(U1206=\"\",\"\",VLOOKUP(U1206,Tabelle!$D$5:$I$7,6,FALSE)))","v":""},null,null,null,null,null,null,null,null,null,null,null,{"$f":"IF(B1206=\"\",0,IF(B1206=B1205,COUNTIF(B$9:B1205,B1206)+1,1))","v":1194},0,0]
["1199","-1900","-1900-1195",null,null,null,null,null,null,null,null,null,null,null,null,null,null,null,null,null,null,{"$f":"IF(M$2021=1,\"\",IF(U1207=\"\",\"\",VLOOKUP(U1207,Tabelle!$D$5:$H$7,5,FALSE)))","v":""},{"$f":"IF(M$2021=1,\"\",IF(U1207=\"\",\"\",VLOOKUP(U1207,Tabelle!$D$5:$I$7,6,FALSE)))","v":""},null,null,null,null,null,null,null,null,null,null,null,{"$f":"IF(B1207=\"\",0,IF(B1207=B1206,COUNTIF(B$9:B1206,B1207)+1,1))","v":1195},0,0]
["1200","-1900","-1900-1196",null,null,null,null,null,null,null,null,null,null,null,null,null,null,null,null,null,null,{"$f":"IF(M$2021=1,\"\",IF(U1208=\"\",\"\",VLOOKUP(U1208,Tabelle!$D$5:$H$7,5,FALSE)))","v":""},{"$f":"IF(M$2021=1,\"\",IF(U1208=\"\",\"\",VLOOKUP(U1208,Tabelle!$D$5:$I$7,6,FALSE)))","v":""},null,null,null,null,null,null,null,null,null,null,null,{"$f":"IF(B1208=\"\",0,IF(B1208=B1207,COUNTIF(B$9:B1207,B1208)+1,1))","v":1196},0,0]
["1201","-1900","-1900-1197",null,null,null,null,null,null,null,null,null,null,null,null,null,null,null,null,null,null,{"$f":"IF(M$2021=1,\"\",IF(U1209=\"\",\"\",VLOOKUP(U1209,Tabelle!$D$5:$H$7,5,FALSE)))","v":""},{"$f":"IF(M$2021=1,\"\",IF(U1209=\"\",\"\",VLOOKUP(U1209,Tabelle!$D$5:$I$7,6,FALSE)))","v":""},null,null,null,null,null,null,null,null,null,null,null,{"$f":"IF(B1209=\"\",0,IF(B1209=B1208,COUNTIF(B$9:B1208,B1209)+1,1))","v":1197},0,0]
["1202","-1900","-1900-1198",null,null,null,null,null,null,null,null,null,null,null,null,null,null,null,null,null,null,{"$f":"IF(M$2021=1,\"\",IF(U1210=\"\",\"\",VLOOKUP(U1210,Tabelle!$D$5:$H$7,5,FALSE)))","v":""},{"$f":"IF(M$2021=1,\"\",IF(U1210=\"\",\"\",VLOOKUP(U1210,Tabelle!$D$5:$I$7,6,FALSE)))","v":""},null,null,null,null,null,null,null,null,null,null,null,{"$f":"IF(B1210=\"\",0,IF(B1210=B1209,COUNTIF(B$9:B1209,B1210)+1,1))","v":1198},0,0]
["1203","-1900","-1900-1199",null,null,null,null,null,null,null,null,null,null,null,null,null,null,null,null,null,null,{"$f":"IF(M$2021=1,\"\",IF(U1211=\"\",\"\",VLOOKUP(U1211,Tabelle!$D$5:$H$7,5,FALSE)))","v":""},{"$f":"IF(M$2021=1,\"\",IF(U1211=\"\",\"\",VLOOKUP(U1211,Tabelle!$D$5:$I$7,6,FALSE)))","v":""},null,null,null,null,null,null,null,null,null,null,null,{"$f":"IF(B1211=\"\",0,IF(B1211=B1210,COUNTIF(B$9:B1210,B1211)+1,1))","v":1199},0,0]
["1204","-1900","-1900-1200",null,null,null,null,null,null,null,null,null,null,null,null,null,null,null,null,null,null,{"$f":"IF(M$2021=1,\"\",IF(U1212=\"\",\"\",VLOOKUP(U1212,Tabelle!$D$5:$H$7,5,FALSE)))","v":""},{"$f":"IF(M$2021=1,\"\",IF(U1212=\"\",\"\",VLOOKUP(U1212,Tabelle!$D$5:$I$7,6,FALSE)))","v":""},null,null,null,null,null,null,null,null,null,null,null,{"$f":"IF(B1212=\"\",0,IF(B1212=B1211,COUNTIF(B$9:B1211,B1212)+1,1))","v":1200},0,0]
["1205","-1900","-1900-1201",null,null,null,null,null,null,null,null,null,null,null,null,null,null,null,null,null,null,{"$f":"IF(M$2021=1,\"\",IF(U1213=\"\",\"\",VLOOKUP(U1213,Tabelle!$D$5:$H$7,5,FALSE)))","v":""},{"$f":"IF(M$2021=1,\"\",IF(U1213=\"\",\"\",VLOOKUP(U1213,Tabelle!$D$5:$I$7,6,FALSE)))","v":""},null,null,null,null,null,null,null,null,null,null,null,{"$f":"IF(B1213=\"\",0,IF(B1213=B1212,COUNTIF(B$9:B1212,B1213)+1,1))","v":1201},0,0]
["1206","-1900","-1900-1202",null,null,null,null,null,null,null,null,null,null,null,null,null,null,null,null,null,null,{"$f":"IF(M$2021=1,\"\",IF(U1214=\"\",\"\",VLOOKUP(U1214,Tabelle!$D$5:$H$7,5,FALSE)))","v":""},{"$f":"IF(M$2021=1,\"\",IF(U1214=\"\",\"\",VLOOKUP(U1214,Tabelle!$D$5:$I$7,6,FALSE)))","v":""},null,null,null,null,null,null,null,null,null,null,null,{"$f":"IF(B1214=\"\",0,IF(B1214=B1213,COUNTIF(B$9:B1213,B1214)+1,1))","v":1202},0,0]
["1207","-1900","-1900-1203",null,null,null,null,null,null,null,null,null,null,null,null,null,null,null,null,null,null,{"$f":"IF(M$2021=1,\"\",IF(U1215=\"\",\"\",VLOOKUP(U1215,Tabelle!$D$5:$H$7,5,FALSE)))","v":""},{"$f":"IF(M$2021=1,\"\",IF(U1215=\"\",\"\",VLOOKUP(U1215,Tabelle!$D$5:$I$7,6,FALSE)))","v":""},null,null,null,null,null,null,null,null,null,null,null,{"$f":"IF(B1215=\"\",0,IF(B1215=B1214,COUNTIF(B$9:B1214,B1215)+1,1))","v":1203},0,0]
["1208","-1900","-1900-1204",null,null,null,null,null,null,null,null,null,null,null,null,null,null,null,null,null,null,{"$f":"IF(M$2021=1,\"\",IF(U1216=\"\",\"\",VLOOKUP(U1216,Tabelle!$D$5:$H$7,5,FALSE)))","v":""},{"$f":"IF(M$2021=1,\"\",IF(U1216=\"\",\"\",VLOOKUP(U1216,Tabelle!$D$5:$I$7,6,FALSE)))","v":""},null,null,null,null,null,null,null,null,null,null,null,{"$f":"IF(B1216=\"\",0,IF(B1216=B1215,COUNTIF(B$9:B1215,B1216)+1,1))","v":1204},0,0]
["1209","-1900","-1900-1205",null,null,null,null,null,null,null,null,null,null,null,null,null,null,null,null,null,null,{"$f":"IF(M$2021=1,\"\",IF(U1217=\"\",\"\",VLOOKUP(U1217,Tabelle!$D$5:$H$7,5,FALSE)))","v":""},{"$f":"IF(M$2021=1,\"\",IF(U1217=\"\",\"\",VLOOKUP(U1217,Tabelle!$D$5:$I$7,6,FALSE)))","v":""},null,null,null,null,null,null,null,null,null,null,null,{"$f":"IF(B1217=\"\",0,IF(B1217=B1216,COUNTIF(B$9:B1216,B1217)+1,1))","v":1205},0,0]
["1210","-1900","-1900-1206",null,null,null,null,null,null,null,null,null,null,null,null,null,null,null,null,null,null,{"$f":"IF(M$2021=1,\"\",IF(U1218=\"\",\"\",VLOOKUP(U1218,Tabelle!$D$5:$H$7,5,FALSE)))","v":""},{"$f":"IF(M$2021=1,\"\",IF(U1218=\"\",\"\",VLOOKUP(U1218,Tabelle!$D$5:$I$7,6,FALSE)))","v":""},null,null,null,null,null,null,null,null,null,null,null,{"$f":"IF(B1218=\"\",0,IF(B1218=B1217,COUNTIF(B$9:B1217,B1218)+1,1))","v":1206},0,0]
["1211","-1900","-1900-1207",null,null,null,null,null,null,null,null,null,null,null,null,null,null,null,null,null,null,{"$f":"IF(M$2021=1,\"\",IF(U1219=\"\",\"\",VLOOKUP(U1219,Tabelle!$D$5:$H$7,5,FALSE)))","v":""},{"$f":"IF(M$2021=1,\"\",IF(U1219=\"\",\"\",VLOOKUP(U1219,Tabelle!$D$5:$I$7,6,FALSE)))","v":""},null,null,null,null,null,null,null,null,null,null,null,{"$f":"IF(B1219=\"\",0,IF(B1219=B1218,COUNTIF(B$9:B1218,B1219)+1,1))","v":1207},0,0]
["1212","-1900","-1900-1208",null,null,null,null,null,null,null,null,null,null,null,null,null,null,null,null,null,null,{"$f":"IF(M$2021=1,\"\",IF(U1220=\"\",\"\",VLOOKUP(U1220,Tabelle!$D$5:$H$7,5,FALSE)))","v":""},{"$f":"IF(M$2021=1,\"\",IF(U1220=\"\",\"\",VLOOKUP(U1220,Tabelle!$D$5:$I$7,6,FALSE)))","v":""},null,null,null,null,null,null,null,null,null,null,null,{"$f":"IF(B1220=\"\",0,IF(B1220=B1219,COUNTIF(B$9:B1219,B1220)+1,1))","v":1208},0,0]
["1213","-1900","-1900-1209",null,null,null,null,null,null,null,null,null,null,null,null,null,null,null,null,null,null,{"$f":"IF(M$2021=1,\"\",IF(U1221=\"\",\"\",VLOOKUP(U1221,Tabelle!$D$5:$H$7,5,FALSE)))","v":""},{"$f":"IF(M$2021=1,\"\",IF(U1221=\"\",\"\",VLOOKUP(U1221,Tabelle!$D$5:$I$7,6,FALSE)))","v":""},null,null,null,null,null,null,null,null,null,null,null,{"$f":"IF(B1221=\"\",0,IF(B1221=B1220,COUNTIF(B$9:B1220,B1221)+1,1))","v":1209},0,0]
["1214","-1900","-1900-1210",null,null,null,null,null,null,null,null,null,null,null,null,null,null,null,null,null,null,{"$f":"IF(M$2021=1,\"\",IF(U1222=\"\",\"\",VLOOKUP(U1222,Tabelle!$D$5:$H$7,5,FALSE)))","v":""},{"$f":"IF(M$2021=1,\"\",IF(U1222=\"\",\"\",VLOOKUP(U1222,Tabelle!$D$5:$I$7,6,FALSE)))","v":""},null,null,null,null,null,null,null,null,null,null,null,{"$f":"IF(B1222=\"\",0,IF(B1222=B1221,COUNTIF(B$9:B1221,B1222)+1,1))","v":1210},0,0]
["1215","-1900","-1900-1211",null,null,null,null,null,null,null,null,null,null,null,null,null,null,null,null,null,null,{"$f":"IF(M$2021=1,\"\",IF(U1223=\"\",\"\",VLOOKUP(U1223,Tabelle!$D$5:$H$7,5,FALSE)))","v":""},{"$f":"IF(M$2021=1,\"\",IF(U1223=\"\",\"\",VLOOKUP(U1223,Tabelle!$D$5:$I$7,6,FALSE)))","v":""},null,null,null,null,null,null,null,null,null,null,null,{"$f":"IF(B1223=\"\",0,IF(B1223=B1222,COUNTIF(B$9:B1222,B1223)+1,1))","v":1211},0,0]
["1216","-1900","-1900-1212",null,null,null,null,null,null,null,null,null,null,null,null,null,null,null,null,null,null,{"$f":"IF(M$2021=1,\"\",IF(U1224=\"\",\"\",VLOOKUP(U1224,Tabelle!$D$5:$H$7,5,FALSE)))","v":""},{"$f":"IF(M$2021=1,\"\",IF(U1224=\"\",\"\",VLOOKUP(U1224,Tabelle!$D$5:$I$7,6,FALSE)))","v":""},null,null,null,null,null,null,null,null,null,null,null,{"$f":"IF(B1224=\"\",0,IF(B1224=B1223,COUNTIF(B$9:B1223,B1224)+1,1))","v":1212},0,0]
["1217","-1900",{"$f":"IF(M$2021=1,0,B1225&\"-\"&AI1225)","v":"-1900-1213"},null,null,null,null,null,null,null,null,null,null,null,null,null,null,null,null,null,null,{"$f":"IF(M$2021=1,\"\",IF(U1225=\"\",\"\",VLOOKUP(U1225,Tabelle!$D$5:$H$7,5,FALSE)))","v":""},{"$f":"IF(M$2021=1,\"\",IF(U1225=\"\",\"\",VLOOKUP(U1225,Tabelle!$D$5:$I$7,6,FALSE)))","v":""},null,null,null,null,null,null,null,null,null,null,null,{"$f":"IF(B1225=\"\",0,IF(B1225=B1224,COUNTIF(B$9:B1224,B1225)+1,1))","v":1213},0,0]
["1218",{"$f":"IF(AK1226=$AK$2015,0,IF(M$2021=1,0,D1226&\"-\"&YEAR(E1226)))","v":"-1900"},"-1900-1214",null,null,null,null,null,null,null,null,null,null,null,null,null,null,null,null,null,null,{"$f":"IF(M$2021=1,\"\",IF(U1226=\"\",\"\",VLOOKUP(U1226,Tabelle!$D$5:$H$7,5,FALSE)))","v":""},{"$f":"IF(M$2021=1,\"\",IF(U1226=\"\",\"\",VLOOKUP(U1226,Tabelle!$D$5:$I$7,6,FALSE)))","v":""},null,null,null,null,null,null,null,null,null,null,null,{"$f":"IF(B1226=\"\",0,IF(B1226=B1225,COUNTIF(B$9:B1225,B1226)+1,1))","v":1214},{"$f":"IF(OR(D1226=\"\",M$2021=1),0,IF(AI1226=10,1,0))","v":0},{"$f":"IF(E1226>0,IF(OR(MONTH(E1226)<$J$2027,MONTH(E1226)>$J$2028),AK$2015,0),0)","v":0}]
["1219","-1900","-1900-1215",null,null,null,null,null,null,null,null,null,null,null,null,null,null,null,null,null,null,{"$f":"IF(M$2021=1,\"\",IF(U1227=\"\",\"\",VLOOKUP(U1227,Tabelle!$D$5:$H$7,5,FALSE)))","v":""},{"$f":"IF(M$2021=1,\"\",IF(U1227=\"\",\"\",VLOOKUP(U1227,Tabelle!$D$5:$I$7,6,FALSE)))","v":""},null,null,null,null,null,null,null,null,null,null,null,{"$f":"IF(B1227=\"\",0,IF(B1227=B1226,COUNTIF(B$9:B1226,B1227)+1,1))","v":1215},0,0]
["1220","-1900","-1900-1216",null,null,null,null,null,null,null,null,null,null,null,null,null,null,null,null,null,null,{"$f":"IF(M$2021=1,\"\",IF(U1228=\"\",\"\",VLOOKUP(U1228,Tabelle!$D$5:$H$7,5,FALSE)))","v":""},{"$f":"IF(M$2021=1,\"\",IF(U1228=\"\",\"\",VLOOKUP(U1228,Tabelle!$D$5:$I$7,6,FALSE)))","v":""},null,null,null,null,null,null,null,null,null,null,null,{"$f":"IF(B1228=\"\",0,IF(B1228=B1227,COUNTIF(B$9:B1227,B1228)+1,1))","v":1216},0,0]
["1221","-1900","-1900-1217",null,null,null,null,null,null,null,null,null,null,null,null,null,null,null,null,null,null,{"$f":"IF(M$2021=1,\"\",IF(U1229=\"\",\"\",VLOOKUP(U1229,Tabelle!$D$5:$H$7,5,FALSE)))","v":""},{"$f":"IF(M$2021=1,\"\",IF(U1229=\"\",\"\",VLOOKUP(U1229,Tabelle!$D$5:$I$7,6,FALSE)))","v":""},null,null,null,null,null,null,null,null,null,null,null,{"$f":"IF(B1229=\"\",0,IF(B1229=B1228,COUNTIF(B$9:B1228,B1229)+1,1))","v":1217},0,0]
["1222","-1900","-1900-1218",null,null,null,null,null,null,null,null,null,null,null,null,null,null,null,null,null,null,{"$f":"IF(M$2021=1,\"\",IF(U1230=\"\",\"\",VLOOKUP(U1230,Tabelle!$D$5:$H$7,5,FALSE)))","v":""},{"$f":"IF(M$2021=1,\"\",IF(U1230=\"\",\"\",VLOOKUP(U1230,Tabelle!$D$5:$I$7,6,FALSE)))","v":""},null,null,null,null,null,null,null,null,null,null,null,{"$f":"IF(B1230=\"\",0,IF(B1230=B1229,COUNTIF(B$9:B1229,B1230)+1,1))","v":1218},0,0]
["1223","-1900","-1900-1219",null,null,null,null,null,null,null,null,null,null,null,null,null,null,null,null,null,null,{"$f":"IF(M$2021=1,\"\",IF(U1231=\"\",\"\",VLOOKUP(U1231,Tabelle!$D$5:$H$7,5,FALSE)))","v":""},{"$f":"IF(M$2021=1,\"\",IF(U1231=\"\",\"\",VLOOKUP(U1231,Tabelle!$D$5:$I$7,6,FALSE)))","v":""},null,null,null,null,null,null,null,null,null,null,null,{"$f":"IF(B1231=\"\",0,IF(B1231=B1230,COUNTIF(B$9:B1230,B1231)+1,1))","v":1219},0,0]
["1224","-1900","-1900-1220",null,null,null,null,null,null,null,null,null,null,null,null,null,null,null,null,null,null,{"$f":"IF(M$2021=1,\"\",IF(U1232=\"\",\"\",VLOOKUP(U1232,Tabelle!$D$5:$H$7,5,FALSE)))","v":""},{"$f":"IF(M$2021=1,\"\",IF(U1232=\"\",\"\",VLOOKUP(U1232,Tabelle!$D$5:$I$7,6,FALSE)))","v":""},null,null,null,null,null,null,null,null,null,null,null,{"$f":"IF(B1232=\"\",0,IF(B1232=B1231,COUNTIF(B$9:B1231,B1232)+1,1))","v":1220},0,0]
["1225","-1900","-1900-1221",null,null,null,null,null,null,null,null,null,null,null,null,null,null,null,null,null,null,{"$f":"IF(M$2021=1,\"\",IF(U1233=\"\",\"\",VLOOKUP(U1233,Tabelle!$D$5:$H$7,5,FALSE)))","v":""},{"$f":"IF(M$2021=1,\"\",IF(U1233=\"\",\"\",VLOOKUP(U1233,Tabelle!$D$5:$I$7,6,FALSE)))","v":""},null,null,null,null,null,null,null,null,null,null,null,{"$f":"IF(B1233=\"\",0,IF(B1233=B1232,COUNTIF(B$9:B1232,B1233)+1,1))","v":1221},0,0]
["1226","-1900","-1900-1222",null,null,null,null,null,null,null,null,null,null,null,null,null,null,null,null,null,null,{"$f":"IF(M$2021=1,\"\",IF(U1234=\"\",\"\",VLOOKUP(U1234,Tabelle!$D$5:$H$7,5,FALSE)))","v":""},{"$f":"IF(M$2021=1,\"\",IF(U1234=\"\",\"\",VLOOKUP(U1234,Tabelle!$D$5:$I$7,6,FALSE)))","v":""},null,null,null,null,null,null,null,null,null,null,null,{"$f":"IF(B1234=\"\",0,IF(B1234=B1233,COUNTIF(B$9:B1233,B1234)+1,1))","v":1222},0,0]
["1227","-1900","-1900-1223",null,null,null,null,null,null,null,null,null,null,null,null,null,null,null,null,null,null,{"$f":"IF(M$2021=1,\"\",IF(U1235=\"\",\"\",VLOOKUP(U1235,Tabelle!$D$5:$H$7,5,FALSE)))","v":""},{"$f":"IF(M$2021=1,\"\",IF(U1235=\"\",\"\",VLOOKUP(U1235,Tabelle!$D$5:$I$7,6,FALSE)))","v":""},null,null,null,null,null,null,null,null,null,null,null,{"$f":"IF(B1235=\"\",0,IF(B1235=B1234,COUNTIF(B$9:B1234,B1235)+1,1))","v":1223},0,0]
["1228","-1900","-1900-1224",null,null,null,null,null,null,null,null,null,null,null,null,null,null,null,null,null,null,{"$f":"IF(M$2021=1,\"\",IF(U1236=\"\",\"\",VLOOKUP(U1236,Tabelle!$D$5:$H$7,5,FALSE)))","v":""},{"$f":"IF(M$2021=1,\"\",IF(U1236=\"\",\"\",VLOOKUP(U1236,Tabelle!$D$5:$I$7,6,FALSE)))","v":""},null,null,null,null,null,null,null,null,null,null,null,{"$f":"IF(B1236=\"\",0,IF(B1236=B1235,COUNTIF(B$9:B1235,B1236)+1,1))","v":1224},0,0]
["1229","-1900","-1900-1225",null,null,null,null,null,null,null,null,null,null,null,null,null,null,null,null,null,null,{"$f":"IF(M$2021=1,\"\",IF(U1237=\"\",\"\",VLOOKUP(U1237,Tabelle!$D$5:$H$7,5,FALSE)))","v":""},{"$f":"IF(M$2021=1,\"\",IF(U1237=\"\",\"\",VLOOKUP(U1237,Tabelle!$D$5:$I$7,6,FALSE)))","v":""},null,null,null,null,null,null,null,null,null,null,null,{"$f":"IF(B1237=\"\",0,IF(B1237=B1236,COUNTIF(B$9:B1236,B1237)+1,1))","v":1225},0,0]
["1230","-1900","-1900-1226",null,null,null,null,null,null,null,null,null,null,null,null,null,null,null,null,null,null,{"$f":"IF(M$2021=1,\"\",IF(U1238=\"\",\"\",VLOOKUP(U1238,Tabelle!$D$5:$H$7,5,FALSE)))","v":""},{"$f":"IF(M$2021=1,\"\",IF(U1238=\"\",\"\",VLOOKUP(U1238,Tabelle!$D$5:$I$7,6,FALSE)))","v":""},null,null,null,null,null,null,null,null,null,null,null,{"$f":"IF(B1238=\"\",0,IF(B1238=B1237,COUNTIF(B$9:B1237,B1238)+1,1))","v":1226},0,0]
["1231","-1900","-1900-1227",null,null,null,null,null,null,null,null,null,null,null,null,null,null,null,null,null,null,{"$f":"IF(M$2021=1,\"\",IF(U1239=\"\",\"\",VLOOKUP(U1239,Tabelle!$D$5:$H$7,5,FALSE)))","v":""},{"$f":"IF(M$2021=1,\"\",IF(U1239=\"\",\"\",VLOOKUP(U1239,Tabelle!$D$5:$I$7,6,FALSE)))","v":""},null,null,null,null,null,null,null,null,null,null,null,{"$f":"IF(B1239=\"\",0,IF(B1239=B1238,COUNTIF(B$9:B1238,B1239)+1,1))","v":1227},0,0]
["1232","-1900","-1900-1228",null,null,null,null,null,null,null,null,null,null,null,null,null,null,null,null,null,null,{"$f":"IF(M$2021=1,\"\",IF(U1240=\"\",\"\",VLOOKUP(U1240,Tabelle!$D$5:$H$7,5,FALSE)))","v":""},{"$f":"IF(M$2021=1,\"\",IF(U1240=\"\",\"\",VLOOKUP(U1240,Tabelle!$D$5:$I$7,6,FALSE)))","v":""},null,null,null,null,null,null,null,null,null,null,null,{"$f":"IF(B1240=\"\",0,IF(B1240=B1239,COUNTIF(B$9:B1239,B1240)+1,1))","v":1228},0,0]
["1233","-1900","-1900-1229",null,null,null,null,null,null,null,null,null,null,null,null,null,null,null,null,null,null,{"$f":"IF(M$2021=1,\"\",IF(U1241=\"\",\"\",VLOOKUP(U1241,Tabelle!$D$5:$H$7,5,FALSE)))","v":""},{"$f":"IF(M$2021=1,\"\",IF(U1241=\"\",\"\",VLOOKUP(U1241,Tabelle!$D$5:$I$7,6,FALSE)))","v":""},null,null,null,null,null,null,null,null,null,null,null,{"$f":"IF(B1241=\"\",0,IF(B1241=B1240,COUNTIF(B$9:B1240,B1241)+1,1))","v":1229},0,0]
["1234","-1900","-1900-1230",null,null,null,null,null,null,null,null,null,null,null,null,null,null,null,null,null,null,{"$f":"IF(M$2021=1,\"\",IF(U1242=\"\",\"\",VLOOKUP(U1242,Tabelle!$D$5:$H$7,5,FALSE)))","v":""},{"$f":"IF(M$2021=1,\"\",IF(U1242=\"\",\"\",VLOOKUP(U1242,Tabelle!$D$5:$I$7,6,FALSE)))","v":""},null,null,null,null,null,null,null,null,null,null,null,{"$f":"IF(B1242=\"\",0,IF(B1242=B1241,COUNTIF(B$9:B1241,B1242)+1,1))","v":1230},0,0]
["1235","-1900","-1900-1231",null,null,null,null,null,null,null,null,null,null,null,null,null,null,null,null,null,null,{"$f":"IF(M$2021=1,\"\",IF(U1243=\"\",\"\",VLOOKUP(U1243,Tabelle!$D$5:$H$7,5,FALSE)))","v":""},{"$f":"IF(M$2021=1,\"\",IF(U1243=\"\",\"\",VLOOKUP(U1243,Tabelle!$D$5:$I$7,6,FALSE)))","v":""},null,null,null,null,null,null,null,null,null,null,null,{"$f":"IF(B1243=\"\",0,IF(B1243=B1242,COUNTIF(B$9:B1242,B1243)+1,1))","v":1231},0,0]
["1236","-1900","-1900-1232",null,null,null,null,null,null,null,null,null,null,null,null,null,null,null,null,null,null,{"$f":"IF(M$2021=1,\"\",IF(U1244=\"\",\"\",VLOOKUP(U1244,Tabelle!$D$5:$H$7,5,FALSE)))","v":""},{"$f":"IF(M$2021=1,\"\",IF(U1244=\"\",\"\",VLOOKUP(U1244,Tabelle!$D$5:$I$7,6,FALSE)))","v":""},null,null,null,null,null,null,null,null,null,null,null,{"$f":"IF(B1244=\"\",0,IF(B1244=B1243,COUNTIF(B$9:B1243,B1244)+1,1))","v":1232},0,0]
["1237","-1900","-1900-1233",null,null,null,null,null,null,null,null,null,null,null,null,null,null,null,null,null,null,{"$f":"IF(M$2021=1,\"\",IF(U1245=\"\",\"\",VLOOKUP(U1245,Tabelle!$D$5:$H$7,5,FALSE)))","v":""},{"$f":"IF(M$2021=1,\"\",IF(U1245=\"\",\"\",VLOOKUP(U1245,Tabelle!$D$5:$I$7,6,FALSE)))","v":""},null,null,null,null,null,null,null,null,null,null,null,{"$f":"IF(B1245=\"\",0,IF(B1245=B1244,COUNTIF(B$9:B1244,B1245)+1,1))","v":1233},0,0]
["1238","-1900","-1900-1234",null,null,null,null,null,null,null,null,null,null,null,null,null,null,null,null,null,null,{"$f":"IF(M$2021=1,\"\",IF(U1246=\"\",\"\",VLOOKUP(U1246,Tabelle!$D$5:$H$7,5,FALSE)))","v":""},{"$f":"IF(M$2021=1,\"\",IF(U1246=\"\",\"\",VLOOKUP(U1246,Tabelle!$D$5:$I$7,6,FALSE)))","v":""},null,null,null,null,null,null,null,null,null,null,null,{"$f":"IF(B1246=\"\",0,IF(B1246=B1245,COUNTIF(B$9:B1245,B1246)+1,1))","v":1234},0,0]
["1239","-1900","-1900-1235",null,null,null,null,null,null,null,null,null,null,null,null,null,null,null,null,null,null,{"$f":"IF(M$2021=1,\"\",IF(U1247=\"\",\"\",VLOOKUP(U1247,Tabelle!$D$5:$H$7,5,FALSE)))","v":""},{"$f":"IF(M$2021=1,\"\",IF(U1247=\"\",\"\",VLOOKUP(U1247,Tabelle!$D$5:$I$7,6,FALSE)))","v":""},null,null,null,null,null,null,null,null,null,null,null,{"$f":"IF(B1247=\"\",0,IF(B1247=B1246,COUNTIF(B$9:B1246,B1247)+1,1))","v":1235},0,0]
["1240","-1900","-1900-1236",null,null,null,null,null,null,null,null,null,null,null,null,null,null,null,null,null,null,{"$f":"IF(M$2021=1,\"\",IF(U1248=\"\",\"\",VLOOKUP(U1248,Tabelle!$D$5:$H$7,5,FALSE)))","v":""},{"$f":"IF(M$2021=1,\"\",IF(U1248=\"\",\"\",VLOOKUP(U1248,Tabelle!$D$5:$I$7,6,FALSE)))","v":""},null,null,null,null,null,null,null,null,null,null,null,{"$f":"IF(B1248=\"\",0,IF(B1248=B1247,COUNTIF(B$9:B1247,B1248)+1,1))","v":1236},0,0]
["1241","-1900","-1900-1237",null,null,null,null,null,null,null,null,null,null,null,null,null,null,null,null,null,null,{"$f":"IF(M$2021=1,\"\",IF(U1249=\"\",\"\",VLOOKUP(U1249,Tabelle!$D$5:$H$7,5,FALSE)))","v":""},{"$f":"IF(M$2021=1,\"\",IF(U1249=\"\",\"\",VLOOKUP(U1249,Tabelle!$D$5:$I$7,6,FALSE)))","v":""},null,null,null,null,null,null,null,null,null,null,null,{"$f":"IF(B1249=\"\",0,IF(B1249=B1248,COUNTIF(B$9:B1248,B1249)+1,1))","v":1237},0,0]
["1242","-1900","-1900-1238",null,null,null,null,null,null,null,null,null,null,null,null,null,null,null,null,null,null,{"$f":"IF(M$2021=1,\"\",IF(U1250=\"\",\"\",VLOOKUP(U1250,Tabelle!$D$5:$H$7,5,FALSE)))","v":""},{"$f":"IF(M$2021=1,\"\",IF(U1250=\"\",\"\",VLOOKUP(U1250,Tabelle!$D$5:$I$7,6,FALSE)))","v":""},null,null,null,null,null,null,null,null,null,null,null,{"$f":"IF(B1250=\"\",0,IF(B1250=B1249,COUNTIF(B$9:B1249,B1250)+1,1))","v":1238},0,0]
["1243","-1900","-1900-1239",null,null,null,null,null,null,null,null,null,null,null,null,null,null,null,null,null,null,{"$f":"IF(M$2021=1,\"\",IF(U1251=\"\",\"\",VLOOKUP(U1251,Tabelle!$D$5:$H$7,5,FALSE)))","v":""},{"$f":"IF(M$2021=1,\"\",IF(U1251=\"\",\"\",VLOOKUP(U1251,Tabelle!$D$5:$I$7,6,FALSE)))","v":""},null,null,null,null,null,null,null,null,null,null,null,{"$f":"IF(B1251=\"\",0,IF(B1251=B1250,COUNTIF(B$9:B1250,B1251)+1,1))","v":1239},0,0]
["1244","-1900","-1900-1240",null,null,null,null,null,null,null,null,null,null,null,null,null,null,null,null,null,null,{"$f":"IF(M$2021=1,\"\",IF(U1252=\"\",\"\",VLOOKUP(U1252,Tabelle!$D$5:$H$7,5,FALSE)))","v":""},{"$f":"IF(M$2021=1,\"\",IF(U1252=\"\",\"\",VLOOKUP(U1252,Tabelle!$D$5:$I$7,6,FALSE)))","v":""},null,null,null,null,null,null,null,null,null,null,null,{"$f":"IF(B1252=\"\",0,IF(B1252=B1251,COUNTIF(B$9:B1251,B1252)+1,1))","v":1240},0,0]
["1245","-1900","-1900-1241",null,null,null,null,null,null,null,null,null,null,null,null,null,null,null,null,null,null,{"$f":"IF(M$2021=1,\"\",IF(U1253=\"\",\"\",VLOOKUP(U1253,Tabelle!$D$5:$H$7,5,FALSE)))","v":""},{"$f":"IF(M$2021=1,\"\",IF(U1253=\"\",\"\",VLOOKUP(U1253,Tabelle!$D$5:$I$7,6,FALSE)))","v":""},null,null,null,null,null,null,null,null,null,null,null,{"$f":"IF(B1253=\"\",0,IF(B1253=B1252,COUNTIF(B$9:B1252,B1253)+1,1))","v":1241},0,0]
["1246","-1900","-1900-1242",null,null,null,null,null,null,null,null,null,null,null,null,null,null,null,null,null,null,{"$f":"IF(M$2021=1,\"\",IF(U1254=\"\",\"\",VLOOKUP(U1254,Tabelle!$D$5:$H$7,5,FALSE)))","v":""},{"$f":"IF(M$2021=1,\"\",IF(U1254=\"\",\"\",VLOOKUP(U1254,Tabelle!$D$5:$I$7,6,FALSE)))","v":""},null,null,null,null,null,null,null,null,null,null,null,{"$f":"IF(B1254=\"\",0,IF(B1254=B1253,COUNTIF(B$9:B1253,B1254)+1,1))","v":1242},0,0]
["1247","-1900","-1900-1243",null,null,null,null,null,null,null,null,null,null,null,null,null,null,null,null,null,null,{"$f":"IF(M$2021=1,\"\",IF(U1255=\"\",\"\",VLOOKUP(U1255,Tabelle!$D$5:$H$7,5,FALSE)))","v":""},{"$f":"IF(M$2021=1,\"\",IF(U1255=\"\",\"\",VLOOKUP(U1255,Tabelle!$D$5:$I$7,6,FALSE)))","v":""},null,null,null,null,null,null,null,null,null,null,null,{"$f":"IF(B1255=\"\",0,IF(B1255=B1254,COUNTIF(B$9:B1254,B1255)+1,1))","v":1243},0,0]
["1248","-1900","-1900-1244",null,null,null,null,null,null,null,null,null,null,null,null,null,null,null,null,null,null,{"$f":"IF(M$2021=1,\"\",IF(U1256=\"\",\"\",VLOOKUP(U1256,Tabelle!$D$5:$H$7,5,FALSE)))","v":""},{"$f":"IF(M$2021=1,\"\",IF(U1256=\"\",\"\",VLOOKUP(U1256,Tabelle!$D$5:$I$7,6,FALSE)))","v":""},null,null,null,null,null,null,null,null,null,null,null,{"$f":"IF(B1256=\"\",0,IF(B1256=B1255,COUNTIF(B$9:B1255,B1256)+1,1))","v":1244},0,0]
["1249","-1900","-1900-1245",null,null,null,null,null,null,null,null,null,null,null,null,null,null,null,null,null,null,{"$f":"IF(M$2021=1,\"\",IF(U1257=\"\",\"\",VLOOKUP(U1257,Tabelle!$D$5:$H$7,5,FALSE)))","v":""},{"$f":"IF(M$2021=1,\"\",IF(U1257=\"\",\"\",VLOOKUP(U1257,Tabelle!$D$5:$I$7,6,FALSE)))","v":""},null,null,null,null,null,null,null,null,null,null,null,{"$f":"IF(B1257=\"\",0,IF(B1257=B1256,COUNTIF(B$9:B1256,B1257)+1,1))","v":1245},0,0]
["1250","-1900","-1900-1246",null,null,null,null,null,null,null,null,null,null,null,null,null,null,null,null,null,null,{"$f":"IF(M$2021=1,\"\",IF(U1258=\"\",\"\",VLOOKUP(U1258,Tabelle!$D$5:$H$7,5,FALSE)))","v":""},{"$f":"IF(M$2021=1,\"\",IF(U1258=\"\",\"\",VLOOKUP(U1258,Tabelle!$D$5:$I$7,6,FALSE)))","v":""},null,null,null,null,null,null,null,null,null,null,null,{"$f":"IF(B1258=\"\",0,IF(B1258=B1257,COUNTIF(B$9:B1257,B1258)+1,1))","v":1246},0,0]
["1251","-1900","-1900-1247",null,null,null,null,null,null,null,null,null,null,null,null,null,null,null,null,null,null,{"$f":"IF(M$2021=1,\"\",IF(U1259=\"\",\"\",VLOOKUP(U1259,Tabelle!$D$5:$H$7,5,FALSE)))","v":""},{"$f":"IF(M$2021=1,\"\",IF(U1259=\"\",\"\",VLOOKUP(U1259,Tabelle!$D$5:$I$7,6,FALSE)))","v":""},null,null,null,null,null,null,null,null,null,null,null,{"$f":"IF(B1259=\"\",0,IF(B1259=B1258,COUNTIF(B$9:B1258,B1259)+1,1))","v":1247},0,0]
["1252","-1900","-1900-1248",null,null,null,null,null,null,null,null,null,null,null,null,null,null,null,null,null,null,{"$f":"IF(M$2021=1,\"\",IF(U1260=\"\",\"\",VLOOKUP(U1260,Tabelle!$D$5:$H$7,5,FALSE)))","v":""},{"$f":"IF(M$2021=1,\"\",IF(U1260=\"\",\"\",VLOOKUP(U1260,Tabelle!$D$5:$I$7,6,FALSE)))","v":""},null,null,null,null,null,null,null,null,null,null,null,{"$f":"IF(B1260=\"\",0,IF(B1260=B1259,COUNTIF(B$9:B1259,B1260)+1,1))","v":1248},0,0]
["1253","-1900","-1900-1249",null,null,null,null,null,null,null,null,null,null,null,null,null,null,null,null,null,null,{"$f":"IF(M$2021=1,\"\",IF(U1261=\"\",\"\",VLOOKUP(U1261,Tabelle!$D$5:$H$7,5,FALSE)))","v":""},{"$f":"IF(M$2021=1,\"\",IF(U1261=\"\",\"\",VLOOKUP(U1261,Tabelle!$D$5:$I$7,6,FALSE)))","v":""},null,null,null,null,null,null,null,null,null,null,null,{"$f":"IF(B1261=\"\",0,IF(B1261=B1260,COUNTIF(B$9:B1260,B1261)+1,1))","v":1249},0,0]
["1254","-1900","-1900-1250",null,null,null,null,null,null,null,null,null,null,null,null,null,null,null,null,null,null,{"$f":"IF(M$2021=1,\"\",IF(U1262=\"\",\"\",VLOOKUP(U1262,Tabelle!$D$5:$H$7,5,FALSE)))","v":""},{"$f":"IF(M$2021=1,\"\",IF(U1262=\"\",\"\",VLOOKUP(U1262,Tabelle!$D$5:$I$7,6,FALSE)))","v":""},null,null,null,null,null,null,null,null,null,null,null,{"$f":"IF(B1262=\"\",0,IF(B1262=B1261,COUNTIF(B$9:B1261,B1262)+1,1))","v":1250},0,0]
["1255","-1900","-1900-1251",null,null,null,null,null,null,null,null,null,null,null,null,null,null,null,null,null,null,{"$f":"IF(M$2021=1,\"\",IF(U1263=\"\",\"\",VLOOKUP(U1263,Tabelle!$D$5:$H$7,5,FALSE)))","v":""},{"$f":"IF(M$2021=1,\"\",IF(U1263=\"\",\"\",VLOOKUP(U1263,Tabelle!$D$5:$I$7,6,FALSE)))","v":""},null,null,null,null,null,null,null,null,null,null,null,{"$f":"IF(B1263=\"\",0,IF(B1263=B1262,COUNTIF(B$9:B1262,B1263)+1,1))","v":1251},0,0]
["1256","-1900","-1900-1252",null,null,null,null,null,null,null,null,null,null,null,null,null,null,null,null,null,null,{"$f":"IF(M$2021=1,\"\",IF(U1264=\"\",\"\",VLOOKUP(U1264,Tabelle!$D$5:$H$7,5,FALSE)))","v":""},{"$f":"IF(M$2021=1,\"\",IF(U1264=\"\",\"\",VLOOKUP(U1264,Tabelle!$D$5:$I$7,6,FALSE)))","v":""},null,null,null,null,null,null,null,null,null,null,null,{"$f":"IF(B1264=\"\",0,IF(B1264=B1263,COUNTIF(B$9:B1263,B1264)+1,1))","v":1252},0,0]
["1257","-1900","-1900-1253",null,null,null,null,null,null,null,null,null,null,null,null,null,null,null,null,null,null,{"$f":"IF(M$2021=1,\"\",IF(U1265=\"\",\"\",VLOOKUP(U1265,Tabelle!$D$5:$H$7,5,FALSE)))","v":""},{"$f":"IF(M$2021=1,\"\",IF(U1265=\"\",\"\",VLOOKUP(U1265,Tabelle!$D$5:$I$7,6,FALSE)))","v":""},null,null,null,null,null,null,null,null,null,null,null,{"$f":"IF(B1265=\"\",0,IF(B1265=B1264,COUNTIF(B$9:B1264,B1265)+1,1))","v":1253},0,0]
["1258","-1900","-1900-1254",null,null,null,null,null,null,null,null,null,null,null,null,null,null,null,null,null,null,{"$f":"IF(M$2021=1,\"\",IF(U1266=\"\",\"\",VLOOKUP(U1266,Tabelle!$D$5:$H$7,5,FALSE)))","v":""},{"$f":"IF(M$2021=1,\"\",IF(U1266=\"\",\"\",VLOOKUP(U1266,Tabelle!$D$5:$I$7,6,FALSE)))","v":""},null,null,null,null,null,null,null,null,null,null,null,{"$f":"IF(B1266=\"\",0,IF(B1266=B1265,COUNTIF(B$9:B1265,B1266)+1,1))","v":1254},0,0]
["1259","-1900","-1900-1255",null,null,null,null,null,null,null,null,null,null,null,null,null,null,null,null,null,null,{"$f":"IF(M$2021=1,\"\",IF(U1267=\"\",\"\",VLOOKUP(U1267,Tabelle!$D$5:$H$7,5,FALSE)))","v":""},{"$f":"IF(M$2021=1,\"\",IF(U1267=\"\",\"\",VLOOKUP(U1267,Tabelle!$D$5:$I$7,6,FALSE)))","v":""},null,null,null,null,null,null,null,null,null,null,null,{"$f":"IF(B1267=\"\",0,IF(B1267=B1266,COUNTIF(B$9:B1266,B1267)+1,1))","v":1255},0,0]
["1260","-1900","-1900-1256",null,null,null,null,null,null,null,null,null,null,null,null,null,null,null,null,null,null,{"$f":"IF(M$2021=1,\"\",IF(U1268=\"\",\"\",VLOOKUP(U1268,Tabelle!$D$5:$H$7,5,FALSE)))","v":""},{"$f":"IF(M$2021=1,\"\",IF(U1268=\"\",\"\",VLOOKUP(U1268,Tabelle!$D$5:$I$7,6,FALSE)))","v":""},null,null,null,null,null,null,null,null,null,null,null,{"$f":"IF(B1268=\"\",0,IF(B1268=B1267,COUNTIF(B$9:B1267,B1268)+1,1))","v":1256},0,0]
["1261","-1900","-1900-1257",null,null,null,null,null,null,null,null,null,null,null,null,null,null,null,null,null,null,{"$f":"IF(M$2021=1,\"\",IF(U1269=\"\",\"\",VLOOKUP(U1269,Tabelle!$D$5:$H$7,5,FALSE)))","v":""},{"$f":"IF(M$2021=1,\"\",IF(U1269=\"\",\"\",VLOOKUP(U1269,Tabelle!$D$5:$I$7,6,FALSE)))","v":""},null,null,null,null,null,null,null,null,null,null,null,{"$f":"IF(B1269=\"\",0,IF(B1269=B1268,COUNTIF(B$9:B1268,B1269)+1,1))","v":1257},0,0]
["1262","-1900","-1900-1258",null,null,null,null,null,null,null,null,null,null,null,null,null,null,null,null,null,null,{"$f":"IF(M$2021=1,\"\",IF(U1270=\"\",\"\",VLOOKUP(U1270,Tabelle!$D$5:$H$7,5,FALSE)))","v":""},{"$f":"IF(M$2021=1,\"\",IF(U1270=\"\",\"\",VLOOKUP(U1270,Tabelle!$D$5:$I$7,6,FALSE)))","v":""},null,null,null,null,null,null,null,null,null,null,null,{"$f":"IF(B1270=\"\",0,IF(B1270=B1269,COUNTIF(B$9:B1269,B1270)+1,1))","v":1258},0,0]
["1263","-1900","-1900-1259",null,null,null,null,null,null,null,null,null,null,null,null,null,null,null,null,null,null,{"$f":"IF(M$2021=1,\"\",IF(U1271=\"\",\"\",VLOOKUP(U1271,Tabelle!$D$5:$H$7,5,FALSE)))","v":""},{"$f":"IF(M$2021=1,\"\",IF(U1271=\"\",\"\",VLOOKUP(U1271,Tabelle!$D$5:$I$7,6,FALSE)))","v":""},null,null,null,null,null,null,null,null,null,null,null,{"$f":"IF(B1271=\"\",0,IF(B1271=B1270,COUNTIF(B$9:B1270,B1271)+1,1))","v":1259},0,0]
["1264","-1900","-1900-1260",null,null,null,null,null,null,null,null,null,null,null,null,null,null,null,null,null,null,{"$f":"IF(M$2021=1,\"\",IF(U1272=\"\",\"\",VLOOKUP(U1272,Tabelle!$D$5:$H$7,5,FALSE)))","v":""},{"$f":"IF(M$2021=1,\"\",IF(U1272=\"\",\"\",VLOOKUP(U1272,Tabelle!$D$5:$I$7,6,FALSE)))","v":""},null,null,null,null,null,null,null,null,null,null,null,{"$f":"IF(B1272=\"\",0,IF(B1272=B1271,COUNTIF(B$9:B1271,B1272)+1,1))","v":1260},0,0]
["1265","-1900","-1900-1261",null,null,null,null,null,null,null,null,null,null,null,null,null,null,null,null,null,null,{"$f":"IF(M$2021=1,\"\",IF(U1273=\"\",\"\",VLOOKUP(U1273,Tabelle!$D$5:$H$7,5,FALSE)))","v":""},{"$f":"IF(M$2021=1,\"\",IF(U1273=\"\",\"\",VLOOKUP(U1273,Tabelle!$D$5:$I$7,6,FALSE)))","v":""},null,null,null,null,null,null,null,null,null,null,null,{"$f":"IF(B1273=\"\",0,IF(B1273=B1272,COUNTIF(B$9:B1272,B1273)+1,1))","v":1261},0,0]
["1266","-1900","-1900-1262",null,null,null,null,null,null,null,null,null,null,null,null,null,null,null,null,null,null,{"$f":"IF(M$2021=1,\"\",IF(U1274=\"\",\"\",VLOOKUP(U1274,Tabelle!$D$5:$H$7,5,FALSE)))","v":""},{"$f":"IF(M$2021=1,\"\",IF(U1274=\"\",\"\",VLOOKUP(U1274,Tabelle!$D$5:$I$7,6,FALSE)))","v":""},null,null,null,null,null,null,null,null,null,null,null,{"$f":"IF(B1274=\"\",0,IF(B1274=B1273,COUNTIF(B$9:B1273,B1274)+1,1))","v":1262},0,0]
["1267","-1900","-1900-1263",null,null,null,null,null,null,null,null,null,null,null,null,null,null,null,null,null,null,{"$f":"IF(M$2021=1,\"\",IF(U1275=\"\",\"\",VLOOKUP(U1275,Tabelle!$D$5:$H$7,5,FALSE)))","v":""},{"$f":"IF(M$2021=1,\"\",IF(U1275=\"\",\"\",VLOOKUP(U1275,Tabelle!$D$5:$I$7,6,FALSE)))","v":""},null,null,null,null,null,null,null,null,null,null,null,{"$f":"IF(B1275=\"\",0,IF(B1275=B1274,COUNTIF(B$9:B1274,B1275)+1,1))","v":1263},0,0]
["1268","-1900","-1900-1264",null,null,null,null,null,null,null,null,null,null,null,null,null,null,null,null,null,null,{"$f":"IF(M$2021=1,\"\",IF(U1276=\"\",\"\",VLOOKUP(U1276,Tabelle!$D$5:$H$7,5,FALSE)))","v":""},{"$f":"IF(M$2021=1,\"\",IF(U1276=\"\",\"\",VLOOKUP(U1276,Tabelle!$D$5:$I$7,6,FALSE)))","v":""},null,null,null,null,null,null,null,null,null,null,null,{"$f":"IF(B1276=\"\",0,IF(B1276=B1275,COUNTIF(B$9:B1275,B1276)+1,1))","v":1264},0,0]
["1269","-1900","-1900-1265",null,null,null,null,null,null,null,null,null,null,null,null,null,null,null,null,null,null,{"$f":"IF(M$2021=1,\"\",IF(U1277=\"\",\"\",VLOOKUP(U1277,Tabelle!$D$5:$H$7,5,FALSE)))","v":""},{"$f":"IF(M$2021=1,\"\",IF(U1277=\"\",\"\",VLOOKUP(U1277,Tabelle!$D$5:$I$7,6,FALSE)))","v":""},null,null,null,null,null,null,null,null,null,null,null,{"$f":"IF(B1277=\"\",0,IF(B1277=B1276,COUNTIF(B$9:B1276,B1277)+1,1))","v":1265},0,0]
["1270","-1900","-1900-1266",null,null,null,null,null,null,null,null,null,null,null,null,null,null,null,null,null,null,{"$f":"IF(M$2021=1,\"\",IF(U1278=\"\",\"\",VLOOKUP(U1278,Tabelle!$D$5:$H$7,5,FALSE)))","v":""},{"$f":"IF(M$2021=1,\"\",IF(U1278=\"\",\"\",VLOOKUP(U1278,Tabelle!$D$5:$I$7,6,FALSE)))","v":""},null,null,null,null,null,null,null,null,null,null,null,{"$f":"IF(B1278=\"\",0,IF(B1278=B1277,COUNTIF(B$9:B1277,B1278)+1,1))","v":1266},0,0]
["1271","-1900","-1900-1267",null,null,null,null,null,null,null,null,null,null,null,null,null,null,null,null,null,null,{"$f":"IF(M$2021=1,\"\",IF(U1279=\"\",\"\",VLOOKUP(U1279,Tabelle!$D$5:$H$7,5,FALSE)))","v":""},{"$f":"IF(M$2021=1,\"\",IF(U1279=\"\",\"\",VLOOKUP(U1279,Tabelle!$D$5:$I$7,6,FALSE)))","v":""},null,null,null,null,null,null,null,null,null,null,null,{"$f":"IF(B1279=\"\",0,IF(B1279=B1278,COUNTIF(B$9:B1278,B1279)+1,1))","v":1267},0,0]
["1272","-1900","-1900-1268",null,null,null,null,null,null,null,null,null,null,null,null,null,null,null,null,null,null,{"$f":"IF(M$2021=1,\"\",IF(U1280=\"\",\"\",VLOOKUP(U1280,Tabelle!$D$5:$H$7,5,FALSE)))","v":""},{"$f":"IF(M$2021=1,\"\",IF(U1280=\"\",\"\",VLOOKUP(U1280,Tabelle!$D$5:$I$7,6,FALSE)))","v":""},null,null,null,null,null,null,null,null,null,null,null,{"$f":"IF(B1280=\"\",0,IF(B1280=B1279,COUNTIF(B$9:B1279,B1280)+1,1))","v":1268},0,0]
["1273","-1900","-1900-1269",null,null,null,null,null,null,null,null,null,null,null,null,null,null,null,null,null,null,{"$f":"IF(M$2021=1,\"\",IF(U1281=\"\",\"\",VLOOKUP(U1281,Tabelle!$D$5:$H$7,5,FALSE)))","v":""},{"$f":"IF(M$2021=1,\"\",IF(U1281=\"\",\"\",VLOOKUP(U1281,Tabelle!$D$5:$I$7,6,FALSE)))","v":""},null,null,null,null,null,null,null,null,null,null,null,{"$f":"IF(B1281=\"\",0,IF(B1281=B1280,COUNTIF(B$9:B1280,B1281)+1,1))","v":1269},0,0]
["1274","-1900","-1900-1270",null,null,null,null,null,null,null,null,null,null,null,null,null,null,null,null,null,null,{"$f":"IF(M$2021=1,\"\",IF(U1282=\"\",\"\",VLOOKUP(U1282,Tabelle!$D$5:$H$7,5,FALSE)))","v":""},{"$f":"IF(M$2021=1,\"\",IF(U1282=\"\",\"\",VLOOKUP(U1282,Tabelle!$D$5:$I$7,6,FALSE)))","v":""},null,null,null,null,null,null,null,null,null,null,null,{"$f":"IF(B1282=\"\",0,IF(B1282=B1281,COUNTIF(B$9:B1281,B1282)+1,1))","v":1270},0,0]
["1275","-1900","-1900-1271",null,null,null,null,null,null,null,null,null,null,null,null,null,null,null,null,null,null,{"$f":"IF(M$2021=1,\"\",IF(U1283=\"\",\"\",VLOOKUP(U1283,Tabelle!$D$5:$H$7,5,FALSE)))","v":""},{"$f":"IF(M$2021=1,\"\",IF(U1283=\"\",\"\",VLOOKUP(U1283,Tabelle!$D$5:$I$7,6,FALSE)))","v":""},null,null,null,null,null,null,null,null,null,null,null,{"$f":"IF(B1283=\"\",0,IF(B1283=B1282,COUNTIF(B$9:B1282,B1283)+1,1))","v":1271},0,0]
["1276","-1900","-1900-1272",null,null,null,null,null,null,null,null,null,null,null,null,null,null,null,null,null,null,{"$f":"IF(M$2021=1,\"\",IF(U1284=\"\",\"\",VLOOKUP(U1284,Tabelle!$D$5:$H$7,5,FALSE)))","v":""},{"$f":"IF(M$2021=1,\"\",IF(U1284=\"\",\"\",VLOOKUP(U1284,Tabelle!$D$5:$I$7,6,FALSE)))","v":""},null,null,null,null,null,null,null,null,null,null,null,{"$f":"IF(B1284=\"\",0,IF(B1284=B1283,COUNTIF(B$9:B1283,B1284)+1,1))","v":1272},0,0]
["1277","-1900","-1900-1273",null,null,null,null,null,null,null,null,null,null,null,null,null,null,null,null,null,null,{"$f":"IF(M$2021=1,\"\",IF(U1285=\"\",\"\",VLOOKUP(U1285,Tabelle!$D$5:$H$7,5,FALSE)))","v":""},{"$f":"IF(M$2021=1,\"\",IF(U1285=\"\",\"\",VLOOKUP(U1285,Tabelle!$D$5:$I$7,6,FALSE)))","v":""},null,null,null,null,null,null,null,null,null,null,null,{"$f":"IF(B1285=\"\",0,IF(B1285=B1284,COUNTIF(B$9:B1284,B1285)+1,1))","v":1273},0,0]
["1278","-1900","-1900-1274",null,null,null,null,null,null,null,null,null,null,null,null,null,null,null,null,null,null,{"$f":"IF(M$2021=1,\"\",IF(U1286=\"\",\"\",VLOOKUP(U1286,Tabelle!$D$5:$H$7,5,FALSE)))","v":""},{"$f":"IF(M$2021=1,\"\",IF(U1286=\"\",\"\",VLOOKUP(U1286,Tabelle!$D$5:$I$7,6,FALSE)))","v":""},null,null,null,null,null,null,null,null,null,null,null,{"$f":"IF(B1286=\"\",0,IF(B1286=B1285,COUNTIF(B$9:B1285,B1286)+1,1))","v":1274},0,0]
["1279","-1900","-1900-1275",null,null,null,null,null,null,null,null,null,null,null,null,null,null,null,null,null,null,{"$f":"IF(M$2021=1,\"\",IF(U1287=\"\",\"\",VLOOKUP(U1287,Tabelle!$D$5:$H$7,5,FALSE)))","v":""},{"$f":"IF(M$2021=1,\"\",IF(U1287=\"\",\"\",VLOOKUP(U1287,Tabelle!$D$5:$I$7,6,FALSE)))","v":""},null,null,null,null,null,null,null,null,null,null,null,{"$f":"IF(B1287=\"\",0,IF(B1287=B1286,COUNTIF(B$9:B1286,B1287)+1,1))","v":1275},0,0]
["1280","-1900","-1900-1276",null,null,null,null,null,null,null,null,null,null,null,null,null,null,null,null,null,null,{"$f":"IF(M$2021=1,\"\",IF(U1288=\"\",\"\",VLOOKUP(U1288,Tabelle!$D$5:$H$7,5,FALSE)))","v":""},{"$f":"IF(M$2021=1,\"\",IF(U1288=\"\",\"\",VLOOKUP(U1288,Tabelle!$D$5:$I$7,6,FALSE)))","v":""},null,null,null,null,null,null,null,null,null,null,null,{"$f":"IF(B1288=\"\",0,IF(B1288=B1287,COUNTIF(B$9:B1287,B1288)+1,1))","v":1276},0,0]
["1281","-1900",{"$f":"IF(M$2021=1,0,B1289&\"-\"&AI1289)","v":"-1900-1277"},null,null,null,null,null,null,null,null,null,null,null,null,null,null,null,null,null,null,{"$f":"IF(M$2021=1,\"\",IF(U1289=\"\",\"\",VLOOKUP(U1289,Tabelle!$D$5:$H$7,5,FALSE)))","v":""},{"$f":"IF(M$2021=1,\"\",IF(U1289=\"\",\"\",VLOOKUP(U1289,Tabelle!$D$5:$I$7,6,FALSE)))","v":""},null,null,null,null,null,null,null,null,null,null,null,{"$f":"IF(B1289=\"\",0,IF(B1289=B1288,COUNTIF(B$9:B1288,B1289)+1,1))","v":1277},0,0]
["1282",{"$f":"IF(AK1290=$AK$2015,0,IF(M$2021=1,0,D1290&\"-\"&YEAR(E1290)))","v":"-1900"},"-1900-1278",null,null,null,null,null,null,null,null,null,null,null,null,null,null,null,null,null,null,{"$f":"IF(M$2021=1,\"\",IF(U1290=\"\",\"\",VLOOKUP(U1290,Tabelle!$D$5:$H$7,5,FALSE)))","v":""},{"$f":"IF(M$2021=1,\"\",IF(U1290=\"\",\"\",VLOOKUP(U1290,Tabelle!$D$5:$I$7,6,FALSE)))","v":""},null,null,null,null,null,null,null,null,null,null,null,{"$f":"IF(B1290=\"\",0,IF(B1290=B1289,COUNTIF(B$9:B1289,B1290)+1,1))","v":1278},{"$f":"IF(OR(D1290=\"\",M$2021=1),0,IF(AI1290=10,1,0))","v":0},{"$f":"IF(E1290>0,IF(OR(MONTH(E1290)<$J$2027,MONTH(E1290)>$J$2028),AK$2015,0),0)","v":0}]
["1283","-1900","-1900-1279",null,null,null,null,null,null,null,null,null,null,null,null,null,null,null,null,null,null,{"$f":"IF(M$2021=1,\"\",IF(U1291=\"\",\"\",VLOOKUP(U1291,Tabelle!$D$5:$H$7,5,FALSE)))","v":""},{"$f":"IF(M$2021=1,\"\",IF(U1291=\"\",\"\",VLOOKUP(U1291,Tabelle!$D$5:$I$7,6,FALSE)))","v":""},null,null,null,null,null,null,null,null,null,null,null,{"$f":"IF(B1291=\"\",0,IF(B1291=B1290,COUNTIF(B$9:B1290,B1291)+1,1))","v":1279},0,0]
["1284","-1900","-1900-1280",null,null,null,null,null,null,null,null,null,null,null,null,null,null,null,null,null,null,{"$f":"IF(M$2021=1,\"\",IF(U1292=\"\",\"\",VLOOKUP(U1292,Tabelle!$D$5:$H$7,5,FALSE)))","v":""},{"$f":"IF(M$2021=1,\"\",IF(U1292=\"\",\"\",VLOOKUP(U1292,Tabelle!$D$5:$I$7,6,FALSE)))","v":""},null,null,null,null,null,null,null,null,null,null,null,{"$f":"IF(B1292=\"\",0,IF(B1292=B1291,COUNTIF(B$9:B1291,B1292)+1,1))","v":1280},0,0]
["1285","-1900","-1900-1281",null,null,null,null,null,null,null,null,null,null,null,null,null,null,null,null,null,null,{"$f":"IF(M$2021=1,\"\",IF(U1293=\"\",\"\",VLOOKUP(U1293,Tabelle!$D$5:$H$7,5,FALSE)))","v":""},{"$f":"IF(M$2021=1,\"\",IF(U1293=\"\",\"\",VLOOKUP(U1293,Tabelle!$D$5:$I$7,6,FALSE)))","v":""},null,null,null,null,null,null,null,null,null,null,null,{"$f":"IF(B1293=\"\",0,IF(B1293=B1292,COUNTIF(B$9:B1292,B1293)+1,1))","v":1281},0,0]
["1286","-1900","-1900-1282",null,null,null,null,null,null,null,null,null,null,null,null,null,null,null,null,null,null,{"$f":"IF(M$2021=1,\"\",IF(U1294=\"\",\"\",VLOOKUP(U1294,Tabelle!$D$5:$H$7,5,FALSE)))","v":""},{"$f":"IF(M$2021=1,\"\",IF(U1294=\"\",\"\",VLOOKUP(U1294,Tabelle!$D$5:$I$7,6,FALSE)))","v":""},null,null,null,null,null,null,null,null,null,null,null,{"$f":"IF(B1294=\"\",0,IF(B1294=B1293,COUNTIF(B$9:B1293,B1294)+1,1))","v":1282},0,0]
["1287","-1900","-1900-1283",null,null,null,null,null,null,null,null,null,null,null,null,null,null,null,null,null,null,{"$f":"IF(M$2021=1,\"\",IF(U1295=\"\",\"\",VLOOKUP(U1295,Tabelle!$D$5:$H$7,5,FALSE)))","v":""},{"$f":"IF(M$2021=1,\"\",IF(U1295=\"\",\"\",VLOOKUP(U1295,Tabelle!$D$5:$I$7,6,FALSE)))","v":""},null,null,null,null,null,null,null,null,null,null,null,{"$f":"IF(B1295=\"\",0,IF(B1295=B1294,COUNTIF(B$9:B1294,B1295)+1,1))","v":1283},0,0]
["1288","-1900","-1900-1284",null,null,null,null,null,null,null,null,null,null,null,null,null,null,null,null,null,null,{"$f":"IF(M$2021=1,\"\",IF(U1296=\"\",\"\",VLOOKUP(U1296,Tabelle!$D$5:$H$7,5,FALSE)))","v":""},{"$f":"IF(M$2021=1,\"\",IF(U1296=\"\",\"\",VLOOKUP(U1296,Tabelle!$D$5:$I$7,6,FALSE)))","v":""},null,null,null,null,null,null,null,null,null,null,null,{"$f":"IF(B1296=\"\",0,IF(B1296=B1295,COUNTIF(B$9:B1295,B1296)+1,1))","v":1284},0,0]
["1289","-1900","-1900-1285",null,null,null,null,null,null,null,null,null,null,null,null,null,null,null,null,null,null,{"$f":"IF(M$2021=1,\"\",IF(U1297=\"\",\"\",VLOOKUP(U1297,Tabelle!$D$5:$H$7,5,FALSE)))","v":""},{"$f":"IF(M$2021=1,\"\",IF(U1297=\"\",\"\",VLOOKUP(U1297,Tabelle!$D$5:$I$7,6,FALSE)))","v":""},null,null,null,null,null,null,null,null,null,null,null,{"$f":"IF(B1297=\"\",0,IF(B1297=B1296,COUNTIF(B$9:B1296,B1297)+1,1))","v":1285},0,0]
["1290","-1900","-1900-1286",null,null,null,null,null,null,null,null,null,null,null,null,null,null,null,null,null,null,{"$f":"IF(M$2021=1,\"\",IF(U1298=\"\",\"\",VLOOKUP(U1298,Tabelle!$D$5:$H$7,5,FALSE)))","v":""},{"$f":"IF(M$2021=1,\"\",IF(U1298=\"\",\"\",VLOOKUP(U1298,Tabelle!$D$5:$I$7,6,FALSE)))","v":""},null,null,null,null,null,null,null,null,null,null,null,{"$f":"IF(B1298=\"\",0,IF(B1298=B1297,COUNTIF(B$9:B1297,B1298)+1,1))","v":1286},0,0]
["1291","-1900","-1900-1287",null,null,null,null,null,null,null,null,null,null,null,null,null,null,null,null,null,null,{"$f":"IF(M$2021=1,\"\",IF(U1299=\"\",\"\",VLOOKUP(U1299,Tabelle!$D$5:$H$7,5,FALSE)))","v":""},{"$f":"IF(M$2021=1,\"\",IF(U1299=\"\",\"\",VLOOKUP(U1299,Tabelle!$D$5:$I$7,6,FALSE)))","v":""},null,null,null,null,null,null,null,null,null,null,null,{"$f":"IF(B1299=\"\",0,IF(B1299=B1298,COUNTIF(B$9:B1298,B1299)+1,1))","v":1287},0,0]
["1292","-1900","-1900-1288",null,null,null,null,null,null,null,null,null,null,null,null,null,null,null,null,null,null,{"$f":"IF(M$2021=1,\"\",IF(U1300=\"\",\"\",VLOOKUP(U1300,Tabelle!$D$5:$H$7,5,FALSE)))","v":""},{"$f":"IF(M$2021=1,\"\",IF(U1300=\"\",\"\",VLOOKUP(U1300,Tabelle!$D$5:$I$7,6,FALSE)))","v":""},null,null,null,null,null,null,null,null,null,null,null,{"$f":"IF(B1300=\"\",0,IF(B1300=B1299,COUNTIF(B$9:B1299,B1300)+1,1))","v":1288},0,0]
["1293","-1900","-1900-1289",null,null,null,null,null,null,null,null,null,null,null,null,null,null,null,null,null,null,{"$f":"IF(M$2021=1,\"\",IF(U1301=\"\",\"\",VLOOKUP(U1301,Tabelle!$D$5:$H$7,5,FALSE)))","v":""},{"$f":"IF(M$2021=1,\"\",IF(U1301=\"\",\"\",VLOOKUP(U1301,Tabelle!$D$5:$I$7,6,FALSE)))","v":""},null,null,null,null,null,null,null,null,null,null,null,{"$f":"IF(B1301=\"\",0,IF(B1301=B1300,COUNTIF(B$9:B1300,B1301)+1,1))","v":1289},0,0]
["1294","-1900","-1900-1290",null,null,null,null,null,null,null,null,null,null,null,null,null,null,null,null,null,null,{"$f":"IF(M$2021=1,\"\",IF(U1302=\"\",\"\",VLOOKUP(U1302,Tabelle!$D$5:$H$7,5,FALSE)))","v":""},{"$f":"IF(M$2021=1,\"\",IF(U1302=\"\",\"\",VLOOKUP(U1302,Tabelle!$D$5:$I$7,6,FALSE)))","v":""},null,null,null,null,null,null,null,null,null,null,null,{"$f":"IF(B1302=\"\",0,IF(B1302=B1301,COUNTIF(B$9:B1301,B1302)+1,1))","v":1290},0,0]
["1295","-1900","-1900-1291",null,null,null,null,null,null,null,null,null,null,null,null,null,null,null,null,null,null,{"$f":"IF(M$2021=1,\"\",IF(U1303=\"\",\"\",VLOOKUP(U1303,Tabelle!$D$5:$H$7,5,FALSE)))","v":""},{"$f":"IF(M$2021=1,\"\",IF(U1303=\"\",\"\",VLOOKUP(U1303,Tabelle!$D$5:$I$7,6,FALSE)))","v":""},null,null,null,null,null,null,null,null,null,null,null,{"$f":"IF(B1303=\"\",0,IF(B1303=B1302,COUNTIF(B$9:B1302,B1303)+1,1))","v":1291},0,0]
["1296","-1900","-1900-1292",null,null,null,null,null,null,null,null,null,null,null,null,null,null,null,null,null,null,{"$f":"IF(M$2021=1,\"\",IF(U1304=\"\",\"\",VLOOKUP(U1304,Tabelle!$D$5:$H$7,5,FALSE)))","v":""},{"$f":"IF(M$2021=1,\"\",IF(U1304=\"\",\"\",VLOOKUP(U1304,Tabelle!$D$5:$I$7,6,FALSE)))","v":""},null,null,null,null,null,null,null,null,null,null,null,{"$f":"IF(B1304=\"\",0,IF(B1304=B1303,COUNTIF(B$9:B1303,B1304)+1,1))","v":1292},0,0]
["1297","-1900","-1900-1293",null,null,null,null,null,null,null,null,null,null,null,null,null,null,null,null,null,null,{"$f":"IF(M$2021=1,\"\",IF(U1305=\"\",\"\",VLOOKUP(U1305,Tabelle!$D$5:$H$7,5,FALSE)))","v":""},{"$f":"IF(M$2021=1,\"\",IF(U1305=\"\",\"\",VLOOKUP(U1305,Tabelle!$D$5:$I$7,6,FALSE)))","v":""},null,null,null,null,null,null,null,null,null,null,null,{"$f":"IF(B1305=\"\",0,IF(B1305=B1304,COUNTIF(B$9:B1304,B1305)+1,1))","v":1293},0,0]
["1298","-1900","-1900-1294",null,null,null,null,null,null,null,null,null,null,null,null,null,null,null,null,null,null,{"$f":"IF(M$2021=1,\"\",IF(U1306=\"\",\"\",VLOOKUP(U1306,Tabelle!$D$5:$H$7,5,FALSE)))","v":""},{"$f":"IF(M$2021=1,\"\",IF(U1306=\"\",\"\",VLOOKUP(U1306,Tabelle!$D$5:$I$7,6,FALSE)))","v":""},null,null,null,null,null,null,null,null,null,null,null,{"$f":"IF(B1306=\"\",0,IF(B1306=B1305,COUNTIF(B$9:B1305,B1306)+1,1))","v":1294},0,0]
["1299","-1900","-1900-1295",null,null,null,null,null,null,null,null,null,null,null,null,null,null,null,null,null,null,{"$f":"IF(M$2021=1,\"\",IF(U1307=\"\",\"\",VLOOKUP(U1307,Tabelle!$D$5:$H$7,5,FALSE)))","v":""},{"$f":"IF(M$2021=1,\"\",IF(U1307=\"\",\"\",VLOOKUP(U1307,Tabelle!$D$5:$I$7,6,FALSE)))","v":""},null,null,null,null,null,null,null,null,null,null,null,{"$f":"IF(B1307=\"\",0,IF(B1307=B1306,COUNTIF(B$9:B1306,B1307)+1,1))","v":1295},0,0]
["1300","-1900","-1900-1296",null,null,null,null,null,null,null,null,null,null,null,null,null,null,null,null,null,null,{"$f":"IF(M$2021=1,\"\",IF(U1308=\"\",\"\",VLOOKUP(U1308,Tabelle!$D$5:$H$7,5,FALSE)))","v":""},{"$f":"IF(M$2021=1,\"\",IF(U1308=\"\",\"\",VLOOKUP(U1308,Tabelle!$D$5:$I$7,6,FALSE)))","v":""},null,null,null,null,null,null,null,null,null,null,null,{"$f":"IF(B1308=\"\",0,IF(B1308=B1307,COUNTIF(B$9:B1307,B1308)+1,1))","v":1296},0,0]
["1301","-1900","-1900-1297",null,null,null,null,null,null,null,null,null,null,null,null,null,null,null,null,null,null,{"$f":"IF(M$2021=1,\"\",IF(U1309=\"\",\"\",VLOOKUP(U1309,Tabelle!$D$5:$H$7,5,FALSE)))","v":""},{"$f":"IF(M$2021=1,\"\",IF(U1309=\"\",\"\",VLOOKUP(U1309,Tabelle!$D$5:$I$7,6,FALSE)))","v":""},null,null,null,null,null,null,null,null,null,null,null,{"$f":"IF(B1309=\"\",0,IF(B1309=B1308,COUNTIF(B$9:B1308,B1309)+1,1))","v":1297},0,0]
["1302","-1900","-1900-1298",null,null,null,null,null,null,null,null,null,null,null,null,null,null,null,null,null,null,{"$f":"IF(M$2021=1,\"\",IF(U1310=\"\",\"\",VLOOKUP(U1310,Tabelle!$D$5:$H$7,5,FALSE)))","v":""},{"$f":"IF(M$2021=1,\"\",IF(U1310=\"\",\"\",VLOOKUP(U1310,Tabelle!$D$5:$I$7,6,FALSE)))","v":""},null,null,null,null,null,null,null,null,null,null,null,{"$f":"IF(B1310=\"\",0,IF(B1310=B1309,COUNTIF(B$9:B1309,B1310)+1,1))","v":1298},0,0]
["1303","-1900","-1900-1299",null,null,null,null,null,null,null,null,null,null,null,null,null,null,null,null,null,null,{"$f":"IF(M$2021=1,\"\",IF(U1311=\"\",\"\",VLOOKUP(U1311,Tabelle!$D$5:$H$7,5,FALSE)))","v":""},{"$f":"IF(M$2021=1,\"\",IF(U1311=\"\",\"\",VLOOKUP(U1311,Tabelle!$D$5:$I$7,6,FALSE)))","v":""},null,null,null,null,null,null,null,null,null,null,null,{"$f":"IF(B1311=\"\",0,IF(B1311=B1310,COUNTIF(B$9:B1310,B1311)+1,1))","v":1299},0,0]
["1304","-1900","-1900-1300",null,null,null,null,null,null,null,null,null,null,null,null,null,null,null,null,null,null,{"$f":"IF(M$2021=1,\"\",IF(U1312=\"\",\"\",VLOOKUP(U1312,Tabelle!$D$5:$H$7,5,FALSE)))","v":""},{"$f":"IF(M$2021=1,\"\",IF(U1312=\"\",\"\",VLOOKUP(U1312,Tabelle!$D$5:$I$7,6,FALSE)))","v":""},null,null,null,null,null,null,null,null,null,null,null,{"$f":"IF(B1312=\"\",0,IF(B1312=B1311,COUNTIF(B$9:B1311,B1312)+1,1))","v":1300},0,0]
["1305","-1900","-1900-1301",null,null,null,null,null,null,null,null,null,null,null,null,null,null,null,null,null,null,{"$f":"IF(M$2021=1,\"\",IF(U1313=\"\",\"\",VLOOKUP(U1313,Tabelle!$D$5:$H$7,5,FALSE)))","v":""},{"$f":"IF(M$2021=1,\"\",IF(U1313=\"\",\"\",VLOOKUP(U1313,Tabelle!$D$5:$I$7,6,FALSE)))","v":""},null,null,null,null,null,null,null,null,null,null,null,{"$f":"IF(B1313=\"\",0,IF(B1313=B1312,COUNTIF(B$9:B1312,B1313)+1,1))","v":1301},0,0]
["1306","-1900","-1900-1302",null,null,null,null,null,null,null,null,null,null,null,null,null,null,null,null,null,null,{"$f":"IF(M$2021=1,\"\",IF(U1314=\"\",\"\",VLOOKUP(U1314,Tabelle!$D$5:$H$7,5,FALSE)))","v":""},{"$f":"IF(M$2021=1,\"\",IF(U1314=\"\",\"\",VLOOKUP(U1314,Tabelle!$D$5:$I$7,6,FALSE)))","v":""},null,null,null,null,null,null,null,null,null,null,null,{"$f":"IF(B1314=\"\",0,IF(B1314=B1313,COUNTIF(B$9:B1313,B1314)+1,1))","v":1302},0,0]
["1307","-1900","-1900-1303",null,null,null,null,null,null,null,null,null,null,null,null,null,null,null,null,null,null,{"$f":"IF(M$2021=1,\"\",IF(U1315=\"\",\"\",VLOOKUP(U1315,Tabelle!$D$5:$H$7,5,FALSE)))","v":""},{"$f":"IF(M$2021=1,\"\",IF(U1315=\"\",\"\",VLOOKUP(U1315,Tabelle!$D$5:$I$7,6,FALSE)))","v":""},null,null,null,null,null,null,null,null,null,null,null,{"$f":"IF(B1315=\"\",0,IF(B1315=B1314,COUNTIF(B$9:B1314,B1315)+1,1))","v":1303},0,0]
["1308","-1900","-1900-1304",null,null,null,null,null,null,null,null,null,null,null,null,null,null,null,null,null,null,{"$f":"IF(M$2021=1,\"\",IF(U1316=\"\",\"\",VLOOKUP(U1316,Tabelle!$D$5:$H$7,5,FALSE)))","v":""},{"$f":"IF(M$2021=1,\"\",IF(U1316=\"\",\"\",VLOOKUP(U1316,Tabelle!$D$5:$I$7,6,FALSE)))","v":""},null,null,null,null,null,null,null,null,null,null,null,{"$f":"IF(B1316=\"\",0,IF(B1316=B1315,COUNTIF(B$9:B1315,B1316)+1,1))","v":1304},0,0]
["1309","-1900","-1900-1305",null,null,null,null,null,null,null,null,null,null,null,null,null,null,null,null,null,null,{"$f":"IF(M$2021=1,\"\",IF(U1317=\"\",\"\",VLOOKUP(U1317,Tabelle!$D$5:$H$7,5,FALSE)))","v":""},{"$f":"IF(M$2021=1,\"\",IF(U1317=\"\",\"\",VLOOKUP(U1317,Tabelle!$D$5:$I$7,6,FALSE)))","v":""},null,null,null,null,null,null,null,null,null,null,null,{"$f":"IF(B1317=\"\",0,IF(B1317=B1316,COUNTIF(B$9:B1316,B1317)+1,1))","v":1305},0,0]
["1310","-1900","-1900-1306",null,null,null,null,null,null,null,null,null,null,null,null,null,null,null,null,null,null,{"$f":"IF(M$2021=1,\"\",IF(U1318=\"\",\"\",VLOOKUP(U1318,Tabelle!$D$5:$H$7,5,FALSE)))","v":""},{"$f":"IF(M$2021=1,\"\",IF(U1318=\"\",\"\",VLOOKUP(U1318,Tabelle!$D$5:$I$7,6,FALSE)))","v":""},null,null,null,null,null,null,null,null,null,null,null,{"$f":"IF(B1318=\"\",0,IF(B1318=B1317,COUNTIF(B$9:B1317,B1318)+1,1))","v":1306},0,0]
["1311","-1900","-1900-1307",null,null,null,null,null,null,null,null,null,null,null,null,null,null,null,null,null,null,{"$f":"IF(M$2021=1,\"\",IF(U1319=\"\",\"\",VLOOKUP(U1319,Tabelle!$D$5:$H$7,5,FALSE)))","v":""},{"$f":"IF(M$2021=1,\"\",IF(U1319=\"\",\"\",VLOOKUP(U1319,Tabelle!$D$5:$I$7,6,FALSE)))","v":""},null,null,null,null,null,null,null,null,null,null,null,{"$f":"IF(B1319=\"\",0,IF(B1319=B1318,COUNTIF(B$9:B1318,B1319)+1,1))","v":1307},0,0]
["1312","-1900","-1900-1308",null,null,null,null,null,null,null,null,null,null,null,null,null,null,null,null,null,null,{"$f":"IF(M$2021=1,\"\",IF(U1320=\"\",\"\",VLOOKUP(U1320,Tabelle!$D$5:$H$7,5,FALSE)))","v":""},{"$f":"IF(M$2021=1,\"\",IF(U1320=\"\",\"\",VLOOKUP(U1320,Tabelle!$D$5:$I$7,6,FALSE)))","v":""},null,null,null,null,null,null,null,null,null,null,null,{"$f":"IF(B1320=\"\",0,IF(B1320=B1319,COUNTIF(B$9:B1319,B1320)+1,1))","v":1308},0,0]
["1313","-1900","-1900-1309",null,null,null,null,null,null,null,null,null,null,null,null,null,null,null,null,null,null,{"$f":"IF(M$2021=1,\"\",IF(U1321=\"\",\"\",VLOOKUP(U1321,Tabelle!$D$5:$H$7,5,FALSE)))","v":""},{"$f":"IF(M$2021=1,\"\",IF(U1321=\"\",\"\",VLOOKUP(U1321,Tabelle!$D$5:$I$7,6,FALSE)))","v":""},null,null,null,null,null,null,null,null,null,null,null,{"$f":"IF(B1321=\"\",0,IF(B1321=B1320,COUNTIF(B$9:B1320,B1321)+1,1))","v":1309},0,0]
["1314","-1900","-1900-1310",null,null,null,null,null,null,null,null,null,null,null,null,null,null,null,null,null,null,{"$f":"IF(M$2021=1,\"\",IF(U1322=\"\",\"\",VLOOKUP(U1322,Tabelle!$D$5:$H$7,5,FALSE)))","v":""},{"$f":"IF(M$2021=1,\"\",IF(U1322=\"\",\"\",VLOOKUP(U1322,Tabelle!$D$5:$I$7,6,FALSE)))","v":""},null,null,null,null,null,null,null,null,null,null,null,{"$f":"IF(B1322=\"\",0,IF(B1322=B1321,COUNTIF(B$9:B1321,B1322)+1,1))","v":1310},0,0]
["1315","-1900","-1900-1311",null,null,null,null,null,null,null,null,null,null,null,null,null,null,null,null,null,null,{"$f":"IF(M$2021=1,\"\",IF(U1323=\"\",\"\",VLOOKUP(U1323,Tabelle!$D$5:$H$7,5,FALSE)))","v":""},{"$f":"IF(M$2021=1,\"\",IF(U1323=\"\",\"\",VLOOKUP(U1323,Tabelle!$D$5:$I$7,6,FALSE)))","v":""},null,null,null,null,null,null,null,null,null,null,null,{"$f":"IF(B1323=\"\",0,IF(B1323=B1322,COUNTIF(B$9:B1322,B1323)+1,1))","v":1311},0,0]
["1316","-1900","-1900-1312",null,null,null,null,null,null,null,null,null,null,null,null,null,null,null,null,null,null,{"$f":"IF(M$2021=1,\"\",IF(U1324=\"\",\"\",VLOOKUP(U1324,Tabelle!$D$5:$H$7,5,FALSE)))","v":""},{"$f":"IF(M$2021=1,\"\",IF(U1324=\"\",\"\",VLOOKUP(U1324,Tabelle!$D$5:$I$7,6,FALSE)))","v":""},null,null,null,null,null,null,null,null,null,null,null,{"$f":"IF(B1324=\"\",0,IF(B1324=B1323,COUNTIF(B$9:B1323,B1324)+1,1))","v":1312},0,0]
["1317","-1900","-1900-1313",null,null,null,null,null,null,null,null,null,null,null,null,null,null,null,null,null,null,{"$f":"IF(M$2021=1,\"\",IF(U1325=\"\",\"\",VLOOKUP(U1325,Tabelle!$D$5:$H$7,5,FALSE)))","v":""},{"$f":"IF(M$2021=1,\"\",IF(U1325=\"\",\"\",VLOOKUP(U1325,Tabelle!$D$5:$I$7,6,FALSE)))","v":""},null,null,null,null,null,null,null,null,null,null,null,{"$f":"IF(B1325=\"\",0,IF(B1325=B1324,COUNTIF(B$9:B1324,B1325)+1,1))","v":1313},0,0]
["1318","-1900","-1900-1314",null,null,null,null,null,null,null,null,null,null,null,null,null,null,null,null,null,null,{"$f":"IF(M$2021=1,\"\",IF(U1326=\"\",\"\",VLOOKUP(U1326,Tabelle!$D$5:$H$7,5,FALSE)))","v":""},{"$f":"IF(M$2021=1,\"\",IF(U1326=\"\",\"\",VLOOKUP(U1326,Tabelle!$D$5:$I$7,6,FALSE)))","v":""},null,null,null,null,null,null,null,null,null,null,null,{"$f":"IF(B1326=\"\",0,IF(B1326=B1325,COUNTIF(B$9:B1325,B1326)+1,1))","v":1314},0,0]
["1319","-1900","-1900-1315",null,null,null,null,null,null,null,null,null,null,null,null,null,null,null,null,null,null,{"$f":"IF(M$2021=1,\"\",IF(U1327=\"\",\"\",VLOOKUP(U1327,Tabelle!$D$5:$H$7,5,FALSE)))","v":""},{"$f":"IF(M$2021=1,\"\",IF(U1327=\"\",\"\",VLOOKUP(U1327,Tabelle!$D$5:$I$7,6,FALSE)))","v":""},null,null,null,null,null,null,null,null,null,null,null,{"$f":"IF(B1327=\"\",0,IF(B1327=B1326,COUNTIF(B$9:B1326,B1327)+1,1))","v":1315},0,0]
["1320","-1900","-1900-1316",null,null,null,null,null,null,null,null,null,null,null,null,null,null,null,null,null,null,{"$f":"IF(M$2021=1,\"\",IF(U1328=\"\",\"\",VLOOKUP(U1328,Tabelle!$D$5:$H$7,5,FALSE)))","v":""},{"$f":"IF(M$2021=1,\"\",IF(U1328=\"\",\"\",VLOOKUP(U1328,Tabelle!$D$5:$I$7,6,FALSE)))","v":""},null,null,null,null,null,null,null,null,null,null,null,{"$f":"IF(B1328=\"\",0,IF(B1328=B1327,COUNTIF(B$9:B1327,B1328)+1,1))","v":1316},0,0]
["1321","-1900","-1900-1317",null,null,null,null,null,null,null,null,null,null,null,null,null,null,null,null,null,null,{"$f":"IF(M$2021=1,\"\",IF(U1329=\"\",\"\",VLOOKUP(U1329,Tabelle!$D$5:$H$7,5,FALSE)))","v":""},{"$f":"IF(M$2021=1,\"\",IF(U1329=\"\",\"\",VLOOKUP(U1329,Tabelle!$D$5:$I$7,6,FALSE)))","v":""},null,null,null,null,null,null,null,null,null,null,null,{"$f":"IF(B1329=\"\",0,IF(B1329=B1328,COUNTIF(B$9:B1328,B1329)+1,1))","v":1317},0,0]
["1322","-1900","-1900-1318",null,null,null,null,null,null,null,null,null,null,null,null,null,null,null,null,null,null,{"$f":"IF(M$2021=1,\"\",IF(U1330=\"\",\"\",VLOOKUP(U1330,Tabelle!$D$5:$H$7,5,FALSE)))","v":""},{"$f":"IF(M$2021=1,\"\",IF(U1330=\"\",\"\",VLOOKUP(U1330,Tabelle!$D$5:$I$7,6,FALSE)))","v":""},null,null,null,null,null,null,null,null,null,null,null,{"$f":"IF(B1330=\"\",0,IF(B1330=B1329,COUNTIF(B$9:B1329,B1330)+1,1))","v":1318},0,0]
["1323","-1900","-1900-1319",null,null,null,null,null,null,null,null,null,null,null,null,null,null,null,null,null,null,{"$f":"IF(M$2021=1,\"\",IF(U1331=\"\",\"\",VLOOKUP(U1331,Tabelle!$D$5:$H$7,5,FALSE)))","v":""},{"$f":"IF(M$2021=1,\"\",IF(U1331=\"\",\"\",VLOOKUP(U1331,Tabelle!$D$5:$I$7,6,FALSE)))","v":""},null,null,null,null,null,null,null,null,null,null,null,{"$f":"IF(B1331=\"\",0,IF(B1331=B1330,COUNTIF(B$9:B1330,B1331)+1,1))","v":1319},0,0]
["1324","-1900","-1900-1320",null,null,null,null,null,null,null,null,null,null,null,null,null,null,null,null,null,null,{"$f":"IF(M$2021=1,\"\",IF(U1332=\"\",\"\",VLOOKUP(U1332,Tabelle!$D$5:$H$7,5,FALSE)))","v":""},{"$f":"IF(M$2021=1,\"\",IF(U1332=\"\",\"\",VLOOKUP(U1332,Tabelle!$D$5:$I$7,6,FALSE)))","v":""},null,null,null,null,null,null,null,null,null,null,null,{"$f":"IF(B1332=\"\",0,IF(B1332=B1331,COUNTIF(B$9:B1331,B1332)+1,1))","v":1320},0,0]
["1325","-1900","-1900-1321",null,null,null,null,null,null,null,null,null,null,null,null,null,null,null,null,null,null,{"$f":"IF(M$2021=1,\"\",IF(U1333=\"\",\"\",VLOOKUP(U1333,Tabelle!$D$5:$H$7,5,FALSE)))","v":""},{"$f":"IF(M$2021=1,\"\",IF(U1333=\"\",\"\",VLOOKUP(U1333,Tabelle!$D$5:$I$7,6,FALSE)))","v":""},null,null,null,null,null,null,null,null,null,null,null,{"$f":"IF(B1333=\"\",0,IF(B1333=B1332,COUNTIF(B$9:B1332,B1333)+1,1))","v":1321},0,0]
["1326","-1900","-1900-1322",null,null,null,null,null,null,null,null,null,null,null,null,null,null,null,null,null,null,{"$f":"IF(M$2021=1,\"\",IF(U1334=\"\",\"\",VLOOKUP(U1334,Tabelle!$D$5:$H$7,5,FALSE)))","v":""},{"$f":"IF(M$2021=1,\"\",IF(U1334=\"\",\"\",VLOOKUP(U1334,Tabelle!$D$5:$I$7,6,FALSE)))","v":""},null,null,null,null,null,null,null,null,null,null,null,{"$f":"IF(B1334=\"\",0,IF(B1334=B1333,COUNTIF(B$9:B1333,B1334)+1,1))","v":1322},0,0]
["1327","-1900","-1900-1323",null,null,null,null,null,null,null,null,null,null,null,null,null,null,null,null,null,null,{"$f":"IF(M$2021=1,\"\",IF(U1335=\"\",\"\",VLOOKUP(U1335,Tabelle!$D$5:$H$7,5,FALSE)))","v":""},{"$f":"IF(M$2021=1,\"\",IF(U1335=\"\",\"\",VLOOKUP(U1335,Tabelle!$D$5:$I$7,6,FALSE)))","v":""},null,null,null,null,null,null,null,null,null,null,null,{"$f":"IF(B1335=\"\",0,IF(B1335=B1334,COUNTIF(B$9:B1334,B1335)+1,1))","v":1323},0,0]
["1328","-1900","-1900-1324",null,null,null,null,null,null,null,null,null,null,null,null,null,null,null,null,null,null,{"$f":"IF(M$2021=1,\"\",IF(U1336=\"\",\"\",VLOOKUP(U1336,Tabelle!$D$5:$H$7,5,FALSE)))","v":""},{"$f":"IF(M$2021=1,\"\",IF(U1336=\"\",\"\",VLOOKUP(U1336,Tabelle!$D$5:$I$7,6,FALSE)))","v":""},null,null,null,null,null,null,null,null,null,null,null,{"$f":"IF(B1336=\"\",0,IF(B1336=B1335,COUNTIF(B$9:B1335,B1336)+1,1))","v":1324},0,0]
["1329","-1900","-1900-1325",null,null,null,null,null,null,null,null,null,null,null,null,null,null,null,null,null,null,{"$f":"IF(M$2021=1,\"\",IF(U1337=\"\",\"\",VLOOKUP(U1337,Tabelle!$D$5:$H$7,5,FALSE)))","v":""},{"$f":"IF(M$2021=1,\"\",IF(U1337=\"\",\"\",VLOOKUP(U1337,Tabelle!$D$5:$I$7,6,FALSE)))","v":""},null,null,null,null,null,null,null,null,null,null,null,{"$f":"IF(B1337=\"\",0,IF(B1337=B1336,COUNTIF(B$9:B1336,B1337)+1,1))","v":1325},0,0]
["1330","-1900","-1900-1326",null,null,null,null,null,null,null,null,null,null,null,null,null,null,null,null,null,null,{"$f":"IF(M$2021=1,\"\",IF(U1338=\"\",\"\",VLOOKUP(U1338,Tabelle!$D$5:$H$7,5,FALSE)))","v":""},{"$f":"IF(M$2021=1,\"\",IF(U1338=\"\",\"\",VLOOKUP(U1338,Tabelle!$D$5:$I$7,6,FALSE)))","v":""},null,null,null,null,null,null,null,null,null,null,null,{"$f":"IF(B1338=\"\",0,IF(B1338=B1337,COUNTIF(B$9:B1337,B1338)+1,1))","v":1326},0,0]
["1331","-1900","-1900-1327",null,null,null,null,null,null,null,null,null,null,null,null,null,null,null,null,null,null,{"$f":"IF(M$2021=1,\"\",IF(U1339=\"\",\"\",VLOOKUP(U1339,Tabelle!$D$5:$H$7,5,FALSE)))","v":""},{"$f":"IF(M$2021=1,\"\",IF(U1339=\"\",\"\",VLOOKUP(U1339,Tabelle!$D$5:$I$7,6,FALSE)))","v":""},null,null,null,null,null,null,null,null,null,null,null,{"$f":"IF(B1339=\"\",0,IF(B1339=B1338,COUNTIF(B$9:B1338,B1339)+1,1))","v":1327},0,0]
["1332","-1900","-1900-1328",null,null,null,null,null,null,null,null,null,null,null,null,null,null,null,null,null,null,{"$f":"IF(M$2021=1,\"\",IF(U1340=\"\",\"\",VLOOKUP(U1340,Tabelle!$D$5:$H$7,5,FALSE)))","v":""},{"$f":"IF(M$2021=1,\"\",IF(U1340=\"\",\"\",VLOOKUP(U1340,Tabelle!$D$5:$I$7,6,FALSE)))","v":""},null,null,null,null,null,null,null,null,null,null,null,{"$f":"IF(B1340=\"\",0,IF(B1340=B1339,COUNTIF(B$9:B1339,B1340)+1,1))","v":1328},0,0]
["1333","-1900","-1900-1329",null,null,null,null,null,null,null,null,null,null,null,null,null,null,null,null,null,null,{"$f":"IF(M$2021=1,\"\",IF(U1341=\"\",\"\",VLOOKUP(U1341,Tabelle!$D$5:$H$7,5,FALSE)))","v":""},{"$f":"IF(M$2021=1,\"\",IF(U1341=\"\",\"\",VLOOKUP(U1341,Tabelle!$D$5:$I$7,6,FALSE)))","v":""},null,null,null,null,null,null,null,null,null,null,null,{"$f":"IF(B1341=\"\",0,IF(B1341=B1340,COUNTIF(B$9:B1340,B1341)+1,1))","v":1329},0,0]
["1334","-1900","-1900-1330",null,null,null,null,null,null,null,null,null,null,null,null,null,null,null,null,null,null,{"$f":"IF(M$2021=1,\"\",IF(U1342=\"\",\"\",VLOOKUP(U1342,Tabelle!$D$5:$H$7,5,FALSE)))","v":""},{"$f":"IF(M$2021=1,\"\",IF(U1342=\"\",\"\",VLOOKUP(U1342,Tabelle!$D$5:$I$7,6,FALSE)))","v":""},null,null,null,null,null,null,null,null,null,null,null,{"$f":"IF(B1342=\"\",0,IF(B1342=B1341,COUNTIF(B$9:B1341,B1342)+1,1))","v":1330},0,0]
["1335","-1900","-1900-1331",null,null,null,null,null,null,null,null,null,null,null,null,null,null,null,null,null,null,{"$f":"IF(M$2021=1,\"\",IF(U1343=\"\",\"\",VLOOKUP(U1343,Tabelle!$D$5:$H$7,5,FALSE)))","v":""},{"$f":"IF(M$2021=1,\"\",IF(U1343=\"\",\"\",VLOOKUP(U1343,Tabelle!$D$5:$I$7,6,FALSE)))","v":""},null,null,null,null,null,null,null,null,null,null,null,{"$f":"IF(B1343=\"\",0,IF(B1343=B1342,COUNTIF(B$9:B1342,B1343)+1,1))","v":1331},0,0]
["1336","-1900","-1900-1332",null,null,null,null,null,null,null,null,null,null,null,null,null,null,null,null,null,null,{"$f":"IF(M$2021=1,\"\",IF(U1344=\"\",\"\",VLOOKUP(U1344,Tabelle!$D$5:$H$7,5,FALSE)))","v":""},{"$f":"IF(M$2021=1,\"\",IF(U1344=\"\",\"\",VLOOKUP(U1344,Tabelle!$D$5:$I$7,6,FALSE)))","v":""},null,null,null,null,null,null,null,null,null,null,null,{"$f":"IF(B1344=\"\",0,IF(B1344=B1343,COUNTIF(B$9:B1343,B1344)+1,1))","v":1332},0,0]
["1337","-1900","-1900-1333",null,null,null,null,null,null,null,null,null,null,null,null,null,null,null,null,null,null,{"$f":"IF(M$2021=1,\"\",IF(U1345=\"\",\"\",VLOOKUP(U1345,Tabelle!$D$5:$H$7,5,FALSE)))","v":""},{"$f":"IF(M$2021=1,\"\",IF(U1345=\"\",\"\",VLOOKUP(U1345,Tabelle!$D$5:$I$7,6,FALSE)))","v":""},null,null,null,null,null,null,null,null,null,null,null,{"$f":"IF(B1345=\"\",0,IF(B1345=B1344,COUNTIF(B$9:B1344,B1345)+1,1))","v":1333},0,0]
["1338","-1900","-1900-1334",null,null,null,null,null,null,null,null,null,null,null,null,null,null,null,null,null,null,{"$f":"IF(M$2021=1,\"\",IF(U1346=\"\",\"\",VLOOKUP(U1346,Tabelle!$D$5:$H$7,5,FALSE)))","v":""},{"$f":"IF(M$2021=1,\"\",IF(U1346=\"\",\"\",VLOOKUP(U1346,Tabelle!$D$5:$I$7,6,FALSE)))","v":""},null,null,null,null,null,null,null,null,null,null,null,{"$f":"IF(B1346=\"\",0,IF(B1346=B1345,COUNTIF(B$9:B1345,B1346)+1,1))","v":1334},0,0]
["1339","-1900","-1900-1335",null,null,null,null,null,null,null,null,null,null,null,null,null,null,null,null,null,null,{"$f":"IF(M$2021=1,\"\",IF(U1347=\"\",\"\",VLOOKUP(U1347,Tabelle!$D$5:$H$7,5,FALSE)))","v":""},{"$f":"IF(M$2021=1,\"\",IF(U1347=\"\",\"\",VLOOKUP(U1347,Tabelle!$D$5:$I$7,6,FALSE)))","v":""},null,null,null,null,null,null,null,null,null,null,null,{"$f":"IF(B1347=\"\",0,IF(B1347=B1346,COUNTIF(B$9:B1346,B1347)+1,1))","v":1335},0,0]
["1340","-1900","-1900-1336",null,null,null,null,null,null,null,null,null,null,null,null,null,null,null,null,null,null,{"$f":"IF(M$2021=1,\"\",IF(U1348=\"\",\"\",VLOOKUP(U1348,Tabelle!$D$5:$H$7,5,FALSE)))","v":""},{"$f":"IF(M$2021=1,\"\",IF(U1348=\"\",\"\",VLOOKUP(U1348,Tabelle!$D$5:$I$7,6,FALSE)))","v":""},null,null,null,null,null,null,null,null,null,null,null,{"$f":"IF(B1348=\"\",0,IF(B1348=B1347,COUNTIF(B$9:B1347,B1348)+1,1))","v":1336},0,0]
["1341","-1900","-1900-1337",null,null,null,null,null,null,null,null,null,null,null,null,null,null,null,null,null,null,{"$f":"IF(M$2021=1,\"\",IF(U1349=\"\",\"\",VLOOKUP(U1349,Tabelle!$D$5:$H$7,5,FALSE)))","v":""},{"$f":"IF(M$2021=1,\"\",IF(U1349=\"\",\"\",VLOOKUP(U1349,Tabelle!$D$5:$I$7,6,FALSE)))","v":""},null,null,null,null,null,null,null,null,null,null,null,{"$f":"IF(B1349=\"\",0,IF(B1349=B1348,COUNTIF(B$9:B1348,B1349)+1,1))","v":1337},0,0]
["1342","-1900","-1900-1338",null,null,null,null,null,null,null,null,null,null,null,null,null,null,null,null,null,null,{"$f":"IF(M$2021=1,\"\",IF(U1350=\"\",\"\",VLOOKUP(U1350,Tabelle!$D$5:$H$7,5,FALSE)))","v":""},{"$f":"IF(M$2021=1,\"\",IF(U1350=\"\",\"\",VLOOKUP(U1350,Tabelle!$D$5:$I$7,6,FALSE)))","v":""},null,null,null,null,null,null,null,null,null,null,null,{"$f":"IF(B1350=\"\",0,IF(B1350=B1349,COUNTIF(B$9:B1349,B1350)+1,1))","v":1338},0,0]
["1343","-1900","-1900-1339",null,null,null,null,null,null,null,null,null,null,null,null,null,null,null,null,null,null,{"$f":"IF(M$2021=1,\"\",IF(U1351=\"\",\"\",VLOOKUP(U1351,Tabelle!$D$5:$H$7,5,FALSE)))","v":""},{"$f":"IF(M$2021=1,\"\",IF(U1351=\"\",\"\",VLOOKUP(U1351,Tabelle!$D$5:$I$7,6,FALSE)))","v":""},null,null,null,null,null,null,null,null,null,null,null,{"$f":"IF(B1351=\"\",0,IF(B1351=B1350,COUNTIF(B$9:B1350,B1351)+1,1))","v":1339},0,0]
["1344","-1900","-1900-1340",null,null,null,null,null,null,null,null,null,null,null,null,null,null,null,null,null,null,{"$f":"IF(M$2021=1,\"\",IF(U1352=\"\",\"\",VLOOKUP(U1352,Tabelle!$D$5:$H$7,5,FALSE)))","v":""},{"$f":"IF(M$2021=1,\"\",IF(U1352=\"\",\"\",VLOOKUP(U1352,Tabelle!$D$5:$I$7,6,FALSE)))","v":""},null,null,null,null,null,null,null,null,null,null,null,{"$f":"IF(B1352=\"\",0,IF(B1352=B1351,COUNTIF(B$9:B1351,B1352)+1,1))","v":1340},0,0]
["1345","-1900",{"$f":"IF(M$2021=1,0,B1353&\"-\"&AI1353)","v":"-1900-1341"},null,null,null,null,null,null,null,null,null,null,null,null,null,null,null,null,null,null,{"$f":"IF(M$2021=1,\"\",IF(U1353=\"\",\"\",VLOOKUP(U1353,Tabelle!$D$5:$H$7,5,FALSE)))","v":""},{"$f":"IF(M$2021=1,\"\",IF(U1353=\"\",\"\",VLOOKUP(U1353,Tabelle!$D$5:$I$7,6,FALSE)))","v":""},null,null,null,null,null,null,null,null,null,null,null,{"$f":"IF(B1353=\"\",0,IF(B1353=B1352,COUNTIF(B$9:B1352,B1353)+1,1))","v":1341},0,0]
["1346",{"$f":"IF(AK1354=$AK$2015,0,IF(M$2021=1,0,D1354&\"-\"&YEAR(E1354)))","v":"-1900"},"-1900-1342",null,null,null,null,null,null,null,null,null,null,null,null,null,null,null,null,null,null,{"$f":"IF(M$2021=1,\"\",IF(U1354=\"\",\"\",VLOOKUP(U1354,Tabelle!$D$5:$H$7,5,FALSE)))","v":""},{"$f":"IF(M$2021=1,\"\",IF(U1354=\"\",\"\",VLOOKUP(U1354,Tabelle!$D$5:$I$7,6,FALSE)))","v":""},null,null,null,null,null,null,null,null,null,null,null,{"$f":"IF(B1354=\"\",0,IF(B1354=B1353,COUNTIF(B$9:B1353,B1354)+1,1))","v":1342},{"$f":"IF(OR(D1354=\"\",M$2021=1),0,IF(AI1354=10,1,0))","v":0},{"$f":"IF(E1354>0,IF(OR(MONTH(E1354)<$J$2027,MONTH(E1354)>$J$2028),AK$2015,0),0)","v":0}]
["1347","-1900","-1900-1343",null,null,null,null,null,null,null,null,null,null,null,null,null,null,null,null,null,null,{"$f":"IF(M$2021=1,\"\",IF(U1355=\"\",\"\",VLOOKUP(U1355,Tabelle!$D$5:$H$7,5,FALSE)))","v":""},{"$f":"IF(M$2021=1,\"\",IF(U1355=\"\",\"\",VLOOKUP(U1355,Tabelle!$D$5:$I$7,6,FALSE)))","v":""},null,null,null,null,null,null,null,null,null,null,null,{"$f":"IF(B1355=\"\",0,IF(B1355=B1354,COUNTIF(B$9:B1354,B1355)+1,1))","v":1343},0,0]
["1348","-1900","-1900-1344",null,null,null,null,null,null,null,null,null,null,null,null,null,null,null,null,null,null,{"$f":"IF(M$2021=1,\"\",IF(U1356=\"\",\"\",VLOOKUP(U1356,Tabelle!$D$5:$H$7,5,FALSE)))","v":""},{"$f":"IF(M$2021=1,\"\",IF(U1356=\"\",\"\",VLOOKUP(U1356,Tabelle!$D$5:$I$7,6,FALSE)))","v":""},null,null,null,null,null,null,null,null,null,null,null,{"$f":"IF(B1356=\"\",0,IF(B1356=B1355,COUNTIF(B$9:B1355,B1356)+1,1))","v":1344},0,0]
["1349","-1900","-1900-1345",null,null,null,null,null,null,null,null,null,null,null,null,null,null,null,null,null,null,{"$f":"IF(M$2021=1,\"\",IF(U1357=\"\",\"\",VLOOKUP(U1357,Tabelle!$D$5:$H$7,5,FALSE)))","v":""},{"$f":"IF(M$2021=1,\"\",IF(U1357=\"\",\"\",VLOOKUP(U1357,Tabelle!$D$5:$I$7,6,FALSE)))","v":""},null,null,null,null,null,null,null,null,null,null,null,{"$f":"IF(B1357=\"\",0,IF(B1357=B1356,COUNTIF(B$9:B1356,B1357)+1,1))","v":1345},0,0]
["1350","-1900","-1900-1346",null,null,null,null,null,null,null,null,null,null,null,null,null,null,null,null,null,null,{"$f":"IF(M$2021=1,\"\",IF(U1358=\"\",\"\",VLOOKUP(U1358,Tabelle!$D$5:$H$7,5,FALSE)))","v":""},{"$f":"IF(M$2021=1,\"\",IF(U1358=\"\",\"\",VLOOKUP(U1358,Tabelle!$D$5:$I$7,6,FALSE)))","v":""},null,null,null,null,null,null,null,null,null,null,null,{"$f":"IF(B1358=\"\",0,IF(B1358=B1357,COUNTIF(B$9:B1357,B1358)+1,1))","v":1346},0,0]
["1351","-1900","-1900-1347",null,null,null,null,null,null,null,null,null,null,null,null,null,null,null,null,null,null,{"$f":"IF(M$2021=1,\"\",IF(U1359=\"\",\"\",VLOOKUP(U1359,Tabelle!$D$5:$H$7,5,FALSE)))","v":""},{"$f":"IF(M$2021=1,\"\",IF(U1359=\"\",\"\",VLOOKUP(U1359,Tabelle!$D$5:$I$7,6,FALSE)))","v":""},null,null,null,null,null,null,null,null,null,null,null,{"$f":"IF(B1359=\"\",0,IF(B1359=B1358,COUNTIF(B$9:B1358,B1359)+1,1))","v":1347},0,0]
["1352","-1900","-1900-1348",null,null,null,null,null,null,null,null,null,null,null,null,null,null,null,null,null,null,{"$f":"IF(M$2021=1,\"\",IF(U1360=\"\",\"\",VLOOKUP(U1360,Tabelle!$D$5:$H$7,5,FALSE)))","v":""},{"$f":"IF(M$2021=1,\"\",IF(U1360=\"\",\"\",VLOOKUP(U1360,Tabelle!$D$5:$I$7,6,FALSE)))","v":""},null,null,null,null,null,null,null,null,null,null,null,{"$f":"IF(B1360=\"\",0,IF(B1360=B1359,COUNTIF(B$9:B1359,B1360)+1,1))","v":1348},0,0]
["1353","-1900","-1900-1349",null,null,null,null,null,null,null,null,null,null,null,null,null,null,null,null,null,null,{"$f":"IF(M$2021=1,\"\",IF(U1361=\"\",\"\",VLOOKUP(U1361,Tabelle!$D$5:$H$7,5,FALSE)))","v":""},{"$f":"IF(M$2021=1,\"\",IF(U1361=\"\",\"\",VLOOKUP(U1361,Tabelle!$D$5:$I$7,6,FALSE)))","v":""},null,null,null,null,null,null,null,null,null,null,null,{"$f":"IF(B1361=\"\",0,IF(B1361=B1360,COUNTIF(B$9:B1360,B1361)+1,1))","v":1349},0,0]
["1354","-1900","-1900-1350",null,null,null,null,null,null,null,null,null,null,null,null,null,null,null,null,null,null,{"$f":"IF(M$2021=1,\"\",IF(U1362=\"\",\"\",VLOOKUP(U1362,Tabelle!$D$5:$H$7,5,FALSE)))","v":""},{"$f":"IF(M$2021=1,\"\",IF(U1362=\"\",\"\",VLOOKUP(U1362,Tabelle!$D$5:$I$7,6,FALSE)))","v":""},null,null,null,null,null,null,null,null,null,null,null,{"$f":"IF(B1362=\"\",0,IF(B1362=B1361,COUNTIF(B$9:B1361,B1362)+1,1))","v":1350},0,0]
["1355","-1900","-1900-1351",null,null,null,null,null,null,null,null,null,null,null,null,null,null,null,null,null,null,{"$f":"IF(M$2021=1,\"\",IF(U1363=\"\",\"\",VLOOKUP(U1363,Tabelle!$D$5:$H$7,5,FALSE)))","v":""},{"$f":"IF(M$2021=1,\"\",IF(U1363=\"\",\"\",VLOOKUP(U1363,Tabelle!$D$5:$I$7,6,FALSE)))","v":""},null,null,null,null,null,null,null,null,null,null,null,{"$f":"IF(B1363=\"\",0,IF(B1363=B1362,COUNTIF(B$9:B1362,B1363)+1,1))","v":1351},0,0]
["1356","-1900","-1900-1352",null,null,null,null,null,null,null,null,null,null,null,null,null,null,null,null,null,null,{"$f":"IF(M$2021=1,\"\",IF(U1364=\"\",\"\",VLOOKUP(U1364,Tabelle!$D$5:$H$7,5,FALSE)))","v":""},{"$f":"IF(M$2021=1,\"\",IF(U1364=\"\",\"\",VLOOKUP(U1364,Tabelle!$D$5:$I$7,6,FALSE)))","v":""},null,null,null,null,null,null,null,null,null,null,null,{"$f":"IF(B1364=\"\",0,IF(B1364=B1363,COUNTIF(B$9:B1363,B1364)+1,1))","v":1352},0,0]
["1357","-1900","-1900-1353",null,null,null,null,null,null,null,null,null,null,null,null,null,null,null,null,null,null,{"$f":"IF(M$2021=1,\"\",IF(U1365=\"\",\"\",VLOOKUP(U1365,Tabelle!$D$5:$H$7,5,FALSE)))","v":""},{"$f":"IF(M$2021=1,\"\",IF(U1365=\"\",\"\",VLOOKUP(U1365,Tabelle!$D$5:$I$7,6,FALSE)))","v":""},null,null,null,null,null,null,null,null,null,null,null,{"$f":"IF(B1365=\"\",0,IF(B1365=B1364,COUNTIF(B$9:B1364,B1365)+1,1))","v":1353},0,0]
["1358","-1900","-1900-1354",null,null,null,null,null,null,null,null,null,null,null,null,null,null,null,null,null,null,{"$f":"IF(M$2021=1,\"\",IF(U1366=\"\",\"\",VLOOKUP(U1366,Tabelle!$D$5:$H$7,5,FALSE)))","v":""},{"$f":"IF(M$2021=1,\"\",IF(U1366=\"\",\"\",VLOOKUP(U1366,Tabelle!$D$5:$I$7,6,FALSE)))","v":""},null,null,null,null,null,null,null,null,null,null,null,{"$f":"IF(B1366=\"\",0,IF(B1366=B1365,COUNTIF(B$9:B1365,B1366)+1,1))","v":1354},0,0]
["1359","-1900","-1900-1355",null,null,null,null,null,null,null,null,null,null,null,null,null,null,null,null,null,null,{"$f":"IF(M$2021=1,\"\",IF(U1367=\"\",\"\",VLOOKUP(U1367,Tabelle!$D$5:$H$7,5,FALSE)))","v":""},{"$f":"IF(M$2021=1,\"\",IF(U1367=\"\",\"\",VLOOKUP(U1367,Tabelle!$D$5:$I$7,6,FALSE)))","v":""},null,null,null,null,null,null,null,null,null,null,null,{"$f":"IF(B1367=\"\",0,IF(B1367=B1366,COUNTIF(B$9:B1366,B1367)+1,1))","v":1355},0,0]
["1360","-1900","-1900-1356",null,null,null,null,null,null,null,null,null,null,null,null,null,null,null,null,null,null,{"$f":"IF(M$2021=1,\"\",IF(U1368=\"\",\"\",VLOOKUP(U1368,Tabelle!$D$5:$H$7,5,FALSE)))","v":""},{"$f":"IF(M$2021=1,\"\",IF(U1368=\"\",\"\",VLOOKUP(U1368,Tabelle!$D$5:$I$7,6,FALSE)))","v":""},null,null,null,null,null,null,null,null,null,null,null,{"$f":"IF(B1368=\"\",0,IF(B1368=B1367,COUNTIF(B$9:B1367,B1368)+1,1))","v":1356},0,0]
["1361","-1900","-1900-1357",null,null,null,null,null,null,null,null,null,null,null,null,null,null,null,null,null,null,{"$f":"IF(M$2021=1,\"\",IF(U1369=\"\",\"\",VLOOKUP(U1369,Tabelle!$D$5:$H$7,5,FALSE)))","v":""},{"$f":"IF(M$2021=1,\"\",IF(U1369=\"\",\"\",VLOOKUP(U1369,Tabelle!$D$5:$I$7,6,FALSE)))","v":""},null,null,null,null,null,null,null,null,null,null,null,{"$f":"IF(B1369=\"\",0,IF(B1369=B1368,COUNTIF(B$9:B1368,B1369)+1,1))","v":1357},0,0]
["1362","-1900","-1900-1358",null,null,null,null,null,null,null,null,null,null,null,null,null,null,null,null,null,null,{"$f":"IF(M$2021=1,\"\",IF(U1370=\"\",\"\",VLOOKUP(U1370,Tabelle!$D$5:$H$7,5,FALSE)))","v":""},{"$f":"IF(M$2021=1,\"\",IF(U1370=\"\",\"\",VLOOKUP(U1370,Tabelle!$D$5:$I$7,6,FALSE)))","v":""},null,null,null,null,null,null,null,null,null,null,null,{"$f":"IF(B1370=\"\",0,IF(B1370=B1369,COUNTIF(B$9:B1369,B1370)+1,1))","v":1358},0,0]
["1363","-1900","-1900-1359",null,null,null,null,null,null,null,null,null,null,null,null,null,null,null,null,null,null,{"$f":"IF(M$2021=1,\"\",IF(U1371=\"\",\"\",VLOOKUP(U1371,Tabelle!$D$5:$H$7,5,FALSE)))","v":""},{"$f":"IF(M$2021=1,\"\",IF(U1371=\"\",\"\",VLOOKUP(U1371,Tabelle!$D$5:$I$7,6,FALSE)))","v":""},null,null,null,null,null,null,null,null,null,null,null,{"$f":"IF(B1371=\"\",0,IF(B1371=B1370,COUNTIF(B$9:B1370,B1371)+1,1))","v":1359},0,0]
["1364","-1900","-1900-1360",null,null,null,null,null,null,null,null,null,null,null,null,null,null,null,null,null,null,{"$f":"IF(M$2021=1,\"\",IF(U1372=\"\",\"\",VLOOKUP(U1372,Tabelle!$D$5:$H$7,5,FALSE)))","v":""},{"$f":"IF(M$2021=1,\"\",IF(U1372=\"\",\"\",VLOOKUP(U1372,Tabelle!$D$5:$I$7,6,FALSE)))","v":""},null,null,null,null,null,null,null,null,null,null,null,{"$f":"IF(B1372=\"\",0,IF(B1372=B1371,COUNTIF(B$9:B1371,B1372)+1,1))","v":1360},0,0]
["1365","-1900","-1900-1361",null,null,null,null,null,null,null,null,null,null,null,null,null,null,null,null,null,null,{"$f":"IF(M$2021=1,\"\",IF(U1373=\"\",\"\",VLOOKUP(U1373,Tabelle!$D$5:$H$7,5,FALSE)))","v":""},{"$f":"IF(M$2021=1,\"\",IF(U1373=\"\",\"\",VLOOKUP(U1373,Tabelle!$D$5:$I$7,6,FALSE)))","v":""},null,null,null,null,null,null,null,null,null,null,null,{"$f":"IF(B1373=\"\",0,IF(B1373=B1372,COUNTIF(B$9:B1372,B1373)+1,1))","v":1361},0,0]
["1366","-1900","-1900-1362",null,null,null,null,null,null,null,null,null,null,null,null,null,null,null,null,null,null,{"$f":"IF(M$2021=1,\"\",IF(U1374=\"\",\"\",VLOOKUP(U1374,Tabelle!$D$5:$H$7,5,FALSE)))","v":""},{"$f":"IF(M$2021=1,\"\",IF(U1374=\"\",\"\",VLOOKUP(U1374,Tabelle!$D$5:$I$7,6,FALSE)))","v":""},null,null,null,null,null,null,null,null,null,null,null,{"$f":"IF(B1374=\"\",0,IF(B1374=B1373,COUNTIF(B$9:B1373,B1374)+1,1))","v":1362},0,0]
["1367","-1900","-1900-1363",null,null,null,null,null,null,null,null,null,null,null,null,null,null,null,null,null,null,{"$f":"IF(M$2021=1,\"\",IF(U1375=\"\",\"\",VLOOKUP(U1375,Tabelle!$D$5:$H$7,5,FALSE)))","v":""},{"$f":"IF(M$2021=1,\"\",IF(U1375=\"\",\"\",VLOOKUP(U1375,Tabelle!$D$5:$I$7,6,FALSE)))","v":""},null,null,null,null,null,null,null,null,null,null,null,{"$f":"IF(B1375=\"\",0,IF(B1375=B1374,COUNTIF(B$9:B1374,B1375)+1,1))","v":1363},0,0]
["1368","-1900","-1900-1364",null,null,null,null,null,null,null,null,null,null,null,null,null,null,null,null,null,null,{"$f":"IF(M$2021=1,\"\",IF(U1376=\"\",\"\",VLOOKUP(U1376,Tabelle!$D$5:$H$7,5,FALSE)))","v":""},{"$f":"IF(M$2021=1,\"\",IF(U1376=\"\",\"\",VLOOKUP(U1376,Tabelle!$D$5:$I$7,6,FALSE)))","v":""},null,null,null,null,null,null,null,null,null,null,null,{"$f":"IF(B1376=\"\",0,IF(B1376=B1375,COUNTIF(B$9:B1375,B1376)+1,1))","v":1364},0,0]
["1369","-1900","-1900-1365",null,null,null,null,null,null,null,null,null,null,null,null,null,null,null,null,null,null,{"$f":"IF(M$2021=1,\"\",IF(U1377=\"\",\"\",VLOOKUP(U1377,Tabelle!$D$5:$H$7,5,FALSE)))","v":""},{"$f":"IF(M$2021=1,\"\",IF(U1377=\"\",\"\",VLOOKUP(U1377,Tabelle!$D$5:$I$7,6,FALSE)))","v":""},null,null,null,null,null,null,null,null,null,null,null,{"$f":"IF(B1377=\"\",0,IF(B1377=B1376,COUNTIF(B$9:B1376,B1377)+1,1))","v":1365},0,0]
["1370","-1900","-1900-1366",null,null,null,null,null,null,null,null,null,null,null,null,null,null,null,null,null,null,{"$f":"IF(M$2021=1,\"\",IF(U1378=\"\",\"\",VLOOKUP(U1378,Tabelle!$D$5:$H$7,5,FALSE)))","v":""},{"$f":"IF(M$2021=1,\"\",IF(U1378=\"\",\"\",VLOOKUP(U1378,Tabelle!$D$5:$I$7,6,FALSE)))","v":""},null,null,null,null,null,null,null,null,null,null,null,{"$f":"IF(B1378=\"\",0,IF(B1378=B1377,COUNTIF(B$9:B1377,B1378)+1,1))","v":1366},0,0]
["1371","-1900","-1900-1367",null,null,null,null,null,null,null,null,null,null,null,null,null,null,null,null,null,null,{"$f":"IF(M$2021=1,\"\",IF(U1379=\"\",\"\",VLOOKUP(U1379,Tabelle!$D$5:$H$7,5,FALSE)))","v":""},{"$f":"IF(M$2021=1,\"\",IF(U1379=\"\",\"\",VLOOKUP(U1379,Tabelle!$D$5:$I$7,6,FALSE)))","v":""},null,null,null,null,null,null,null,null,null,null,null,{"$f":"IF(B1379=\"\",0,IF(B1379=B1378,COUNTIF(B$9:B1378,B1379)+1,1))","v":1367},0,0]
["1372","-1900","-1900-1368",null,null,null,null,null,null,null,null,null,null,null,null,null,null,null,null,null,null,{"$f":"IF(M$2021=1,\"\",IF(U1380=\"\",\"\",VLOOKUP(U1380,Tabelle!$D$5:$H$7,5,FALSE)))","v":""},{"$f":"IF(M$2021=1,\"\",IF(U1380=\"\",\"\",VLOOKUP(U1380,Tabelle!$D$5:$I$7,6,FALSE)))","v":""},null,null,null,null,null,null,null,null,null,null,null,{"$f":"IF(B1380=\"\",0,IF(B1380=B1379,COUNTIF(B$9:B1379,B1380)+1,1))","v":1368},0,0]
["1373","-1900","-1900-1369",null,null,null,null,null,null,null,null,null,null,null,null,null,null,null,null,null,null,{"$f":"IF(M$2021=1,\"\",IF(U1381=\"\",\"\",VLOOKUP(U1381,Tabelle!$D$5:$H$7,5,FALSE)))","v":""},{"$f":"IF(M$2021=1,\"\",IF(U1381=\"\",\"\",VLOOKUP(U1381,Tabelle!$D$5:$I$7,6,FALSE)))","v":""},null,null,null,null,null,null,null,null,null,null,null,{"$f":"IF(B1381=\"\",0,IF(B1381=B1380,COUNTIF(B$9:B1380,B1381)+1,1))","v":1369},0,0]
["1374","-1900","-1900-1370",null,null,null,null,null,null,null,null,null,null,null,null,null,null,null,null,null,null,{"$f":"IF(M$2021=1,\"\",IF(U1382=\"\",\"\",VLOOKUP(U1382,Tabelle!$D$5:$H$7,5,FALSE)))","v":""},{"$f":"IF(M$2021=1,\"\",IF(U1382=\"\",\"\",VLOOKUP(U1382,Tabelle!$D$5:$I$7,6,FALSE)))","v":""},null,null,null,null,null,null,null,null,null,null,null,{"$f":"IF(B1382=\"\",0,IF(B1382=B1381,COUNTIF(B$9:B1381,B1382)+1,1))","v":1370},0,0]
["1375","-1900","-1900-1371",null,null,null,null,null,null,null,null,null,null,null,null,null,null,null,null,null,null,{"$f":"IF(M$2021=1,\"\",IF(U1383=\"\",\"\",VLOOKUP(U1383,Tabelle!$D$5:$H$7,5,FALSE)))","v":""},{"$f":"IF(M$2021=1,\"\",IF(U1383=\"\",\"\",VLOOKUP(U1383,Tabelle!$D$5:$I$7,6,FALSE)))","v":""},null,null,null,null,null,null,null,null,null,null,null,{"$f":"IF(B1383=\"\",0,IF(B1383=B1382,COUNTIF(B$9:B1382,B1383)+1,1))","v":1371},0,0]
["1376","-1900","-1900-1372",null,null,null,null,null,null,null,null,null,null,null,null,null,null,null,null,null,null,{"$f":"IF(M$2021=1,\"\",IF(U1384=\"\",\"\",VLOOKUP(U1384,Tabelle!$D$5:$H$7,5,FALSE)))","v":""},{"$f":"IF(M$2021=1,\"\",IF(U1384=\"\",\"\",VLOOKUP(U1384,Tabelle!$D$5:$I$7,6,FALSE)))","v":""},null,null,null,null,null,null,null,null,null,null,null,{"$f":"IF(B1384=\"\",0,IF(B1384=B1383,COUNTIF(B$9:B1383,B1384)+1,1))","v":1372},0,0]
["1377","-1900","-1900-1373",null,null,null,null,null,null,null,null,null,null,null,null,null,null,null,null,null,null,{"$f":"IF(M$2021=1,\"\",IF(U1385=\"\",\"\",VLOOKUP(U1385,Tabelle!$D$5:$H$7,5,FALSE)))","v":""},{"$f":"IF(M$2021=1,\"\",IF(U1385=\"\",\"\",VLOOKUP(U1385,Tabelle!$D$5:$I$7,6,FALSE)))","v":""},null,null,null,null,null,null,null,null,null,null,null,{"$f":"IF(B1385=\"\",0,IF(B1385=B1384,COUNTIF(B$9:B1384,B1385)+1,1))","v":1373},0,0]
["1378","-1900","-1900-1374",null,null,null,null,null,null,null,null,null,null,null,null,null,null,null,null,null,null,{"$f":"IF(M$2021=1,\"\",IF(U1386=\"\",\"\",VLOOKUP(U1386,Tabelle!$D$5:$H$7,5,FALSE)))","v":""},{"$f":"IF(M$2021=1,\"\",IF(U1386=\"\",\"\",VLOOKUP(U1386,Tabelle!$D$5:$I$7,6,FALSE)))","v":""},null,null,null,null,null,null,null,null,null,null,null,{"$f":"IF(B1386=\"\",0,IF(B1386=B1385,COUNTIF(B$9:B1385,B1386)+1,1))","v":1374},0,0]
["1379","-1900","-1900-1375",null,null,null,null,null,null,null,null,null,null,null,null,null,null,null,null,null,null,{"$f":"IF(M$2021=1,\"\",IF(U1387=\"\",\"\",VLOOKUP(U1387,Tabelle!$D$5:$H$7,5,FALSE)))","v":""},{"$f":"IF(M$2021=1,\"\",IF(U1387=\"\",\"\",VLOOKUP(U1387,Tabelle!$D$5:$I$7,6,FALSE)))","v":""},null,null,null,null,null,null,null,null,null,null,null,{"$f":"IF(B1387=\"\",0,IF(B1387=B1386,COUNTIF(B$9:B1386,B1387)+1,1))","v":1375},0,0]
["1380","-1900","-1900-1376",null,null,null,null,null,null,null,null,null,null,null,null,null,null,null,null,null,null,{"$f":"IF(M$2021=1,\"\",IF(U1388=\"\",\"\",VLOOKUP(U1388,Tabelle!$D$5:$H$7,5,FALSE)))","v":""},{"$f":"IF(M$2021=1,\"\",IF(U1388=\"\",\"\",VLOOKUP(U1388,Tabelle!$D$5:$I$7,6,FALSE)))","v":""},null,null,null,null,null,null,null,null,null,null,null,{"$f":"IF(B1388=\"\",0,IF(B1388=B1387,COUNTIF(B$9:B1387,B1388)+1,1))","v":1376},0,0]
["1381","-1900","-1900-1377",null,null,null,null,null,null,null,null,null,null,null,null,null,null,null,null,null,null,{"$f":"IF(M$2021=1,\"\",IF(U1389=\"\",\"\",VLOOKUP(U1389,Tabelle!$D$5:$H$7,5,FALSE)))","v":""},{"$f":"IF(M$2021=1,\"\",IF(U1389=\"\",\"\",VLOOKUP(U1389,Tabelle!$D$5:$I$7,6,FALSE)))","v":""},null,null,null,null,null,null,null,null,null,null,null,{"$f":"IF(B1389=\"\",0,IF(B1389=B1388,COUNTIF(B$9:B1388,B1389)+1,1))","v":1377},0,0]
["1382","-1900","-1900-1378",null,null,null,null,null,null,null,null,null,null,null,null,null,null,null,null,null,null,{"$f":"IF(M$2021=1,\"\",IF(U1390=\"\",\"\",VLOOKUP(U1390,Tabelle!$D$5:$H$7,5,FALSE)))","v":""},{"$f":"IF(M$2021=1,\"\",IF(U1390=\"\",\"\",VLOOKUP(U1390,Tabelle!$D$5:$I$7,6,FALSE)))","v":""},null,null,null,null,null,null,null,null,null,null,null,{"$f":"IF(B1390=\"\",0,IF(B1390=B1389,COUNTIF(B$9:B1389,B1390)+1,1))","v":1378},0,0]
["1383","-1900","-1900-1379",null,null,null,null,null,null,null,null,null,null,null,null,null,null,null,null,null,null,{"$f":"IF(M$2021=1,\"\",IF(U1391=\"\",\"\",VLOOKUP(U1391,Tabelle!$D$5:$H$7,5,FALSE)))","v":""},{"$f":"IF(M$2021=1,\"\",IF(U1391=\"\",\"\",VLOOKUP(U1391,Tabelle!$D$5:$I$7,6,FALSE)))","v":""},null,null,null,null,null,null,null,null,null,null,null,{"$f":"IF(B1391=\"\",0,IF(B1391=B1390,COUNTIF(B$9:B1390,B1391)+1,1))","v":1379},0,0]
["1384","-1900","-1900-1380",null,null,null,null,null,null,null,null,null,null,null,null,null,null,null,null,null,null,{"$f":"IF(M$2021=1,\"\",IF(U1392=\"\",\"\",VLOOKUP(U1392,Tabelle!$D$5:$H$7,5,FALSE)))","v":""},{"$f":"IF(M$2021=1,\"\",IF(U1392=\"\",\"\",VLOOKUP(U1392,Tabelle!$D$5:$I$7,6,FALSE)))","v":""},null,null,null,null,null,null,null,null,null,null,null,{"$f":"IF(B1392=\"\",0,IF(B1392=B1391,COUNTIF(B$9:B1391,B1392)+1,1))","v":1380},0,0]
["1385","-1900","-1900-1381",null,null,null,null,null,null,null,null,null,null,null,null,null,null,null,null,null,null,{"$f":"IF(M$2021=1,\"\",IF(U1393=\"\",\"\",VLOOKUP(U1393,Tabelle!$D$5:$H$7,5,FALSE)))","v":""},{"$f":"IF(M$2021=1,\"\",IF(U1393=\"\",\"\",VLOOKUP(U1393,Tabelle!$D$5:$I$7,6,FALSE)))","v":""},null,null,null,null,null,null,null,null,null,null,null,{"$f":"IF(B1393=\"\",0,IF(B1393=B1392,COUNTIF(B$9:B1392,B1393)+1,1))","v":1381},0,0]
["1386","-1900","-1900-1382",null,null,null,null,null,null,null,null,null,null,null,null,null,null,null,null,null,null,{"$f":"IF(M$2021=1,\"\",IF(U1394=\"\",\"\",VLOOKUP(U1394,Tabelle!$D$5:$H$7,5,FALSE)))","v":""},{"$f":"IF(M$2021=1,\"\",IF(U1394=\"\",\"\",VLOOKUP(U1394,Tabelle!$D$5:$I$7,6,FALSE)))","v":""},null,null,null,null,null,null,null,null,null,null,null,{"$f":"IF(B1394=\"\",0,IF(B1394=B1393,COUNTIF(B$9:B1393,B1394)+1,1))","v":1382},0,0]
["1387","-1900","-1900-1383",null,null,null,null,null,null,null,null,null,null,null,null,null,null,null,null,null,null,{"$f":"IF(M$2021=1,\"\",IF(U1395=\"\",\"\",VLOOKUP(U1395,Tabelle!$D$5:$H$7,5,FALSE)))","v":""},{"$f":"IF(M$2021=1,\"\",IF(U1395=\"\",\"\",VLOOKUP(U1395,Tabelle!$D$5:$I$7,6,FALSE)))","v":""},null,null,null,null,null,null,null,null,null,null,null,{"$f":"IF(B1395=\"\",0,IF(B1395=B1394,COUNTIF(B$9:B1394,B1395)+1,1))","v":1383},0,0]
["1388","-1900","-1900-1384",null,null,null,null,null,null,null,null,null,null,null,null,null,null,null,null,null,null,{"$f":"IF(M$2021=1,\"\",IF(U1396=\"\",\"\",VLOOKUP(U1396,Tabelle!$D$5:$H$7,5,FALSE)))","v":""},{"$f":"IF(M$2021=1,\"\",IF(U1396=\"\",\"\",VLOOKUP(U1396,Tabelle!$D$5:$I$7,6,FALSE)))","v":""},null,null,null,null,null,null,null,null,null,null,null,{"$f":"IF(B1396=\"\",0,IF(B1396=B1395,COUNTIF(B$9:B1395,B1396)+1,1))","v":1384},0,0]
["1389","-1900","-1900-1385",null,null,null,null,null,null,null,null,null,null,null,null,null,null,null,null,null,null,{"$f":"IF(M$2021=1,\"\",IF(U1397=\"\",\"\",VLOOKUP(U1397,Tabelle!$D$5:$H$7,5,FALSE)))","v":""},{"$f":"IF(M$2021=1,\"\",IF(U1397=\"\",\"\",VLOOKUP(U1397,Tabelle!$D$5:$I$7,6,FALSE)))","v":""},null,null,null,null,null,null,null,null,null,null,null,{"$f":"IF(B1397=\"\",0,IF(B1397=B1396,COUNTIF(B$9:B1396,B1397)+1,1))","v":1385},0,0]
["1390","-1900","-1900-1386",null,null,null,null,null,null,null,null,null,null,null,null,null,null,null,null,null,null,{"$f":"IF(M$2021=1,\"\",IF(U1398=\"\",\"\",VLOOKUP(U1398,Tabelle!$D$5:$H$7,5,FALSE)))","v":""},{"$f":"IF(M$2021=1,\"\",IF(U1398=\"\",\"\",VLOOKUP(U1398,Tabelle!$D$5:$I$7,6,FALSE)))","v":""},null,null,null,null,null,null,null,null,null,null,null,{"$f":"IF(B1398=\"\",0,IF(B1398=B1397,COUNTIF(B$9:B1397,B1398)+1,1))","v":1386},0,0]
["1391","-1900","-1900-1387",null,null,null,null,null,null,null,null,null,null,null,null,null,null,null,null,null,null,{"$f":"IF(M$2021=1,\"\",IF(U1399=\"\",\"\",VLOOKUP(U1399,Tabelle!$D$5:$H$7,5,FALSE)))","v":""},{"$f":"IF(M$2021=1,\"\",IF(U1399=\"\",\"\",VLOOKUP(U1399,Tabelle!$D$5:$I$7,6,FALSE)))","v":""},null,null,null,null,null,null,null,null,null,null,null,{"$f":"IF(B1399=\"\",0,IF(B1399=B1398,COUNTIF(B$9:B1398,B1399)+1,1))","v":1387},0,0]
["1392","-1900","-1900-1388",null,null,null,null,null,null,null,null,null,null,null,null,null,null,null,null,null,null,{"$f":"IF(M$2021=1,\"\",IF(U1400=\"\",\"\",VLOOKUP(U1400,Tabelle!$D$5:$H$7,5,FALSE)))","v":""},{"$f":"IF(M$2021=1,\"\",IF(U1400=\"\",\"\",VLOOKUP(U1400,Tabelle!$D$5:$I$7,6,FALSE)))","v":""},null,null,null,null,null,null,null,null,null,null,null,{"$f":"IF(B1400=\"\",0,IF(B1400=B1399,COUNTIF(B$9:B1399,B1400)+1,1))","v":1388},0,0]
["1393","-1900","-1900-1389",null,null,null,null,null,null,null,null,null,null,null,null,null,null,null,null,null,null,{"$f":"IF(M$2021=1,\"\",IF(U1401=\"\",\"\",VLOOKUP(U1401,Tabelle!$D$5:$H$7,5,FALSE)))","v":""},{"$f":"IF(M$2021=1,\"\",IF(U1401=\"\",\"\",VLOOKUP(U1401,Tabelle!$D$5:$I$7,6,FALSE)))","v":""},null,null,null,null,null,null,null,null,null,null,null,{"$f":"IF(B1401=\"\",0,IF(B1401=B1400,COUNTIF(B$9:B1400,B1401)+1,1))","v":1389},0,0]
["1394","-1900","-1900-1390",null,null,null,null,null,null,null,null,null,null,null,null,null,null,null,null,null,null,{"$f":"IF(M$2021=1,\"\",IF(U1402=\"\",\"\",VLOOKUP(U1402,Tabelle!$D$5:$H$7,5,FALSE)))","v":""},{"$f":"IF(M$2021=1,\"\",IF(U1402=\"\",\"\",VLOOKUP(U1402,Tabelle!$D$5:$I$7,6,FALSE)))","v":""},null,null,null,null,null,null,null,null,null,null,null,{"$f":"IF(B1402=\"\",0,IF(B1402=B1401,COUNTIF(B$9:B1401,B1402)+1,1))","v":1390},0,0]
["1395","-1900","-1900-1391",null,null,null,null,null,null,null,null,null,null,null,null,null,null,null,null,null,null,{"$f":"IF(M$2021=1,\"\",IF(U1403=\"\",\"\",VLOOKUP(U1403,Tabelle!$D$5:$H$7,5,FALSE)))","v":""},{"$f":"IF(M$2021=1,\"\",IF(U1403=\"\",\"\",VLOOKUP(U1403,Tabelle!$D$5:$I$7,6,FALSE)))","v":""},null,null,null,null,null,null,null,null,null,null,null,{"$f":"IF(B1403=\"\",0,IF(B1403=B1402,COUNTIF(B$9:B1402,B1403)+1,1))","v":1391},0,0]
["1396","-1900","-1900-1392",null,null,null,null,null,null,null,null,null,null,null,null,null,null,null,null,null,null,{"$f":"IF(M$2021=1,\"\",IF(U1404=\"\",\"\",VLOOKUP(U1404,Tabelle!$D$5:$H$7,5,FALSE)))","v":""},{"$f":"IF(M$2021=1,\"\",IF(U1404=\"\",\"\",VLOOKUP(U1404,Tabelle!$D$5:$I$7,6,FALSE)))","v":""},null,null,null,null,null,null,null,null,null,null,null,{"$f":"IF(B1404=\"\",0,IF(B1404=B1403,COUNTIF(B$9:B1403,B1404)+1,1))","v":1392},0,0]
["1397","-1900","-1900-1393",null,null,null,null,null,null,null,null,null,null,null,null,null,null,null,null,null,null,{"$f":"IF(M$2021=1,\"\",IF(U1405=\"\",\"\",VLOOKUP(U1405,Tabelle!$D$5:$H$7,5,FALSE)))","v":""},{"$f":"IF(M$2021=1,\"\",IF(U1405=\"\",\"\",VLOOKUP(U1405,Tabelle!$D$5:$I$7,6,FALSE)))","v":""},null,null,null,null,null,null,null,null,null,null,null,{"$f":"IF(B1405=\"\",0,IF(B1405=B1404,COUNTIF(B$9:B1404,B1405)+1,1))","v":1393},0,0]
["1398","-1900","-1900-1394",null,null,null,null,null,null,null,null,null,null,null,null,null,null,null,null,null,null,{"$f":"IF(M$2021=1,\"\",IF(U1406=\"\",\"\",VLOOKUP(U1406,Tabelle!$D$5:$H$7,5,FALSE)))","v":""},{"$f":"IF(M$2021=1,\"\",IF(U1406=\"\",\"\",VLOOKUP(U1406,Tabelle!$D$5:$I$7,6,FALSE)))","v":""},null,null,null,null,null,null,null,null,null,null,null,{"$f":"IF(B1406=\"\",0,IF(B1406=B1405,COUNTIF(B$9:B1405,B1406)+1,1))","v":1394},0,0]
["1399","-1900","-1900-1395",null,null,null,null,null,null,null,null,null,null,null,null,null,null,null,null,null,null,{"$f":"IF(M$2021=1,\"\",IF(U1407=\"\",\"\",VLOOKUP(U1407,Tabelle!$D$5:$H$7,5,FALSE)))","v":""},{"$f":"IF(M$2021=1,\"\",IF(U1407=\"\",\"\",VLOOKUP(U1407,Tabelle!$D$5:$I$7,6,FALSE)))","v":""},null,null,null,null,null,null,null,null,null,null,null,{"$f":"IF(B1407=\"\",0,IF(B1407=B1406,COUNTIF(B$9:B1406,B1407)+1,1))","v":1395},0,0]
["1400","-1900","-1900-1396",null,null,null,null,null,null,null,null,null,null,null,null,null,null,null,null,null,null,{"$f":"IF(M$2021=1,\"\",IF(U1408=\"\",\"\",VLOOKUP(U1408,Tabelle!$D$5:$H$7,5,FALSE)))","v":""},{"$f":"IF(M$2021=1,\"\",IF(U1408=\"\",\"\",VLOOKUP(U1408,Tabelle!$D$5:$I$7,6,FALSE)))","v":""},null,null,null,null,null,null,null,null,null,null,null,{"$f":"IF(B1408=\"\",0,IF(B1408=B1407,COUNTIF(B$9:B1407,B1408)+1,1))","v":1396},0,0]
["1401","-1900","-1900-1397",null,null,null,null,null,null,null,null,null,null,null,null,null,null,null,null,null,null,{"$f":"IF(M$2021=1,\"\",IF(U1409=\"\",\"\",VLOOKUP(U1409,Tabelle!$D$5:$H$7,5,FALSE)))","v":""},{"$f":"IF(M$2021=1,\"\",IF(U1409=\"\",\"\",VLOOKUP(U1409,Tabelle!$D$5:$I$7,6,FALSE)))","v":""},null,null,null,null,null,null,null,null,null,null,null,{"$f":"IF(B1409=\"\",0,IF(B1409=B1408,COUNTIF(B$9:B1408,B1409)+1,1))","v":1397},0,0]
["1402","-1900","-1900-1398",null,null,null,null,null,null,null,null,null,null,null,null,null,null,null,null,null,null,{"$f":"IF(M$2021=1,\"\",IF(U1410=\"\",\"\",VLOOKUP(U1410,Tabelle!$D$5:$H$7,5,FALSE)))","v":""},{"$f":"IF(M$2021=1,\"\",IF(U1410=\"\",\"\",VLOOKUP(U1410,Tabelle!$D$5:$I$7,6,FALSE)))","v":""},null,null,null,null,null,null,null,null,null,null,null,{"$f":"IF(B1410=\"\",0,IF(B1410=B1409,COUNTIF(B$9:B1409,B1410)+1,1))","v":1398},0,0]
["1403","-1900","-1900-1399",null,null,null,null,null,null,null,null,null,null,null,null,null,null,null,null,null,null,{"$f":"IF(M$2021=1,\"\",IF(U1411=\"\",\"\",VLOOKUP(U1411,Tabelle!$D$5:$H$7,5,FALSE)))","v":""},{"$f":"IF(M$2021=1,\"\",IF(U1411=\"\",\"\",VLOOKUP(U1411,Tabelle!$D$5:$I$7,6,FALSE)))","v":""},null,null,null,null,null,null,null,null,null,null,null,{"$f":"IF(B1411=\"\",0,IF(B1411=B1410,COUNTIF(B$9:B1410,B1411)+1,1))","v":1399},0,0]
["1404","-1900","-1900-1400",null,null,null,null,null,null,null,null,null,null,null,null,null,null,null,null,null,null,{"$f":"IF(M$2021=1,\"\",IF(U1412=\"\",\"\",VLOOKUP(U1412,Tabelle!$D$5:$H$7,5,FALSE)))","v":""},{"$f":"IF(M$2021=1,\"\",IF(U1412=\"\",\"\",VLOOKUP(U1412,Tabelle!$D$5:$I$7,6,FALSE)))","v":""},null,null,null,null,null,null,null,null,null,null,null,{"$f":"IF(B1412=\"\",0,IF(B1412=B1411,COUNTIF(B$9:B1411,B1412)+1,1))","v":1400},0,0]
["1405","-1900","-1900-1401",null,null,null,null,null,null,null,null,null,null,null,null,null,null,null,null,null,null,{"$f":"IF(M$2021=1,\"\",IF(U1413=\"\",\"\",VLOOKUP(U1413,Tabelle!$D$5:$H$7,5,FALSE)))","v":""},{"$f":"IF(M$2021=1,\"\",IF(U1413=\"\",\"\",VLOOKUP(U1413,Tabelle!$D$5:$I$7,6,FALSE)))","v":""},null,null,null,null,null,null,null,null,null,null,null,{"$f":"IF(B1413=\"\",0,IF(B1413=B1412,COUNTIF(B$9:B1412,B1413)+1,1))","v":1401},0,0]
["1406","-1900","-1900-1402",null,null,null,null,null,null,null,null,null,null,null,null,null,null,null,null,null,null,{"$f":"IF(M$2021=1,\"\",IF(U1414=\"\",\"\",VLOOKUP(U1414,Tabelle!$D$5:$H$7,5,FALSE)))","v":""},{"$f":"IF(M$2021=1,\"\",IF(U1414=\"\",\"\",VLOOKUP(U1414,Tabelle!$D$5:$I$7,6,FALSE)))","v":""},null,null,null,null,null,null,null,null,null,null,null,{"$f":"IF(B1414=\"\",0,IF(B1414=B1413,COUNTIF(B$9:B1413,B1414)+1,1))","v":1402},0,0]
["1407","-1900","-1900-1403",null,null,null,null,null,null,null,null,null,null,null,null,null,null,null,null,null,null,{"$f":"IF(M$2021=1,\"\",IF(U1415=\"\",\"\",VLOOKUP(U1415,Tabelle!$D$5:$H$7,5,FALSE)))","v":""},{"$f":"IF(M$2021=1,\"\",IF(U1415=\"\",\"\",VLOOKUP(U1415,Tabelle!$D$5:$I$7,6,FALSE)))","v":""},null,null,null,null,null,null,null,null,null,null,null,{"$f":"IF(B1415=\"\",0,IF(B1415=B1414,COUNTIF(B$9:B1414,B1415)+1,1))","v":1403},0,0]
["1408","-1900","-1900-1404",null,null,null,null,null,null,null,null,null,null,null,null,null,null,null,null,null,null,{"$f":"IF(M$2021=1,\"\",IF(U1416=\"\",\"\",VLOOKUP(U1416,Tabelle!$D$5:$H$7,5,FALSE)))","v":""},{"$f":"IF(M$2021=1,\"\",IF(U1416=\"\",\"\",VLOOKUP(U1416,Tabelle!$D$5:$I$7,6,FALSE)))","v":""},null,null,null,null,null,null,null,null,null,null,null,{"$f":"IF(B1416=\"\",0,IF(B1416=B1415,COUNTIF(B$9:B1415,B1416)+1,1))","v":1404},0,0]
["1409","-1900",{"$f":"IF(M$2021=1,0,B1417&\"-\"&AI1417)","v":"-1900-1405"},null,null,null,null,null,null,null,null,null,null,null,null,null,null,null,null,null,null,{"$f":"IF(M$2021=1,\"\",IF(U1417=\"\",\"\",VLOOKUP(U1417,Tabelle!$D$5:$H$7,5,FALSE)))","v":""},{"$f":"IF(M$2021=1,\"\",IF(U1417=\"\",\"\",VLOOKUP(U1417,Tabelle!$D$5:$I$7,6,FALSE)))","v":""},null,null,null,null,null,null,null,null,null,null,null,{"$f":"IF(B1417=\"\",0,IF(B1417=B1416,COUNTIF(B$9:B1416,B1417)+1,1))","v":1405},0,0]
["1410",{"$f":"IF(AK1418=$AK$2015,0,IF(M$2021=1,0,D1418&\"-\"&YEAR(E1418)))","v":"-1900"},"-1900-1406",null,null,null,null,null,null,null,null,null,null,null,null,null,null,null,null,null,null,{"$f":"IF(M$2021=1,\"\",IF(U1418=\"\",\"\",VLOOKUP(U1418,Tabelle!$D$5:$H$7,5,FALSE)))","v":""},{"$f":"IF(M$2021=1,\"\",IF(U1418=\"\",\"\",VLOOKUP(U1418,Tabelle!$D$5:$I$7,6,FALSE)))","v":""},null,null,null,null,null,null,null,null,null,null,null,{"$f":"IF(B1418=\"\",0,IF(B1418=B1417,COUNTIF(B$9:B1417,B1418)+1,1))","v":1406},{"$f":"IF(OR(D1418=\"\",M$2021=1),0,IF(AI1418=10,1,0))","v":0},{"$f":"IF(E1418>0,IF(OR(MONTH(E1418)<$J$2027,MONTH(E1418)>$J$2028),AK$2015,0),0)","v":0}]
["1411","-1900","-1900-1407",null,null,null,null,null,null,null,null,null,null,null,null,null,null,null,null,null,null,{"$f":"IF(M$2021=1,\"\",IF(U1419=\"\",\"\",VLOOKUP(U1419,Tabelle!$D$5:$H$7,5,FALSE)))","v":""},{"$f":"IF(M$2021=1,\"\",IF(U1419=\"\",\"\",VLOOKUP(U1419,Tabelle!$D$5:$I$7,6,FALSE)))","v":""},null,null,null,null,null,null,null,null,null,null,null,{"$f":"IF(B1419=\"\",0,IF(B1419=B1418,COUNTIF(B$9:B1418,B1419)+1,1))","v":1407},0,0]
["1412","-1900","-1900-1408",null,null,null,null,null,null,null,null,null,null,null,null,null,null,null,null,null,null,{"$f":"IF(M$2021=1,\"\",IF(U1420=\"\",\"\",VLOOKUP(U1420,Tabelle!$D$5:$H$7,5,FALSE)))","v":""},{"$f":"IF(M$2021=1,\"\",IF(U1420=\"\",\"\",VLOOKUP(U1420,Tabelle!$D$5:$I$7,6,FALSE)))","v":""},null,null,null,null,null,null,null,null,null,null,null,{"$f":"IF(B1420=\"\",0,IF(B1420=B1419,COUNTIF(B$9:B1419,B1420)+1,1))","v":1408},0,0]
["1413","-1900","-1900-1409",null,null,null,null,null,null,null,null,null,null,null,null,null,null,null,null,null,null,{"$f":"IF(M$2021=1,\"\",IF(U1421=\"\",\"\",VLOOKUP(U1421,Tabelle!$D$5:$H$7,5,FALSE)))","v":""},{"$f":"IF(M$2021=1,\"\",IF(U1421=\"\",\"\",VLOOKUP(U1421,Tabelle!$D$5:$I$7,6,FALSE)))","v":""},null,null,null,null,null,null,null,null,null,null,null,{"$f":"IF(B1421=\"\",0,IF(B1421=B1420,COUNTIF(B$9:B1420,B1421)+1,1))","v":1409},0,0]
["1414","-1900","-1900-1410",null,null,null,null,null,null,null,null,null,null,null,null,null,null,null,null,null,null,{"$f":"IF(M$2021=1,\"\",IF(U1422=\"\",\"\",VLOOKUP(U1422,Tabelle!$D$5:$H$7,5,FALSE)))","v":""},{"$f":"IF(M$2021=1,\"\",IF(U1422=\"\",\"\",VLOOKUP(U1422,Tabelle!$D$5:$I$7,6,FALSE)))","v":""},null,null,null,null,null,null,null,null,null,null,null,{"$f":"IF(B1422=\"\",0,IF(B1422=B1421,COUNTIF(B$9:B1421,B1422)+1,1))","v":1410},0,0]
["1415","-1900","-1900-1411",null,null,null,null,null,null,null,null,null,null,null,null,null,null,null,null,null,null,{"$f":"IF(M$2021=1,\"\",IF(U1423=\"\",\"\",VLOOKUP(U1423,Tabelle!$D$5:$H$7,5,FALSE)))","v":""},{"$f":"IF(M$2021=1,\"\",IF(U1423=\"\",\"\",VLOOKUP(U1423,Tabelle!$D$5:$I$7,6,FALSE)))","v":""},null,null,null,null,null,null,null,null,null,null,null,{"$f":"IF(B1423=\"\",0,IF(B1423=B1422,COUNTIF(B$9:B1422,B1423)+1,1))","v":1411},0,0]
["1416","-1900","-1900-1412",null,null,null,null,null,null,null,null,null,null,null,null,null,null,null,null,null,null,{"$f":"IF(M$2021=1,\"\",IF(U1424=\"\",\"\",VLOOKUP(U1424,Tabelle!$D$5:$H$7,5,FALSE)))","v":""},{"$f":"IF(M$2021=1,\"\",IF(U1424=\"\",\"\",VLOOKUP(U1424,Tabelle!$D$5:$I$7,6,FALSE)))","v":""},null,null,null,null,null,null,null,null,null,null,null,{"$f":"IF(B1424=\"\",0,IF(B1424=B1423,COUNTIF(B$9:B1423,B1424)+1,1))","v":1412},0,0]
["1417","-1900","-1900-1413",null,null,null,null,null,null,null,null,null,null,null,null,null,null,null,null,null,null,{"$f":"IF(M$2021=1,\"\",IF(U1425=\"\",\"\",VLOOKUP(U1425,Tabelle!$D$5:$H$7,5,FALSE)))","v":""},{"$f":"IF(M$2021=1,\"\",IF(U1425=\"\",\"\",VLOOKUP(U1425,Tabelle!$D$5:$I$7,6,FALSE)))","v":""},null,null,null,null,null,null,null,null,null,null,null,{"$f":"IF(B1425=\"\",0,IF(B1425=B1424,COUNTIF(B$9:B1424,B1425)+1,1))","v":1413},0,0]
["1418","-1900","-1900-1414",null,null,null,null,null,null,null,null,null,null,null,null,null,null,null,null,null,null,{"$f":"IF(M$2021=1,\"\",IF(U1426=\"\",\"\",VLOOKUP(U1426,Tabelle!$D$5:$H$7,5,FALSE)))","v":""},{"$f":"IF(M$2021=1,\"\",IF(U1426=\"\",\"\",VLOOKUP(U1426,Tabelle!$D$5:$I$7,6,FALSE)))","v":""},null,null,null,null,null,null,null,null,null,null,null,{"$f":"IF(B1426=\"\",0,IF(B1426=B1425,COUNTIF(B$9:B1425,B1426)+1,1))","v":1414},0,0]
["1419","-1900","-1900-1415",null,null,null,null,null,null,null,null,null,null,null,null,null,null,null,null,null,null,{"$f":"IF(M$2021=1,\"\",IF(U1427=\"\",\"\",VLOOKUP(U1427,Tabelle!$D$5:$H$7,5,FALSE)))","v":""},{"$f":"IF(M$2021=1,\"\",IF(U1427=\"\",\"\",VLOOKUP(U1427,Tabelle!$D$5:$I$7,6,FALSE)))","v":""},null,null,null,null,null,null,null,null,null,null,null,{"$f":"IF(B1427=\"\",0,IF(B1427=B1426,COUNTIF(B$9:B1426,B1427)+1,1))","v":1415},0,0]
["1420","-1900","-1900-1416",null,null,null,null,null,null,null,null,null,null,null,null,null,null,null,null,null,null,{"$f":"IF(M$2021=1,\"\",IF(U1428=\"\",\"\",VLOOKUP(U1428,Tabelle!$D$5:$H$7,5,FALSE)))","v":""},{"$f":"IF(M$2021=1,\"\",IF(U1428=\"\",\"\",VLOOKUP(U1428,Tabelle!$D$5:$I$7,6,FALSE)))","v":""},null,null,null,null,null,null,null,null,null,null,null,{"$f":"IF(B1428=\"\",0,IF(B1428=B1427,COUNTIF(B$9:B1427,B1428)+1,1))","v":1416},0,0]
["1421","-1900","-1900-1417",null,null,null,null,null,null,null,null,null,null,null,null,null,null,null,null,null,null,{"$f":"IF(M$2021=1,\"\",IF(U1429=\"\",\"\",VLOOKUP(U1429,Tabelle!$D$5:$H$7,5,FALSE)))","v":""},{"$f":"IF(M$2021=1,\"\",IF(U1429=\"\",\"\",VLOOKUP(U1429,Tabelle!$D$5:$I$7,6,FALSE)))","v":""},null,null,null,null,null,null,null,null,null,null,null,{"$f":"IF(B1429=\"\",0,IF(B1429=B1428,COUNTIF(B$9:B1428,B1429)+1,1))","v":1417},0,0]
["1422","-1900","-1900-1418",null,null,null,null,null,null,null,null,null,null,null,null,null,null,null,null,null,null,{"$f":"IF(M$2021=1,\"\",IF(U1430=\"\",\"\",VLOOKUP(U1430,Tabelle!$D$5:$H$7,5,FALSE)))","v":""},{"$f":"IF(M$2021=1,\"\",IF(U1430=\"\",\"\",VLOOKUP(U1430,Tabelle!$D$5:$I$7,6,FALSE)))","v":""},null,null,null,null,null,null,null,null,null,null,null,{"$f":"IF(B1430=\"\",0,IF(B1430=B1429,COUNTIF(B$9:B1429,B1430)+1,1))","v":1418},0,0]
["1423","-1900","-1900-1419",null,null,null,null,null,null,null,null,null,null,null,null,null,null,null,null,null,null,{"$f":"IF(M$2021=1,\"\",IF(U1431=\"\",\"\",VLOOKUP(U1431,Tabelle!$D$5:$H$7,5,FALSE)))","v":""},{"$f":"IF(M$2021=1,\"\",IF(U1431=\"\",\"\",VLOOKUP(U1431,Tabelle!$D$5:$I$7,6,FALSE)))","v":""},null,null,null,null,null,null,null,null,null,null,null,{"$f":"IF(B1431=\"\",0,IF(B1431=B1430,COUNTIF(B$9:B1430,B1431)+1,1))","v":1419},0,0]
["1424","-1900","-1900-1420",null,null,null,null,null,null,null,null,null,null,null,null,null,null,null,null,null,null,{"$f":"IF(M$2021=1,\"\",IF(U1432=\"\",\"\",VLOOKUP(U1432,Tabelle!$D$5:$H$7,5,FALSE)))","v":""},{"$f":"IF(M$2021=1,\"\",IF(U1432=\"\",\"\",VLOOKUP(U1432,Tabelle!$D$5:$I$7,6,FALSE)))","v":""},null,null,null,null,null,null,null,null,null,null,null,{"$f":"IF(B1432=\"\",0,IF(B1432=B1431,COUNTIF(B$9:B1431,B1432)+1,1))","v":1420},0,0]
["1425","-1900","-1900-1421",null,null,null,null,null,null,null,null,null,null,null,null,null,null,null,null,null,null,{"$f":"IF(M$2021=1,\"\",IF(U1433=\"\",\"\",VLOOKUP(U1433,Tabelle!$D$5:$H$7,5,FALSE)))","v":""},{"$f":"IF(M$2021=1,\"\",IF(U1433=\"\",\"\",VLOOKUP(U1433,Tabelle!$D$5:$I$7,6,FALSE)))","v":""},null,null,null,null,null,null,null,null,null,null,null,{"$f":"IF(B1433=\"\",0,IF(B1433=B1432,COUNTIF(B$9:B1432,B1433)+1,1))","v":1421},0,0]
["1426","-1900","-1900-1422",null,null,null,null,null,null,null,null,null,null,null,null,null,null,null,null,null,null,{"$f":"IF(M$2021=1,\"\",IF(U1434=\"\",\"\",VLOOKUP(U1434,Tabelle!$D$5:$H$7,5,FALSE)))","v":""},{"$f":"IF(M$2021=1,\"\",IF(U1434=\"\",\"\",VLOOKUP(U1434,Tabelle!$D$5:$I$7,6,FALSE)))","v":""},null,null,null,null,null,null,null,null,null,null,null,{"$f":"IF(B1434=\"\",0,IF(B1434=B1433,COUNTIF(B$9:B1433,B1434)+1,1))","v":1422},0,0]
["1427","-1900","-1900-1423",null,null,null,null,null,null,null,null,null,null,null,null,null,null,null,null,null,null,{"$f":"IF(M$2021=1,\"\",IF(U1435=\"\",\"\",VLOOKUP(U1435,Tabelle!$D$5:$H$7,5,FALSE)))","v":""},{"$f":"IF(M$2021=1,\"\",IF(U1435=\"\",\"\",VLOOKUP(U1435,Tabelle!$D$5:$I$7,6,FALSE)))","v":""},null,null,null,null,null,null,null,null,null,null,null,{"$f":"IF(B1435=\"\",0,IF(B1435=B1434,COUNTIF(B$9:B1434,B1435)+1,1))","v":1423},0,0]
["1428","-1900","-1900-1424",null,null,null,null,null,null,null,null,null,null,null,null,null,null,null,null,null,null,{"$f":"IF(M$2021=1,\"\",IF(U1436=\"\",\"\",VLOOKUP(U1436,Tabelle!$D$5:$H$7,5,FALSE)))","v":""},{"$f":"IF(M$2021=1,\"\",IF(U1436=\"\",\"\",VLOOKUP(U1436,Tabelle!$D$5:$I$7,6,FALSE)))","v":""},null,null,null,null,null,null,null,null,null,null,null,{"$f":"IF(B1436=\"\",0,IF(B1436=B1435,COUNTIF(B$9:B1435,B1436)+1,1))","v":1424},0,0]
["1429","-1900","-1900-1425",null,null,null,null,null,null,null,null,null,null,null,null,null,null,null,null,null,null,{"$f":"IF(M$2021=1,\"\",IF(U1437=\"\",\"\",VLOOKUP(U1437,Tabelle!$D$5:$H$7,5,FALSE)))","v":""},{"$f":"IF(M$2021=1,\"\",IF(U1437=\"\",\"\",VLOOKUP(U1437,Tabelle!$D$5:$I$7,6,FALSE)))","v":""},null,null,null,null,null,null,null,null,null,null,null,{"$f":"IF(B1437=\"\",0,IF(B1437=B1436,COUNTIF(B$9:B1436,B1437)+1,1))","v":1425},0,0]
["1430","-1900","-1900-1426",null,null,null,null,null,null,null,null,null,null,null,null,null,null,null,null,null,null,{"$f":"IF(M$2021=1,\"\",IF(U1438=\"\",\"\",VLOOKUP(U1438,Tabelle!$D$5:$H$7,5,FALSE)))","v":""},{"$f":"IF(M$2021=1,\"\",IF(U1438=\"\",\"\",VLOOKUP(U1438,Tabelle!$D$5:$I$7,6,FALSE)))","v":""},null,null,null,null,null,null,null,null,null,null,null,{"$f":"IF(B1438=\"\",0,IF(B1438=B1437,COUNTIF(B$9:B1437,B1438)+1,1))","v":1426},0,0]
["1431","-1900","-1900-1427",null,null,null,null,null,null,null,null,null,null,null,null,null,null,null,null,null,null,{"$f":"IF(M$2021=1,\"\",IF(U1439=\"\",\"\",VLOOKUP(U1439,Tabelle!$D$5:$H$7,5,FALSE)))","v":""},{"$f":"IF(M$2021=1,\"\",IF(U1439=\"\",\"\",VLOOKUP(U1439,Tabelle!$D$5:$I$7,6,FALSE)))","v":""},null,null,null,null,null,null,null,null,null,null,null,{"$f":"IF(B1439=\"\",0,IF(B1439=B1438,COUNTIF(B$9:B1438,B1439)+1,1))","v":1427},0,0]
["1432","-1900","-1900-1428",null,null,null,null,null,null,null,null,null,null,null,null,null,null,null,null,null,null,{"$f":"IF(M$2021=1,\"\",IF(U1440=\"\",\"\",VLOOKUP(U1440,Tabelle!$D$5:$H$7,5,FALSE)))","v":""},{"$f":"IF(M$2021=1,\"\",IF(U1440=\"\",\"\",VLOOKUP(U1440,Tabelle!$D$5:$I$7,6,FALSE)))","v":""},null,null,null,null,null,null,null,null,null,null,null,{"$f":"IF(B1440=\"\",0,IF(B1440=B1439,COUNTIF(B$9:B1439,B1440)+1,1))","v":1428},0,0]
["1433","-1900","-1900-1429",null,null,null,null,null,null,null,null,null,null,null,null,null,null,null,null,null,null,{"$f":"IF(M$2021=1,\"\",IF(U1441=\"\",\"\",VLOOKUP(U1441,Tabelle!$D$5:$H$7,5,FALSE)))","v":""},{"$f":"IF(M$2021=1,\"\",IF(U1441=\"\",\"\",VLOOKUP(U1441,Tabelle!$D$5:$I$7,6,FALSE)))","v":""},null,null,null,null,null,null,null,null,null,null,null,{"$f":"IF(B1441=\"\",0,IF(B1441=B1440,COUNTIF(B$9:B1440,B1441)+1,1))","v":1429},0,0]
["1434","-1900","-1900-1430",null,null,null,null,null,null,null,null,null,null,null,null,null,null,null,null,null,null,{"$f":"IF(M$2021=1,\"\",IF(U1442=\"\",\"\",VLOOKUP(U1442,Tabelle!$D$5:$H$7,5,FALSE)))","v":""},{"$f":"IF(M$2021=1,\"\",IF(U1442=\"\",\"\",VLOOKUP(U1442,Tabelle!$D$5:$I$7,6,FALSE)))","v":""},null,null,null,null,null,null,null,null,null,null,null,{"$f":"IF(B1442=\"\",0,IF(B1442=B1441,COUNTIF(B$9:B1441,B1442)+1,1))","v":1430},0,0]
["1435","-1900","-1900-1431",null,null,null,null,null,null,null,null,null,null,null,null,null,null,null,null,null,null,{"$f":"IF(M$2021=1,\"\",IF(U1443=\"\",\"\",VLOOKUP(U1443,Tabelle!$D$5:$H$7,5,FALSE)))","v":""},{"$f":"IF(M$2021=1,\"\",IF(U1443=\"\",\"\",VLOOKUP(U1443,Tabelle!$D$5:$I$7,6,FALSE)))","v":""},null,null,null,null,null,null,null,null,null,null,null,{"$f":"IF(B1443=\"\",0,IF(B1443=B1442,COUNTIF(B$9:B1442,B1443)+1,1))","v":1431},0,0]
["1436","-1900","-1900-1432",null,null,null,null,null,null,null,null,null,null,null,null,null,null,null,null,null,null,{"$f":"IF(M$2021=1,\"\",IF(U1444=\"\",\"\",VLOOKUP(U1444,Tabelle!$D$5:$H$7,5,FALSE)))","v":""},{"$f":"IF(M$2021=1,\"\",IF(U1444=\"\",\"\",VLOOKUP(U1444,Tabelle!$D$5:$I$7,6,FALSE)))","v":""},null,null,null,null,null,null,null,null,null,null,null,{"$f":"IF(B1444=\"\",0,IF(B1444=B1443,COUNTIF(B$9:B1443,B1444)+1,1))","v":1432},0,0]
["1437","-1900","-1900-1433",null,null,null,null,null,null,null,null,null,null,null,null,null,null,null,null,null,null,{"$f":"IF(M$2021=1,\"\",IF(U1445=\"\",\"\",VLOOKUP(U1445,Tabelle!$D$5:$H$7,5,FALSE)))","v":""},{"$f":"IF(M$2021=1,\"\",IF(U1445=\"\",\"\",VLOOKUP(U1445,Tabelle!$D$5:$I$7,6,FALSE)))","v":""},null,null,null,null,null,null,null,null,null,null,null,{"$f":"IF(B1445=\"\",0,IF(B1445=B1444,COUNTIF(B$9:B1444,B1445)+1,1))","v":1433},0,0]
["1438","-1900","-1900-1434",null,null,null,null,null,null,null,null,null,null,null,null,null,null,null,null,null,null,{"$f":"IF(M$2021=1,\"\",IF(U1446=\"\",\"\",VLOOKUP(U1446,Tabelle!$D$5:$H$7,5,FALSE)))","v":""},{"$f":"IF(M$2021=1,\"\",IF(U1446=\"\",\"\",VLOOKUP(U1446,Tabelle!$D$5:$I$7,6,FALSE)))","v":""},null,null,null,null,null,null,null,null,null,null,null,{"$f":"IF(B1446=\"\",0,IF(B1446=B1445,COUNTIF(B$9:B1445,B1446)+1,1))","v":1434},0,0]
["1439","-1900","-1900-1435",null,null,null,null,null,null,null,null,null,null,null,null,null,null,null,null,null,null,{"$f":"IF(M$2021=1,\"\",IF(U1447=\"\",\"\",VLOOKUP(U1447,Tabelle!$D$5:$H$7,5,FALSE)))","v":""},{"$f":"IF(M$2021=1,\"\",IF(U1447=\"\",\"\",VLOOKUP(U1447,Tabelle!$D$5:$I$7,6,FALSE)))","v":""},null,null,null,null,null,null,null,null,null,null,null,{"$f":"IF(B1447=\"\",0,IF(B1447=B1446,COUNTIF(B$9:B1446,B1447)+1,1))","v":1435},0,0]
["1440","-1900","-1900-1436",null,null,null,null,null,null,null,null,null,null,null,null,null,null,null,null,null,null,{"$f":"IF(M$2021=1,\"\",IF(U1448=\"\",\"\",VLOOKUP(U1448,Tabelle!$D$5:$H$7,5,FALSE)))","v":""},{"$f":"IF(M$2021=1,\"\",IF(U1448=\"\",\"\",VLOOKUP(U1448,Tabelle!$D$5:$I$7,6,FALSE)))","v":""},null,null,null,null,null,null,null,null,null,null,null,{"$f":"IF(B1448=\"\",0,IF(B1448=B1447,COUNTIF(B$9:B1447,B1448)+1,1))","v":1436},0,0]
["1441","-1900","-1900-1437",null,null,null,null,null,null,null,null,null,null,null,null,null,null,null,null,null,null,{"$f":"IF(M$2021=1,\"\",IF(U1449=\"\",\"\",VLOOKUP(U1449,Tabelle!$D$5:$H$7,5,FALSE)))","v":""},{"$f":"IF(M$2021=1,\"\",IF(U1449=\"\",\"\",VLOOKUP(U1449,Tabelle!$D$5:$I$7,6,FALSE)))","v":""},null,null,null,null,null,null,null,null,null,null,null,{"$f":"IF(B1449=\"\",0,IF(B1449=B1448,COUNTIF(B$9:B1448,B1449)+1,1))","v":1437},0,0]
["1442","-1900","-1900-1438",null,null,null,null,null,null,null,null,null,null,null,null,null,null,null,null,null,null,{"$f":"IF(M$2021=1,\"\",IF(U1450=\"\",\"\",VLOOKUP(U1450,Tabelle!$D$5:$H$7,5,FALSE)))","v":""},{"$f":"IF(M$2021=1,\"\",IF(U1450=\"\",\"\",VLOOKUP(U1450,Tabelle!$D$5:$I$7,6,FALSE)))","v":""},null,null,null,null,null,null,null,null,null,null,null,{"$f":"IF(B1450=\"\",0,IF(B1450=B1449,COUNTIF(B$9:B1449,B1450)+1,1))","v":1438},0,0]
["1443","-1900","-1900-1439",null,null,null,null,null,null,null,null,null,null,null,null,null,null,null,null,null,null,{"$f":"IF(M$2021=1,\"\",IF(U1451=\"\",\"\",VLOOKUP(U1451,Tabelle!$D$5:$H$7,5,FALSE)))","v":""},{"$f":"IF(M$2021=1,\"\",IF(U1451=\"\",\"\",VLOOKUP(U1451,Tabelle!$D$5:$I$7,6,FALSE)))","v":""},null,null,null,null,null,null,null,null,null,null,null,{"$f":"IF(B1451=\"\",0,IF(B1451=B1450,COUNTIF(B$9:B1450,B1451)+1,1))","v":1439},0,0]
["1444","-1900","-1900-1440",null,null,null,null,null,null,null,null,null,null,null,null,null,null,null,null,null,null,{"$f":"IF(M$2021=1,\"\",IF(U1452=\"\",\"\",VLOOKUP(U1452,Tabelle!$D$5:$H$7,5,FALSE)))","v":""},{"$f":"IF(M$2021=1,\"\",IF(U1452=\"\",\"\",VLOOKUP(U1452,Tabelle!$D$5:$I$7,6,FALSE)))","v":""},null,null,null,null,null,null,null,null,null,null,null,{"$f":"IF(B1452=\"\",0,IF(B1452=B1451,COUNTIF(B$9:B1451,B1452)+1,1))","v":1440},0,0]
["1445","-1900","-1900-1441",null,null,null,null,null,null,null,null,null,null,null,null,null,null,null,null,null,null,{"$f":"IF(M$2021=1,\"\",IF(U1453=\"\",\"\",VLOOKUP(U1453,Tabelle!$D$5:$H$7,5,FALSE)))","v":""},{"$f":"IF(M$2021=1,\"\",IF(U1453=\"\",\"\",VLOOKUP(U1453,Tabelle!$D$5:$I$7,6,FALSE)))","v":""},null,null,null,null,null,null,null,null,null,null,null,{"$f":"IF(B1453=\"\",0,IF(B1453=B1452,COUNTIF(B$9:B1452,B1453)+1,1))","v":1441},0,0]
["1446","-1900","-1900-1442",null,null,null,null,null,null,null,null,null,null,null,null,null,null,null,null,null,null,{"$f":"IF(M$2021=1,\"\",IF(U1454=\"\",\"\",VLOOKUP(U1454,Tabelle!$D$5:$H$7,5,FALSE)))","v":""},{"$f":"IF(M$2021=1,\"\",IF(U1454=\"\",\"\",VLOOKUP(U1454,Tabelle!$D$5:$I$7,6,FALSE)))","v":""},null,null,null,null,null,null,null,null,null,null,null,{"$f":"IF(B1454=\"\",0,IF(B1454=B1453,COUNTIF(B$9:B1453,B1454)+1,1))","v":1442},0,0]
["1447","-1900","-1900-1443",null,null,null,null,null,null,null,null,null,null,null,null,null,null,null,null,null,null,{"$f":"IF(M$2021=1,\"\",IF(U1455=\"\",\"\",VLOOKUP(U1455,Tabelle!$D$5:$H$7,5,FALSE)))","v":""},{"$f":"IF(M$2021=1,\"\",IF(U1455=\"\",\"\",VLOOKUP(U1455,Tabelle!$D$5:$I$7,6,FALSE)))","v":""},null,null,null,null,null,null,null,null,null,null,null,{"$f":"IF(B1455=\"\",0,IF(B1455=B1454,COUNTIF(B$9:B1454,B1455)+1,1))","v":1443},0,0]
["1448","-1900","-1900-1444",null,null,null,null,null,null,null,null,null,null,null,null,null,null,null,null,null,null,{"$f":"IF(M$2021=1,\"\",IF(U1456=\"\",\"\",VLOOKUP(U1456,Tabelle!$D$5:$H$7,5,FALSE)))","v":""},{"$f":"IF(M$2021=1,\"\",IF(U1456=\"\",\"\",VLOOKUP(U1456,Tabelle!$D$5:$I$7,6,FALSE)))","v":""},null,null,null,null,null,null,null,null,null,null,null,{"$f":"IF(B1456=\"\",0,IF(B1456=B1455,COUNTIF(B$9:B1455,B1456)+1,1))","v":1444},0,0]
["1449","-1900","-1900-1445",null,null,null,null,null,null,null,null,null,null,null,null,null,null,null,null,null,null,{"$f":"IF(M$2021=1,\"\",IF(U1457=\"\",\"\",VLOOKUP(U1457,Tabelle!$D$5:$H$7,5,FALSE)))","v":""},{"$f":"IF(M$2021=1,\"\",IF(U1457=\"\",\"\",VLOOKUP(U1457,Tabelle!$D$5:$I$7,6,FALSE)))","v":""},null,null,null,null,null,null,null,null,null,null,null,{"$f":"IF(B1457=\"\",0,IF(B1457=B1456,COUNTIF(B$9:B1456,B1457)+1,1))","v":1445},0,0]
["1450","-1900","-1900-1446",null,null,null,null,null,null,null,null,null,null,null,null,null,null,null,null,null,null,{"$f":"IF(M$2021=1,\"\",IF(U1458=\"\",\"\",VLOOKUP(U1458,Tabelle!$D$5:$H$7,5,FALSE)))","v":""},{"$f":"IF(M$2021=1,\"\",IF(U1458=\"\",\"\",VLOOKUP(U1458,Tabelle!$D$5:$I$7,6,FALSE)))","v":""},null,null,null,null,null,null,null,null,null,null,null,{"$f":"IF(B1458=\"\",0,IF(B1458=B1457,COUNTIF(B$9:B1457,B1458)+1,1))","v":1446},0,0]
["1451","-1900","-1900-1447",null,null,null,null,null,null,null,null,null,null,null,null,null,null,null,null,null,null,{"$f":"IF(M$2021=1,\"\",IF(U1459=\"\",\"\",VLOOKUP(U1459,Tabelle!$D$5:$H$7,5,FALSE)))","v":""},{"$f":"IF(M$2021=1,\"\",IF(U1459=\"\",\"\",VLOOKUP(U1459,Tabelle!$D$5:$I$7,6,FALSE)))","v":""},null,null,null,null,null,null,null,null,null,null,null,{"$f":"IF(B1459=\"\",0,IF(B1459=B1458,COUNTIF(B$9:B1458,B1459)+1,1))","v":1447},0,0]
["1452","-1900","-1900-1448",null,null,null,null,null,null,null,null,null,null,null,null,null,null,null,null,null,null,{"$f":"IF(M$2021=1,\"\",IF(U1460=\"\",\"\",VLOOKUP(U1460,Tabelle!$D$5:$H$7,5,FALSE)))","v":""},{"$f":"IF(M$2021=1,\"\",IF(U1460=\"\",\"\",VLOOKUP(U1460,Tabelle!$D$5:$I$7,6,FALSE)))","v":""},null,null,null,null,null,null,null,null,null,null,null,{"$f":"IF(B1460=\"\",0,IF(B1460=B1459,COUNTIF(B$9:B1459,B1460)+1,1))","v":1448},0,0]
["1453","-1900","-1900-1449",null,null,null,null,null,null,null,null,null,null,null,null,null,null,null,null,null,null,{"$f":"IF(M$2021=1,\"\",IF(U1461=\"\",\"\",VLOOKUP(U1461,Tabelle!$D$5:$H$7,5,FALSE)))","v":""},{"$f":"IF(M$2021=1,\"\",IF(U1461=\"\",\"\",VLOOKUP(U1461,Tabelle!$D$5:$I$7,6,FALSE)))","v":""},null,null,null,null,null,null,null,null,null,null,null,{"$f":"IF(B1461=\"\",0,IF(B1461=B1460,COUNTIF(B$9:B1460,B1461)+1,1))","v":1449},0,0]
["1454","-1900","-1900-1450",null,null,null,null,null,null,null,null,null,null,null,null,null,null,null,null,null,null,{"$f":"IF(M$2021=1,\"\",IF(U1462=\"\",\"\",VLOOKUP(U1462,Tabelle!$D$5:$H$7,5,FALSE)))","v":""},{"$f":"IF(M$2021=1,\"\",IF(U1462=\"\",\"\",VLOOKUP(U1462,Tabelle!$D$5:$I$7,6,FALSE)))","v":""},null,null,null,null,null,null,null,null,null,null,null,{"$f":"IF(B1462=\"\",0,IF(B1462=B1461,COUNTIF(B$9:B1461,B1462)+1,1))","v":1450},0,0]
["1455","-1900","-1900-1451",null,null,null,null,null,null,null,null,null,null,null,null,null,null,null,null,null,null,{"$f":"IF(M$2021=1,\"\",IF(U1463=\"\",\"\",VLOOKUP(U1463,Tabelle!$D$5:$H$7,5,FALSE)))","v":""},{"$f":"IF(M$2021=1,\"\",IF(U1463=\"\",\"\",VLOOKUP(U1463,Tabelle!$D$5:$I$7,6,FALSE)))","v":""},null,null,null,null,null,null,null,null,null,null,null,{"$f":"IF(B1463=\"\",0,IF(B1463=B1462,COUNTIF(B$9:B1462,B1463)+1,1))","v":1451},0,0]
["1456","-1900","-1900-1452",null,null,null,null,null,null,null,null,null,null,null,null,null,null,null,null,null,null,{"$f":"IF(M$2021=1,\"\",IF(U1464=\"\",\"\",VLOOKUP(U1464,Tabelle!$D$5:$H$7,5,FALSE)))","v":""},{"$f":"IF(M$2021=1,\"\",IF(U1464=\"\",\"\",VLOOKUP(U1464,Tabelle!$D$5:$I$7,6,FALSE)))","v":""},null,null,null,null,null,null,null,null,null,null,null,{"$f":"IF(B1464=\"\",0,IF(B1464=B1463,COUNTIF(B$9:B1463,B1464)+1,1))","v":1452},0,0]
["1457","-1900","-1900-1453",null,null,null,null,null,null,null,null,null,null,null,null,null,null,null,null,null,null,{"$f":"IF(M$2021=1,\"\",IF(U1465=\"\",\"\",VLOOKUP(U1465,Tabelle!$D$5:$H$7,5,FALSE)))","v":""},{"$f":"IF(M$2021=1,\"\",IF(U1465=\"\",\"\",VLOOKUP(U1465,Tabelle!$D$5:$I$7,6,FALSE)))","v":""},null,null,null,null,null,null,null,null,null,null,null,{"$f":"IF(B1465=\"\",0,IF(B1465=B1464,COUNTIF(B$9:B1464,B1465)+1,1))","v":1453},0,0]
["1458","-1900","-1900-1454",null,null,null,null,null,null,null,null,null,null,null,null,null,null,null,null,null,null,{"$f":"IF(M$2021=1,\"\",IF(U1466=\"\",\"\",VLOOKUP(U1466,Tabelle!$D$5:$H$7,5,FALSE)))","v":""},{"$f":"IF(M$2021=1,\"\",IF(U1466=\"\",\"\",VLOOKUP(U1466,Tabelle!$D$5:$I$7,6,FALSE)))","v":""},null,null,null,null,null,null,null,null,null,null,null,{"$f":"IF(B1466=\"\",0,IF(B1466=B1465,COUNTIF(B$9:B1465,B1466)+1,1))","v":1454},0,0]
["1459","-1900","-1900-1455",null,null,null,null,null,null,null,null,null,null,null,null,null,null,null,null,null,null,{"$f":"IF(M$2021=1,\"\",IF(U1467=\"\",\"\",VLOOKUP(U1467,Tabelle!$D$5:$H$7,5,FALSE)))","v":""},{"$f":"IF(M$2021=1,\"\",IF(U1467=\"\",\"\",VLOOKUP(U1467,Tabelle!$D$5:$I$7,6,FALSE)))","v":""},null,null,null,null,null,null,null,null,null,null,null,{"$f":"IF(B1467=\"\",0,IF(B1467=B1466,COUNTIF(B$9:B1466,B1467)+1,1))","v":1455},0,0]
["1460","-1900","-1900-1456",null,null,null,null,null,null,null,null,null,null,null,null,null,null,null,null,null,null,{"$f":"IF(M$2021=1,\"\",IF(U1468=\"\",\"\",VLOOKUP(U1468,Tabelle!$D$5:$H$7,5,FALSE)))","v":""},{"$f":"IF(M$2021=1,\"\",IF(U1468=\"\",\"\",VLOOKUP(U1468,Tabelle!$D$5:$I$7,6,FALSE)))","v":""},null,null,null,null,null,null,null,null,null,null,null,{"$f":"IF(B1468=\"\",0,IF(B1468=B1467,COUNTIF(B$9:B1467,B1468)+1,1))","v":1456},0,0]
["1461","-1900","-1900-1457",null,null,null,null,null,null,null,null,null,null,null,null,null,null,null,null,null,null,{"$f":"IF(M$2021=1,\"\",IF(U1469=\"\",\"\",VLOOKUP(U1469,Tabelle!$D$5:$H$7,5,FALSE)))","v":""},{"$f":"IF(M$2021=1,\"\",IF(U1469=\"\",\"\",VLOOKUP(U1469,Tabelle!$D$5:$I$7,6,FALSE)))","v":""},null,null,null,null,null,null,null,null,null,null,null,{"$f":"IF(B1469=\"\",0,IF(B1469=B1468,COUNTIF(B$9:B1468,B1469)+1,1))","v":1457},0,0]
["1462","-1900","-1900-1458",null,null,null,null,null,null,null,null,null,null,null,null,null,null,null,null,null,null,{"$f":"IF(M$2021=1,\"\",IF(U1470=\"\",\"\",VLOOKUP(U1470,Tabelle!$D$5:$H$7,5,FALSE)))","v":""},{"$f":"IF(M$2021=1,\"\",IF(U1470=\"\",\"\",VLOOKUP(U1470,Tabelle!$D$5:$I$7,6,FALSE)))","v":""},null,null,null,null,null,null,null,null,null,null,null,{"$f":"IF(B1470=\"\",0,IF(B1470=B1469,COUNTIF(B$9:B1469,B1470)+1,1))","v":1458},0,0]
["1463","-1900","-1900-1459",null,null,null,null,null,null,null,null,null,null,null,null,null,null,null,null,null,null,{"$f":"IF(M$2021=1,\"\",IF(U1471=\"\",\"\",VLOOKUP(U1471,Tabelle!$D$5:$H$7,5,FALSE)))","v":""},{"$f":"IF(M$2021=1,\"\",IF(U1471=\"\",\"\",VLOOKUP(U1471,Tabelle!$D$5:$I$7,6,FALSE)))","v":""},null,null,null,null,null,null,null,null,null,null,null,{"$f":"IF(B1471=\"\",0,IF(B1471=B1470,COUNTIF(B$9:B1470,B1471)+1,1))","v":1459},0,0]
["1464","-1900","-1900-1460",null,null,null,null,null,null,null,null,null,null,null,null,null,null,null,null,null,null,{"$f":"IF(M$2021=1,\"\",IF(U1472=\"\",\"\",VLOOKUP(U1472,Tabelle!$D$5:$H$7,5,FALSE)))","v":""},{"$f":"IF(M$2021=1,\"\",IF(U1472=\"\",\"\",VLOOKUP(U1472,Tabelle!$D$5:$I$7,6,FALSE)))","v":""},null,null,null,null,null,null,null,null,null,null,null,{"$f":"IF(B1472=\"\",0,IF(B1472=B1471,COUNTIF(B$9:B1471,B1472)+1,1))","v":1460},0,0]
["1465","-1900","-1900-1461",null,null,null,null,null,null,null,null,null,null,null,null,null,null,null,null,null,null,{"$f":"IF(M$2021=1,\"\",IF(U1473=\"\",\"\",VLOOKUP(U1473,Tabelle!$D$5:$H$7,5,FALSE)))","v":""},{"$f":"IF(M$2021=1,\"\",IF(U1473=\"\",\"\",VLOOKUP(U1473,Tabelle!$D$5:$I$7,6,FALSE)))","v":""},null,null,null,null,null,null,null,null,null,null,null,{"$f":"IF(B1473=\"\",0,IF(B1473=B1472,COUNTIF(B$9:B1472,B1473)+1,1))","v":1461},0,0]
["1466","-1900","-1900-1462",null,null,null,null,null,null,null,null,null,null,null,null,null,null,null,null,null,null,{"$f":"IF(M$2021=1,\"\",IF(U1474=\"\",\"\",VLOOKUP(U1474,Tabelle!$D$5:$H$7,5,FALSE)))","v":""},{"$f":"IF(M$2021=1,\"\",IF(U1474=\"\",\"\",VLOOKUP(U1474,Tabelle!$D$5:$I$7,6,FALSE)))","v":""},null,null,null,null,null,null,null,null,null,null,null,{"$f":"IF(B1474=\"\",0,IF(B1474=B1473,COUNTIF(B$9:B1473,B1474)+1,1))","v":1462},0,0]
["1467","-1900","-1900-1463",null,null,null,null,null,null,null,null,null,null,null,null,null,null,null,null,null,null,{"$f":"IF(M$2021=1,\"\",IF(U1475=\"\",\"\",VLOOKUP(U1475,Tabelle!$D$5:$H$7,5,FALSE)))","v":""},{"$f":"IF(M$2021=1,\"\",IF(U1475=\"\",\"\",VLOOKUP(U1475,Tabelle!$D$5:$I$7,6,FALSE)))","v":""},null,null,null,null,null,null,null,null,null,null,null,{"$f":"IF(B1475=\"\",0,IF(B1475=B1474,COUNTIF(B$9:B1474,B1475)+1,1))","v":1463},0,0]
["1468","-1900","-1900-1464",null,null,null,null,null,null,null,null,null,null,null,null,null,null,null,null,null,null,{"$f":"IF(M$2021=1,\"\",IF(U1476=\"\",\"\",VLOOKUP(U1476,Tabelle!$D$5:$H$7,5,FALSE)))","v":""},{"$f":"IF(M$2021=1,\"\",IF(U1476=\"\",\"\",VLOOKUP(U1476,Tabelle!$D$5:$I$7,6,FALSE)))","v":""},null,null,null,null,null,null,null,null,null,null,null,{"$f":"IF(B1476=\"\",0,IF(B1476=B1475,COUNTIF(B$9:B1475,B1476)+1,1))","v":1464},0,0]
["1469","-1900","-1900-1465",null,null,null,null,null,null,null,null,null,null,null,null,null,null,null,null,null,null,{"$f":"IF(M$2021=1,\"\",IF(U1477=\"\",\"\",VLOOKUP(U1477,Tabelle!$D$5:$H$7,5,FALSE)))","v":""},{"$f":"IF(M$2021=1,\"\",IF(U1477=\"\",\"\",VLOOKUP(U1477,Tabelle!$D$5:$I$7,6,FALSE)))","v":""},null,null,null,null,null,null,null,null,null,null,null,{"$f":"IF(B1477=\"\",0,IF(B1477=B1476,COUNTIF(B$9:B1476,B1477)+1,1))","v":1465},0,0]
["1470","-1900","-1900-1466",null,null,null,null,null,null,null,null,null,null,null,null,null,null,null,null,null,null,{"$f":"IF(M$2021=1,\"\",IF(U1478=\"\",\"\",VLOOKUP(U1478,Tabelle!$D$5:$H$7,5,FALSE)))","v":""},{"$f":"IF(M$2021=1,\"\",IF(U1478=\"\",\"\",VLOOKUP(U1478,Tabelle!$D$5:$I$7,6,FALSE)))","v":""},null,null,null,null,null,null,null,null,null,null,null,{"$f":"IF(B1478=\"\",0,IF(B1478=B1477,COUNTIF(B$9:B1477,B1478)+1,1))","v":1466},0,0]
["1471","-1900","-1900-1467",null,null,null,null,null,null,null,null,null,null,null,null,null,null,null,null,null,null,{"$f":"IF(M$2021=1,\"\",IF(U1479=\"\",\"\",VLOOKUP(U1479,Tabelle!$D$5:$H$7,5,FALSE)))","v":""},{"$f":"IF(M$2021=1,\"\",IF(U1479=\"\",\"\",VLOOKUP(U1479,Tabelle!$D$5:$I$7,6,FALSE)))","v":""},null,null,null,null,null,null,null,null,null,null,null,{"$f":"IF(B1479=\"\",0,IF(B1479=B1478,COUNTIF(B$9:B1478,B1479)+1,1))","v":1467},0,0]
["1472","-1900","-1900-1468",null,null,null,null,null,null,null,null,null,null,null,null,null,null,null,null,null,null,{"$f":"IF(M$2021=1,\"\",IF(U1480=\"\",\"\",VLOOKUP(U1480,Tabelle!$D$5:$H$7,5,FALSE)))","v":""},{"$f":"IF(M$2021=1,\"\",IF(U1480=\"\",\"\",VLOOKUP(U1480,Tabelle!$D$5:$I$7,6,FALSE)))","v":""},null,null,null,null,null,null,null,null,null,null,null,{"$f":"IF(B1480=\"\",0,IF(B1480=B1479,COUNTIF(B$9:B1479,B1480)+1,1))","v":1468},0,0]
["1473","-1900",{"$f":"IF(M$2021=1,0,B1481&\"-\"&AI1481)","v":"-1900-1469"},null,null,null,null,null,null,null,null,null,null,null,null,null,null,null,null,null,null,{"$f":"IF(M$2021=1,\"\",IF(U1481=\"\",\"\",VLOOKUP(U1481,Tabelle!$D$5:$H$7,5,FALSE)))","v":""},{"$f":"IF(M$2021=1,\"\",IF(U1481=\"\",\"\",VLOOKUP(U1481,Tabelle!$D$5:$I$7,6,FALSE)))","v":""},null,null,null,null,null,null,null,null,null,null,null,{"$f":"IF(B1481=\"\",0,IF(B1481=B1480,COUNTIF(B$9:B1480,B1481)+1,1))","v":1469},0,0]
["1474",{"$f":"IF(AK1482=$AK$2015,0,IF(M$2021=1,0,D1482&\"-\"&YEAR(E1482)))","v":"-1900"},"-1900-1470",null,null,null,null,null,null,null,null,null,null,null,null,null,null,null,null,null,null,{"$f":"IF(M$2021=1,\"\",IF(U1482=\"\",\"\",VLOOKUP(U1482,Tabelle!$D$5:$H$7,5,FALSE)))","v":""},{"$f":"IF(M$2021=1,\"\",IF(U1482=\"\",\"\",VLOOKUP(U1482,Tabelle!$D$5:$I$7,6,FALSE)))","v":""},null,null,null,null,null,null,null,null,null,null,null,{"$f":"IF(B1482=\"\",0,IF(B1482=B1481,COUNTIF(B$9:B1481,B1482)+1,1))","v":1470},{"$f":"IF(OR(D1482=\"\",M$2021=1),0,IF(AI1482=10,1,0))","v":0},{"$f":"IF(E1482>0,IF(OR(MONTH(E1482)<$J$2027,MONTH(E1482)>$J$2028),AK$2015,0),0)","v":0}]
["1475","-1900","-1900-1471",null,null,null,null,null,null,null,null,null,null,null,null,null,null,null,null,null,null,{"$f":"IF(M$2021=1,\"\",IF(U1483=\"\",\"\",VLOOKUP(U1483,Tabelle!$D$5:$H$7,5,FALSE)))","v":""},{"$f":"IF(M$2021=1,\"\",IF(U1483=\"\",\"\",VLOOKUP(U1483,Tabelle!$D$5:$I$7,6,FALSE)))","v":""},null,null,null,null,null,null,null,null,null,null,null,{"$f":"IF(B1483=\"\",0,IF(B1483=B1482,COUNTIF(B$9:B1482,B1483)+1,1))","v":1471},0,0]
["1476","-1900","-1900-1472",null,null,null,null,null,null,null,null,null,null,null,null,null,null,null,null,null,null,{"$f":"IF(M$2021=1,\"\",IF(U1484=\"\",\"\",VLOOKUP(U1484,Tabelle!$D$5:$H$7,5,FALSE)))","v":""},{"$f":"IF(M$2021=1,\"\",IF(U1484=\"\",\"\",VLOOKUP(U1484,Tabelle!$D$5:$I$7,6,FALSE)))","v":""},null,null,null,null,null,null,null,null,null,null,null,{"$f":"IF(B1484=\"\",0,IF(B1484=B1483,COUNTIF(B$9:B1483,B1484)+1,1))","v":1472},0,0]
["1477","-1900","-1900-1473",null,null,null,null,null,null,null,null,null,null,null,null,null,null,null,null,null,null,{"$f":"IF(M$2021=1,\"\",IF(U1485=\"\",\"\",VLOOKUP(U1485,Tabelle!$D$5:$H$7,5,FALSE)))","v":""},{"$f":"IF(M$2021=1,\"\",IF(U1485=\"\",\"\",VLOOKUP(U1485,Tabelle!$D$5:$I$7,6,FALSE)))","v":""},null,null,null,null,null,null,null,null,null,null,null,{"$f":"IF(B1485=\"\",0,IF(B1485=B1484,COUNTIF(B$9:B1484,B1485)+1,1))","v":1473},0,0]
["1478","-1900","-1900-1474",null,null,null,null,null,null,null,null,null,null,null,null,null,null,null,null,null,null,{"$f":"IF(M$2021=1,\"\",IF(U1486=\"\",\"\",VLOOKUP(U1486,Tabelle!$D$5:$H$7,5,FALSE)))","v":""},{"$f":"IF(M$2021=1,\"\",IF(U1486=\"\",\"\",VLOOKUP(U1486,Tabelle!$D$5:$I$7,6,FALSE)))","v":""},null,null,null,null,null,null,null,null,null,null,null,{"$f":"IF(B1486=\"\",0,IF(B1486=B1485,COUNTIF(B$9:B1485,B1486)+1,1))","v":1474},0,0]
["1479","-1900","-1900-1475",null,null,null,null,null,null,null,null,null,null,null,null,null,null,null,null,null,null,{"$f":"IF(M$2021=1,\"\",IF(U1487=\"\",\"\",VLOOKUP(U1487,Tabelle!$D$5:$H$7,5,FALSE)))","v":""},{"$f":"IF(M$2021=1,\"\",IF(U1487=\"\",\"\",VLOOKUP(U1487,Tabelle!$D$5:$I$7,6,FALSE)))","v":""},null,null,null,null,null,null,null,null,null,null,null,{"$f":"IF(B1487=\"\",0,IF(B1487=B1486,COUNTIF(B$9:B1486,B1487)+1,1))","v":1475},0,0]
["1480","-1900","-1900-1476",null,null,null,null,null,null,null,null,null,null,null,null,null,null,null,null,null,null,{"$f":"IF(M$2021=1,\"\",IF(U1488=\"\",\"\",VLOOKUP(U1488,Tabelle!$D$5:$H$7,5,FALSE)))","v":""},{"$f":"IF(M$2021=1,\"\",IF(U1488=\"\",\"\",VLOOKUP(U1488,Tabelle!$D$5:$I$7,6,FALSE)))","v":""},null,null,null,null,null,null,null,null,null,null,null,{"$f":"IF(B1488=\"\",0,IF(B1488=B1487,COUNTIF(B$9:B1487,B1488)+1,1))","v":1476},0,0]
["1481","-1900","-1900-1477",null,null,null,null,null,null,null,null,null,null,null,null,null,null,null,null,null,null,{"$f":"IF(M$2021=1,\"\",IF(U1489=\"\",\"\",VLOOKUP(U1489,Tabelle!$D$5:$H$7,5,FALSE)))","v":""},{"$f":"IF(M$2021=1,\"\",IF(U1489=\"\",\"\",VLOOKUP(U1489,Tabelle!$D$5:$I$7,6,FALSE)))","v":""},null,null,null,null,null,null,null,null,null,null,null,{"$f":"IF(B1489=\"\",0,IF(B1489=B1488,COUNTIF(B$9:B1488,B1489)+1,1))","v":1477},0,0]
["1482","-1900","-1900-1478",null,null,null,null,null,null,null,null,null,null,null,null,null,null,null,null,null,null,{"$f":"IF(M$2021=1,\"\",IF(U1490=\"\",\"\",VLOOKUP(U1490,Tabelle!$D$5:$H$7,5,FALSE)))","v":""},{"$f":"IF(M$2021=1,\"\",IF(U1490=\"\",\"\",VLOOKUP(U1490,Tabelle!$D$5:$I$7,6,FALSE)))","v":""},null,null,null,null,null,null,null,null,null,null,null,{"$f":"IF(B1490=\"\",0,IF(B1490=B1489,COUNTIF(B$9:B1489,B1490)+1,1))","v":1478},0,0]
["1483","-1900","-1900-1479",null,null,null,null,null,null,null,null,null,null,null,null,null,null,null,null,null,null,{"$f":"IF(M$2021=1,\"\",IF(U1491=\"\",\"\",VLOOKUP(U1491,Tabelle!$D$5:$H$7,5,FALSE)))","v":""},{"$f":"IF(M$2021=1,\"\",IF(U1491=\"\",\"\",VLOOKUP(U1491,Tabelle!$D$5:$I$7,6,FALSE)))","v":""},null,null,null,null,null,null,null,null,null,null,null,{"$f":"IF(B1491=\"\",0,IF(B1491=B1490,COUNTIF(B$9:B1490,B1491)+1,1))","v":1479},0,0]
["1484","-1900","-1900-1480",null,null,null,null,null,null,null,null,null,null,null,null,null,null,null,null,null,null,{"$f":"IF(M$2021=1,\"\",IF(U1492=\"\",\"\",VLOOKUP(U1492,Tabelle!$D$5:$H$7,5,FALSE)))","v":""},{"$f":"IF(M$2021=1,\"\",IF(U1492=\"\",\"\",VLOOKUP(U1492,Tabelle!$D$5:$I$7,6,FALSE)))","v":""},null,null,null,null,null,null,null,null,null,null,null,{"$f":"IF(B1492=\"\",0,IF(B1492=B1491,COUNTIF(B$9:B1491,B1492)+1,1))","v":1480},0,0]
["1485","-1900","-1900-1481",null,null,null,null,null,null,null,null,null,null,null,null,null,null,null,null,null,null,{"$f":"IF(M$2021=1,\"\",IF(U1493=\"\",\"\",VLOOKUP(U1493,Tabelle!$D$5:$H$7,5,FALSE)))","v":""},{"$f":"IF(M$2021=1,\"\",IF(U1493=\"\",\"\",VLOOKUP(U1493,Tabelle!$D$5:$I$7,6,FALSE)))","v":""},null,null,null,null,null,null,null,null,null,null,null,{"$f":"IF(B1493=\"\",0,IF(B1493=B1492,COUNTIF(B$9:B1492,B1493)+1,1))","v":1481},0,0]
["1486","-1900","-1900-1482",null,null,null,null,null,null,null,null,null,null,null,null,null,null,null,null,null,null,{"$f":"IF(M$2021=1,\"\",IF(U1494=\"\",\"\",VLOOKUP(U1494,Tabelle!$D$5:$H$7,5,FALSE)))","v":""},{"$f":"IF(M$2021=1,\"\",IF(U1494=\"\",\"\",VLOOKUP(U1494,Tabelle!$D$5:$I$7,6,FALSE)))","v":""},null,null,null,null,null,null,null,null,null,null,null,{"$f":"IF(B1494=\"\",0,IF(B1494=B1493,COUNTIF(B$9:B1493,B1494)+1,1))","v":1482},0,0]
["1487","-1900","-1900-1483",null,null,null,null,null,null,null,null,null,null,null,null,null,null,null,null,null,null,{"$f":"IF(M$2021=1,\"\",IF(U1495=\"\",\"\",VLOOKUP(U1495,Tabelle!$D$5:$H$7,5,FALSE)))","v":""},{"$f":"IF(M$2021=1,\"\",IF(U1495=\"\",\"\",VLOOKUP(U1495,Tabelle!$D$5:$I$7,6,FALSE)))","v":""},null,null,null,null,null,null,null,null,null,null,null,{"$f":"IF(B1495=\"\",0,IF(B1495=B1494,COUNTIF(B$9:B1494,B1495)+1,1))","v":1483},0,0]
["1488","-1900","-1900-1484",null,null,null,null,null,null,null,null,null,null,null,null,null,null,null,null,null,null,{"$f":"IF(M$2021=1,\"\",IF(U1496=\"\",\"\",VLOOKUP(U1496,Tabelle!$D$5:$H$7,5,FALSE)))","v":""},{"$f":"IF(M$2021=1,\"\",IF(U1496=\"\",\"\",VLOOKUP(U1496,Tabelle!$D$5:$I$7,6,FALSE)))","v":""},null,null,null,null,null,null,null,null,null,null,null,{"$f":"IF(B1496=\"\",0,IF(B1496=B1495,COUNTIF(B$9:B1495,B1496)+1,1))","v":1484},0,0]
["1489","-1900","-1900-1485",null,null,null,null,null,null,null,null,null,null,null,null,null,null,null,null,null,null,{"$f":"IF(M$2021=1,\"\",IF(U1497=\"\",\"\",VLOOKUP(U1497,Tabelle!$D$5:$H$7,5,FALSE)))","v":""},{"$f":"IF(M$2021=1,\"\",IF(U1497=\"\",\"\",VLOOKUP(U1497,Tabelle!$D$5:$I$7,6,FALSE)))","v":""},null,null,null,null,null,null,null,null,null,null,null,{"$f":"IF(B1497=\"\",0,IF(B1497=B1496,COUNTIF(B$9:B1496,B1497)+1,1))","v":1485},0,0]
["1490","-1900","-1900-1486",null,null,null,null,null,null,null,null,null,null,null,null,null,null,null,null,null,null,{"$f":"IF(M$2021=1,\"\",IF(U1498=\"\",\"\",VLOOKUP(U1498,Tabelle!$D$5:$H$7,5,FALSE)))","v":""},{"$f":"IF(M$2021=1,\"\",IF(U1498=\"\",\"\",VLOOKUP(U1498,Tabelle!$D$5:$I$7,6,FALSE)))","v":""},null,null,null,null,null,null,null,null,null,null,null,{"$f":"IF(B1498=\"\",0,IF(B1498=B1497,COUNTIF(B$9:B1497,B1498)+1,1))","v":1486},0,0]
["1491","-1900","-1900-1487",null,null,null,null,null,null,null,null,null,null,null,null,null,null,null,null,null,null,{"$f":"IF(M$2021=1,\"\",IF(U1499=\"\",\"\",VLOOKUP(U1499,Tabelle!$D$5:$H$7,5,FALSE)))","v":""},{"$f":"IF(M$2021=1,\"\",IF(U1499=\"\",\"\",VLOOKUP(U1499,Tabelle!$D$5:$I$7,6,FALSE)))","v":""},null,null,null,null,null,null,null,null,null,null,null,{"$f":"IF(B1499=\"\",0,IF(B1499=B1498,COUNTIF(B$9:B1498,B1499)+1,1))","v":1487},0,0]
["1492","-1900","-1900-1488",null,null,null,null,null,null,null,null,null,null,null,null,null,null,null,null,null,null,{"$f":"IF(M$2021=1,\"\",IF(U1500=\"\",\"\",VLOOKUP(U1500,Tabelle!$D$5:$H$7,5,FALSE)))","v":""},{"$f":"IF(M$2021=1,\"\",IF(U1500=\"\",\"\",VLOOKUP(U1500,Tabelle!$D$5:$I$7,6,FALSE)))","v":""},null,null,null,null,null,null,null,null,null,null,null,{"$f":"IF(B1500=\"\",0,IF(B1500=B1499,COUNTIF(B$9:B1499,B1500)+1,1))","v":1488},0,0]
["1493","-1900","-1900-1489",null,null,null,null,null,null,null,null,null,null,null,null,null,null,null,null,null,null,{"$f":"IF(M$2021=1,\"\",IF(U1501=\"\",\"\",VLOOKUP(U1501,Tabelle!$D$5:$H$7,5,FALSE)))","v":""},{"$f":"IF(M$2021=1,\"\",IF(U1501=\"\",\"\",VLOOKUP(U1501,Tabelle!$D$5:$I$7,6,FALSE)))","v":""},null,null,null,null,null,null,null,null,null,null,null,{"$f":"IF(B1501=\"\",0,IF(B1501=B1500,COUNTIF(B$9:B1500,B1501)+1,1))","v":1489},0,0]
["1494","-1900","-1900-1490",null,null,null,null,null,null,null,null,null,null,null,null,null,null,null,null,null,null,{"$f":"IF(M$2021=1,\"\",IF(U1502=\"\",\"\",VLOOKUP(U1502,Tabelle!$D$5:$H$7,5,FALSE)))","v":""},{"$f":"IF(M$2021=1,\"\",IF(U1502=\"\",\"\",VLOOKUP(U1502,Tabelle!$D$5:$I$7,6,FALSE)))","v":""},null,null,null,null,null,null,null,null,null,null,null,{"$f":"IF(B1502=\"\",0,IF(B1502=B1501,COUNTIF(B$9:B1501,B1502)+1,1))","v":1490},0,0]
["1495","-1900","-1900-1491",null,null,null,null,null,null,null,null,null,null,null,null,null,null,null,null,null,null,{"$f":"IF(M$2021=1,\"\",IF(U1503=\"\",\"\",VLOOKUP(U1503,Tabelle!$D$5:$H$7,5,FALSE)))","v":""},{"$f":"IF(M$2021=1,\"\",IF(U1503=\"\",\"\",VLOOKUP(U1503,Tabelle!$D$5:$I$7,6,FALSE)))","v":""},null,null,null,null,null,null,null,null,null,null,null,{"$f":"IF(B1503=\"\",0,IF(B1503=B1502,COUNTIF(B$9:B1502,B1503)+1,1))","v":1491},0,0]
["1496","-1900","-1900-1492",null,null,null,null,null,null,null,null,null,null,null,null,null,null,null,null,null,null,{"$f":"IF(M$2021=1,\"\",IF(U1504=\"\",\"\",VLOOKUP(U1504,Tabelle!$D$5:$H$7,5,FALSE)))","v":""},{"$f":"IF(M$2021=1,\"\",IF(U1504=\"\",\"\",VLOOKUP(U1504,Tabelle!$D$5:$I$7,6,FALSE)))","v":""},null,null,null,null,null,null,null,null,null,null,null,{"$f":"IF(B1504=\"\",0,IF(B1504=B1503,COUNTIF(B$9:B1503,B1504)+1,1))","v":1492},0,0]
["1497","-1900","-1900-1493",null,null,null,null,null,null,null,null,null,null,null,null,null,null,null,null,null,null,{"$f":"IF(M$2021=1,\"\",IF(U1505=\"\",\"\",VLOOKUP(U1505,Tabelle!$D$5:$H$7,5,FALSE)))","v":""},{"$f":"IF(M$2021=1,\"\",IF(U1505=\"\",\"\",VLOOKUP(U1505,Tabelle!$D$5:$I$7,6,FALSE)))","v":""},null,null,null,null,null,null,null,null,null,null,null,{"$f":"IF(B1505=\"\",0,IF(B1505=B1504,COUNTIF(B$9:B1504,B1505)+1,1))","v":1493},0,0]
["1498","-1900","-1900-1494",null,null,null,null,null,null,null,null,null,null,null,null,null,null,null,null,null,null,{"$f":"IF(M$2021=1,\"\",IF(U1506=\"\",\"\",VLOOKUP(U1506,Tabelle!$D$5:$H$7,5,FALSE)))","v":""},{"$f":"IF(M$2021=1,\"\",IF(U1506=\"\",\"\",VLOOKUP(U1506,Tabelle!$D$5:$I$7,6,FALSE)))","v":""},null,null,null,null,null,null,null,null,null,null,null,{"$f":"IF(B1506=\"\",0,IF(B1506=B1505,COUNTIF(B$9:B1505,B1506)+1,1))","v":1494},0,0]
["1499","-1900","-1900-1495",null,null,null,null,null,null,null,null,null,null,null,null,null,null,null,null,null,null,{"$f":"IF(M$2021=1,\"\",IF(U1507=\"\",\"\",VLOOKUP(U1507,Tabelle!$D$5:$H$7,5,FALSE)))","v":""},{"$f":"IF(M$2021=1,\"\",IF(U1507=\"\",\"\",VLOOKUP(U1507,Tabelle!$D$5:$I$7,6,FALSE)))","v":""},null,null,null,null,null,null,null,null,null,null,null,{"$f":"IF(B1507=\"\",0,IF(B1507=B1506,COUNTIF(B$9:B1506,B1507)+1,1))","v":1495},0,0]
["1500 di 2000","-1900","-1900-1496",null,null,null,null,null,null,null,null,null,null,null,null,null,null,null,null,null,null,{"$f":"IF(M$2021=1,\"\",IF(U1508=\"\",\"\",VLOOKUP(U1508,Tabelle!$D$5:$H$7,5,FALSE)))","v":""},{"$f":"IF(M$2021=1,\"\",IF(U1508=\"\",\"\",VLOOKUP(U1508,Tabelle!$D$5:$I$7,6,FALSE)))","v":""},null,null,null,null,null,null,null,null,null,null,null,{"$f":"IF(B1508=\"\",0,IF(B1508=B1507,COUNTIF(B$9:B1507,B1508)+1,1))","v":1496},0,0]
["1501","-1900","-1900-1497",null,null,null,null,null,null,null,null,null,null,null,null,null,null,null,null,null,null,{"$f":"IF(M$2021=1,\"\",IF(U1509=\"\",\"\",VLOOKUP(U1509,Tabelle!$D$5:$H$7,5,FALSE)))","v":""},{"$f":"IF(M$2021=1,\"\",IF(U1509=\"\",\"\",VLOOKUP(U1509,Tabelle!$D$5:$I$7,6,FALSE)))","v":""},null,null,null,null,null,null,null,null,null,null,null,{"$f":"IF(B1509=\"\",0,IF(B1509=B1508,COUNTIF(B$9:B1508,B1509)+1,1))","v":1497},0,0]
["1502","-1900","-1900-1498",null,null,null,null,null,null,null,null,null,null,null,null,null,null,null,null,null,null,{"$f":"IF(M$2021=1,\"\",IF(U1510=\"\",\"\",VLOOKUP(U1510,Tabelle!$D$5:$H$7,5,FALSE)))","v":""},{"$f":"IF(M$2021=1,\"\",IF(U1510=\"\",\"\",VLOOKUP(U1510,Tabelle!$D$5:$I$7,6,FALSE)))","v":""},null,null,null,null,null,null,null,null,null,null,null,{"$f":"IF(B1510=\"\",0,IF(B1510=B1509,COUNTIF(B$9:B1509,B1510)+1,1))","v":1498},0,0]
["1503","-1900","-1900-1499",null,null,null,null,null,null,null,null,null,null,null,null,null,null,null,null,null,null,{"$f":"IF(M$2021=1,\"\",IF(U1511=\"\",\"\",VLOOKUP(U1511,Tabelle!$D$5:$H$7,5,FALSE)))","v":""},{"$f":"IF(M$2021=1,\"\",IF(U1511=\"\",\"\",VLOOKUP(U1511,Tabelle!$D$5:$I$7,6,FALSE)))","v":""},null,null,null,null,null,null,null,null,null,null,null,{"$f":"IF(B1511=\"\",0,IF(B1511=B1510,COUNTIF(B$9:B1510,B1511)+1,1))","v":1499},0,0]
["1504","-1900","-1900-1500",null,null,null,null,null,null,null,null,null,null,null,null,null,null,null,null,null,null,{"$f":"IF(M$2021=1,\"\",IF(U1512=\"\",\"\",VLOOKUP(U1512,Tabelle!$D$5:$H$7,5,FALSE)))","v":""},{"$f":"IF(M$2021=1,\"\",IF(U1512=\"\",\"\",VLOOKUP(U1512,Tabelle!$D$5:$I$7,6,FALSE)))","v":""},null,null,null,null,null,null,null,null,null,null,null,{"$f":"IF(B1512=\"\",0,IF(B1512=B1511,COUNTIF(B$9:B1511,B1512)+1,1))","v":1500},0,0]
["1505","-1900","-1900-1501",null,null,null,null,null,null,null,null,null,null,null,null,null,null,null,null,null,null,{"$f":"IF(M$2021=1,\"\",IF(U1513=\"\",\"\",VLOOKUP(U1513,Tabelle!$D$5:$H$7,5,FALSE)))","v":""},{"$f":"IF(M$2021=1,\"\",IF(U1513=\"\",\"\",VLOOKUP(U1513,Tabelle!$D$5:$I$7,6,FALSE)))","v":""},null,null,null,null,null,null,null,null,null,null,null,{"$f":"IF(B1513=\"\",0,IF(B1513=B1512,COUNTIF(B$9:B1512,B1513)+1,1))","v":1501},0,0]
["1506","-1900","-1900-1502",null,null,null,null,null,null,null,null,null,null,null,null,null,null,null,null,null,null,{"$f":"IF(M$2021=1,\"\",IF(U1514=\"\",\"\",VLOOKUP(U1514,Tabelle!$D$5:$H$7,5,FALSE)))","v":""},{"$f":"IF(M$2021=1,\"\",IF(U1514=\"\",\"\",VLOOKUP(U1514,Tabelle!$D$5:$I$7,6,FALSE)))","v":""},null,null,null,null,null,null,null,null,null,null,null,{"$f":"IF(B1514=\"\",0,IF(B1514=B1513,COUNTIF(B$9:B1513,B1514)+1,1))","v":1502},0,0]
["1507","-1900","-1900-1503",null,null,null,null,null,null,null,null,null,null,null,null,null,null,null,null,null,null,{"$f":"IF(M$2021=1,\"\",IF(U1515=\"\",\"\",VLOOKUP(U1515,Tabelle!$D$5:$H$7,5,FALSE)))","v":""},{"$f":"IF(M$2021=1,\"\",IF(U1515=\"\",\"\",VLOOKUP(U1515,Tabelle!$D$5:$I$7,6,FALSE)))","v":""},null,null,null,null,null,null,null,null,null,null,null,{"$f":"IF(B1515=\"\",0,IF(B1515=B1514,COUNTIF(B$9:B1514,B1515)+1,1))","v":1503},0,0]
["1508","-1900","-1900-1504",null,null,null,null,null,null,null,null,null,null,null,null,null,null,null,null,null,null,{"$f":"IF(M$2021=1,\"\",IF(U1516=\"\",\"\",VLOOKUP(U1516,Tabelle!$D$5:$H$7,5,FALSE)))","v":""},{"$f":"IF(M$2021=1,\"\",IF(U1516=\"\",\"\",VLOOKUP(U1516,Tabelle!$D$5:$I$7,6,FALSE)))","v":""},null,null,null,null,null,null,null,null,null,null,null,{"$f":"IF(B1516=\"\",0,IF(B1516=B1515,COUNTIF(B$9:B1515,B1516)+1,1))","v":1504},0,0]
["1509","-1900","-1900-1505",null,null,null,null,null,null,null,null,null,null,null,null,null,null,null,null,null,null,{"$f":"IF(M$2021=1,\"\",IF(U1517=\"\",\"\",VLOOKUP(U1517,Tabelle!$D$5:$H$7,5,FALSE)))","v":""},{"$f":"IF(M$2021=1,\"\",IF(U1517=\"\",\"\",VLOOKUP(U1517,Tabelle!$D$5:$I$7,6,FALSE)))","v":""},null,null,null,null,null,null,null,null,null,null,null,{"$f":"IF(B1517=\"\",0,IF(B1517=B1516,COUNTIF(B$9:B1516,B1517)+1,1))","v":1505},0,0]
["1510","-1900","-1900-1506",null,null,null,null,null,null,null,null,null,null,null,null,null,null,null,null,null,null,{"$f":"IF(M$2021=1,\"\",IF(U1518=\"\",\"\",VLOOKUP(U1518,Tabelle!$D$5:$H$7,5,FALSE)))","v":""},{"$f":"IF(M$2021=1,\"\",IF(U1518=\"\",\"\",VLOOKUP(U1518,Tabelle!$D$5:$I$7,6,FALSE)))","v":""},null,null,null,null,null,null,null,null,null,null,null,{"$f":"IF(B1518=\"\",0,IF(B1518=B1517,COUNTIF(B$9:B1517,B1518)+1,1))","v":1506},0,0]
["1511","-1900","-1900-1507",null,null,null,null,null,null,null,null,null,null,null,null,null,null,null,null,null,null,{"$f":"IF(M$2021=1,\"\",IF(U1519=\"\",\"\",VLOOKUP(U1519,Tabelle!$D$5:$H$7,5,FALSE)))","v":""},{"$f":"IF(M$2021=1,\"\",IF(U1519=\"\",\"\",VLOOKUP(U1519,Tabelle!$D$5:$I$7,6,FALSE)))","v":""},null,null,null,null,null,null,null,null,null,null,null,{"$f":"IF(B1519=\"\",0,IF(B1519=B1518,COUNTIF(B$9:B1518,B1519)+1,1))","v":1507},0,0]
["1512","-1900","-1900-1508",null,null,null,null,null,null,null,null,null,null,null,null,null,null,null,null,null,null,{"$f":"IF(M$2021=1,\"\",IF(U1520=\"\",\"\",VLOOKUP(U1520,Tabelle!$D$5:$H$7,5,FALSE)))","v":""},{"$f":"IF(M$2021=1,\"\",IF(U1520=\"\",\"\",VLOOKUP(U1520,Tabelle!$D$5:$I$7,6,FALSE)))","v":""},null,null,null,null,null,null,null,null,null,null,null,{"$f":"IF(B1520=\"\",0,IF(B1520=B1519,COUNTIF(B$9:B1519,B1520)+1,1))","v":1508},0,0]
["1513","-1900","-1900-1509",null,null,null,null,null,null,null,null,null,null,null,null,null,null,null,null,null,null,{"$f":"IF(M$2021=1,\"\",IF(U1521=\"\",\"\",VLOOKUP(U1521,Tabelle!$D$5:$H$7,5,FALSE)))","v":""},{"$f":"IF(M$2021=1,\"\",IF(U1521=\"\",\"\",VLOOKUP(U1521,Tabelle!$D$5:$I$7,6,FALSE)))","v":""},null,null,null,null,null,null,null,null,null,null,null,{"$f":"IF(B1521=\"\",0,IF(B1521=B1520,COUNTIF(B$9:B1520,B1521)+1,1))","v":1509},0,0]
["1514","-1900","-1900-1510",null,null,null,null,null,null,null,null,null,null,null,null,null,null,null,null,null,null,{"$f":"IF(M$2021=1,\"\",IF(U1522=\"\",\"\",VLOOKUP(U1522,Tabelle!$D$5:$H$7,5,FALSE)))","v":""},{"$f":"IF(M$2021=1,\"\",IF(U1522=\"\",\"\",VLOOKUP(U1522,Tabelle!$D$5:$I$7,6,FALSE)))","v":""},null,null,null,null,null,null,null,null,null,null,null,{"$f":"IF(B1522=\"\",0,IF(B1522=B1521,COUNTIF(B$9:B1521,B1522)+1,1))","v":1510},0,0]
["1515","-1900","-1900-1511",null,null,null,null,null,null,null,null,null,null,null,null,null,null,null,null,null,null,{"$f":"IF(M$2021=1,\"\",IF(U1523=\"\",\"\",VLOOKUP(U1523,Tabelle!$D$5:$H$7,5,FALSE)))","v":""},{"$f":"IF(M$2021=1,\"\",IF(U1523=\"\",\"\",VLOOKUP(U1523,Tabelle!$D$5:$I$7,6,FALSE)))","v":""},null,null,null,null,null,null,null,null,null,null,null,{"$f":"IF(B1523=\"\",0,IF(B1523=B1522,COUNTIF(B$9:B1522,B1523)+1,1))","v":1511},0,0]
["1516","-1900","-1900-1512",null,null,null,null,null,null,null,null,null,null,null,null,null,null,null,null,null,null,{"$f":"IF(M$2021=1,\"\",IF(U1524=\"\",\"\",VLOOKUP(U1524,Tabelle!$D$5:$H$7,5,FALSE)))","v":""},{"$f":"IF(M$2021=1,\"\",IF(U1524=\"\",\"\",VLOOKUP(U1524,Tabelle!$D$5:$I$7,6,FALSE)))","v":""},null,null,null,null,null,null,null,null,null,null,null,{"$f":"IF(B1524=\"\",0,IF(B1524=B1523,COUNTIF(B$9:B1523,B1524)+1,1))","v":1512},0,0]
["1517","-1900","-1900-1513",null,null,null,null,null,null,null,null,null,null,null,null,null,null,null,null,null,null,{"$f":"IF(M$2021=1,\"\",IF(U1525=\"\",\"\",VLOOKUP(U1525,Tabelle!$D$5:$H$7,5,FALSE)))","v":""},{"$f":"IF(M$2021=1,\"\",IF(U1525=\"\",\"\",VLOOKUP(U1525,Tabelle!$D$5:$I$7,6,FALSE)))","v":""},null,null,null,null,null,null,null,null,null,null,null,{"$f":"IF(B1525=\"\",0,IF(B1525=B1524,COUNTIF(B$9:B1524,B1525)+1,1))","v":1513},0,0]
["1518","-1900","-1900-1514",null,null,null,null,null,null,null,null,null,null,null,null,null,null,null,null,null,null,{"$f":"IF(M$2021=1,\"\",IF(U1526=\"\",\"\",VLOOKUP(U1526,Tabelle!$D$5:$H$7,5,FALSE)))","v":""},{"$f":"IF(M$2021=1,\"\",IF(U1526=\"\",\"\",VLOOKUP(U1526,Tabelle!$D$5:$I$7,6,FALSE)))","v":""},null,null,null,null,null,null,null,null,null,null,null,{"$f":"IF(B1526=\"\",0,IF(B1526=B1525,COUNTIF(B$9:B1525,B1526)+1,1))","v":1514},0,0]
["1519","-1900","-1900-1515",null,null,null,null,null,null,null,null,null,null,null,null,null,null,null,null,null,null,{"$f":"IF(M$2021=1,\"\",IF(U1527=\"\",\"\",VLOOKUP(U1527,Tabelle!$D$5:$H$7,5,FALSE)))","v":""},{"$f":"IF(M$2021=1,\"\",IF(U1527=\"\",\"\",VLOOKUP(U1527,Tabelle!$D$5:$I$7,6,FALSE)))","v":""},null,null,null,null,null,null,null,null,null,null,null,{"$f":"IF(B1527=\"\",0,IF(B1527=B1526,COUNTIF(B$9:B1526,B1527)+1,1))","v":1515},0,0]
["1520","-1900","-1900-1516",null,null,null,null,null,null,null,null,null,null,null,null,null,null,null,null,null,null,{"$f":"IF(M$2021=1,\"\",IF(U1528=\"\",\"\",VLOOKUP(U1528,Tabelle!$D$5:$H$7,5,FALSE)))","v":""},{"$f":"IF(M$2021=1,\"\",IF(U1528=\"\",\"\",VLOOKUP(U1528,Tabelle!$D$5:$I$7,6,FALSE)))","v":""},null,null,null,null,null,null,null,null,null,null,null,{"$f":"IF(B1528=\"\",0,IF(B1528=B1527,COUNTIF(B$9:B1527,B1528)+1,1))","v":1516},0,0]
["1521","-1900","-1900-1517",null,null,null,null,null,null,null,null,null,null,null,null,null,null,null,null,null,null,{"$f":"IF(M$2021=1,\"\",IF(U1529=\"\",\"\",VLOOKUP(U1529,Tabelle!$D$5:$H$7,5,FALSE)))","v":""},{"$f":"IF(M$2021=1,\"\",IF(U1529=\"\",\"\",VLOOKUP(U1529,Tabelle!$D$5:$I$7,6,FALSE)))","v":""},null,null,null,null,null,null,null,null,null,null,null,{"$f":"IF(B1529=\"\",0,IF(B1529=B1528,COUNTIF(B$9:B1528,B1529)+1,1))","v":1517},0,0]
["1522","-1900","-1900-1518",null,null,null,null,null,null,null,null,null,null,null,null,null,null,null,null,null,null,{"$f":"IF(M$2021=1,\"\",IF(U1530=\"\",\"\",VLOOKUP(U1530,Tabelle!$D$5:$H$7,5,FALSE)))","v":""},{"$f":"IF(M$2021=1,\"\",IF(U1530=\"\",\"\",VLOOKUP(U1530,Tabelle!$D$5:$I$7,6,FALSE)))","v":""},null,null,null,null,null,null,null,null,null,null,null,{"$f":"IF(B1530=\"\",0,IF(B1530=B1529,COUNTIF(B$9:B1529,B1530)+1,1))","v":1518},0,0]
["1523","-1900","-1900-1519",null,null,null,null,null,null,null,null,null,null,null,null,null,null,null,null,null,null,{"$f":"IF(M$2021=1,\"\",IF(U1531=\"\",\"\",VLOOKUP(U1531,Tabelle!$D$5:$H$7,5,FALSE)))","v":""},{"$f":"IF(M$2021=1,\"\",IF(U1531=\"\",\"\",VLOOKUP(U1531,Tabelle!$D$5:$I$7,6,FALSE)))","v":""},null,null,null,null,null,null,null,null,null,null,null,{"$f":"IF(B1531=\"\",0,IF(B1531=B1530,COUNTIF(B$9:B1530,B1531)+1,1))","v":1519},0,0]
["1524","-1900","-1900-1520",null,null,null,null,null,null,null,null,null,null,null,null,null,null,null,null,null,null,{"$f":"IF(M$2021=1,\"\",IF(U1532=\"\",\"\",VLOOKUP(U1532,Tabelle!$D$5:$H$7,5,FALSE)))","v":""},{"$f":"IF(M$2021=1,\"\",IF(U1532=\"\",\"\",VLOOKUP(U1532,Tabelle!$D$5:$I$7,6,FALSE)))","v":""},null,null,null,null,null,null,null,null,null,null,null,{"$f":"IF(B1532=\"\",0,IF(B1532=B1531,COUNTIF(B$9:B1531,B1532)+1,1))","v":1520},0,0]
["1525","-1900","-1900-1521",null,null,null,null,null,null,null,null,null,null,null,null,null,null,null,null,null,null,{"$f":"IF(M$2021=1,\"\",IF(U1533=\"\",\"\",VLOOKUP(U1533,Tabelle!$D$5:$H$7,5,FALSE)))","v":""},{"$f":"IF(M$2021=1,\"\",IF(U1533=\"\",\"\",VLOOKUP(U1533,Tabelle!$D$5:$I$7,6,FALSE)))","v":""},null,null,null,null,null,null,null,null,null,null,null,{"$f":"IF(B1533=\"\",0,IF(B1533=B1532,COUNTIF(B$9:B1532,B1533)+1,1))","v":1521},0,0]
["1526","-1900","-1900-1522",null,null,null,null,null,null,null,null,null,null,null,null,null,null,null,null,null,null,{"$f":"IF(M$2021=1,\"\",IF(U1534=\"\",\"\",VLOOKUP(U1534,Tabelle!$D$5:$H$7,5,FALSE)))","v":""},{"$f":"IF(M$2021=1,\"\",IF(U1534=\"\",\"\",VLOOKUP(U1534,Tabelle!$D$5:$I$7,6,FALSE)))","v":""},null,null,null,null,null,null,null,null,null,null,null,{"$f":"IF(B1534=\"\",0,IF(B1534=B1533,COUNTIF(B$9:B1533,B1534)+1,1))","v":1522},0,0]
["1527","-1900","-1900-1523",null,null,null,null,null,null,null,null,null,null,null,null,null,null,null,null,null,null,{"$f":"IF(M$2021=1,\"\",IF(U1535=\"\",\"\",VLOOKUP(U1535,Tabelle!$D$5:$H$7,5,FALSE)))","v":""},{"$f":"IF(M$2021=1,\"\",IF(U1535=\"\",\"\",VLOOKUP(U1535,Tabelle!$D$5:$I$7,6,FALSE)))","v":""},null,null,null,null,null,null,null,null,null,null,null,{"$f":"IF(B1535=\"\",0,IF(B1535=B1534,COUNTIF(B$9:B1534,B1535)+1,1))","v":1523},0,0]
["1528","-1900","-1900-1524",null,null,null,null,null,null,null,null,null,null,null,null,null,null,null,null,null,null,{"$f":"IF(M$2021=1,\"\",IF(U1536=\"\",\"\",VLOOKUP(U1536,Tabelle!$D$5:$H$7,5,FALSE)))","v":""},{"$f":"IF(M$2021=1,\"\",IF(U1536=\"\",\"\",VLOOKUP(U1536,Tabelle!$D$5:$I$7,6,FALSE)))","v":""},null,null,null,null,null,null,null,null,null,null,null,{"$f":"IF(B1536=\"\",0,IF(B1536=B1535,COUNTIF(B$9:B1535,B1536)+1,1))","v":1524},0,0]
["1529","-1900","-1900-1525",null,null,null,null,null,null,null,null,null,null,null,null,null,null,null,null,null,null,{"$f":"IF(M$2021=1,\"\",IF(U1537=\"\",\"\",VLOOKUP(U1537,Tabelle!$D$5:$H$7,5,FALSE)))","v":""},{"$f":"IF(M$2021=1,\"\",IF(U1537=\"\",\"\",VLOOKUP(U1537,Tabelle!$D$5:$I$7,6,FALSE)))","v":""},null,null,null,null,null,null,null,null,null,null,null,{"$f":"IF(B1537=\"\",0,IF(B1537=B1536,COUNTIF(B$9:B1536,B1537)+1,1))","v":1525},0,0]
["1530","-1900","-1900-1526",null,null,null,null,null,null,null,null,null,null,null,null,null,null,null,null,null,null,{"$f":"IF(M$2021=1,\"\",IF(U1538=\"\",\"\",VLOOKUP(U1538,Tabelle!$D$5:$H$7,5,FALSE)))","v":""},{"$f":"IF(M$2021=1,\"\",IF(U1538=\"\",\"\",VLOOKUP(U1538,Tabelle!$D$5:$I$7,6,FALSE)))","v":""},null,null,null,null,null,null,null,null,null,null,null,{"$f":"IF(B1538=\"\",0,IF(B1538=B1537,COUNTIF(B$9:B1537,B1538)+1,1))","v":1526},0,0]
["1531","-1900","-1900-1527",null,null,null,null,null,null,null,null,null,null,null,null,null,null,null,null,null,null,{"$f":"IF(M$2021=1,\"\",IF(U1539=\"\",\"\",VLOOKUP(U1539,Tabelle!$D$5:$H$7,5,FALSE)))","v":""},{"$f":"IF(M$2021=1,\"\",IF(U1539=\"\",\"\",VLOOKUP(U1539,Tabelle!$D$5:$I$7,6,FALSE)))","v":""},null,null,null,null,null,null,null,null,null,null,null,{"$f":"IF(B1539=\"\",0,IF(B1539=B1538,COUNTIF(B$9:B1538,B1539)+1,1))","v":1527},0,0]
["1532","-1900","-1900-1528",null,null,null,null,null,null,null,null,null,null,null,null,null,null,null,null,null,null,{"$f":"IF(M$2021=1,\"\",IF(U1540=\"\",\"\",VLOOKUP(U1540,Tabelle!$D$5:$H$7,5,FALSE)))","v":""},{"$f":"IF(M$2021=1,\"\",IF(U1540=\"\",\"\",VLOOKUP(U1540,Tabelle!$D$5:$I$7,6,FALSE)))","v":""},null,null,null,null,null,null,null,null,null,null,null,{"$f":"IF(B1540=\"\",0,IF(B1540=B1539,COUNTIF(B$9:B1539,B1540)+1,1))","v":1528},0,0]
["1533","-1900","-1900-1529",null,null,null,null,null,null,null,null,null,null,null,null,null,null,null,null,null,null,{"$f":"IF(M$2021=1,\"\",IF(U1541=\"\",\"\",VLOOKUP(U1541,Tabelle!$D$5:$H$7,5,FALSE)))","v":""},{"$f":"IF(M$2021=1,\"\",IF(U1541=\"\",\"\",VLOOKUP(U1541,Tabelle!$D$5:$I$7,6,FALSE)))","v":""},null,null,null,null,null,null,null,null,null,null,null,{"$f":"IF(B1541=\"\",0,IF(B1541=B1540,COUNTIF(B$9:B1540,B1541)+1,1))","v":1529},0,0]
["1534","-1900","-1900-1530",null,null,null,null,null,null,null,null,null,null,null,null,null,null,null,null,null,null,{"$f":"IF(M$2021=1,\"\",IF(U1542=\"\",\"\",VLOOKUP(U1542,Tabelle!$D$5:$H$7,5,FALSE)))","v":""},{"$f":"IF(M$2021=1,\"\",IF(U1542=\"\",\"\",VLOOKUP(U1542,Tabelle!$D$5:$I$7,6,FALSE)))","v":""},null,null,null,null,null,null,null,null,null,null,null,{"$f":"IF(B1542=\"\",0,IF(B1542=B1541,COUNTIF(B$9:B1541,B1542)+1,1))","v":1530},0,0]
["1535","-1900","-1900-1531",null,null,null,null,null,null,null,null,null,null,null,null,null,null,null,null,null,null,{"$f":"IF(M$2021=1,\"\",IF(U1543=\"\",\"\",VLOOKUP(U1543,Tabelle!$D$5:$H$7,5,FALSE)))","v":""},{"$f":"IF(M$2021=1,\"\",IF(U1543=\"\",\"\",VLOOKUP(U1543,Tabelle!$D$5:$I$7,6,FALSE)))","v":""},null,null,null,null,null,null,null,null,null,null,null,{"$f":"IF(B1543=\"\",0,IF(B1543=B1542,COUNTIF(B$9:B1542,B1543)+1,1))","v":1531},0,0]
["1536","-1900","-1900-1532",null,null,null,null,null,null,null,null,null,null,null,null,null,null,null,null,null,null,{"$f":"IF(M$2021=1,\"\",IF(U1544=\"\",\"\",VLOOKUP(U1544,Tabelle!$D$5:$H$7,5,FALSE)))","v":""},{"$f":"IF(M$2021=1,\"\",IF(U1544=\"\",\"\",VLOOKUP(U1544,Tabelle!$D$5:$I$7,6,FALSE)))","v":""},null,null,null,null,null,null,null,null,null,null,null,{"$f":"IF(B1544=\"\",0,IF(B1544=B1543,COUNTIF(B$9:B1543,B1544)+1,1))","v":1532},0,0]
["1537","-1900",{"$f":"IF(M$2021=1,0,B1545&\"-\"&AI1545)","v":"-1900-1533"},null,null,null,null,null,null,null,null,null,null,null,null,null,null,null,null,null,null,{"$f":"IF(M$2021=1,\"\",IF(U1545=\"\",\"\",VLOOKUP(U1545,Tabelle!$D$5:$H$7,5,FALSE)))","v":""},{"$f":"IF(M$2021=1,\"\",IF(U1545=\"\",\"\",VLOOKUP(U1545,Tabelle!$D$5:$I$7,6,FALSE)))","v":""},null,null,null,null,null,null,null,null,null,null,null,{"$f":"IF(B1545=\"\",0,IF(B1545=B1544,COUNTIF(B$9:B1544,B1545)+1,1))","v":1533},0,0]
["1538",{"$f":"IF(AK1546=$AK$2015,0,IF(M$2021=1,0,D1546&\"-\"&YEAR(E1546)))","v":"-1900"},"-1900-1534",null,null,null,null,null,null,null,null,null,null,null,null,null,null,null,null,null,null,{"$f":"IF(M$2021=1,\"\",IF(U1546=\"\",\"\",VLOOKUP(U1546,Tabelle!$D$5:$H$7,5,FALSE)))","v":""},{"$f":"IF(M$2021=1,\"\",IF(U1546=\"\",\"\",VLOOKUP(U1546,Tabelle!$D$5:$I$7,6,FALSE)))","v":""},null,null,null,null,null,null,null,null,null,null,null,{"$f":"IF(B1546=\"\",0,IF(B1546=B1545,COUNTIF(B$9:B1545,B1546)+1,1))","v":1534},{"$f":"IF(OR(D1546=\"\",M$2021=1),0,IF(AI1546=10,1,0))","v":0},{"$f":"IF(E1546>0,IF(OR(MONTH(E1546)<$J$2027,MONTH(E1546)>$J$2028),AK$2015,0),0)","v":0}]
["1539","-1900","-1900-1535",null,null,null,null,null,null,null,null,null,null,null,null,null,null,null,null,null,null,{"$f":"IF(M$2021=1,\"\",IF(U1547=\"\",\"\",VLOOKUP(U1547,Tabelle!$D$5:$H$7,5,FALSE)))","v":""},{"$f":"IF(M$2021=1,\"\",IF(U1547=\"\",\"\",VLOOKUP(U1547,Tabelle!$D$5:$I$7,6,FALSE)))","v":""},null,null,null,null,null,null,null,null,null,null,null,{"$f":"IF(B1547=\"\",0,IF(B1547=B1546,COUNTIF(B$9:B1546,B1547)+1,1))","v":1535},0,0]
["1540","-1900","-1900-1536",null,null,null,null,null,null,null,null,null,null,null,null,null,null,null,null,null,null,{"$f":"IF(M$2021=1,\"\",IF(U1548=\"\",\"\",VLOOKUP(U1548,Tabelle!$D$5:$H$7,5,FALSE)))","v":""},{"$f":"IF(M$2021=1,\"\",IF(U1548=\"\",\"\",VLOOKUP(U1548,Tabelle!$D$5:$I$7,6,FALSE)))","v":""},null,null,null,null,null,null,null,null,null,null,null,{"$f":"IF(B1548=\"\",0,IF(B1548=B1547,COUNTIF(B$9:B1547,B1548)+1,1))","v":1536},0,0]
["1541","-1900","-1900-1537",null,null,null,null,null,null,null,null,null,null,null,null,null,null,null,null,null,null,{"$f":"IF(M$2021=1,\"\",IF(U1549=\"\",\"\",VLOOKUP(U1549,Tabelle!$D$5:$H$7,5,FALSE)))","v":""},{"$f":"IF(M$2021=1,\"\",IF(U1549=\"\",\"\",VLOOKUP(U1549,Tabelle!$D$5:$I$7,6,FALSE)))","v":""},null,null,null,null,null,null,null,null,null,null,null,{"$f":"IF(B1549=\"\",0,IF(B1549=B1548,COUNTIF(B$9:B1548,B1549)+1,1))","v":1537},0,0]
["1542","-1900","-1900-1538",null,null,null,null,null,null,null,null,null,null,null,null,null,null,null,null,null,null,{"$f":"IF(M$2021=1,\"\",IF(U1550=\"\",\"\",VLOOKUP(U1550,Tabelle!$D$5:$H$7,5,FALSE)))","v":""},{"$f":"IF(M$2021=1,\"\",IF(U1550=\"\",\"\",VLOOKUP(U1550,Tabelle!$D$5:$I$7,6,FALSE)))","v":""},null,null,null,null,null,null,null,null,null,null,null,{"$f":"IF(B1550=\"\",0,IF(B1550=B1549,COUNTIF(B$9:B1549,B1550)+1,1))","v":1538},0,0]
["1543","-1900","-1900-1539",null,null,null,null,null,null,null,null,null,null,null,null,null,null,null,null,null,null,{"$f":"IF(M$2021=1,\"\",IF(U1551=\"\",\"\",VLOOKUP(U1551,Tabelle!$D$5:$H$7,5,FALSE)))","v":""},{"$f":"IF(M$2021=1,\"\",IF(U1551=\"\",\"\",VLOOKUP(U1551,Tabelle!$D$5:$I$7,6,FALSE)))","v":""},null,null,null,null,null,null,null,null,null,null,null,{"$f":"IF(B1551=\"\",0,IF(B1551=B1550,COUNTIF(B$9:B1550,B1551)+1,1))","v":1539},0,0]
["1544","-1900","-1900-1540",null,null,null,null,null,null,null,null,null,null,null,null,null,null,null,null,null,null,{"$f":"IF(M$2021=1,\"\",IF(U1552=\"\",\"\",VLOOKUP(U1552,Tabelle!$D$5:$H$7,5,FALSE)))","v":""},{"$f":"IF(M$2021=1,\"\",IF(U1552=\"\",\"\",VLOOKUP(U1552,Tabelle!$D$5:$I$7,6,FALSE)))","v":""},null,null,null,null,null,null,null,null,null,null,null,{"$f":"IF(B1552=\"\",0,IF(B1552=B1551,COUNTIF(B$9:B1551,B1552)+1,1))","v":1540},0,0]
["1545","-1900","-1900-1541",null,null,null,null,null,null,null,null,null,null,null,null,null,null,null,null,null,null,{"$f":"IF(M$2021=1,\"\",IF(U1553=\"\",\"\",VLOOKUP(U1553,Tabelle!$D$5:$H$7,5,FALSE)))","v":""},{"$f":"IF(M$2021=1,\"\",IF(U1553=\"\",\"\",VLOOKUP(U1553,Tabelle!$D$5:$I$7,6,FALSE)))","v":""},null,null,null,null,null,null,null,null,null,null,null,{"$f":"IF(B1553=\"\",0,IF(B1553=B1552,COUNTIF(B$9:B1552,B1553)+1,1))","v":1541},0,0]
["1546","-1900","-1900-1542",null,null,null,null,null,null,null,null,null,null,null,null,null,null,null,null,null,null,{"$f":"IF(M$2021=1,\"\",IF(U1554=\"\",\"\",VLOOKUP(U1554,Tabelle!$D$5:$H$7,5,FALSE)))","v":""},{"$f":"IF(M$2021=1,\"\",IF(U1554=\"\",\"\",VLOOKUP(U1554,Tabelle!$D$5:$I$7,6,FALSE)))","v":""},null,null,null,null,null,null,null,null,null,null,null,{"$f":"IF(B1554=\"\",0,IF(B1554=B1553,COUNTIF(B$9:B1553,B1554)+1,1))","v":1542},0,0]
["1547","-1900","-1900-1543",null,null,null,null,null,null,null,null,null,null,null,null,null,null,null,null,null,null,{"$f":"IF(M$2021=1,\"\",IF(U1555=\"\",\"\",VLOOKUP(U1555,Tabelle!$D$5:$H$7,5,FALSE)))","v":""},{"$f":"IF(M$2021=1,\"\",IF(U1555=\"\",\"\",VLOOKUP(U1555,Tabelle!$D$5:$I$7,6,FALSE)))","v":""},null,null,null,null,null,null,null,null,null,null,null,{"$f":"IF(B1555=\"\",0,IF(B1555=B1554,COUNTIF(B$9:B1554,B1555)+1,1))","v":1543},0,0]
["1548","-1900","-1900-1544",null,null,null,null,null,null,null,null,null,null,null,null,null,null,null,null,null,null,{"$f":"IF(M$2021=1,\"\",IF(U1556=\"\",\"\",VLOOKUP(U1556,Tabelle!$D$5:$H$7,5,FALSE)))","v":""},{"$f":"IF(M$2021=1,\"\",IF(U1556=\"\",\"\",VLOOKUP(U1556,Tabelle!$D$5:$I$7,6,FALSE)))","v":""},null,null,null,null,null,null,null,null,null,null,null,{"$f":"IF(B1556=\"\",0,IF(B1556=B1555,COUNTIF(B$9:B1555,B1556)+1,1))","v":1544},0,0]
["1549","-1900","-1900-1545",null,null,null,null,null,null,null,null,null,null,null,null,null,null,null,null,null,null,{"$f":"IF(M$2021=1,\"\",IF(U1557=\"\",\"\",VLOOKUP(U1557,Tabelle!$D$5:$H$7,5,FALSE)))","v":""},{"$f":"IF(M$2021=1,\"\",IF(U1557=\"\",\"\",VLOOKUP(U1557,Tabelle!$D$5:$I$7,6,FALSE)))","v":""},null,null,null,null,null,null,null,null,null,null,null,{"$f":"IF(B1557=\"\",0,IF(B1557=B1556,COUNTIF(B$9:B1556,B1557)+1,1))","v":1545},0,0]
["1550","-1900","-1900-1546",null,null,null,null,null,null,null,null,null,null,null,null,null,null,null,null,null,null,{"$f":"IF(M$2021=1,\"\",IF(U1558=\"\",\"\",VLOOKUP(U1558,Tabelle!$D$5:$H$7,5,FALSE)))","v":""},{"$f":"IF(M$2021=1,\"\",IF(U1558=\"\",\"\",VLOOKUP(U1558,Tabelle!$D$5:$I$7,6,FALSE)))","v":""},null,null,null,null,null,null,null,null,null,null,null,{"$f":"IF(B1558=\"\",0,IF(B1558=B1557,COUNTIF(B$9:B1557,B1558)+1,1))","v":1546},0,0]
["1551","-1900","-1900-1547",null,null,null,null,null,null,null,null,null,null,null,null,null,null,null,null,null,null,{"$f":"IF(M$2021=1,\"\",IF(U1559=\"\",\"\",VLOOKUP(U1559,Tabelle!$D$5:$H$7,5,FALSE)))","v":""},{"$f":"IF(M$2021=1,\"\",IF(U1559=\"\",\"\",VLOOKUP(U1559,Tabelle!$D$5:$I$7,6,FALSE)))","v":""},null,null,null,null,null,null,null,null,null,null,null,{"$f":"IF(B1559=\"\",0,IF(B1559=B1558,COUNTIF(B$9:B1558,B1559)+1,1))","v":1547},0,0]
["1552","-1900","-1900-1548",null,null,null,null,null,null,null,null,null,null,null,null,null,null,null,null,null,null,{"$f":"IF(M$2021=1,\"\",IF(U1560=\"\",\"\",VLOOKUP(U1560,Tabelle!$D$5:$H$7,5,FALSE)))","v":""},{"$f":"IF(M$2021=1,\"\",IF(U1560=\"\",\"\",VLOOKUP(U1560,Tabelle!$D$5:$I$7,6,FALSE)))","v":""},null,null,null,null,null,null,null,null,null,null,null,{"$f":"IF(B1560=\"\",0,IF(B1560=B1559,COUNTIF(B$9:B1559,B1560)+1,1))","v":1548},0,0]
["1553","-1900","-1900-1549",null,null,null,null,null,null,null,null,null,null,null,null,null,null,null,null,null,null,{"$f":"IF(M$2021=1,\"\",IF(U1561=\"\",\"\",VLOOKUP(U1561,Tabelle!$D$5:$H$7,5,FALSE)))","v":""},{"$f":"IF(M$2021=1,\"\",IF(U1561=\"\",\"\",VLOOKUP(U1561,Tabelle!$D$5:$I$7,6,FALSE)))","v":""},null,null,null,null,null,null,null,null,null,null,null,{"$f":"IF(B1561=\"\",0,IF(B1561=B1560,COUNTIF(B$9:B1560,B1561)+1,1))","v":1549},0,0]
["1554","-1900","-1900-1550",null,null,null,null,null,null,null,null,null,null,null,null,null,null,null,null,null,null,{"$f":"IF(M$2021=1,\"\",IF(U1562=\"\",\"\",VLOOKUP(U1562,Tabelle!$D$5:$H$7,5,FALSE)))","v":""},{"$f":"IF(M$2021=1,\"\",IF(U1562=\"\",\"\",VLOOKUP(U1562,Tabelle!$D$5:$I$7,6,FALSE)))","v":""},null,null,null,null,null,null,null,null,null,null,null,{"$f":"IF(B1562=\"\",0,IF(B1562=B1561,COUNTIF(B$9:B1561,B1562)+1,1))","v":1550},0,0]
["1555","-1900","-1900-1551",null,null,null,null,null,null,null,null,null,null,null,null,null,null,null,null,null,null,{"$f":"IF(M$2021=1,\"\",IF(U1563=\"\",\"\",VLOOKUP(U1563,Tabelle!$D$5:$H$7,5,FALSE)))","v":""},{"$f":"IF(M$2021=1,\"\",IF(U1563=\"\",\"\",VLOOKUP(U1563,Tabelle!$D$5:$I$7,6,FALSE)))","v":""},null,null,null,null,null,null,null,null,null,null,null,{"$f":"IF(B1563=\"\",0,IF(B1563=B1562,COUNTIF(B$9:B1562,B1563)+1,1))","v":1551},0,0]
["1556","-1900","-1900-1552",null,null,null,null,null,null,null,null,null,null,null,null,null,null,null,null,null,null,{"$f":"IF(M$2021=1,\"\",IF(U1564=\"\",\"\",VLOOKUP(U1564,Tabelle!$D$5:$H$7,5,FALSE)))","v":""},{"$f":"IF(M$2021=1,\"\",IF(U1564=\"\",\"\",VLOOKUP(U1564,Tabelle!$D$5:$I$7,6,FALSE)))","v":""},null,null,null,null,null,null,null,null,null,null,null,{"$f":"IF(B1564=\"\",0,IF(B1564=B1563,COUNTIF(B$9:B1563,B1564)+1,1))","v":1552},0,0]
["1557","-1900","-1900-1553",null,null,null,null,null,null,null,null,null,null,null,null,null,null,null,null,null,null,{"$f":"IF(M$2021=1,\"\",IF(U1565=\"\",\"\",VLOOKUP(U1565,Tabelle!$D$5:$H$7,5,FALSE)))","v":""},{"$f":"IF(M$2021=1,\"\",IF(U1565=\"\",\"\",VLOOKUP(U1565,Tabelle!$D$5:$I$7,6,FALSE)))","v":""},null,null,null,null,null,null,null,null,null,null,null,{"$f":"IF(B1565=\"\",0,IF(B1565=B1564,COUNTIF(B$9:B1564,B1565)+1,1))","v":1553},0,0]
["1558","-1900","-1900-1554",null,null,null,null,null,null,null,null,null,null,null,null,null,null,null,null,null,null,{"$f":"IF(M$2021=1,\"\",IF(U1566=\"\",\"\",VLOOKUP(U1566,Tabelle!$D$5:$H$7,5,FALSE)))","v":""},{"$f":"IF(M$2021=1,\"\",IF(U1566=\"\",\"\",VLOOKUP(U1566,Tabelle!$D$5:$I$7,6,FALSE)))","v":""},null,null,null,null,null,null,null,null,null,null,null,{"$f":"IF(B1566=\"\",0,IF(B1566=B1565,COUNTIF(B$9:B1565,B1566)+1,1))","v":1554},0,0]
["1559","-1900","-1900-1555",null,null,null,null,null,null,null,null,null,null,null,null,null,null,null,null,null,null,{"$f":"IF(M$2021=1,\"\",IF(U1567=\"\",\"\",VLOOKUP(U1567,Tabelle!$D$5:$H$7,5,FALSE)))","v":""},{"$f":"IF(M$2021=1,\"\",IF(U1567=\"\",\"\",VLOOKUP(U1567,Tabelle!$D$5:$I$7,6,FALSE)))","v":""},null,null,null,null,null,null,null,null,null,null,null,{"$f":"IF(B1567=\"\",0,IF(B1567=B1566,COUNTIF(B$9:B1566,B1567)+1,1))","v":1555},0,0]
["1560","-1900","-1900-1556",null,null,null,null,null,null,null,null,null,null,null,null,null,null,null,null,null,null,{"$f":"IF(M$2021=1,\"\",IF(U1568=\"\",\"\",VLOOKUP(U1568,Tabelle!$D$5:$H$7,5,FALSE)))","v":""},{"$f":"IF(M$2021=1,\"\",IF(U1568=\"\",\"\",VLOOKUP(U1568,Tabelle!$D$5:$I$7,6,FALSE)))","v":""},null,null,null,null,null,null,null,null,null,null,null,{"$f":"IF(B1568=\"\",0,IF(B1568=B1567,COUNTIF(B$9:B1567,B1568)+1,1))","v":1556},0,0]
["1561","-1900","-1900-1557",null,null,null,null,null,null,null,null,null,null,null,null,null,null,null,null,null,null,{"$f":"IF(M$2021=1,\"\",IF(U1569=\"\",\"\",VLOOKUP(U1569,Tabelle!$D$5:$H$7,5,FALSE)))","v":""},{"$f":"IF(M$2021=1,\"\",IF(U1569=\"\",\"\",VLOOKUP(U1569,Tabelle!$D$5:$I$7,6,FALSE)))","v":""},null,null,null,null,null,null,null,null,null,null,null,{"$f":"IF(B1569=\"\",0,IF(B1569=B1568,COUNTIF(B$9:B1568,B1569)+1,1))","v":1557},0,0]
["1562","-1900","-1900-1558",null,null,null,null,null,null,null,null,null,null,null,null,null,null,null,null,null,null,{"$f":"IF(M$2021=1,\"\",IF(U1570=\"\",\"\",VLOOKUP(U1570,Tabelle!$D$5:$H$7,5,FALSE)))","v":""},{"$f":"IF(M$2021=1,\"\",IF(U1570=\"\",\"\",VLOOKUP(U1570,Tabelle!$D$5:$I$7,6,FALSE)))","v":""},null,null,null,null,null,null,null,null,null,null,null,{"$f":"IF(B1570=\"\",0,IF(B1570=B1569,COUNTIF(B$9:B1569,B1570)+1,1))","v":1558},0,0]
["1563","-1900","-1900-1559",null,null,null,null,null,null,null,null,null,null,null,null,null,null,null,null,null,null,{"$f":"IF(M$2021=1,\"\",IF(U1571=\"\",\"\",VLOOKUP(U1571,Tabelle!$D$5:$H$7,5,FALSE)))","v":""},{"$f":"IF(M$2021=1,\"\",IF(U1571=\"\",\"\",VLOOKUP(U1571,Tabelle!$D$5:$I$7,6,FALSE)))","v":""},null,null,null,null,null,null,null,null,null,null,null,{"$f":"IF(B1571=\"\",0,IF(B1571=B1570,COUNTIF(B$9:B1570,B1571)+1,1))","v":1559},0,0]
["1564","-1900","-1900-1560",null,null,null,null,null,null,null,null,null,null,null,null,null,null,null,null,null,null,{"$f":"IF(M$2021=1,\"\",IF(U1572=\"\",\"\",VLOOKUP(U1572,Tabelle!$D$5:$H$7,5,FALSE)))","v":""},{"$f":"IF(M$2021=1,\"\",IF(U1572=\"\",\"\",VLOOKUP(U1572,Tabelle!$D$5:$I$7,6,FALSE)))","v":""},null,null,null,null,null,null,null,null,null,null,null,{"$f":"IF(B1572=\"\",0,IF(B1572=B1571,COUNTIF(B$9:B1571,B1572)+1,1))","v":1560},0,0]
["1565","-1900","-1900-1561",null,null,null,null,null,null,null,null,null,null,null,null,null,null,null,null,null,null,{"$f":"IF(M$2021=1,\"\",IF(U1573=\"\",\"\",VLOOKUP(U1573,Tabelle!$D$5:$H$7,5,FALSE)))","v":""},{"$f":"IF(M$2021=1,\"\",IF(U1573=\"\",\"\",VLOOKUP(U1573,Tabelle!$D$5:$I$7,6,FALSE)))","v":""},null,null,null,null,null,null,null,null,null,null,null,{"$f":"IF(B1573=\"\",0,IF(B1573=B1572,COUNTIF(B$9:B1572,B1573)+1,1))","v":1561},0,0]
["1566","-1900","-1900-1562",null,null,null,null,null,null,null,null,null,null,null,null,null,null,null,null,null,null,{"$f":"IF(M$2021=1,\"\",IF(U1574=\"\",\"\",VLOOKUP(U1574,Tabelle!$D$5:$H$7,5,FALSE)))","v":""},{"$f":"IF(M$2021=1,\"\",IF(U1574=\"\",\"\",VLOOKUP(U1574,Tabelle!$D$5:$I$7,6,FALSE)))","v":""},null,null,null,null,null,null,null,null,null,null,null,{"$f":"IF(B1574=\"\",0,IF(B1574=B1573,COUNTIF(B$9:B1573,B1574)+1,1))","v":1562},0,0]
["1567","-1900","-1900-1563",null,null,null,null,null,null,null,null,null,null,null,null,null,null,null,null,null,null,{"$f":"IF(M$2021=1,\"\",IF(U1575=\"\",\"\",VLOOKUP(U1575,Tabelle!$D$5:$H$7,5,FALSE)))","v":""},{"$f":"IF(M$2021=1,\"\",IF(U1575=\"\",\"\",VLOOKUP(U1575,Tabelle!$D$5:$I$7,6,FALSE)))","v":""},null,null,null,null,null,null,null,null,null,null,null,{"$f":"IF(B1575=\"\",0,IF(B1575=B1574,COUNTIF(B$9:B1574,B1575)+1,1))","v":1563},0,0]
["1568","-1900","-1900-1564",null,null,null,null,null,null,null,null,null,null,null,null,null,null,null,null,null,null,{"$f":"IF(M$2021=1,\"\",IF(U1576=\"\",\"\",VLOOKUP(U1576,Tabelle!$D$5:$H$7,5,FALSE)))","v":""},{"$f":"IF(M$2021=1,\"\",IF(U1576=\"\",\"\",VLOOKUP(U1576,Tabelle!$D$5:$I$7,6,FALSE)))","v":""},null,null,null,null,null,null,null,null,null,null,null,{"$f":"IF(B1576=\"\",0,IF(B1576=B1575,COUNTIF(B$9:B1575,B1576)+1,1))","v":1564},0,0]
["1569","-1900","-1900-1565",null,null,null,null,null,null,null,null,null,null,null,null,null,null,null,null,null,null,{"$f":"IF(M$2021=1,\"\",IF(U1577=\"\",\"\",VLOOKUP(U1577,Tabelle!$D$5:$H$7,5,FALSE)))","v":""},{"$f":"IF(M$2021=1,\"\",IF(U1577=\"\",\"\",VLOOKUP(U1577,Tabelle!$D$5:$I$7,6,FALSE)))","v":""},null,null,null,null,null,null,null,null,null,null,null,{"$f":"IF(B1577=\"\",0,IF(B1577=B1576,COUNTIF(B$9:B1576,B1577)+1,1))","v":1565},0,0]
["1570","-1900","-1900-1566",null,null,null,null,null,null,null,null,null,null,null,null,null,null,null,null,null,null,{"$f":"IF(M$2021=1,\"\",IF(U1578=\"\",\"\",VLOOKUP(U1578,Tabelle!$D$5:$H$7,5,FALSE)))","v":""},{"$f":"IF(M$2021=1,\"\",IF(U1578=\"\",\"\",VLOOKUP(U1578,Tabelle!$D$5:$I$7,6,FALSE)))","v":""},null,null,null,null,null,null,null,null,null,null,null,{"$f":"IF(B1578=\"\",0,IF(B1578=B1577,COUNTIF(B$9:B1577,B1578)+1,1))","v":1566},0,0]
["1571","-1900","-1900-1567",null,null,null,null,null,null,null,null,null,null,null,null,null,null,null,null,null,null,{"$f":"IF(M$2021=1,\"\",IF(U1579=\"\",\"\",VLOOKUP(U1579,Tabelle!$D$5:$H$7,5,FALSE)))","v":""},{"$f":"IF(M$2021=1,\"\",IF(U1579=\"\",\"\",VLOOKUP(U1579,Tabelle!$D$5:$I$7,6,FALSE)))","v":""},null,null,null,null,null,null,null,null,null,null,null,{"$f":"IF(B1579=\"\",0,IF(B1579=B1578,COUNTIF(B$9:B1578,B1579)+1,1))","v":1567},0,0]
["1572","-1900","-1900-1568",null,null,null,null,null,null,null,null,null,null,null,null,null,null,null,null,null,null,{"$f":"IF(M$2021=1,\"\",IF(U1580=\"\",\"\",VLOOKUP(U1580,Tabelle!$D$5:$H$7,5,FALSE)))","v":""},{"$f":"IF(M$2021=1,\"\",IF(U1580=\"\",\"\",VLOOKUP(U1580,Tabelle!$D$5:$I$7,6,FALSE)))","v":""},null,null,null,null,null,null,null,null,null,null,null,{"$f":"IF(B1580=\"\",0,IF(B1580=B1579,COUNTIF(B$9:B1579,B1580)+1,1))","v":1568},0,0]
["1573","-1900","-1900-1569",null,null,null,null,null,null,null,null,null,null,null,null,null,null,null,null,null,null,{"$f":"IF(M$2021=1,\"\",IF(U1581=\"\",\"\",VLOOKUP(U1581,Tabelle!$D$5:$H$7,5,FALSE)))","v":""},{"$f":"IF(M$2021=1,\"\",IF(U1581=\"\",\"\",VLOOKUP(U1581,Tabelle!$D$5:$I$7,6,FALSE)))","v":""},null,null,null,null,null,null,null,null,null,null,null,{"$f":"IF(B1581=\"\",0,IF(B1581=B1580,COUNTIF(B$9:B1580,B1581)+1,1))","v":1569},0,0]
["1574","-1900","-1900-1570",null,null,null,null,null,null,null,null,null,null,null,null,null,null,null,null,null,null,{"$f":"IF(M$2021=1,\"\",IF(U1582=\"\",\"\",VLOOKUP(U1582,Tabelle!$D$5:$H$7,5,FALSE)))","v":""},{"$f":"IF(M$2021=1,\"\",IF(U1582=\"\",\"\",VLOOKUP(U1582,Tabelle!$D$5:$I$7,6,FALSE)))","v":""},null,null,null,null,null,null,null,null,null,null,null,{"$f":"IF(B1582=\"\",0,IF(B1582=B1581,COUNTIF(B$9:B1581,B1582)+1,1))","v":1570},0,0]
["1575","-1900","-1900-1571",null,null,null,null,null,null,null,null,null,null,null,null,null,null,null,null,null,null,{"$f":"IF(M$2021=1,\"\",IF(U1583=\"\",\"\",VLOOKUP(U1583,Tabelle!$D$5:$H$7,5,FALSE)))","v":""},{"$f":"IF(M$2021=1,\"\",IF(U1583=\"\",\"\",VLOOKUP(U1583,Tabelle!$D$5:$I$7,6,FALSE)))","v":""},null,null,null,null,null,null,null,null,null,null,null,{"$f":"IF(B1583=\"\",0,IF(B1583=B1582,COUNTIF(B$9:B1582,B1583)+1,1))","v":1571},0,0]
["1576","-1900","-1900-1572",null,null,null,null,null,null,null,null,null,null,null,null,null,null,null,null,null,null,{"$f":"IF(M$2021=1,\"\",IF(U1584=\"\",\"\",VLOOKUP(U1584,Tabelle!$D$5:$H$7,5,FALSE)))","v":""},{"$f":"IF(M$2021=1,\"\",IF(U1584=\"\",\"\",VLOOKUP(U1584,Tabelle!$D$5:$I$7,6,FALSE)))","v":""},null,null,null,null,null,null,null,null,null,null,null,{"$f":"IF(B1584=\"\",0,IF(B1584=B1583,COUNTIF(B$9:B1583,B1584)+1,1))","v":1572},0,0]
["1577","-1900","-1900-1573",null,null,null,null,null,null,null,null,null,null,null,null,null,null,null,null,null,null,{"$f":"IF(M$2021=1,\"\",IF(U1585=\"\",\"\",VLOOKUP(U1585,Tabelle!$D$5:$H$7,5,FALSE)))","v":""},{"$f":"IF(M$2021=1,\"\",IF(U1585=\"\",\"\",VLOOKUP(U1585,Tabelle!$D$5:$I$7,6,FALSE)))","v":""},null,null,null,null,null,null,null,null,null,null,null,{"$f":"IF(B1585=\"\",0,IF(B1585=B1584,COUNTIF(B$9:B1584,B1585)+1,1))","v":1573},0,0]
["1578","-1900","-1900-1574",null,null,null,null,null,null,null,null,null,null,null,null,null,null,null,null,null,null,{"$f":"IF(M$2021=1,\"\",IF(U1586=\"\",\"\",VLOOKUP(U1586,Tabelle!$D$5:$H$7,5,FALSE)))","v":""},{"$f":"IF(M$2021=1,\"\",IF(U1586=\"\",\"\",VLOOKUP(U1586,Tabelle!$D$5:$I$7,6,FALSE)))","v":""},null,null,null,null,null,null,null,null,null,null,null,{"$f":"IF(B1586=\"\",0,IF(B1586=B1585,COUNTIF(B$9:B1585,B1586)+1,1))","v":1574},0,0]
["1579","-1900","-1900-1575",null,null,null,null,null,null,null,null,null,null,null,null,null,null,null,null,null,null,{"$f":"IF(M$2021=1,\"\",IF(U1587=\"\",\"\",VLOOKUP(U1587,Tabelle!$D$5:$H$7,5,FALSE)))","v":""},{"$f":"IF(M$2021=1,\"\",IF(U1587=\"\",\"\",VLOOKUP(U1587,Tabelle!$D$5:$I$7,6,FALSE)))","v":""},null,null,null,null,null,null,null,null,null,null,null,{"$f":"IF(B1587=\"\",0,IF(B1587=B1586,COUNTIF(B$9:B1586,B1587)+1,1))","v":1575},0,0]
["1580","-1900","-1900-1576",null,null,null,null,null,null,null,null,null,null,null,null,null,null,null,null,null,null,{"$f":"IF(M$2021=1,\"\",IF(U1588=\"\",\"\",VLOOKUP(U1588,Tabelle!$D$5:$H$7,5,FALSE)))","v":""},{"$f":"IF(M$2021=1,\"\",IF(U1588=\"\",\"\",VLOOKUP(U1588,Tabelle!$D$5:$I$7,6,FALSE)))","v":""},null,null,null,null,null,null,null,null,null,null,null,{"$f":"IF(B1588=\"\",0,IF(B1588=B1587,COUNTIF(B$9:B1587,B1588)+1,1))","v":1576},0,0]
["1581","-1900","-1900-1577",null,null,null,null,null,null,null,null,null,null,null,null,null,null,null,null,null,null,{"$f":"IF(M$2021=1,\"\",IF(U1589=\"\",\"\",VLOOKUP(U1589,Tabelle!$D$5:$H$7,5,FALSE)))","v":""},{"$f":"IF(M$2021=1,\"\",IF(U1589=\"\",\"\",VLOOKUP(U1589,Tabelle!$D$5:$I$7,6,FALSE)))","v":""},null,null,null,null,null,null,null,null,null,null,null,{"$f":"IF(B1589=\"\",0,IF(B1589=B1588,COUNTIF(B$9:B1588,B1589)+1,1))","v":1577},0,0]
["1582","-1900","-1900-1578",null,null,null,null,null,null,null,null,null,null,null,null,null,null,null,null,null,null,{"$f":"IF(M$2021=1,\"\",IF(U1590=\"\",\"\",VLOOKUP(U1590,Tabelle!$D$5:$H$7,5,FALSE)))","v":""},{"$f":"IF(M$2021=1,\"\",IF(U1590=\"\",\"\",VLOOKUP(U1590,Tabelle!$D$5:$I$7,6,FALSE)))","v":""},null,null,null,null,null,null,null,null,null,null,null,{"$f":"IF(B1590=\"\",0,IF(B1590=B1589,COUNTIF(B$9:B1589,B1590)+1,1))","v":1578},0,0]
["1583","-1900","-1900-1579",null,null,null,null,null,null,null,null,null,null,null,null,null,null,null,null,null,null,{"$f":"IF(M$2021=1,\"\",IF(U1591=\"\",\"\",VLOOKUP(U1591,Tabelle!$D$5:$H$7,5,FALSE)))","v":""},{"$f":"IF(M$2021=1,\"\",IF(U1591=\"\",\"\",VLOOKUP(U1591,Tabelle!$D$5:$I$7,6,FALSE)))","v":""},null,null,null,null,null,null,null,null,null,null,null,{"$f":"IF(B1591=\"\",0,IF(B1591=B1590,COUNTIF(B$9:B1590,B1591)+1,1))","v":1579},0,0]
["1584","-1900","-1900-1580",null,null,null,null,null,null,null,null,null,null,null,null,null,null,null,null,null,null,{"$f":"IF(M$2021=1,\"\",IF(U1592=\"\",\"\",VLOOKUP(U1592,Tabelle!$D$5:$H$7,5,FALSE)))","v":""},{"$f":"IF(M$2021=1,\"\",IF(U1592=\"\",\"\",VLOOKUP(U1592,Tabelle!$D$5:$I$7,6,FALSE)))","v":""},null,null,null,null,null,null,null,null,null,null,null,{"$f":"IF(B1592=\"\",0,IF(B1592=B1591,COUNTIF(B$9:B1591,B1592)+1,1))","v":1580},0,0]
["1585","-1900","-1900-1581",null,null,null,null,null,null,null,null,null,null,null,null,null,null,null,null,null,null,{"$f":"IF(M$2021=1,\"\",IF(U1593=\"\",\"\",VLOOKUP(U1593,Tabelle!$D$5:$H$7,5,FALSE)))","v":""},{"$f":"IF(M$2021=1,\"\",IF(U1593=\"\",\"\",VLOOKUP(U1593,Tabelle!$D$5:$I$7,6,FALSE)))","v":""},null,null,null,null,null,null,null,null,null,null,null,{"$f":"IF(B1593=\"\",0,IF(B1593=B1592,COUNTIF(B$9:B1592,B1593)+1,1))","v":1581},0,0]
["1586","-1900","-1900-1582",null,null,null,null,null,null,null,null,null,null,null,null,null,null,null,null,null,null,{"$f":"IF(M$2021=1,\"\",IF(U1594=\"\",\"\",VLOOKUP(U1594,Tabelle!$D$5:$H$7,5,FALSE)))","v":""},{"$f":"IF(M$2021=1,\"\",IF(U1594=\"\",\"\",VLOOKUP(U1594,Tabelle!$D$5:$I$7,6,FALSE)))","v":""},null,null,null,null,null,null,null,null,null,null,null,{"$f":"IF(B1594=\"\",0,IF(B1594=B1593,COUNTIF(B$9:B1593,B1594)+1,1))","v":1582},0,0]
["1587","-1900","-1900-1583",null,null,null,null,null,null,null,null,null,null,null,null,null,null,null,null,null,null,{"$f":"IF(M$2021=1,\"\",IF(U1595=\"\",\"\",VLOOKUP(U1595,Tabelle!$D$5:$H$7,5,FALSE)))","v":""},{"$f":"IF(M$2021=1,\"\",IF(U1595=\"\",\"\",VLOOKUP(U1595,Tabelle!$D$5:$I$7,6,FALSE)))","v":""},null,null,null,null,null,null,null,null,null,null,null,{"$f":"IF(B1595=\"\",0,IF(B1595=B1594,COUNTIF(B$9:B1594,B1595)+1,1))","v":1583},0,0]
["1588","-1900","-1900-1584",null,null,null,null,null,null,null,null,null,null,null,null,null,null,null,null,null,null,{"$f":"IF(M$2021=1,\"\",IF(U1596=\"\",\"\",VLOOKUP(U1596,Tabelle!$D$5:$H$7,5,FALSE)))","v":""},{"$f":"IF(M$2021=1,\"\",IF(U1596=\"\",\"\",VLOOKUP(U1596,Tabelle!$D$5:$I$7,6,FALSE)))","v":""},null,null,null,null,null,null,null,null,null,null,null,{"$f":"IF(B1596=\"\",0,IF(B1596=B1595,COUNTIF(B$9:B1595,B1596)+1,1))","v":1584},0,0]
["1589","-1900","-1900-1585",null,null,null,null,null,null,null,null,null,null,null,null,null,null,null,null,null,null,{"$f":"IF(M$2021=1,\"\",IF(U1597=\"\",\"\",VLOOKUP(U1597,Tabelle!$D$5:$H$7,5,FALSE)))","v":""},{"$f":"IF(M$2021=1,\"\",IF(U1597=\"\",\"\",VLOOKUP(U1597,Tabelle!$D$5:$I$7,6,FALSE)))","v":""},null,null,null,null,null,null,null,null,null,null,null,{"$f":"IF(B1597=\"\",0,IF(B1597=B1596,COUNTIF(B$9:B1596,B1597)+1,1))","v":1585},0,0]
["1590","-1900","-1900-1586",null,null,null,null,null,null,null,null,null,null,null,null,null,null,null,null,null,null,{"$f":"IF(M$2021=1,\"\",IF(U1598=\"\",\"\",VLOOKUP(U1598,Tabelle!$D$5:$H$7,5,FALSE)))","v":""},{"$f":"IF(M$2021=1,\"\",IF(U1598=\"\",\"\",VLOOKUP(U1598,Tabelle!$D$5:$I$7,6,FALSE)))","v":""},null,null,null,null,null,null,null,null,null,null,null,{"$f":"IF(B1598=\"\",0,IF(B1598=B1597,COUNTIF(B$9:B1597,B1598)+1,1))","v":1586},0,0]
["1591","-1900","-1900-1587",null,null,null,null,null,null,null,null,null,null,null,null,null,null,null,null,null,null,{"$f":"IF(M$2021=1,\"\",IF(U1599=\"\",\"\",VLOOKUP(U1599,Tabelle!$D$5:$H$7,5,FALSE)))","v":""},{"$f":"IF(M$2021=1,\"\",IF(U1599=\"\",\"\",VLOOKUP(U1599,Tabelle!$D$5:$I$7,6,FALSE)))","v":""},null,null,null,null,null,null,null,null,null,null,null,{"$f":"IF(B1599=\"\",0,IF(B1599=B1598,COUNTIF(B$9:B1598,B1599)+1,1))","v":1587},0,0]
["1592","-1900","-1900-1588",null,null,null,null,null,null,null,null,null,null,null,null,null,null,null,null,null,null,{"$f":"IF(M$2021=1,\"\",IF(U1600=\"\",\"\",VLOOKUP(U1600,Tabelle!$D$5:$H$7,5,FALSE)))","v":""},{"$f":"IF(M$2021=1,\"\",IF(U1600=\"\",\"\",VLOOKUP(U1600,Tabelle!$D$5:$I$7,6,FALSE)))","v":""},null,null,null,null,null,null,null,null,null,null,null,{"$f":"IF(B1600=\"\",0,IF(B1600=B1599,COUNTIF(B$9:B1599,B1600)+1,1))","v":1588},0,0]
["1593","-1900","-1900-1589",null,null,null,null,null,null,null,null,null,null,null,null,null,null,null,null,null,null,{"$f":"IF(M$2021=1,\"\",IF(U1601=\"\",\"\",VLOOKUP(U1601,Tabelle!$D$5:$H$7,5,FALSE)))","v":""},{"$f":"IF(M$2021=1,\"\",IF(U1601=\"\",\"\",VLOOKUP(U1601,Tabelle!$D$5:$I$7,6,FALSE)))","v":""},null,null,null,null,null,null,null,null,null,null,null,{"$f":"IF(B1601=\"\",0,IF(B1601=B1600,COUNTIF(B$9:B1600,B1601)+1,1))","v":1589},0,0]
["1594","-1900","-1900-1590",null,null,null,null,null,null,null,null,null,null,null,null,null,null,null,null,null,null,{"$f":"IF(M$2021=1,\"\",IF(U1602=\"\",\"\",VLOOKUP(U1602,Tabelle!$D$5:$H$7,5,FALSE)))","v":""},{"$f":"IF(M$2021=1,\"\",IF(U1602=\"\",\"\",VLOOKUP(U1602,Tabelle!$D$5:$I$7,6,FALSE)))","v":""},null,null,null,null,null,null,null,null,null,null,null,{"$f":"IF(B1602=\"\",0,IF(B1602=B1601,COUNTIF(B$9:B1601,B1602)+1,1))","v":1590},0,0]
["1595","-1900","-1900-1591",null,null,null,null,null,null,null,null,null,null,null,null,null,null,null,null,null,null,{"$f":"IF(M$2021=1,\"\",IF(U1603=\"\",\"\",VLOOKUP(U1603,Tabelle!$D$5:$H$7,5,FALSE)))","v":""},{"$f":"IF(M$2021=1,\"\",IF(U1603=\"\",\"\",VLOOKUP(U1603,Tabelle!$D$5:$I$7,6,FALSE)))","v":""},null,null,null,null,null,null,null,null,null,null,null,{"$f":"IF(B1603=\"\",0,IF(B1603=B1602,COUNTIF(B$9:B1602,B1603)+1,1))","v":1591},0,0]
["1596","-1900","-1900-1592",null,null,null,null,null,null,null,null,null,null,null,null,null,null,null,null,null,null,{"$f":"IF(M$2021=1,\"\",IF(U1604=\"\",\"\",VLOOKUP(U1604,Tabelle!$D$5:$H$7,5,FALSE)))","v":""},{"$f":"IF(M$2021=1,\"\",IF(U1604=\"\",\"\",VLOOKUP(U1604,Tabelle!$D$5:$I$7,6,FALSE)))","v":""},null,null,null,null,null,null,null,null,null,null,null,{"$f":"IF(B1604=\"\",0,IF(B1604=B1603,COUNTIF(B$9:B1603,B1604)+1,1))","v":1592},0,0]
["1597","-1900","-1900-1593",null,null,null,null,null,null,null,null,null,null,null,null,null,null,null,null,null,null,{"$f":"IF(M$2021=1,\"\",IF(U1605=\"\",\"\",VLOOKUP(U1605,Tabelle!$D$5:$H$7,5,FALSE)))","v":""},{"$f":"IF(M$2021=1,\"\",IF(U1605=\"\",\"\",VLOOKUP(U1605,Tabelle!$D$5:$I$7,6,FALSE)))","v":""},null,null,null,null,null,null,null,null,null,null,null,{"$f":"IF(B1605=\"\",0,IF(B1605=B1604,COUNTIF(B$9:B1604,B1605)+1,1))","v":1593},0,0]
["1598","-1900","-1900-1594",null,null,null,null,null,null,null,null,null,null,null,null,null,null,null,null,null,null,{"$f":"IF(M$2021=1,\"\",IF(U1606=\"\",\"\",VLOOKUP(U1606,Tabelle!$D$5:$H$7,5,FALSE)))","v":""},{"$f":"IF(M$2021=1,\"\",IF(U1606=\"\",\"\",VLOOKUP(U1606,Tabelle!$D$5:$I$7,6,FALSE)))","v":""},null,null,null,null,null,null,null,null,null,null,null,{"$f":"IF(B1606=\"\",0,IF(B1606=B1605,COUNTIF(B$9:B1605,B1606)+1,1))","v":1594},0,0]
["1599","-1900","-1900-1595",null,null,null,null,null,null,null,null,null,null,null,null,null,null,null,null,null,null,{"$f":"IF(M$2021=1,\"\",IF(U1607=\"\",\"\",VLOOKUP(U1607,Tabelle!$D$5:$H$7,5,FALSE)))","v":""},{"$f":"IF(M$2021=1,\"\",IF(U1607=\"\",\"\",VLOOKUP(U1607,Tabelle!$D$5:$I$7,6,FALSE)))","v":""},null,null,null,null,null,null,null,null,null,null,null,{"$f":"IF(B1607=\"\",0,IF(B1607=B1606,COUNTIF(B$9:B1606,B1607)+1,1))","v":1595},0,0]
["1600","-1900","-1900-1596",null,null,null,null,null,null,null,null,null,null,null,null,null,null,null,null,null,null,{"$f":"IF(M$2021=1,\"\",IF(U1608=\"\",\"\",VLOOKUP(U1608,Tabelle!$D$5:$H$7,5,FALSE)))","v":""},{"$f":"IF(M$2021=1,\"\",IF(U1608=\"\",\"\",VLOOKUP(U1608,Tabelle!$D$5:$I$7,6,FALSE)))","v":""},null,null,null,null,null,null,null,null,null,null,null,{"$f":"IF(B1608=\"\",0,IF(B1608=B1607,COUNTIF(B$9:B1607,B1608)+1,1))","v":1596},0,0]
["1601","-1900",{"$f":"IF(M$2021=1,0,B1609&\"-\"&AI1609)","v":"-1900-1597"},null,null,null,null,null,null,null,null,null,null,null,null,null,null,null,null,null,null,{"$f":"IF(M$2021=1,\"\",IF(U1609=\"\",\"\",VLOOKUP(U1609,Tabelle!$D$5:$H$7,5,FALSE)))","v":""},{"$f":"IF(M$2021=1,\"\",IF(U1609=\"\",\"\",VLOOKUP(U1609,Tabelle!$D$5:$I$7,6,FALSE)))","v":""},null,null,null,null,null,null,null,null,null,null,null,{"$f":"IF(B1609=\"\",0,IF(B1609=B1608,COUNTIF(B$9:B1608,B1609)+1,1))","v":1597},0,0]
["1602",{"$f":"IF(AK1610=$AK$2015,0,IF(M$2021=1,0,D1610&\"-\"&YEAR(E1610)))","v":"-1900"},"-1900-1598",null,null,null,null,null,null,null,null,null,null,null,null,null,null,null,null,null,null,{"$f":"IF(M$2021=1,\"\",IF(U1610=\"\",\"\",VLOOKUP(U1610,Tabelle!$D$5:$H$7,5,FALSE)))","v":""},{"$f":"IF(M$2021=1,\"\",IF(U1610=\"\",\"\",VLOOKUP(U1610,Tabelle!$D$5:$I$7,6,FALSE)))","v":""},null,null,null,null,null,null,null,null,null,null,null,{"$f":"IF(B1610=\"\",0,IF(B1610=B1609,COUNTIF(B$9:B1609,B1610)+1,1))","v":1598},{"$f":"IF(OR(D1610=\"\",M$2021=1),0,IF(AI1610=10,1,0))","v":0},{"$f":"IF(E1610>0,IF(OR(MONTH(E1610)<$J$2027,MONTH(E1610)>$J$2028),AK$2015,0),0)","v":0}]
["1603","-1900","-1900-1599",null,null,null,null,null,null,null,null,null,null,null,null,null,null,null,null,null,null,{"$f":"IF(M$2021=1,\"\",IF(U1611=\"\",\"\",VLOOKUP(U1611,Tabelle!$D$5:$H$7,5,FALSE)))","v":""},{"$f":"IF(M$2021=1,\"\",IF(U1611=\"\",\"\",VLOOKUP(U1611,Tabelle!$D$5:$I$7,6,FALSE)))","v":""},null,null,null,null,null,null,null,null,null,null,null,{"$f":"IF(B1611=\"\",0,IF(B1611=B1610,COUNTIF(B$9:B1610,B1611)+1,1))","v":1599},0,0]
["1604","-1900","-1900-1600",null,null,null,null,null,null,null,null,null,null,null,null,null,null,null,null,null,null,{"$f":"IF(M$2021=1,\"\",IF(U1612=\"\",\"\",VLOOKUP(U1612,Tabelle!$D$5:$H$7,5,FALSE)))","v":""},{"$f":"IF(M$2021=1,\"\",IF(U1612=\"\",\"\",VLOOKUP(U1612,Tabelle!$D$5:$I$7,6,FALSE)))","v":""},null,null,null,null,null,null,null,null,null,null,null,{"$f":"IF(B1612=\"\",0,IF(B1612=B1611,COUNTIF(B$9:B1611,B1612)+1,1))","v":1600},0,0]
["1605","-1900","-1900-1601",null,null,null,null,null,null,null,null,null,null,null,null,null,null,null,null,null,null,{"$f":"IF(M$2021=1,\"\",IF(U1613=\"\",\"\",VLOOKUP(U1613,Tabelle!$D$5:$H$7,5,FALSE)))","v":""},{"$f":"IF(M$2021=1,\"\",IF(U1613=\"\",\"\",VLOOKUP(U1613,Tabelle!$D$5:$I$7,6,FALSE)))","v":""},null,null,null,null,null,null,null,null,null,null,null,{"$f":"IF(B1613=\"\",0,IF(B1613=B1612,COUNTIF(B$9:B1612,B1613)+1,1))","v":1601},0,0]
["1606","-1900","-1900-1602",null,null,null,null,null,null,null,null,null,null,null,null,null,null,null,null,null,null,{"$f":"IF(M$2021=1,\"\",IF(U1614=\"\",\"\",VLOOKUP(U1614,Tabelle!$D$5:$H$7,5,FALSE)))","v":""},{"$f":"IF(M$2021=1,\"\",IF(U1614=\"\",\"\",VLOOKUP(U1614,Tabelle!$D$5:$I$7,6,FALSE)))","v":""},null,null,null,null,null,null,null,null,null,null,null,{"$f":"IF(B1614=\"\",0,IF(B1614=B1613,COUNTIF(B$9:B1613,B1614)+1,1))","v":1602},0,0]
["1607","-1900","-1900-1603",null,null,null,null,null,null,null,null,null,null,null,null,null,null,null,null,null,null,{"$f":"IF(M$2021=1,\"\",IF(U1615=\"\",\"\",VLOOKUP(U1615,Tabelle!$D$5:$H$7,5,FALSE)))","v":""},{"$f":"IF(M$2021=1,\"\",IF(U1615=\"\",\"\",VLOOKUP(U1615,Tabelle!$D$5:$I$7,6,FALSE)))","v":""},null,null,null,null,null,null,null,null,null,null,null,{"$f":"IF(B1615=\"\",0,IF(B1615=B1614,COUNTIF(B$9:B1614,B1615)+1,1))","v":1603},0,0]
["1608","-1900","-1900-1604",null,null,null,null,null,null,null,null,null,null,null,null,null,null,null,null,null,null,{"$f":"IF(M$2021=1,\"\",IF(U1616=\"\",\"\",VLOOKUP(U1616,Tabelle!$D$5:$H$7,5,FALSE)))","v":""},{"$f":"IF(M$2021=1,\"\",IF(U1616=\"\",\"\",VLOOKUP(U1616,Tabelle!$D$5:$I$7,6,FALSE)))","v":""},null,null,null,null,null,null,null,null,null,null,null,{"$f":"IF(B1616=\"\",0,IF(B1616=B1615,COUNTIF(B$9:B1615,B1616)+1,1))","v":1604},0,0]
["1609","-1900","-1900-1605",null,null,null,null,null,null,null,null,null,null,null,null,null,null,null,null,null,null,{"$f":"IF(M$2021=1,\"\",IF(U1617=\"\",\"\",VLOOKUP(U1617,Tabelle!$D$5:$H$7,5,FALSE)))","v":""},{"$f":"IF(M$2021=1,\"\",IF(U1617=\"\",\"\",VLOOKUP(U1617,Tabelle!$D$5:$I$7,6,FALSE)))","v":""},null,null,null,null,null,null,null,null,null,null,null,{"$f":"IF(B1617=\"\",0,IF(B1617=B1616,COUNTIF(B$9:B1616,B1617)+1,1))","v":1605},0,0]
["1610","-1900","-1900-1606",null,null,null,null,null,null,null,null,null,null,null,null,null,null,null,null,null,null,{"$f":"IF(M$2021=1,\"\",IF(U1618=\"\",\"\",VLOOKUP(U1618,Tabelle!$D$5:$H$7,5,FALSE)))","v":""},{"$f":"IF(M$2021=1,\"\",IF(U1618=\"\",\"\",VLOOKUP(U1618,Tabelle!$D$5:$I$7,6,FALSE)))","v":""},null,null,null,null,null,null,null,null,null,null,null,{"$f":"IF(B1618=\"\",0,IF(B1618=B1617,COUNTIF(B$9:B1617,B1618)+1,1))","v":1606},0,0]
["1611","-1900","-1900-1607",null,null,null,null,null,null,null,null,null,null,null,null,null,null,null,null,null,null,{"$f":"IF(M$2021=1,\"\",IF(U1619=\"\",\"\",VLOOKUP(U1619,Tabelle!$D$5:$H$7,5,FALSE)))","v":""},{"$f":"IF(M$2021=1,\"\",IF(U1619=\"\",\"\",VLOOKUP(U1619,Tabelle!$D$5:$I$7,6,FALSE)))","v":""},null,null,null,null,null,null,null,null,null,null,null,{"$f":"IF(B1619=\"\",0,IF(B1619=B1618,COUNTIF(B$9:B1618,B1619)+1,1))","v":1607},0,0]
["1612","-1900","-1900-1608",null,null,null,null,null,null,null,null,null,null,null,null,null,null,null,null,null,null,{"$f":"IF(M$2021=1,\"\",IF(U1620=\"\",\"\",VLOOKUP(U1620,Tabelle!$D$5:$H$7,5,FALSE)))","v":""},{"$f":"IF(M$2021=1,\"\",IF(U1620=\"\",\"\",VLOOKUP(U1620,Tabelle!$D$5:$I$7,6,FALSE)))","v":""},null,null,null,null,null,null,null,null,null,null,null,{"$f":"IF(B1620=\"\",0,IF(B1620=B1619,COUNTIF(B$9:B1619,B1620)+1,1))","v":1608},0,0]
["1613","-1900","-1900-1609",null,null,null,null,null,null,null,null,null,null,null,null,null,null,null,null,null,null,{"$f":"IF(M$2021=1,\"\",IF(U1621=\"\",\"\",VLOOKUP(U1621,Tabelle!$D$5:$H$7,5,FALSE)))","v":""},{"$f":"IF(M$2021=1,\"\",IF(U1621=\"\",\"\",VLOOKUP(U1621,Tabelle!$D$5:$I$7,6,FALSE)))","v":""},null,null,null,null,null,null,null,null,null,null,null,{"$f":"IF(B1621=\"\",0,IF(B1621=B1620,COUNTIF(B$9:B1620,B1621)+1,1))","v":1609},0,0]
["1614","-1900","-1900-1610",null,null,null,null,null,null,null,null,null,null,null,null,null,null,null,null,null,null,{"$f":"IF(M$2021=1,\"\",IF(U1622=\"\",\"\",VLOOKUP(U1622,Tabelle!$D$5:$H$7,5,FALSE)))","v":""},{"$f":"IF(M$2021=1,\"\",IF(U1622=\"\",\"\",VLOOKUP(U1622,Tabelle!$D$5:$I$7,6,FALSE)))","v":""},null,null,null,null,null,null,null,null,null,null,null,{"$f":"IF(B1622=\"\",0,IF(B1622=B1621,COUNTIF(B$9:B1621,B1622)+1,1))","v":1610},0,0]
["1615","-1900","-1900-1611",null,null,null,null,null,null,null,null,null,null,null,null,null,null,null,null,null,null,{"$f":"IF(M$2021=1,\"\",IF(U1623=\"\",\"\",VLOOKUP(U1623,Tabelle!$D$5:$H$7,5,FALSE)))","v":""},{"$f":"IF(M$2021=1,\"\",IF(U1623=\"\",\"\",VLOOKUP(U1623,Tabelle!$D$5:$I$7,6,FALSE)))","v":""},null,null,null,null,null,null,null,null,null,null,null,{"$f":"IF(B1623=\"\",0,IF(B1623=B1622,COUNTIF(B$9:B1622,B1623)+1,1))","v":1611},0,0]
["1616","-1900","-1900-1612",null,null,null,null,null,null,null,null,null,null,null,null,null,null,null,null,null,null,{"$f":"IF(M$2021=1,\"\",IF(U1624=\"\",\"\",VLOOKUP(U1624,Tabelle!$D$5:$H$7,5,FALSE)))","v":""},{"$f":"IF(M$2021=1,\"\",IF(U1624=\"\",\"\",VLOOKUP(U1624,Tabelle!$D$5:$I$7,6,FALSE)))","v":""},null,null,null,null,null,null,null,null,null,null,null,{"$f":"IF(B1624=\"\",0,IF(B1624=B1623,COUNTIF(B$9:B1623,B1624)+1,1))","v":1612},0,0]
["1617","-1900","-1900-1613",null,null,null,null,null,null,null,null,null,null,null,null,null,null,null,null,null,null,{"$f":"IF(M$2021=1,\"\",IF(U1625=\"\",\"\",VLOOKUP(U1625,Tabelle!$D$5:$H$7,5,FALSE)))","v":""},{"$f":"IF(M$2021=1,\"\",IF(U1625=\"\",\"\",VLOOKUP(U1625,Tabelle!$D$5:$I$7,6,FALSE)))","v":""},null,null,null,null,null,null,null,null,null,null,null,{"$f":"IF(B1625=\"\",0,IF(B1625=B1624,COUNTIF(B$9:B1624,B1625)+1,1))","v":1613},0,0]
["1618","-1900","-1900-1614",null,null,null,null,null,null,null,null,null,null,null,null,null,null,null,null,null,null,{"$f":"IF(M$2021=1,\"\",IF(U1626=\"\",\"\",VLOOKUP(U1626,Tabelle!$D$5:$H$7,5,FALSE)))","v":""},{"$f":"IF(M$2021=1,\"\",IF(U1626=\"\",\"\",VLOOKUP(U1626,Tabelle!$D$5:$I$7,6,FALSE)))","v":""},null,null,null,null,null,null,null,null,null,null,null,{"$f":"IF(B1626=\"\",0,IF(B1626=B1625,COUNTIF(B$9:B1625,B1626)+1,1))","v":1614},0,0]
["1619","-1900","-1900-1615",null,null,null,null,null,null,null,null,null,null,null,null,null,null,null,null,null,null,{"$f":"IF(M$2021=1,\"\",IF(U1627=\"\",\"\",VLOOKUP(U1627,Tabelle!$D$5:$H$7,5,FALSE)))","v":""},{"$f":"IF(M$2021=1,\"\",IF(U1627=\"\",\"\",VLOOKUP(U1627,Tabelle!$D$5:$I$7,6,FALSE)))","v":""},null,null,null,null,null,null,null,null,null,null,null,{"$f":"IF(B1627=\"\",0,IF(B1627=B1626,COUNTIF(B$9:B1626,B1627)+1,1))","v":1615},0,0]
["1620","-1900","-1900-1616",null,null,null,null,null,null,null,null,null,null,null,null,null,null,null,null,null,null,{"$f":"IF(M$2021=1,\"\",IF(U1628=\"\",\"\",VLOOKUP(U1628,Tabelle!$D$5:$H$7,5,FALSE)))","v":""},{"$f":"IF(M$2021=1,\"\",IF(U1628=\"\",\"\",VLOOKUP(U1628,Tabelle!$D$5:$I$7,6,FALSE)))","v":""},null,null,null,null,null,null,null,null,null,null,null,{"$f":"IF(B1628=\"\",0,IF(B1628=B1627,COUNTIF(B$9:B1627,B1628)+1,1))","v":1616},0,0]
["1621","-1900","-1900-1617",null,null,null,null,null,null,null,null,null,null,null,null,null,null,null,null,null,null,{"$f":"IF(M$2021=1,\"\",IF(U1629=\"\",\"\",VLOOKUP(U1629,Tabelle!$D$5:$H$7,5,FALSE)))","v":""},{"$f":"IF(M$2021=1,\"\",IF(U1629=\"\",\"\",VLOOKUP(U1629,Tabelle!$D$5:$I$7,6,FALSE)))","v":""},null,null,null,null,null,null,null,null,null,null,null,{"$f":"IF(B1629=\"\",0,IF(B1629=B1628,COUNTIF(B$9:B1628,B1629)+1,1))","v":1617},0,0]
["1622","-1900","-1900-1618",null,null,null,null,null,null,null,null,null,null,null,null,null,null,null,null,null,null,{"$f":"IF(M$2021=1,\"\",IF(U1630=\"\",\"\",VLOOKUP(U1630,Tabelle!$D$5:$H$7,5,FALSE)))","v":""},{"$f":"IF(M$2021=1,\"\",IF(U1630=\"\",\"\",VLOOKUP(U1630,Tabelle!$D$5:$I$7,6,FALSE)))","v":""},null,null,null,null,null,null,null,null,null,null,null,{"$f":"IF(B1630=\"\",0,IF(B1630=B1629,COUNTIF(B$9:B1629,B1630)+1,1))","v":1618},0,0]
["1623","-1900","-1900-1619",null,null,null,null,null,null,null,null,null,null,null,null,null,null,null,null,null,null,{"$f":"IF(M$2021=1,\"\",IF(U1631=\"\",\"\",VLOOKUP(U1631,Tabelle!$D$5:$H$7,5,FALSE)))","v":""},{"$f":"IF(M$2021=1,\"\",IF(U1631=\"\",\"\",VLOOKUP(U1631,Tabelle!$D$5:$I$7,6,FALSE)))","v":""},null,null,null,null,null,null,null,null,null,null,null,{"$f":"IF(B1631=\"\",0,IF(B1631=B1630,COUNTIF(B$9:B1630,B1631)+1,1))","v":1619},0,0]
["1624","-1900","-1900-1620",null,null,null,null,null,null,null,null,null,null,null,null,null,null,null,null,null,null,{"$f":"IF(M$2021=1,\"\",IF(U1632=\"\",\"\",VLOOKUP(U1632,Tabelle!$D$5:$H$7,5,FALSE)))","v":""},{"$f":"IF(M$2021=1,\"\",IF(U1632=\"\",\"\",VLOOKUP(U1632,Tabelle!$D$5:$I$7,6,FALSE)))","v":""},null,null,null,null,null,null,null,null,null,null,null,{"$f":"IF(B1632=\"\",0,IF(B1632=B1631,COUNTIF(B$9:B1631,B1632)+1,1))","v":1620},0,0]
["1625","-1900","-1900-1621",null,null,null,null,null,null,null,null,null,null,null,null,null,null,null,null,null,null,{"$f":"IF(M$2021=1,\"\",IF(U1633=\"\",\"\",VLOOKUP(U1633,Tabelle!$D$5:$H$7,5,FALSE)))","v":""},{"$f":"IF(M$2021=1,\"\",IF(U1633=\"\",\"\",VLOOKUP(U1633,Tabelle!$D$5:$I$7,6,FALSE)))","v":""},null,null,null,null,null,null,null,null,null,null,null,{"$f":"IF(B1633=\"\",0,IF(B1633=B1632,COUNTIF(B$9:B1632,B1633)+1,1))","v":1621},0,0]
["1626","-1900","-1900-1622",null,null,null,null,null,null,null,null,null,null,null,null,null,null,null,null,null,null,{"$f":"IF(M$2021=1,\"\",IF(U1634=\"\",\"\",VLOOKUP(U1634,Tabelle!$D$5:$H$7,5,FALSE)))","v":""},{"$f":"IF(M$2021=1,\"\",IF(U1634=\"\",\"\",VLOOKUP(U1634,Tabelle!$D$5:$I$7,6,FALSE)))","v":""},null,null,null,null,null,null,null,null,null,null,null,{"$f":"IF(B1634=\"\",0,IF(B1634=B1633,COUNTIF(B$9:B1633,B1634)+1,1))","v":1622},0,0]
["1627","-1900","-1900-1623",null,null,null,null,null,null,null,null,null,null,null,null,null,null,null,null,null,null,{"$f":"IF(M$2021=1,\"\",IF(U1635=\"\",\"\",VLOOKUP(U1635,Tabelle!$D$5:$H$7,5,FALSE)))","v":""},{"$f":"IF(M$2021=1,\"\",IF(U1635=\"\",\"\",VLOOKUP(U1635,Tabelle!$D$5:$I$7,6,FALSE)))","v":""},null,null,null,null,null,null,null,null,null,null,null,{"$f":"IF(B1635=\"\",0,IF(B1635=B1634,COUNTIF(B$9:B1634,B1635)+1,1))","v":1623},0,0]
["1628","-1900","-1900-1624",null,null,null,null,null,null,null,null,null,null,null,null,null,null,null,null,null,null,{"$f":"IF(M$2021=1,\"\",IF(U1636=\"\",\"\",VLOOKUP(U1636,Tabelle!$D$5:$H$7,5,FALSE)))","v":""},{"$f":"IF(M$2021=1,\"\",IF(U1636=\"\",\"\",VLOOKUP(U1636,Tabelle!$D$5:$I$7,6,FALSE)))","v":""},null,null,null,null,null,null,null,null,null,null,null,{"$f":"IF(B1636=\"\",0,IF(B1636=B1635,COUNTIF(B$9:B1635,B1636)+1,1))","v":1624},0,0]
["1629","-1900","-1900-1625",null,null,null,null,null,null,null,null,null,null,null,null,null,null,null,null,null,null,{"$f":"IF(M$2021=1,\"\",IF(U1637=\"\",\"\",VLOOKUP(U1637,Tabelle!$D$5:$H$7,5,FALSE)))","v":""},{"$f":"IF(M$2021=1,\"\",IF(U1637=\"\",\"\",VLOOKUP(U1637,Tabelle!$D$5:$I$7,6,FALSE)))","v":""},null,null,null,null,null,null,null,null,null,null,null,{"$f":"IF(B1637=\"\",0,IF(B1637=B1636,COUNTIF(B$9:B1636,B1637)+1,1))","v":1625},0,0]
["1630","-1900","-1900-1626",null,null,null,null,null,null,null,null,null,null,null,null,null,null,null,null,null,null,{"$f":"IF(M$2021=1,\"\",IF(U1638=\"\",\"\",VLOOKUP(U1638,Tabelle!$D$5:$H$7,5,FALSE)))","v":""},{"$f":"IF(M$2021=1,\"\",IF(U1638=\"\",\"\",VLOOKUP(U1638,Tabelle!$D$5:$I$7,6,FALSE)))","v":""},null,null,null,null,null,null,null,null,null,null,null,{"$f":"IF(B1638=\"\",0,IF(B1638=B1637,COUNTIF(B$9:B1637,B1638)+1,1))","v":1626},0,0]
["1631","-1900","-1900-1627",null,null,null,null,null,null,null,null,null,null,null,null,null,null,null,null,null,null,{"$f":"IF(M$2021=1,\"\",IF(U1639=\"\",\"\",VLOOKUP(U1639,Tabelle!$D$5:$H$7,5,FALSE)))","v":""},{"$f":"IF(M$2021=1,\"\",IF(U1639=\"\",\"\",VLOOKUP(U1639,Tabelle!$D$5:$I$7,6,FALSE)))","v":""},null,null,null,null,null,null,null,null,null,null,null,{"$f":"IF(B1639=\"\",0,IF(B1639=B1638,COUNTIF(B$9:B1638,B1639)+1,1))","v":1627},0,0]
["1632","-1900","-1900-1628",null,null,null,null,null,null,null,null,null,null,null,null,null,null,null,null,null,null,{"$f":"IF(M$2021=1,\"\",IF(U1640=\"\",\"\",VLOOKUP(U1640,Tabelle!$D$5:$H$7,5,FALSE)))","v":""},{"$f":"IF(M$2021=1,\"\",IF(U1640=\"\",\"\",VLOOKUP(U1640,Tabelle!$D$5:$I$7,6,FALSE)))","v":""},null,null,null,null,null,null,null,null,null,null,null,{"$f":"IF(B1640=\"\",0,IF(B1640=B1639,COUNTIF(B$9:B1639,B1640)+1,1))","v":1628},0,0]
["1633","-1900","-1900-1629",null,null,null,null,null,null,null,null,null,null,null,null,null,null,null,null,null,null,{"$f":"IF(M$2021=1,\"\",IF(U1641=\"\",\"\",VLOOKUP(U1641,Tabelle!$D$5:$H$7,5,FALSE)))","v":""},{"$f":"IF(M$2021=1,\"\",IF(U1641=\"\",\"\",VLOOKUP(U1641,Tabelle!$D$5:$I$7,6,FALSE)))","v":""},null,null,null,null,null,null,null,null,null,null,null,{"$f":"IF(B1641=\"\",0,IF(B1641=B1640,COUNTIF(B$9:B1640,B1641)+1,1))","v":1629},0,0]
["1634","-1900","-1900-1630",null,null,null,null,null,null,null,null,null,null,null,null,null,null,null,null,null,null,{"$f":"IF(M$2021=1,\"\",IF(U1642=\"\",\"\",VLOOKUP(U1642,Tabelle!$D$5:$H$7,5,FALSE)))","v":""},{"$f":"IF(M$2021=1,\"\",IF(U1642=\"\",\"\",VLOOKUP(U1642,Tabelle!$D$5:$I$7,6,FALSE)))","v":""},null,null,null,null,null,null,null,null,null,null,null,{"$f":"IF(B1642=\"\",0,IF(B1642=B1641,COUNTIF(B$9:B1641,B1642)+1,1))","v":1630},0,0]
["1635","-1900","-1900-1631",null,null,null,null,null,null,null,null,null,null,null,null,null,null,null,null,null,null,{"$f":"IF(M$2021=1,\"\",IF(U1643=\"\",\"\",VLOOKUP(U1643,Tabelle!$D$5:$H$7,5,FALSE)))","v":""},{"$f":"IF(M$2021=1,\"\",IF(U1643=\"\",\"\",VLOOKUP(U1643,Tabelle!$D$5:$I$7,6,FALSE)))","v":""},null,null,null,null,null,null,null,null,null,null,null,{"$f":"IF(B1643=\"\",0,IF(B1643=B1642,COUNTIF(B$9:B1642,B1643)+1,1))","v":1631},0,0]
["1636","-1900","-1900-1632",null,null,null,null,null,null,null,null,null,null,null,null,null,null,null,null,null,null,{"$f":"IF(M$2021=1,\"\",IF(U1644=\"\",\"\",VLOOKUP(U1644,Tabelle!$D$5:$H$7,5,FALSE)))","v":""},{"$f":"IF(M$2021=1,\"\",IF(U1644=\"\",\"\",VLOOKUP(U1644,Tabelle!$D$5:$I$7,6,FALSE)))","v":""},null,null,null,null,null,null,null,null,null,null,null,{"$f":"IF(B1644=\"\",0,IF(B1644=B1643,COUNTIF(B$9:B1643,B1644)+1,1))","v":1632},0,0]
["1637","-1900","-1900-1633",null,null,null,null,null,null,null,null,null,null,null,null,null,null,null,null,null,null,{"$f":"IF(M$2021=1,\"\",IF(U1645=\"\",\"\",VLOOKUP(U1645,Tabelle!$D$5:$H$7,5,FALSE)))","v":""},{"$f":"IF(M$2021=1,\"\",IF(U1645=\"\",\"\",VLOOKUP(U1645,Tabelle!$D$5:$I$7,6,FALSE)))","v":""},null,null,null,null,null,null,null,null,null,null,null,{"$f":"IF(B1645=\"\",0,IF(B1645=B1644,COUNTIF(B$9:B1644,B1645)+1,1))","v":1633},0,0]
["1638","-1900","-1900-1634",null,null,null,null,null,null,null,null,null,null,null,null,null,null,null,null,null,null,{"$f":"IF(M$2021=1,\"\",IF(U1646=\"\",\"\",VLOOKUP(U1646,Tabelle!$D$5:$H$7,5,FALSE)))","v":""},{"$f":"IF(M$2021=1,\"\",IF(U1646=\"\",\"\",VLOOKUP(U1646,Tabelle!$D$5:$I$7,6,FALSE)))","v":""},null,null,null,null,null,null,null,null,null,null,null,{"$f":"IF(B1646=\"\",0,IF(B1646=B1645,COUNTIF(B$9:B1645,B1646)+1,1))","v":1634},0,0]
["1639","-1900","-1900-1635",null,null,null,null,null,null,null,null,null,null,null,null,null,null,null,null,null,null,{"$f":"IF(M$2021=1,\"\",IF(U1647=\"\",\"\",VLOOKUP(U1647,Tabelle!$D$5:$H$7,5,FALSE)))","v":""},{"$f":"IF(M$2021=1,\"\",IF(U1647=\"\",\"\",VLOOKUP(U1647,Tabelle!$D$5:$I$7,6,FALSE)))","v":""},null,null,null,null,null,null,null,null,null,null,null,{"$f":"IF(B1647=\"\",0,IF(B1647=B1646,COUNTIF(B$9:B1646,B1647)+1,1))","v":1635},0,0]
["1640","-1900","-1900-1636",null,null,null,null,null,null,null,null,null,null,null,null,null,null,null,null,null,null,{"$f":"IF(M$2021=1,\"\",IF(U1648=\"\",\"\",VLOOKUP(U1648,Tabelle!$D$5:$H$7,5,FALSE)))","v":""},{"$f":"IF(M$2021=1,\"\",IF(U1648=\"\",\"\",VLOOKUP(U1648,Tabelle!$D$5:$I$7,6,FALSE)))","v":""},null,null,null,null,null,null,null,null,null,null,null,{"$f":"IF(B1648=\"\",0,IF(B1648=B1647,COUNTIF(B$9:B1647,B1648)+1,1))","v":1636},0,0]
["1641","-1900","-1900-1637",null,null,null,null,null,null,null,null,null,null,null,null,null,null,null,null,null,null,{"$f":"IF(M$2021=1,\"\",IF(U1649=\"\",\"\",VLOOKUP(U1649,Tabelle!$D$5:$H$7,5,FALSE)))","v":""},{"$f":"IF(M$2021=1,\"\",IF(U1649=\"\",\"\",VLOOKUP(U1649,Tabelle!$D$5:$I$7,6,FALSE)))","v":""},null,null,null,null,null,null,null,null,null,null,null,{"$f":"IF(B1649=\"\",0,IF(B1649=B1648,COUNTIF(B$9:B1648,B1649)+1,1))","v":1637},0,0]
["1642","-1900","-1900-1638",null,null,null,null,null,null,null,null,null,null,null,null,null,null,null,null,null,null,{"$f":"IF(M$2021=1,\"\",IF(U1650=\"\",\"\",VLOOKUP(U1650,Tabelle!$D$5:$H$7,5,FALSE)))","v":""},{"$f":"IF(M$2021=1,\"\",IF(U1650=\"\",\"\",VLOOKUP(U1650,Tabelle!$D$5:$I$7,6,FALSE)))","v":""},null,null,null,null,null,null,null,null,null,null,null,{"$f":"IF(B1650=\"\",0,IF(B1650=B1649,COUNTIF(B$9:B1649,B1650)+1,1))","v":1638},0,0]
["1643","-1900","-1900-1639",null,null,null,null,null,null,null,null,null,null,null,null,null,null,null,null,null,null,{"$f":"IF(M$2021=1,\"\",IF(U1651=\"\",\"\",VLOOKUP(U1651,Tabelle!$D$5:$H$7,5,FALSE)))","v":""},{"$f":"IF(M$2021=1,\"\",IF(U1651=\"\",\"\",VLOOKUP(U1651,Tabelle!$D$5:$I$7,6,FALSE)))","v":""},null,null,null,null,null,null,null,null,null,null,null,{"$f":"IF(B1651=\"\",0,IF(B1651=B1650,COUNTIF(B$9:B1650,B1651)+1,1))","v":1639},0,0]
["1644","-1900","-1900-1640",null,null,null,null,null,null,null,null,null,null,null,null,null,null,null,null,null,null,{"$f":"IF(M$2021=1,\"\",IF(U1652=\"\",\"\",VLOOKUP(U1652,Tabelle!$D$5:$H$7,5,FALSE)))","v":""},{"$f":"IF(M$2021=1,\"\",IF(U1652=\"\",\"\",VLOOKUP(U1652,Tabelle!$D$5:$I$7,6,FALSE)))","v":""},null,null,null,null,null,null,null,null,null,null,null,{"$f":"IF(B1652=\"\",0,IF(B1652=B1651,COUNTIF(B$9:B1651,B1652)+1,1))","v":1640},0,0]
["1645","-1900","-1900-1641",null,null,null,null,null,null,null,null,null,null,null,null,null,null,null,null,null,null,{"$f":"IF(M$2021=1,\"\",IF(U1653=\"\",\"\",VLOOKUP(U1653,Tabelle!$D$5:$H$7,5,FALSE)))","v":""},{"$f":"IF(M$2021=1,\"\",IF(U1653=\"\",\"\",VLOOKUP(U1653,Tabelle!$D$5:$I$7,6,FALSE)))","v":""},null,null,null,null,null,null,null,null,null,null,null,{"$f":"IF(B1653=\"\",0,IF(B1653=B1652,COUNTIF(B$9:B1652,B1653)+1,1))","v":1641},0,0]
["1646","-1900","-1900-1642",null,null,null,null,null,null,null,null,null,null,null,null,null,null,null,null,null,null,{"$f":"IF(M$2021=1,\"\",IF(U1654=\"\",\"\",VLOOKUP(U1654,Tabelle!$D$5:$H$7,5,FALSE)))","v":""},{"$f":"IF(M$2021=1,\"\",IF(U1654=\"\",\"\",VLOOKUP(U1654,Tabelle!$D$5:$I$7,6,FALSE)))","v":""},null,null,null,null,null,null,null,null,null,null,null,{"$f":"IF(B1654=\"\",0,IF(B1654=B1653,COUNTIF(B$9:B1653,B1654)+1,1))","v":1642},0,0]
["1647","-1900","-1900-1643",null,null,null,null,null,null,null,null,null,null,null,null,null,null,null,null,null,null,{"$f":"IF(M$2021=1,\"\",IF(U1655=\"\",\"\",VLOOKUP(U1655,Tabelle!$D$5:$H$7,5,FALSE)))","v":""},{"$f":"IF(M$2021=1,\"\",IF(U1655=\"\",\"\",VLOOKUP(U1655,Tabelle!$D$5:$I$7,6,FALSE)))","v":""},null,null,null,null,null,null,null,null,null,null,null,{"$f":"IF(B1655=\"\",0,IF(B1655=B1654,COUNTIF(B$9:B1654,B1655)+1,1))","v":1643},0,0]
["1648","-1900","-1900-1644",null,null,null,null,null,null,null,null,null,null,null,null,null,null,null,null,null,null,{"$f":"IF(M$2021=1,\"\",IF(U1656=\"\",\"\",VLOOKUP(U1656,Tabelle!$D$5:$H$7,5,FALSE)))","v":""},{"$f":"IF(M$2021=1,\"\",IF(U1656=\"\",\"\",VLOOKUP(U1656,Tabelle!$D$5:$I$7,6,FALSE)))","v":""},null,null,null,null,null,null,null,null,null,null,null,{"$f":"IF(B1656=\"\",0,IF(B1656=B1655,COUNTIF(B$9:B1655,B1656)+1,1))","v":1644},0,0]
["1649","-1900","-1900-1645",null,null,null,null,null,null,null,null,null,null,null,null,null,null,null,null,null,null,{"$f":"IF(M$2021=1,\"\",IF(U1657=\"\",\"\",VLOOKUP(U1657,Tabelle!$D$5:$H$7,5,FALSE)))","v":""},{"$f":"IF(M$2021=1,\"\",IF(U1657=\"\",\"\",VLOOKUP(U1657,Tabelle!$D$5:$I$7,6,FALSE)))","v":""},null,null,null,null,null,null,null,null,null,null,null,{"$f":"IF(B1657=\"\",0,IF(B1657=B1656,COUNTIF(B$9:B1656,B1657)+1,1))","v":1645},0,0]
["1650","-1900","-1900-1646",null,null,null,null,null,null,null,null,null,null,null,null,null,null,null,null,null,null,{"$f":"IF(M$2021=1,\"\",IF(U1658=\"\",\"\",VLOOKUP(U1658,Tabelle!$D$5:$H$7,5,FALSE)))","v":""},{"$f":"IF(M$2021=1,\"\",IF(U1658=\"\",\"\",VLOOKUP(U1658,Tabelle!$D$5:$I$7,6,FALSE)))","v":""},null,null,null,null,null,null,null,null,null,null,null,{"$f":"IF(B1658=\"\",0,IF(B1658=B1657,COUNTIF(B$9:B1657,B1658)+1,1))","v":1646},0,0]
["1651","-1900","-1900-1647",null,null,null,null,null,null,null,null,null,null,null,null,null,null,null,null,null,null,{"$f":"IF(M$2021=1,\"\",IF(U1659=\"\",\"\",VLOOKUP(U1659,Tabelle!$D$5:$H$7,5,FALSE)))","v":""},{"$f":"IF(M$2021=1,\"\",IF(U1659=\"\",\"\",VLOOKUP(U1659,Tabelle!$D$5:$I$7,6,FALSE)))","v":""},null,null,null,null,null,null,null,null,null,null,null,{"$f":"IF(B1659=\"\",0,IF(B1659=B1658,COUNTIF(B$9:B1658,B1659)+1,1))","v":1647},0,0]
["1652","-1900","-1900-1648",null,null,null,null,null,null,null,null,null,null,null,null,null,null,null,null,null,null,{"$f":"IF(M$2021=1,\"\",IF(U1660=\"\",\"\",VLOOKUP(U1660,Tabelle!$D$5:$H$7,5,FALSE)))","v":""},{"$f":"IF(M$2021=1,\"\",IF(U1660=\"\",\"\",VLOOKUP(U1660,Tabelle!$D$5:$I$7,6,FALSE)))","v":""},null,null,null,null,null,null,null,null,null,null,null,{"$f":"IF(B1660=\"\",0,IF(B1660=B1659,COUNTIF(B$9:B1659,B1660)+1,1))","v":1648},0,0]
["1653","-1900","-1900-1649",null,null,null,null,null,null,null,null,null,null,null,null,null,null,null,null,null,null,{"$f":"IF(M$2021=1,\"\",IF(U1661=\"\",\"\",VLOOKUP(U1661,Tabelle!$D$5:$H$7,5,FALSE)))","v":""},{"$f":"IF(M$2021=1,\"\",IF(U1661=\"\",\"\",VLOOKUP(U1661,Tabelle!$D$5:$I$7,6,FALSE)))","v":""},null,null,null,null,null,null,null,null,null,null,null,{"$f":"IF(B1661=\"\",0,IF(B1661=B1660,COUNTIF(B$9:B1660,B1661)+1,1))","v":1649},0,0]
["1654","-1900","-1900-1650",null,null,null,null,null,null,null,null,null,null,null,null,null,null,null,null,null,null,{"$f":"IF(M$2021=1,\"\",IF(U1662=\"\",\"\",VLOOKUP(U1662,Tabelle!$D$5:$H$7,5,FALSE)))","v":""},{"$f":"IF(M$2021=1,\"\",IF(U1662=\"\",\"\",VLOOKUP(U1662,Tabelle!$D$5:$I$7,6,FALSE)))","v":""},null,null,null,null,null,null,null,null,null,null,null,{"$f":"IF(B1662=\"\",0,IF(B1662=B1661,COUNTIF(B$9:B1661,B1662)+1,1))","v":1650},0,0]
["1655","-1900","-1900-1651",null,null,null,null,null,null,null,null,null,null,null,null,null,null,null,null,null,null,{"$f":"IF(M$2021=1,\"\",IF(U1663=\"\",\"\",VLOOKUP(U1663,Tabelle!$D$5:$H$7,5,FALSE)))","v":""},{"$f":"IF(M$2021=1,\"\",IF(U1663=\"\",\"\",VLOOKUP(U1663,Tabelle!$D$5:$I$7,6,FALSE)))","v":""},null,null,null,null,null,null,null,null,null,null,null,{"$f":"IF(B1663=\"\",0,IF(B1663=B1662,COUNTIF(B$9:B1662,B1663)+1,1))","v":1651},0,0]
["1656","-1900","-1900-1652",null,null,null,null,null,null,null,null,null,null,null,null,null,null,null,null,null,null,{"$f":"IF(M$2021=1,\"\",IF(U1664=\"\",\"\",VLOOKUP(U1664,Tabelle!$D$5:$H$7,5,FALSE)))","v":""},{"$f":"IF(M$2021=1,\"\",IF(U1664=\"\",\"\",VLOOKUP(U1664,Tabelle!$D$5:$I$7,6,FALSE)))","v":""},null,null,null,null,null,null,null,null,null,null,null,{"$f":"IF(B1664=\"\",0,IF(B1664=B1663,COUNTIF(B$9:B1663,B1664)+1,1))","v":1652},0,0]
["1657","-1900","-1900-1653",null,null,null,null,null,null,null,null,null,null,null,null,null,null,null,null,null,null,{"$f":"IF(M$2021=1,\"\",IF(U1665=\"\",\"\",VLOOKUP(U1665,Tabelle!$D$5:$H$7,5,FALSE)))","v":""},{"$f":"IF(M$2021=1,\"\",IF(U1665=\"\",\"\",VLOOKUP(U1665,Tabelle!$D$5:$I$7,6,FALSE)))","v":""},null,null,null,null,null,null,null,null,null,null,null,{"$f":"IF(B1665=\"\",0,IF(B1665=B1664,COUNTIF(B$9:B1664,B1665)+1,1))","v":1653},0,0]
["1658","-1900","-1900-1654",null,null,null,null,null,null,null,null,null,null,null,null,null,null,null,null,null,null,{"$f":"IF(M$2021=1,\"\",IF(U1666=\"\",\"\",VLOOKUP(U1666,Tabelle!$D$5:$H$7,5,FALSE)))","v":""},{"$f":"IF(M$2021=1,\"\",IF(U1666=\"\",\"\",VLOOKUP(U1666,Tabelle!$D$5:$I$7,6,FALSE)))","v":""},null,null,null,null,null,null,null,null,null,null,null,{"$f":"IF(B1666=\"\",0,IF(B1666=B1665,COUNTIF(B$9:B1665,B1666)+1,1))","v":1654},0,0]
["1659","-1900","-1900-1655",null,null,null,null,null,null,null,null,null,null,null,null,null,null,null,null,null,null,{"$f":"IF(M$2021=1,\"\",IF(U1667=\"\",\"\",VLOOKUP(U1667,Tabelle!$D$5:$H$7,5,FALSE)))","v":""},{"$f":"IF(M$2021=1,\"\",IF(U1667=\"\",\"\",VLOOKUP(U1667,Tabelle!$D$5:$I$7,6,FALSE)))","v":""},null,null,null,null,null,null,null,null,null,null,null,{"$f":"IF(B1667=\"\",0,IF(B1667=B1666,COUNTIF(B$9:B1666,B1667)+1,1))","v":1655},0,0]
["1660","-1900","-1900-1656",null,null,null,null,null,null,null,null,null,null,null,null,null,null,null,null,null,null,{"$f":"IF(M$2021=1,\"\",IF(U1668=\"\",\"\",VLOOKUP(U1668,Tabelle!$D$5:$H$7,5,FALSE)))","v":""},{"$f":"IF(M$2021=1,\"\",IF(U1668=\"\",\"\",VLOOKUP(U1668,Tabelle!$D$5:$I$7,6,FALSE)))","v":""},null,null,null,null,null,null,null,null,null,null,null,{"$f":"IF(B1668=\"\",0,IF(B1668=B1667,COUNTIF(B$9:B1667,B1668)+1,1))","v":1656},0,0]
["1661","-1900","-1900-1657",null,null,null,null,null,null,null,null,null,null,null,null,null,null,null,null,null,null,{"$f":"IF(M$2021=1,\"\",IF(U1669=\"\",\"\",VLOOKUP(U1669,Tabelle!$D$5:$H$7,5,FALSE)))","v":""},{"$f":"IF(M$2021=1,\"\",IF(U1669=\"\",\"\",VLOOKUP(U1669,Tabelle!$D$5:$I$7,6,FALSE)))","v":""},null,null,null,null,null,null,null,null,null,null,null,{"$f":"IF(B1669=\"\",0,IF(B1669=B1668,COUNTIF(B$9:B1668,B1669)+1,1))","v":1657},0,0]
["1662","-1900","-1900-1658",null,null,null,null,null,null,null,null,null,null,null,null,null,null,null,null,null,null,{"$f":"IF(M$2021=1,\"\",IF(U1670=\"\",\"\",VLOOKUP(U1670,Tabelle!$D$5:$H$7,5,FALSE)))","v":""},{"$f":"IF(M$2021=1,\"\",IF(U1670=\"\",\"\",VLOOKUP(U1670,Tabelle!$D$5:$I$7,6,FALSE)))","v":""},null,null,null,null,null,null,null,null,null,null,null,{"$f":"IF(B1670=\"\",0,IF(B1670=B1669,COUNTIF(B$9:B1669,B1670)+1,1))","v":1658},0,0]
["1663","-1900","-1900-1659",null,null,null,null,null,null,null,null,null,null,null,null,null,null,null,null,null,null,{"$f":"IF(M$2021=1,\"\",IF(U1671=\"\",\"\",VLOOKUP(U1671,Tabelle!$D$5:$H$7,5,FALSE)))","v":""},{"$f":"IF(M$2021=1,\"\",IF(U1671=\"\",\"\",VLOOKUP(U1671,Tabelle!$D$5:$I$7,6,FALSE)))","v":""},null,null,null,null,null,null,null,null,null,null,null,{"$f":"IF(B1671=\"\",0,IF(B1671=B1670,COUNTIF(B$9:B1670,B1671)+1,1))","v":1659},0,0]
["1664","-1900","-1900-1660",null,null,null,null,null,null,null,null,null,null,null,null,null,null,null,null,null,null,{"$f":"IF(M$2021=1,\"\",IF(U1672=\"\",\"\",VLOOKUP(U1672,Tabelle!$D$5:$H$7,5,FALSE)))","v":""},{"$f":"IF(M$2021=1,\"\",IF(U1672=\"\",\"\",VLOOKUP(U1672,Tabelle!$D$5:$I$7,6,FALSE)))","v":""},null,null,null,null,null,null,null,null,null,null,null,{"$f":"IF(B1672=\"\",0,IF(B1672=B1671,COUNTIF(B$9:B1671,B1672)+1,1))","v":1660},0,0]
["1665","-1900",{"$f":"IF(M$2021=1,0,B1673&\"-\"&AI1673)","v":"-1900-1661"},null,null,null,null,null,null,null,null,null,null,null,null,null,null,null,null,null,null,{"$f":"IF(M$2021=1,\"\",IF(U1673=\"\",\"\",VLOOKUP(U1673,Tabelle!$D$5:$H$7,5,FALSE)))","v":""},{"$f":"IF(M$2021=1,\"\",IF(U1673=\"\",\"\",VLOOKUP(U1673,Tabelle!$D$5:$I$7,6,FALSE)))","v":""},null,null,null,null,null,null,null,null,null,null,null,{"$f":"IF(B1673=\"\",0,IF(B1673=B1672,COUNTIF(B$9:B1672,B1673)+1,1))","v":1661},0,0]
["1666",{"$f":"IF(AK1674=$AK$2015,0,IF(M$2021=1,0,D1674&\"-\"&YEAR(E1674)))","v":"-1900"},"-1900-1662",null,null,null,null,null,null,null,null,null,null,null,null,null,null,null,null,null,null,{"$f":"IF(M$2021=1,\"\",IF(U1674=\"\",\"\",VLOOKUP(U1674,Tabelle!$D$5:$H$7,5,FALSE)))","v":""},{"$f":"IF(M$2021=1,\"\",IF(U1674=\"\",\"\",VLOOKUP(U1674,Tabelle!$D$5:$I$7,6,FALSE)))","v":""},null,null,null,null,null,null,null,null,null,null,null,{"$f":"IF(B1674=\"\",0,IF(B1674=B1673,COUNTIF(B$9:B1673,B1674)+1,1))","v":1662},{"$f":"IF(OR(D1674=\"\",M$2021=1),0,IF(AI1674=10,1,0))","v":0},{"$f":"IF(E1674>0,IF(OR(MONTH(E1674)<$J$2027,MONTH(E1674)>$J$2028),AK$2015,0),0)","v":0}]
["1667","-1900","-1900-1663",null,null,null,null,null,null,null,null,null,null,null,null,null,null,null,null,null,null,{"$f":"IF(M$2021=1,\"\",IF(U1675=\"\",\"\",VLOOKUP(U1675,Tabelle!$D$5:$H$7,5,FALSE)))","v":""},{"$f":"IF(M$2021=1,\"\",IF(U1675=\"\",\"\",VLOOKUP(U1675,Tabelle!$D$5:$I$7,6,FALSE)))","v":""},null,null,null,null,null,null,null,null,null,null,null,{"$f":"IF(B1675=\"\",0,IF(B1675=B1674,COUNTIF(B$9:B1674,B1675)+1,1))","v":1663},0,0]
["1668","-1900","-1900-1664",null,null,null,null,null,null,null,null,null,null,null,null,null,null,null,null,null,null,{"$f":"IF(M$2021=1,\"\",IF(U1676=\"\",\"\",VLOOKUP(U1676,Tabelle!$D$5:$H$7,5,FALSE)))","v":""},{"$f":"IF(M$2021=1,\"\",IF(U1676=\"\",\"\",VLOOKUP(U1676,Tabelle!$D$5:$I$7,6,FALSE)))","v":""},null,null,null,null,null,null,null,null,null,null,null,{"$f":"IF(B1676=\"\",0,IF(B1676=B1675,COUNTIF(B$9:B1675,B1676)+1,1))","v":1664},0,0]
["1669","-1900","-1900-1665",null,null,null,null,null,null,null,null,null,null,null,null,null,null,null,null,null,null,{"$f":"IF(M$2021=1,\"\",IF(U1677=\"\",\"\",VLOOKUP(U1677,Tabelle!$D$5:$H$7,5,FALSE)))","v":""},{"$f":"IF(M$2021=1,\"\",IF(U1677=\"\",\"\",VLOOKUP(U1677,Tabelle!$D$5:$I$7,6,FALSE)))","v":""},null,null,null,null,null,null,null,null,null,null,null,{"$f":"IF(B1677=\"\",0,IF(B1677=B1676,COUNTIF(B$9:B1676,B1677)+1,1))","v":1665},0,0]
["1670","-1900","-1900-1666",null,null,null,null,null,null,null,null,null,null,null,null,null,null,null,null,null,null,{"$f":"IF(M$2021=1,\"\",IF(U1678=\"\",\"\",VLOOKUP(U1678,Tabelle!$D$5:$H$7,5,FALSE)))","v":""},{"$f":"IF(M$2021=1,\"\",IF(U1678=\"\",\"\",VLOOKUP(U1678,Tabelle!$D$5:$I$7,6,FALSE)))","v":""},null,null,null,null,null,null,null,null,null,null,null,{"$f":"IF(B1678=\"\",0,IF(B1678=B1677,COUNTIF(B$9:B1677,B1678)+1,1))","v":1666},0,0]
["1671","-1900","-1900-1667",null,null,null,null,null,null,null,null,null,null,null,null,null,null,null,null,null,null,{"$f":"IF(M$2021=1,\"\",IF(U1679=\"\",\"\",VLOOKUP(U1679,Tabelle!$D$5:$H$7,5,FALSE)))","v":""},{"$f":"IF(M$2021=1,\"\",IF(U1679=\"\",\"\",VLOOKUP(U1679,Tabelle!$D$5:$I$7,6,FALSE)))","v":""},null,null,null,null,null,null,null,null,null,null,null,{"$f":"IF(B1679=\"\",0,IF(B1679=B1678,COUNTIF(B$9:B1678,B1679)+1,1))","v":1667},0,0]
["1672","-1900","-1900-1668",null,null,null,null,null,null,null,null,null,null,null,null,null,null,null,null,null,null,{"$f":"IF(M$2021=1,\"\",IF(U1680=\"\",\"\",VLOOKUP(U1680,Tabelle!$D$5:$H$7,5,FALSE)))","v":""},{"$f":"IF(M$2021=1,\"\",IF(U1680=\"\",\"\",VLOOKUP(U1680,Tabelle!$D$5:$I$7,6,FALSE)))","v":""},null,null,null,null,null,null,null,null,null,null,null,{"$f":"IF(B1680=\"\",0,IF(B1680=B1679,COUNTIF(B$9:B1679,B1680)+1,1))","v":1668},0,0]
["1673","-1900","-1900-1669",null,null,null,null,null,null,null,null,null,null,null,null,null,null,null,null,null,null,{"$f":"IF(M$2021=1,\"\",IF(U1681=\"\",\"\",VLOOKUP(U1681,Tabelle!$D$5:$H$7,5,FALSE)))","v":""},{"$f":"IF(M$2021=1,\"\",IF(U1681=\"\",\"\",VLOOKUP(U1681,Tabelle!$D$5:$I$7,6,FALSE)))","v":""},null,null,null,null,null,null,null,null,null,null,null,{"$f":"IF(B1681=\"\",0,IF(B1681=B1680,COUNTIF(B$9:B1680,B1681)+1,1))","v":1669},0,0]
["1674","-1900","-1900-1670",null,null,null,null,null,null,null,null,null,null,null,null,null,null,null,null,null,null,{"$f":"IF(M$2021=1,\"\",IF(U1682=\"\",\"\",VLOOKUP(U1682,Tabelle!$D$5:$H$7,5,FALSE)))","v":""},{"$f":"IF(M$2021=1,\"\",IF(U1682=\"\",\"\",VLOOKUP(U1682,Tabelle!$D$5:$I$7,6,FALSE)))","v":""},null,null,null,null,null,null,null,null,null,null,null,{"$f":"IF(B1682=\"\",0,IF(B1682=B1681,COUNTIF(B$9:B1681,B1682)+1,1))","v":1670},0,0]
["1675","-1900","-1900-1671",null,null,null,null,null,null,null,null,null,null,null,null,null,null,null,null,null,null,{"$f":"IF(M$2021=1,\"\",IF(U1683=\"\",\"\",VLOOKUP(U1683,Tabelle!$D$5:$H$7,5,FALSE)))","v":""},{"$f":"IF(M$2021=1,\"\",IF(U1683=\"\",\"\",VLOOKUP(U1683,Tabelle!$D$5:$I$7,6,FALSE)))","v":""},null,null,null,null,null,null,null,null,null,null,null,{"$f":"IF(B1683=\"\",0,IF(B1683=B1682,COUNTIF(B$9:B1682,B1683)+1,1))","v":1671},0,0]
["1676","-1900","-1900-1672",null,null,null,null,null,null,null,null,null,null,null,null,null,null,null,null,null,null,{"$f":"IF(M$2021=1,\"\",IF(U1684=\"\",\"\",VLOOKUP(U1684,Tabelle!$D$5:$H$7,5,FALSE)))","v":""},{"$f":"IF(M$2021=1,\"\",IF(U1684=\"\",\"\",VLOOKUP(U1684,Tabelle!$D$5:$I$7,6,FALSE)))","v":""},null,null,null,null,null,null,null,null,null,null,null,{"$f":"IF(B1684=\"\",0,IF(B1684=B1683,COUNTIF(B$9:B1683,B1684)+1,1))","v":1672},0,0]
["1677","-1900","-1900-1673",null,null,null,null,null,null,null,null,null,null,null,null,null,null,null,null,null,null,{"$f":"IF(M$2021=1,\"\",IF(U1685=\"\",\"\",VLOOKUP(U1685,Tabelle!$D$5:$H$7,5,FALSE)))","v":""},{"$f":"IF(M$2021=1,\"\",IF(U1685=\"\",\"\",VLOOKUP(U1685,Tabelle!$D$5:$I$7,6,FALSE)))","v":""},null,null,null,null,null,null,null,null,null,null,null,{"$f":"IF(B1685=\"\",0,IF(B1685=B1684,COUNTIF(B$9:B1684,B1685)+1,1))","v":1673},0,0]
["1678","-1900","-1900-1674",null,null,null,null,null,null,null,null,null,null,null,null,null,null,null,null,null,null,{"$f":"IF(M$2021=1,\"\",IF(U1686=\"\",\"\",VLOOKUP(U1686,Tabelle!$D$5:$H$7,5,FALSE)))","v":""},{"$f":"IF(M$2021=1,\"\",IF(U1686=\"\",\"\",VLOOKUP(U1686,Tabelle!$D$5:$I$7,6,FALSE)))","v":""},null,null,null,null,null,null,null,null,null,null,null,{"$f":"IF(B1686=\"\",0,IF(B1686=B1685,COUNTIF(B$9:B1685,B1686)+1,1))","v":1674},0,0]
["1679","-1900","-1900-1675",null,null,null,null,null,null,null,null,null,null,null,null,null,null,null,null,null,null,{"$f":"IF(M$2021=1,\"\",IF(U1687=\"\",\"\",VLOOKUP(U1687,Tabelle!$D$5:$H$7,5,FALSE)))","v":""},{"$f":"IF(M$2021=1,\"\",IF(U1687=\"\",\"\",VLOOKUP(U1687,Tabelle!$D$5:$I$7,6,FALSE)))","v":""},null,null,null,null,null,null,null,null,null,null,null,{"$f":"IF(B1687=\"\",0,IF(B1687=B1686,COUNTIF(B$9:B1686,B1687)+1,1))","v":1675},0,0]
["1680","-1900","-1900-1676",null,null,null,null,null,null,null,null,null,null,null,null,null,null,null,null,null,null,{"$f":"IF(M$2021=1,\"\",IF(U1688=\"\",\"\",VLOOKUP(U1688,Tabelle!$D$5:$H$7,5,FALSE)))","v":""},{"$f":"IF(M$2021=1,\"\",IF(U1688=\"\",\"\",VLOOKUP(U1688,Tabelle!$D$5:$I$7,6,FALSE)))","v":""},null,null,null,null,null,null,null,null,null,null,null,{"$f":"IF(B1688=\"\",0,IF(B1688=B1687,COUNTIF(B$9:B1687,B1688)+1,1))","v":1676},0,0]
["1681","-1900","-1900-1677",null,null,null,null,null,null,null,null,null,null,null,null,null,null,null,null,null,null,{"$f":"IF(M$2021=1,\"\",IF(U1689=\"\",\"\",VLOOKUP(U1689,Tabelle!$D$5:$H$7,5,FALSE)))","v":""},{"$f":"IF(M$2021=1,\"\",IF(U1689=\"\",\"\",VLOOKUP(U1689,Tabelle!$D$5:$I$7,6,FALSE)))","v":""},null,null,null,null,null,null,null,null,null,null,null,{"$f":"IF(B1689=\"\",0,IF(B1689=B1688,COUNTIF(B$9:B1688,B1689)+1,1))","v":1677},0,0]
["1682","-1900","-1900-1678",null,null,null,null,null,null,null,null,null,null,null,null,null,null,null,null,null,null,{"$f":"IF(M$2021=1,\"\",IF(U1690=\"\",\"\",VLOOKUP(U1690,Tabelle!$D$5:$H$7,5,FALSE)))","v":""},{"$f":"IF(M$2021=1,\"\",IF(U1690=\"\",\"\",VLOOKUP(U1690,Tabelle!$D$5:$I$7,6,FALSE)))","v":""},null,null,null,null,null,null,null,null,null,null,null,{"$f":"IF(B1690=\"\",0,IF(B1690=B1689,COUNTIF(B$9:B1689,B1690)+1,1))","v":1678},0,0]
["1683","-1900","-1900-1679",null,null,null,null,null,null,null,null,null,null,null,null,null,null,null,null,null,null,{"$f":"IF(M$2021=1,\"\",IF(U1691=\"\",\"\",VLOOKUP(U1691,Tabelle!$D$5:$H$7,5,FALSE)))","v":""},{"$f":"IF(M$2021=1,\"\",IF(U1691=\"\",\"\",VLOOKUP(U1691,Tabelle!$D$5:$I$7,6,FALSE)))","v":""},null,null,null,null,null,null,null,null,null,null,null,{"$f":"IF(B1691=\"\",0,IF(B1691=B1690,COUNTIF(B$9:B1690,B1691)+1,1))","v":1679},0,0]
["1684","-1900","-1900-1680",null,null,null,null,null,null,null,null,null,null,null,null,null,null,null,null,null,null,{"$f":"IF(M$2021=1,\"\",IF(U1692=\"\",\"\",VLOOKUP(U1692,Tabelle!$D$5:$H$7,5,FALSE)))","v":""},{"$f":"IF(M$2021=1,\"\",IF(U1692=\"\",\"\",VLOOKUP(U1692,Tabelle!$D$5:$I$7,6,FALSE)))","v":""},null,null,null,null,null,null,null,null,null,null,null,{"$f":"IF(B1692=\"\",0,IF(B1692=B1691,COUNTIF(B$9:B1691,B1692)+1,1))","v":1680},0,0]
["1685","-1900","-1900-1681",null,null,null,null,null,null,null,null,null,null,null,null,null,null,null,null,null,null,{"$f":"IF(M$2021=1,\"\",IF(U1693=\"\",\"\",VLOOKUP(U1693,Tabelle!$D$5:$H$7,5,FALSE)))","v":""},{"$f":"IF(M$2021=1,\"\",IF(U1693=\"\",\"\",VLOOKUP(U1693,Tabelle!$D$5:$I$7,6,FALSE)))","v":""},null,null,null,null,null,null,null,null,null,null,null,{"$f":"IF(B1693=\"\",0,IF(B1693=B1692,COUNTIF(B$9:B1692,B1693)+1,1))","v":1681},0,0]
["1686","-1900","-1900-1682",null,null,null,null,null,null,null,null,null,null,null,null,null,null,null,null,null,null,{"$f":"IF(M$2021=1,\"\",IF(U1694=\"\",\"\",VLOOKUP(U1694,Tabelle!$D$5:$H$7,5,FALSE)))","v":""},{"$f":"IF(M$2021=1,\"\",IF(U1694=\"\",\"\",VLOOKUP(U1694,Tabelle!$D$5:$I$7,6,FALSE)))","v":""},null,null,null,null,null,null,null,null,null,null,null,{"$f":"IF(B1694=\"\",0,IF(B1694=B1693,COUNTIF(B$9:B1693,B1694)+1,1))","v":1682},0,0]
["1687","-1900","-1900-1683",null,null,null,null,null,null,null,null,null,null,null,null,null,null,null,null,null,null,{"$f":"IF(M$2021=1,\"\",IF(U1695=\"\",\"\",VLOOKUP(U1695,Tabelle!$D$5:$H$7,5,FALSE)))","v":""},{"$f":"IF(M$2021=1,\"\",IF(U1695=\"\",\"\",VLOOKUP(U1695,Tabelle!$D$5:$I$7,6,FALSE)))","v":""},null,null,null,null,null,null,null,null,null,null,null,{"$f":"IF(B1695=\"\",0,IF(B1695=B1694,COUNTIF(B$9:B1694,B1695)+1,1))","v":1683},0,0]
["1688","-1900","-1900-1684",null,null,null,null,null,null,null,null,null,null,null,null,null,null,null,null,null,null,{"$f":"IF(M$2021=1,\"\",IF(U1696=\"\",\"\",VLOOKUP(U1696,Tabelle!$D$5:$H$7,5,FALSE)))","v":""},{"$f":"IF(M$2021=1,\"\",IF(U1696=\"\",\"\",VLOOKUP(U1696,Tabelle!$D$5:$I$7,6,FALSE)))","v":""},null,null,null,null,null,null,null,null,null,null,null,{"$f":"IF(B1696=\"\",0,IF(B1696=B1695,COUNTIF(B$9:B1695,B1696)+1,1))","v":1684},0,0]
["1689","-1900","-1900-1685",null,null,null,null,null,null,null,null,null,null,null,null,null,null,null,null,null,null,{"$f":"IF(M$2021=1,\"\",IF(U1697=\"\",\"\",VLOOKUP(U1697,Tabelle!$D$5:$H$7,5,FALSE)))","v":""},{"$f":"IF(M$2021=1,\"\",IF(U1697=\"\",\"\",VLOOKUP(U1697,Tabelle!$D$5:$I$7,6,FALSE)))","v":""},null,null,null,null,null,null,null,null,null,null,null,{"$f":"IF(B1697=\"\",0,IF(B1697=B1696,COUNTIF(B$9:B1696,B1697)+1,1))","v":1685},0,0]
["1690","-1900","-1900-1686",null,null,null,null,null,null,null,null,null,null,null,null,null,null,null,null,null,null,{"$f":"IF(M$2021=1,\"\",IF(U1698=\"\",\"\",VLOOKUP(U1698,Tabelle!$D$5:$H$7,5,FALSE)))","v":""},{"$f":"IF(M$2021=1,\"\",IF(U1698=\"\",\"\",VLOOKUP(U1698,Tabelle!$D$5:$I$7,6,FALSE)))","v":""},null,null,null,null,null,null,null,null,null,null,null,{"$f":"IF(B1698=\"\",0,IF(B1698=B1697,COUNTIF(B$9:B1697,B1698)+1,1))","v":1686},0,0]
["1691","-1900","-1900-1687",null,null,null,null,null,null,null,null,null,null,null,null,null,null,null,null,null,null,{"$f":"IF(M$2021=1,\"\",IF(U1699=\"\",\"\",VLOOKUP(U1699,Tabelle!$D$5:$H$7,5,FALSE)))","v":""},{"$f":"IF(M$2021=1,\"\",IF(U1699=\"\",\"\",VLOOKUP(U1699,Tabelle!$D$5:$I$7,6,FALSE)))","v":""},null,null,null,null,null,null,null,null,null,null,null,{"$f":"IF(B1699=\"\",0,IF(B1699=B1698,COUNTIF(B$9:B1698,B1699)+1,1))","v":1687},0,0]
["1692","-1900","-1900-1688",null,null,null,null,null,null,null,null,null,null,null,null,null,null,null,null,null,null,{"$f":"IF(M$2021=1,\"\",IF(U1700=\"\",\"\",VLOOKUP(U1700,Tabelle!$D$5:$H$7,5,FALSE)))","v":""},{"$f":"IF(M$2021=1,\"\",IF(U1700=\"\",\"\",VLOOKUP(U1700,Tabelle!$D$5:$I$7,6,FALSE)))","v":""},null,null,null,null,null,null,null,null,null,null,null,{"$f":"IF(B1700=\"\",0,IF(B1700=B1699,COUNTIF(B$9:B1699,B1700)+1,1))","v":1688},0,0]
["1693","-1900","-1900-1689",null,null,null,null,null,null,null,null,null,null,null,null,null,null,null,null,null,null,{"$f":"IF(M$2021=1,\"\",IF(U1701=\"\",\"\",VLOOKUP(U1701,Tabelle!$D$5:$H$7,5,FALSE)))","v":""},{"$f":"IF(M$2021=1,\"\",IF(U1701=\"\",\"\",VLOOKUP(U1701,Tabelle!$D$5:$I$7,6,FALSE)))","v":""},null,null,null,null,null,null,null,null,null,null,null,{"$f":"IF(B1701=\"\",0,IF(B1701=B1700,COUNTIF(B$9:B1700,B1701)+1,1))","v":1689},0,0]
["1694","-1900","-1900-1690",null,null,null,null,null,null,null,null,null,null,null,null,null,null,null,null,null,null,{"$f":"IF(M$2021=1,\"\",IF(U1702=\"\",\"\",VLOOKUP(U1702,Tabelle!$D$5:$H$7,5,FALSE)))","v":""},{"$f":"IF(M$2021=1,\"\",IF(U1702=\"\",\"\",VLOOKUP(U1702,Tabelle!$D$5:$I$7,6,FALSE)))","v":""},null,null,null,null,null,null,null,null,null,null,null,{"$f":"IF(B1702=\"\",0,IF(B1702=B1701,COUNTIF(B$9:B1701,B1702)+1,1))","v":1690},0,0]
["1695","-1900","-1900-1691",null,null,null,null,null,null,null,null,null,null,null,null,null,null,null,null,null,null,{"$f":"IF(M$2021=1,\"\",IF(U1703=\"\",\"\",VLOOKUP(U1703,Tabelle!$D$5:$H$7,5,FALSE)))","v":""},{"$f":"IF(M$2021=1,\"\",IF(U1703=\"\",\"\",VLOOKUP(U1703,Tabelle!$D$5:$I$7,6,FALSE)))","v":""},null,null,null,null,null,null,null,null,null,null,null,{"$f":"IF(B1703=\"\",0,IF(B1703=B1702,COUNTIF(B$9:B1702,B1703)+1,1))","v":1691},0,0]
["1696","-1900","-1900-1692",null,null,null,null,null,null,null,null,null,null,null,null,null,null,null,null,null,null,{"$f":"IF(M$2021=1,\"\",IF(U1704=\"\",\"\",VLOOKUP(U1704,Tabelle!$D$5:$H$7,5,FALSE)))","v":""},{"$f":"IF(M$2021=1,\"\",IF(U1704=\"\",\"\",VLOOKUP(U1704,Tabelle!$D$5:$I$7,6,FALSE)))","v":""},null,null,null,null,null,null,null,null,null,null,null,{"$f":"IF(B1704=\"\",0,IF(B1704=B1703,COUNTIF(B$9:B1703,B1704)+1,1))","v":1692},0,0]
["1697","-1900","-1900-1693",null,null,null,null,null,null,null,null,null,null,null,null,null,null,null,null,null,null,{"$f":"IF(M$2021=1,\"\",IF(U1705=\"\",\"\",VLOOKUP(U1705,Tabelle!$D$5:$H$7,5,FALSE)))","v":""},{"$f":"IF(M$2021=1,\"\",IF(U1705=\"\",\"\",VLOOKUP(U1705,Tabelle!$D$5:$I$7,6,FALSE)))","v":""},null,null,null,null,null,null,null,null,null,null,null,{"$f":"IF(B1705=\"\",0,IF(B1705=B1704,COUNTIF(B$9:B1704,B1705)+1,1))","v":1693},0,0]
["1698","-1900","-1900-1694",null,null,null,null,null,null,null,null,null,null,null,null,null,null,null,null,null,null,{"$f":"IF(M$2021=1,\"\",IF(U1706=\"\",\"\",VLOOKUP(U1706,Tabelle!$D$5:$H$7,5,FALSE)))","v":""},{"$f":"IF(M$2021=1,\"\",IF(U1706=\"\",\"\",VLOOKUP(U1706,Tabelle!$D$5:$I$7,6,FALSE)))","v":""},null,null,null,null,null,null,null,null,null,null,null,{"$f":"IF(B1706=\"\",0,IF(B1706=B1705,COUNTIF(B$9:B1705,B1706)+1,1))","v":1694},0,0]
["1699","-1900","-1900-1695",null,null,null,null,null,null,null,null,null,null,null,null,null,null,null,null,null,null,{"$f":"IF(M$2021=1,\"\",IF(U1707=\"\",\"\",VLOOKUP(U1707,Tabelle!$D$5:$H$7,5,FALSE)))","v":""},{"$f":"IF(M$2021=1,\"\",IF(U1707=\"\",\"\",VLOOKUP(U1707,Tabelle!$D$5:$I$7,6,FALSE)))","v":""},null,null,null,null,null,null,null,null,null,null,null,{"$f":"IF(B1707=\"\",0,IF(B1707=B1706,COUNTIF(B$9:B1706,B1707)+1,1))","v":1695},0,0]
["1700","-1900","-1900-1696",null,null,null,null,null,null,null,null,null,null,null,null,null,null,null,null,null,null,{"$f":"IF(M$2021=1,\"\",IF(U1708=\"\",\"\",VLOOKUP(U1708,Tabelle!$D$5:$H$7,5,FALSE)))","v":""},{"$f":"IF(M$2021=1,\"\",IF(U1708=\"\",\"\",VLOOKUP(U1708,Tabelle!$D$5:$I$7,6,FALSE)))","v":""},null,null,null,null,null,null,null,null,null,null,null,{"$f":"IF(B1708=\"\",0,IF(B1708=B1707,COUNTIF(B$9:B1707,B1708)+1,1))","v":1696},0,0]
["1701","-1900","-1900-1697",null,null,null,null,null,null,null,null,null,null,null,null,null,null,null,null,null,null,{"$f":"IF(M$2021=1,\"\",IF(U1709=\"\",\"\",VLOOKUP(U1709,Tabelle!$D$5:$H$7,5,FALSE)))","v":""},{"$f":"IF(M$2021=1,\"\",IF(U1709=\"\",\"\",VLOOKUP(U1709,Tabelle!$D$5:$I$7,6,FALSE)))","v":""},null,null,null,null,null,null,null,null,null,null,null,{"$f":"IF(B1709=\"\",0,IF(B1709=B1708,COUNTIF(B$9:B1708,B1709)+1,1))","v":1697},0,0]
["1702","-1900","-1900-1698",null,null,null,null,null,null,null,null,null,null,null,null,null,null,null,null,null,null,{"$f":"IF(M$2021=1,\"\",IF(U1710=\"\",\"\",VLOOKUP(U1710,Tabelle!$D$5:$H$7,5,FALSE)))","v":""},{"$f":"IF(M$2021=1,\"\",IF(U1710=\"\",\"\",VLOOKUP(U1710,Tabelle!$D$5:$I$7,6,FALSE)))","v":""},null,null,null,null,null,null,null,null,null,null,null,{"$f":"IF(B1710=\"\",0,IF(B1710=B1709,COUNTIF(B$9:B1709,B1710)+1,1))","v":1698},0,0]
["1703","-1900","-1900-1699",null,null,null,null,null,null,null,null,null,null,null,null,null,null,null,null,null,null,{"$f":"IF(M$2021=1,\"\",IF(U1711=\"\",\"\",VLOOKUP(U1711,Tabelle!$D$5:$H$7,5,FALSE)))","v":""},{"$f":"IF(M$2021=1,\"\",IF(U1711=\"\",\"\",VLOOKUP(U1711,Tabelle!$D$5:$I$7,6,FALSE)))","v":""},null,null,null,null,null,null,null,null,null,null,null,{"$f":"IF(B1711=\"\",0,IF(B1711=B1710,COUNTIF(B$9:B1710,B1711)+1,1))","v":1699},0,0]
["1704","-1900","-1900-1700",null,null,null,null,null,null,null,null,null,null,null,null,null,null,null,null,null,null,{"$f":"IF(M$2021=1,\"\",IF(U1712=\"\",\"\",VLOOKUP(U1712,Tabelle!$D$5:$H$7,5,FALSE)))","v":""},{"$f":"IF(M$2021=1,\"\",IF(U1712=\"\",\"\",VLOOKUP(U1712,Tabelle!$D$5:$I$7,6,FALSE)))","v":""},null,null,null,null,null,null,null,null,null,null,null,{"$f":"IF(B1712=\"\",0,IF(B1712=B1711,COUNTIF(B$9:B1711,B1712)+1,1))","v":1700},0,0]
["1705","-1900","-1900-1701",null,null,null,null,null,null,null,null,null,null,null,null,null,null,null,null,null,null,{"$f":"IF(M$2021=1,\"\",IF(U1713=\"\",\"\",VLOOKUP(U1713,Tabelle!$D$5:$H$7,5,FALSE)))","v":""},{"$f":"IF(M$2021=1,\"\",IF(U1713=\"\",\"\",VLOOKUP(U1713,Tabelle!$D$5:$I$7,6,FALSE)))","v":""},null,null,null,null,null,null,null,null,null,null,null,{"$f":"IF(B1713=\"\",0,IF(B1713=B1712,COUNTIF(B$9:B1712,B1713)+1,1))","v":1701},0,0]
["1706","-1900","-1900-1702",null,null,null,null,null,null,null,null,null,null,null,null,null,null,null,null,null,null,{"$f":"IF(M$2021=1,\"\",IF(U1714=\"\",\"\",VLOOKUP(U1714,Tabelle!$D$5:$H$7,5,FALSE)))","v":""},{"$f":"IF(M$2021=1,\"\",IF(U1714=\"\",\"\",VLOOKUP(U1714,Tabelle!$D$5:$I$7,6,FALSE)))","v":""},null,null,null,null,null,null,null,null,null,null,null,{"$f":"IF(B1714=\"\",0,IF(B1714=B1713,COUNTIF(B$9:B1713,B1714)+1,1))","v":1702},0,0]
["1707","-1900","-1900-1703",null,null,null,null,null,null,null,null,null,null,null,null,null,null,null,null,null,null,{"$f":"IF(M$2021=1,\"\",IF(U1715=\"\",\"\",VLOOKUP(U1715,Tabelle!$D$5:$H$7,5,FALSE)))","v":""},{"$f":"IF(M$2021=1,\"\",IF(U1715=\"\",\"\",VLOOKUP(U1715,Tabelle!$D$5:$I$7,6,FALSE)))","v":""},null,null,null,null,null,null,null,null,null,null,null,{"$f":"IF(B1715=\"\",0,IF(B1715=B1714,COUNTIF(B$9:B1714,B1715)+1,1))","v":1703},0,0]
["1708","-1900","-1900-1704",null,null,null,null,null,null,null,null,null,null,null,null,null,null,null,null,null,null,{"$f":"IF(M$2021=1,\"\",IF(U1716=\"\",\"\",VLOOKUP(U1716,Tabelle!$D$5:$H$7,5,FALSE)))","v":""},{"$f":"IF(M$2021=1,\"\",IF(U1716=\"\",\"\",VLOOKUP(U1716,Tabelle!$D$5:$I$7,6,FALSE)))","v":""},null,null,null,null,null,null,null,null,null,null,null,{"$f":"IF(B1716=\"\",0,IF(B1716=B1715,COUNTIF(B$9:B1715,B1716)+1,1))","v":1704},0,0]
["1709","-1900","-1900-1705",null,null,null,null,null,null,null,null,null,null,null,null,null,null,null,null,null,null,{"$f":"IF(M$2021=1,\"\",IF(U1717=\"\",\"\",VLOOKUP(U1717,Tabelle!$D$5:$H$7,5,FALSE)))","v":""},{"$f":"IF(M$2021=1,\"\",IF(U1717=\"\",\"\",VLOOKUP(U1717,Tabelle!$D$5:$I$7,6,FALSE)))","v":""},null,null,null,null,null,null,null,null,null,null,null,{"$f":"IF(B1717=\"\",0,IF(B1717=B1716,COUNTIF(B$9:B1716,B1717)+1,1))","v":1705},0,0]
["1710","-1900","-1900-1706",null,null,null,null,null,null,null,null,null,null,null,null,null,null,null,null,null,null,{"$f":"IF(M$2021=1,\"\",IF(U1718=\"\",\"\",VLOOKUP(U1718,Tabelle!$D$5:$H$7,5,FALSE)))","v":""},{"$f":"IF(M$2021=1,\"\",IF(U1718=\"\",\"\",VLOOKUP(U1718,Tabelle!$D$5:$I$7,6,FALSE)))","v":""},null,null,null,null,null,null,null,null,null,null,null,{"$f":"IF(B1718=\"\",0,IF(B1718=B1717,COUNTIF(B$9:B1717,B1718)+1,1))","v":1706},0,0]
["1711","-1900","-1900-1707",null,null,null,null,null,null,null,null,null,null,null,null,null,null,null,null,null,null,{"$f":"IF(M$2021=1,\"\",IF(U1719=\"\",\"\",VLOOKUP(U1719,Tabelle!$D$5:$H$7,5,FALSE)))","v":""},{"$f":"IF(M$2021=1,\"\",IF(U1719=\"\",\"\",VLOOKUP(U1719,Tabelle!$D$5:$I$7,6,FALSE)))","v":""},null,null,null,null,null,null,null,null,null,null,null,{"$f":"IF(B1719=\"\",0,IF(B1719=B1718,COUNTIF(B$9:B1718,B1719)+1,1))","v":1707},0,0]
["1712","-1900","-1900-1708",null,null,null,null,null,null,null,null,null,null,null,null,null,null,null,null,null,null,{"$f":"IF(M$2021=1,\"\",IF(U1720=\"\",\"\",VLOOKUP(U1720,Tabelle!$D$5:$H$7,5,FALSE)))","v":""},{"$f":"IF(M$2021=1,\"\",IF(U1720=\"\",\"\",VLOOKUP(U1720,Tabelle!$D$5:$I$7,6,FALSE)))","v":""},null,null,null,null,null,null,null,null,null,null,null,{"$f":"IF(B1720=\"\",0,IF(B1720=B1719,COUNTIF(B$9:B1719,B1720)+1,1))","v":1708},0,0]
["1713","-1900","-1900-1709",null,null,null,null,null,null,null,null,null,null,null,null,null,null,null,null,null,null,{"$f":"IF(M$2021=1,\"\",IF(U1721=\"\",\"\",VLOOKUP(U1721,Tabelle!$D$5:$H$7,5,FALSE)))","v":""},{"$f":"IF(M$2021=1,\"\",IF(U1721=\"\",\"\",VLOOKUP(U1721,Tabelle!$D$5:$I$7,6,FALSE)))","v":""},null,null,null,null,null,null,null,null,null,null,null,{"$f":"IF(B1721=\"\",0,IF(B1721=B1720,COUNTIF(B$9:B1720,B1721)+1,1))","v":1709},0,0]
["1714","-1900","-1900-1710",null,null,null,null,null,null,null,null,null,null,null,null,null,null,null,null,null,null,{"$f":"IF(M$2021=1,\"\",IF(U1722=\"\",\"\",VLOOKUP(U1722,Tabelle!$D$5:$H$7,5,FALSE)))","v":""},{"$f":"IF(M$2021=1,\"\",IF(U1722=\"\",\"\",VLOOKUP(U1722,Tabelle!$D$5:$I$7,6,FALSE)))","v":""},null,null,null,null,null,null,null,null,null,null,null,{"$f":"IF(B1722=\"\",0,IF(B1722=B1721,COUNTIF(B$9:B1721,B1722)+1,1))","v":1710},0,0]
["1715","-1900","-1900-1711",null,null,null,null,null,null,null,null,null,null,null,null,null,null,null,null,null,null,{"$f":"IF(M$2021=1,\"\",IF(U1723=\"\",\"\",VLOOKUP(U1723,Tabelle!$D$5:$H$7,5,FALSE)))","v":""},{"$f":"IF(M$2021=1,\"\",IF(U1723=\"\",\"\",VLOOKUP(U1723,Tabelle!$D$5:$I$7,6,FALSE)))","v":""},null,null,null,null,null,null,null,null,null,null,null,{"$f":"IF(B1723=\"\",0,IF(B1723=B1722,COUNTIF(B$9:B1722,B1723)+1,1))","v":1711},0,0]
["1716","-1900","-1900-1712",null,null,null,null,null,null,null,null,null,null,null,null,null,null,null,null,null,null,{"$f":"IF(M$2021=1,\"\",IF(U1724=\"\",\"\",VLOOKUP(U1724,Tabelle!$D$5:$H$7,5,FALSE)))","v":""},{"$f":"IF(M$2021=1,\"\",IF(U1724=\"\",\"\",VLOOKUP(U1724,Tabelle!$D$5:$I$7,6,FALSE)))","v":""},null,null,null,null,null,null,null,null,null,null,null,{"$f":"IF(B1724=\"\",0,IF(B1724=B1723,COUNTIF(B$9:B1723,B1724)+1,1))","v":1712},0,0]
["1717","-1900","-1900-1713",null,null,null,null,null,null,null,null,null,null,null,null,null,null,null,null,null,null,{"$f":"IF(M$2021=1,\"\",IF(U1725=\"\",\"\",VLOOKUP(U1725,Tabelle!$D$5:$H$7,5,FALSE)))","v":""},{"$f":"IF(M$2021=1,\"\",IF(U1725=\"\",\"\",VLOOKUP(U1725,Tabelle!$D$5:$I$7,6,FALSE)))","v":""},null,null,null,null,null,null,null,null,null,null,null,{"$f":"IF(B1725=\"\",0,IF(B1725=B1724,COUNTIF(B$9:B1724,B1725)+1,1))","v":1713},0,0]
["1718","-1900","-1900-1714",null,null,null,null,null,null,null,null,null,null,null,null,null,null,null,null,null,null,{"$f":"IF(M$2021=1,\"\",IF(U1726=\"\",\"\",VLOOKUP(U1726,Tabelle!$D$5:$H$7,5,FALSE)))","v":""},{"$f":"IF(M$2021=1,\"\",IF(U1726=\"\",\"\",VLOOKUP(U1726,Tabelle!$D$5:$I$7,6,FALSE)))","v":""},null,null,null,null,null,null,null,null,null,null,null,{"$f":"IF(B1726=\"\",0,IF(B1726=B1725,COUNTIF(B$9:B1725,B1726)+1,1))","v":1714},0,0]
["1719","-1900","-1900-1715",null,null,null,null,null,null,null,null,null,null,null,null,null,null,null,null,null,null,{"$f":"IF(M$2021=1,\"\",IF(U1727=\"\",\"\",VLOOKUP(U1727,Tabelle!$D$5:$H$7,5,FALSE)))","v":""},{"$f":"IF(M$2021=1,\"\",IF(U1727=\"\",\"\",VLOOKUP(U1727,Tabelle!$D$5:$I$7,6,FALSE)))","v":""},null,null,null,null,null,null,null,null,null,null,null,{"$f":"IF(B1727=\"\",0,IF(B1727=B1726,COUNTIF(B$9:B1726,B1727)+1,1))","v":1715},0,0]
["1720","-1900","-1900-1716",null,null,null,null,null,null,null,null,null,null,null,null,null,null,null,null,null,null,{"$f":"IF(M$2021=1,\"\",IF(U1728=\"\",\"\",VLOOKUP(U1728,Tabelle!$D$5:$H$7,5,FALSE)))","v":""},{"$f":"IF(M$2021=1,\"\",IF(U1728=\"\",\"\",VLOOKUP(U1728,Tabelle!$D$5:$I$7,6,FALSE)))","v":""},null,null,null,null,null,null,null,null,null,null,null,{"$f":"IF(B1728=\"\",0,IF(B1728=B1727,COUNTIF(B$9:B1727,B1728)+1,1))","v":1716},0,0]
["1721","-1900","-1900-1717",null,null,null,null,null,null,null,null,null,null,null,null,null,null,null,null,null,null,{"$f":"IF(M$2021=1,\"\",IF(U1729=\"\",\"\",VLOOKUP(U1729,Tabelle!$D$5:$H$7,5,FALSE)))","v":""},{"$f":"IF(M$2021=1,\"\",IF(U1729=\"\",\"\",VLOOKUP(U1729,Tabelle!$D$5:$I$7,6,FALSE)))","v":""},null,null,null,null,null,null,null,null,null,null,null,{"$f":"IF(B1729=\"\",0,IF(B1729=B1728,COUNTIF(B$9:B1728,B1729)+1,1))","v":1717},0,0]
["1722","-1900","-1900-1718",null,null,null,null,null,null,null,null,null,null,null,null,null,null,null,null,null,null,{"$f":"IF(M$2021=1,\"\",IF(U1730=\"\",\"\",VLOOKUP(U1730,Tabelle!$D$5:$H$7,5,FALSE)))","v":""},{"$f":"IF(M$2021=1,\"\",IF(U1730=\"\",\"\",VLOOKUP(U1730,Tabelle!$D$5:$I$7,6,FALSE)))","v":""},null,null,null,null,null,null,null,null,null,null,null,{"$f":"IF(B1730=\"\",0,IF(B1730=B1729,COUNTIF(B$9:B1729,B1730)+1,1))","v":1718},0,0]
["1723","-1900","-1900-1719",null,null,null,null,null,null,null,null,null,null,null,null,null,null,null,null,null,null,{"$f":"IF(M$2021=1,\"\",IF(U1731=\"\",\"\",VLOOKUP(U1731,Tabelle!$D$5:$H$7,5,FALSE)))","v":""},{"$f":"IF(M$2021=1,\"\",IF(U1731=\"\",\"\",VLOOKUP(U1731,Tabelle!$D$5:$I$7,6,FALSE)))","v":""},null,null,null,null,null,null,null,null,null,null,null,{"$f":"IF(B1731=\"\",0,IF(B1731=B1730,COUNTIF(B$9:B1730,B1731)+1,1))","v":1719},0,0]
["1724","-1900","-1900-1720",null,null,null,null,null,null,null,null,null,null,null,null,null,null,null,null,null,null,{"$f":"IF(M$2021=1,\"\",IF(U1732=\"\",\"\",VLOOKUP(U1732,Tabelle!$D$5:$H$7,5,FALSE)))","v":""},{"$f":"IF(M$2021=1,\"\",IF(U1732=\"\",\"\",VLOOKUP(U1732,Tabelle!$D$5:$I$7,6,FALSE)))","v":""},null,null,null,null,null,null,null,null,null,null,null,{"$f":"IF(B1732=\"\",0,IF(B1732=B1731,COUNTIF(B$9:B1731,B1732)+1,1))","v":1720},0,0]
["1725","-1900","-1900-1721",null,null,null,null,null,null,null,null,null,null,null,null,null,null,null,null,null,null,{"$f":"IF(M$2021=1,\"\",IF(U1733=\"\",\"\",VLOOKUP(U1733,Tabelle!$D$5:$H$7,5,FALSE)))","v":""},{"$f":"IF(M$2021=1,\"\",IF(U1733=\"\",\"\",VLOOKUP(U1733,Tabelle!$D$5:$I$7,6,FALSE)))","v":""},null,null,null,null,null,null,null,null,null,null,null,{"$f":"IF(B1733=\"\",0,IF(B1733=B1732,COUNTIF(B$9:B1732,B1733)+1,1))","v":1721},0,0]
["1726","-1900","-1900-1722",null,null,null,null,null,null,null,null,null,null,null,null,null,null,null,null,null,null,{"$f":"IF(M$2021=1,\"\",IF(U1734=\"\",\"\",VLOOKUP(U1734,Tabelle!$D$5:$H$7,5,FALSE)))","v":""},{"$f":"IF(M$2021=1,\"\",IF(U1734=\"\",\"\",VLOOKUP(U1734,Tabelle!$D$5:$I$7,6,FALSE)))","v":""},null,null,null,null,null,null,null,null,null,null,null,{"$f":"IF(B1734=\"\",0,IF(B1734=B1733,COUNTIF(B$9:B1733,B1734)+1,1))","v":1722},0,0]
["1727","-1900","-1900-1723",null,null,null,null,null,null,null,null,null,null,null,null,null,null,null,null,null,null,{"$f":"IF(M$2021=1,\"\",IF(U1735=\"\",\"\",VLOOKUP(U1735,Tabelle!$D$5:$H$7,5,FALSE)))","v":""},{"$f":"IF(M$2021=1,\"\",IF(U1735=\"\",\"\",VLOOKUP(U1735,Tabelle!$D$5:$I$7,6,FALSE)))","v":""},null,null,null,null,null,null,null,null,null,null,null,{"$f":"IF(B1735=\"\",0,IF(B1735=B1734,COUNTIF(B$9:B1734,B1735)+1,1))","v":1723},0,0]
["1728","-1900","-1900-1724",null,null,null,null,null,null,null,null,null,null,null,null,null,null,null,null,null,null,{"$f":"IF(M$2021=1,\"\",IF(U1736=\"\",\"\",VLOOKUP(U1736,Tabelle!$D$5:$H$7,5,FALSE)))","v":""},{"$f":"IF(M$2021=1,\"\",IF(U1736=\"\",\"\",VLOOKUP(U1736,Tabelle!$D$5:$I$7,6,FALSE)))","v":""},null,null,null,null,null,null,null,null,null,null,null,{"$f":"IF(B1736=\"\",0,IF(B1736=B1735,COUNTIF(B$9:B1735,B1736)+1,1))","v":1724},0,0]
["1729","-1900",{"$f":"IF(M$2021=1,0,B1737&\"-\"&AI1737)","v":"-1900-1725"},null,null,null,null,null,null,null,null,null,null,null,null,null,null,null,null,null,null,{"$f":"IF(M$2021=1,\"\",IF(U1737=\"\",\"\",VLOOKUP(U1737,Tabelle!$D$5:$H$7,5,FALSE)))","v":""},{"$f":"IF(M$2021=1,\"\",IF(U1737=\"\",\"\",VLOOKUP(U1737,Tabelle!$D$5:$I$7,6,FALSE)))","v":""},null,null,null,null,null,null,null,null,null,null,null,{"$f":"IF(B1737=\"\",0,IF(B1737=B1736,COUNTIF(B$9:B1736,B1737)+1,1))","v":1725},0,0]
["1730",{"$f":"IF(AK1738=$AK$2015,0,IF(M$2021=1,0,D1738&\"-\"&YEAR(E1738)))","v":"-1900"},"-1900-1726",null,null,null,null,null,null,null,null,null,null,null,null,null,null,null,null,null,null,{"$f":"IF(M$2021=1,\"\",IF(U1738=\"\",\"\",VLOOKUP(U1738,Tabelle!$D$5:$H$7,5,FALSE)))","v":""},{"$f":"IF(M$2021=1,\"\",IF(U1738=\"\",\"\",VLOOKUP(U1738,Tabelle!$D$5:$I$7,6,FALSE)))","v":""},null,null,null,null,null,null,null,null,null,null,null,{"$f":"IF(B1738=\"\",0,IF(B1738=B1737,COUNTIF(B$9:B1737,B1738)+1,1))","v":1726},{"$f":"IF(OR(D1738=\"\",M$2021=1),0,IF(AI1738=10,1,0))","v":0},{"$f":"IF(E1738>0,IF(OR(MONTH(E1738)<$J$2027,MONTH(E1738)>$J$2028),AK$2015,0),0)","v":0}]
["1731","-1900","-1900-1727",null,null,null,null,null,null,null,null,null,null,null,null,null,null,null,null,null,null,{"$f":"IF(M$2021=1,\"\",IF(U1739=\"\",\"\",VLOOKUP(U1739,Tabelle!$D$5:$H$7,5,FALSE)))","v":""},{"$f":"IF(M$2021=1,\"\",IF(U1739=\"\",\"\",VLOOKUP(U1739,Tabelle!$D$5:$I$7,6,FALSE)))","v":""},null,null,null,null,null,null,null,null,null,null,null,{"$f":"IF(B1739=\"\",0,IF(B1739=B1738,COUNTIF(B$9:B1738,B1739)+1,1))","v":1727},0,0]
["1732","-1900","-1900-1728",null,null,null,null,null,null,null,null,null,null,null,null,null,null,null,null,null,null,{"$f":"IF(M$2021=1,\"\",IF(U1740=\"\",\"\",VLOOKUP(U1740,Tabelle!$D$5:$H$7,5,FALSE)))","v":""},{"$f":"IF(M$2021=1,\"\",IF(U1740=\"\",\"\",VLOOKUP(U1740,Tabelle!$D$5:$I$7,6,FALSE)))","v":""},null,null,null,null,null,null,null,null,null,null,null,{"$f":"IF(B1740=\"\",0,IF(B1740=B1739,COUNTIF(B$9:B1739,B1740)+1,1))","v":1728},0,0]
["1733","-1900","-1900-1729",null,null,null,null,null,null,null,null,null,null,null,null,null,null,null,null,null,null,{"$f":"IF(M$2021=1,\"\",IF(U1741=\"\",\"\",VLOOKUP(U1741,Tabelle!$D$5:$H$7,5,FALSE)))","v":""},{"$f":"IF(M$2021=1,\"\",IF(U1741=\"\",\"\",VLOOKUP(U1741,Tabelle!$D$5:$I$7,6,FALSE)))","v":""},null,null,null,null,null,null,null,null,null,null,null,{"$f":"IF(B1741=\"\",0,IF(B1741=B1740,COUNTIF(B$9:B1740,B1741)+1,1))","v":1729},0,0]
["1734","-1900","-1900-1730",null,null,null,null,null,null,null,null,null,null,null,null,null,null,null,null,null,null,{"$f":"IF(M$2021=1,\"\",IF(U1742=\"\",\"\",VLOOKUP(U1742,Tabelle!$D$5:$H$7,5,FALSE)))","v":""},{"$f":"IF(M$2021=1,\"\",IF(U1742=\"\",\"\",VLOOKUP(U1742,Tabelle!$D$5:$I$7,6,FALSE)))","v":""},null,null,null,null,null,null,null,null,null,null,null,{"$f":"IF(B1742=\"\",0,IF(B1742=B1741,COUNTIF(B$9:B1741,B1742)+1,1))","v":1730},0,0]
["1735","-1900","-1900-1731",null,null,null,null,null,null,null,null,null,null,null,null,null,null,null,null,null,null,{"$f":"IF(M$2021=1,\"\",IF(U1743=\"\",\"\",VLOOKUP(U1743,Tabelle!$D$5:$H$7,5,FALSE)))","v":""},{"$f":"IF(M$2021=1,\"\",IF(U1743=\"\",\"\",VLOOKUP(U1743,Tabelle!$D$5:$I$7,6,FALSE)))","v":""},null,null,null,null,null,null,null,null,null,null,null,{"$f":"IF(B1743=\"\",0,IF(B1743=B1742,COUNTIF(B$9:B1742,B1743)+1,1))","v":1731},0,0]
["1736","-1900","-1900-1732",null,null,null,null,null,null,null,null,null,null,null,null,null,null,null,null,null,null,{"$f":"IF(M$2021=1,\"\",IF(U1744=\"\",\"\",VLOOKUP(U1744,Tabelle!$D$5:$H$7,5,FALSE)))","v":""},{"$f":"IF(M$2021=1,\"\",IF(U1744=\"\",\"\",VLOOKUP(U1744,Tabelle!$D$5:$I$7,6,FALSE)))","v":""},null,null,null,null,null,null,null,null,null,null,null,{"$f":"IF(B1744=\"\",0,IF(B1744=B1743,COUNTIF(B$9:B1743,B1744)+1,1))","v":1732},0,0]
["1737","-1900","-1900-1733",null,null,null,null,null,null,null,null,null,null,null,null,null,null,null,null,null,null,{"$f":"IF(M$2021=1,\"\",IF(U1745=\"\",\"\",VLOOKUP(U1745,Tabelle!$D$5:$H$7,5,FALSE)))","v":""},{"$f":"IF(M$2021=1,\"\",IF(U1745=\"\",\"\",VLOOKUP(U1745,Tabelle!$D$5:$I$7,6,FALSE)))","v":""},null,null,null,null,null,null,null,null,null,null,null,{"$f":"IF(B1745=\"\",0,IF(B1745=B1744,COUNTIF(B$9:B1744,B1745)+1,1))","v":1733},0,0]
["1738","-1900","-1900-1734",null,null,null,null,null,null,null,null,null,null,null,null,null,null,null,null,null,null,{"$f":"IF(M$2021=1,\"\",IF(U1746=\"\",\"\",VLOOKUP(U1746,Tabelle!$D$5:$H$7,5,FALSE)))","v":""},{"$f":"IF(M$2021=1,\"\",IF(U1746=\"\",\"\",VLOOKUP(U1746,Tabelle!$D$5:$I$7,6,FALSE)))","v":""},null,null,null,null,null,null,null,null,null,null,null,{"$f":"IF(B1746=\"\",0,IF(B1746=B1745,COUNTIF(B$9:B1745,B1746)+1,1))","v":1734},0,0]
["1739","-1900","-1900-1735",null,null,null,null,null,null,null,null,null,null,null,null,null,null,null,null,null,null,{"$f":"IF(M$2021=1,\"\",IF(U1747=\"\",\"\",VLOOKUP(U1747,Tabelle!$D$5:$H$7,5,FALSE)))","v":""},{"$f":"IF(M$2021=1,\"\",IF(U1747=\"\",\"\",VLOOKUP(U1747,Tabelle!$D$5:$I$7,6,FALSE)))","v":""},null,null,null,null,null,null,null,null,null,null,null,{"$f":"IF(B1747=\"\",0,IF(B1747=B1746,COUNTIF(B$9:B1746,B1747)+1,1))","v":1735},0,0]
["1740","-1900","-1900-1736",null,null,null,null,null,null,null,null,null,null,null,null,null,null,null,null,null,null,{"$f":"IF(M$2021=1,\"\",IF(U1748=\"\",\"\",VLOOKUP(U1748,Tabelle!$D$5:$H$7,5,FALSE)))","v":""},{"$f":"IF(M$2021=1,\"\",IF(U1748=\"\",\"\",VLOOKUP(U1748,Tabelle!$D$5:$I$7,6,FALSE)))","v":""},null,null,null,null,null,null,null,null,null,null,null,{"$f":"IF(B1748=\"\",0,IF(B1748=B1747,COUNTIF(B$9:B1747,B1748)+1,1))","v":1736},0,0]
["1741","-1900","-1900-1737",null,null,null,null,null,null,null,null,null,null,null,null,null,null,null,null,null,null,{"$f":"IF(M$2021=1,\"\",IF(U1749=\"\",\"\",VLOOKUP(U1749,Tabelle!$D$5:$H$7,5,FALSE)))","v":""},{"$f":"IF(M$2021=1,\"\",IF(U1749=\"\",\"\",VLOOKUP(U1749,Tabelle!$D$5:$I$7,6,FALSE)))","v":""},null,null,null,null,null,null,null,null,null,null,null,{"$f":"IF(B1749=\"\",0,IF(B1749=B1748,COUNTIF(B$9:B1748,B1749)+1,1))","v":1737},0,0]
["1742","-1900","-1900-1738",null,null,null,null,null,null,null,null,null,null,null,null,null,null,null,null,null,null,{"$f":"IF(M$2021=1,\"\",IF(U1750=\"\",\"\",VLOOKUP(U1750,Tabelle!$D$5:$H$7,5,FALSE)))","v":""},{"$f":"IF(M$2021=1,\"\",IF(U1750=\"\",\"\",VLOOKUP(U1750,Tabelle!$D$5:$I$7,6,FALSE)))","v":""},null,null,null,null,null,null,null,null,null,null,null,{"$f":"IF(B1750=\"\",0,IF(B1750=B1749,COUNTIF(B$9:B1749,B1750)+1,1))","v":1738},0,0]
["1743","-1900","-1900-1739",null,null,null,null,null,null,null,null,null,null,null,null,null,null,null,null,null,null,{"$f":"IF(M$2021=1,\"\",IF(U1751=\"\",\"\",VLOOKUP(U1751,Tabelle!$D$5:$H$7,5,FALSE)))","v":""},{"$f":"IF(M$2021=1,\"\",IF(U1751=\"\",\"\",VLOOKUP(U1751,Tabelle!$D$5:$I$7,6,FALSE)))","v":""},null,null,null,null,null,null,null,null,null,null,null,{"$f":"IF(B1751=\"\",0,IF(B1751=B1750,COUNTIF(B$9:B1750,B1751)+1,1))","v":1739},0,0]
["1744","-1900","-1900-1740",null,null,null,null,null,null,null,null,null,null,null,null,null,null,null,null,null,null,{"$f":"IF(M$2021=1,\"\",IF(U1752=\"\",\"\",VLOOKUP(U1752,Tabelle!$D$5:$H$7,5,FALSE)))","v":""},{"$f":"IF(M$2021=1,\"\",IF(U1752=\"\",\"\",VLOOKUP(U1752,Tabelle!$D$5:$I$7,6,FALSE)))","v":""},null,null,null,null,null,null,null,null,null,null,null,{"$f":"IF(B1752=\"\",0,IF(B1752=B1751,COUNTIF(B$9:B1751,B1752)+1,1))","v":1740},0,0]
["1745","-1900","-1900-1741",null,null,null,null,null,null,null,null,null,null,null,null,null,null,null,null,null,null,{"$f":"IF(M$2021=1,\"\",IF(U1753=\"\",\"\",VLOOKUP(U1753,Tabelle!$D$5:$H$7,5,FALSE)))","v":""},{"$f":"IF(M$2021=1,\"\",IF(U1753=\"\",\"\",VLOOKUP(U1753,Tabelle!$D$5:$I$7,6,FALSE)))","v":""},null,null,null,null,null,null,null,null,null,null,null,{"$f":"IF(B1753=\"\",0,IF(B1753=B1752,COUNTIF(B$9:B1752,B1753)+1,1))","v":1741},0,0]
["1746","-1900","-1900-1742",null,null,null,null,null,null,null,null,null,null,null,null,null,null,null,null,null,null,{"$f":"IF(M$2021=1,\"\",IF(U1754=\"\",\"\",VLOOKUP(U1754,Tabelle!$D$5:$H$7,5,FALSE)))","v":""},{"$f":"IF(M$2021=1,\"\",IF(U1754=\"\",\"\",VLOOKUP(U1754,Tabelle!$D$5:$I$7,6,FALSE)))","v":""},null,null,null,null,null,null,null,null,null,null,null,{"$f":"IF(B1754=\"\",0,IF(B1754=B1753,COUNTIF(B$9:B1753,B1754)+1,1))","v":1742},0,0]
["1747","-1900","-1900-1743",null,null,null,null,null,null,null,null,null,null,null,null,null,null,null,null,null,null,{"$f":"IF(M$2021=1,\"\",IF(U1755=\"\",\"\",VLOOKUP(U1755,Tabelle!$D$5:$H$7,5,FALSE)))","v":""},{"$f":"IF(M$2021=1,\"\",IF(U1755=\"\",\"\",VLOOKUP(U1755,Tabelle!$D$5:$I$7,6,FALSE)))","v":""},null,null,null,null,null,null,null,null,null,null,null,{"$f":"IF(B1755=\"\",0,IF(B1755=B1754,COUNTIF(B$9:B1754,B1755)+1,1))","v":1743},0,0]
["1748","-1900","-1900-1744",null,null,null,null,null,null,null,null,null,null,null,null,null,null,null,null,null,null,{"$f":"IF(M$2021=1,\"\",IF(U1756=\"\",\"\",VLOOKUP(U1756,Tabelle!$D$5:$H$7,5,FALSE)))","v":""},{"$f":"IF(M$2021=1,\"\",IF(U1756=\"\",\"\",VLOOKUP(U1756,Tabelle!$D$5:$I$7,6,FALSE)))","v":""},null,null,null,null,null,null,null,null,null,null,null,{"$f":"IF(B1756=\"\",0,IF(B1756=B1755,COUNTIF(B$9:B1755,B1756)+1,1))","v":1744},0,0]
["1749","-1900","-1900-1745",null,null,null,null,null,null,null,null,null,null,null,null,null,null,null,null,null,null,{"$f":"IF(M$2021=1,\"\",IF(U1757=\"\",\"\",VLOOKUP(U1757,Tabelle!$D$5:$H$7,5,FALSE)))","v":""},{"$f":"IF(M$2021=1,\"\",IF(U1757=\"\",\"\",VLOOKUP(U1757,Tabelle!$D$5:$I$7,6,FALSE)))","v":""},null,null,null,null,null,null,null,null,null,null,null,{"$f":"IF(B1757=\"\",0,IF(B1757=B1756,COUNTIF(B$9:B1756,B1757)+1,1))","v":1745},0,0]
["1750","-1900","-1900-1746",null,null,null,null,null,null,null,null,null,null,null,null,null,null,null,null,null,null,{"$f":"IF(M$2021=1,\"\",IF(U1758=\"\",\"\",VLOOKUP(U1758,Tabelle!$D$5:$H$7,5,FALSE)))","v":""},{"$f":"IF(M$2021=1,\"\",IF(U1758=\"\",\"\",VLOOKUP(U1758,Tabelle!$D$5:$I$7,6,FALSE)))","v":""},null,null,null,null,null,null,null,null,null,null,null,{"$f":"IF(B1758=\"\",0,IF(B1758=B1757,COUNTIF(B$9:B1757,B1758)+1,1))","v":1746},0,0]
["1751","-1900","-1900-1747",null,null,null,null,null,null,null,null,null,null,null,null,null,null,null,null,null,null,{"$f":"IF(M$2021=1,\"\",IF(U1759=\"\",\"\",VLOOKUP(U1759,Tabelle!$D$5:$H$7,5,FALSE)))","v":""},{"$f":"IF(M$2021=1,\"\",IF(U1759=\"\",\"\",VLOOKUP(U1759,Tabelle!$D$5:$I$7,6,FALSE)))","v":""},null,null,null,null,null,null,null,null,null,null,null,{"$f":"IF(B1759=\"\",0,IF(B1759=B1758,COUNTIF(B$9:B1758,B1759)+1,1))","v":1747},0,0]
["1752","-1900","-1900-1748",null,null,null,null,null,null,null,null,null,null,null,null,null,null,null,null,null,null,{"$f":"IF(M$2021=1,\"\",IF(U1760=\"\",\"\",VLOOKUP(U1760,Tabelle!$D$5:$H$7,5,FALSE)))","v":""},{"$f":"IF(M$2021=1,\"\",IF(U1760=\"\",\"\",VLOOKUP(U1760,Tabelle!$D$5:$I$7,6,FALSE)))","v":""},null,null,null,null,null,null,null,null,null,null,null,{"$f":"IF(B1760=\"\",0,IF(B1760=B1759,COUNTIF(B$9:B1759,B1760)+1,1))","v":1748},0,0]
["1753","-1900","-1900-1749",null,null,null,null,null,null,null,null,null,null,null,null,null,null,null,null,null,null,{"$f":"IF(M$2021=1,\"\",IF(U1761=\"\",\"\",VLOOKUP(U1761,Tabelle!$D$5:$H$7,5,FALSE)))","v":""},{"$f":"IF(M$2021=1,\"\",IF(U1761=\"\",\"\",VLOOKUP(U1761,Tabelle!$D$5:$I$7,6,FALSE)))","v":""},null,null,null,null,null,null,null,null,null,null,null,{"$f":"IF(B1761=\"\",0,IF(B1761=B1760,COUNTIF(B$9:B1760,B1761)+1,1))","v":1749},0,0]
["1754","-1900","-1900-1750",null,null,null,null,null,null,null,null,null,null,null,null,null,null,null,null,null,null,{"$f":"IF(M$2021=1,\"\",IF(U1762=\"\",\"\",VLOOKUP(U1762,Tabelle!$D$5:$H$7,5,FALSE)))","v":""},{"$f":"IF(M$2021=1,\"\",IF(U1762=\"\",\"\",VLOOKUP(U1762,Tabelle!$D$5:$I$7,6,FALSE)))","v":""},null,null,null,null,null,null,null,null,null,null,null,{"$f":"IF(B1762=\"\",0,IF(B1762=B1761,COUNTIF(B$9:B1761,B1762)+1,1))","v":1750},0,0]
["1755","-1900","-1900-1751",null,null,null,null,null,null,null,null,null,null,null,null,null,null,null,null,null,null,{"$f":"IF(M$2021=1,\"\",IF(U1763=\"\",\"\",VLOOKUP(U1763,Tabelle!$D$5:$H$7,5,FALSE)))","v":""},{"$f":"IF(M$2021=1,\"\",IF(U1763=\"\",\"\",VLOOKUP(U1763,Tabelle!$D$5:$I$7,6,FALSE)))","v":""},null,null,null,null,null,null,null,null,null,null,null,{"$f":"IF(B1763=\"\",0,IF(B1763=B1762,COUNTIF(B$9:B1762,B1763)+1,1))","v":1751},0,0]
["1756","-1900","-1900-1752",null,null,null,null,null,null,null,null,null,null,null,null,null,null,null,null,null,null,{"$f":"IF(M$2021=1,\"\",IF(U1764=\"\",\"\",VLOOKUP(U1764,Tabelle!$D$5:$H$7,5,FALSE)))","v":""},{"$f":"IF(M$2021=1,\"\",IF(U1764=\"\",\"\",VLOOKUP(U1764,Tabelle!$D$5:$I$7,6,FALSE)))","v":""},null,null,null,null,null,null,null,null,null,null,null,{"$f":"IF(B1764=\"\",0,IF(B1764=B1763,COUNTIF(B$9:B1763,B1764)+1,1))","v":1752},0,0]
["1757","-1900","-1900-1753",null,null,null,null,null,null,null,null,null,null,null,null,null,null,null,null,null,null,{"$f":"IF(M$2021=1,\"\",IF(U1765=\"\",\"\",VLOOKUP(U1765,Tabelle!$D$5:$H$7,5,FALSE)))","v":""},{"$f":"IF(M$2021=1,\"\",IF(U1765=\"\",\"\",VLOOKUP(U1765,Tabelle!$D$5:$I$7,6,FALSE)))","v":""},null,null,null,null,null,null,null,null,null,null,null,{"$f":"IF(B1765=\"\",0,IF(B1765=B1764,COUNTIF(B$9:B1764,B1765)+1,1))","v":1753},0,0]
["1758","-1900","-1900-1754",null,null,null,null,null,null,null,null,null,null,null,null,null,null,null,null,null,null,{"$f":"IF(M$2021=1,\"\",IF(U1766=\"\",\"\",VLOOKUP(U1766,Tabelle!$D$5:$H$7,5,FALSE)))","v":""},{"$f":"IF(M$2021=1,\"\",IF(U1766=\"\",\"\",VLOOKUP(U1766,Tabelle!$D$5:$I$7,6,FALSE)))","v":""},null,null,null,null,null,null,null,null,null,null,null,{"$f":"IF(B1766=\"\",0,IF(B1766=B1765,COUNTIF(B$9:B1765,B1766)+1,1))","v":1754},0,0]
["1759","-1900","-1900-1755",null,null,null,null,null,null,null,null,null,null,null,null,null,null,null,null,null,null,{"$f":"IF(M$2021=1,\"\",IF(U1767=\"\",\"\",VLOOKUP(U1767,Tabelle!$D$5:$H$7,5,FALSE)))","v":""},{"$f":"IF(M$2021=1,\"\",IF(U1767=\"\",\"\",VLOOKUP(U1767,Tabelle!$D$5:$I$7,6,FALSE)))","v":""},null,null,null,null,null,null,null,null,null,null,null,{"$f":"IF(B1767=\"\",0,IF(B1767=B1766,COUNTIF(B$9:B1766,B1767)+1,1))","v":1755},0,0]
["1760","-1900","-1900-1756",null,null,null,null,null,null,null,null,null,null,null,null,null,null,null,null,null,null,{"$f":"IF(M$2021=1,\"\",IF(U1768=\"\",\"\",VLOOKUP(U1768,Tabelle!$D$5:$H$7,5,FALSE)))","v":""},{"$f":"IF(M$2021=1,\"\",IF(U1768=\"\",\"\",VLOOKUP(U1768,Tabelle!$D$5:$I$7,6,FALSE)))","v":""},null,null,null,null,null,null,null,null,null,null,null,{"$f":"IF(B1768=\"\",0,IF(B1768=B1767,COUNTIF(B$9:B1767,B1768)+1,1))","v":1756},0,0]
["1761","-1900","-1900-1757",null,null,null,null,null,null,null,null,null,null,null,null,null,null,null,null,null,null,{"$f":"IF(M$2021=1,\"\",IF(U1769=\"\",\"\",VLOOKUP(U1769,Tabelle!$D$5:$H$7,5,FALSE)))","v":""},{"$f":"IF(M$2021=1,\"\",IF(U1769=\"\",\"\",VLOOKUP(U1769,Tabelle!$D$5:$I$7,6,FALSE)))","v":""},null,null,null,null,null,null,null,null,null,null,null,{"$f":"IF(B1769=\"\",0,IF(B1769=B1768,COUNTIF(B$9:B1768,B1769)+1,1))","v":1757},0,0]
["1762","-1900","-1900-1758",null,null,null,null,null,null,null,null,null,null,null,null,null,null,null,null,null,null,{"$f":"IF(M$2021=1,\"\",IF(U1770=\"\",\"\",VLOOKUP(U1770,Tabelle!$D$5:$H$7,5,FALSE)))","v":""},{"$f":"IF(M$2021=1,\"\",IF(U1770=\"\",\"\",VLOOKUP(U1770,Tabelle!$D$5:$I$7,6,FALSE)))","v":""},null,null,null,null,null,null,null,null,null,null,null,{"$f":"IF(B1770=\"\",0,IF(B1770=B1769,COUNTIF(B$9:B1769,B1770)+1,1))","v":1758},0,0]
["1763","-1900","-1900-1759",null,null,null,null,null,null,null,null,null,null,null,null,null,null,null,null,null,null,{"$f":"IF(M$2021=1,\"\",IF(U1771=\"\",\"\",VLOOKUP(U1771,Tabelle!$D$5:$H$7,5,FALSE)))","v":""},{"$f":"IF(M$2021=1,\"\",IF(U1771=\"\",\"\",VLOOKUP(U1771,Tabelle!$D$5:$I$7,6,FALSE)))","v":""},null,null,null,null,null,null,null,null,null,null,null,{"$f":"IF(B1771=\"\",0,IF(B1771=B1770,COUNTIF(B$9:B1770,B1771)+1,1))","v":1759},0,0]
["1764","-1900","-1900-1760",null,null,null,null,null,null,null,null,null,null,null,null,null,null,null,null,null,null,{"$f":"IF(M$2021=1,\"\",IF(U1772=\"\",\"\",VLOOKUP(U1772,Tabelle!$D$5:$H$7,5,FALSE)))","v":""},{"$f":"IF(M$2021=1,\"\",IF(U1772=\"\",\"\",VLOOKUP(U1772,Tabelle!$D$5:$I$7,6,FALSE)))","v":""},null,null,null,null,null,null,null,null,null,null,null,{"$f":"IF(B1772=\"\",0,IF(B1772=B1771,COUNTIF(B$9:B1771,B1772)+1,1))","v":1760},0,0]
["1765","-1900","-1900-1761",null,null,null,null,null,null,null,null,null,null,null,null,null,null,null,null,null,null,{"$f":"IF(M$2021=1,\"\",IF(U1773=\"\",\"\",VLOOKUP(U1773,Tabelle!$D$5:$H$7,5,FALSE)))","v":""},{"$f":"IF(M$2021=1,\"\",IF(U1773=\"\",\"\",VLOOKUP(U1773,Tabelle!$D$5:$I$7,6,FALSE)))","v":""},null,null,null,null,null,null,null,null,null,null,null,{"$f":"IF(B1773=\"\",0,IF(B1773=B1772,COUNTIF(B$9:B1772,B1773)+1,1))","v":1761},0,0]
["1766","-1900","-1900-1762",null,null,null,null,null,null,null,null,null,null,null,null,null,null,null,null,null,null,{"$f":"IF(M$2021=1,\"\",IF(U1774=\"\",\"\",VLOOKUP(U1774,Tabelle!$D$5:$H$7,5,FALSE)))","v":""},{"$f":"IF(M$2021=1,\"\",IF(U1774=\"\",\"\",VLOOKUP(U1774,Tabelle!$D$5:$I$7,6,FALSE)))","v":""},null,null,null,null,null,null,null,null,null,null,null,{"$f":"IF(B1774=\"\",0,IF(B1774=B1773,COUNTIF(B$9:B1773,B1774)+1,1))","v":1762},0,0]
["1767","-1900","-1900-1763",null,null,null,null,null,null,null,null,null,null,null,null,null,null,null,null,null,null,{"$f":"IF(M$2021=1,\"\",IF(U1775=\"\",\"\",VLOOKUP(U1775,Tabelle!$D$5:$H$7,5,FALSE)))","v":""},{"$f":"IF(M$2021=1,\"\",IF(U1775=\"\",\"\",VLOOKUP(U1775,Tabelle!$D$5:$I$7,6,FALSE)))","v":""},null,null,null,null,null,null,null,null,null,null,null,{"$f":"IF(B1775=\"\",0,IF(B1775=B1774,COUNTIF(B$9:B1774,B1775)+1,1))","v":1763},0,0]
["1768","-1900","-1900-1764",null,null,null,null,null,null,null,null,null,null,null,null,null,null,null,null,null,null,{"$f":"IF(M$2021=1,\"\",IF(U1776=\"\",\"\",VLOOKUP(U1776,Tabelle!$D$5:$H$7,5,FALSE)))","v":""},{"$f":"IF(M$2021=1,\"\",IF(U1776=\"\",\"\",VLOOKUP(U1776,Tabelle!$D$5:$I$7,6,FALSE)))","v":""},null,null,null,null,null,null,null,null,null,null,null,{"$f":"IF(B1776=\"\",0,IF(B1776=B1775,COUNTIF(B$9:B1775,B1776)+1,1))","v":1764},0,0]
["1769","-1900","-1900-1765",null,null,null,null,null,null,null,null,null,null,null,null,null,null,null,null,null,null,{"$f":"IF(M$2021=1,\"\",IF(U1777=\"\",\"\",VLOOKUP(U1777,Tabelle!$D$5:$H$7,5,FALSE)))","v":""},{"$f":"IF(M$2021=1,\"\",IF(U1777=\"\",\"\",VLOOKUP(U1777,Tabelle!$D$5:$I$7,6,FALSE)))","v":""},null,null,null,null,null,null,null,null,null,null,null,{"$f":"IF(B1777=\"\",0,IF(B1777=B1776,COUNTIF(B$9:B1776,B1777)+1,1))","v":1765},0,0]
["1770","-1900","-1900-1766",null,null,null,null,null,null,null,null,null,null,null,null,null,null,null,null,null,null,{"$f":"IF(M$2021=1,\"\",IF(U1778=\"\",\"\",VLOOKUP(U1778,Tabelle!$D$5:$H$7,5,FALSE)))","v":""},{"$f":"IF(M$2021=1,\"\",IF(U1778=\"\",\"\",VLOOKUP(U1778,Tabelle!$D$5:$I$7,6,FALSE)))","v":""},null,null,null,null,null,null,null,null,null,null,null,{"$f":"IF(B1778=\"\",0,IF(B1778=B1777,COUNTIF(B$9:B1777,B1778)+1,1))","v":1766},0,0]
["1771","-1900","-1900-1767",null,null,null,null,null,null,null,null,null,null,null,null,null,null,null,null,null,null,{"$f":"IF(M$2021=1,\"\",IF(U1779=\"\",\"\",VLOOKUP(U1779,Tabelle!$D$5:$H$7,5,FALSE)))","v":""},{"$f":"IF(M$2021=1,\"\",IF(U1779=\"\",\"\",VLOOKUP(U1779,Tabelle!$D$5:$I$7,6,FALSE)))","v":""},null,null,null,null,null,null,null,null,null,null,null,{"$f":"IF(B1779=\"\",0,IF(B1779=B1778,COUNTIF(B$9:B1778,B1779)+1,1))","v":1767},0,0]
["1772","-1900","-1900-1768",null,null,null,null,null,null,null,null,null,null,null,null,null,null,null,null,null,null,{"$f":"IF(M$2021=1,\"\",IF(U1780=\"\",\"\",VLOOKUP(U1780,Tabelle!$D$5:$H$7,5,FALSE)))","v":""},{"$f":"IF(M$2021=1,\"\",IF(U1780=\"\",\"\",VLOOKUP(U1780,Tabelle!$D$5:$I$7,6,FALSE)))","v":""},null,null,null,null,null,null,null,null,null,null,null,{"$f":"IF(B1780=\"\",0,IF(B1780=B1779,COUNTIF(B$9:B1779,B1780)+1,1))","v":1768},0,0]
["1773","-1900","-1900-1769",null,null,null,null,null,null,null,null,null,null,null,null,null,null,null,null,null,null,{"$f":"IF(M$2021=1,\"\",IF(U1781=\"\",\"\",VLOOKUP(U1781,Tabelle!$D$5:$H$7,5,FALSE)))","v":""},{"$f":"IF(M$2021=1,\"\",IF(U1781=\"\",\"\",VLOOKUP(U1781,Tabelle!$D$5:$I$7,6,FALSE)))","v":""},null,null,null,null,null,null,null,null,null,null,null,{"$f":"IF(B1781=\"\",0,IF(B1781=B1780,COUNTIF(B$9:B1780,B1781)+1,1))","v":1769},0,0]
["1774","-1900","-1900-1770",null,null,null,null,null,null,null,null,null,null,null,null,null,null,null,null,null,null,{"$f":"IF(M$2021=1,\"\",IF(U1782=\"\",\"\",VLOOKUP(U1782,Tabelle!$D$5:$H$7,5,FALSE)))","v":""},{"$f":"IF(M$2021=1,\"\",IF(U1782=\"\",\"\",VLOOKUP(U1782,Tabelle!$D$5:$I$7,6,FALSE)))","v":""},null,null,null,null,null,null,null,null,null,null,null,{"$f":"IF(B1782=\"\",0,IF(B1782=B1781,COUNTIF(B$9:B1781,B1782)+1,1))","v":1770},0,0]
["1775","-1900","-1900-1771",null,null,null,null,null,null,null,null,null,null,null,null,null,null,null,null,null,null,{"$f":"IF(M$2021=1,\"\",IF(U1783=\"\",\"\",VLOOKUP(U1783,Tabelle!$D$5:$H$7,5,FALSE)))","v":""},{"$f":"IF(M$2021=1,\"\",IF(U1783=\"\",\"\",VLOOKUP(U1783,Tabelle!$D$5:$I$7,6,FALSE)))","v":""},null,null,null,null,null,null,null,null,null,null,null,{"$f":"IF(B1783=\"\",0,IF(B1783=B1782,COUNTIF(B$9:B1782,B1783)+1,1))","v":1771},0,0]
["1776","-1900","-1900-1772",null,null,null,null,null,null,null,null,null,null,null,null,null,null,null,null,null,null,{"$f":"IF(M$2021=1,\"\",IF(U1784=\"\",\"\",VLOOKUP(U1784,Tabelle!$D$5:$H$7,5,FALSE)))","v":""},{"$f":"IF(M$2021=1,\"\",IF(U1784=\"\",\"\",VLOOKUP(U1784,Tabelle!$D$5:$I$7,6,FALSE)))","v":""},null,null,null,null,null,null,null,null,null,null,null,{"$f":"IF(B1784=\"\",0,IF(B1784=B1783,COUNTIF(B$9:B1783,B1784)+1,1))","v":1772},0,0]
["1777","-1900","-1900-1773",null,null,null,null,null,null,null,null,null,null,null,null,null,null,null,null,null,null,{"$f":"IF(M$2021=1,\"\",IF(U1785=\"\",\"\",VLOOKUP(U1785,Tabelle!$D$5:$H$7,5,FALSE)))","v":""},{"$f":"IF(M$2021=1,\"\",IF(U1785=\"\",\"\",VLOOKUP(U1785,Tabelle!$D$5:$I$7,6,FALSE)))","v":""},null,null,null,null,null,null,null,null,null,null,null,{"$f":"IF(B1785=\"\",0,IF(B1785=B1784,COUNTIF(B$9:B1784,B1785)+1,1))","v":1773},0,0]
["1778","-1900","-1900-1774",null,null,null,null,null,null,null,null,null,null,null,null,null,null,null,null,null,null,{"$f":"IF(M$2021=1,\"\",IF(U1786=\"\",\"\",VLOOKUP(U1786,Tabelle!$D$5:$H$7,5,FALSE)))","v":""},{"$f":"IF(M$2021=1,\"\",IF(U1786=\"\",\"\",VLOOKUP(U1786,Tabelle!$D$5:$I$7,6,FALSE)))","v":""},null,null,null,null,null,null,null,null,null,null,null,{"$f":"IF(B1786=\"\",0,IF(B1786=B1785,COUNTIF(B$9:B1785,B1786)+1,1))","v":1774},0,0]
["1779","-1900","-1900-1775",null,null,null,null,null,null,null,null,null,null,null,null,null,null,null,null,null,null,{"$f":"IF(M$2021=1,\"\",IF(U1787=\"\",\"\",VLOOKUP(U1787,Tabelle!$D$5:$H$7,5,FALSE)))","v":""},{"$f":"IF(M$2021=1,\"\",IF(U1787=\"\",\"\",VLOOKUP(U1787,Tabelle!$D$5:$I$7,6,FALSE)))","v":""},null,null,null,null,null,null,null,null,null,null,null,{"$f":"IF(B1787=\"\",0,IF(B1787=B1786,COUNTIF(B$9:B1786,B1787)+1,1))","v":1775},0,0]
["1780","-1900","-1900-1776",null,null,null,null,null,null,null,null,null,null,null,null,null,null,null,null,null,null,{"$f":"IF(M$2021=1,\"\",IF(U1788=\"\",\"\",VLOOKUP(U1788,Tabelle!$D$5:$H$7,5,FALSE)))","v":""},{"$f":"IF(M$2021=1,\"\",IF(U1788=\"\",\"\",VLOOKUP(U1788,Tabelle!$D$5:$I$7,6,FALSE)))","v":""},null,null,null,null,null,null,null,null,null,null,null,{"$f":"IF(B1788=\"\",0,IF(B1788=B1787,COUNTIF(B$9:B1787,B1788)+1,1))","v":1776},0,0]
["1781","-1900","-1900-1777",null,null,null,null,null,null,null,null,null,null,null,null,null,null,null,null,null,null,{"$f":"IF(M$2021=1,\"\",IF(U1789=\"\",\"\",VLOOKUP(U1789,Tabelle!$D$5:$H$7,5,FALSE)))","v":""},{"$f":"IF(M$2021=1,\"\",IF(U1789=\"\",\"\",VLOOKUP(U1789,Tabelle!$D$5:$I$7,6,FALSE)))","v":""},null,null,null,null,null,null,null,null,null,null,null,{"$f":"IF(B1789=\"\",0,IF(B1789=B1788,COUNTIF(B$9:B1788,B1789)+1,1))","v":1777},0,0]
["1782","-1900","-1900-1778",null,null,null,null,null,null,null,null,null,null,null,null,null,null,null,null,null,null,{"$f":"IF(M$2021=1,\"\",IF(U1790=\"\",\"\",VLOOKUP(U1790,Tabelle!$D$5:$H$7,5,FALSE)))","v":""},{"$f":"IF(M$2021=1,\"\",IF(U1790=\"\",\"\",VLOOKUP(U1790,Tabelle!$D$5:$I$7,6,FALSE)))","v":""},null,null,null,null,null,null,null,null,null,null,null,{"$f":"IF(B1790=\"\",0,IF(B1790=B1789,COUNTIF(B$9:B1789,B1790)+1,1))","v":1778},0,0]
["1783","-1900","-1900-1779",null,null,null,null,null,null,null,null,null,null,null,null,null,null,null,null,null,null,{"$f":"IF(M$2021=1,\"\",IF(U1791=\"\",\"\",VLOOKUP(U1791,Tabelle!$D$5:$H$7,5,FALSE)))","v":""},{"$f":"IF(M$2021=1,\"\",IF(U1791=\"\",\"\",VLOOKUP(U1791,Tabelle!$D$5:$I$7,6,FALSE)))","v":""},null,null,null,null,null,null,null,null,null,null,null,{"$f":"IF(B1791=\"\",0,IF(B1791=B1790,COUNTIF(B$9:B1790,B1791)+1,1))","v":1779},0,0]
["1784","-1900","-1900-1780",null,null,null,null,null,null,null,null,null,null,null,null,null,null,null,null,null,null,{"$f":"IF(M$2021=1,\"\",IF(U1792=\"\",\"\",VLOOKUP(U1792,Tabelle!$D$5:$H$7,5,FALSE)))","v":""},{"$f":"IF(M$2021=1,\"\",IF(U1792=\"\",\"\",VLOOKUP(U1792,Tabelle!$D$5:$I$7,6,FALSE)))","v":""},null,null,null,null,null,null,null,null,null,null,null,{"$f":"IF(B1792=\"\",0,IF(B1792=B1791,COUNTIF(B$9:B1791,B1792)+1,1))","v":1780},0,0]
["1785","-1900","-1900-1781",null,null,null,null,null,null,null,null,null,null,null,null,null,null,null,null,null,null,{"$f":"IF(M$2021=1,\"\",IF(U1793=\"\",\"\",VLOOKUP(U1793,Tabelle!$D$5:$H$7,5,FALSE)))","v":""},{"$f":"IF(M$2021=1,\"\",IF(U1793=\"\",\"\",VLOOKUP(U1793,Tabelle!$D$5:$I$7,6,FALSE)))","v":""},null,null,null,null,null,null,null,null,null,null,null,{"$f":"IF(B1793=\"\",0,IF(B1793=B1792,COUNTIF(B$9:B1792,B1793)+1,1))","v":1781},0,0]
["1786","-1900","-1900-1782",null,null,null,null,null,null,null,null,null,null,null,null,null,null,null,null,null,null,{"$f":"IF(M$2021=1,\"\",IF(U1794=\"\",\"\",VLOOKUP(U1794,Tabelle!$D$5:$H$7,5,FALSE)))","v":""},{"$f":"IF(M$2021=1,\"\",IF(U1794=\"\",\"\",VLOOKUP(U1794,Tabelle!$D$5:$I$7,6,FALSE)))","v":""},null,null,null,null,null,null,null,null,null,null,null,{"$f":"IF(B1794=\"\",0,IF(B1794=B1793,COUNTIF(B$9:B1793,B1794)+1,1))","v":1782},0,0]
["1787","-1900","-1900-1783",null,null,null,null,null,null,null,null,null,null,null,null,null,null,null,null,null,null,{"$f":"IF(M$2021=1,\"\",IF(U1795=\"\",\"\",VLOOKUP(U1795,Tabelle!$D$5:$H$7,5,FALSE)))","v":""},{"$f":"IF(M$2021=1,\"\",IF(U1795=\"\",\"\",VLOOKUP(U1795,Tabelle!$D$5:$I$7,6,FALSE)))","v":""},null,null,null,null,null,null,null,null,null,null,null,{"$f":"IF(B1795=\"\",0,IF(B1795=B1794,COUNTIF(B$9:B1794,B1795)+1,1))","v":1783},0,0]
["1788","-1900","-1900-1784",null,null,null,null,null,null,null,null,null,null,null,null,null,null,null,null,null,null,{"$f":"IF(M$2021=1,\"\",IF(U1796=\"\",\"\",VLOOKUP(U1796,Tabelle!$D$5:$H$7,5,FALSE)))","v":""},{"$f":"IF(M$2021=1,\"\",IF(U1796=\"\",\"\",VLOOKUP(U1796,Tabelle!$D$5:$I$7,6,FALSE)))","v":""},null,null,null,null,null,null,null,null,null,null,null,{"$f":"IF(B1796=\"\",0,IF(B1796=B1795,COUNTIF(B$9:B1795,B1796)+1,1))","v":1784},0,0]
["1789","-1900","-1900-1785",null,null,null,null,null,null,null,null,null,null,null,null,null,null,null,null,null,null,{"$f":"IF(M$2021=1,\"\",IF(U1797=\"\",\"\",VLOOKUP(U1797,Tabelle!$D$5:$H$7,5,FALSE)))","v":""},{"$f":"IF(M$2021=1,\"\",IF(U1797=\"\",\"\",VLOOKUP(U1797,Tabelle!$D$5:$I$7,6,FALSE)))","v":""},null,null,null,null,null,null,null,null,null,null,null,{"$f":"IF(B1797=\"\",0,IF(B1797=B1796,COUNTIF(B$9:B1796,B1797)+1,1))","v":1785},0,0]
["1790","-1900","-1900-1786",null,null,null,null,null,null,null,null,null,null,null,null,null,null,null,null,null,null,{"$f":"IF(M$2021=1,\"\",IF(U1798=\"\",\"\",VLOOKUP(U1798,Tabelle!$D$5:$H$7,5,FALSE)))","v":""},{"$f":"IF(M$2021=1,\"\",IF(U1798=\"\",\"\",VLOOKUP(U1798,Tabelle!$D$5:$I$7,6,FALSE)))","v":""},null,null,null,null,null,null,null,null,null,null,null,{"$f":"IF(B1798=\"\",0,IF(B1798=B1797,COUNTIF(B$9:B1797,B1798)+1,1))","v":1786},0,0]
["1791","-1900","-1900-1787",null,null,null,null,null,null,null,null,null,null,null,null,null,null,null,null,null,null,{"$f":"IF(M$2021=1,\"\",IF(U1799=\"\",\"\",VLOOKUP(U1799,Tabelle!$D$5:$H$7,5,FALSE)))","v":""},{"$f":"IF(M$2021=1,\"\",IF(U1799=\"\",\"\",VLOOKUP(U1799,Tabelle!$D$5:$I$7,6,FALSE)))","v":""},null,null,null,null,null,null,null,null,null,null,null,{"$f":"IF(B1799=\"\",0,IF(B1799=B1798,COUNTIF(B$9:B1798,B1799)+1,1))","v":1787},0,0]
["1792","-1900","-1900-1788",null,null,null,null,null,null,null,null,null,null,null,null,null,null,null,null,null,null,{"$f":"IF(M$2021=1,\"\",IF(U1800=\"\",\"\",VLOOKUP(U1800,Tabelle!$D$5:$H$7,5,FALSE)))","v":""},{"$f":"IF(M$2021=1,\"\",IF(U1800=\"\",\"\",VLOOKUP(U1800,Tabelle!$D$5:$I$7,6,FALSE)))","v":""},null,null,null,null,null,null,null,null,null,null,null,{"$f":"IF(B1800=\"\",0,IF(B1800=B1799,COUNTIF(B$9:B1799,B1800)+1,1))","v":1788},0,0]
["1793","-1900",{"$f":"IF(M$2021=1,0,B1801&\"-\"&AI1801)","v":"-1900-1789"},null,null,null,null,null,null,null,null,null,null,null,null,null,null,null,null,null,null,{"$f":"IF(M$2021=1,\"\",IF(U1801=\"\",\"\",VLOOKUP(U1801,Tabelle!$D$5:$H$7,5,FALSE)))","v":""},{"$f":"IF(M$2021=1,\"\",IF(U1801=\"\",\"\",VLOOKUP(U1801,Tabelle!$D$5:$I$7,6,FALSE)))","v":""},null,null,null,null,null,null,null,null,null,null,null,{"$f":"IF(B1801=\"\",0,IF(B1801=B1800,COUNTIF(B$9:B1800,B1801)+1,1))","v":1789},0,0]
["1794",{"$f":"IF(AK1802=$AK$2015,0,IF(M$2021=1,0,D1802&\"-\"&YEAR(E1802)))","v":"-1900"},"-1900-1790",null,null,null,null,null,null,null,null,null,null,null,null,null,null,null,null,null,null,{"$f":"IF(M$2021=1,\"\",IF(U1802=\"\",\"\",VLOOKUP(U1802,Tabelle!$D$5:$H$7,5,FALSE)))","v":""},{"$f":"IF(M$2021=1,\"\",IF(U1802=\"\",\"\",VLOOKUP(U1802,Tabelle!$D$5:$I$7,6,FALSE)))","v":""},null,null,null,null,null,null,null,null,null,null,null,{"$f":"IF(B1802=\"\",0,IF(B1802=B1801,COUNTIF(B$9:B1801,B1802)+1,1))","v":1790},{"$f":"IF(OR(D1802=\"\",M$2021=1),0,IF(AI1802=10,1,0))","v":0},{"$f":"IF(E1802>0,IF(OR(MONTH(E1802)<$J$2027,MONTH(E1802)>$J$2028),AK$2015,0),0)","v":0}]
["1795","-1900","-1900-1791",null,null,null,null,null,null,null,null,null,null,null,null,null,null,null,null,null,null,{"$f":"IF(M$2021=1,\"\",IF(U1803=\"\",\"\",VLOOKUP(U1803,Tabelle!$D$5:$H$7,5,FALSE)))","v":""},{"$f":"IF(M$2021=1,\"\",IF(U1803=\"\",\"\",VLOOKUP(U1803,Tabelle!$D$5:$I$7,6,FALSE)))","v":""},null,null,null,null,null,null,null,null,null,null,null,{"$f":"IF(B1803=\"\",0,IF(B1803=B1802,COUNTIF(B$9:B1802,B1803)+1,1))","v":1791},0,0]
["1796","-1900","-1900-1792",null,null,null,null,null,null,null,null,null,null,null,null,null,null,null,null,null,null,{"$f":"IF(M$2021=1,\"\",IF(U1804=\"\",\"\",VLOOKUP(U1804,Tabelle!$D$5:$H$7,5,FALSE)))","v":""},{"$f":"IF(M$2021=1,\"\",IF(U1804=\"\",\"\",VLOOKUP(U1804,Tabelle!$D$5:$I$7,6,FALSE)))","v":""},null,null,null,null,null,null,null,null,null,null,null,{"$f":"IF(B1804=\"\",0,IF(B1804=B1803,COUNTIF(B$9:B1803,B1804)+1,1))","v":1792},0,0]
["1797","-1900","-1900-1793",null,null,null,null,null,null,null,null,null,null,null,null,null,null,null,null,null,null,{"$f":"IF(M$2021=1,\"\",IF(U1805=\"\",\"\",VLOOKUP(U1805,Tabelle!$D$5:$H$7,5,FALSE)))","v":""},{"$f":"IF(M$2021=1,\"\",IF(U1805=\"\",\"\",VLOOKUP(U1805,Tabelle!$D$5:$I$7,6,FALSE)))","v":""},null,null,null,null,null,null,null,null,null,null,null,{"$f":"IF(B1805=\"\",0,IF(B1805=B1804,COUNTIF(B$9:B1804,B1805)+1,1))","v":1793},0,0]
["1798","-1900","-1900-1794",null,null,null,null,null,null,null,null,null,null,null,null,null,null,null,null,null,null,{"$f":"IF(M$2021=1,\"\",IF(U1806=\"\",\"\",VLOOKUP(U1806,Tabelle!$D$5:$H$7,5,FALSE)))","v":""},{"$f":"IF(M$2021=1,\"\",IF(U1806=\"\",\"\",VLOOKUP(U1806,Tabelle!$D$5:$I$7,6,FALSE)))","v":""},null,null,null,null,null,null,null,null,null,null,null,{"$f":"IF(B1806=\"\",0,IF(B1806=B1805,COUNTIF(B$9:B1805,B1806)+1,1))","v":1794},0,0]
["1799","-1900","-1900-1795",null,null,null,null,null,null,null,null,null,null,null,null,null,null,null,null,null,null,{"$f":"IF(M$2021=1,\"\",IF(U1807=\"\",\"\",VLOOKUP(U1807,Tabelle!$D$5:$H$7,5,FALSE)))","v":""},{"$f":"IF(M$2021=1,\"\",IF(U1807=\"\",\"\",VLOOKUP(U1807,Tabelle!$D$5:$I$7,6,FALSE)))","v":""},null,null,null,null,null,null,null,null,null,null,null,{"$f":"IF(B1807=\"\",0,IF(B1807=B1806,COUNTIF(B$9:B1806,B1807)+1,1))","v":1795},0,0]
["1800","-1900","-1900-1796",null,null,null,null,null,null,null,null,null,null,null,null,null,null,null,null,null,null,{"$f":"IF(M$2021=1,\"\",IF(U1808=\"\",\"\",VLOOKUP(U1808,Tabelle!$D$5:$H$7,5,FALSE)))","v":""},{"$f":"IF(M$2021=1,\"\",IF(U1808=\"\",\"\",VLOOKUP(U1808,Tabelle!$D$5:$I$7,6,FALSE)))","v":""},null,null,null,null,null,null,null,null,null,null,null,{"$f":"IF(B1808=\"\",0,IF(B1808=B1807,COUNTIF(B$9:B1807,B1808)+1,1))","v":1796},0,0]
["1801","-1900","-1900-1797",null,null,null,null,null,null,null,null,null,null,null,null,null,null,null,null,null,null,{"$f":"IF(M$2021=1,\"\",IF(U1809=\"\",\"\",VLOOKUP(U1809,Tabelle!$D$5:$H$7,5,FALSE)))","v":""},{"$f":"IF(M$2021=1,\"\",IF(U1809=\"\",\"\",VLOOKUP(U1809,Tabelle!$D$5:$I$7,6,FALSE)))","v":""},null,null,null,null,null,null,null,null,null,null,null,{"$f":"IF(B1809=\"\",0,IF(B1809=B1808,COUNTIF(B$9:B1808,B1809)+1,1))","v":1797},0,0]
["1802","-1900","-1900-1798",null,null,null,null,null,null,null,null,null,null,null,null,null,null,null,null,null,null,{"$f":"IF(M$2021=1,\"\",IF(U1810=\"\",\"\",VLOOKUP(U1810,Tabelle!$D$5:$H$7,5,FALSE)))","v":""},{"$f":"IF(M$2021=1,\"\",IF(U1810=\"\",\"\",VLOOKUP(U1810,Tabelle!$D$5:$I$7,6,FALSE)))","v":""},null,null,null,null,null,null,null,null,null,null,null,{"$f":"IF(B1810=\"\",0,IF(B1810=B1809,COUNTIF(B$9:B1809,B1810)+1,1))","v":1798},0,0]
["1803","-1900","-1900-1799",null,null,null,null,null,null,null,null,null,null,null,null,null,null,null,null,null,null,{"$f":"IF(M$2021=1,\"\",IF(U1811=\"\",\"\",VLOOKUP(U1811,Tabelle!$D$5:$H$7,5,FALSE)))","v":""},{"$f":"IF(M$2021=1,\"\",IF(U1811=\"\",\"\",VLOOKUP(U1811,Tabelle!$D$5:$I$7,6,FALSE)))","v":""},null,null,null,null,null,null,null,null,null,null,null,{"$f":"IF(B1811=\"\",0,IF(B1811=B1810,COUNTIF(B$9:B1810,B1811)+1,1))","v":1799},0,0]
["1804","-1900","-1900-1800",null,null,null,null,null,null,null,null,null,null,null,null,null,null,null,null,null,null,{"$f":"IF(M$2021=1,\"\",IF(U1812=\"\",\"\",VLOOKUP(U1812,Tabelle!$D$5:$H$7,5,FALSE)))","v":""},{"$f":"IF(M$2021=1,\"\",IF(U1812=\"\",\"\",VLOOKUP(U1812,Tabelle!$D$5:$I$7,6,FALSE)))","v":""},null,null,null,null,null,null,null,null,null,null,null,{"$f":"IF(B1812=\"\",0,IF(B1812=B1811,COUNTIF(B$9:B1811,B1812)+1,1))","v":1800},0,0]
["1805","-1900","-1900-1801",null,null,null,null,null,null,null,null,null,null,null,null,null,null,null,null,null,null,{"$f":"IF(M$2021=1,\"\",IF(U1813=\"\",\"\",VLOOKUP(U1813,Tabelle!$D$5:$H$7,5,FALSE)))","v":""},{"$f":"IF(M$2021=1,\"\",IF(U1813=\"\",\"\",VLOOKUP(U1813,Tabelle!$D$5:$I$7,6,FALSE)))","v":""},null,null,null,null,null,null,null,null,null,null,null,{"$f":"IF(B1813=\"\",0,IF(B1813=B1812,COUNTIF(B$9:B1812,B1813)+1,1))","v":1801},0,0]
["1806","-1900","-1900-1802",null,null,null,null,null,null,null,null,null,null,null,null,null,null,null,null,null,null,{"$f":"IF(M$2021=1,\"\",IF(U1814=\"\",\"\",VLOOKUP(U1814,Tabelle!$D$5:$H$7,5,FALSE)))","v":""},{"$f":"IF(M$2021=1,\"\",IF(U1814=\"\",\"\",VLOOKUP(U1814,Tabelle!$D$5:$I$7,6,FALSE)))","v":""},null,null,null,null,null,null,null,null,null,null,null,{"$f":"IF(B1814=\"\",0,IF(B1814=B1813,COUNTIF(B$9:B1813,B1814)+1,1))","v":1802},0,0]
["1807","-1900","-1900-1803",null,null,null,null,null,null,null,null,null,null,null,null,null,null,null,null,null,null,{"$f":"IF(M$2021=1,\"\",IF(U1815=\"\",\"\",VLOOKUP(U1815,Tabelle!$D$5:$H$7,5,FALSE)))","v":""},{"$f":"IF(M$2021=1,\"\",IF(U1815=\"\",\"\",VLOOKUP(U1815,Tabelle!$D$5:$I$7,6,FALSE)))","v":""},null,null,null,null,null,null,null,null,null,null,null,{"$f":"IF(B1815=\"\",0,IF(B1815=B1814,COUNTIF(B$9:B1814,B1815)+1,1))","v":1803},0,0]
["1808","-1900","-1900-1804",null,null,null,null,null,null,null,null,null,null,null,null,null,null,null,null,null,null,{"$f":"IF(M$2021=1,\"\",IF(U1816=\"\",\"\",VLOOKUP(U1816,Tabelle!$D$5:$H$7,5,FALSE)))","v":""},{"$f":"IF(M$2021=1,\"\",IF(U1816=\"\",\"\",VLOOKUP(U1816,Tabelle!$D$5:$I$7,6,FALSE)))","v":""},null,null,null,null,null,null,null,null,null,null,null,{"$f":"IF(B1816=\"\",0,IF(B1816=B1815,COUNTIF(B$9:B1815,B1816)+1,1))","v":1804},0,0]
["1809","-1900","-1900-1805",null,null,null,null,null,null,null,null,null,null,null,null,null,null,null,null,null,null,{"$f":"IF(M$2021=1,\"\",IF(U1817=\"\",\"\",VLOOKUP(U1817,Tabelle!$D$5:$H$7,5,FALSE)))","v":""},{"$f":"IF(M$2021=1,\"\",IF(U1817=\"\",\"\",VLOOKUP(U1817,Tabelle!$D$5:$I$7,6,FALSE)))","v":""},null,null,null,null,null,null,null,null,null,null,null,{"$f":"IF(B1817=\"\",0,IF(B1817=B1816,COUNTIF(B$9:B1816,B1817)+1,1))","v":1805},0,0]
["1810","-1900","-1900-1806",null,null,null,null,null,null,null,null,null,null,null,null,null,null,null,null,null,null,{"$f":"IF(M$2021=1,\"\",IF(U1818=\"\",\"\",VLOOKUP(U1818,Tabelle!$D$5:$H$7,5,FALSE)))","v":""},{"$f":"IF(M$2021=1,\"\",IF(U1818=\"\",\"\",VLOOKUP(U1818,Tabelle!$D$5:$I$7,6,FALSE)))","v":""},null,null,null,null,null,null,null,null,null,null,null,{"$f":"IF(B1818=\"\",0,IF(B1818=B1817,COUNTIF(B$9:B1817,B1818)+1,1))","v":1806},0,0]
["1811","-1900","-1900-1807",null,null,null,null,null,null,null,null,null,null,null,null,null,null,null,null,null,null,{"$f":"IF(M$2021=1,\"\",IF(U1819=\"\",\"\",VLOOKUP(U1819,Tabelle!$D$5:$H$7,5,FALSE)))","v":""},{"$f":"IF(M$2021=1,\"\",IF(U1819=\"\",\"\",VLOOKUP(U1819,Tabelle!$D$5:$I$7,6,FALSE)))","v":""},null,null,null,null,null,null,null,null,null,null,null,{"$f":"IF(B1819=\"\",0,IF(B1819=B1818,COUNTIF(B$9:B1818,B1819)+1,1))","v":1807},0,0]
["1812","-1900","-1900-1808",null,null,null,null,null,null,null,null,null,null,null,null,null,null,null,null,null,null,{"$f":"IF(M$2021=1,\"\",IF(U1820=\"\",\"\",VLOOKUP(U1820,Tabelle!$D$5:$H$7,5,FALSE)))","v":""},{"$f":"IF(M$2021=1,\"\",IF(U1820=\"\",\"\",VLOOKUP(U1820,Tabelle!$D$5:$I$7,6,FALSE)))","v":""},null,null,null,null,null,null,null,null,null,null,null,{"$f":"IF(B1820=\"\",0,IF(B1820=B1819,COUNTIF(B$9:B1819,B1820)+1,1))","v":1808},0,0]
["1813","-1900","-1900-1809",null,null,null,null,null,null,null,null,null,null,null,null,null,null,null,null,null,null,{"$f":"IF(M$2021=1,\"\",IF(U1821=\"\",\"\",VLOOKUP(U1821,Tabelle!$D$5:$H$7,5,FALSE)))","v":""},{"$f":"IF(M$2021=1,\"\",IF(U1821=\"\",\"\",VLOOKUP(U1821,Tabelle!$D$5:$I$7,6,FALSE)))","v":""},null,null,null,null,null,null,null,null,null,null,null,{"$f":"IF(B1821=\"\",0,IF(B1821=B1820,COUNTIF(B$9:B1820,B1821)+1,1))","v":1809},0,0]
["1814","-1900","-1900-1810",null,null,null,null,null,null,null,null,null,null,null,null,null,null,null,null,null,null,{"$f":"IF(M$2021=1,\"\",IF(U1822=\"\",\"\",VLOOKUP(U1822,Tabelle!$D$5:$H$7,5,FALSE)))","v":""},{"$f":"IF(M$2021=1,\"\",IF(U1822=\"\",\"\",VLOOKUP(U1822,Tabelle!$D$5:$I$7,6,FALSE)))","v":""},null,null,null,null,null,null,null,null,null,null,null,{"$f":"IF(B1822=\"\",0,IF(B1822=B1821,COUNTIF(B$9:B1821,B1822)+1,1))","v":1810},0,0]
["1815","-1900","-1900-1811",null,null,null,null,null,null,null,null,null,null,null,null,null,null,null,null,null,null,{"$f":"IF(M$2021=1,\"\",IF(U1823=\"\",\"\",VLOOKUP(U1823,Tabelle!$D$5:$H$7,5,FALSE)))","v":""},{"$f":"IF(M$2021=1,\"\",IF(U1823=\"\",\"\",VLOOKUP(U1823,Tabelle!$D$5:$I$7,6,FALSE)))","v":""},null,null,null,null,null,null,null,null,null,null,null,{"$f":"IF(B1823=\"\",0,IF(B1823=B1822,COUNTIF(B$9:B1822,B1823)+1,1))","v":1811},0,0]
["1816","-1900","-1900-1812",null,null,null,null,null,null,null,null,null,null,null,null,null,null,null,null,null,null,{"$f":"IF(M$2021=1,\"\",IF(U1824=\"\",\"\",VLOOKUP(U1824,Tabelle!$D$5:$H$7,5,FALSE)))","v":""},{"$f":"IF(M$2021=1,\"\",IF(U1824=\"\",\"\",VLOOKUP(U1824,Tabelle!$D$5:$I$7,6,FALSE)))","v":""},null,null,null,null,null,null,null,null,null,null,null,{"$f":"IF(B1824=\"\",0,IF(B1824=B1823,COUNTIF(B$9:B1823,B1824)+1,1))","v":1812},0,0]
["1817","-1900","-1900-1813",null,null,null,null,null,null,null,null,null,null,null,null,null,null,null,null,null,null,{"$f":"IF(M$2021=1,\"\",IF(U1825=\"\",\"\",VLOOKUP(U1825,Tabelle!$D$5:$H$7,5,FALSE)))","v":""},{"$f":"IF(M$2021=1,\"\",IF(U1825=\"\",\"\",VLOOKUP(U1825,Tabelle!$D$5:$I$7,6,FALSE)))","v":""},null,null,null,null,null,null,null,null,null,null,null,{"$f":"IF(B1825=\"\",0,IF(B1825=B1824,COUNTIF(B$9:B1824,B1825)+1,1))","v":1813},0,0]
["1818","-1900","-1900-1814",null,null,null,null,null,null,null,null,null,null,null,null,null,null,null,null,null,null,{"$f":"IF(M$2021=1,\"\",IF(U1826=\"\",\"\",VLOOKUP(U1826,Tabelle!$D$5:$H$7,5,FALSE)))","v":""},{"$f":"IF(M$2021=1,\"\",IF(U1826=\"\",\"\",VLOOKUP(U1826,Tabelle!$D$5:$I$7,6,FALSE)))","v":""},null,null,null,null,null,null,null,null,null,null,null,{"$f":"IF(B1826=\"\",0,IF(B1826=B1825,COUNTIF(B$9:B1825,B1826)+1,1))","v":1814},0,0]
["1819","-1900","-1900-1815",null,null,null,null,null,null,null,null,null,null,null,null,null,null,null,null,null,null,{"$f":"IF(M$2021=1,\"\",IF(U1827=\"\",\"\",VLOOKUP(U1827,Tabelle!$D$5:$H$7,5,FALSE)))","v":""},{"$f":"IF(M$2021=1,\"\",IF(U1827=\"\",\"\",VLOOKUP(U1827,Tabelle!$D$5:$I$7,6,FALSE)))","v":""},null,null,null,null,null,null,null,null,null,null,null,{"$f":"IF(B1827=\"\",0,IF(B1827=B1826,COUNTIF(B$9:B1826,B1827)+1,1))","v":1815},0,0]
["1820","-1900","-1900-1816",null,null,null,null,null,null,null,null,null,null,null,null,null,null,null,null,null,null,{"$f":"IF(M$2021=1,\"\",IF(U1828=\"\",\"\",VLOOKUP(U1828,Tabelle!$D$5:$H$7,5,FALSE)))","v":""},{"$f":"IF(M$2021=1,\"\",IF(U1828=\"\",\"\",VLOOKUP(U1828,Tabelle!$D$5:$I$7,6,FALSE)))","v":""},null,null,null,null,null,null,null,null,null,null,null,{"$f":"IF(B1828=\"\",0,IF(B1828=B1827,COUNTIF(B$9:B1827,B1828)+1,1))","v":1816},0,0]
["1821","-1900","-1900-1817",null,null,null,null,null,null,null,null,null,null,null,null,null,null,null,null,null,null,{"$f":"IF(M$2021=1,\"\",IF(U1829=\"\",\"\",VLOOKUP(U1829,Tabelle!$D$5:$H$7,5,FALSE)))","v":""},{"$f":"IF(M$2021=1,\"\",IF(U1829=\"\",\"\",VLOOKUP(U1829,Tabelle!$D$5:$I$7,6,FALSE)))","v":""},null,null,null,null,null,null,null,null,null,null,null,{"$f":"IF(B1829=\"\",0,IF(B1829=B1828,COUNTIF(B$9:B1828,B1829)+1,1))","v":1817},0,0]
["1822","-1900","-1900-1818",null,null,null,null,null,null,null,null,null,null,null,null,null,null,null,null,null,null,{"$f":"IF(M$2021=1,\"\",IF(U1830=\"\",\"\",VLOOKUP(U1830,Tabelle!$D$5:$H$7,5,FALSE)))","v":""},{"$f":"IF(M$2021=1,\"\",IF(U1830=\"\",\"\",VLOOKUP(U1830,Tabelle!$D$5:$I$7,6,FALSE)))","v":""},null,null,null,null,null,null,null,null,null,null,null,{"$f":"IF(B1830=\"\",0,IF(B1830=B1829,COUNTIF(B$9:B1829,B1830)+1,1))","v":1818},0,0]
["1823","-1900","-1900-1819",null,null,null,null,null,null,null,null,null,null,null,null,null,null,null,null,null,null,{"$f":"IF(M$2021=1,\"\",IF(U1831=\"\",\"\",VLOOKUP(U1831,Tabelle!$D$5:$H$7,5,FALSE)))","v":""},{"$f":"IF(M$2021=1,\"\",IF(U1831=\"\",\"\",VLOOKUP(U1831,Tabelle!$D$5:$I$7,6,FALSE)))","v":""},null,null,null,null,null,null,null,null,null,null,null,{"$f":"IF(B1831=\"\",0,IF(B1831=B1830,COUNTIF(B$9:B1830,B1831)+1,1))","v":1819},0,0]
["1824","-1900","-1900-1820",null,null,null,null,null,null,null,null,null,null,null,null,null,null,null,null,null,null,{"$f":"IF(M$2021=1,\"\",IF(U1832=\"\",\"\",VLOOKUP(U1832,Tabelle!$D$5:$H$7,5,FALSE)))","v":""},{"$f":"IF(M$2021=1,\"\",IF(U1832=\"\",\"\",VLOOKUP(U1832,Tabelle!$D$5:$I$7,6,FALSE)))","v":""},null,null,null,null,null,null,null,null,null,null,null,{"$f":"IF(B1832=\"\",0,IF(B1832=B1831,COUNTIF(B$9:B1831,B1832)+1,1))","v":1820},0,0]
["1825","-1900","-1900-1821",null,null,null,null,null,null,null,null,null,null,null,null,null,null,null,null,null,null,{"$f":"IF(M$2021=1,\"\",IF(U1833=\"\",\"\",VLOOKUP(U1833,Tabelle!$D$5:$H$7,5,FALSE)))","v":""},{"$f":"IF(M$2021=1,\"\",IF(U1833=\"\",\"\",VLOOKUP(U1833,Tabelle!$D$5:$I$7,6,FALSE)))","v":""},null,null,null,null,null,null,null,null,null,null,null,{"$f":"IF(B1833=\"\",0,IF(B1833=B1832,COUNTIF(B$9:B1832,B1833)+1,1))","v":1821},0,0]
["1826","-1900","-1900-1822",null,null,null,null,null,null,null,null,null,null,null,null,null,null,null,null,null,null,{"$f":"IF(M$2021=1,\"\",IF(U1834=\"\",\"\",VLOOKUP(U1834,Tabelle!$D$5:$H$7,5,FALSE)))","v":""},{"$f":"IF(M$2021=1,\"\",IF(U1834=\"\",\"\",VLOOKUP(U1834,Tabelle!$D$5:$I$7,6,FALSE)))","v":""},null,null,null,null,null,null,null,null,null,null,null,{"$f":"IF(B1834=\"\",0,IF(B1834=B1833,COUNTIF(B$9:B1833,B1834)+1,1))","v":1822},0,0]
["1827","-1900","-1900-1823",null,null,null,null,null,null,null,null,null,null,null,null,null,null,null,null,null,null,{"$f":"IF(M$2021=1,\"\",IF(U1835=\"\",\"\",VLOOKUP(U1835,Tabelle!$D$5:$H$7,5,FALSE)))","v":""},{"$f":"IF(M$2021=1,\"\",IF(U1835=\"\",\"\",VLOOKUP(U1835,Tabelle!$D$5:$I$7,6,FALSE)))","v":""},null,null,null,null,null,null,null,null,null,null,null,{"$f":"IF(B1835=\"\",0,IF(B1835=B1834,COUNTIF(B$9:B1834,B1835)+1,1))","v":1823},0,0]
["1828","-1900","-1900-1824",null,null,null,null,null,null,null,null,null,null,null,null,null,null,null,null,null,null,{"$f":"IF(M$2021=1,\"\",IF(U1836=\"\",\"\",VLOOKUP(U1836,Tabelle!$D$5:$H$7,5,FALSE)))","v":""},{"$f":"IF(M$2021=1,\"\",IF(U1836=\"\",\"\",VLOOKUP(U1836,Tabelle!$D$5:$I$7,6,FALSE)))","v":""},null,null,null,null,null,null,null,null,null,null,null,{"$f":"IF(B1836=\"\",0,IF(B1836=B1835,COUNTIF(B$9:B1835,B1836)+1,1))","v":1824},0,0]
["1829","-1900","-1900-1825",null,null,null,null,null,null,null,null,null,null,null,null,null,null,null,null,null,null,{"$f":"IF(M$2021=1,\"\",IF(U1837=\"\",\"\",VLOOKUP(U1837,Tabelle!$D$5:$H$7,5,FALSE)))","v":""},{"$f":"IF(M$2021=1,\"\",IF(U1837=\"\",\"\",VLOOKUP(U1837,Tabelle!$D$5:$I$7,6,FALSE)))","v":""},null,null,null,null,null,null,null,null,null,null,null,{"$f":"IF(B1837=\"\",0,IF(B1837=B1836,COUNTIF(B$9:B1836,B1837)+1,1))","v":1825},0,0]
["1830","-1900","-1900-1826",null,null,null,null,null,null,null,null,null,null,null,null,null,null,null,null,null,null,{"$f":"IF(M$2021=1,\"\",IF(U1838=\"\",\"\",VLOOKUP(U1838,Tabelle!$D$5:$H$7,5,FALSE)))","v":""},{"$f":"IF(M$2021=1,\"\",IF(U1838=\"\",\"\",VLOOKUP(U1838,Tabelle!$D$5:$I$7,6,FALSE)))","v":""},null,null,null,null,null,null,null,null,null,null,null,{"$f":"IF(B1838=\"\",0,IF(B1838=B1837,COUNTIF(B$9:B1837,B1838)+1,1))","v":1826},0,0]
["1831","-1900","-1900-1827",null,null,null,null,null,null,null,null,null,null,null,null,null,null,null,null,null,null,{"$f":"IF(M$2021=1,\"\",IF(U1839=\"\",\"\",VLOOKUP(U1839,Tabelle!$D$5:$H$7,5,FALSE)))","v":""},{"$f":"IF(M$2021=1,\"\",IF(U1839=\"\",\"\",VLOOKUP(U1839,Tabelle!$D$5:$I$7,6,FALSE)))","v":""},null,null,null,null,null,null,null,null,null,null,null,{"$f":"IF(B1839=\"\",0,IF(B1839=B1838,COUNTIF(B$9:B1838,B1839)+1,1))","v":1827},0,0]
["1832","-1900","-1900-1828",null,null,null,null,null,null,null,null,null,null,null,null,null,null,null,null,null,null,{"$f":"IF(M$2021=1,\"\",IF(U1840=\"\",\"\",VLOOKUP(U1840,Tabelle!$D$5:$H$7,5,FALSE)))","v":""},{"$f":"IF(M$2021=1,\"\",IF(U1840=\"\",\"\",VLOOKUP(U1840,Tabelle!$D$5:$I$7,6,FALSE)))","v":""},null,null,null,null,null,null,null,null,null,null,null,{"$f":"IF(B1840=\"\",0,IF(B1840=B1839,COUNTIF(B$9:B1839,B1840)+1,1))","v":1828},0,0]
["1833","-1900","-1900-1829",null,null,null,null,null,null,null,null,null,null,null,null,null,null,null,null,null,null,{"$f":"IF(M$2021=1,\"\",IF(U1841=\"\",\"\",VLOOKUP(U1841,Tabelle!$D$5:$H$7,5,FALSE)))","v":""},{"$f":"IF(M$2021=1,\"\",IF(U1841=\"\",\"\",VLOOKUP(U1841,Tabelle!$D$5:$I$7,6,FALSE)))","v":""},null,null,null,null,null,null,null,null,null,null,null,{"$f":"IF(B1841=\"\",0,IF(B1841=B1840,COUNTIF(B$9:B1840,B1841)+1,1))","v":1829},0,0]
["1834","-1900","-1900-1830",null,null,null,null,null,null,null,null,null,null,null,null,null,null,null,null,null,null,{"$f":"IF(M$2021=1,\"\",IF(U1842=\"\",\"\",VLOOKUP(U1842,Tabelle!$D$5:$H$7,5,FALSE)))","v":""},{"$f":"IF(M$2021=1,\"\",IF(U1842=\"\",\"\",VLOOKUP(U1842,Tabelle!$D$5:$I$7,6,FALSE)))","v":""},null,null,null,null,null,null,null,null,null,null,null,{"$f":"IF(B1842=\"\",0,IF(B1842=B1841,COUNTIF(B$9:B1841,B1842)+1,1))","v":1830},0,0]
["1835","-1900","-1900-1831",null,null,null,null,null,null,null,null,null,null,null,null,null,null,null,null,null,null,{"$f":"IF(M$2021=1,\"\",IF(U1843=\"\",\"\",VLOOKUP(U1843,Tabelle!$D$5:$H$7,5,FALSE)))","v":""},{"$f":"IF(M$2021=1,\"\",IF(U1843=\"\",\"\",VLOOKUP(U1843,Tabelle!$D$5:$I$7,6,FALSE)))","v":""},null,null,null,null,null,null,null,null,null,null,null,{"$f":"IF(B1843=\"\",0,IF(B1843=B1842,COUNTIF(B$9:B1842,B1843)+1,1))","v":1831},0,0]
["1836","-1900","-1900-1832",null,null,null,null,null,null,null,null,null,null,null,null,null,null,null,null,null,null,{"$f":"IF(M$2021=1,\"\",IF(U1844=\"\",\"\",VLOOKUP(U1844,Tabelle!$D$5:$H$7,5,FALSE)))","v":""},{"$f":"IF(M$2021=1,\"\",IF(U1844=\"\",\"\",VLOOKUP(U1844,Tabelle!$D$5:$I$7,6,FALSE)))","v":""},null,null,null,null,null,null,null,null,null,null,null,{"$f":"IF(B1844=\"\",0,IF(B1844=B1843,COUNTIF(B$9:B1843,B1844)+1,1))","v":1832},0,0]
["1837","-1900","-1900-1833",null,null,null,null,null,null,null,null,null,null,null,null,null,null,null,null,null,null,{"$f":"IF(M$2021=1,\"\",IF(U1845=\"\",\"\",VLOOKUP(U1845,Tabelle!$D$5:$H$7,5,FALSE)))","v":""},{"$f":"IF(M$2021=1,\"\",IF(U1845=\"\",\"\",VLOOKUP(U1845,Tabelle!$D$5:$I$7,6,FALSE)))","v":""},null,null,null,null,null,null,null,null,null,null,null,{"$f":"IF(B1845=\"\",0,IF(B1845=B1844,COUNTIF(B$9:B1844,B1845)+1,1))","v":1833},0,0]
["1838","-1900","-1900-1834",null,null,null,null,null,null,null,null,null,null,null,null,null,null,null,null,null,null,{"$f":"IF(M$2021=1,\"\",IF(U1846=\"\",\"\",VLOOKUP(U1846,Tabelle!$D$5:$H$7,5,FALSE)))","v":""},{"$f":"IF(M$2021=1,\"\",IF(U1846=\"\",\"\",VLOOKUP(U1846,Tabelle!$D$5:$I$7,6,FALSE)))","v":""},null,null,null,null,null,null,null,null,null,null,null,{"$f":"IF(B1846=\"\",0,IF(B1846=B1845,COUNTIF(B$9:B1845,B1846)+1,1))","v":1834},0,0]
["1839","-1900","-1900-1835",null,null,null,null,null,null,null,null,null,null,null,null,null,null,null,null,null,null,{"$f":"IF(M$2021=1,\"\",IF(U1847=\"\",\"\",VLOOKUP(U1847,Tabelle!$D$5:$H$7,5,FALSE)))","v":""},{"$f":"IF(M$2021=1,\"\",IF(U1847=\"\",\"\",VLOOKUP(U1847,Tabelle!$D$5:$I$7,6,FALSE)))","v":""},null,null,null,null,null,null,null,null,null,null,null,{"$f":"IF(B1847=\"\",0,IF(B1847=B1846,COUNTIF(B$9:B1846,B1847)+1,1))","v":1835},0,0]
["1840","-1900","-1900-1836",null,null,null,null,null,null,null,null,null,null,null,null,null,null,null,null,null,null,{"$f":"IF(M$2021=1,\"\",IF(U1848=\"\",\"\",VLOOKUP(U1848,Tabelle!$D$5:$H$7,5,FALSE)))","v":""},{"$f":"IF(M$2021=1,\"\",IF(U1848=\"\",\"\",VLOOKUP(U1848,Tabelle!$D$5:$I$7,6,FALSE)))","v":""},null,null,null,null,null,null,null,null,null,null,null,{"$f":"IF(B1848=\"\",0,IF(B1848=B1847,COUNTIF(B$9:B1847,B1848)+1,1))","v":1836},0,0]
["1841","-1900","-1900-1837",null,null,null,null,null,null,null,null,null,null,null,null,null,null,null,null,null,null,{"$f":"IF(M$2021=1,\"\",IF(U1849=\"\",\"\",VLOOKUP(U1849,Tabelle!$D$5:$H$7,5,FALSE)))","v":""},{"$f":"IF(M$2021=1,\"\",IF(U1849=\"\",\"\",VLOOKUP(U1849,Tabelle!$D$5:$I$7,6,FALSE)))","v":""},null,null,null,null,null,null,null,null,null,null,null,{"$f":"IF(B1849=\"\",0,IF(B1849=B1848,COUNTIF(B$9:B1848,B1849)+1,1))","v":1837},0,0]
["1842","-1900","-1900-1838",null,null,null,null,null,null,null,null,null,null,null,null,null,null,null,null,null,null,{"$f":"IF(M$2021=1,\"\",IF(U1850=\"\",\"\",VLOOKUP(U1850,Tabelle!$D$5:$H$7,5,FALSE)))","v":""},{"$f":"IF(M$2021=1,\"\",IF(U1850=\"\",\"\",VLOOKUP(U1850,Tabelle!$D$5:$I$7,6,FALSE)))","v":""},null,null,null,null,null,null,null,null,null,null,null,{"$f":"IF(B1850=\"\",0,IF(B1850=B1849,COUNTIF(B$9:B1849,B1850)+1,1))","v":1838},0,0]
["1843","-1900","-1900-1839",null,null,null,null,null,null,null,null,null,null,null,null,null,null,null,null,null,null,{"$f":"IF(M$2021=1,\"\",IF(U1851=\"\",\"\",VLOOKUP(U1851,Tabelle!$D$5:$H$7,5,FALSE)))","v":""},{"$f":"IF(M$2021=1,\"\",IF(U1851=\"\",\"\",VLOOKUP(U1851,Tabelle!$D$5:$I$7,6,FALSE)))","v":""},null,null,null,null,null,null,null,null,null,null,null,{"$f":"IF(B1851=\"\",0,IF(B1851=B1850,COUNTIF(B$9:B1850,B1851)+1,1))","v":1839},0,0]
["1844","-1900","-1900-1840",null,null,null,null,null,null,null,null,null,null,null,null,null,null,null,null,null,null,{"$f":"IF(M$2021=1,\"\",IF(U1852=\"\",\"\",VLOOKUP(U1852,Tabelle!$D$5:$H$7,5,FALSE)))","v":""},{"$f":"IF(M$2021=1,\"\",IF(U1852=\"\",\"\",VLOOKUP(U1852,Tabelle!$D$5:$I$7,6,FALSE)))","v":""},null,null,null,null,null,null,null,null,null,null,null,{"$f":"IF(B1852=\"\",0,IF(B1852=B1851,COUNTIF(B$9:B1851,B1852)+1,1))","v":1840},0,0]
["1845","-1900","-1900-1841",null,null,null,null,null,null,null,null,null,null,null,null,null,null,null,null,null,null,{"$f":"IF(M$2021=1,\"\",IF(U1853=\"\",\"\",VLOOKUP(U1853,Tabelle!$D$5:$H$7,5,FALSE)))","v":""},{"$f":"IF(M$2021=1,\"\",IF(U1853=\"\",\"\",VLOOKUP(U1853,Tabelle!$D$5:$I$7,6,FALSE)))","v":""},null,null,null,null,null,null,null,null,null,null,null,{"$f":"IF(B1853=\"\",0,IF(B1853=B1852,COUNTIF(B$9:B1852,B1853)+1,1))","v":1841},0,0]
["1846","-1900","-1900-1842",null,null,null,null,null,null,null,null,null,null,null,null,null,null,null,null,null,null,{"$f":"IF(M$2021=1,\"\",IF(U1854=\"\",\"\",VLOOKUP(U1854,Tabelle!$D$5:$H$7,5,FALSE)))","v":""},{"$f":"IF(M$2021=1,\"\",IF(U1854=\"\",\"\",VLOOKUP(U1854,Tabelle!$D$5:$I$7,6,FALSE)))","v":""},null,null,null,null,null,null,null,null,null,null,null,{"$f":"IF(B1854=\"\",0,IF(B1854=B1853,COUNTIF(B$9:B1853,B1854)+1,1))","v":1842},0,0]
["1847","-1900","-1900-1843",null,null,null,null,null,null,null,null,null,null,null,null,null,null,null,null,null,null,{"$f":"IF(M$2021=1,\"\",IF(U1855=\"\",\"\",VLOOKUP(U1855,Tabelle!$D$5:$H$7,5,FALSE)))","v":""},{"$f":"IF(M$2021=1,\"\",IF(U1855=\"\",\"\",VLOOKUP(U1855,Tabelle!$D$5:$I$7,6,FALSE)))","v":""},null,null,null,null,null,null,null,null,null,null,null,{"$f":"IF(B1855=\"\",0,IF(B1855=B1854,COUNTIF(B$9:B1854,B1855)+1,1))","v":1843},0,0]
["1848","-1900","-1900-1844",null,null,null,null,null,null,null,null,null,null,null,null,null,null,null,null,null,null,{"$f":"IF(M$2021=1,\"\",IF(U1856=\"\",\"\",VLOOKUP(U1856,Tabelle!$D$5:$H$7,5,FALSE)))","v":""},{"$f":"IF(M$2021=1,\"\",IF(U1856=\"\",\"\",VLOOKUP(U1856,Tabelle!$D$5:$I$7,6,FALSE)))","v":""},null,null,null,null,null,null,null,null,null,null,null,{"$f":"IF(B1856=\"\",0,IF(B1856=B1855,COUNTIF(B$9:B1855,B1856)+1,1))","v":1844},0,0]
["1849","-1900","-1900-1845",null,null,null,null,null,null,null,null,null,null,null,null,null,null,null,null,null,null,{"$f":"IF(M$2021=1,\"\",IF(U1857=\"\",\"\",VLOOKUP(U1857,Tabelle!$D$5:$H$7,5,FALSE)))","v":""},{"$f":"IF(M$2021=1,\"\",IF(U1857=\"\",\"\",VLOOKUP(U1857,Tabelle!$D$5:$I$7,6,FALSE)))","v":""},null,null,null,null,null,null,null,null,null,null,null,{"$f":"IF(B1857=\"\",0,IF(B1857=B1856,COUNTIF(B$9:B1856,B1857)+1,1))","v":1845},0,0]
["1850","-1900","-1900-1846",null,null,null,null,null,null,null,null,null,null,null,null,null,null,null,null,null,null,{"$f":"IF(M$2021=1,\"\",IF(U1858=\"\",\"\",VLOOKUP(U1858,Tabelle!$D$5:$H$7,5,FALSE)))","v":""},{"$f":"IF(M$2021=1,\"\",IF(U1858=\"\",\"\",VLOOKUP(U1858,Tabelle!$D$5:$I$7,6,FALSE)))","v":""},null,null,null,null,null,null,null,null,null,null,null,{"$f":"IF(B1858=\"\",0,IF(B1858=B1857,COUNTIF(B$9:B1857,B1858)+1,1))","v":1846},0,0]
["1851","-1900","-1900-1847",null,null,null,null,null,null,null,null,null,null,null,null,null,null,null,null,null,null,{"$f":"IF(M$2021=1,\"\",IF(U1859=\"\",\"\",VLOOKUP(U1859,Tabelle!$D$5:$H$7,5,FALSE)))","v":""},{"$f":"IF(M$2021=1,\"\",IF(U1859=\"\",\"\",VLOOKUP(U1859,Tabelle!$D$5:$I$7,6,FALSE)))","v":""},null,null,null,null,null,null,null,null,null,null,null,{"$f":"IF(B1859=\"\",0,IF(B1859=B1858,COUNTIF(B$9:B1858,B1859)+1,1))","v":1847},0,0]
["1852","-1900","-1900-1848",null,null,null,null,null,null,null,null,null,null,null,null,null,null,null,null,null,null,{"$f":"IF(M$2021=1,\"\",IF(U1860=\"\",\"\",VLOOKUP(U1860,Tabelle!$D$5:$H$7,5,FALSE)))","v":""},{"$f":"IF(M$2021=1,\"\",IF(U1860=\"\",\"\",VLOOKUP(U1860,Tabelle!$D$5:$I$7,6,FALSE)))","v":""},null,null,null,null,null,null,null,null,null,null,null,{"$f":"IF(B1860=\"\",0,IF(B1860=B1859,COUNTIF(B$9:B1859,B1860)+1,1))","v":1848},0,0]
["1853","-1900","-1900-1849",null,null,null,null,null,null,null,null,null,null,null,null,null,null,null,null,null,null,{"$f":"IF(M$2021=1,\"\",IF(U1861=\"\",\"\",VLOOKUP(U1861,Tabelle!$D$5:$H$7,5,FALSE)))","v":""},{"$f":"IF(M$2021=1,\"\",IF(U1861=\"\",\"\",VLOOKUP(U1861,Tabelle!$D$5:$I$7,6,FALSE)))","v":""},null,null,null,null,null,null,null,null,null,null,null,{"$f":"IF(B1861=\"\",0,IF(B1861=B1860,COUNTIF(B$9:B1860,B1861)+1,1))","v":1849},0,0]
["1854","-1900","-1900-1850",null,null,null,null,null,null,null,null,null,null,null,null,null,null,null,null,null,null,{"$f":"IF(M$2021=1,\"\",IF(U1862=\"\",\"\",VLOOKUP(U1862,Tabelle!$D$5:$H$7,5,FALSE)))","v":""},{"$f":"IF(M$2021=1,\"\",IF(U1862=\"\",\"\",VLOOKUP(U1862,Tabelle!$D$5:$I$7,6,FALSE)))","v":""},null,null,null,null,null,null,null,null,null,null,null,{"$f":"IF(B1862=\"\",0,IF(B1862=B1861,COUNTIF(B$9:B1861,B1862)+1,1))","v":1850},0,0]
["1855","-1900","-1900-1851",null,null,null,null,null,null,null,null,null,null,null,null,null,null,null,null,null,null,{"$f":"IF(M$2021=1,\"\",IF(U1863=\"\",\"\",VLOOKUP(U1863,Tabelle!$D$5:$H$7,5,FALSE)))","v":""},{"$f":"IF(M$2021=1,\"\",IF(U1863=\"\",\"\",VLOOKUP(U1863,Tabelle!$D$5:$I$7,6,FALSE)))","v":""},null,null,null,null,null,null,null,null,null,null,null,{"$f":"IF(B1863=\"\",0,IF(B1863=B1862,COUNTIF(B$9:B1862,B1863)+1,1))","v":1851},0,0]
["1856","-1900","-1900-1852",null,null,null,null,null,null,null,null,null,null,null,null,null,null,null,null,null,null,{"$f":"IF(M$2021=1,\"\",IF(U1864=\"\",\"\",VLOOKUP(U1864,Tabelle!$D$5:$H$7,5,FALSE)))","v":""},{"$f":"IF(M$2021=1,\"\",IF(U1864=\"\",\"\",VLOOKUP(U1864,Tabelle!$D$5:$I$7,6,FALSE)))","v":""},null,null,null,null,null,null,null,null,null,null,null,{"$f":"IF(B1864=\"\",0,IF(B1864=B1863,COUNTIF(B$9:B1863,B1864)+1,1))","v":1852},0,0]
["1857","-1900",{"$f":"IF(M$2021=1,0,B1865&\"-\"&AI1865)","v":"-1900-1853"},null,null,null,null,null,null,null,null,null,null,null,null,null,null,null,null,null,null,{"$f":"IF(M$2021=1,\"\",IF(U1865=\"\",\"\",VLOOKUP(U1865,Tabelle!$D$5:$H$7,5,FALSE)))","v":""},{"$f":"IF(M$2021=1,\"\",IF(U1865=\"\",\"\",VLOOKUP(U1865,Tabelle!$D$5:$I$7,6,FALSE)))","v":""},null,null,null,null,null,null,null,null,null,null,null,{"$f":"IF(B1865=\"\",0,IF(B1865=B1864,COUNTIF(B$9:B1864,B1865)+1,1))","v":1853},0,0]
["1858",{"$f":"IF(AK1866=$AK$2015,0,IF(M$2021=1,0,D1866&\"-\"&YEAR(E1866)))","v":"-1900"},"-1900-1854",null,null,null,null,null,null,null,null,null,null,null,null,null,null,null,null,null,null,{"$f":"IF(M$2021=1,\"\",IF(U1866=\"\",\"\",VLOOKUP(U1866,Tabelle!$D$5:$H$7,5,FALSE)))","v":""},{"$f":"IF(M$2021=1,\"\",IF(U1866=\"\",\"\",VLOOKUP(U1866,Tabelle!$D$5:$I$7,6,FALSE)))","v":""},null,null,null,null,null,null,null,null,null,null,null,{"$f":"IF(B1866=\"\",0,IF(B1866=B1865,COUNTIF(B$9:B1865,B1866)+1,1))","v":1854},{"$f":"IF(OR(D1866=\"\",M$2021=1),0,IF(AI1866=10,1,0))","v":0},{"$f":"IF(E1866>0,IF(OR(MONTH(E1866)<$J$2027,MONTH(E1866)>$J$2028),AK$2015,0),0)","v":0}]
["1859","-1900","-1900-1855",null,null,null,null,null,null,null,null,null,null,null,null,null,null,null,null,null,null,{"$f":"IF(M$2021=1,\"\",IF(U1867=\"\",\"\",VLOOKUP(U1867,Tabelle!$D$5:$H$7,5,FALSE)))","v":""},{"$f":"IF(M$2021=1,\"\",IF(U1867=\"\",\"\",VLOOKUP(U1867,Tabelle!$D$5:$I$7,6,FALSE)))","v":""},null,null,null,null,null,null,null,null,null,null,null,{"$f":"IF(B1867=\"\",0,IF(B1867=B1866,COUNTIF(B$9:B1866,B1867)+1,1))","v":1855},0,0]
["1860","-1900","-1900-1856",null,null,null,null,null,null,null,null,null,null,null,null,null,null,null,null,null,null,{"$f":"IF(M$2021=1,\"\",IF(U1868=\"\",\"\",VLOOKUP(U1868,Tabelle!$D$5:$H$7,5,FALSE)))","v":""},{"$f":"IF(M$2021=1,\"\",IF(U1868=\"\",\"\",VLOOKUP(U1868,Tabelle!$D$5:$I$7,6,FALSE)))","v":""},null,null,null,null,null,null,null,null,null,null,null,{"$f":"IF(B1868=\"\",0,IF(B1868=B1867,COUNTIF(B$9:B1867,B1868)+1,1))","v":1856},0,0]
["1861","-1900","-1900-1857",null,null,null,null,null,null,null,null,null,null,null,null,null,null,null,null,null,null,{"$f":"IF(M$2021=1,\"\",IF(U1869=\"\",\"\",VLOOKUP(U1869,Tabelle!$D$5:$H$7,5,FALSE)))","v":""},{"$f":"IF(M$2021=1,\"\",IF(U1869=\"\",\"\",VLOOKUP(U1869,Tabelle!$D$5:$I$7,6,FALSE)))","v":""},null,null,null,null,null,null,null,null,null,null,null,{"$f":"IF(B1869=\"\",0,IF(B1869=B1868,COUNTIF(B$9:B1868,B1869)+1,1))","v":1857},0,0]
["1862","-1900","-1900-1858",null,null,null,null,null,null,null,null,null,null,null,null,null,null,null,null,null,null,{"$f":"IF(M$2021=1,\"\",IF(U1870=\"\",\"\",VLOOKUP(U1870,Tabelle!$D$5:$H$7,5,FALSE)))","v":""},{"$f":"IF(M$2021=1,\"\",IF(U1870=\"\",\"\",VLOOKUP(U1870,Tabelle!$D$5:$I$7,6,FALSE)))","v":""},null,null,null,null,null,null,null,null,null,null,null,{"$f":"IF(B1870=\"\",0,IF(B1870=B1869,COUNTIF(B$9:B1869,B1870)+1,1))","v":1858},0,0]
["1863","-1900","-1900-1859",null,null,null,null,null,null,null,null,null,null,null,null,null,null,null,null,null,null,{"$f":"IF(M$2021=1,\"\",IF(U1871=\"\",\"\",VLOOKUP(U1871,Tabelle!$D$5:$H$7,5,FALSE)))","v":""},{"$f":"IF(M$2021=1,\"\",IF(U1871=\"\",\"\",VLOOKUP(U1871,Tabelle!$D$5:$I$7,6,FALSE)))","v":""},null,null,null,null,null,null,null,null,null,null,null,{"$f":"IF(B1871=\"\",0,IF(B1871=B1870,COUNTIF(B$9:B1870,B1871)+1,1))","v":1859},0,0]
["1864","-1900","-1900-1860",null,null,null,null,null,null,null,null,null,null,null,null,null,null,null,null,null,null,{"$f":"IF(M$2021=1,\"\",IF(U1872=\"\",\"\",VLOOKUP(U1872,Tabelle!$D$5:$H$7,5,FALSE)))","v":""},{"$f":"IF(M$2021=1,\"\",IF(U1872=\"\",\"\",VLOOKUP(U1872,Tabelle!$D$5:$I$7,6,FALSE)))","v":""},null,null,null,null,null,null,null,null,null,null,null,{"$f":"IF(B1872=\"\",0,IF(B1872=B1871,COUNTIF(B$9:B1871,B1872)+1,1))","v":1860},0,0]
["1865","-1900","-1900-1861",null,null,null,null,null,null,null,null,null,null,null,null,null,null,null,null,null,null,{"$f":"IF(M$2021=1,\"\",IF(U1873=\"\",\"\",VLOOKUP(U1873,Tabelle!$D$5:$H$7,5,FALSE)))","v":""},{"$f":"IF(M$2021=1,\"\",IF(U1873=\"\",\"\",VLOOKUP(U1873,Tabelle!$D$5:$I$7,6,FALSE)))","v":""},null,null,null,null,null,null,null,null,null,null,null,{"$f":"IF(B1873=\"\",0,IF(B1873=B1872,COUNTIF(B$9:B1872,B1873)+1,1))","v":1861},0,0]
["1866","-1900","-1900-1862",null,null,null,null,null,null,null,null,null,null,null,null,null,null,null,null,null,null,{"$f":"IF(M$2021=1,\"\",IF(U1874=\"\",\"\",VLOOKUP(U1874,Tabelle!$D$5:$H$7,5,FALSE)))","v":""},{"$f":"IF(M$2021=1,\"\",IF(U1874=\"\",\"\",VLOOKUP(U1874,Tabelle!$D$5:$I$7,6,FALSE)))","v":""},null,null,null,null,null,null,null,null,null,null,null,{"$f":"IF(B1874=\"\",0,IF(B1874=B1873,COUNTIF(B$9:B1873,B1874)+1,1))","v":1862},0,0]
["1867","-1900","-1900-1863",null,null,null,null,null,null,null,null,null,null,null,null,null,null,null,null,null,null,{"$f":"IF(M$2021=1,\"\",IF(U1875=\"\",\"\",VLOOKUP(U1875,Tabelle!$D$5:$H$7,5,FALSE)))","v":""},{"$f":"IF(M$2021=1,\"\",IF(U1875=\"\",\"\",VLOOKUP(U1875,Tabelle!$D$5:$I$7,6,FALSE)))","v":""},null,null,null,null,null,null,null,null,null,null,null,{"$f":"IF(B1875=\"\",0,IF(B1875=B1874,COUNTIF(B$9:B1874,B1875)+1,1))","v":1863},0,0]
["1868","-1900","-1900-1864",null,null,null,null,null,null,null,null,null,null,null,null,null,null,null,null,null,null,{"$f":"IF(M$2021=1,\"\",IF(U1876=\"\",\"\",VLOOKUP(U1876,Tabelle!$D$5:$H$7,5,FALSE)))","v":""},{"$f":"IF(M$2021=1,\"\",IF(U1876=\"\",\"\",VLOOKUP(U1876,Tabelle!$D$5:$I$7,6,FALSE)))","v":""},null,null,null,null,null,null,null,null,null,null,null,{"$f":"IF(B1876=\"\",0,IF(B1876=B1875,COUNTIF(B$9:B1875,B1876)+1,1))","v":1864},0,0]
["1869","-1900","-1900-1865",null,null,null,null,null,null,null,null,null,null,null,null,null,null,null,null,null,null,{"$f":"IF(M$2021=1,\"\",IF(U1877=\"\",\"\",VLOOKUP(U1877,Tabelle!$D$5:$H$7,5,FALSE)))","v":""},{"$f":"IF(M$2021=1,\"\",IF(U1877=\"\",\"\",VLOOKUP(U1877,Tabelle!$D$5:$I$7,6,FALSE)))","v":""},null,null,null,null,null,null,null,null,null,null,null,{"$f":"IF(B1877=\"\",0,IF(B1877=B1876,COUNTIF(B$9:B1876,B1877)+1,1))","v":1865},0,0]
["1870","-1900","-1900-1866",null,null,null,null,null,null,null,null,null,null,null,null,null,null,null,null,null,null,{"$f":"IF(M$2021=1,\"\",IF(U1878=\"\",\"\",VLOOKUP(U1878,Tabelle!$D$5:$H$7,5,FALSE)))","v":""},{"$f":"IF(M$2021=1,\"\",IF(U1878=\"\",\"\",VLOOKUP(U1878,Tabelle!$D$5:$I$7,6,FALSE)))","v":""},null,null,null,null,null,null,null,null,null,null,null,{"$f":"IF(B1878=\"\",0,IF(B1878=B1877,COUNTIF(B$9:B1877,B1878)+1,1))","v":1866},0,0]
["1871","-1900","-1900-1867",null,null,null,null,null,null,null,null,null,null,null,null,null,null,null,null,null,null,{"$f":"IF(M$2021=1,\"\",IF(U1879=\"\",\"\",VLOOKUP(U1879,Tabelle!$D$5:$H$7,5,FALSE)))","v":""},{"$f":"IF(M$2021=1,\"\",IF(U1879=\"\",\"\",VLOOKUP(U1879,Tabelle!$D$5:$I$7,6,FALSE)))","v":""},null,null,null,null,null,null,null,null,null,null,null,{"$f":"IF(B1879=\"\",0,IF(B1879=B1878,COUNTIF(B$9:B1878,B1879)+1,1))","v":1867},0,0]
["1872","-1900","-1900-1868",null,null,null,null,null,null,null,null,null,null,null,null,null,null,null,null,null,null,{"$f":"IF(M$2021=1,\"\",IF(U1880=\"\",\"\",VLOOKUP(U1880,Tabelle!$D$5:$H$7,5,FALSE)))","v":""},{"$f":"IF(M$2021=1,\"\",IF(U1880=\"\",\"\",VLOOKUP(U1880,Tabelle!$D$5:$I$7,6,FALSE)))","v":""},null,null,null,null,null,null,null,null,null,null,null,{"$f":"IF(B1880=\"\",0,IF(B1880=B1879,COUNTIF(B$9:B1879,B1880)+1,1))","v":1868},0,0]
["1873","-1900","-1900-1869",null,null,null,null,null,null,null,null,null,null,null,null,null,null,null,null,null,null,{"$f":"IF(M$2021=1,\"\",IF(U1881=\"\",\"\",VLOOKUP(U1881,Tabelle!$D$5:$H$7,5,FALSE)))","v":""},{"$f":"IF(M$2021=1,\"\",IF(U1881=\"\",\"\",VLOOKUP(U1881,Tabelle!$D$5:$I$7,6,FALSE)))","v":""},null,null,null,null,null,null,null,null,null,null,null,{"$f":"IF(B1881=\"\",0,IF(B1881=B1880,COUNTIF(B$9:B1880,B1881)+1,1))","v":1869},0,0]
["1874","-1900","-1900-1870",null,null,null,null,null,null,null,null,null,null,null,null,null,null,null,null,null,null,{"$f":"IF(M$2021=1,\"\",IF(U1882=\"\",\"\",VLOOKUP(U1882,Tabelle!$D$5:$H$7,5,FALSE)))","v":""},{"$f":"IF(M$2021=1,\"\",IF(U1882=\"\",\"\",VLOOKUP(U1882,Tabelle!$D$5:$I$7,6,FALSE)))","v":""},null,null,null,null,null,null,null,null,null,null,null,{"$f":"IF(B1882=\"\",0,IF(B1882=B1881,COUNTIF(B$9:B1881,B1882)+1,1))","v":1870},0,0]
["1875","-1900","-1900-1871",null,null,null,null,null,null,null,null,null,null,null,null,null,null,null,null,null,null,{"$f":"IF(M$2021=1,\"\",IF(U1883=\"\",\"\",VLOOKUP(U1883,Tabelle!$D$5:$H$7,5,FALSE)))","v":""},{"$f":"IF(M$2021=1,\"\",IF(U1883=\"\",\"\",VLOOKUP(U1883,Tabelle!$D$5:$I$7,6,FALSE)))","v":""},null,null,null,null,null,null,null,null,null,null,null,{"$f":"IF(B1883=\"\",0,IF(B1883=B1882,COUNTIF(B$9:B1882,B1883)+1,1))","v":1871},0,0]
["1876","-1900","-1900-1872",null,null,null,null,null,null,null,null,null,null,null,null,null,null,null,null,null,null,{"$f":"IF(M$2021=1,\"\",IF(U1884=\"\",\"\",VLOOKUP(U1884,Tabelle!$D$5:$H$7,5,FALSE)))","v":""},{"$f":"IF(M$2021=1,\"\",IF(U1884=\"\",\"\",VLOOKUP(U1884,Tabelle!$D$5:$I$7,6,FALSE)))","v":""},null,null,null,null,null,null,null,null,null,null,null,{"$f":"IF(B1884=\"\",0,IF(B1884=B1883,COUNTIF(B$9:B1883,B1884)+1,1))","v":1872},0,0]
["1877","-1900","-1900-1873",null,null,null,null,null,null,null,null,null,null,null,null,null,null,null,null,null,null,{"$f":"IF(M$2021=1,\"\",IF(U1885=\"\",\"\",VLOOKUP(U1885,Tabelle!$D$5:$H$7,5,FALSE)))","v":""},{"$f":"IF(M$2021=1,\"\",IF(U1885=\"\",\"\",VLOOKUP(U1885,Tabelle!$D$5:$I$7,6,FALSE)))","v":""},null,null,null,null,null,null,null,null,null,null,null,{"$f":"IF(B1885=\"\",0,IF(B1885=B1884,COUNTIF(B$9:B1884,B1885)+1,1))","v":1873},0,0]
["1878","-1900","-1900-1874",null,null,null,null,null,null,null,null,null,null,null,null,null,null,null,null,null,null,{"$f":"IF(M$2021=1,\"\",IF(U1886=\"\",\"\",VLOOKUP(U1886,Tabelle!$D$5:$H$7,5,FALSE)))","v":""},{"$f":"IF(M$2021=1,\"\",IF(U1886=\"\",\"\",VLOOKUP(U1886,Tabelle!$D$5:$I$7,6,FALSE)))","v":""},null,null,null,null,null,null,null,null,null,null,null,{"$f":"IF(B1886=\"\",0,IF(B1886=B1885,COUNTIF(B$9:B1885,B1886)+1,1))","v":1874},0,0]
["1879","-1900","-1900-1875",null,null,null,null,null,null,null,null,null,null,null,null,null,null,null,null,null,null,{"$f":"IF(M$2021=1,\"\",IF(U1887=\"\",\"\",VLOOKUP(U1887,Tabelle!$D$5:$H$7,5,FALSE)))","v":""},{"$f":"IF(M$2021=1,\"\",IF(U1887=\"\",\"\",VLOOKUP(U1887,Tabelle!$D$5:$I$7,6,FALSE)))","v":""},null,null,null,null,null,null,null,null,null,null,null,{"$f":"IF(B1887=\"\",0,IF(B1887=B1886,COUNTIF(B$9:B1886,B1887)+1,1))","v":1875},0,0]
["1880","-1900","-1900-1876",null,null,null,null,null,null,null,null,null,null,null,null,null,null,null,null,null,null,{"$f":"IF(M$2021=1,\"\",IF(U1888=\"\",\"\",VLOOKUP(U1888,Tabelle!$D$5:$H$7,5,FALSE)))","v":""},{"$f":"IF(M$2021=1,\"\",IF(U1888=\"\",\"\",VLOOKUP(U1888,Tabelle!$D$5:$I$7,6,FALSE)))","v":""},null,null,null,null,null,null,null,null,null,null,null,{"$f":"IF(B1888=\"\",0,IF(B1888=B1887,COUNTIF(B$9:B1887,B1888)+1,1))","v":1876},0,0]
["1881","-1900","-1900-1877",null,null,null,null,null,null,null,null,null,null,null,null,null,null,null,null,null,null,{"$f":"IF(M$2021=1,\"\",IF(U1889=\"\",\"\",VLOOKUP(U1889,Tabelle!$D$5:$H$7,5,FALSE)))","v":""},{"$f":"IF(M$2021=1,\"\",IF(U1889=\"\",\"\",VLOOKUP(U1889,Tabelle!$D$5:$I$7,6,FALSE)))","v":""},null,null,null,null,null,null,null,null,null,null,null,{"$f":"IF(B1889=\"\",0,IF(B1889=B1888,COUNTIF(B$9:B1888,B1889)+1,1))","v":1877},0,0]
["1882","-1900","-1900-1878",null,null,null,null,null,null,null,null,null,null,null,null,null,null,null,null,null,null,{"$f":"IF(M$2021=1,\"\",IF(U1890=\"\",\"\",VLOOKUP(U1890,Tabelle!$D$5:$H$7,5,FALSE)))","v":""},{"$f":"IF(M$2021=1,\"\",IF(U1890=\"\",\"\",VLOOKUP(U1890,Tabelle!$D$5:$I$7,6,FALSE)))","v":""},null,null,null,null,null,null,null,null,null,null,null,{"$f":"IF(B1890=\"\",0,IF(B1890=B1889,COUNTIF(B$9:B1889,B1890)+1,1))","v":1878},0,0]
["1883","-1900","-1900-1879",null,null,null,null,null,null,null,null,null,null,null,null,null,null,null,null,null,null,{"$f":"IF(M$2021=1,\"\",IF(U1891=\"\",\"\",VLOOKUP(U1891,Tabelle!$D$5:$H$7,5,FALSE)))","v":""},{"$f":"IF(M$2021=1,\"\",IF(U1891=\"\",\"\",VLOOKUP(U1891,Tabelle!$D$5:$I$7,6,FALSE)))","v":""},null,null,null,null,null,null,null,null,null,null,null,{"$f":"IF(B1891=\"\",0,IF(B1891=B1890,COUNTIF(B$9:B1890,B1891)+1,1))","v":1879},0,0]
["1884","-1900","-1900-1880",null,null,null,null,null,null,null,null,null,null,null,null,null,null,null,null,null,null,{"$f":"IF(M$2021=1,\"\",IF(U1892=\"\",\"\",VLOOKUP(U1892,Tabelle!$D$5:$H$7,5,FALSE)))","v":""},{"$f":"IF(M$2021=1,\"\",IF(U1892=\"\",\"\",VLOOKUP(U1892,Tabelle!$D$5:$I$7,6,FALSE)))","v":""},null,null,null,null,null,null,null,null,null,null,null,{"$f":"IF(B1892=\"\",0,IF(B1892=B1891,COUNTIF(B$9:B1891,B1892)+1,1))","v":1880},0,0]
["1885","-1900","-1900-1881",null,null,null,null,null,null,null,null,null,null,null,null,null,null,null,null,null,null,{"$f":"IF(M$2021=1,\"\",IF(U1893=\"\",\"\",VLOOKUP(U1893,Tabelle!$D$5:$H$7,5,FALSE)))","v":""},{"$f":"IF(M$2021=1,\"\",IF(U1893=\"\",\"\",VLOOKUP(U1893,Tabelle!$D$5:$I$7,6,FALSE)))","v":""},null,null,null,null,null,null,null,null,null,null,null,{"$f":"IF(B1893=\"\",0,IF(B1893=B1892,COUNTIF(B$9:B1892,B1893)+1,1))","v":1881},0,0]
["1886","-1900","-1900-1882",null,null,null,null,null,null,null,null,null,null,null,null,null,null,null,null,null,null,{"$f":"IF(M$2021=1,\"\",IF(U1894=\"\",\"\",VLOOKUP(U1894,Tabelle!$D$5:$H$7,5,FALSE)))","v":""},{"$f":"IF(M$2021=1,\"\",IF(U1894=\"\",\"\",VLOOKUP(U1894,Tabelle!$D$5:$I$7,6,FALSE)))","v":""},null,null,null,null,null,null,null,null,null,null,null,{"$f":"IF(B1894=\"\",0,IF(B1894=B1893,COUNTIF(B$9:B1893,B1894)+1,1))","v":1882},0,0]
["1887","-1900","-1900-1883",null,null,null,null,null,null,null,null,null,null,null,null,null,null,null,null,null,null,{"$f":"IF(M$2021=1,\"\",IF(U1895=\"\",\"\",VLOOKUP(U1895,Tabelle!$D$5:$H$7,5,FALSE)))","v":""},{"$f":"IF(M$2021=1,\"\",IF(U1895=\"\",\"\",VLOOKUP(U1895,Tabelle!$D$5:$I$7,6,FALSE)))","v":""},null,null,null,null,null,null,null,null,null,null,null,{"$f":"IF(B1895=\"\",0,IF(B1895=B1894,COUNTIF(B$9:B1894,B1895)+1,1))","v":1883},0,0]
["1888","-1900","-1900-1884",null,null,null,null,null,null,null,null,null,null,null,null,null,null,null,null,null,null,{"$f":"IF(M$2021=1,\"\",IF(U1896=\"\",\"\",VLOOKUP(U1896,Tabelle!$D$5:$H$7,5,FALSE)))","v":""},{"$f":"IF(M$2021=1,\"\",IF(U1896=\"\",\"\",VLOOKUP(U1896,Tabelle!$D$5:$I$7,6,FALSE)))","v":""},null,null,null,null,null,null,null,null,null,null,null,{"$f":"IF(B1896=\"\",0,IF(B1896=B1895,COUNTIF(B$9:B1895,B1896)+1,1))","v":1884},0,0]
["1889","-1900","-1900-1885",null,null,null,null,null,null,null,null,null,null,null,null,null,null,null,null,null,null,{"$f":"IF(M$2021=1,\"\",IF(U1897=\"\",\"\",VLOOKUP(U1897,Tabelle!$D$5:$H$7,5,FALSE)))","v":""},{"$f":"IF(M$2021=1,\"\",IF(U1897=\"\",\"\",VLOOKUP(U1897,Tabelle!$D$5:$I$7,6,FALSE)))","v":""},null,null,null,null,null,null,null,null,null,null,null,{"$f":"IF(B1897=\"\",0,IF(B1897=B1896,COUNTIF(B$9:B1896,B1897)+1,1))","v":1885},0,0]
["1890","-1900","-1900-1886",null,null,null,null,null,null,null,null,null,null,null,null,null,null,null,null,null,null,{"$f":"IF(M$2021=1,\"\",IF(U1898=\"\",\"\",VLOOKUP(U1898,Tabelle!$D$5:$H$7,5,FALSE)))","v":""},{"$f":"IF(M$2021=1,\"\",IF(U1898=\"\",\"\",VLOOKUP(U1898,Tabelle!$D$5:$I$7,6,FALSE)))","v":""},null,null,null,null,null,null,null,null,null,null,null,{"$f":"IF(B1898=\"\",0,IF(B1898=B1897,COUNTIF(B$9:B1897,B1898)+1,1))","v":1886},0,0]
["1891","-1900","-1900-1887",null,null,null,null,null,null,null,null,null,null,null,null,null,null,null,null,null,null,{"$f":"IF(M$2021=1,\"\",IF(U1899=\"\",\"\",VLOOKUP(U1899,Tabelle!$D$5:$H$7,5,FALSE)))","v":""},{"$f":"IF(M$2021=1,\"\",IF(U1899=\"\",\"\",VLOOKUP(U1899,Tabelle!$D$5:$I$7,6,FALSE)))","v":""},null,null,null,null,null,null,null,null,null,null,null,{"$f":"IF(B1899=\"\",0,IF(B1899=B1898,COUNTIF(B$9:B1898,B1899)+1,1))","v":1887},0,0]
["1892","-1900","-1900-1888",null,null,null,null,null,null,null,null,null,null,null,null,null,null,null,null,null,null,{"$f":"IF(M$2021=1,\"\",IF(U1900=\"\",\"\",VLOOKUP(U1900,Tabelle!$D$5:$H$7,5,FALSE)))","v":""},{"$f":"IF(M$2021=1,\"\",IF(U1900=\"\",\"\",VLOOKUP(U1900,Tabelle!$D$5:$I$7,6,FALSE)))","v":""},null,null,null,null,null,null,null,null,null,null,null,{"$f":"IF(B1900=\"\",0,IF(B1900=B1899,COUNTIF(B$9:B1899,B1900)+1,1))","v":1888},0,0]
["1893","-1900","-1900-1889",null,null,null,null,null,null,null,null,null,null,null,null,null,null,null,null,null,null,{"$f":"IF(M$2021=1,\"\",IF(U1901=\"\",\"\",VLOOKUP(U1901,Tabelle!$D$5:$H$7,5,FALSE)))","v":""},{"$f":"IF(M$2021=1,\"\",IF(U1901=\"\",\"\",VLOOKUP(U1901,Tabelle!$D$5:$I$7,6,FALSE)))","v":""},null,null,null,null,null,null,null,null,null,null,null,{"$f":"IF(B1901=\"\",0,IF(B1901=B1900,COUNTIF(B$9:B1900,B1901)+1,1))","v":1889},0,0]
["1894","-1900","-1900-1890",null,null,null,null,null,null,null,null,null,null,null,null,null,null,null,null,null,null,{"$f":"IF(M$2021=1,\"\",IF(U1902=\"\",\"\",VLOOKUP(U1902,Tabelle!$D$5:$H$7,5,FALSE)))","v":""},{"$f":"IF(M$2021=1,\"\",IF(U1902=\"\",\"\",VLOOKUP(U1902,Tabelle!$D$5:$I$7,6,FALSE)))","v":""},null,null,null,null,null,null,null,null,null,null,null,{"$f":"IF(B1902=\"\",0,IF(B1902=B1901,COUNTIF(B$9:B1901,B1902)+1,1))","v":1890},0,0]
["1895","-1900","-1900-1891",null,null,null,null,null,null,null,null,null,null,null,null,null,null,null,null,null,null,{"$f":"IF(M$2021=1,\"\",IF(U1903=\"\",\"\",VLOOKUP(U1903,Tabelle!$D$5:$H$7,5,FALSE)))","v":""},{"$f":"IF(M$2021=1,\"\",IF(U1903=\"\",\"\",VLOOKUP(U1903,Tabelle!$D$5:$I$7,6,FALSE)))","v":""},null,null,null,null,null,null,null,null,null,null,null,{"$f":"IF(B1903=\"\",0,IF(B1903=B1902,COUNTIF(B$9:B1902,B1903)+1,1))","v":1891},0,0]
["1896","-1900","-1900-1892",null,null,null,null,null,null,null,null,null,null,null,null,null,null,null,null,null,null,{"$f":"IF(M$2021=1,\"\",IF(U1904=\"\",\"\",VLOOKUP(U1904,Tabelle!$D$5:$H$7,5,FALSE)))","v":""},{"$f":"IF(M$2021=1,\"\",IF(U1904=\"\",\"\",VLOOKUP(U1904,Tabelle!$D$5:$I$7,6,FALSE)))","v":""},null,null,null,null,null,null,null,null,null,null,null,{"$f":"IF(B1904=\"\",0,IF(B1904=B1903,COUNTIF(B$9:B1903,B1904)+1,1))","v":1892},0,0]
["1897","-1900","-1900-1893",null,null,null,null,null,null,null,null,null,null,null,null,null,null,null,null,null,null,{"$f":"IF(M$2021=1,\"\",IF(U1905=\"\",\"\",VLOOKUP(U1905,Tabelle!$D$5:$H$7,5,FALSE)))","v":""},{"$f":"IF(M$2021=1,\"\",IF(U1905=\"\",\"\",VLOOKUP(U1905,Tabelle!$D$5:$I$7,6,FALSE)))","v":""},null,null,null,null,null,null,null,null,null,null,null,{"$f":"IF(B1905=\"\",0,IF(B1905=B1904,COUNTIF(B$9:B1904,B1905)+1,1))","v":1893},0,0]
["1898","-1900","-1900-1894",null,null,null,null,null,null,null,null,null,null,null,null,null,null,null,null,null,null,{"$f":"IF(M$2021=1,\"\",IF(U1906=\"\",\"\",VLOOKUP(U1906,Tabelle!$D$5:$H$7,5,FALSE)))","v":""},{"$f":"IF(M$2021=1,\"\",IF(U1906=\"\",\"\",VLOOKUP(U1906,Tabelle!$D$5:$I$7,6,FALSE)))","v":""},null,null,null,null,null,null,null,null,null,null,null,{"$f":"IF(B1906=\"\",0,IF(B1906=B1905,COUNTIF(B$9:B1905,B1906)+1,1))","v":1894},0,0]
["1899","-1900","-1900-1895",null,null,null,null,null,null,null,null,null,null,null,null,null,null,null,null,null,null,{"$f":"IF(M$2021=1,\"\",IF(U1907=\"\",\"\",VLOOKUP(U1907,Tabelle!$D$5:$H$7,5,FALSE)))","v":""},{"$f":"IF(M$2021=1,\"\",IF(U1907=\"\",\"\",VLOOKUP(U1907,Tabelle!$D$5:$I$7,6,FALSE)))","v":""},null,null,null,null,null,null,null,null,null,null,null,{"$f":"IF(B1907=\"\",0,IF(B1907=B1906,COUNTIF(B$9:B1906,B1907)+1,1))","v":1895},0,0]
["1900 di 2000","-1900","-1900-1896",null,null,null,null,null,null,null,null,null,null,null,null,null,null,null,null,null,null,{"$f":"IF(M$2021=1,\"\",IF(U1908=\"\",\"\",VLOOKUP(U1908,Tabelle!$D$5:$H$7,5,FALSE)))","v":""},{"$f":"IF(M$2021=1,\"\",IF(U1908=\"\",\"\",VLOOKUP(U1908,Tabelle!$D$5:$I$7,6,FALSE)))","v":""},null,null,null,null,null,null,null,null,null,null,null,{"$f":"IF(B1908=\"\",0,IF(B1908=B1907,COUNTIF(B$9:B1907,B1908)+1,1))","v":1896},0,0]
["1901","-1900","-1900-1897",null,null,null,null,null,null,null,null,null,null,null,null,null,null,null,null,null,null,{"$f":"IF(M$2021=1,\"\",IF(U1909=\"\",\"\",VLOOKUP(U1909,Tabelle!$D$5:$H$7,5,FALSE)))","v":""},{"$f":"IF(M$2021=1,\"\",IF(U1909=\"\",\"\",VLOOKUP(U1909,Tabelle!$D$5:$I$7,6,FALSE)))","v":""},null,null,null,null,null,null,null,null,null,null,null,{"$f":"IF(B1909=\"\",0,IF(B1909=B1908,COUNTIF(B$9:B1908,B1909)+1,1))","v":1897},0,0]
["1902","-1900","-1900-1898",null,null,null,null,null,null,null,null,null,null,null,null,null,null,null,null,null,null,{"$f":"IF(M$2021=1,\"\",IF(U1910=\"\",\"\",VLOOKUP(U1910,Tabelle!$D$5:$H$7,5,FALSE)))","v":""},{"$f":"IF(M$2021=1,\"\",IF(U1910=\"\",\"\",VLOOKUP(U1910,Tabelle!$D$5:$I$7,6,FALSE)))","v":""},null,null,null,null,null,null,null,null,null,null,null,{"$f":"IF(B1910=\"\",0,IF(B1910=B1909,COUNTIF(B$9:B1909,B1910)+1,1))","v":1898},0,0]
["1903","-1900","-1900-1899",null,null,null,null,null,null,null,null,null,null,null,null,null,null,null,null,null,null,{"$f":"IF(M$2021=1,\"\",IF(U1911=\"\",\"\",VLOOKUP(U1911,Tabelle!$D$5:$H$7,5,FALSE)))","v":""},{"$f":"IF(M$2021=1,\"\",IF(U1911=\"\",\"\",VLOOKUP(U1911,Tabelle!$D$5:$I$7,6,FALSE)))","v":""},null,null,null,null,null,null,null,null,null,null,null,{"$f":"IF(B1911=\"\",0,IF(B1911=B1910,COUNTIF(B$9:B1910,B1911)+1,1))","v":1899},0,0]
["1904","-1900","-1900-1900",null,null,null,null,null,null,null,null,null,null,null,null,null,null,null,null,null,null,{"$f":"IF(M$2021=1,\"\",IF(U1912=\"\",\"\",VLOOKUP(U1912,Tabelle!$D$5:$H$7,5,FALSE)))","v":""},{"$f":"IF(M$2021=1,\"\",IF(U1912=\"\",\"\",VLOOKUP(U1912,Tabelle!$D$5:$I$7,6,FALSE)))","v":""},null,null,null,null,null,null,null,null,null,null,null,{"$f":"IF(B1912=\"\",0,IF(B1912=B1911,COUNTIF(B$9:B1911,B1912)+1,1))","v":1900},0,0]
["1905","-1900","-1900-1901",null,null,null,null,null,null,null,null,null,null,null,null,null,null,null,null,null,null,{"$f":"IF(M$2021=1,\"\",IF(U1913=\"\",\"\",VLOOKUP(U1913,Tabelle!$D$5:$H$7,5,FALSE)))","v":""},{"$f":"IF(M$2021=1,\"\",IF(U1913=\"\",\"\",VLOOKUP(U1913,Tabelle!$D$5:$I$7,6,FALSE)))","v":""},null,null,null,null,null,null,null,null,null,null,null,{"$f":"IF(B1913=\"\",0,IF(B1913=B1912,COUNTIF(B$9:B1912,B1913)+1,1))","v":1901},0,0]
["1906","-1900","-1900-1902",null,null,null,null,null,null,null,null,null,null,null,null,null,null,null,null,null,null,{"$f":"IF(M$2021=1,\"\",IF(U1914=\"\",\"\",VLOOKUP(U1914,Tabelle!$D$5:$H$7,5,FALSE)))","v":""},{"$f":"IF(M$2021=1,\"\",IF(U1914=\"\",\"\",VLOOKUP(U1914,Tabelle!$D$5:$I$7,6,FALSE)))","v":""},null,null,null,null,null,null,null,null,null,null,null,{"$f":"IF(B1914=\"\",0,IF(B1914=B1913,COUNTIF(B$9:B1913,B1914)+1,1))","v":1902},0,0]
["1907","-1900","-1900-1903",null,null,null,null,null,null,null,null,null,null,null,null,null,null,null,null,null,null,{"$f":"IF(M$2021=1,\"\",IF(U1915=\"\",\"\",VLOOKUP(U1915,Tabelle!$D$5:$H$7,5,FALSE)))","v":""},{"$f":"IF(M$2021=1,\"\",IF(U1915=\"\",\"\",VLOOKUP(U1915,Tabelle!$D$5:$I$7,6,FALSE)))","v":""},null,null,null,null,null,null,null,null,null,null,null,{"$f":"IF(B1915=\"\",0,IF(B1915=B1914,COUNTIF(B$9:B1914,B1915)+1,1))","v":1903},0,0]
["1908","-1900","-1900-1904",null,null,null,null,null,null,null,null,null,null,null,null,null,null,null,null,null,null,{"$f":"IF(M$2021=1,\"\",IF(U1916=\"\",\"\",VLOOKUP(U1916,Tabelle!$D$5:$H$7,5,FALSE)))","v":""},{"$f":"IF(M$2021=1,\"\",IF(U1916=\"\",\"\",VLOOKUP(U1916,Tabelle!$D$5:$I$7,6,FALSE)))","v":""},null,null,null,null,null,null,null,null,null,null,null,{"$f":"IF(B1916=\"\",0,IF(B1916=B1915,COUNTIF(B$9:B1915,B1916)+1,1))","v":1904},0,0]
["1909","-1900","-1900-1905",null,null,null,null,null,null,null,null,null,null,null,null,null,null,null,null,null,null,{"$f":"IF(M$2021=1,\"\",IF(U1917=\"\",\"\",VLOOKUP(U1917,Tabelle!$D$5:$H$7,5,FALSE)))","v":""},{"$f":"IF(M$2021=1,\"\",IF(U1917=\"\",\"\",VLOOKUP(U1917,Tabelle!$D$5:$I$7,6,FALSE)))","v":""},null,null,null,null,null,null,null,null,null,null,null,{"$f":"IF(B1917=\"\",0,IF(B1917=B1916,COUNTIF(B$9:B1916,B1917)+1,1))","v":1905},0,0]
["1910","-1900","-1900-1906",null,null,null,null,null,null,null,null,null,null,null,null,null,null,null,null,null,null,{"$f":"IF(M$2021=1,\"\",IF(U1918=\"\",\"\",VLOOKUP(U1918,Tabelle!$D$5:$H$7,5,FALSE)))","v":""},{"$f":"IF(M$2021=1,\"\",IF(U1918=\"\",\"\",VLOOKUP(U1918,Tabelle!$D$5:$I$7,6,FALSE)))","v":""},null,null,null,null,null,null,null,null,null,null,null,{"$f":"IF(B1918=\"\",0,IF(B1918=B1917,COUNTIF(B$9:B1917,B1918)+1,1))","v":1906},0,0]
["1911","-1900","-1900-1907",null,null,null,null,null,null,null,null,null,null,null,null,null,null,null,null,null,null,{"$f":"IF(M$2021=1,\"\",IF(U1919=\"\",\"\",VLOOKUP(U1919,Tabelle!$D$5:$H$7,5,FALSE)))","v":""},{"$f":"IF(M$2021=1,\"\",IF(U1919=\"\",\"\",VLOOKUP(U1919,Tabelle!$D$5:$I$7,6,FALSE)))","v":""},null,null,null,null,null,null,null,null,null,null,null,{"$f":"IF(B1919=\"\",0,IF(B1919=B1918,COUNTIF(B$9:B1918,B1919)+1,1))","v":1907},0,0]
["1912","-1900","-1900-1908",null,null,null,null,null,null,null,null,null,null,null,null,null,null,null,null,null,null,{"$f":"IF(M$2021=1,\"\",IF(U1920=\"\",\"\",VLOOKUP(U1920,Tabelle!$D$5:$H$7,5,FALSE)))","v":""},{"$f":"IF(M$2021=1,\"\",IF(U1920=\"\",\"\",VLOOKUP(U1920,Tabelle!$D$5:$I$7,6,FALSE)))","v":""},null,null,null,null,null,null,null,null,null,null,null,{"$f":"IF(B1920=\"\",0,IF(B1920=B1919,COUNTIF(B$9:B1919,B1920)+1,1))","v":1908},0,0]
["1913","-1900","-1900-1909",null,null,null,null,null,null,null,null,null,null,null,null,null,null,null,null,null,null,{"$f":"IF(M$2021=1,\"\",IF(U1921=\"\",\"\",VLOOKUP(U1921,Tabelle!$D$5:$H$7,5,FALSE)))","v":""},{"$f":"IF(M$2021=1,\"\",IF(U1921=\"\",\"\",VLOOKUP(U1921,Tabelle!$D$5:$I$7,6,FALSE)))","v":""},null,null,null,null,null,null,null,null,null,null,null,{"$f":"IF(B1921=\"\",0,IF(B1921=B1920,COUNTIF(B$9:B1920,B1921)+1,1))","v":1909},0,0]
["1914","-1900","-1900-1910",null,null,null,null,null,null,null,null,null,null,null,null,null,null,null,null,null,null,{"$f":"IF(M$2021=1,\"\",IF(U1922=\"\",\"\",VLOOKUP(U1922,Tabelle!$D$5:$H$7,5,FALSE)))","v":""},{"$f":"IF(M$2021=1,\"\",IF(U1922=\"\",\"\",VLOOKUP(U1922,Tabelle!$D$5:$I$7,6,FALSE)))","v":""},null,null,null,null,null,null,null,null,null,null,null,{"$f":"IF(B1922=\"\",0,IF(B1922=B1921,COUNTIF(B$9:B1921,B1922)+1,1))","v":1910},0,0]
["1915","-1900","-1900-1911",null,null,null,null,null,null,null,null,null,null,null,null,null,null,null,null,null,null,{"$f":"IF(M$2021=1,\"\",IF(U1923=\"\",\"\",VLOOKUP(U1923,Tabelle!$D$5:$H$7,5,FALSE)))","v":""},{"$f":"IF(M$2021=1,\"\",IF(U1923=\"\",\"\",VLOOKUP(U1923,Tabelle!$D$5:$I$7,6,FALSE)))","v":""},null,null,null,null,null,null,null,null,null,null,null,{"$f":"IF(B1923=\"\",0,IF(B1923=B1922,COUNTIF(B$9:B1922,B1923)+1,1))","v":1911},0,0]
["1916","-1900","-1900-1912",null,null,null,null,null,null,null,null,null,null,null,null,null,null,null,null,null,null,{"$f":"IF(M$2021=1,\"\",IF(U1924=\"\",\"\",VLOOKUP(U1924,Tabelle!$D$5:$H$7,5,FALSE)))","v":""},{"$f":"IF(M$2021=1,\"\",IF(U1924=\"\",\"\",VLOOKUP(U1924,Tabelle!$D$5:$I$7,6,FALSE)))","v":""},null,null,null,null,null,null,null,null,null,null,null,{"$f":"IF(B1924=\"\",0,IF(B1924=B1923,COUNTIF(B$9:B1923,B1924)+1,1))","v":1912},0,0]
["1917","-1900","-1900-1913",null,null,null,null,null,null,null,null,null,null,null,null,null,null,null,null,null,null,{"$f":"IF(M$2021=1,\"\",IF(U1925=\"\",\"\",VLOOKUP(U1925,Tabelle!$D$5:$H$7,5,FALSE)))","v":""},{"$f":"IF(M$2021=1,\"\",IF(U1925=\"\",\"\",VLOOKUP(U1925,Tabelle!$D$5:$I$7,6,FALSE)))","v":""},null,null,null,null,null,null,null,null,null,null,null,{"$f":"IF(B1925=\"\",0,IF(B1925=B1924,COUNTIF(B$9:B1924,B1925)+1,1))","v":1913},0,0]
["1918","-1900","-1900-1914",null,null,null,null,null,null,null,null,null,null,null,null,null,null,null,null,null,null,{"$f":"IF(M$2021=1,\"\",IF(U1926=\"\",\"\",VLOOKUP(U1926,Tabelle!$D$5:$H$7,5,FALSE)))","v":""},{"$f":"IF(M$2021=1,\"\",IF(U1926=\"\",\"\",VLOOKUP(U1926,Tabelle!$D$5:$I$7,6,FALSE)))","v":""},null,null,null,null,null,null,null,null,null,null,null,{"$f":"IF(B1926=\"\",0,IF(B1926=B1925,COUNTIF(B$9:B1925,B1926)+1,1))","v":1914},0,0]
["1919","-1900","-1900-1915",null,null,null,null,null,null,null,null,null,null,null,null,null,null,null,null,null,null,{"$f":"IF(M$2021=1,\"\",IF(U1927=\"\",\"\",VLOOKUP(U1927,Tabelle!$D$5:$H$7,5,FALSE)))","v":""},{"$f":"IF(M$2021=1,\"\",IF(U1927=\"\",\"\",VLOOKUP(U1927,Tabelle!$D$5:$I$7,6,FALSE)))","v":""},null,null,null,null,null,null,null,null,null,null,null,{"$f":"IF(B1927=\"\",0,IF(B1927=B1926,COUNTIF(B$9:B1926,B1927)+1,1))","v":1915},0,0]
["1920","-1900","-1900-1916",null,null,null,null,null,null,null,null,null,null,null,null,null,null,null,null,null,null,{"$f":"IF(M$2021=1,\"\",IF(U1928=\"\",\"\",VLOOKUP(U1928,Tabelle!$D$5:$H$7,5,FALSE)))","v":""},{"$f":"IF(M$2021=1,\"\",IF(U1928=\"\",\"\",VLOOKUP(U1928,Tabelle!$D$5:$I$7,6,FALSE)))","v":""},null,null,null,null,null,null,null,null,null,null,null,{"$f":"IF(B1928=\"\",0,IF(B1928=B1927,COUNTIF(B$9:B1927,B1928)+1,1))","v":1916},0,0]
["1921","-1900",{"$f":"IF(M$2021=1,0,B1929&\"-\"&AI1929)","v":"-1900-1917"},null,null,null,null,null,null,null,null,null,null,null,null,null,null,null,null,null,null,{"$f":"IF(M$2021=1,\"\",IF(U1929=\"\",\"\",VLOOKUP(U1929,Tabelle!$D$5:$H$7,5,FALSE)))","v":""},{"$f":"IF(M$2021=1,\"\",IF(U1929=\"\",\"\",VLOOKUP(U1929,Tabelle!$D$5:$I$7,6,FALSE)))","v":""},null,null,null,null,null,null,null,null,null,null,null,{"$f":"IF(B1929=\"\",0,IF(B1929=B1928,COUNTIF(B$9:B1928,B1929)+1,1))","v":1917},0,0]
["1922",{"$f":"IF(AK1930=$AK$2015,0,IF(M$2021=1,0,D1930&\"-\"&YEAR(E1930)))","v":"-1900"},"-1900-1918",null,null,null,null,null,null,null,null,null,null,null,null,null,null,null,null,null,null,{"$f":"IF(M$2021=1,\"\",IF(U1930=\"\",\"\",VLOOKUP(U1930,Tabelle!$D$5:$H$7,5,FALSE)))","v":""},{"$f":"IF(M$2021=1,\"\",IF(U1930=\"\",\"\",VLOOKUP(U1930,Tabelle!$D$5:$I$7,6,FALSE)))","v":""},null,null,null,null,null,null,null,null,null,null,null,{"$f":"IF(B1930=\"\",0,IF(B1930=B1929,COUNTIF(B$9:B1929,B1930)+1,1))","v":1918},{"$f":"IF(OR(D1930=\"\",M$2021=1),0,IF(AI1930=10,1,0))","v":0},{"$f":"IF(E1930>0,IF(OR(MONTH(E1930)<$J$2027,MONTH(E1930)>$J$2028),AK$2015,0),0)","v":0}]
["1923","-1900","-1900-1919",null,null,null,null,null,null,null,null,null,null,null,null,null,null,null,null,null,null,{"$f":"IF(M$2021=1,\"\",IF(U1931=\"\",\"\",VLOOKUP(U1931,Tabelle!$D$5:$H$7,5,FALSE)))","v":""},{"$f":"IF(M$2021=1,\"\",IF(U1931=\"\",\"\",VLOOKUP(U1931,Tabelle!$D$5:$I$7,6,FALSE)))","v":""},null,null,null,null,null,null,null,null,null,null,null,{"$f":"IF(B1931=\"\",0,IF(B1931=B1930,COUNTIF(B$9:B1930,B1931)+1,1))","v":1919},0,0]
["1924","-1900","-1900-1920",null,null,null,null,null,null,null,null,null,null,null,null,null,null,null,null,null,null,{"$f":"IF(M$2021=1,\"\",IF(U1932=\"\",\"\",VLOOKUP(U1932,Tabelle!$D$5:$H$7,5,FALSE)))","v":""},{"$f":"IF(M$2021=1,\"\",IF(U1932=\"\",\"\",VLOOKUP(U1932,Tabelle!$D$5:$I$7,6,FALSE)))","v":""},null,null,null,null,null,null,null,null,null,null,null,{"$f":"IF(B1932=\"\",0,IF(B1932=B1931,COUNTIF(B$9:B1931,B1932)+1,1))","v":1920},0,0]
["1925","-1900","-1900-1921",null,null,null,null,null,null,null,null,null,null,null,null,null,null,null,null,null,null,{"$f":"IF(M$2021=1,\"\",IF(U1933=\"\",\"\",VLOOKUP(U1933,Tabelle!$D$5:$H$7,5,FALSE)))","v":""},{"$f":"IF(M$2021=1,\"\",IF(U1933=\"\",\"\",VLOOKUP(U1933,Tabelle!$D$5:$I$7,6,FALSE)))","v":""},null,null,null,null,null,null,null,null,null,null,null,{"$f":"IF(B1933=\"\",0,IF(B1933=B1932,COUNTIF(B$9:B1932,B1933)+1,1))","v":1921},0,0]
["1926","-1900","-1900-1922",null,null,null,null,null,null,null,null,null,null,null,null,null,null,null,null,null,null,{"$f":"IF(M$2021=1,\"\",IF(U1934=\"\",\"\",VLOOKUP(U1934,Tabelle!$D$5:$H$7,5,FALSE)))","v":""},{"$f":"IF(M$2021=1,\"\",IF(U1934=\"\",\"\",VLOOKUP(U1934,Tabelle!$D$5:$I$7,6,FALSE)))","v":""},null,null,null,null,null,null,null,null,null,null,null,{"$f":"IF(B1934=\"\",0,IF(B1934=B1933,COUNTIF(B$9:B1933,B1934)+1,1))","v":1922},0,0]
["1927","-1900","-1900-1923",null,null,null,null,null,null,null,null,null,null,null,null,null,null,null,null,null,null,{"$f":"IF(M$2021=1,\"\",IF(U1935=\"\",\"\",VLOOKUP(U1935,Tabelle!$D$5:$H$7,5,FALSE)))","v":""},{"$f":"IF(M$2021=1,\"\",IF(U1935=\"\",\"\",VLOOKUP(U1935,Tabelle!$D$5:$I$7,6,FALSE)))","v":""},null,null,null,null,null,null,null,null,null,null,null,{"$f":"IF(B1935=\"\",0,IF(B1935=B1934,COUNTIF(B$9:B1934,B1935)+1,1))","v":1923},0,0]
["1928","-1900","-1900-1924",null,null,null,null,null,null,null,null,null,null,null,null,null,null,null,null,null,null,{"$f":"IF(M$2021=1,\"\",IF(U1936=\"\",\"\",VLOOKUP(U1936,Tabelle!$D$5:$H$7,5,FALSE)))","v":""},{"$f":"IF(M$2021=1,\"\",IF(U1936=\"\",\"\",VLOOKUP(U1936,Tabelle!$D$5:$I$7,6,FALSE)))","v":""},null,null,null,null,null,null,null,null,null,null,null,{"$f":"IF(B1936=\"\",0,IF(B1936=B1935,COUNTIF(B$9:B1935,B1936)+1,1))","v":1924},0,0]
["1929","-1900","-1900-1925",null,null,null,null,null,null,null,null,null,null,null,null,null,null,null,null,null,null,{"$f":"IF(M$2021=1,\"\",IF(U1937=\"\",\"\",VLOOKUP(U1937,Tabelle!$D$5:$H$7,5,FALSE)))","v":""},{"$f":"IF(M$2021=1,\"\",IF(U1937=\"\",\"\",VLOOKUP(U1937,Tabelle!$D$5:$I$7,6,FALSE)))","v":""},null,null,null,null,null,null,null,null,null,null,null,{"$f":"IF(B1937=\"\",0,IF(B1937=B1936,COUNTIF(B$9:B1936,B1937)+1,1))","v":1925},0,0]
["1930","-1900","-1900-1926",null,null,null,null,null,null,null,null,null,null,null,null,null,null,null,null,null,null,{"$f":"IF(M$2021=1,\"\",IF(U1938=\"\",\"\",VLOOKUP(U1938,Tabelle!$D$5:$H$7,5,FALSE)))","v":""},{"$f":"IF(M$2021=1,\"\",IF(U1938=\"\",\"\",VLOOKUP(U1938,Tabelle!$D$5:$I$7,6,FALSE)))","v":""},null,null,null,null,null,null,null,null,null,null,null,{"$f":"IF(B1938=\"\",0,IF(B1938=B1937,COUNTIF(B$9:B1937,B1938)+1,1))","v":1926},0,0]
["1931","-1900","-1900-1927",null,null,null,null,null,null,null,null,null,null,null,null,null,null,null,null,null,null,{"$f":"IF(M$2021=1,\"\",IF(U1939=\"\",\"\",VLOOKUP(U1939,Tabelle!$D$5:$H$7,5,FALSE)))","v":""},{"$f":"IF(M$2021=1,\"\",IF(U1939=\"\",\"\",VLOOKUP(U1939,Tabelle!$D$5:$I$7,6,FALSE)))","v":""},null,null,null,null,null,null,null,null,null,null,null,{"$f":"IF(B1939=\"\",0,IF(B1939=B1938,COUNTIF(B$9:B1938,B1939)+1,1))","v":1927},0,0]
["1932","-1900","-1900-1928",null,null,null,null,null,null,null,null,null,null,null,null,null,null,null,null,null,null,{"$f":"IF(M$2021=1,\"\",IF(U1940=\"\",\"\",VLOOKUP(U1940,Tabelle!$D$5:$H$7,5,FALSE)))","v":""},{"$f":"IF(M$2021=1,\"\",IF(U1940=\"\",\"\",VLOOKUP(U1940,Tabelle!$D$5:$I$7,6,FALSE)))","v":""},null,null,null,null,null,null,null,null,null,null,null,{"$f":"IF(B1940=\"\",0,IF(B1940=B1939,COUNTIF(B$9:B1939,B1940)+1,1))","v":1928},0,0]
["1933","-1900","-1900-1929",null,null,null,null,null,null,null,null,null,null,null,null,null,null,null,null,null,null,{"$f":"IF(M$2021=1,\"\",IF(U1941=\"\",\"\",VLOOKUP(U1941,Tabelle!$D$5:$H$7,5,FALSE)))","v":""},{"$f":"IF(M$2021=1,\"\",IF(U1941=\"\",\"\",VLOOKUP(U1941,Tabelle!$D$5:$I$7,6,FALSE)))","v":""},null,null,null,null,null,null,null,null,null,null,null,{"$f":"IF(B1941=\"\",0,IF(B1941=B1940,COUNTIF(B$9:B1940,B1941)+1,1))","v":1929},0,0]
["1934","-1900","-1900-1930",null,null,null,null,null,null,null,null,null,null,null,null,null,null,null,null,null,null,{"$f":"IF(M$2021=1,\"\",IF(U1942=\"\",\"\",VLOOKUP(U1942,Tabelle!$D$5:$H$7,5,FALSE)))","v":""},{"$f":"IF(M$2021=1,\"\",IF(U1942=\"\",\"\",VLOOKUP(U1942,Tabelle!$D$5:$I$7,6,FALSE)))","v":""},null,null,null,null,null,null,null,null,null,null,null,{"$f":"IF(B1942=\"\",0,IF(B1942=B1941,COUNTIF(B$9:B1941,B1942)+1,1))","v":1930},0,0]
["1935","-1900","-1900-1931",null,null,null,null,null,null,null,null,null,null,null,null,null,null,null,null,null,null,{"$f":"IF(M$2021=1,\"\",IF(U1943=\"\",\"\",VLOOKUP(U1943,Tabelle!$D$5:$H$7,5,FALSE)))","v":""},{"$f":"IF(M$2021=1,\"\",IF(U1943=\"\",\"\",VLOOKUP(U1943,Tabelle!$D$5:$I$7,6,FALSE)))","v":""},null,null,null,null,null,null,null,null,null,null,null,{"$f":"IF(B1943=\"\",0,IF(B1943=B1942,COUNTIF(B$9:B1942,B1943)+1,1))","v":1931},0,0]
["1936","-1900","-1900-1932",null,null,null,null,null,null,null,null,null,null,null,null,null,null,null,null,null,null,{"$f":"IF(M$2021=1,\"\",IF(U1944=\"\",\"\",VLOOKUP(U1944,Tabelle!$D$5:$H$7,5,FALSE)))","v":""},{"$f":"IF(M$2021=1,\"\",IF(U1944=\"\",\"\",VLOOKUP(U1944,Tabelle!$D$5:$I$7,6,FALSE)))","v":""},null,null,null,null,null,null,null,null,null,null,null,{"$f":"IF(B1944=\"\",0,IF(B1944=B1943,COUNTIF(B$9:B1943,B1944)+1,1))","v":1932},0,0]
["1937","-1900","-1900-1933",null,null,null,null,null,null,null,null,null,null,null,null,null,null,null,null,null,null,{"$f":"IF(M$2021=1,\"\",IF(U1945=\"\",\"\",VLOOKUP(U1945,Tabelle!$D$5:$H$7,5,FALSE)))","v":""},{"$f":"IF(M$2021=1,\"\",IF(U1945=\"\",\"\",VLOOKUP(U1945,Tabelle!$D$5:$I$7,6,FALSE)))","v":""},null,null,null,null,null,null,null,null,null,null,null,{"$f":"IF(B1945=\"\",0,IF(B1945=B1944,COUNTIF(B$9:B1944,B1945)+1,1))","v":1933},0,0]
["1938","-1900","-1900-1934",null,null,null,null,null,null,null,null,null,null,null,null,null,null,null,null,null,null,{"$f":"IF(M$2021=1,\"\",IF(U1946=\"\",\"\",VLOOKUP(U1946,Tabelle!$D$5:$H$7,5,FALSE)))","v":""},{"$f":"IF(M$2021=1,\"\",IF(U1946=\"\",\"\",VLOOKUP(U1946,Tabelle!$D$5:$I$7,6,FALSE)))","v":""},null,null,null,null,null,null,null,null,null,null,null,{"$f":"IF(B1946=\"\",0,IF(B1946=B1945,COUNTIF(B$9:B1945,B1946)+1,1))","v":1934},0,0]
["1939","-1900","-1900-1935",null,null,null,null,null,null,null,null,null,null,null,null,null,null,null,null,null,null,{"$f":"IF(M$2021=1,\"\",IF(U1947=\"\",\"\",VLOOKUP(U1947,Tabelle!$D$5:$H$7,5,FALSE)))","v":""},{"$f":"IF(M$2021=1,\"\",IF(U1947=\"\",\"\",VLOOKUP(U1947,Tabelle!$D$5:$I$7,6,FALSE)))","v":""},null,null,null,null,null,null,null,null,null,null,null,{"$f":"IF(B1947=\"\",0,IF(B1947=B1946,COUNTIF(B$9:B1946,B1947)+1,1))","v":1935},0,0]
["1940","-1900","-1900-1936",null,null,null,null,null,null,null,null,null,null,null,null,null,null,null,null,null,null,{"$f":"IF(M$2021=1,\"\",IF(U1948=\"\",\"\",VLOOKUP(U1948,Tabelle!$D$5:$H$7,5,FALSE)))","v":""},{"$f":"IF(M$2021=1,\"\",IF(U1948=\"\",\"\",VLOOKUP(U1948,Tabelle!$D$5:$I$7,6,FALSE)))","v":""},null,null,null,null,null,null,null,null,null,null,null,{"$f":"IF(B1948=\"\",0,IF(B1948=B1947,COUNTIF(B$9:B1947,B1948)+1,1))","v":1936},0,0]
["1941","-1900","-1900-1937",null,null,null,null,null,null,null,null,null,null,null,null,null,null,null,null,null,null,{"$f":"IF(M$2021=1,\"\",IF(U1949=\"\",\"\",VLOOKUP(U1949,Tabelle!$D$5:$H$7,5,FALSE)))","v":""},{"$f":"IF(M$2021=1,\"\",IF(U1949=\"\",\"\",VLOOKUP(U1949,Tabelle!$D$5:$I$7,6,FALSE)))","v":""},null,null,null,null,null,null,null,null,null,null,null,{"$f":"IF(B1949=\"\",0,IF(B1949=B1948,COUNTIF(B$9:B1948,B1949)+1,1))","v":1937},0,0]
["1942","-1900","-1900-1938",null,null,null,null,null,null,null,null,null,null,null,null,null,null,null,null,null,null,{"$f":"IF(M$2021=1,\"\",IF(U1950=\"\",\"\",VLOOKUP(U1950,Tabelle!$D$5:$H$7,5,FALSE)))","v":""},{"$f":"IF(M$2021=1,\"\",IF(U1950=\"\",\"\",VLOOKUP(U1950,Tabelle!$D$5:$I$7,6,FALSE)))","v":""},null,null,null,null,null,null,null,null,null,null,null,{"$f":"IF(B1950=\"\",0,IF(B1950=B1949,COUNTIF(B$9:B1949,B1950)+1,1))","v":1938},0,0]
["1943","-1900","-1900-1939",null,null,null,null,null,null,null,null,null,null,null,null,null,null,null,null,null,null,{"$f":"IF(M$2021=1,\"\",IF(U1951=\"\",\"\",VLOOKUP(U1951,Tabelle!$D$5:$H$7,5,FALSE)))","v":""},{"$f":"IF(M$2021=1,\"\",IF(U1951=\"\",\"\",VLOOKUP(U1951,Tabelle!$D$5:$I$7,6,FALSE)))","v":""},null,null,null,null,null,null,null,null,null,null,null,{"$f":"IF(B1951=\"\",0,IF(B1951=B1950,COUNTIF(B$9:B1950,B1951)+1,1))","v":1939},0,0]
["1944","-1900","-1900-1940",null,null,null,null,null,null,null,null,null,null,null,null,null,null,null,null,null,null,{"$f":"IF(M$2021=1,\"\",IF(U1952=\"\",\"\",VLOOKUP(U1952,Tabelle!$D$5:$H$7,5,FALSE)))","v":""},{"$f":"IF(M$2021=1,\"\",IF(U1952=\"\",\"\",VLOOKUP(U1952,Tabelle!$D$5:$I$7,6,FALSE)))","v":""},null,null,null,null,null,null,null,null,null,null,null,{"$f":"IF(B1952=\"\",0,IF(B1952=B1951,COUNTIF(B$9:B1951,B1952)+1,1))","v":1940},0,0]
["1945","-1900","-1900-1941",null,null,null,null,null,null,null,null,null,null,null,null,null,null,null,null,null,null,{"$f":"IF(M$2021=1,\"\",IF(U1953=\"\",\"\",VLOOKUP(U1953,Tabelle!$D$5:$H$7,5,FALSE)))","v":""},{"$f":"IF(M$2021=1,\"\",IF(U1953=\"\",\"\",VLOOKUP(U1953,Tabelle!$D$5:$I$7,6,FALSE)))","v":""},null,null,null,null,null,null,null,null,null,null,null,{"$f":"IF(B1953=\"\",0,IF(B1953=B1952,COUNTIF(B$9:B1952,B1953)+1,1))","v":1941},0,0]
["1946","-1900","-1900-1942",null,null,null,null,null,null,null,null,null,null,null,null,null,null,null,null,null,null,{"$f":"IF(M$2021=1,\"\",IF(U1954=\"\",\"\",VLOOKUP(U1954,Tabelle!$D$5:$H$7,5,FALSE)))","v":""},{"$f":"IF(M$2021=1,\"\",IF(U1954=\"\",\"\",VLOOKUP(U1954,Tabelle!$D$5:$I$7,6,FALSE)))","v":""},null,null,null,null,null,null,null,null,null,null,null,{"$f":"IF(B1954=\"\",0,IF(B1954=B1953,COUNTIF(B$9:B1953,B1954)+1,1))","v":1942},0,0]
["1947","-1900","-1900-1943",null,null,null,null,null,null,null,null,null,null,null,null,null,null,null,null,null,null,{"$f":"IF(M$2021=1,\"\",IF(U1955=\"\",\"\",VLOOKUP(U1955,Tabelle!$D$5:$H$7,5,FALSE)))","v":""},{"$f":"IF(M$2021=1,\"\",IF(U1955=\"\",\"\",VLOOKUP(U1955,Tabelle!$D$5:$I$7,6,FALSE)))","v":""},null,null,null,null,null,null,null,null,null,null,null,{"$f":"IF(B1955=\"\",0,IF(B1955=B1954,COUNTIF(B$9:B1954,B1955)+1,1))","v":1943},0,0]
["1948","-1900","-1900-1944",null,null,null,null,null,null,null,null,null,null,null,null,null,null,null,null,null,null,{"$f":"IF(M$2021=1,\"\",IF(U1956=\"\",\"\",VLOOKUP(U1956,Tabelle!$D$5:$H$7,5,FALSE)))","v":""},{"$f":"IF(M$2021=1,\"\",IF(U1956=\"\",\"\",VLOOKUP(U1956,Tabelle!$D$5:$I$7,6,FALSE)))","v":""},null,null,null,null,null,null,null,null,null,null,null,{"$f":"IF(B1956=\"\",0,IF(B1956=B1955,COUNTIF(B$9:B1955,B1956)+1,1))","v":1944},0,0]
["1949","-1900","-1900-1945",null,null,null,null,null,null,null,null,null,null,null,null,null,null,null,null,null,null,{"$f":"IF(M$2021=1,\"\",IF(U1957=\"\",\"\",VLOOKUP(U1957,Tabelle!$D$5:$H$7,5,FALSE)))","v":""},{"$f":"IF(M$2021=1,\"\",IF(U1957=\"\",\"\",VLOOKUP(U1957,Tabelle!$D$5:$I$7,6,FALSE)))","v":""},null,null,null,null,null,null,null,null,null,null,null,{"$f":"IF(B1957=\"\",0,IF(B1957=B1956,COUNTIF(B$9:B1956,B1957)+1,1))","v":1945},0,0]
["1950","-1900","-1900-1946",null,null,null,null,null,null,null,null,null,null,null,null,null,null,null,null,null,null,{"$f":"IF(M$2021=1,\"\",IF(U1958=\"\",\"\",VLOOKUP(U1958,Tabelle!$D$5:$H$7,5,FALSE)))","v":""},{"$f":"IF(M$2021=1,\"\",IF(U1958=\"\",\"\",VLOOKUP(U1958,Tabelle!$D$5:$I$7,6,FALSE)))","v":""},null,null,null,null,null,null,null,null,null,null,null,{"$f":"IF(B1958=\"\",0,IF(B1958=B1957,COUNTIF(B$9:B1957,B1958)+1,1))","v":1946},0,0]
["1951","-1900","-1900-1947",null,null,null,null,null,null,null,null,null,null,null,null,null,null,null,null,null,null,{"$f":"IF(M$2021=1,\"\",IF(U1959=\"\",\"\",VLOOKUP(U1959,Tabelle!$D$5:$H$7,5,FALSE)))","v":""},{"$f":"IF(M$2021=1,\"\",IF(U1959=\"\",\"\",VLOOKUP(U1959,Tabelle!$D$5:$I$7,6,FALSE)))","v":""},null,null,null,null,null,null,null,null,null,null,null,{"$f":"IF(B1959=\"\",0,IF(B1959=B1958,COUNTIF(B$9:B1958,B1959)+1,1))","v":1947},0,0]
["1952","-1900","-1900-1948",null,null,null,null,null,null,null,null,null,null,null,null,null,null,null,null,null,null,{"$f":"IF(M$2021=1,\"\",IF(U1960=\"\",\"\",VLOOKUP(U1960,Tabelle!$D$5:$H$7,5,FALSE)))","v":""},{"$f":"IF(M$2021=1,\"\",IF(U1960=\"\",\"\",VLOOKUP(U1960,Tabelle!$D$5:$I$7,6,FALSE)))","v":""},null,null,null,null,null,null,null,null,null,null,null,{"$f":"IF(B1960=\"\",0,IF(B1960=B1959,COUNTIF(B$9:B1959,B1960)+1,1))","v":1948},0,0]
["1953","-1900","-1900-1949",null,null,null,null,null,null,null,null,null,null,null,null,null,null,null,null,null,null,{"$f":"IF(M$2021=1,\"\",IF(U1961=\"\",\"\",VLOOKUP(U1961,Tabelle!$D$5:$H$7,5,FALSE)))","v":""},{"$f":"IF(M$2021=1,\"\",IF(U1961=\"\",\"\",VLOOKUP(U1961,Tabelle!$D$5:$I$7,6,FALSE)))","v":""},null,null,null,null,null,null,null,null,null,null,null,{"$f":"IF(B1961=\"\",0,IF(B1961=B1960,COUNTIF(B$9:B1960,B1961)+1,1))","v":1949},0,0]
["1954","-1900","-1900-1950",null,null,null,null,null,null,null,null,null,null,null,null,null,null,null,null,null,null,{"$f":"IF(M$2021=1,\"\",IF(U1962=\"\",\"\",VLOOKUP(U1962,Tabelle!$D$5:$H$7,5,FALSE)))","v":""},{"$f":"IF(M$2021=1,\"\",IF(U1962=\"\",\"\",VLOOKUP(U1962,Tabelle!$D$5:$I$7,6,FALSE)))","v":""},null,null,null,null,null,null,null,null,null,null,null,{"$f":"IF(B1962=\"\",0,IF(B1962=B1961,COUNTIF(B$9:B1961,B1962)+1,1))","v":1950},0,0]
["1955","-1900","-1900-1951",null,null,null,null,null,null,null,null,null,null,null,null,null,null,null,null,null,null,{"$f":"IF(M$2021=1,\"\",IF(U1963=\"\",\"\",VLOOKUP(U1963,Tabelle!$D$5:$H$7,5,FALSE)))","v":""},{"$f":"IF(M$2021=1,\"\",IF(U1963=\"\",\"\",VLOOKUP(U1963,Tabelle!$D$5:$I$7,6,FALSE)))","v":""},null,null,null,null,null,null,null,null,null,null,null,{"$f":"IF(B1963=\"\",0,IF(B1963=B1962,COUNTIF(B$9:B1962,B1963)+1,1))","v":1951},0,0]
["1956","-1900","-1900-1952",null,null,null,null,null,null,null,null,null,null,null,null,null,null,null,null,null,null,{"$f":"IF(M$2021=1,\"\",IF(U1964=\"\",\"\",VLOOKUP(U1964,Tabelle!$D$5:$H$7,5,FALSE)))","v":""},{"$f":"IF(M$2021=1,\"\",IF(U1964=\"\",\"\",VLOOKUP(U1964,Tabelle!$D$5:$I$7,6,FALSE)))","v":""},null,null,null,null,null,null,null,null,null,null,null,{"$f":"IF(B1964=\"\",0,IF(B1964=B1963,COUNTIF(B$9:B1963,B1964)+1,1))","v":1952},0,0]
["1957","-1900","-1900-1953",null,null,null,null,null,null,null,null,null,null,null,null,null,null,null,null,null,null,{"$f":"IF(M$2021=1,\"\",IF(U1965=\"\",\"\",VLOOKUP(U1965,Tabelle!$D$5:$H$7,5,FALSE)))","v":""},{"$f":"IF(M$2021=1,\"\",IF(U1965=\"\",\"\",VLOOKUP(U1965,Tabelle!$D$5:$I$7,6,FALSE)))","v":""},null,null,null,null,null,null,null,null,null,null,null,{"$f":"IF(B1965=\"\",0,IF(B1965=B1964,COUNTIF(B$9:B1964,B1965)+1,1))","v":1953},0,0]
["1958","-1900","-1900-1954",null,null,null,null,null,null,null,null,null,null,null,null,null,null,null,null,null,null,{"$f":"IF(M$2021=1,\"\",IF(U1966=\"\",\"\",VLOOKUP(U1966,Tabelle!$D$5:$H$7,5,FALSE)))","v":""},{"$f":"IF(M$2021=1,\"\",IF(U1966=\"\",\"\",VLOOKUP(U1966,Tabelle!$D$5:$I$7,6,FALSE)))","v":""},null,null,null,null,null,null,null,null,null,null,null,{"$f":"IF(B1966=\"\",0,IF(B1966=B1965,COUNTIF(B$9:B1965,B1966)+1,1))","v":1954},0,0]
["1959","-1900","-1900-1955",null,null,null,null,null,null,null,null,null,null,null,null,null,null,null,null,null,null,{"$f":"IF(M$2021=1,\"\",IF(U1967=\"\",\"\",VLOOKUP(U1967,Tabelle!$D$5:$H$7,5,FALSE)))","v":""},{"$f":"IF(M$2021=1,\"\",IF(U1967=\"\",\"\",VLOOKUP(U1967,Tabelle!$D$5:$I$7,6,FALSE)))","v":""},null,null,null,null,null,null,null,null,null,null,null,{"$f":"IF(B1967=\"\",0,IF(B1967=B1966,COUNTIF(B$9:B1966,B1967)+1,1))","v":1955},0,0]
["1960","-1900","-1900-1956",null,null,null,null,null,null,null,null,null,null,null,null,null,null,null,null,null,null,{"$f":"IF(M$2021=1,\"\",IF(U1968=\"\",\"\",VLOOKUP(U1968,Tabelle!$D$5:$H$7,5,FALSE)))","v":""},{"$f":"IF(M$2021=1,\"\",IF(U1968=\"\",\"\",VLOOKUP(U1968,Tabelle!$D$5:$I$7,6,FALSE)))","v":""},null,null,null,null,null,null,null,null,null,null,null,{"$f":"IF(B1968=\"\",0,IF(B1968=B1967,COUNTIF(B$9:B1967,B1968)+1,1))","v":1956},0,0]
["1961","-1900","-1900-1957",null,null,null,null,null,null,null,null,null,null,null,null,null,null,null,null,null,null,{"$f":"IF(M$2021=1,\"\",IF(U1969=\"\",\"\",VLOOKUP(U1969,Tabelle!$D$5:$H$7,5,FALSE)))","v":""},{"$f":"IF(M$2021=1,\"\",IF(U1969=\"\",\"\",VLOOKUP(U1969,Tabelle!$D$5:$I$7,6,FALSE)))","v":""},null,null,null,null,null,null,null,null,null,null,null,{"$f":"IF(B1969=\"\",0,IF(B1969=B1968,COUNTIF(B$9:B1968,B1969)+1,1))","v":1957},0,0]
["1962","-1900","-1900-1958",null,null,null,null,null,null,null,null,null,null,null,null,null,null,null,null,null,null,{"$f":"IF(M$2021=1,\"\",IF(U1970=\"\",\"\",VLOOKUP(U1970,Tabelle!$D$5:$H$7,5,FALSE)))","v":""},{"$f":"IF(M$2021=1,\"\",IF(U1970=\"\",\"\",VLOOKUP(U1970,Tabelle!$D$5:$I$7,6,FALSE)))","v":""},null,null,null,null,null,null,null,null,null,null,null,{"$f":"IF(B1970=\"\",0,IF(B1970=B1969,COUNTIF(B$9:B1969,B1970)+1,1))","v":1958},0,0]
["1963","-1900","-1900-1959",null,null,null,null,null,null,null,null,null,null,null,null,null,null,null,null,null,null,{"$f":"IF(M$2021=1,\"\",IF(U1971=\"\",\"\",VLOOKUP(U1971,Tabelle!$D$5:$H$7,5,FALSE)))","v":""},{"$f":"IF(M$2021=1,\"\",IF(U1971=\"\",\"\",VLOOKUP(U1971,Tabelle!$D$5:$I$7,6,FALSE)))","v":""},null,null,null,null,null,null,null,null,null,null,null,{"$f":"IF(B1971=\"\",0,IF(B1971=B1970,COUNTIF(B$9:B1970,B1971)+1,1))","v":1959},0,0]
["1964","-1900","-1900-1960",null,null,null,null,null,null,null,null,null,null,null,null,null,null,null,null,null,null,{"$f":"IF(M$2021=1,\"\",IF(U1972=\"\",\"\",VLOOKUP(U1972,Tabelle!$D$5:$H$7,5,FALSE)))","v":""},{"$f":"IF(M$2021=1,\"\",IF(U1972=\"\",\"\",VLOOKUP(U1972,Tabelle!$D$5:$I$7,6,FALSE)))","v":""},null,null,null,null,null,null,null,null,null,null,null,{"$f":"IF(B1972=\"\",0,IF(B1972=B1971,COUNTIF(B$9:B1971,B1972)+1,1))","v":1960},0,0]
["1965","-1900","-1900-1961",null,null,null,null,null,null,null,null,null,null,null,null,null,null,null,null,null,null,{"$f":"IF(M$2021=1,\"\",IF(U1973=\"\",\"\",VLOOKUP(U1973,Tabelle!$D$5:$H$7,5,FALSE)))","v":""},{"$f":"IF(M$2021=1,\"\",IF(U1973=\"\",\"\",VLOOKUP(U1973,Tabelle!$D$5:$I$7,6,FALSE)))","v":""},null,null,null,null,null,null,null,null,null,null,null,{"$f":"IF(B1973=\"\",0,IF(B1973=B1972,COUNTIF(B$9:B1972,B1973)+1,1))","v":1961},0,0]
["1966","-1900","-1900-1962",null,null,null,null,null,null,null,null,null,null,null,null,null,null,null,null,null,null,{"$f":"IF(M$2021=1,\"\",IF(U1974=\"\",\"\",VLOOKUP(U1974,Tabelle!$D$5:$H$7,5,FALSE)))","v":""},{"$f":"IF(M$2021=1,\"\",IF(U1974=\"\",\"\",VLOOKUP(U1974,Tabelle!$D$5:$I$7,6,FALSE)))","v":""},null,null,null,null,null,null,null,null,null,null,null,{"$f":"IF(B1974=\"\",0,IF(B1974=B1973,COUNTIF(B$9:B1973,B1974)+1,1))","v":1962},0,0]
["1967","-1900","-1900-1963",null,null,null,null,null,null,null,null,null,null,null,null,null,null,null,null,null,null,{"$f":"IF(M$2021=1,\"\",IF(U1975=\"\",\"\",VLOOKUP(U1975,Tabelle!$D$5:$H$7,5,FALSE)))","v":""},{"$f":"IF(M$2021=1,\"\",IF(U1975=\"\",\"\",VLOOKUP(U1975,Tabelle!$D$5:$I$7,6,FALSE)))","v":""},null,null,null,null,null,null,null,null,null,null,null,{"$f":"IF(B1975=\"\",0,IF(B1975=B1974,COUNTIF(B$9:B1974,B1975)+1,1))","v":1963},0,0]
["1968","-1900","-1900-1964",null,null,null,null,null,null,null,null,null,null,null,null,null,null,null,null,null,null,{"$f":"IF(M$2021=1,\"\",IF(U1976=\"\",\"\",VLOOKUP(U1976,Tabelle!$D$5:$H$7,5,FALSE)))","v":""},{"$f":"IF(M$2021=1,\"\",IF(U1976=\"\",\"\",VLOOKUP(U1976,Tabelle!$D$5:$I$7,6,FALSE)))","v":""},null,null,null,null,null,null,null,null,null,null,null,{"$f":"IF(B1976=\"\",0,IF(B1976=B1975,COUNTIF(B$9:B1975,B1976)+1,1))","v":1964},0,0]
["1969","-1900","-1900-1965",null,null,null,null,null,null,null,null,null,null,null,null,null,null,null,null,null,null,{"$f":"IF(M$2021=1,\"\",IF(U1977=\"\",\"\",VLOOKUP(U1977,Tabelle!$D$5:$H$7,5,FALSE)))","v":""},{"$f":"IF(M$2021=1,\"\",IF(U1977=\"\",\"\",VLOOKUP(U1977,Tabelle!$D$5:$I$7,6,FALSE)))","v":""},null,null,null,null,null,null,null,null,null,null,null,{"$f":"IF(B1977=\"\",0,IF(B1977=B1976,COUNTIF(B$9:B1976,B1977)+1,1))","v":1965},0,0]
["1970","-1900","-1900-1966",null,null,null,null,null,null,null,null,null,null,null,null,null,null,null,null,null,null,{"$f":"IF(M$2021=1,\"\",IF(U1978=\"\",\"\",VLOOKUP(U1978,Tabelle!$D$5:$H$7,5,FALSE)))","v":""},{"$f":"IF(M$2021=1,\"\",IF(U1978=\"\",\"\",VLOOKUP(U1978,Tabelle!$D$5:$I$7,6,FALSE)))","v":""},null,null,null,null,null,null,null,null,null,null,null,{"$f":"IF(B1978=\"\",0,IF(B1978=B1977,COUNTIF(B$9:B1977,B1978)+1,1))","v":1966},0,0]
["1971","-1900","-1900-1967",null,null,null,null,null,null,null,null,null,null,null,null,null,null,null,null,null,null,{"$f":"IF(M$2021=1,\"\",IF(U1979=\"\",\"\",VLOOKUP(U1979,Tabelle!$D$5:$H$7,5,FALSE)))","v":""},{"$f":"IF(M$2021=1,\"\",IF(U1979=\"\",\"\",VLOOKUP(U1979,Tabelle!$D$5:$I$7,6,FALSE)))","v":""},null,null,null,null,null,null,null,null,null,null,null,{"$f":"IF(B1979=\"\",0,IF(B1979=B1978,COUNTIF(B$9:B1978,B1979)+1,1))","v":1967},0,0]
["1972","-1900","-1900-1968",null,null,null,null,null,null,null,null,null,null,null,null,null,null,null,null,null,null,{"$f":"IF(M$2021=1,\"\",IF(U1980=\"\",\"\",VLOOKUP(U1980,Tabelle!$D$5:$H$7,5,FALSE)))","v":""},{"$f":"IF(M$2021=1,\"\",IF(U1980=\"\",\"\",VLOOKUP(U1980,Tabelle!$D$5:$I$7,6,FALSE)))","v":""},null,null,null,null,null,null,null,null,null,null,null,{"$f":"IF(B1980=\"\",0,IF(B1980=B1979,COUNTIF(B$9:B1979,B1980)+1,1))","v":1968},0,0]
["1973","-1900","-1900-1969",null,null,null,null,null,null,null,null,null,null,null,null,null,null,null,null,null,null,{"$f":"IF(M$2021=1,\"\",IF(U1981=\"\",\"\",VLOOKUP(U1981,Tabelle!$D$5:$H$7,5,FALSE)))","v":""},{"$f":"IF(M$2021=1,\"\",IF(U1981=\"\",\"\",VLOOKUP(U1981,Tabelle!$D$5:$I$7,6,FALSE)))","v":""},null,null,null,null,null,null,null,null,null,null,null,{"$f":"IF(B1981=\"\",0,IF(B1981=B1980,COUNTIF(B$9:B1980,B1981)+1,1))","v":1969},0,0]
["1974","-1900","-1900-1970",null,null,null,null,null,null,null,null,null,null,null,null,null,null,null,null,null,null,{"$f":"IF(M$2021=1,\"\",IF(U1982=\"\",\"\",VLOOKUP(U1982,Tabelle!$D$5:$H$7,5,FALSE)))","v":""},{"$f":"IF(M$2021=1,\"\",IF(U1982=\"\",\"\",VLOOKUP(U1982,Tabelle!$D$5:$I$7,6,FALSE)))","v":""},null,null,null,null,null,null,null,null,null,null,null,{"$f":"IF(B1982=\"\",0,IF(B1982=B1981,COUNTIF(B$9:B1981,B1982)+1,1))","v":1970},0,0]
["1975","-1900","-1900-1971",null,null,null,null,null,null,null,null,null,null,null,null,null,null,null,null,null,null,{"$f":"IF(M$2021=1,\"\",IF(U1983=\"\",\"\",VLOOKUP(U1983,Tabelle!$D$5:$H$7,5,FALSE)))","v":""},{"$f":"IF(M$2021=1,\"\",IF(U1983=\"\",\"\",VLOOKUP(U1983,Tabelle!$D$5:$I$7,6,FALSE)))","v":""},null,null,null,null,null,null,null,null,null,null,null,{"$f":"IF(B1983=\"\",0,IF(B1983=B1982,COUNTIF(B$9:B1982,B1983)+1,1))","v":1971},0,0]
["1976","-1900","-1900-1972",null,null,null,null,null,null,null,null,null,null,null,null,null,null,null,null,null,null,{"$f":"IF(M$2021=1,\"\",IF(U1984=\"\",\"\",VLOOKUP(U1984,Tabelle!$D$5:$H$7,5,FALSE)))","v":""},{"$f":"IF(M$2021=1,\"\",IF(U1984=\"\",\"\",VLOOKUP(U1984,Tabelle!$D$5:$I$7,6,FALSE)))","v":""},null,null,null,null,null,null,null,null,null,null,null,{"$f":"IF(B1984=\"\",0,IF(B1984=B1983,COUNTIF(B$9:B1983,B1984)+1,1))","v":1972},0,0]
["1977","-1900","-1900-1973",null,null,null,null,null,null,null,null,null,null,null,null,null,null,null,null,null,null,{"$f":"IF(M$2021=1,\"\",IF(U1985=\"\",\"\",VLOOKUP(U1985,Tabelle!$D$5:$H$7,5,FALSE)))","v":""},{"$f":"IF(M$2021=1,\"\",IF(U1985=\"\",\"\",VLOOKUP(U1985,Tabelle!$D$5:$I$7,6,FALSE)))","v":""},null,null,null,null,null,null,null,null,null,null,null,{"$f":"IF(B1985=\"\",0,IF(B1985=B1984,COUNTIF(B$9:B1984,B1985)+1,1))","v":1973},0,0]
["1978","-1900","-1900-1974",null,null,null,null,null,null,null,null,null,null,null,null,null,null,null,null,null,null,{"$f":"IF(M$2021=1,\"\",IF(U1986=\"\",\"\",VLOOKUP(U1986,Tabelle!$D$5:$H$7,5,FALSE)))","v":""},{"$f":"IF(M$2021=1,\"\",IF(U1986=\"\",\"\",VLOOKUP(U1986,Tabelle!$D$5:$I$7,6,FALSE)))","v":""},null,null,null,null,null,null,null,null,null,null,null,{"$f":"IF(B1986=\"\",0,IF(B1986=B1985,COUNTIF(B$9:B1985,B1986)+1,1))","v":1974},0,0]
["1979","-1900","-1900-1975",null,null,null,null,null,null,null,null,null,null,null,null,null,null,null,null,null,null,{"$f":"IF(M$2021=1,\"\",IF(U1987=\"\",\"\",VLOOKUP(U1987,Tabelle!$D$5:$H$7,5,FALSE)))","v":""},{"$f":"IF(M$2021=1,\"\",IF(U1987=\"\",\"\",VLOOKUP(U1987,Tabelle!$D$5:$I$7,6,FALSE)))","v":""},null,null,null,null,null,null,null,null,null,null,null,{"$f":"IF(B1987=\"\",0,IF(B1987=B1986,COUNTIF(B$9:B1986,B1987)+1,1))","v":1975},0,0]
["1980","-1900","-1900-1976",null,null,null,null,null,null,null,null,null,null,null,null,null,null,null,null,null,null,{"$f":"IF(M$2021=1,\"\",IF(U1988=\"\",\"\",VLOOKUP(U1988,Tabelle!$D$5:$H$7,5,FALSE)))","v":""},{"$f":"IF(M$2021=1,\"\",IF(U1988=\"\",\"\",VLOOKUP(U1988,Tabelle!$D$5:$I$7,6,FALSE)))","v":""},null,null,null,null,null,null,null,null,null,null,null,{"$f":"IF(B1988=\"\",0,IF(B1988=B1987,COUNTIF(B$9:B1987,B1988)+1,1))","v":1976},0,0]
["1981","-1900","-1900-1977",null,null,null,null,null,null,null,null,null,null,null,null,null,null,null,null,null,null,{"$f":"IF(M$2021=1,\"\",IF(U1989=\"\",\"\",VLOOKUP(U1989,Tabelle!$D$5:$H$7,5,FALSE)))","v":""},{"$f":"IF(M$2021=1,\"\",IF(U1989=\"\",\"\",VLOOKUP(U1989,Tabelle!$D$5:$I$7,6,FALSE)))","v":""},null,null,null,null,null,null,null,null,null,null,null,{"$f":"IF(B1989=\"\",0,IF(B1989=B1988,COUNTIF(B$9:B1988,B1989)+1,1))","v":1977},0,0]
["1982","-1900","-1900-1978",null,null,null,null,null,null,null,null,null,null,null,null,null,null,null,null,null,null,{"$f":"IF(M$2021=1,\"\",IF(U1990=\"\",\"\",VLOOKUP(U1990,Tabelle!$D$5:$H$7,5,FALSE)))","v":""},{"$f":"IF(M$2021=1,\"\",IF(U1990=\"\",\"\",VLOOKUP(U1990,Tabelle!$D$5:$I$7,6,FALSE)))","v":""},null,null,null,null,null,null,null,null,null,null,null,{"$f":"IF(B1990=\"\",0,IF(B1990=B1989,COUNTIF(B$9:B1989,B1990)+1,1))","v":1978},0,0]
["1983","-1900","-1900-1979",null,null,null,null,null,null,null,null,null,null,null,null,null,null,null,null,null,null,{"$f":"IF(M$2021=1,\"\",IF(U1991=\"\",\"\",VLOOKUP(U1991,Tabelle!$D$5:$H$7,5,FALSE)))","v":""},{"$f":"IF(M$2021=1,\"\",IF(U1991=\"\",\"\",VLOOKUP(U1991,Tabelle!$D$5:$I$7,6,FALSE)))","v":""},null,null,null,null,null,null,null,null,null,null,null,{"$f":"IF(B1991=\"\",0,IF(B1991=B1990,COUNTIF(B$9:B1990,B1991)+1,1))","v":1979},0,0]
["1984","-1900","-1900-1980",null,null,null,null,null,null,null,null,null,null,null,null,null,null,null,null,null,null,{"$f":"IF(M$2021=1,\"\",IF(U1992=\"\",\"\",VLOOKUP(U1992,Tabelle!$D$5:$H$7,5,FALSE)))","v":""},{"$f":"IF(M$2021=1,\"\",IF(U1992=\"\",\"\",VLOOKUP(U1992,Tabelle!$D$5:$I$7,6,FALSE)))","v":""},null,null,null,null,null,null,null,null,null,null,null,{"$f":"IF(B1992=\"\",0,IF(B1992=B1991,COUNTIF(B$9:B1991,B1992)+1,1))","v":1980},0,0]
["1985","-1900",{"$f":"IF(M$2021=1,0,B1993&\"-\"&AI1993)","v":"-1900-1981"},null,null,null,null,null,null,null,null,null,null,null,null,null,null,null,null,null,null,{"$f":"IF(M$2021=1,\"\",IF(U1993=\"\",\"\",VLOOKUP(U1993,Tabelle!$D$5:$H$7,5,FALSE)))","v":""},{"$f":"IF(M$2021=1,\"\",IF(U1993=\"\",\"\",VLOOKUP(U1993,Tabelle!$D$5:$I$7,6,FALSE)))","v":""},null,null,null,null,null,null,null,null,null,null,null,{"$f":"IF(B1993=\"\",0,IF(B1993=B1992,COUNTIF(B$9:B1992,B1993)+1,1))","v":1981},0,0]
["1986",{"$f":"IF(AK1994=$AK$2015,0,IF(M$2021=1,0,D1994&\"-\"&YEAR(E1994)))","v":"-1900"},"-1900-1982",null,null,null,null,null,null,null,null,null,null,null,null,null,null,null,null,null,null,{"$f":"IF(M$2021=1,\"\",IF(U1994=\"\",\"\",VLOOKUP(U1994,Tabelle!$D$5:$H$7,5,FALSE)))","v":""},{"$f":"IF(M$2021=1,\"\",IF(U1994=\"\",\"\",VLOOKUP(U1994,Tabelle!$D$5:$I$7,6,FALSE)))","v":""},null,null,null,null,null,null,null,null,null,null,null,{"$f":"IF(B1994=\"\",0,IF(B1994=B1993,COUNTIF(B$9:B1993,B1994)+1,1))","v":1982},{"$f":"IF(OR(D1994=\"\",M$2021=1),0,IF(AI1994=10,1,0))","v":0},{"$f":"IF(E1994>0,IF(OR(MONTH(E1994)<$J$2027,MONTH(E1994)>$J$2028),AK$2015,0),0)","v":0}]
["1987","-1900","-1900-1983",null,null,null,null,null,null,null,null,null,null,null,null,null,null,null,null,null,null,{"$f":"IF(M$2021=1,\"\",IF(U1995=\"\",\"\",VLOOKUP(U1995,Tabelle!$D$5:$H$7,5,FALSE)))","v":""},{"$f":"IF(M$2021=1,\"\",IF(U1995=\"\",\"\",VLOOKUP(U1995,Tabelle!$D$5:$I$7,6,FALSE)))","v":""},null,null,null,null,null,null,null,null,null,null,null,{"$f":"IF(B1995=\"\",0,IF(B1995=B1994,COUNTIF(B$9:B1994,B1995)+1,1))","v":1983},0,0]
["1988","-1900","-1900-1984",null,null,null,null,null,null,null,null,null,null,null,null,null,null,null,null,null,null,{"$f":"IF(M$2021=1,\"\",IF(U1996=\"\",\"\",VLOOKUP(U1996,Tabelle!$D$5:$H$7,5,FALSE)))","v":""},{"$f":"IF(M$2021=1,\"\",IF(U1996=\"\",\"\",VLOOKUP(U1996,Tabelle!$D$5:$I$7,6,FALSE)))","v":""},null,null,null,null,null,null,null,null,null,null,null,{"$f":"IF(B1996=\"\",0,IF(B1996=B1995,COUNTIF(B$9:B1995,B1996)+1,1))","v":1984},0,0]
["1989","-1900","-1900-1985",null,null,null,null,null,null,null,null,null,null,null,null,null,null,null,null,null,null,{"$f":"IF(M$2021=1,\"\",IF(U1997=\"\",\"\",VLOOKUP(U1997,Tabelle!$D$5:$H$7,5,FALSE)))","v":""},{"$f":"IF(M$2021=1,\"\",IF(U1997=\"\",\"\",VLOOKUP(U1997,Tabelle!$D$5:$I$7,6,FALSE)))","v":""},null,null,null,null,null,null,null,null,null,null,null,{"$f":"IF(B1997=\"\",0,IF(B1997=B1996,COUNTIF(B$9:B1996,B1997)+1,1))","v":1985},0,0]
["1990","-1900","-1900-1986",null,null,null,null,null,null,null,null,null,null,null,null,null,null,null,null,null,null,{"$f":"IF(M$2021=1,\"\",IF(U1998=\"\",\"\",VLOOKUP(U1998,Tabelle!$D$5:$H$7,5,FALSE)))","v":""},{"$f":"IF(M$2021=1,\"\",IF(U1998=\"\",\"\",VLOOKUP(U1998,Tabelle!$D$5:$I$7,6,FALSE)))","v":""},null,null,null,null,null,null,null,null,null,null,null,{"$f":"IF(B1998=\"\",0,IF(B1998=B1997,COUNTIF(B$9:B1997,B1998)+1,1))","v":1986},0,0]
["1991","-1900","-1900-1987",null,null,null,null,null,null,null,null,null,null,null,null,null,null,null,null,null,null,{"$f":"IF(M$2021=1,\"\",IF(U1999=\"\",\"\",VLOOKUP(U1999,Tabelle!$D$5:$H$7,5,FALSE)))","v":""},{"$f":"IF(M$2021=1,\"\",IF(U1999=\"\",\"\",VLOOKUP(U1999,Tabelle!$D$5:$I$7,6,FALSE)))","v":""},null,null,null,null,null,null,null,null,null,null,null,{"$f":"IF(B1999=\"\",0,IF(B1999=B1998,COUNTIF(B$9:B1998,B1999)+1,1))","v":1987},0,0]
["1992","-1900","-1900-1988",null,null,null,null,null,null,null,null,null,null,null,null,null,null,null,null,null,null,{"$f":"IF(M$2021=1,\"\",IF(U2000=\"\",\"\",VLOOKUP(U2000,Tabelle!$D$5:$H$7,5,FALSE)))","v":""},{"$f":"IF(M$2021=1,\"\",IF(U2000=\"\",\"\",VLOOKUP(U2000,Tabelle!$D$5:$I$7,6,FALSE)))","v":""},null,null,null,null,null,null,null,null,null,null,null,{"$f":"IF(B2000=\"\",0,IF(B2000=B1999,COUNTIF(B$9:B1999,B2000)+1,1))","v":1988},0,0]
["1993","-1900","-1900-1989",null,null,null,null,null,null,null,null,null,null,null,null,null,null,null,null,null,null,{"$f":"IF(M$2021=1,\"\",IF(U2001=\"\",\"\",VLOOKUP(U2001,Tabelle!$D$5:$H$7,5,FALSE)))","v":""},{"$f":"IF(M$2021=1,\"\",IF(U2001=\"\",\"\",VLOOKUP(U2001,Tabelle!$D$5:$I$7,6,FALSE)))","v":""},null,null,null,null,null,null,null,null,null,null,null,{"$f":"IF(B2001=\"\",0,IF(B2001=B2000,COUNTIF(B$9:B2000,B2001)+1,1))","v":1989},0,0]
["1994","-1900","-1900-1990",null,null,null,null,null,null,null,null,null,null,null,null,null,null,null,null,null,null,{"$f":"IF(M$2021=1,\"\",IF(U2002=\"\",\"\",VLOOKUP(U2002,Tabelle!$D$5:$H$7,5,FALSE)))","v":""},{"$f":"IF(M$2021=1,\"\",IF(U2002=\"\",\"\",VLOOKUP(U2002,Tabelle!$D$5:$I$7,6,FALSE)))","v":""},null,null,null,null,null,null,null,null,null,null,null,{"$f":"IF(B2002=\"\",0,IF(B2002=B2001,COUNTIF(B$9:B2001,B2002)+1,1))","v":1990},0,0]
["1995","-1900","-1900-1991",null,null,null,null,null,null,null,null,null,null,null,null,null,null,null,null,null,null,{"$f":"IF(M$2021=1,\"\",IF(U2003=\"\",\"\",VLOOKUP(U2003,Tabelle!$D$5:$H$7,5,FALSE)))","v":""},{"$f":"IF(M$2021=1,\"\",IF(U2003=\"\",\"\",VLOOKUP(U2003,Tabelle!$D$5:$I$7,6,FALSE)))","v":""},null,null,null,null,null,null,null,null,null,null,null,{"$f":"IF(B2003=\"\",0,IF(B2003=B2002,COUNTIF(B$9:B2002,B2003)+1,1))","v":1991},0,0]
["1996","-1900","-1900-1992",null,null,null,null,null,null,null,null,null,null,null,null,null,null,null,null,null,null,{"$f":"IF(M$2021=1,\"\",IF(U2004=\"\",\"\",VLOOKUP(U2004,Tabelle!$D$5:$H$7,5,FALSE)))","v":""},{"$f":"IF(M$2021=1,\"\",IF(U2004=\"\",\"\",VLOOKUP(U2004,Tabelle!$D$5:$I$7,6,FALSE)))","v":""},null,null,null,null,null,null,null,null,null,null,null,{"$f":"IF(B2004=\"\",0,IF(B2004=B2003,COUNTIF(B$9:B2003,B2004)+1,1))","v":1992},0,0]
["1997","-1900","-1900-1993",null,null,null,null,null,null,null,null,null,null,null,null,null,null,null,null,null,null,{"$f":"IF(M$2021=1,\"\",IF(U2005=\"\",\"\",VLOOKUP(U2005,Tabelle!$D$5:$H$7,5,FALSE)))","v":""},{"$f":"IF(M$2021=1,\"\",IF(U2005=\"\",\"\",VLOOKUP(U2005,Tabelle!$D$5:$I$7,6,FALSE)))","v":""},null,null,null,null,null,null,null,null,null,null,null,{"$f":"IF(B2005=\"\",0,IF(B2005=B2004,COUNTIF(B$9:B2004,B2005)+1,1))","v":1993},0,0]
["1998","-1900","-1900-1994",null,null,null,null,null,null,null,null,null,null,null,null,null,null,null,null,null,null,{"$f":"IF(M$2021=1,\"\",IF(U2006=\"\",\"\",VLOOKUP(U2006,Tabelle!$D$5:$H$7,5,FALSE)))","v":""},{"$f":"IF(M$2021=1,\"\",IF(U2006=\"\",\"\",VLOOKUP(U2006,Tabelle!$D$5:$I$7,6,FALSE)))","v":""},null,null,null,null,null,null,null,null,null,null,null,{"$f":"IF(B2006=\"\",0,IF(B2006=B2005,COUNTIF(B$9:B2005,B2006)+1,1))","v":1994},0,0]
["1999","-1900","-1900-1995",null,null,null,null,null,null,null,null,null,null,null,null,null,null,null,null,null,null,{"$f":"IF(M$2021=1,\"\",IF(U2007=\"\",\"\",VLOOKUP(U2007,Tabelle!$D$5:$H$7,5,FALSE)))","v":""},{"$f":"IF(M$2021=1,\"\",IF(U2007=\"\",\"\",VLOOKUP(U2007,Tabelle!$D$5:$I$7,6,FALSE)))","v":""},null,null,null,null,null,null,null,null,null,null,null,{"$f":"IF(B2007=\"\",0,IF(B2007=B2006,COUNTIF(B$9:B2006,B2007)+1,1))","v":1995},0,0]
["2000","-1900","-1900-1996",null,null,null,null,null,null,null,null,null,null,null,null,null,null,null,null,null,null,{"$f":"IF(M$2021=1,\"\",IF(U2008=\"\",\"\",VLOOKUP(U2008,Tabelle!$D$5:$H$7,5,FALSE)))","v":""},{"$f":"IF(M$2021=1,\"\",IF(U2008=\"\",\"\",VLOOKUP(U2008,Tabelle!$D$5:$I$7,6,FALSE)))","v":""},null,null,null,null,null,null,null,null,null,null,null,{"$f":"IF(B2008=\"\",0,IF(B2008=B2007,COUNTIF(B$9:B2007,B2008)+1,1))","v":1996},0,0]
[]
[]
[null,null,null,null,null,null,null,null,null,"Righe di Prot.",null,{"$f":"SUBTOTAL(3,D9:D2008)","v":4},null,null,null,null,"Subtotali",{"$f":"IF(OR(M2021=1,ISERROR(K2021)),0,SUBTOTAL(9,R9:R2008))","v":11},{"$f":"IF(OR(M2021=1,ISERROR(K2021)),0,SUBTOTAL(9,S9:S2008)*-1)","v":0}]
[]
[null,null,null,null,null,null,null,null,null,null,null,null,null,null,null,null,null,{"$f":"CONCATENATE(\"Saldo Finale\",)","v":"Saldo Finale"},{"$f":"IF(OR(M2021=1,ISERROR(K2021)),0,R2011+S2011)","v":11}]
[]
[null,null,null,null,null,null,null,null,null,null,null,{"$f":"CONTRIBUENTE!G13","v":""},null,null,null,null,null,null,null,null,null,null,null,null,null,null,null,null,null,null,null,null,"Hai dei PROTOCOLLI BLOCCATI nelle date di un trimestre al momento non attivato.",null,null,null,"P. B."]
[null,null,null,{"$f":"CONCATENATE(CONTRIBUENTE!$J$27,\"   -   www.marcopiccoli.it\")","v":"F24 Semplificato 1.6 per Excel .xlsm   -   www.marcopiccoli.it"},null,null,null,null,null,null,null,{"$f":"IF(CONTRIBUENTE!J145=CONTRIBUENTE!K66,CONCATENATE(CONTRIBUENTE!F60,\"   -   \",\"P.I./C.F \",CONTRIBUENTE!K62),CONTRIBUENTE!J137)","v":"Sistema attivato dal 01/01 al 31/03. Modifica il trimestre dal foglio Presentazione."},null,null,null,null,null,null,null,null,null,null,null,null,null,null,null,null,null,null,null,null,"Modifica il trimestre dal foglio CONTRIBUENTE oppure richiedi il tuo codice di proprietà per l' attivazione illimitata.",null,null,null,{"$f":"COUNTIF(AK9:AK2008,AK2015)","v":0}]
[]
[]
[]
[null,null,null,null,null,null,null,"Codice integrità",null,null,"Integrità",null,"File scaduto"]
[null,null,null,{"$f":"Tabelle!B5","v":"Erario"},{"$f":"Tabelle!D5","v":"B1"},null,null,1,null,null,{"$f":"CONTRIBUENTE!K139","v":4},null,{"$f":"CONTRIBUENTE!$H$139","v":0}]
[null,null,null,{"$f":"Tabelle!B6","v":"Regione"},{"$f":"Tabelle!D6","v":"B2"},null,null,null,null,null,null,null,null,null,"Ravvedimento","X"," "," "," "]
[null,null,null,{"$f":"Tabelle!B7","v":"Ente Locale"},{"$f":"Tabelle!D7","v":"B3"},null,null,"Proprietà",null,null,null,null,null,null,"Imm.li Variati"," ","X"," "," "]
[null,null,null,{"$f":"Tabelle!B8","v":"---- Inserisci"},null,null,null,{"$f":"CONTRIBUENTE!E140","v":0},null,"Protocolli",1,"compila",{"$f":"COUNTIF(Z9:Z2008,L2024)","v":2},null,"Acconto"," "," ","X"," "]
[null,null,null,null,null,null,null,null,null,"disponibili",9999,null,null,null,"Saldo"," "," "," ","X"]
[]
[null,null,null,null,"1900-01-01","convalida START",null,null,null,{"$f":"IF(H2024=1,MONTH(E2027),MONTH(CONTRIBUENTE!$T$13))","v":1},"convalida Protocollo START MESE"]
[null,null,null,null,"2999-12-31","convalida END",null,null,null,{"$f":"IF(H2024=1,MONTH(E2028),MONTH(CONTRIBUENTE!$U$13))","v":3},"convalida Protocollo END MESE"]

{"sheet":"F24 Semplificato","index":2,"n_rows":76,"n_cols":73,"rows_kept":76,"cut":false,"hidden":false,"merged":[[73,9,73,14],[72,9,72,14],[38,69,38,70],[65,1,65,5],[72,4,72,8],[56,53,56,58],[55,64,55,68],[56,64,56,68],[61,15,62,27],[61,28,62,39],[44,69,44,70],[46,53,46,54],[47,53,47,58],[73,4,73,8],[66,1,66,5],[67,1,67,5],[68,1,68,5],[67,6,67,18],[68,6,68,31],[69,6,69,18],[59,41,59,42],[59,44,59,49],[59,53,59,54],[61,1,62,2],[13,72,14,72],[30,60,30,63],[56,59,56,60],[56,61,56,63],[31,63,31,69],[42,69,42,70],[40,54,40,70],[61,9,62,9],[61,10,62,10],[61,11,62,12],[61,13,62,14],[60,41,60,42],[60,44,60,57],[61,52,61,58],[60,36,60,38],[60,60,60,63],[56,39,56,41],[57,34,57,35],[57,17,57,18],[56,35,56,37],[56,27,56,28],[56,30,56,32],[56,16,56,17],[56,19,56,20],[61,3,62,4],[61,5,62,6],[61,7,62,8],[60,1,60,4],[60,7,60,9],[60,11,60,32],[60,33,60,35],[61,63,61,69],[57,44,57,49],[57,53,57,54],[57,58,57,61],[57,64,57,68],[59,1,59,4],[59,7,59,9],[59,11,59,32],[59,33,59,35],[59,60,59,63],[59,36,59,38],[57,19,57,22],[57,23,57,25],[57,26,57,27],[57,28,57,29],[57,30,57,31],[57,32,57,33],[56,24,56,25],[57,1,57,2],[57,3,57,4],[57,5,57,7],[57,9,57,10],[57,11,57,13],[57,14,57,16],[56,2,56,3],[56,4,56,5],[56,8,56,10],[56,14,56,15],[47,24,47,25],[31,1,32,2],[31,3,32,4],[31,5,32,6],[31,7,32,8],[44,28,44,29],[44,30,44,31],[38,30,38,31],[38,13,38,14],[38,15,38,16],[38,17,38,19],[38,20,38,21],[42,20,42,21],[42,23,42,24],[42,25,42,27],[40,11,40,53],[42,11,42,12],[42,13,42,14],[42,15,42,16],[44,50,44,51],[44,52,44,53],[42,34,42,67],[31,9,32,9],[38,28,38,29],[27,64,27,68],[29,60,29,63],[26,39,26,41],[23,61,23,63],[24,61,24,63],[25,61,25,63],[26,61,26,63],[25,64,25,68],[26,64,26,68],[26,59,26,60],[25,59,25,60],[25,42,25,49],[24,42,24,49],[17,64,17,68],[18,64,18,68],[19,64,19,68],[20,64,20,68],[23,53,23,58],[23,59,23,60],[24,59,24,60],[17,53,17,58],[18,53,18,58],[19,53,19,58],[20,53,20,58],[19,59,19,60],[20,59,20,60],[21,59,21,60],[21,64,21,68],[22,64,22,68],[23,64,23,68],[24,64,24,68],[22,61,22,63],[22,59,22,60],[18,61,18,63],[19,61,19,63],[20,61,20,63],[21,61,21,63],[22,19,22,20],[23,19,23,20],[24,19,24,20],[21,39,21,41],[22,39,22,41],[23,39,23,41],[24,39,24,41],[22,42,22,49],[19,39,19,41],[20,39,20,41],[20,42,20,49],[21,42,21,49],[23,42,23,49],[22,24,22,25],[20,35,20,37],[21,35,21,37],[19,30,19,32],[22,30,22,32],[23,30,23,32],[22,35,22,37],[23,35,23,37],[20,27,20,28],[21,27,21,28],[20,24,20,25],[22,27,22,28],[23,27,23,28],[24,27,24,28],[25,27,25,28],[25,24,25,25],[23,24,23,25],[24,24,24,25],[38,23,38,24],[38,25,38,27],[35,46,35,70],[38,32,38,34],[38,37,38,39],[38,44,38,45],[38,46,38,48],[38,62,38,64],[38,53,38,54],[38,58,38,61],[38,49,38,51],[36,68,36,70],[27,3,27,4],[27,5,27,7],[27,11,27,13],[27,14,27,16],[27,30,27,31],[27,28,27,29],[30,41,30,42],[30,36,30,38],[30,44,30,57],[29,36,29,38],[29,33,29,35],[29,41,29,42],[29,44,29,49],[29,53,29,54],[30,33,30,35],[30,7,30,9],[30,11,30,32],[29,1,29,4],[29,7,29,9],[29,11,29,32],[27,9,27,10],[27,17,27,18],[25,30,25,32],[27,58,27,61],[27,32,27,33],[27,34,27,35],[27,44,27,49],[27,53,27,54],[26,30,26,32],[24,35,24,37],[25,35,25,37],[26,35,26,37],[24,53,24,58],[25,53,25,58],[25,39,25,41],[26,53,26,58],[26,42,26,49],[17,61,17,63],[24,30,24,32],[21,53,21,58],[22,53,22,58],[18,42,18,49],[17,42,17,49],[16,53,16,54],[17,59,17,60],[18,59,18,60],[17,30,17,32],[18,30,18,32],[20,30,20,32],[21,30,21,32],[14,47,14,49],[19,16,19,17],[19,42,19,49],[17,27,17,28],[18,27,18,28],[19,27,19,28],[17,39,17,41],[18,39,18,41],[17,35,17,37],[18,35,18,37],[19,35,19,37],[17,24,17,25],[18,24,18,25],[19,24,19,25],[17,19,17,20],[18,19,18,20],[19,19,19,20],[14,23,14,24],[14,25,14,27],[14,28,14,29],[14,32,14,34],[17,16,17,17],[8,28,8,29],[12,11,12,12],[12,13,12,14],[12,15,12,16],[12,17,12,19],[12,20,12,21],[8,44,8,45],[8,32,8,34],[20,14,20,15],[18,16,18,17],[20,16,20,17],[12,23,12,24],[18,14,18,15],[19,14,19,15],[8,11,8,12],[8,13,8,14],[8,15,8,16],[8,17,8,19],[8,20,8,21],[25,2,25,3],[26,2,26,3],[17,4,17,5],[18,4,18,5],[19,4,19,5],[20,4,20,5],[21,4,21,5],[22,4,22,5],[23,4,23,5],[25,4,25,5],[26,4,26,5],[17,8,17,10],[18,8,18,10],[19,8,19,10],[20,8,20,10],[21,24,21,25],[20,19,20,20],[21,19,21,20],[30,1,30,4],[17,2,17,3],[17,14,17,15],[24,4,24,5],[21,2,21,3],[23,2,23,3],[24,2,24,3],[18,2,18,3],[19,2,19,3],[20,2,20,3],[26,8,26,10],[22,2,22,3],[21,14,21,15],[22,14,22,15],[22,16,22,17],[21,16,21,17],[27,1,27,2],[48,30,48,32],[48,35,48,37],[48,53,48,58],[47,30,47,32],[47,35,47,37],[47,39,47,41],[47,42,47,49],[31,10,32,10],[31,11,32,12],[31,52,31,58],[38,11,38,12],[46,40,46,42],[46,44,46,49],[44,47,44,49],[44,32,44,34],[44,37,44,39],[44,42,44,44],[44,45,44,46],[46,25,46,32],[44,25,44,27],[46,34,46,38],[34,42,34,70],[36,42,36,65],[36,66,36,67],[49,2,49,3],[49,4,49,5],[49,8,49,10],[49,14,49,15],[49,30,49,32],[49,35,49,37],[49,42,49,49],[47,64,47,68],[48,59,48,60],[48,61,48,63],[48,64,48,68],[47,2,47,3],[47,4,47,5],[47,8,47,10],[47,14,47,15],[47,27,47,28],[48,2,48,3],[48,4,48,5],[48,8,48,10],[48,14,48,15],[47,59,47,60],[47,61,47,63],[48,39,48,41],[48,42,48,49],[51,30,51,32],[51,35,51,37],[51,39,51,41],[50,42,50,49],[50,53,50,58],[49,59,49,60],[49,39,49,41],[49,61,49,63],[49,64,49,68],[49,53,49,58],[52,2,52,3],[52,4,52,5],[52,8,52,10],[52,14,52,15],[52,19,52,20],[52,24,52,25],[50,64,50,68],[51,2,51,3],[51,4,51,5],[51,8,51,10],[51,14,51,15],[51,16,51,17],[51,19,51,20],[51,24,51,25],[51,27,51,28],[51,59,51,60],[50,24,50,25],[50,61,50,63],[50,59,50,60],[50,27,50,28],[50,2,50,3],[50,4,50,5],[50,8,50,10],[50,14,50,15],[53,2,53,3],[53,4,53,5],[53,8,53,10],[53,14,53,15],[53,24,53,25],[53,27,53,28],[56,42,56,49],[52,64,52,68],[54,53,54,58],[54,59,54,60],[54,61,54,63],[54,64,54,68],[52,59,52,60],[52,61,52,63],[53,61,53,63],[53,59,53,60],[55,42,55,49],[55,53,55,58],[53,35,53,37],[53,39,53,41],[53,42,53,49],[54,35,54,37],[54,39,54,41],[54,42,54,49],[54,2,54,3],[55,24,55,25],[55,27,55,28],[55,39,55,41],[55,2,55,3],[55,4,55,5],[55,8,55,10],[55,14,55,15],[54,4,54,5],[54,8,54,10],[54,14,54,15],[54,30,54,32],[55,30,55,32],[55,16,55,17],[54,27,54,28],[54,16,54,17],[54,19,54,20],[54,24,54,25],[55,19,55,20],[23,8,23,10],[23,14,23,15],[24,14,24,15],[25,14,25,15],[50,16,50,17],[49,16,49,17],[31,15,32,27],[27,23,27,25],[27,26,27,27],[26,27,26,28],[50,19,50,20],[25,16,25,17],[26,16,26,17],[49,19,49,20],[49,24,49,25],[48,19,48,20],[44,23,44,24],[48,27,48,28],[48,24,48,25],[49,27,49,28],[26,14,26,15],[23,16,23,17],[27,19,27,22],[26,24,26,25],[53,19,53,20],[52,16,52,17],[24,8,24,10],[53,16,53,17],[47,19,47,20],[8,69,8,70],[16,25,16,32],[16,34,16,38],[16,40,16,42],[14,30,14,31],[8,62,8,64],[16,44,16,49],[12,69,12,70],[24,16,24,17],[31,28,32,39],[25,19,25,20],[25,8,25,10],[48,16,48,17],[47,16,47,17],[42,17,42,19],[26,19,26,20],[31,13,32,14],[21,8,21,10],[22,8,22,10],[4,42,4,70],[6,42,6,65],[6,66,6,67],[6,68,6,70],[12,34,12,67],[14,69,14,70],[14,37,14,39],[14,50,14,51],[14,52,14,53],[5,46,5,70],[10,11,10,53],[10,54,10,70],[8,46,8,48],[8,49,8,51],[8,23,8,24],[8,25,8,27],[8,37,8,39],[14,45,14,46],[12,25,12,27],[14,42,14,44],[8,53,8,54],[8,58,8,61],[8,30,8,31],[7,65,7,66],[74,9,74,14],[74,17,74,37],[75,51,75,53],[74,57,74,65],[75,9,75,14],[75,17,75,37],[74,39,74,45],[75,39,75,40],[37,65,37,66],[66,6,66,18],[55,35,55,37],[53,53,53,58],[53,30,53,32],[52,53,52,58],[52,42,52,49],[52,27,52,28],[52,30,52,32],[52,35,52,37],[52,39,52,41],[51,53,51,58],[51,42,51,49],[50,30,50,32],[50,35,50,37],[50,39,50,41],[61,72,62,72],[74,51,74,55],[72,54,72,57],[55,59,55,60],[55,61,55,63],[73,54,73,57],[53,64,53,68],[51,61,51,63],[51,64,51,68]]}
[]
[]
[]
[null,null,null,null,null,null,null,null,null,null,null,null,null,null,null,null,null,null,null,null,null,null,null,null,null,null,null,null,null,null,null,null,null,null,null,null,null,null,null,null,null,null,null,null,null,null,null,null,null,null,null,null,null,null,null,null,null,null,null,null,null,null,null,null,null,null,null,null,null,null,null,null,"ANNO"]
[null,null,null,null,null,null,null,null,null,null,null,null,null,null,null,null,null,null,null,null,null,null,null,null,null,null,null,null,null,null,null,null,null,null,null,null,null,null,null,null,null,null,{"$f":"VLOOKUP(VLOOKUP(BU8&\"-\"&BU5,'Motivo del pagamento'!B9:U2008,20,FALSE),Tabelle!D5:E7,2,FALSE)","v":"Nome Banca 1 / modifica sigla"},null,null,null,null,null,null,null,null,null,null,null,null,null,null,null,null,null,null,null,null,null,null,null,null,null,null,null,null,null,2024]
[]
[null,null,null,null,null,null,null,null,null,null,null,null,null,null,null,null,null,null,null,null,null,null,null,null,null,null,null,null,null,null,null,null,null,null,null,null,null,null,null,null,null,null,{"$f":"VLOOKUP(VLOOKUP(BU8&\"-\"&BU5,'Motivo del pagamento'!B9:U2008,20,FALSE),Tabelle!D5:F7,3,FALSE)","v":"Nome Agenzia 1"},null,null,null,null,null,null,null,null,null,null,null,null,null,null,null,null,null,null,null,null,null,null,null,null,null,{"$f":"VLOOKUP(VLOOKUP(BU8&\"-\"&BU5,'Motivo del pagamento'!B9:U2008,20,FALSE),Tabelle!D5:G7,4,FALSE)","v":"XX"},null,null,null,"Protocollo DOC."]
[null,null,null,null,null,null,null,null,null,null,null,null,null,null,null,null,null,null,null,null,null,null,null,null,null,null,null,null,null,null,null,null,null,null,null,null,null,null,null,null,null,null,null,null,null,null,null,null,null,null,null,null,null,null,null,null,null,null,null,null,null,null,null,null,null,"Protocollo F24",null,null,null,null,null,null,1]
[null,null,null,null,null,null,null,null,null,null,null,{"$f":"MID(CONTRIBUENTE!E34,1,1)","v":"0"},null,{"$f":"MID(CONTRIBUENTE!E34,2,1)","v":"1"},null,{"$f":"MID(CONTRIBUENTE!E34,3,1)","v":"2"},null,{"$f":"MID(CONTRIBUENTE!E34,4,1)","v":"3"},null,null,{"$f":"MID(CONTRIBUENTE!E34,5,1)","v":"4"},null,{"$f":"MID(CONTRIBUENTE!E34,6,1)","v":"5"},{"$f":"MID(CONTRIBUENTE!E34,7,1)","v":"6"},null,{"$f":"MID(CONTRIBUENTE!E34,8,1)","v":"7"},null,null,{"$f":"MID(CONTRIBUENTE!E34,9,1)","v":"8"},null,{"$f":"MID(CONTRIBUENTE!E34,10,1)","v":"9"},null,{"$f":"MID(CONTRIBUENTE!E34,11,1)","v":"1"},null,null,{"$f":"MID(CONTRIBUENTE!E34,12,1)","v":""},{"$f":"MID(CONTRIBUENTE!E34,13,1)","v":""},{"$f":"MID(CONTRIBUENTE!E34,14,1)","v":""},null,null,{"$f":"MID(CONTRIBUENTE!E34,15,1)","v":""},{"$f":"MID(CONTRIBUENTE!E34,16,1)","v":""},null,null,{"$f":"MID(VLOOKUP(BU8&\"-\"&BU5,'Motivo del pagamento'!B9:G2008,6,FALSE),1,1)","v":"1"},null,{"$f":"MID(VLOOKUP(BU8&\"-\"&BU5,'Motivo del pagamento'!B9:G2008,6,FALSE),2,1)","v":"2"},null,null,{"$f":"MID(VLOOKUP(BU8&\"-\"&BU5,'Motivo del pagamento'!B9:G2008,6,FALSE),3,1)","v":"3"},null,null,null,{"$f":"MID(VLOOKUP(BU8&\"-\"&BU5,'Motivo del pagamento'!B9:H2008,7,FALSE),1,1)","v":"0"},null,{"$f":"MID(VLOOKUP(BU8&\"-\"&BU5,'Motivo del pagamento'!B9:H2008,7,FALSE),2,1)","v":"1"},{"$f":"MID(VLOOKUP(BU8&\"-\"&BU5,'Motivo del pagamento'!B9:H2008,7,FALSE),3,1)","v":"2"},{"$f":"MID(VLOOKUP(BU8&\"-\"&BU5,'Motivo del pagamento'!B9:H2008,7,FALSE),4,1)","v":"3"},{"$f":"MID(VLOOKUP(BU8&\"-\"&BU5,'Motivo del pagamento'!B9:H2008,7,FALSE),5,1)","v":"4"},null,null,null,{"$f":"MID(VLOOKUP(BU8&\"-\"&BU5,'Motivo del pagamento'!B9:H2008,7,FALSE),6,1)","v":"5"},null,null,{"$f":"MID(VLOOKUP(BU8&\"-\"&BU5,'Motivo del pagamento'!B9:H2008,7,FALSE),7,1)","v":"6"},{"$f":"MID(VLOOKUP(BU8&\"-\"&BU5,'Motivo del pagamento'!B9:H2008,7,FALSE),8,1)","v":"7"},{"$f":"MID(VLOOKUP(BU8&\"-\"&BU5,'Motivo del pagamento'!B9:H2008,7,FALSE),9,1)","v":"8"},{"$f":"MID(VLOOKUP(BU8&\"-\"&BU5,'Motivo del pagamento'!B9:H2008,7,FALSE),10,1)","v":"9"},{"$f":"MID(VLOOKUP(BU8&\"-\"&BU5,'Motivo del pagamento'!B9:H2008,7,FALSE),11,1)","v":"1"}]
[null,null,null,null,null,null,null,null,null,null,null,null,null,null,null,null,null,null,null,null,null,null,null,null,null,null,null,null,null,null,null,null,null,null,null,null,null,null,null,null,null,null,null,null,null,null,null,null,null,null,null,null,null,null,null,null,null,null,null,null,null,null,null,null,null,3]
[null,null,null,null,null,null,null,null,null,null,null,{"$f":"CONTRIBUENTE!$E$36","v":"Anagrafica CONTRIBUENTE"},null,null,null,null,null,null,null,null,null,null,null,null,null,null,null,null,null,null,null,null,null,null,null,null,null,null,null,null,null,null,null,null,null,null,null,null,null,null,null,null,null,null,{"$f":"CONTRIBUENTE!$E$38","v":"Nome CONTRIBUENTE"}]
[]
[null,null,null,null,null,null,null,null,null,null,null,{"$f":"MID(TEXT(CONTRIBUENTE!J38,\"gg/mm/aaaa\"),1,1)","v":"0"},null,{"$f":"MID(TEXT(CONTRIBUENTE!J38,\"gg/mm/aaaa\"),2,1)","v":"1"},null,{"$f":"MID(TEXT(CONTRIBUENTE!J38,\"gg/mm/aaaa\"),4,1)","v":"0"},null,{"$f":"MID(TEXT(CONTRIBUENTE!J38,\"gg/mm/aaaa\"),5,1)","v":"1"},null,null,{"$f":"MID(TEXT(CONTRIBUENTE!J38,\"gg/mm/aaaa\"),7,1)","v":"2"},null,{"$f":"MID(TEXT(CONTRIBUENTE!J38,\"gg/mm/aaaa\"),8,1)","v":"0"},{"$f":"MID(TEXT(CONTRIBUENTE!J38,\"gg/mm/aaaa\"),9,1)","v":"0"},null,{"$f":"MID(TEXT(CONTRIBUENTE!J38,\"gg/mm/aaaa\"),10,1)","v":"0"},null,null,null,null,null,{"$f":"VLOOKUP(CONTRIBUENTE!M38,CONTRIBUENTE!E123:F124,2,FALSE)","v":{"$error":"#N/A"}},null,null,{"$f":"CONTRIBUENTE!$E$40","v":0},null,null,null,null,null,null,null,null,null,null,null,null,null,null,null,null,null,null,null,null,null,null,null,null,null,null,null,null,null,null,null,null,null,{"$f":"LEFT(CONTRIBUENTE!O40,1)","v":""},{"$f":"RIGHT(CONTRIBUENTE!O40,1)","v":""},null,null,"Alfanumerico"]
[null,null,null,null,null,null,null,null,null,null,null,null,null,null,null,null,null,null,null,null,null,null,null,null,null,null,null,null,null,null,null,null,null,null,null,null,null,null,null,null,null,null,null,null,null,null,null,null,null,null,null,null,null,null,null,null,null,null,null,null,null,null,null,null,null,null,null,null,null,null,null,null,{"$f":"VLOOKUP(BU8&\"-\"&BU5,'Motivo del pagamento'!B9:Y2008,24,FALSE)","v":"AAA"}]
[null,null,null,null,null,null,null,null,null,null,null,null,null,null,null,null,null,null,null,null,null,null,{"$f":"MID(CONTRIBUENTE!E43,1,1)","v":""},{"$f":"MID(CONTRIBUENTE!E43,2,1)","v":""},null,{"$f":"MID(CONTRIBUENTE!E43,3,1)","v":""},null,null,{"$f":"MID(CONTRIBUENTE!E43,4,1)","v":""},null,{"$f":"MID(CONTRIBUENTE!E43,5,1)","v":""},null,{"$f":"MID(CONTRIBUENTE!E43,6,1)","v":""},null,null,{"$f":"MID(CONTRIBUENTE!E43,7,1)","v":""},{"$f":"MID(CONTRIBUENTE!E43,8,1)","v":""},{"$f":"MID(CONTRIBUENTE!E43,9,1)","v":""},null,null,{"$f":"MID(CONTRIBUENTE!E43,10,1)","v":""},{"$f":"MID(CONTRIBUENTE!E43,11,1)","v":""},{"$f":"MID(CONTRIBUENTE!E43,12,1)","v":""},null,null,{"$f":"MID(CONTRIBUENTE!E43,13,1)","v":""},null,{"$f":"MID(CONTRIBUENTE!E43,14,1)","v":""},null,null,{"$f":"MID(CONTRIBUENTE!E43,15,1)","v":""},null,{"$f":"MID(CONTRIBUENTE!E43,16,1)","v":""},null,null,null,null,null,null,null,null,null,null,null,null,null,null,null,{"$f":"LEFT(CONTRIBUENTE!O43,1)","v":""},{"$f":"RIGHT(CONTRIBUENTE!O43,1)","v":""}]
[]
[null,null,null,null,null,null,null,null,null,null,null,null,null,null,null,null,null,null,null,null,null,null,null,null,null,null,null,null,null,null,null,null,null,null,null,null,null,null,null,null,null,null,null,null,null,null,null,null,null,null,null,null,null,null,null,null,null,null,null,null,null,null,null,null,null,null,null,null,null,null,null,null,"Note"]
[1,null,{"$f":"LEFT(VLOOKUP(VLOOKUP($BU$8&\"-\"&$BU$5&\"-\"&$A18,'Motivo del pagamento'!$C$9:$J$2008,8,FALSE),Tabelle!B$5:C$8,2,FALSE),1)","v":"."},null,{"$f":"RIGHT(VLOOKUP(VLOOKUP($BU$8&\"-\"&$BU$5&\"-\"&$A18,'Motivo del pagamento'!$C$9:$J$2008,8,FALSE),Tabelle!B$5:C$8,2,FALSE),1)","v":"."},null,null,null,{"$f":"VLOOKUP($BU$8&\"-\"&$BU$5&\"-\"&$A18,'Motivo del pagamento'!$C$9:$K$2008,9,FALSE)","v":"0101"},null,null,null,{"$f":"MID(VLOOKUP($BU$8&\"-\"&$BU$5&\"-\"&$A18,'Motivo del pagamento'!$C$9:$L$2008,10,FALSE),1,1)","v":"0"},{"$f":"MID(VLOOKUP($BU$8&\"-\"&$BU$5&\"-\"&$A18,'Motivo del pagamento'!$C$9:$L$2008,10,FALSE),2,1)","v":"0"},{"$f":"MID(VLOOKUP($BU$8&\"-\"&$BU$5&\"-\"&$A18,'Motivo del pagamento'!$C$9:$L$2008,10,FALSE),3,1)","v":"0"},null,{"$f":"MID(VLOOKUP($BU$8&\"-\"&$BU$5&\"-\"&$A18,'Motivo del pagamento'!$C$9:$L$2008,10,FALSE),4,1)","v":"0"},null,null,{"$f":"VLOOKUP(VLOOKUP($BU$8&\"-\"&$BU$5&\"-\"&$A18,'Motivo del pagamento'!$C$9:$M$2008,11,FALSE),'Motivo del pagamento'!$O$2022:$P$2025,2,FALSE)","v":" "},null,null,{"$f":"VLOOKUP(VLOOKUP($BU$8&\"-\"&$BU$5&\"-\"&$A18,'Motivo del pagamento'!$C$9:$M$2008,11,FALSE),'Motivo del pagamento'!$O$2022:$Q$2025,3,FALSE)","v":" "},null,{"$f":"VLOOKUP(VLOOKUP($BU$8&\"-\"&$BU$5&\"-\"&$A18,'Motivo del pagamento'!$C$9:$M$2008,11,FALSE),'Motivo del pagamento'!$O$2022:$R$2025,4,FALSE)","v":" "},null,null,{"$f":"VLOOKUP(VLOOKUP($BU$8&\"-\"&$BU$5&\"-\"&$A18,'Motivo del pagamento'!$C$9:$M$2008,11,FALSE),'Motivo del pagamento'!$O$2022:$S$2025,5,FALSE)","v":"X"},null,null,{"$f":"VLOOKUP($BU$8&\"-\"&$BU$5&\"-\"&$A18,'Motivo del pagamento'!$C$9:$N$2008,12,FALSE)","v":1},null,null,null,null,{"$f":"VLOOKUP($BU$8&\"-\"&$BU$5&\"-\"&$A18,'Motivo del pagamento'!$C$9:$O$2008,13,FALSE)","v":"01 01"},null,null,null,{"$f":"VLOOKUP($BU$8&\"-\"&$BU$5&\"-\"&$A18,'Motivo del pagamento'!$C$9:$P$2008,14,FALSE)","v":"2020"},null,null,{"$f":"FLOOR(VLOOKUP($BU$8&\"-\"&$BU$5&\"-\"&$A18,'Motivo del pagamento'!$C$9:$Q$2008,15,FALSE),1)","v":0},null,null,null,null,null,null,null,{"$f":"LEFT(RIGHT(TEXT(VLOOKUP($BU$8&\"-\"&$BU$5&\"-\"&$A18,'Motivo del pagamento'!$C$9:$Q$2008,15,FALSE),\"0,00\"),2),1)","v":"0"},{"$f":"RIGHT(TEXT(VLOOKUP($BU$8&\"-\"&$BU$5&\"-\"&$A18,'Motivo del pagamento'!$C$9:$Q$2008,15,FALSE),\"0,00\"),1)","v":"0"},null,{"$f":"FLOOR(VLOOKUP($BU$8&\"-\"&$BU$5&\"-\"&$A18,'Motivo del pagamento'!$C$9:$R$2008,16,FALSE),1)","v":1},null,null,null,null,null,{"$f":"LEFT(RIGHT(TEXT(VLOOKUP($BU$8&\"-\"&$BU$5&\"-\"&$A18,'Motivo del pagamento'!$C$9:$R$2008,16,FALSE),\"0,00\"),2),1)","v":"0"},null,{"$f":"RIGHT(TEXT(VLOOKUP($BU$8&\"-\"&$BU$5&\"-\"&$A18,'Motivo del pagamento'!$C$9:$R$2008,16,FALSE),\"0,00\"),1)","v":"0"},null,null,{"$f":"FLOOR(VLOOKUP($BU$8&\"-\"&$BU$5&\"-\"&$A18,'Motivo del pagamento'!$C$9:$S$2008,17,FALSE),1)","v":0},null,null,null,null,{"$f":"LEFT(RIGHT(TEXT(VLOOKUP($BU$8&\"-\"&$BU$5&\"-\"&$A18,'Motivo del pagamento'!$C$9:$S$2008,17,FALSE),\"0,00\"),2),1)","v":"0"},{"$f":"RIGHT(TEXT(VLOOKUP($BU$8&\"-\"&$BU$5&\"-\"&$A18,'Motivo del pagamento'!$C$9:$S$2008,17,FALSE),\"0,00\"),1)","v":"0"},null,{"$f":"VLOOKUP($BU$8&\"-\"&$BU$5&\"-\"&A18,'Motivo del pagamento'!$C$9:$AG$2008,31,FALSE)","v":"Testo Libero"}]
[2,null,{"$f":"LEFT(VLOOKUP(VLOOKUP($BU$8&\"-\"&$BU$5&\"-\"&$A19,'Motivo del pagamento'!$C$9:$J$2008,8,FALSE),Tabelle!B$5:C$8,2,FALSE),1)","v":{"$error":"#N/A"}},null,{"$f":"RIGHT(VLOOKUP(VLOOKUP($BU$8&\"-\"&$BU$5&\"-\"&$A19,'Motivo del pagamento'!$C$9:$J$2008,8,FALSE),Tabelle!B$5:C$8,2,FALSE),1)","v":{"$error":"#N/A"}},null,null,null,{"$f":"VLOOKUP($BU$8&\"-\"&$BU$5&\"-\"&$A19,'Motivo del pagamento'!$C$9:$K$2008,9,FALSE)","v":{"$error":"#N/A"}},null,null,null,{"$f":"MID(VLOOKUP($BU$8&\"-\"&$BU$5&\"-\"&$A19,'Motivo del pagamento'!$C$9:$L$2008,10,FALSE),1,1)","v":{"$error":"#N/A"}},{"$f":"MID(VLOOKUP($BU$8&\"-\"&$BU$5&\"-\"&$A19,'Motivo del pagamento'!$C$9:$L$2008,10,FALSE),2,1)","v":{"$error":"#N/A"}},{"$f":"MID(VLOOKUP($BU$8&\"-\"&$BU$5&\"-\"&$A19,'Motivo del pagamento'!$C$9:$L$2008,10,FALSE),3,1)","v":{"$error":"#N/A"}},null,{"$f":"MID(VLOOKUP($BU$8&\"-\"&$BU$5&\"-\"&$A19,'Motivo del pagamento'!$C$9:$L$2008,10,FALSE),4,1)","v":{"$error":"#N/A"}},null,null,{"$f":"VLOOKUP(VLOOKUP($BU$8&\"-\"&$BU$5&\"-\"&$A19,'Motivo del pagamento'!$C$9:$M$2008,11,FALSE),'Motivo del pagamento'!$O$2022:$P$2025,2,FALSE)","v":{"$error":"#N/A"}},null,null,{"$f":"VLOOKUP(VLOOKUP($BU$8&\"-\"&$BU$5&\"-\"&$A19,'Motivo del pagamento'!$C$9:$M$2008,11,FALSE),'Motivo del pagamento'!$O$2022:$Q$2025,3,FALSE)","v":{"$error":"#N/A"}},null,{"$f":"VLOOKUP(VLOOKUP($BU$8&\"-\"&$BU$5&\"-\"&$A19,'Motivo del pagamento'!$C$9:$M$2008,11,FALSE),'Motivo del pagamento'!$O$2022:$R$2025,4,FALSE)","v":{"$error":"#N/A"}},null,null,{"$f":"VLOOKUP(VLOOKUP($BU$8&\"-\"&$BU$5&\"-\"&$A19,'Motivo del pagamento'!$C$9:$M$2008,11,FALSE),'Motivo del pagamento'!$O$2022:$S$2025,5,FALSE)","v":{"$error":"#N/A"}},null,null,{"$f":"VLOOKUP($BU$8&\"-\"&$BU$5&\"-\"&$A19,'Motivo del pagamento'!$C$9:$N$2008,12,FALSE)","v":{"$error":"#N/A"}},null,null,null,null,{"$f":"VLOOKUP($BU$8&\"-\"&$BU$5&\"-\"&$A19,'Motivo del pagamento'!$C$9:$O$2008,13,FALSE)","v":{"$error":"#N/A"}},null,null,null,{"$f":"VLOOKUP($BU$8&\"-\"&$BU$5&\"-\"&$A19,'Motivo del pagamento'!$C$9:$P$2008,14,FALSE)","v":{"$error":"#N/A"}},null,null,{"$f":"FLOOR(VLOOKUP($BU$8&\"-\"&$BU$5&\"-\"&$A19,'Motivo del pagamento'!$C$9:$Q$2008,15,FALSE),1)","v":{"$error":"#N/A"}},null,null,null,null,null,null,null,{"$f":"LEFT(RIGHT(TEXT(VLOOKUP($BU$8&\"-\"&$BU$5&\"-\"&$A19,'Motivo del pagamento'!$C$9:$Q$2008,15,FALSE),\"0,00\"),2),1)","v":{"$error":"#N/A"}},{"$f":"RIGHT(TEXT(VLOOKUP($BU$8&\"-\"&$BU$5&\"-\"&$A19,'Motivo del pagamento'!$C$9:$Q$2008,15,FALSE),\"0,00\"),1)","v":{"$error":"#N/A"}},null,{"$f":"FLOOR(VLOOKUP($BU$8&\"-\"&$BU$5&\"-\"&$A19,'Motivo del pagamento'!$C$9:$R$2008,16,FALSE),1)","v":{"$error":"#N/A"}},null,null,null,null,null,{"$f":"LEFT(RIGHT(TEXT(VLOOKUP($BU$8&\"-\"&$BU$5&\"-\"&$A19,'Motivo del pagamento'!$C$9:$R$2008,16,FALSE),\"0,00\"),2),1)","v":{"$error":"#N/A"}},null,{"$f":"RIGHT(TEXT(VLOOKUP($BU$8&\"-\"&$BU$5&\"-\"&$A19,'Motivo del pagamento'!$C$9:$R$2008,16,FALSE),\"0,00\"),1)","v":{"$error":"#N/A"}},null,null,{"$f":"FLOOR(VLOOKUP($BU$8&\"-\"&$BU$5&\"-\"&$A19,'Motivo del pagamento'!$C$9:$S$2008,17,FALSE),1)","v":{"$error":"#N/A"}},null,null,null,null,{"$f":"LEFT(RIGHT(TEXT(VLOOKUP($BU$8&\"-\"&$BU$5&\"-\"&$A19,'Motivo del pagamento'!$C$9:$S$2008,17,FALSE),\"0,00\"),2),1)","v":{"$error":"#N/A"}},{"$f":"RIGHT(TEXT(VLOOKUP($BU$8&\"-\"&$BU$5&\"-\"&$A19,'Motivo del pagamento'!$C$9:$S$2008,17,FALSE),\"0,00\"),1)","v":{"$error":"#N/A"}},null,{"$f":"VLOOKUP($BU$8&\"-\"&$BU$5&\"-\"&A19,'Motivo del pagamento'!$C$9:$AG$2008,31,FALSE)","v":{"$error":"#N/A"}}]
[3,null,{"$f":"LEFT(VLOOKUP(VLOOKUP($BU$8&\"-\"&$BU$5&\"-\"&$A20,'Motivo del pagamento'!$C$9:$J$2008,8,FALSE),Tabelle!B$5:C$8,2,FALSE),1)","v":{"$error":"#N/A"}},null,{"$f":"RIGHT(VLOOKUP(VLOOKUP($BU$8&\"-\"&$BU$5&\"-\"&$A20,'Motivo del pagamento'!$C$9:$J$2008,8,FALSE),Tabelle!B$5:C$8,2,FALSE),1)","v":{"$error":"#N/A"}},null,null,null,{"$f":"VLOOKUP($BU$8&\"-\"&$BU$5&\"-\"&$A20,'Motivo del pagamento'!$C$9:$K$2008,9,FALSE)","v":{"$error":"#N/A"}},null,null,null,{"$f":"MID(VLOOKUP($BU$8&\"-\"&$BU$5&\"-\"&$A20,'Motivo del pagamento'!$C$9:$L$2008,10,FALSE),1,1)","v":{"$error":"#N/A"}},{"$f":"MID(VLOOKUP($BU$8&\"-\"&$BU$5&\"-\"&$A20,'Motivo del pagamento'!$C$9:$L$2008,10,FALSE),2,1)","v":{"$error":"#N/A"}},{"$f":"MID(VLOOKUP($BU$8&\"-\"&$BU$5&\"-\"&$A20,'Motivo del pagamento'!$C$9:$L$2008,10,FALSE),3,1)","v":{"$error":"#N/A"}},null,{"$f":"MID(VLOOKUP($BU$8&\"-\"&$BU$5&\"-\"&$A20,'Motivo del pagamento'!$C$9:$L$2008,10,FALSE),4,1)","v":{"$error":"#N/A"}},null,null,{"$f":"VLOOKUP(VLOOKUP($BU$8&\"-\"&$BU$5&\"-\"&$A20,'Motivo del pagamento'!$C$9:$M$2008,11,FALSE),'Motivo del pagamento'!$O$2022:$P$2025,2,FALSE)","v":{"$error":"#N/A"}},null,null,{"$f":"VLOOKUP(VLOOKUP($BU$8&\"-\"&$BU$5&\"-\"&$A20,'Motivo del pagamento'!$C$9:$M$2008,11,FALSE),'Motivo del pagamento'!$O$2022:$Q$2025,3,FALSE)","v":{"$error":"#N/A"}},null,{"$f":"VLOOKUP(VLOOKUP($BU$8&\"-\"&$BU$5&\"-\"&$A20,'Motivo del pagamento'!$C$9:$M$2008,11,FALSE),'Motivo del pagamento'!$O$2022:$R$2025,4,FALSE)","v":{"$error":"#N/A"}},null,null,{"$f":"VLOOKUP(VLOOKUP($BU$8&\"-\"&$BU$5&\"-\"&$A20,'Motivo del pagamento'!$C$9:$M$2008,11,FALSE),'Motivo del pagamento'!$O$2022:$S$2025,5,FALSE)","v":{"$error":"#N/A"}},null,null,{"$f":"VLOOKUP($BU$8&\"-\"&$BU$5&\"-\"&$A20,'Motivo del pagamento'!$C$9:$N$2008,12,FALSE)","v":{"$error":"#N/A"}},null,null,null,null,{"$f":"VLOOKUP($BU$8&\"-\"&$BU$5&\"-\"&$A20,'Motivo del pagamento'!$C$9:$O$2008,13,FALSE)","v":{"$error":"#N/A"}},null,null,null,{"$f":"VLOOKUP($BU$8&\"-\"&$BU$5&\"-\"&$A20,'Motivo del pagamento'!$C$9:$P$2008,14,FALSE)","v":{"$error":"#N/A"}},null,null,{"$f":"FLOOR(VLOOKUP($BU$8&\"-\"&$BU$5&\"-\"&$A20,'Motivo del pagamento'!$C$9:$Q$2008,15,FALSE),1)","v":{"$error":"#N/A"}},null,null,null,null,null,null,null,{"$f":"LEFT(RIGHT(TEXT(VLOOKUP($BU$8&\"-\"&$BU$5&\"-\"&$A20,'Motivo del pagamento'!$C$9:$Q$2008,15,FALSE),\"0,00\"),2),1)","v":{"$error":"#N/A"}},{"$f":"RIGHT(TEXT(VLOOKUP($BU$8&\"-\"&$BU$5&\"-\"&$A20,'Motivo del pagamento'!$C$9:$Q$2008,15,FALSE),\"0,00\"),1)","v":{"$error":"#N/A"}},null,{"$f":"FLOOR(VLOOKUP($BU$8&\"-\"&$BU$5&\"-\"&$A20,'Motivo del pagamento'!$C$9:$R$2008,16,FALSE),1)","v":{"$error":"#N/A"}},null,null,null,null,null,{"$f":"LEFT(RIGHT(TEXT(VLOOKUP($BU$8&\"-\"&$BU$5&\"-\"&$A20,'Motivo del pagamento'!$C$9:$R$2008,16,FALSE),\"0,00\"),2),1)","v":{"$error":"#N/A"}},null,{"$f":"RIGHT(TEXT(VLOOKUP($BU$8&\"-\"&$BU$5&\"-\"&$A20,'Motivo del pagamento'!$C$9:$R$2008,16,FALSE),\"0,00\"),1)","v":{"$error":"#N/A"}},null,null,{"$f":"FLOOR(VLOOKUP($BU$8&\"-\"&$BU$5&\"-\"&$A20,'Motivo del pagamento'!$C$9:$S$2008,17,FALSE),1)","v":{"$error":"#N/A"}},null,null,null,null,{"$f":"LEFT(RIGHT(TEXT(VLOOKUP($BU$8&\"-\"&$BU$5&\"-\"&$A20,'Motivo del pagamento'!$C$9:$S$2008,17,FALSE),\"0,00\"),2),1)","v":{"$error":"#N/A"}},{"$f":"RIGHT(TEXT(VLOOKUP($BU$8&\"-\"&$BU$5&\"-\"&$A20,'Motivo del pagamento'!$C$9:$S$2008,17,FALSE),\"0,00\"),1)","v":{"$error":"#N/A"}},null,{"$f":"VLOOKUP($BU$8&\"-\"&$BU$5&\"-\"&A20,'Motivo del pagamento'!$C$9:$AG$2008,31,FALSE)","v":{"$error":"#N/A"}}]
[4,null,{"$f":"LEFT(VLOOKUP(VLOOKUP($BU$8&\"-\"&$BU$5&\"-\"&$A21,'Motivo del pagamento'!$C$9:$J$2008,8,FALSE),Tabelle!B$5:C$8,2,FALSE),1)","v":{"$error":"#N/A"}},null,{"$f":"RIGHT(VLOOKUP(VLOOKUP($BU$8&\"-\"&$BU$5&\"-\"&$A21,'Motivo del pagamento'!$C$9:$J$2008,8,FALSE),Tabelle!B$5:C$8,2,FALSE),1)","v":{"$error":"#N/A"}},null,null,null,{"$f":"VLOOKUP($BU$8&\"-\"&$BU$5&\"-\"&$A21,'Motivo del pagamento'!$C$9:$K$2008,9,FALSE)","v":{"$error":"#N/A"}},null,null,null,{"$f":"MID(VLOOKUP($BU$8&\"-\"&$BU$5&\"-\"&$A21,'Motivo del pagamento'!$C$9:$L$2008,10,FALSE),1,1)","v":{"$error":"#N/A"}},{"$f":"MID(VLOOKUP($BU$8&\"-\"&$BU$5&\"-\"&$A21,'Motivo del pagamento'!$C$9:$L$2008,10,FALSE),2,1)","v":{"$error":"#N/A"}},{"$f":"MID(VLOOKUP($BU$8&\"-\"&$BU$5&\"-\"&$A21,'Motivo del pagamento'!$C$9:$L$2008,10,FALSE),3,1)","v":{"$error":"#N/A"}},null,{"$f":"MID(VLOOKUP($BU$8&\"-\"&$BU$5&\"-\"&$A21,'Motivo del pagamento'!$C$9:$L$2008,10,FALSE),4,1)","v":{"$error":"#N/A"}},null,null,{"$f":"VLOOKUP(VLOOKUP($BU$8&\"-\"&$BU$5&\"-\"&$A21,'Motivo del pagamento'!$C$9:$M$2008,11,FALSE),'Motivo del pagamento'!$O$2022:$P$2025,2,FALSE)","v":{"$error":"#N/A"}},null,null,{"$f":"VLOOKUP(VLOOKUP($BU$8&\"-\"&$BU$5&\"-\"&$A21,'Motivo del pagamento'!$C$9:$M$2008,11,FALSE),'Motivo del pagamento'!$O$2022:$Q$2025,3,FALSE)","v":{"$error":"#N/A"}},null,{"$f":"VLOOKUP(VLOOKUP($BU$8&\"-\"&$BU$5&\"-\"&$A21,'Motivo del pagamento'!$C$9:$M$2008,11,FALSE),'Motivo del pagamento'!$O$2022:$R$2025,4,FALSE)","v":{"$error":"#N/A"}},null,null,{"$f":"VLOOKUP(VLOOKUP($BU$8&\"-\"&$BU$5&\"-\"&$A21,'Motivo del pagamento'!$C$9:$M$2008,11,FALSE),'Motivo del pagamento'!$O$2022:$S$2025,5,FALSE)","v":{"$error":"#N/A"}},null,null,{"$f":"VLOOKUP($BU$8&\"-\"&$BU$5&\"-\"&$A21,'Motivo del pagamento'!$C$9:$N$2008,12,FALSE)","v":{"$error":"#N/A"}},null,null,null,null,{"$f":"VLOOKUP($BU$8&\"-\"&$BU$5&\"-\"&$A21,'Motivo del pagamento'!$C$9:$O$2008,13,FALSE)","v":{"$error":"#N/A"}},null,null,null,{"$f":"VLOOKUP($BU$8&\"-\"&$BU$5&\"-\"&$A21,'Motivo del pagamento'!$C$9:$P$2008,14,FALSE)","v":{"$error":"#N/A"}},null,null,{"$f":"FLOOR(VLOOKUP($BU$8&\"-\"&$BU$5&\"-\"&$A21,'Motivo del pagamento'!$C$9:$Q$2008,15,FALSE),1)","v":{"$error":"#N/A"}},null,null,null,null,null,null,null,{"$f":"LEFT(RIGHT(TEXT(VLOOKUP($BU$8&\"-\"&$BU$5&\"-\"&$A21,'Motivo del pagamento'!$C$9:$Q$2008,15,FALSE),\"0,00\"),2),1)","v":{"$error":"#N/A"}},{"$f":"RIGHT(TEXT(VLOOKUP($BU$8&\"-\"&$BU$5&\"-\"&$A21,'Motivo del pagamento'!$C$9:$Q$2008,15,FALSE),\"0,00\"),1)","v":{"$error":"#N/A"}},null,{"$f":"FLOOR(VLOOKUP($BU$8&\"-\"&$BU$5&\"-\"&$A21,'Motivo del pagamento'!$C$9:$R$2008,16,FALSE),1)","v":{"$error":"#N/A"}},null,null,null,null,null,{"$f":"LEFT(RIGHT(TEXT(VLOOKUP($BU$8&\"-\"&$BU$5&\"-\"&$A21,'Motivo del pagamento'!$C$9:$R$2008,16,FALSE),\"0,00\"),2),1)","v":{"$error":"#N/A"}},null,{"$f":"RIGHT(TEXT(VLOOKUP($BU$8&\"-\"&$BU$5&\"-\"&$A21,'Motivo del pagamento'!$C$9:$R$2008,16,FALSE),\"0,00\"),1)","v":{"$error":"#N/A"}},null,null,{"$f":"FLOOR(VLOOKUP($BU$8&\"-\"&$BU$5&\"-\"&$A21,'Motivo del pagamento'!$C$9:$S$2008,17,FALSE),1)","v":{"$error":"#N/A"}},null,null,null,null,{"$f":"LEFT(RIGHT(TEXT(VLOOKUP($BU$8&\"-\"&$BU$5&\"-\"&$A21,'Motivo del pagamento'!$C$9:$S$2008,17,FALSE),\"0,00\"),2),1)","v":{"$error":"#N/A"}},{"$f":"RIGHT(TEXT(VLOOKUP($BU$8&\"-\"&$BU$5&\"-\"&$A21,'Motivo del pagamento'!$C$9:$S$2008,17,FALSE),\"0,00\"),1)","v":{"$error":"#N/A"}},null,{"$f":"VLOOKUP($BU$8&\"-\"&$BU$5&\"-\"&A21,'Motivo del pagamento'!$C$9:$AG$2008,31,FALSE)","v":{"$error":"#N/A"}}]
[5,null,{"$f":"LEFT(VLOOKUP(VLOOKUP($BU$8&\"-\"&$BU$5&\"-\"&$A22,'Motivo del pagamento'!$C$9:$J$2008,8,FALSE),Tabelle!B$5:C$8,2,FALSE),1)","v":{"$error":"#N/A"}},null,{"$f":"RIGHT(VLOOKUP(VLOOKUP($BU$8&\"-\"&$BU$5&\"-\"&$A22,'Motivo del pagamento'!$C$9:$J$2008,8,FALSE),Tabelle!B$5:C$8,2,FALSE),1)","v":{"$error":"#N/A"}},null,null,null,{"$f":"VLOOKUP($BU$8&\"-\"&$BU$5&\"-\"&$A22,'Motivo del pagamento'!$C$9:$K$2008,9,FALSE)","v":{"$error":"#N/A"}},null,null,null,{"$f":"MID(VLOOKUP($BU$8&\"-\"&$BU$5&\"-\"&$A22,'Motivo del pagamento'!$C$9:$L$2008,10,FALSE),1,1)","v":{"$error":"#N/A"}},{"$f":"MID(VLOOKUP($BU$8&\"-\"&$BU$5&\"-\"&$A22,'Motivo del pagamento'!$C$9:$L$2008,10,FALSE),2,1)","v":{"$error":"#N/A"}},{"$f":"MID(VLOOKUP($BU$8&\"-\"&$BU$5&\"-\"&$A22,'Motivo del pagamento'!$C$9:$L$2008,10,FALSE),3,1)","v":{"$error":"#N/A"}},null,{"$f":"MID(VLOOKUP($BU$8&\"-\"&$BU$5&\"-\"&$A22,'Motivo del pagamento'!$C$9:$L$2008,10,FALSE),4,1)","v":{"$error":"#N/A"}},null,null,{"$f":"VLOOKUP(VLOOKUP($BU$8&\"-\"&$BU$5&\"-\"&$A22,'Motivo del pagamento'!$C$9:$M$2008,11,FALSE),'Motivo del pagamento'!$O$2022:$P$2025,2,FALSE)","v":{"$error":"#N/A"}},null,null,{"$f":"VLOOKUP(VLOOKUP($BU$8&\"-\"&$BU$5&\"-\"&$A22,'Motivo del pagamento'!$C$9:$M$2008,11,FALSE),'Motivo del pagamento'!$O$2022:$Q$2025,3,FALSE)","v":{"$error":"#N/A"}},null,{"$f":"VLOOKUP(VLOOKUP($BU$8&\"-\"&$BU$5&\"-\"&$A22,'Motivo del pagamento'!$C$9:$M$2008,11,FALSE),'Motivo del pagamento'!$O$2022:$R$2025,4,FALSE)","v":{"$error":"#N/A"}},null,null,{"$f":"VLOOKUP(VLOOKUP($BU$8&\"-\"&$BU$5&\"-\"&$A22,'Motivo del pagamento'!$C$9:$M$2008,11,FALSE),'Motivo del pagamento'!$O$2022:$S$2025,5,FALSE)","v":{"$error":"#N/A"}},null,null,{"$f":"VLOOKUP($BU$8&\"-\"&$BU$5&\"-\"&$A22,'Motivo del pagamento'!$C$9:$N$2008,12,FALSE)","v":{"$error":"#N/A"}},null,null,null,null,{"$f":"VLOOKUP($BU$8&\"-\"&$BU$5&\"-\"&$A22,'Motivo del pagamento'!$C$9:$O$2008,13,FALSE)","v":{"$error":"#N/A"}},null,null,null,{"$f":"VLOOKUP($BU$8&\"-\"&$BU$5&\"-\"&$A22,'Motivo del pagamento'!$C$9:$P$2008,14,FALSE)","v":{"$error":"#N/A"}},null,null,{"$f":"FLOOR(VLOOKUP($BU$8&\"-\"&$BU$5&\"-\"&$A22,'Motivo del pagamento'!$C$9:$Q$2008,15,FALSE),1)","v":{"$error":"#N/A"}},null,null,null,null,null,null,null,{"$f":"LEFT(RIGHT(TEXT(VLOOKUP($BU$8&\"-\"&$BU$5&\"-\"&$A22,'Motivo del pagamento'!$C$9:$Q$2008,15,FALSE),\"0,00\"),2),1)","v":{"$error":"#N/A"}},{"$f":"RIGHT(TEXT(VLOOKUP($BU$8&\"-\"&$BU$5&\"-\"&$A22,'Motivo del pagamento'!$C$9:$Q$2008,15,FALSE),\"0,00\"),1)","v":{"$error":"#N/A"}},null,{"$f":"FLOOR(VLOOKUP($BU$8&\"-\"&$BU$5&\"-\"&$A22,'Motivo del pagamento'!$C$9:$R$2008,16,FALSE),1)","v":{"$error":"#N/A"}},null,null,null,null,null,{"$f":"LEFT(RIGHT(TEXT(VLOOKUP($BU$8&\"-\"&$BU$5&\"-\"&$A22,'Motivo del pagamento'!$C$9:$R$2008,16,FALSE),\"0,00\"),2),1)","v":{"$error":"#N/A"}},null,{"$f":"RIGHT(TEXT(VLOOKUP($BU$8&\"-\"&$BU$5&\"-\"&$A22,'Motivo del pagamento'!$C$9:$R$2008,16,FALSE),\"0,00\"),1)","v":{"$error":"#N/A"}},null,null,{"$f":"FLOOR(VLOOKUP($BU$8&\"-\"&$BU$5&\"-\"&$A22,'Motivo del pagamento'!$C$9:$S$2008,17,FALSE),1)","v":{"$error":"#N/A"}},null,null,null,null,{"$f":"LEFT(RIGHT(TEXT(VLOOKUP($BU$8&\"-\"&$BU$5&\"-\"&$A22,'Motivo del pagamento'!$C$9:$S$2008,17,FALSE),\"0,00\"),2),1)","v":{"$error":"#N/A"}},{"$f":"RIGHT(TEXT(VLOOKUP($BU$8&\"-\"&$BU$5&\"-\"&$A22,'Motivo del pagamento'!$C$9:$S$2008,17,FALSE),\"0,00\"),1)","v":{"$error":"#N/A"}},null,{"$f":"VLOOKUP($BU$8&\"-\"&$BU$5&\"-\"&A22,'Motivo del pagamento'!$C$9:$AG$2008,31,FALSE)","v":{"$error":"#N/A"}}]
[6,null,{"$f":"LEFT(VLOOKUP(VLOOKUP($BU$8&\"-\"&$BU$5&\"-\"&$A23,'Motivo del pagamento'!$C$9:$J$2008,8,FALSE),Tabelle!B$5:C$8,2,FALSE),1)","v":{"$error":"#N/A"}},null,{"$f":"RIGHT(VLOOKUP(VLOOKUP($BU$8&\"-\"&$BU$5&\"-\"&$A23,'Motivo del pagamento'!$C$9:$J$2008,8,FALSE),Tabelle!B$5:C$8,2,FALSE),1)","v":{"$error":"#N/A"}},null,null,null,{"$f":"VLOOKUP($BU$8&\"-\"&$BU$5&\"-\"&$A23,'Motivo del pagamento'!$C$9:$K$2008,9,FALSE)","v":{"$error":"#N/A"}},null,null,null,{"$f":"MID(VLOOKUP($BU$8&\"-\"&$BU$5&\"-\"&$A23,'Motivo del pagamento'!$C$9:$L$2008,10,FALSE),1,1)","v":{"$error":"#N/A"}},{"$f":"MID(VLOOKUP($BU$8&\"-\"&$BU$5&\"-\"&$A23,'Motivo del pagamento'!$C$9:$L$2008,10,FALSE),2,1)","v":{"$error":"#N/A"}},{"$f":"MID(VLOOKUP($BU$8&\"-\"&$BU$5&\"-\"&$A23,'Motivo del pagamento'!$C$9:$L$2008,10,FALSE),3,1)","v":{"$error":"#N/A"}},null,{"$f":"MID(VLOOKUP($BU$8&\"-\"&$BU$5&\"-\"&$A23,'Motivo del pagamento'!$C$9:$L$2008,10,FALSE),4,1)","v":{"$error":"#N/A"}},null,null,{"$f":"VLOOKUP(VLOOKUP($BU$8&\"-\"&$BU$5&\"-\"&$A23,'Motivo del pagamento'!$C$9:$M$2008,11,FALSE),'Motivo del pagamento'!$O$2022:$P$2025,2,FALSE)","v":{"$error":"#N/A"}},null,null,{"$f":"VLOOKUP(VLOOKUP($BU$8&\"-\"&$BU$5&\"-\"&$A23,'Motivo del pagamento'!$C$9:$M$2008,11,FALSE),'Motivo del pagamento'!$O$2022:$Q$2025,3,FALSE)","v":{"$error":"#N/A"}},null,{"$f":"VLOOKUP(VLOOKUP($BU$8&\"-\"&$BU$5&\"-\"&$A23,'Motivo del pagamento'!$C$9:$M$2008,11,FALSE),'Motivo del pagamento'!$O$2022:$R$2025,4,FALSE)","v":{"$error":"#N/A"}},null,null,{"$f":"VLOOKUP(VLOOKUP($BU$8&\"-\"&$BU$5&\"-\"&$A23,'Motivo del pagamento'!$C$9:$M$2008,11,FALSE),'Motivo del pagamento'!$O$2022:$S$2025,5,FALSE)","v":{"$error":"#N/A"}},null,null,{"$f":"VLOOKUP($BU$8&\"-\"&$BU$5&\"-\"&$A23,'Motivo del pagamento'!$C$9:$N$2008,12,FALSE)","v":{"$error":"#N/A"}},null,null,null,null,{"$f":"VLOOKUP($BU$8&\"-\"&$BU$5&\"-\"&$A23,'Motivo del pagamento'!$C$9:$O$2008,13,FALSE)","v":{"$error":"#N/A"}},null,null,null,{"$f":"VLOOKUP($BU$8&\"-\"&$BU$5&\"-\"&$A23,'Motivo del pagamento'!$C$9:$P$2008,14,FALSE)","v":{"$error":"#N/A"}},null,null,{"$f":"FLOOR(VLOOKUP($BU$8&\"-\"&$BU$5&\"-\"&$A23,'Motivo del pagamento'!$C$9:$Q$2008,15,FALSE),1)","v":{"$error":"#N/A"}},null,null,null,null,null,null,null,{"$f":"LEFT(RIGHT(TEXT(VLOOKUP($BU$8&\"-\"&$BU$5&\"-\"&$A23,'Motivo del pagamento'!$C$9:$Q$2008,15,FALSE),\"0,00\"),2),1)","v":{"$error":"#N/A"}},{"$f":"RIGHT(TEXT(VLOOKUP($BU$8&\"-\"&$BU$5&\"-\"&$A23,'Motivo del pagamento'!$C$9:$Q$2008,15,FALSE),\"0,00\"),1)","v":{"$error":"#N/A"}},null,{"$f":"FLOOR(VLOOKUP($BU$8&\"-\"&$BU$5&\"-\"&$A23,'Motivo del pagamento'!$C$9:$R$2008,16,FALSE),1)","v":{"$error":"#N/A"}},null,null,null,null,null,{"$f":"LEFT(RIGHT(TEXT(VLOOKUP($BU$8&\"-\"&$BU$5&\"-\"&$A23,'Motivo del pagamento'!$C$9:$R$2008,16,FALSE),\"0,00\"),2),1)","v":{"$error":"#N/A"}},null,{"$f":"RIGHT(TEXT(VLOOKUP($BU$8&\"-\"&$BU$5&\"-\"&$A23,'Motivo del pagamento'!$C$9:$R$2008,16,FALSE),\"0,00\"),1)","v":{"$error":"#N/A"}},null,null,{"$f":"FLOOR(VLOOKUP($BU$8&\"-\"&$BU$5&\"-\"&$A23,'Motivo del pagamento'!$C$9:$S$2008,17,FALSE),1)","v":{"$error":"#N/A"}},null,null,null,null,{"$f":"LEFT(RIGHT(TEXT(VLOOKUP($BU$8&\"-\"&$BU$5&\"-\"&$A23,'Motivo del pagamento'!$C$9:$S$2008,17,FALSE),\"0,00\"),2),1)","v":{"$error":"#N/A"}},{"$f":"RIGHT(TEXT(VLOOKUP($BU$8&\"-\"&$BU$5&\"-\"&$A23,'Motivo del pagamento'!$C$9:$S$2008,17,FALSE),\"0,00\"),1)","v":{"$error":"#N/A"}},null,{"$f":"VLOOKUP($BU$8&\"-\"&$BU$5&\"-\"&A23,'Motivo del pagamento'!$C$9:$AG$2008,31,FALSE)","v":{"$error":"#N/A"}}]
[7,null,{"$f":"LEFT(VLOOKUP(VLOOKUP($BU$8&\"-\"&$BU$5&\"-\"&$A24,'Motivo del pagamento'!$C$9:$J$2008,8,FALSE),Tabelle!B$5:C$8,2,FALSE),1)","v":{"$error":"#N/A"}},null,{"$f":"RIGHT(VLOOKUP(VLOOKUP($BU$8&\"-\"&$BU$5&\"-\"&$A24,'Motivo del pagamento'!$C$9:$J$2008,8,FALSE),Tabelle!B$5:C$8,2,FALSE),1)","v":{"$error":"#N/A"}},null,null,null,{"$f":"VLOOKUP($BU$8&\"-\"&$BU$5&\"-\"&$A24,'Motivo del pagamento'!$C$9:$K$2008,9,FALSE)","v":{"$error":"#N/A"}},null,null,null,{"$f":"MID(VLOOKUP($BU$8&\"-\"&$BU$5&\"-\"&$A24,'Motivo del pagamento'!$C$9:$L$2008,10,FALSE),1,1)","v":{"$error":"#N/A"}},{"$f":"MID(VLOOKUP($BU$8&\"-\"&$BU$5&\"-\"&$A24,'Motivo del pagamento'!$C$9:$L$2008,10,FALSE),2,1)","v":{"$error":"#N/A"}},{"$f":"MID(VLOOKUP($BU$8&\"-\"&$BU$5&\"-\"&$A24,'Motivo del pagamento'!$C$9:$L$2008,10,FALSE),3,1)","v":{"$error":"#N/A"}},null,{"$f":"MID(VLOOKUP($BU$8&\"-\"&$BU$5&\"-\"&$A24,'Motivo del pagamento'!$C$9:$L$2008,10,FALSE),4,1)","v":{"$error":"#N/A"}},null,null,{"$f":"VLOOKUP(VLOOKUP($BU$8&\"-\"&$BU$5&\"-\"&$A24,'Motivo del pagamento'!$C$9:$M$2008,11,FALSE),'Motivo del pagamento'!$O$2022:$P$2025,2,FALSE)","v":{"$error":"#N/A"}},null,null,{"$f":"VLOOKUP(VLOOKUP($BU$8&\"-\"&$BU$5&\"-\"&$A24,'Motivo del pagamento'!$C$9:$M$2008,11,FALSE),'Motivo del pagamento'!$O$2022:$Q$2025,3,FALSE)","v":{"$error":"#N/A"}},null,{"$f":"VLOOKUP(VLOOKUP($BU$8&\"-\"&$BU$5&\"-\"&$A24,'Motivo del pagamento'!$C$9:$M$2008,11,FALSE),'Motivo del pagamento'!$O$2022:$R$2025,4,FALSE)","v":{"$error":"#N/A"}},null,null,{"$f":"VLOOKUP(VLOOKUP($BU$8&\"-\"&$BU$5&\"-\"&$A24,'Motivo del pagamento'!$C$9:$M$2008,11,FALSE),'Motivo del pagamento'!$O$2022:$S$2025,5,FALSE)","v":{"$error":"#N/A"}},null,null,{"$f":"VLOOKUP($BU$8&\"-\"&$BU$5&\"-\"&$A24,'Motivo del pagamento'!$C$9:$N$2008,12,FALSE)","v":{"$error":"#N/A"}},null,null,null,null,{"$f":"VLOOKUP($BU$8&\"-\"&$BU$5&\"-\"&$A24,'Motivo del pagamento'!$C$9:$O$2008,13,FALSE)","v":{"$error":"#N/A"}},null,null,null,{"$f":"VLOOKUP($BU$8&\"-\"&$BU$5&\"-\"&$A24,'Motivo del pagamento'!$C$9:$P$2008,14,FALSE)","v":{"$error":"#N/A"}},null,null,{"$f":"FLOOR(VLOOKUP($BU$8&\"-\"&$BU$5&\"-\"&$A24,'Motivo del pagamento'!$C$9:$Q$2008,15,FALSE),1)","v":{"$error":"#N/A"}},null,null,null,null,null,null,null,{"$f":"LEFT(RIGHT(TEXT(VLOOKUP($BU$8&\"-\"&$BU$5&\"-\"&$A24,'Motivo del pagamento'!$C$9:$Q$2008,15,FALSE),\"0,00\"),2),1)","v":{"$error":"#N/A"}},{"$f":"RIGHT(TEXT(VLOOKUP($BU$8&\"-\"&$BU$5&\"-\"&$A24,'Motivo del pagamento'!$C$9:$Q$2008,15,FALSE),\"0,00\"),1)","v":{"$error":"#N/A"}},null,{"$f":"FLOOR(VLOOKUP($BU$8&\"-\"&$BU$5&\"-\"&$A24,'Motivo del pagamento'!$C$9:$R$2008,16,FALSE),1)","v":{"$error":"#N/A"}},null,null,null,null,null,{"$f":"LEFT(RIGHT(TEXT(VLOOKUP($BU$8&\"-\"&$BU$5&\"-\"&$A24,'Motivo del pagamento'!$C$9:$R$2008,16,FALSE),\"0,00\"),2),1)","v":{"$error":"#N/A"}},null,{"$f":"RIGHT(TEXT(VLOOKUP($BU$8&\"-\"&$BU$5&\"-\"&$A24,'Motivo del pagamento'!$C$9:$R$2008,16,FALSE),\"0,00\"),1)","v":{"$error":"#N/A"}},null,null,{"$f":"FLOOR(VLOOKUP($BU$8&\"-\"&$BU$5&\"-\"&$A24,'Motivo del pagamento'!$C$9:$S$2008,17,FALSE),1)","v":{"$error":"#N/A"}},null,null,null,null,{"$f":"LEFT(RIGHT(TEXT(VLOOKUP($BU$8&\"-\"&$BU$5&\"-\"&$A24,'Motivo del pagamento'!$C$9:$S$2008,17,FALSE),\"0,00\"),2),1)","v":{"$error":"#N/A"}},{"$f":"RIGHT(TEXT(VLOOKUP($BU$8&\"-\"&$BU$5&\"-\"&$A24,'Motivo del pagamento'!$C$9:$S$2008,17,FALSE),\"0,00\"),1)","v":{"$error":"#N/A"}},null,{"$f":"VLOOKUP($BU$8&\"-\"&$BU$5&\"-\"&A24,'Motivo del pagamento'!$C$9:$AG$2008,31,FALSE)","v":{"$error":"#N/A"}}]
[8,null,{"$f":"LEFT(VLOOKUP(VLOOKUP($BU$8&\"-\"&$BU$5&\"-\"&$A25,'Motivo del pagamento'!$C$9:$J$2008,8,FALSE),Tabelle!B$5:C$8,2,FALSE),1)","v":{"$error":"#N/A"}},null,{"$f":"RIGHT(VLOOKUP(VLOOKUP($BU$8&\"-\"&$BU$5&\"-\"&$A25,'Motivo del pagamento'!$C$9:$J$2008,8,FALSE),Tabelle!B$5:C$8,2,FALSE),1)","v":{"$error":"#N/A"}},null,null,null,{"$f":"VLOOKUP($BU$8&\"-\"&$BU$5&\"-\"&$A25,'Motivo del pagamento'!$C$9:$K$2008,9,FALSE)","v":{"$error":"#N/A"}},null,null,null,{"$f":"MID(VLOOKUP($BU$8&\"-\"&$BU$5&\"-\"&$A25,'Motivo del pagamento'!$C$9:$L$2008,10,FALSE),1,1)","v":{"$error":"#N/A"}},{"$f":"MID(VLOOKUP($BU$8&\"-\"&$BU$5&\"-\"&$A25,'Motivo del pagamento'!$C$9:$L$2008,10,FALSE),2,1)","v":{"$error":"#N/A"}},{"$f":"MID(VLOOKUP($BU$8&\"-\"&$BU$5&\"-\"&$A25,'Motivo del pagamento'!$C$9:$L$2008,10,FALSE),3,1)","v":{"$error":"#N/A"}},null,{"$f":"MID(VLOOKUP($BU$8&\"-\"&$BU$5&\"-\"&$A25,'Motivo del pagamento'!$C$9:$L$2008,10,FALSE),4,1)","v":{"$error":"#N/A"}},null,null,{"$f":"VLOOKUP(VLOOKUP($BU$8&\"-\"&$BU$5&\"-\"&$A25,'Motivo del pagamento'!$C$9:$M$2008,11,FALSE),'Motivo del pagamento'!$O$2022:$P$2025,2,FALSE)","v":{"$error":"#N/A"}},null,null,{"$f":"VLOOKUP(VLOOKUP($BU$8&\"-\"&$BU$5&\"-\"&$A25,'Motivo del pagamento'!$C$9:$M$2008,11,FALSE),'Motivo del pagamento'!$O$2022:$Q$2025,3,FALSE)","v":{"$error":"#N/A"}},null,{"$f":"VLOOKUP(VLOOKUP($BU$8&\"-\"&$BU$5&\"-\"&$A25,'Motivo del pagamento'!$C$9:$M$2008,11,FALSE),'Motivo del pagamento'!$O$2022:$R$2025,4,FALSE)","v":{"$error":"#N/A"}},null,null,{"$f":"VLOOKUP(VLOOKUP($BU$8&\"-\"&$BU$5&\"-\"&$A25,'Motivo del pagamento'!$C$9:$M$2008,11,FALSE),'Motivo del pagamento'!$O$2022:$S$2025,5,FALSE)","v":{"$error":"#N/A"}},null,null,{"$f":"VLOOKUP($BU$8&\"-\"&$BU$5&\"-\"&$A25,'Motivo del pagamento'!$C$9:$N$2008,12,FALSE)","v":{"$error":"#N/A"}},null,null,null,null,{"$f":"VLOOKUP($BU$8&\"-\"&$BU$5&\"-\"&$A25,'Motivo del pagamento'!$C$9:$O$2008,13,FALSE)","v":{"$error":"#N/A"}},null,null,null,{"$f":"VLOOKUP($BU$8&\"-\"&$BU$5&\"-\"&$A25,'Motivo del pagamento'!$C$9:$P$2008,14,FALSE)","v":{"$error":"#N/A"}},null,null,{"$f":"FLOOR(VLOOKUP($BU$8&\"-\"&$BU$5&\"-\"&$A25,'Motivo del pagamento'!$C$9:$Q$2008,15,FALSE),1)","v":{"$error":"#N/A"}},null,null,null,null,null,null,null,{"$f":"LEFT(RIGHT(TEXT(VLOOKUP($BU$8&\"-\"&$BU$5&\"-\"&$A25,'Motivo del pagamento'!$C$9:$Q$2008,15,FALSE),\"0,00\"),2),1)","v":{"$error":"#N/A"}},{"$f":"RIGHT(TEXT(VLOOKUP($BU$8&\"-\"&$BU$5&\"-\"&$A25,'Motivo del pagamento'!$C$9:$Q$2008,15,FALSE),\"0,00\"),1)","v":{"$error":"#N/A"}},null,{"$f":"FLOOR(VLOOKUP($BU$8&\"-\"&$BU$5&\"-\"&$A25,'Motivo del pagamento'!$C$9:$R$2008,16,FALSE),1)","v":{"$error":"#N/A"}},null,null,null,null,null,{"$f":"LEFT(RIGHT(TEXT(VLOOKUP($BU$8&\"-\"&$BU$5&\"-\"&$A25,'Motivo del pagamento'!$C$9:$R$2008,16,FALSE),\"0,00\"),2),1)","v":{"$error":"#N/A"}},null,{"$f":"RIGHT(TEXT(VLOOKUP($BU$8&\"-\"&$BU$5&\"-\"&$A25,'Motivo del pagamento'!$C$9:$R$2008,16,FALSE),\"0,00\"),1)","v":{"$error":"#N/A"}},null,null,{"$f":"FLOOR(VLOOKUP($BU$8&\"-\"&$BU$5&\"-\"&$A25,'Motivo del pagamento'!$C$9:$S$2008,17,FALSE),1)","v":{"$error":"#N/A"}},null,null,null,null,{"$f":"LEFT(RIGHT(TEXT(VLOOKUP($BU$8&\"-\"&$BU$5&\"-\"&$A25,'Motivo del pagamento'!$C$9:$S$2008,17,FALSE),\"0,00\"),2),1)","v":{"$error":"#N/A"}},{"$f":"RIGHT(TEXT(VLOOKUP($BU$8&\"-\"&$BU$5&\"-\"&$A25,'Motivo del pagamento'!$C$9:$S$2008,17,FALSE),\"0,00\"),1)","v":{"$error":"#N/A"}},null,{"$f":"VLOOKUP($BU$8&\"-\"&$BU$5&\"-\"&A25,'Motivo del pagamento'!$C$9:$AG$2008,31,FALSE)","v":{"$error":"#N/A"}}]
[9,null,{"$f":"LEFT(VLOOKUP(VLOOKUP($BU$8&\"-\"&$BU$5&\"-\"&$A26,'Motivo del pagamento'!$C$9:$J$2008,8,FALSE),Tabelle!B$5:C$8,2,FALSE),1)","v":{"$error":"#N/A"}},null,{"$f":"RIGHT(VLOOKUP(VLOOKUP($BU$8&\"-\"&$BU$5&\"-\"&$A26,'Motivo del pagamento'!$C$9:$J$2008,8,FALSE),Tabelle!B$5:C$8,2,FALSE),1)","v":{"$error":"#N/A"}},null,null,null,{"$f":"VLOOKUP($BU$8&\"-\"&$BU$5&\"-\"&$A26,'Motivo del pagamento'!$C$9:$K$2008,9,FALSE)","v":{"$error":"#N/A"}},null,null,null,{"$f":"MID(VLOOKUP($BU$8&\"-\"&$BU$5&\"-\"&$A26,'Motivo del pagamento'!$C$9:$L$2008,10,FALSE),1,1)","v":{"$error":"#N/A"}},{"$f":"MID(VLOOKUP($BU$8&\"-\"&$BU$5&\"-\"&$A26,'Motivo del pagamento'!$C$9:$L$2008,10,FALSE),2,1)","v":{"$error":"#N/A"}},{"$f":"MID(VLOOKUP($BU$8&\"-\"&$BU$5&\"-\"&$A26,'Motivo del pagamento'!$C$9:$L$2008,10,FALSE),3,1)","v":{"$error":"#N/A"}},null,{"$f":"MID(VLOOKUP($BU$8&\"-\"&$BU$5&\"-\"&$A26,'Motivo del pagamento'!$C$9:$L$2008,10,FALSE),4,1)","v":{"$error":"#N/A"}},null,null,{"$f":"VLOOKUP(VLOOKUP($BU$8&\"-\"&$BU$5&\"-\"&$A26,'Motivo del pagamento'!$C$9:$M$2008,11,FALSE),'Motivo del pagamento'!$O$2022:$P$2025,2,FALSE)","v":{"$error":"#N/A"}},null,null,{"$f":"VLOOKUP(VLOOKUP($BU$8&\"-\"&$BU$5&\"-\"&$A26,'Motivo del pagamento'!$C$9:$M$2008,11,FALSE),'Motivo del pagamento'!$O$2022:$Q$2025,3,FALSE)","v":{"$error":"#N/A"}},null,{"$f":"VLOOKUP(VLOOKUP($BU$8&\"-\"&$BU$5&\"-\"&$A26,'Motivo del pagamento'!$C$9:$M$2008,11,FALSE),'Motivo del pagamento'!$O$2022:$R$2025,4,FALSE)","v":{"$error":"#N/A"}},null,null,{"$f":"VLOOKUP(VLOOKUP($BU$8&\"-\"&$BU$5&\"-\"&$A26,'Motivo del pagamento'!$C$9:$M$2008,11,FALSE),'Motivo del pagamento'!$O$2022:$S$2025,5,FALSE)","v":{"$error":"#N/A"}},null,null,{"$f":"VLOOKUP($BU$8&\"-\"&$BU$5&\"-\"&$A26,'Motivo del pagamento'!$C$9:$N$2008,12,FALSE)","v":{"$error":"#N/A"}},null,null,null,null,{"$f":"VLOOKUP($BU$8&\"-\"&$BU$5&\"-\"&$A26,'Motivo del pagamento'!$C$9:$O$2008,13,FALSE)","v":{"$error":"#N/A"}},null,null,null,{"$f":"VLOOKUP($BU$8&\"-\"&$BU$5&\"-\"&$A26,'Motivo del pagamento'!$C$9:$P$2008,14,FALSE)","v":{"$error":"#N/A"}},null,null,{"$f":"FLOOR(VLOOKUP($BU$8&\"-\"&$BU$5&\"-\"&$A26,'Motivo del pagamento'!$C$9:$Q$2008,15,FALSE),1)","v":{"$error":"#N/A"}},null,null,null,null,null,null,null,{"$f":"LEFT(RIGHT(TEXT(VLOOKUP($BU$8&\"-\"&$BU$5&\"-\"&$A26,'Motivo del pagamento'!$C$9:$Q$2008,15,FALSE),\"0,00\"),2),1)","v":{"$error":"#N/A"}},{"$f":"RIGHT(TEXT(VLOOKUP($BU$8&\"-\"&$BU$5&\"-\"&$A26,'Motivo del pagamento'!$C$9:$Q$2008,15,FALSE),\"0,00\"),1)","v":{"$error":"#N/A"}},null,{"$f":"FLOOR(VLOOKUP($BU$8&\"-\"&$BU$5&\"-\"&$A26,'Motivo del pagamento'!$C$9:$R$2008,16,FALSE),1)","v":{"$error":"#N/A"}},null,null,null,null,null,{"$f":"LEFT(RIGHT(TEXT(VLOOKUP($BU$8&\"-\"&$BU$5&\"-\"&$A26,'Motivo del pagamento'!$C$9:$R$2008,16,FALSE),\"0,00\"),2),1)","v":{"$error":"#N/A"}},null,{"$f":"RIGHT(TEXT(VLOOKUP($BU$8&\"-\"&$BU$5&\"-\"&$A26,'Motivo del pagamento'!$C$9:$R$2008,16,FALSE),\"0,00\"),1)","v":{"$error":"#N/A"}},null,null,{"$f":"FLOOR(VLOOKUP($BU$8&\"-\"&$BU$5&\"-\"&$A26,'Motivo del pagamento'!$C$9:$S$2008,17,FALSE),1)","v":{"$error":"#N/A"}},null,null,null,null,{"$f":"LEFT(RIGHT(TEXT(VLOOKUP($BU$8&\"-\"&$BU$5&\"-\"&$A26,'Motivo del pagamento'!$C$9:$S$2008,17,FALSE),\"0,00\"),2),1)","v":{"$error":"#N/A"}},{"$f":"RIGHT(TEXT(VLOOKUP($BU$8&\"-\"&$BU$5&\"-\"&$A26,'Motivo del pagamento'!$C$9:$S$2008,17,FALSE),\"0,00\"),1)","v":{"$error":"#N/A"}},null,{"$f":"VLOOKUP($BU$8&\"-\"&$BU$5&\"-\"&A26,'Motivo del pagamento'!$C$9:$AG$2008,31,FALSE)","v":{"$error":"#N/A"}}]
[10,null,{"$f":"LEFT(VLOOKUP(VLOOKUP($BU$8&\"-\"&$BU$5&\"-\"&$A27,'Motivo del pagamento'!$C$9:$J$2008,8,FALSE),Tabelle!B$5:C$8,2,FALSE),1)","v":{"$error":"#N/A"}},null,{"$f":"RIGHT(VLOOKUP(VLOOKUP($BU$8&\"-\"&$BU$5&\"-\"&$A27,'Motivo del pagamento'!$C$9:$J$2008,8,FALSE),Tabelle!B$5:C$8,2,FALSE),1)","v":{"$error":"#N/A"}},null,null,null,{"$f":"VLOOKUP($BU$8&\"-\"&$BU$5&\"-\"&$A27,'Motivo del pagamento'!$C$9:$K$2008,9,FALSE)","v":{"$error":"#N/A"}},null,null,null,{"$f":"MID(VLOOKUP($BU$8&\"-\"&$BU$5&\"-\"&$A27,'Motivo del pagamento'!$C$9:$L$2008,10,FALSE),1,1)","v":{"$error":"#N/A"}},{"$f":"MID(VLOOKUP($BU$8&\"-\"&$BU$5&\"-\"&$A27,'Motivo del pagamento'!$C$9:$L$2008,10,FALSE),2,1)","v":{"$error":"#N/A"}},{"$f":"MID(VLOOKUP($BU$8&\"-\"&$BU$5&\"-\"&$A27,'Motivo del pagamento'!$C$9:$L$2008,10,FALSE),3,1)","v":{"$error":"#N/A"}},null,{"$f":"MID(VLOOKUP($BU$8&\"-\"&$BU$5&\"-\"&$A27,'Motivo del pagamento'!$C$9:$L$2008,10,FALSE),4,1)","v":{"$error":"#N/A"}},null,null,{"$f":"VLOOKUP(VLOOKUP($BU$8&\"-\"&$BU$5&\"-\"&$A27,'Motivo del pagamento'!$C$9:$M$2008,11,FALSE),'Motivo del pagamento'!$O$2022:$P$2025,2,FALSE)","v":{"$error":"#N/A"}},null,null,{"$f":"VLOOKUP(VLOOKUP($BU$8&\"-\"&$BU$5&\"-\"&$A27,'Motivo del pagamento'!$C$9:$M$2008,11,FALSE),'Motivo del pagamento'!$O$2022:$Q$2025,3,FALSE)","v":{"$error":"#N/A"}},null,{"$f":"VLOOKUP(VLOOKUP($BU$8&\"-\"&$BU$5&\"-\"&$A27,'Motivo del pagamento'!$C$9:$M$2008,11,FALSE),'Motivo del pagamento'!$O$2022:$R$2025,4,FALSE)","v":{"$error":"#N/A"}},null,null,{"$f":"VLOOKUP(VLOOKUP($BU$8&\"-\"&$BU$5&\"-\"&$A27,'Motivo del pagamento'!$C$9:$M$2008,11,FALSE),'Motivo del pagamento'!$O$2022:$S$2025,5,FALSE)","v":{"$error":"#N/A"}},null,null,{"$f":"VLOOKUP($BU$8&\"-\"&$BU$5&\"-\"&$A27,'Motivo del pagamento'!$C$9:$N$2008,12,FALSE)","v":{"$error":"#N/A"}},null,null,null,null,{"$f":"VLOOKUP($BU$8&\"-\"&$BU$5&\"-\"&$A27,'Motivo del pagamento'!$C$9:$O$2008,13,FALSE)","v":{"$error":"#N/A"}},null,null,null,{"$f":"VLOOKUP($BU$8&\"-\"&$BU$5&\"-\"&$A27,'Motivo del pagamento'!$C$9:$P$2008,14,FALSE)","v":{"$error":"#N/A"}},null,null,{"$f":"FLOOR(VLOOKUP($BU$8&\"-\"&$BU$5&\"-\"&$A27,'Motivo del pagamento'!$C$9:$Q$2008,15,FALSE),1)","v":{"$error":"#N/A"}},null,null,null,null,null,null,null,{"$f":"LEFT(RIGHT(TEXT(VLOOKUP($BU$8&\"-\"&$BU$5&\"-\"&$A27,'Motivo del pagamento'!$C$9:$Q$2008,15,FALSE),\"0,00\"),2),1)","v":{"$error":"#N/A"}},{"$f":"RIGHT(TEXT(VLOOKUP($BU$8&\"-\"&$BU$5&\"-\"&$A27,'Motivo del pagamento'!$C$9:$Q$2008,15,FALSE),\"0,00\"),1)","v":{"$error":"#N/A"}},null,{"$f":"FLOOR(VLOOKUP($BU$8&\"-\"&$BU$5&\"-\"&$A27,'Motivo del pagamento'!$C$9:$R$2008,16,FALSE),1)","v":{"$error":"#N/A"}},null,null,null,null,null,{"$f":"LEFT(RIGHT(TEXT(VLOOKUP($BU$8&\"-\"&$BU$5&\"-\"&$A27,'Motivo del pagamento'!$C$9:$R$2008,16,FALSE),\"0,00\"),2),1)","v":{"$error":"#N/A"}},null,{"$f":"RIGHT(TEXT(VLOOKUP($BU$8&\"-\"&$BU$5&\"-\"&$A27,'Motivo del pagamento'!$C$9:$R$2008,16,FALSE),\"0,00\"),1)","v":{"$error":"#N/A"}},null,null,{"$f":"FLOOR(VLOOKUP($BU$8&\"-\"&$BU$5&\"-\"&$A27,'Motivo del pagamento'!$C$9:$S$2008,17,FALSE),1)","v":{"$error":"#N/A"}},null,null,null,null,{"$f":"LEFT(RIGHT(TEXT(VLOOKUP($BU$8&\"-\"&$BU$5&\"-\"&$A27,'Motivo del pagamento'!$C$9:$S$2008,17,FALSE),\"0,00\"),2),1)","v":{"$error":"#N/A"}},{"$f":"RIGHT(TEXT(VLOOKUP($BU$8&\"-\"&$BU$5&\"-\"&$A27,'Motivo del pagamento'!$C$9:$S$2008,17,FALSE),\"0,00\"),1)","v":{"$error":"#N/A"}},null,{"$f":"VLOOKUP($BU$8&\"-\"&$BU$5&\"-\"&A27,'Motivo del pagamento'!$C$9:$AG$2008,31,FALSE)","v":{"$error":"#N/A"}}]
[null,null,null,null,null,null,null,null,null,null,null,null,null,null,null,null,null,null,null,null,null,null,null,null,null,null,null,null,null,null,null,null,null,null,null,null,null,null,null,null,null,null,null,null,null,null,null,null,null,null,null,null,null,null,null,null,null,null,null,null,null,null,null,null,{"$f":"IF(SUMIF('Motivo del pagamento'!B9:B2008,BU8&\"-\"&BU5,'Motivo del pagamento'!R9:R2008)>=SUMIF('Motivo del pagamento'!B9:B2008,BU8&\"-\"&BU5,'Motivo del pagamento'!S9:S2008),FLOOR(SUMIF('Motivo del pagamento'!B9:B2008,BU8&\"-\"&BU5,'Motivo del pagamento'!R9:R2008)-SUMIF('Motivo del pagamento'!B9:B2008,BU8&\"-\"&BU5,'Motivo del pagamento'!S9:S2008),1),\"Error\")","v":1},null,null,null,null,{"$f":"IF(BM28=\"Error\",0,LEFT(RIGHT(TEXT(SUMIF('Motivo del pagamento'!B9:B2008,BU8&\"-\"&BU5,'Motivo del pagamento'!R9:R2008)-SUMIF('Motivo del pagamento'!B9:B2008,BU8&\"-\"&BU5,'Motivo del pagamento'!S9:S2008),\"0,00\"),2),1))","v":"0"},{"$f":"IF(BM28=\"Error\",0,RIGHT(TEXT(SUMIF('Motivo del pagamento'!B9:B2008,BU8&\"-\"&BU5,'Motivo del pagamento'!R9:R2008)-SUMIF('Motivo del pagamento'!B9:B2008,BU8&\"-\"&BU5,'Motivo del pagamento'!S9:S2008),\"0,00\"),1))","v":"0"}]
[]
[null,null,null,null,null,null,null,null,null,null,null,null,null,null,null,null,null,null,null,null,null,null,null,null,null,null,null,null,null,null,null,null,null,null,null,null,null,null,null,null,null,null,null,null,null,null,null,null,null,null,null,null,null,null,null,null,null,null,null,null,{"$f":"VLOOKUP(BU8&\"-\"&BU5,'Motivo del pagamento'!B9:AB2008,27,FALSE)","v":"X"}]
[null,null,null,null,null,null,null,null,null,null,null,null,null,null,null,null,null,null,null,null,null,null,null,null,null,null,null,null,null,null,null,null,null,null,null,null,null,null,null,null,null,null,null,null,{"$f":"VLOOKUP(BU8&\"-\"&BU5,'Motivo del pagamento'!B9:AA2008,26,FALSE)","v":"0123456789"},null,null,null,null,null,null,null,null,null,null,null,null,null,null,null,{"$f":"VLOOKUP(BU8&\"-\"&BU5,'Motivo del pagamento'!B9:AC2008,28,FALSE)","v":" "}]
[null,{"$f":"MID(TEXT(VLOOKUP(BU8&\"-\"&BU5,'Motivo del pagamento'!B9:E2008,4,FALSE),\"GG/MM/AAAA\"),1,1)","v":"0"},null,{"$f":"MID(TEXT(VLOOKUP(BU8&\"-\"&BU5,'Motivo del pagamento'!B9:E2008,4,FALSE),\"GG/MM/AAAA\"),2,1)","v":"1"},null,{"$f":"MID(TEXT(VLOOKUP(BU8&\"-\"&BU5,'Motivo del pagamento'!B9:E2008,4,FALSE),\"GG/MM/AAAA\"),4,1)","v":"0"},null,{"$f":"MID(TEXT(VLOOKUP(BU8&\"-\"&BU5,'Motivo del pagamento'!B9:E2008,4,FALSE),\"GG/MM/AAAA\"),5,1)","v":"1"},null,{"$f":"MID(TEXT(VLOOKUP(BU8&\"-\"&BU5,'Motivo del pagamento'!B9:E2008,4,FALSE),\"GG/MM/AAAA\"),7,1)","v":"2"},{"$f":"MID(TEXT(VLOOKUP(BU8&\"-\"&BU5,'Motivo del pagamento'!B9:E2008,4,FALSE),\"GG/MM/AAAA\"),8,1)","v":"0"},{"$f":"MID(TEXT(VLOOKUP(BU8&\"-\"&BU5,'Motivo del pagamento'!B9:E2008,4,FALSE),\"GG/MM/AAAA\"),9,1)","v":"2"},null,{"$f":"MID(TEXT(VLOOKUP(BU8&\"-\"&BU5,'Motivo del pagamento'!B9:E2008,4,FALSE),\"GG/MM/AAAA\"),10,1)","v":"4"},null,{"$f":"VLOOKUP(BU8&\"-\"&BU5,'Motivo del pagamento'!B9:V2008,21,FALSE)","v":"00001"},null,null,null,null,null,null,null,null,null,null,null,null,{"$f":"VLOOKUP(BU8&\"-\"&BU5,'Motivo del pagamento'!B9:W2008,22,FALSE)","v":"10000"},null,null,null,null,null,null,null,null,null,null,null,null,null,null,null,null,null,null,null,null,null,null,null,{"$f":"VLOOKUP(BU8&\"-\"&BU5,'Motivo del pagamento'!B9:AD2008,29,FALSE)","v":"01234"},null,null,null,null,null,null,null,null,null,null,{"$f":"VLOOKUP(BU8&\"-\"&BU5,'Motivo del pagamento'!B9:AE2008,30,FALSE)","v":"56789"}]
[]
[]
[null,null,null,null,null,null,null,null,null,null,null,null,null,null,null,null,null,null,null,null,null,null,null,null,null,null,null,null,null,null,null,null,null,null,null,null,null,null,null,null,null,null,{"$f":"AQ5","v":"Nome Banca 1 / modifica sigla"}]
[]
[null,null,null,null,null,null,null,null,null,null,null,null,null,null,null,null,null,null,null,null,null,null,null,null,null,null,null,null,null,null,null,null,null,null,null,null,null,null,null,null,null,null,{"$f":"AQ7","v":"Nome Agenzia 1"},null,null,null,null,null,null,null,null,null,null,null,null,null,null,null,null,null,null,null,null,null,null,null,null,null,{"$f":"BQ7","v":"XX"}]
[]
[null,null,null,null,null,null,null,null,null,null,null,{"$f":"L9","v":"0"},null,{"$f":"N9","v":"1"},null,{"$f":"P9","v":"2"},null,{"$f":"R9","v":"3"},null,null,{"$f":"U9","v":"4"},null,{"$f":"W9","v":"5"},{"$f":"X9","v":"6"},null,{"$f":"Z9","v":"7"},null,null,{"$f":"AC9","v":"8"},null,{"$f":"AE9","v":"9"},null,{"$f":"AG9","v":"1"},null,null,{"$f":"AJ9","v":""},{"$f":"AK9","v":""},{"$f":"AL9","v":""},null,null,{"$f":"AO9","v":""},{"$f":"AP9","v":""},null,null,{"$f":"AS9","v":"1"},null,{"$f":"AU9","v":"2"},null,null,{"$f":"AX9","v":"3"},null,null,null,{"$f":"BB9","v":"0"},null,{"$f":"BD9","v":"1"},{"$f":"BE9","v":"2"},{"$f":"BF9","v":"3"},{"$f":"BG9","v":"4"},null,{"$f":"BI9","v":0},null,{"$f":"BK9","v":"5"},null,null,{"$f":"BN9","v":"6"},{"$f":"BO9","v":"7"},{"$f":"BP9","v":"8"},{"$f":"BQ9","v":"9"},{"$f":"BR9","v":"1"}]
[]
[null,null,null,null,null,null,null,null,null,null,null,{"$f":"L11","v":"Anagrafica CONTRIBUENTE"},null,null,null,null,null,null,null,null,null,null,null,null,null,null,null,null,null,null,null,null,null,null,null,null,null,null,null,null,null,null,null,null,null,null,null,null,null,null,null,null,null,null,{"$f":"BC11","v":"Nome CONTRIBUENTE"}]
[]
[null,null,null,null,null,null,null,null,null,null,null,{"$f":"L13","v":"0"},null,{"$f":"N13","v":"1"},null,{"$f":"P13","v":"0"},null,{"$f":"R13","v":"1"},null,null,{"$f":"U13","v":"2"},null,{"$f":"W13","v":"0"},{"$f":"X13","v":"0"},null,{"$f":"Z13","v":"0"},null,null,null,null,null,{"$f":"AF13","v":{"$error":"#N/A"}},null,null,{"$f":"AI13","v":0},null,null,null,null,null,null,null,null,null,null,null,null,null,null,null,null,null,null,null,null,null,null,null,null,null,null,null,null,null,null,null,null,null,{"$f":"BQ13","v":""},{"$f":"BR13","v":""},{"$f":"BS13","v":0}]
[]
[null,null,null,null,null,null,null,null,null,null,null,null,null,null,null,null,null,null,null,null,null,null,{"$f":"W15","v":""},{"$f":"X15","v":""},0,"",0,0,"",0,"",0,"",0,0,{"$f":"AJ15","v":""},"","",0,0,"","",{"$f":"AQ15","v":""},0,0,"",0,"",0,0,"",0,"",0,null,null,null,null,null,null,null,null,null,null,null,null,null,null,{"$f":"BQ15","v":""},{"$f":"BR15","v":""},{"$f":"BS15","v":0}]
[]
[]
[null,null,{"$f":"C18","v":"."},0,".",0,null,null,{"$f":"I18","v":"0101"},0,0,null,{"$f":"M18","v":"0"},"0","0",0,"0",0,null,{"$f":"T18","v":" "},0,null,{"$f":"W18","v":" "},null,{"$f":"Y18","v":" "},0,null,{"$f":"AB18","v":"X"},0,null,{"$f":"AE18","v":1},0,0,null,null,{"$f":"AJ18","v":"01 01"},0,0,null,{"$f":"AN18","v":"2020"},0,0,0,0,0,0,0,0,0,0,{"$f":"AY18","v":"0"},{"$f":"AZ18","v":"0"},null,{"$f":"BB18","v":1},0,0,0,0,0,"0",0,"0",0,0,0,0,0,0,0,{"$f":"BR18","v":"0"},{"$f":"BS18","v":"0"}]
[null,null,{"$error":"#N/A"},0,{"$error":"#N/A"},0,null,null,{"$error":"#N/A"},0,0,null,{"$f":"M19","v":{"$error":"#N/A"}},{"$error":"#N/A"},{"$error":"#N/A"},0,{"$error":"#N/A"},0,null,{"$error":"#N/A"},0,null,{"$f":"W19","v":{"$error":"#N/A"}},null,{"$error":"#N/A"},0,null,{"$error":"#N/A"},0,null,{"$error":"#N/A"},0,0,null,null,{"$error":"#N/A"},0,0,null,{"$f":"AN19","v":{"$error":"#N/A"}},0,0,{"$error":"#N/A"},0,0,0,0,0,0,0,{"$error":"#N/A"},{"$error":"#N/A"},null,{"$f":"BB19","v":{"$error":"#N/A"}},0,0,0,0,0,{"$error":"#N/A"},0,{"$error":"#N/A"},0,0,{"$error":"#N/A"},0,0,0,0,{"$error":"#N/A"},{"$error":"#N/A"}]
[null,null,{"$error":"#N/A"},0,{"$error":"#N/A"},0,null,null,{"$error":"#N/A"},0,0,null,{"$error":"#N/A"},{"$error":"#N/A"},{"$error":"#N/A"},0,{"$error":"#N/A"},0,null,{"$error":"#N/A"},0,null,{"$error":"#N/A"},null,{"$error":"#N/A"},0,null,{"$error":"#N/A"},0,null,{"$error":"#N/A"},0,0,null,null,{"$error":"#N/A"},0,0,null,{"$f":"AN20","v":{"$error":"#N/A"}},0,0,{"$error":"#N/A"},0,0,0,0,0,0,0,{"$error":"#N/A"},{"$error":"#N/A"},null,{"$f":"BB20","v":{"$error":"#N/A"}},0,0,0,0,0,{"$error":"#N/A"},0,{"$error":"#N/A"},0,0,{"$error":"#N/A"},0,0,0,0,{"$error":"#N/A"},{"$error":"#N/A"}]
[null,null,{"$error":"#N/A"},0,{"$error":"#N/A"},0,null,null,{"$error":"#N/A"},0,0,null,{"$error":"#N/A"},{"$error":"#N/A"},{"$error":"#N/A"},0,{"$error":"#N/A"},0,null,{"$error":"#N/A"},0,null,{"$error":"#N/A"},null,{"$error":"#N/A"},0,null,{"$error":"#N/A"},0,null,{"$error":"#N/A"},0,0,null,null,{"$error":"#N/A"},0,0,null,{"$f":"AN21","v":{"$error":"#N/A"}},0,0,{"$error":"#N/A"},0,0,0,0,0,0,0,{"$error":"#N/A"},{"$error":"#N/A"},null,{"$f":"BB21","v":{"$error":"#N/A"}},0,0,0,0,0,{"$error":"#N/A"},0,{"$error":"#N/A"},0,0,{"$error":"#N/A"},0,0,0,0,{"$error":"#N/A"},{"$error":"#N/A"}]
[null,null,{"$error":"#N/A"},0,{"$error":"#N/A"},0,null,null,{"$error":"#N/A"},0,0,null,{"$error":"#N/A"},{"$error":"#N/A"},{"$error":"#N/A"},0,{"$error":"#N/A"},0,null,{"$error":"#N/A"},0,null,{"$error":"#N/A"},null,{"$error":"#N/A"},0,null,{"$error":"#N/A"},0,null,{"$error":"#N/A"},0,0,null,null,{"$error":"#N/A"},0,0,null,{"$f":"AN22","v":{"$error":"#N/A"}},0,0,{"$error":"#N/A"},0,0,0,0,0,0,0,{"$error":"#N/A"},{"$error":"#N/A"},null,{"$f":"BB22","v":{"$error":"#N/A"}},0,0,0,0,0,{"$error":"#N/A"},0,{"$error":"#N/A"},0,0,{"$error":"#N/A"},0,0,0,0,{"$error":"#N/A"},{"$error":"#N/A"}]
[null,null,{"$error":"#N/A"},0,{"$error":"#N/A"},0,null,null,{"$error":"#N/A"},0,0,null,{"$error":"#N/A"},{"$error":"#N/A"},{"$error":"#N/A"},0,{"$error":"#N/A"},0,null,{"$error":"#N/A"},0,null,{"$error":"#N/A"},null,{"$error":"#N/A"},0,null,{"$error":"#N/A"},0,null,{"$error":"#N/A"},0,0,null,null,{"$error":"#N/A"},0,0,null,{"$f":"AN23","v":{"$error":"#N/A"}},0,0,{"$error":"#N/A"},0,0,0,0,0,0,0,{"$error":"#N/A"},{"$error":"#N/A"},null,{"$f":"BB23","v":{"$error":"#N/A"}},0,0,0,0,0,{"$error":"#N/A"},0,{"$error":"#N/A"},0,0,{"$error":"#N/A"},0,0,0,0,{"$error":"#N/A"},{"$error":"#N/A"}]
[null,null,{"$error":"#N/A"},0,{"$error":"#N/A"},0,null,null,{"$error":"#N/A"},0,0,null,{"$error":"#N/A"},{"$error":"#N/A"},{"$error":"#N/A"},0,{"$error":"#N/A"},0,null,{"$error":"#N/A"},0,null,{"$error":"#N/A"},null,{"$error":"#N/A"},0,null,{"$error":"#N/A"},0,null,{"$error":"#N/A"},0,0,null,null,{"$error":"#N/A"},0,0,null,{"$f":"AN24","v":{"$error":"#N/A"}},0,0,{"$error":"#N/A"},0,0,0,0,0,0,0,{"$error":"#N/A"},{"$error":"#N/A"},null,{"$f":"BB24","v":{"$error":"#N/A"}},0,0,0,0,0,{"$error":"#N/A"},0,{"$error":"#N/A"},0,0,{"$error":"#N/A"},0,0,0,0,{"$error":"#N/A"},{"$error":"#N/A"}]
[null,null,{"$error":"#N/A"},0,{"$error":"#N/A"},0,null,null,{"$error":"#N/A"},0,0,null,{"$error":"#N/A"},{"$error":"#N/A"},{"$error":"#N/A"},0,{"$error":"#N/A"},0,null,{"$error":"#N/A"},0,null,{"$error":"#N/A"},null,{"$error":"#N/A"},0,null,{"$error":"#N/A"},0,null,{"$error":"#N/A"},0,0,null,null,{"$error":"#N/A"},0,0,null,{"$f":"AN25","v":{"$error":"#N/A"}},0,0,{"$error":"#N/A"},0,0,0,0,0,0,0,{"$error":"#N/A"},{"$error":"#N/A"},null,{"$f":"BB25","v":{"$error":"#N/A"}},0,0,0,0,0,{"$error":"#N/A"},0,{"$error":"#N/A"},0,0,{"$error":"#N/A"},0,0,0,0,{"$error":"#N/A"},{"$error":"#N/A"}]
[null,null,{"$error":"#N/A"},0,{"$error":"#N/A"},0,null,null,{"$error":"#N/A"},0,0,null,{"$error":"#N/A"},{"$error":"#N/A"},{"$error":"#N/A"},0,{"$error":"#N/A"},0,null,{"$error":"#N/A"},0,null,{"$error":"#N/A"},null,{"$error":"#N/A"},0,null,{"$error":"#N/A"},0,null,{"$error":"#N/A"},0,0,null,null,{"$error":"#N/A"},0,0,null,{"$f":"AN26","v":{"$error":"#N/A"}},0,0,{"$error":"#N/A"},0,0,0,0,0,0,0,{"$error":"#N/A"},{"$error":"#N/A"},null,{"$f":"BB26","v":{"$error":"#N/A"}},0,0,0,0,0,{"$error":"#N/A"},0,{"$error":"#N/A"},0,0,{"$error":"#N/A"},0,0,0,0,{"$error":"#N/A"},{"$error":"#N/A"}]
[null,null,{"$error":"#N/A"},0,{"$error":"#N/A"},0,null,null,{"$error":"#N/A"},0,0,null,{"$error":"#N/A"},{"$error":"#N/A"},{"$error":"#N/A"},0,{"$error":"#N/A"},0,null,{"$error":"#N/A"},0,null,{"$error":"#N/A"},null,{"$error":"#N/A"},0,null,{"$error":"#N/A"},0,null,{"$error":"#N/A"},0,0,null,null,{"$error":"#N/A"},0,0,null,{"$f":"AN27","v":{"$error":"#N/A"}},0,0,{"$error":"#N/A"},0,0,0,0,0,0,0,{"$error":"#N/A"},{"$error":"#N/A"},null,{"$f":"BB27","v":{"$error":"#N/A"}},0,0,0,0,0,{"$error":"#N/A"},0,{"$error":"#N/A"},0,0,{"$error":"#N/A"},0,0,0,0,{"$f":"BR27","v":{"$error":"#N/A"}},{"$f":"BS27","v":{"$error":"#N/A"}}]
[null,null,null,null,null,null,null,null,null,null,null,null,null,null,null,null,null,null,null,null,null,null,null,null,null,null,null,null,null,null,null,null,null,null,null,null,null,null,null,null,null,null,null,null,null,null,null,null,null,null,null,null,null,null,null,null,null,null,null,null,null,null,null,null,1,0,0,0,0,{"$f":"BR28","v":"0"},{"$f":"BS28","v":"0"}]
[]
[null,null,null,null,null,null,null,null,null,null,null,null,null,null,null,null,null,null,null,null,null,null,null,null,null,null,null,null,null,null,null,null,null,null,null,null,null,null,null,null,null,null,null,null,null,null,null,null,null,null,null,null,null,null,null,null,null,null,null,null,{"$f":"BI30","v":"X"}]
[null,null,null,null,null,null,null,null,null,null,null,null,null,null,null,null,null,null,null,null,null,null,null,null,null,null,null,null,null,null,null,null,null,null,null,null,null,null,null,null,null,null,null,null,{"$f":"AS31","v":"0123456789"},0,0,0,0,0,0,0,0,0,0,0,0,0,null,null,{"$f":"BI31","v":" "}]
[null,{"$f":"B32","v":"0"},0,"1",0,"0",0,"1",0,"2","0","2",0,"4",0,"00001",0,{"$f":"R32","v":0},0,0,0,0,0,0,0,0,0,0,"10000",0,0,0,0,0,0,0,0,0,0,0,null,null,null,null,null,null,null,null,null,null,null,null,{"$f":"BA32","v":"01234"},0,0,0,0,0,0,null,null,null,null,{"$f":"BL32","v":"56789"},0,0,0,0,0,0,null,null,{"$f":"BU8","v":1}]
[null,{"$f":"B33","v":0},0,0,0,0,0,0,0,0,0,0,0,0,0,0,0,0,0,0,0,0,0,0,0,0,0,0,0,0,0,0,0,0,0,0,0,0,0,0]
[]
[]
[null,"Oscura"]
[null,null,null,null,null,null,"Oscura Data",null,null,null,null,null,null,null,null,null,null,null,null,null,null,null,null,null,null,null,null,null,null,null,null,null,null,null,null,null,null,null,null,null,null,null,null,null,null,null,null,null,null,null,null,null,null,null,null,null,null,null,null,null,null,null,null,null,null,null,null,null,null,null,null,{"$f":"CONTRIBUENTE!$G$13","v":""}]
[null,null,null,null,null,null,"Oscura Riscossore"]
[null,null,null,null,null,null,"Oscura pagamento con assegno"]
[]
[]
[]
[null,null,null,null,null,null,null,null,null,{"$f":"IF(B67=$E$74,TRUE,FALSE)","v":false},null,null,null,null,null,null,null,null,null,null,null,null,null,null,null,null,null,null,null,null,null,null,null,null,null,null,null,null,null,null,null,null,null,null,null,null,null,null,null,null,null,null,null,null,{"$f":"CONTRIBUENTE!J38","v":"2000-01-01"}]
[null,null,null,null,"Oscura",null,null,null,null,{"$f":"IF(B68=$E$74,TRUE,FALSE)","v":false},null,null,null,null,null,null,null,null,null,null,null,null,null,null,null,null,null,null,null,null,null,null,null,null,null,null,null,null,null,null,null,null,null,null,null,null,null,null,null,null,null,null,null,null,{"$f":"VLOOKUP(BU8&\"-\"&BU5,'Motivo del pagamento'!B9:E2008,4,FALSE)","v":"2024-01-01"}]
[null,null,null,null,null,null,null,null,null,{"$f":"IF(B69=$E$74,TRUE,FALSE)","v":false},null,null,null,null,null,null,null,{"$f":"IF(ISERROR(AZ76),\"File danneggiato\",IF(BF76=0,\"File scaduto\",\"\"))","v":""},null,null,null,null,null,null,null,null,null,null,null,null,null,null,null,null,null,null,null,null,null,"Codice integrità",null,null,null,null,null,null,null,null,null,null,null,"Integrità",null,null,null,null,null,"File scaduto / INVERTITO"]
[null,null,null,null,null,null,null,null,null,null,null,null,null,null,null,null,null,null,null,null,null,null,null,null,null,null,null,null,null,null,null,null,null,null,null,null,null,null,null,1,null,null,null,null,null,null,null,null,null,null,null,{"$f":"CONTRIBUENTE!K139","v":4},{"$f":"CONTRIBUENTE!#REF!","v":{"$error":"#REF!"}},{"$f":"CONTRIBUENTE!#REF!","v":{"$error":"#REF!"}},null,null,null,{"$f":"IF(CONTRIBUENTE!$H$139=1,0,1)","v":1}]

{"sheet":"Tabelle","index":3,"n_rows":22,"n_cols":13,"rows_kept":22,"cut":false,"hidden":false,"merged":[[2,4,2,8],[3,11,3,12],[2,1,2,2]]}
[]
[]
[null,null,null,null,"Tabella Riscossione"]
[null,"SEZIONI",null,"SIGLA","Delega irrevocabile a","Agenzia","Prov.","ABI","CAB","IBAN",null,"Codice Identificativo"]
[null,"Erario","ER","B1","Nome Banca 1 / modifica sigla","Nome Agenzia 1","XX","00001","10000","IT00 X000 0000 0000 0000 0000 001",null,"Genitore / Tutore","02"]
[null,"Regione","RG","B2","Nome Banca 2 / modifica sigla","Nome Agenzia 2","XX","00002","20000",null,null,"Curatore fallimentare","03"]
[null,"Ente Locale","EL","B3","Nome Banca 3 / modifica sigla","Nome Agenzia 3","XX","00003","30000",null,null,"Erede","07"]
[null,"---- Inserisci",".",null,null,null,null,null,null,null,null,"Obbligato solidale","50"]
[null,null,null,null,null,null,null,null,null,null,null,"Intervento sostitutivo","51"]
[null,null,null,null,null,null,null,null,null,null,null,"Garante / Terzo datore","60"]
[null,null,null,null,"Personalizza tutti i campi liberi.",null,null,null,null,null,null,"Soggetto aderente al consolidato","61"]
[null,null,null,null,null,null,null,null,null,null,null,"Soggetto diverso dal fruitore del credito","62"]
[null,null,null,null,null,null,null,null,null,null,null,"Impresa assicuratrice estera fiscalmente rappresentata","70"]
[null,null,null,null,null,null,null,null,null,null,null,"Soggetto che ha proposto l'atto introduttivo del giudizio","71"]
[null,null,null,null,null,null,null,null,null,null,null,"---- Inserisci","."]
[null,null,null,null,null,null,null,null,null,null,null,"---- Inserisci","."]
[]
[]
[null,null,null,null,null,null,null,null,null,null,null,null,"www.marcopiccoli.it"]
[]
[null,"Codice integrità",null,"Integrità"]
[null,1,null,{"$f":"CONTRIBUENTE!$K$139","v":4}]